Workbook

Sheet PREV TRESO
A3: Previsionnel tresorerie | B3: septembre | C3: octobre | D3: novembre | E3: decembre | F3: janvier | G3: fevrier | H3: mars | I3: avril | J3: mai | K3: juin | L3: juillet | M3: aout
A4: solde initial | D4: =C29 -> 78706 | E4: =D29 -> 69756.66 | F4: =E29 -> 77666.55 | G4: =F29 -> 69342.76 | H4: =G29 -> 68788.95 | I4: =H29 -> 61201.75 | J4: =I29 -> 50168.9 | K4: =J29 -> 53412.12 | ... M4: =L29 -> 33779.28
A5: cotis,cours,badges, invitations,stages | D5: =Feuil2!F18 -> 0 | E5: =Feuil2!G18 -> 0 | F5: =Feuil2!H18 -> 0 | G5: =Feuil2!I18 -> 0 | H5: =Feuil2!J18 -> 0 | I5: =Feuil2!K18 -> 0 | J5: =Feuil2!L18 -> 0 | K5: =Feuil2!M18 -> 1190 | ... M5: =Feuil2!O18 -> 6910.2
A6: tournois et matches | D6: =Feuil2!F27 -> 0 | E6: =Feuil2!G27 -> 1026 | F6: =Feuil2!H27 -> 0 | G6: =Feuil2!I27 -> 127 | H6: =Feuil2!J27 -> 0 | I6: =Feuil2!K27 -> 0 | J6: =Feuil2!L27 -> 4310 | K6: =Feuil2!M27 -> 0 | ... M6: =Feuil2!O27 -> 3048
A7: animations | D7: =Feuil2!F36 -> 2317 | E7: =Feuil2!G36 -> 0 | F7: =Feuil2!H36 -> 0 | G7: =Feuil2!I36 -> 0 | H7: =Feuil2!J36 -> 0 | I7: =Feuil2!K36 -> 0 | J7: =Feuil2!L36 -> 0 | K7: =Feuil2!M36 -> 1350 | ... M7: =Feuil2!O36 -> 0
A8: subventions | D8: =Feuil2!F46 -> 0 | E8: =Feuil2!G46 -> 0 | F8: =Feuil2!H46 -> 0 | G8: =Feuil2!I46 -> 0 | H8: =Feuil2!J46 -> 3233 | I8: =Feuil2!K46 -> 2814 | J8: =Feuil2!L46 -> 8000 | K8: =Feuil2!M46 -> 0 | ... M8: =Feuil2!O46 -> 0
A9: Autres produits | D9: =Feuil2!F52 -> 0 | E9: =Feuil2!G52 -> 638.39 | F9: =Feuil2!H52 -> 0 | G9: =Feuil2!I52 -> 2280.83 | H9: =Feuil2!J52 -> 0 | I9: =Feuil2!K52 -> 0 | J9: =Feuil2!L52 -> 0 | K9: =Feuil2!M52 -> 0 | ... M9: =Feuil2!O52 -> 1858.61
A10: Remises cheques a venir | E10: 11500 | F10: 7020 | G10: 2049 | H10: 315
A12: Total recettes | D12: =SUM(D5:D11) -> 2317 | E12: =SUM(E5:E11) -> 13164.39 | F12: =SUM(F5:F11) -> 7020 | G12: =SUM(G5:G11) -> 4456.83 | H12: =SUM(H5:H11) -> 3548 | I12: =SUM(I5:I11) -> 2814 | J12: =SUM(J5:J11) -> 12310 | K12: =SUM(K5:K11) -> 2540 | ... M12: =SUM(M5:M11) -> 11816.81
A14: balles | D14: =Feuil2!F66 -> -1501.5 | E14: =Feuil2!G66 -> 0 | F14: =Feuil2!H66 -> 0 | G14: =Feuil2!I66 -> 0 | H14: =Feuil2!J66 -> -1544.4 | I14: =Feuil2!K66 -> 0 | J14: =Feuil2!L66 -> 0 | K14: =Feuil2!M66 -> -1544.4 | ... M14: =Feuil2!O66 -> 0
A15: Frais alimentaires | D15: =Feuil2!F82 -> -606.69 | E15: =Feuil2!G82 -> -269.97 | F15: =Feuil2!H82 -> 0 | G15: =Feuil2!I82 -> 0 | H15: =Feuil2!J82 -> -41.73 | I15: =Feuil2!K82 -> -43.35 | J15: =Feuil2!L82 -> -117.01 | K15: =Feuil2!M82 -> -2020.85 | ... M15: =Feuil2!O82 -> -78.41
A16: Achats récompenses, lots et divers | D16: =Feuil2!F98 -> -96 | E16: =Feuil2!G98 -> -35.49 | F16: =Feuil2!H98 -> -111.5 | G16: =Feuil2!I98 -> -100 | H16: =Feuil2!J98 -> 0 | I16: =Feuil2!K98 -> -1979.5 | J16: =Feuil2!L98 -> 0 | K16: =Feuil2!M98 -> -225.07 | ... M16: =Feuil2!O98 -> -400
A17: Entretiens | D17: =Feuil2!F106 -> 0 | E17: =Feuil2!G106 -> 0 | F17: =Feuil2!H106 -> -21.95 | G17: =Feuil2!I106 -> 0 | H17: =Feuil2!J106 -> -1229.86 | I17: =Feuil2!K106 -> -36 | J17: =Feuil2!L106 -> 0 | K17: =Feuil2!M106 -> -116 | ... M17: =Feuil2!O106 -> 0
A18: Frais fonctionnement et bureau | D18: =Feuil2!F118 -> -107.08 | E18: =Feuil2!G118 -> -197.88 | F18: =Feuil2!H118 -> -130.18 | G18: =Feuil2!I118 -> -218.52 | H18: =Feuil2!J118 -> -1509.51 | I18: =Feuil2!K118 -> -112.88 | J18: =Feuil2!L118 -> -441.66 | K18: =Feuil2!M118 -> -375.32 | ... M18: =Feuil2!O118 -> -617.22
A19: Reversement licence et divers | D19: =Feuil2!F125 -> -1898 | E19: =Feuil2!G125 -> -174 | F19: =Feuil2!H125 -> -390 | G19: =Feuil2!I125 -> -55 | H19: =Feuil2!J125 -> 0 | I19: =Feuil2!K125 -> -58 | J19: =Feuil2!L125 -> -171 | K19: =Feuil2!M125 -> 0 | ... M19: =Feuil2!O125 -> -1095
A20: Matchs équipe (ME) | D20: =Feuil2!F131 -> -132 | E20: =Feuil2!G131 -> -92 | F20: =Feuil2!H131 -> -92 | G20: =Feuil2!I131 -> -157 | H20: =Feuil2!J131 -> -138 | I20: =Feuil2!K131 -> -432 | J20: =Feuil2!L131 -> -590 | K20: =Feuil2!M131 -> -48 | ... M20: =Feuil2!O131 -> 0
A21: Tournois Frais juge arbitre | D21: =Feuil2!F139 -> 0 | E21: =Feuil2!G139 -> 0 | F21: =Feuil2!H139 -> 0 | G21: =Feuil2!I139 -> 0 | H21: =Feuil2!J139 -> 0 | I21: =Feuil2!K139 -> -529 | J21: =Feuil2!L139 -> 0 | K21: =Feuil2!M139 -> 0 | ... M21: =Feuil2!O139 -> 0
A22: Frais divers animations | D22: =Feuil2!F146 -> -2600 | E22: =Feuil2!G146 -> 0 | F22: =Feuil2!H146 -> 0 | G22: =Feuil2!I146 -> 0 | H22: =Feuil2!J146 -> 0 | I22: =Feuil2!K146 -> 0 | J22: =Feuil2!L146 -> 0 | K22: =Feuil2!M146 -> 0 | ... M22: =Feuil2!O146 -> 0
A23: Formation | D23: =Feuil2!F153 -> 0 | E23: =Feuil2!G153 -> -160 | F23: =Feuil2!H153 -> -60 | G23: =Feuil2!I153 -> 0 | H23: =Feuil2!J153 -> -1138 | I23: =Feuil2!K153 -> 0 | J23: =Feuil2!L153 -> -100 | K23: =Feuil2!M153 -> 0 | ... M23: =Feuil2!O153 -> -100
A24: Salaires | D24: =Feuil2!F157 -> -4325.07 | E24: =Feuil2!G157 -> -4325.16 | F24: =Feuil2!H157 -> -4325.16 | G24: =Feuil2!I157 -> -4480.12 | H24: =Feuil2!J157 -> -4550.36 | I24: =Feuil2!K157 -> -4480.12 | J24: =Feuil2!L157 -> -4558.11 | K24: =Feuil2!M157 -> -5298.12 | ... M24: =Feuil2!O157 -> -3877.44
A25: Charges | D25: =Feuil2!F161 -> 0 | E25: =Feuil2!G161 -> 0 | F25: =Feuil2!H161 -> -10213 | G25: =Feuil2!I161 -> 0 | H25: =Feuil2!J161 -> -983.34 | I25: =Feuil2!K161 -> -6176 | J25: =Feuil2!L161 -> -3089 | K25: =Feuil2!M161 -> -3089 | ... M25: =Feuil2!O161 -> -3432
A27: Total depenses | D27: =SUM(D14:D26) -> -11266.34 | E27: =SUM(E14:E26) -> -5254.5 | F27: =SUM(F14:F26) -> -15343.79 | G27: =SUM(G14:G26) -> -5010.64 | H27: =SUM(H14:H26) -> -11135.2 | I27: =SUM(I14:I26) -> -13846.85 | J27: =SUM(J14:J26) -> -9066.78 | K27: =SUM(K14:K26) -> -12716.76 | ... M27: =SUM(M14:M26) -> -9600.07
A29: solde final | C29: 78706 | D29: =D4+D12+D27 -> 69756.66 | E29: =E4+E12+E27 -> 77666.55 | F29: =F4+F12+F27 -> 69342.76 | G29: =G4+G12+G27 -> 68788.95 | H29: =H4+H12+H27 -> 61201.75 | I29: =I4+I12+I27 -> 50168.9 | J29: =J4+J12+J27 -> 53412.12 | K29: =K4+K12+K27 -> 43235.36 | ... M29: =M4+M12+M27 -> 35996.02

Sheet Feuil1
A1: 606400 | B1: Fournitures de bureau | C1: 42868 | D1: Cartouches C4001344 | E1: 242.78 | F1: 0 | G1: =F1-E1 -> -242.78 | H1: 0 | I1: =G1+(G1*H1) -> -242.78
A2: 606400 | B2: Fournitures de bureau | C2: 42808 | D2: Cartouches | E2: 70.39 | F2: 0 | G2: =F2-E2 -> -70.39 | H2: 0 | I2: =G2+(G2*H2) -> -70.39
A3: 606400 | B3: Fournitures de bureau | C3: 42975 | D3: 500 cartes & pochettes | E3: 505.2 | F3: 0 | G3: =F3-E3 -> -505.2 | H3: 0 | I3: =G3+(G3*H3) -> -505.2
A4: 606400 | B4: Fournitures de bureau | C4: 42915 | D4: Fournitures | E4: 23.98 | F4: 0 | G4: =F4-E4 -> -23.98 | H4: 0 | I4: =G4+(G4*H4) -> -23.98
A5: 606510 | B5: Balles tournoi open avril | C5: 42818 | D5: Balles | E5: 1544.4 | F5: 0 | G5: =F5-E5 -> -1544.4 | H5: 0 | I5: =G5+(G5*H5) -> -1544.4
A6: 606520 | B6: Balles tournoi open juillet | C6: 42915 | D6: Balles teccnifibre | E6: 1544.4 | F6: 0 | G6: =F6-E6 -> -1544.4 | H6: 0 | I6: =G6+(G6*H6) -> -1544.4
A7: 606550 | B7: Balles entraînements (CCA & école de tennis) | C7: 42677 | D7: Balles Technifibre - Matchs/équipe | E7: 1501.5 | F7: 0 | G7: =F7-E7 -> -1501.5 | H7: 0 | I7: =G7+(G7*H7) -> -1501.5
A8: 606550 | B8: Balles entraînements (CCA & école de tennis) | C8: 42635 | D8: Balles technifibre mini tennis & babolat | E8: 830.2 | F8: 0 | G8: =F8-E8 -> -830.2 | H8: 0 | I8: =G8+(G8*H8) -> -830.2
A9: 606612 | B9: Soirée diverse (Bowling…) | C9: 42696 | D9: C4001505 Soirée Beaujolais | E9: 291.19 | F9: 0 | G9: =F9-E9 -> -291.19 | H9: 0 | I9: =G9+(G9*H9) -> -291.19
A10: 606612 | B10: Soirée diverse (Bowling…) | C10: 42734 | D10: Galettes C4001506 | E10: 99 | F10: 0 | G10: =F10-E10 -> -99 | H10: 0 | I10: =G10+(G10*H10) -> -99
A11: 606614 | B11: Fête école de tennis & barbecue | C11: 42910 | D11: Barbecue | E11: 395.74 | F11: 0 | G11: =F11-E11 -> -395.74 | H11: 0 | I11: =G11+(G11*H11) -> -395.74
A12: 606615 | B12: Pot de l'AG & Soirées bureau | C12: 42630 | D12: Pot AG N-1 | E12: 73.95 | F12: 0 | G12: =F12-E12 -> -73.95 | H12: 0 | I12: =G12+(G12*H12) -> -73.95
... A119: 624120 | B119: REC - Tournoi open juillet | C119: 42977 | D119: Finaliste dames C4240014 | E119: 150 | F119: 0 | G119: =F119-E119 -> -150 | H119: 0 | I119: =G119+(G119*H119) -> -150
A120: 625110 | B120: Soirée Gala | C120: 42675 | I120: -2600
A121: 625150 | B121: Frais de transport, carburant | C121: 42646 | D121: Carburant C4001421 | E121: 38.44 | F121: 0 | G121: =F121-E121 -> -38.44 | H121: 0 | I121: =G121+(G121*H121) -> -38.44
A122: 626100 | B122: Affranchissement | C122: 42795 | D122: lettres prioritaires | E122: 1.7 | F122: 0 | G122: =F122-E122 -> -1.7 | H122: 0 | I122: =G122+(G122*H122) -> -1.7
A123: 626100 | B123: Affranchissement | C123: 42949 | D123: 1 lettre verte | E123: 3.4 | F123: 0 | G123: =F123-E123 -> -3.4 | H123: 0 | I123: =G123+(G123*H123) -> -3.4
A124: 626100 | B124: Affranchissement | C124: 42803 | D124: lettres prioritaires | E124: 3.4 | F124: 0 | G124: =F124-E124 -> -3.4 | H124: 0 | I124: =G124+(G124*H124) -> -3.4
A125: 626100 | B125: Affranchissement | C125: 42900 | D125: C4001438 lettre / La poste | E125: 3.2 | F125: 0 | G125: =F125-E125 -> -3.2 | H125: 0 | I125: =G125+(G125*H125) -> -3.2
A126: 626100 | B126: Affranchissement | C126: 42781 | D126: 2 lettres prioritaires | E126: 1.7 | F126: 0 | G126: =F126-E126 -> -1.7 | H126: 0 | I126: =G126+(G126*H126) -> -1.7
A127: 626100 | B127: Affranchissement | C127: 42901 | D127: lettres prioritaires | E127: 8.15 | F127: 0 | G127: =F127-E127 -> -8.15 | H127: 0 | I127: =G127+(G127*H127) -> -8.15
A128: 626100 | B128: Affranchissement | C128: 42963 | D128: lettre prioritaire | E128: 1.7 | F128: 0 | G128: =F128-E128 -> -1.7 | H128: 0 | I128: =G128+(G128*H128) -> -1.7
A129: 626100 | B129: Affranchissement | C129: 42843 | D129: 1 lettre recommandée | E129: 5.6 | F129: 0 | G129: =F129-E129 -> -5.6 | H129: 0 | I129: =G129+(G129*H129) -> -5.6
A130: 626100 | B130: Affranchissement | C130: 42843 | D130: 2 lettres prioritaires | E130: 3.4 | F130: 0 | G130: =F130-E130 -> -3.4 | H130: 0 | I130: =G130+(G130*H130) -> -3.4
A131: 626100 | B131: Affranchissement | C131: 42696 | D131: 1 lettre prioritaire | E131: 3.2 | F131: 0 | G131: =F131-E131 -> -3.2 | H131: 0 | I131: =G131+(G131*H131) -> -3.2
A132: 626100 | B132: Affranchissement | C132: 42760 | D132: 1 lettre | E132: 6.3 | F132: 0 | G132: =F132-E132 -> -6.3 | H132: 0 | I132: =G132+(G132*H132) -> -6.3
... A311: 706100 | B311: Invitations | C311: 42978 | D311: Recettes 2016/2017 | E311: 0 | F311: 256 | G311: =F311-E311 -> 256 | H311: -0.3 | I311: =G311+(G311*H311) -> 179.2
A312: 708110 | B312: Soirée Gala | C312: 42675 | D312: Soirée gala | I312: 2317
A313: 708140 | B313: Fête école de tennis | C313: 42943 | D313: Barbecue 06/17 | E313: 0 | F313: 399 | G313: =F313-E313 -> 399 | H313: 0 | I313: =G313+(G313*H313) -> 399
A314: 708150 | B314: Soirée Equipes | C314: 42907 | D314: Soirée équipes | E314: 0 | F314: 1350 | G314: =F314-E314 -> 1350 | H314: 0 | I314: =G314+(G314*H314) -> 1350
A315: 708210 | B315: Tournoi open avril | C315: 42871 | D315: Tournoi avril | E315: 0 | F315: 4310 | G315: =F315-E315 -> 4310 | H315: 0 | I315: =G315+(G315*H315) -> 4310
A316: 708220 | B316: Tournoi open juillet | C316: 42965 | D316: Tournoi Open 07/17 Inscriptions | E316: 0 | F316: 462 | G316: =F316-E316 -> 462 | H316: 0 | I316: =G316+(G316*H316) -> 462
A317: 708220 | B317: Tournoi open juillet | C317: 42965 | D317: Tournoi Open 07/17 Inscriptions | E317: 0 | F317: 1030 | G317: =F317-E317 -> 1030 | H317: 0 | I317: =G317+(G317*H317) -> 1030
A318: 708220 | B318: Tournoi open juillet | C318: 42965 | D318: Tournoi Open 07/17 Inscriptions | E318: 0 | F318: 1319 | G318: =F318-E318 -> 1319 | H318: 0 | I318: =G318+(G318*H318) -> 1319
A319: 708230 | B319: Tournoi interne | C319: 42767 | D319: Tournoi double | E319: 0 | F319: 127 | G319: =F319-E319 -> 127 | H319: 0 | I319: =G319+(G319*H319) -> 127
A320: 708230 | B320: Tournoi interne | C320: 42965 | D320: Tournoi interne Inscriptions | E320: 0 | F320: 237 | G320: =F320-E320 -> 237 | H320: 0 | I320: =G320+(G320*H320) -> 237
A321: 708240 | B321: Tournoi Galaxie | C321: 42943 | D321: Tournois Galaxie Inscription | E321: 0 | F321: 195 | G321: =F321-E321 -> 195 | H321: 0 | I321: =G321+(G321*H321) -> 195
A322: 708250 | B322: Tournoi Trophée Chatrier | C322: 42709 | D322: Trophée Chatrier | E322: 0 | F322: 1026 | G322: =F322-E322 -> 1026 | H322: 0 | I322: =G322+(G322*H322) -> 1026
A323: 709100 | B323: Remises accordées sur cotisation | C323: 42978 | D323: Recettes 2016/2017 | E323: 634.43 | F323: 0 | G323: =F323-E323 -> -634.43 | H323: -1 | I323: =G323+(G323*H323) -> 0
A324: 740100 | B324: Subvention Mairie | C324: 42627 | D324: Subvention mairie - solde | E324: 0 | F324: 8000 | G324: =F324-E324 -> 8000 | H324: 0 | I324: =G324+(G324*H324) -> 8000
...

Sheet Feuil2
B2: RECETTES | D2: P09 | E2: P10 | F2: P11 | G2: P12 | H2: P01 | I2: P02 | J2: P03 | K2: P04 | L2: P05 | M2: P06 | N2: P07 | O2: P08
A4: 706010 | B4: Stages | D4: =SUMPRODUCT((Feuil1!$C:$C>=DATEVALUE("01/09/2016"))*((Feuil1!$C:$C<=DATEVALUE("30/09/2016"))*(Feuil1!$A:$A=$A4)*Feuil1!$I:$I)) -> 0 | E4: =SUMPRODUCT((Feuil1!$C:$C>=DATEVALUE("01/10/2016"))*((Feuil1!$C:$C<=DATEVALUE("31/10/2016"))*(Feuil1!$A:$A=$A4)*Feuil1!$I:$I)) -> 0 | F4: =SUMPRODUCT((Feuil1!$C:$C>=DATEVALUE("01/11/2016"))*((Feuil1!$C:$C<=DATEVALUE("30/11/2016"))*(Feuil1!$A:$A=$A4)*Feuil1!$I:$I)) -> 0 | G4: =SUMPRODUCT((Feuil1!$C:$C>=DATEVALUE("01/12/2016"))*((Feuil1!$C:$C<=DATEVALUE("31/12/2016"))*(Feuil1!$A:$A=$A4)*Feuil1!$I:$I)) -> 0 | H4: =SUMPRODUCT((Feuil1!$C:$C>=DATEVALUE("01/01/2017"))*((Feuil1!$C:$C<=DATEVALUE("31/01/2017"))*(Feuil1!$A:$A=$A4)*Feuil1!$I:$I)) -> 0 | I4: =SUMPRODUCT((Feuil1!$C:$C>=DATEVALUE("01/02/2017"))*((Feuil1!$C:$C<=DATEVALUE("28/02/2017"))*(Feuil1!$A:$A=$A4)*Feuil1!$I:$I)) -> 0 | J4: =SUMPRODUCT((Feuil1!$C:$C>=DATEVALUE("01/03/2017"))*((Feuil1!$C:$C<=DATEVALUE("31/03/2017"))*(Feuil1!$A:$A=$A4)*Feuil1!$I:$I)) -> 0 | K4: =SUMPRODUCT((Feuil1!$C:$C>=DATEVALUE("01/04/2017"))*((Feuil1!$C:$C<=DATEVALUE("30/04/2017"))*(Feuil1!$A:$A=$A4)*Feuil1!$I:$I)) -> 0 | L4: =SUMPRODUCT((Feuil1!$C:$C>=DATEVALUE("01/05/2017"))*((Feuil1!$C:$C<=DATEVALUE("31/05/2017"))*(Feuil1!$A:$A=$A4)*Feuil1!$I:$I)) -> 0 | M4: =SUMPRODUCT((Feuil1!$C:$C>=DATEVALUE("01/06/2017"))*((Feuil1!$C:$C<=DATEVALUE("30/06/2017"))*(Feuil1!$A:$A=$A4)*Feuil1!$I:$I)) -> 1190 | N4: =SUMPRODUCT((Feuil1!$C:$C>=DATEVALUE("01/07/2017"))*((Feuil1!$C:$C<=DATEVALUE("31/07/2017"))*(Feuil1!$A:$A=$A4)*Feuil1!$I:$I)) -> -70 | O4: =SUMPRODUCT((Feuil1!$C:$C>=DATEVALUE("01/08/2017"))*((Feuil1!$C:$C<=DATEVALUE("31/08/2017"))*(Feuil1!$A:$A=$A4)*Feuil1!$I:$I)) -> 5788
A5: 706020 | B5: Ecole de tennis | D5: =SUMPRODUCT((Feuil1!$C:$C>=DATEVALUE("01/09/2016"))*((Feuil1!$C:$C<=DATEVALUE("30/09/2016"))*(Feuil1!$A:$A=$A5)*Feuil1!$I:$I)) -> 0 | E5: =SUMPRODUCT((Feuil1!$C:$C>=DATEVALUE("01/10/2016"))*((Feuil1!$C:$C<=DATEVALUE("31/10/2016"))*(Feuil1!$A:$A=$A5)*Feuil1!$I:$I)) -> 0 | F5: =SUMPRODUCT((Feuil1!$C:$C>=DATEVALUE("01/11/2016"))*((Feuil1!$C:$C<=DATEVALUE("30/11/2016"))*(Feuil1!$A:$A=$A5)*Feuil1!$I:$I)) -> 0 | G5: =SUMPRODUCT((Feuil1!$C:$C>=DATEVALUE("01/12/2016"))*((Feuil1!$C:$C<=DATEVALUE("31/12/2016"))*(Feuil1!$A:$A=$A5)*Feuil1!$I:$I)) -> 0 | H5: =SUMPRODUCT((Feuil1!$C:$C>=DATEVALUE("01/01/2017"))*((Feuil1!$C:$C<=DATEVALUE("31/01/2017"))*(Feuil1!$A:$A=$A5)*Feuil1!$I:$I)) -> 0 | I5: =SUMPRODUCT((Feuil1!$C:$C>=DATEVALUE("01/02/2017"))*((Feuil1!$C:$C<=DATEVALUE("28/02/2017"))*(Feuil1!$A:$A=$A5)*Feuil1!$I:$I)) -> 0 | J5: =SUMPRODUCT((Feuil1!$C:$C>=DATEVALUE("01/03/2017"))*((Feuil1!$C:$C<=DATEVALUE("31/03/2017"))*(Feuil1!$A:$A=$A5)*Feuil1!$I:$I)) -> 0 | K5: =SUMPRODUCT((Feuil1!$C:$C>=DATEVALUE("01/04/2017"))*((Feuil1!$C:$C<=DATEVALUE("30/04/2017"))*(Feuil1!$A:$A=$A5)*Feuil1!$I:$I)) -> 0 | L5: =SUMPRODUCT((Feuil1!$C:$C>=DATEVALUE("01/05/2017"))*((Feuil1!$C:$C<=DATEVALUE("31/05/2017"))*(Feuil1!$A:$A=$A5)*Feuil1!$I:$I)) -> 0 | M5: =SUMPRODUCT((Feuil1!$C:$C>=DATEVALUE("01/06/2017"))*((Feuil1!$C:$C<=DATEVALUE("30/06/2017"))*(Feuil1!$A:$A=$A5)*Feuil1!$I:$I)) -> 0 | N5: =SUMPRODUCT((Feuil1!$C:$C>=DATEVALUE("01/07/2017"))*((Feuil1!$C:$C<=DATEVALUE("31/07/2017"))*(Feuil1!$A:$A=$A5)*Feuil1!$I:$I)) -> 0 | O5: =SUMPRODUCT((Feuil1!$C:$C>=DATEVALUE("01/08/2017"))*((Feuil1!$C:$C<=DATEVALUE("31/08/2017"))*(Feuil1!$A:$A=$A5)*Feuil1!$I:$I)) -> 0
A6: 706030 | B6: Cours cadets junior | D6: =SUMPRODUCT((Feuil1!$C:$C>=DATEVALUE("01/09/2016"))*((Feuil1!$C:$C<=DATEVALUE("30/09/2016"))*(Feuil1!$A:$A=$A6)*Feuil1!$I:$I)) -> 0 | E6: =SUMPRODUCT((Feuil1!$C:$C>=DATEVALUE("01/10/2016"))*((Feuil1!$C:$C<=DATEVALUE("31/10/2016"))*(Feuil1!$A:$A=$A6)*Feuil1!$I:$I)) -> 0 | F6: =SUMPRODUCT((Feuil1!$C:$C>=DATEVALUE("01/11/2016"))*((Feuil1!$C:$C<=DATEVALUE("30/11/2016"))*(Feuil1!$A:$A=$A6)*Feuil1!$I:$I)) -> 0 | G6: =SUMPRODUCT((Feuil1!$C:$C>=DATEVALUE("01/12/2016"))*((Feuil1!$C:$C<=DATEVALUE("31/12/2016"))*(Feuil1!$A:$A=$A6)*Feuil1!$I:$I)) -> 0 | H6: =SUMPRODUCT((Feuil1!$C:$C>=DATEVALUE("01/01/2017"))*((Feuil1!$C:$C<=DATEVALUE("31/01/2017"))*(Feuil1!$A:$A=$A6)*Feuil1!$I:$I)) -> 0 | I6: =SUMPRODUCT((Feuil1!$C:$C>=DATEVALUE("01/02/2017"))*((Feuil1!$C:$C<=DATEVALUE("28/02/2017"))*(Feuil1!$A:$A=$A6)*Feuil1!$I:$I)) -> 0 | J6: =SUMPRODUCT((Feuil1!$C:$C>=DATEVALUE("01/03/2017"))*((Feuil1!$C:$C<=DATEVALUE("31/03/2017"))*(Feuil1!$A:$A=$A6)*Feuil1!$I:$I)) -> 0 | K6: =SUMPRODUCT((Feuil1!$C:$C>=DATEVALUE("01/04/2017"))*((Feuil1!$C:$C<=DATEVALUE("30/04/2017"))*(Feuil1!$A:$A=$A6)*Feuil1!$I:$I)) -> 0 | L6: =SUMPRODUCT((Feuil1!$C:$C>=DATEVALUE("01/05/2017"))*((Feuil1!$C:$C<=DATEVALUE("31/05/2017"))*(Feuil1!$A:$A=$A6)*Feuil1!$I:$I)) -> 0 | M6: =SUMPRODUCT((Feuil1!$C:$C>=DATEVALUE("01/06/2017"))*((Feuil1!$C:$C<=DATEVALUE("30/06/2017"))*(Feuil1!$A:$A=$A6)*Feuil1!$I:$I)) -> 0 | N6: =SUMPRODUCT((Feuil1!$C:$C>=DATEVALUE("01/07/2017"))*((Feuil1!$C:$C<=DATEVALUE("31/07/2017"))*(Feuil1!$A:$A=$A6)*Feuil1!$I:$I)) -> 0 | O6: =SUMPRODUCT((Feuil1!$C:$C>=DATEVALUE("01/08/2017"))*((Feuil1!$C:$C<=DATEVALUE("31/08/2017"))*(Feuil1!$A:$A=$A6)*Feuil1!$I:$I)) -> 0
A7: 706040 | B7: Entrainements Jeunes | D7: =SUMPRODUCT((Feuil1!$C:$C>=DATEVALUE("01/09/2016"))*((Feuil1!$C:$C<=DATEVALUE("30/09/2016"))*(Feuil1!$A:$A=$A7)*Feuil1!$I:$I)) -> 0 | E7: =SUMPRODUCT((Feuil1!$C:$C>=DATEVALUE("01/10/2016"))*((Feuil1!$C:$C<=DATEVALUE("31/10/2016"))*(Feuil1!$A:$A=$A7)*Feuil1!$I:$I)) -> 0 | F7: =SUMPRODUCT((Feuil1!$C:$C>=DATEVALUE("01/11/2016"))*((Feuil1!$C:$C<=DATEVALUE("30/11/2016"))*(Feuil1!$A:$A=$A7)*Feuil1!$I:$I)) -> 0 | G7: =SUMPRODUCT((Feuil1!$C:$C>=DATEVALUE("01/12/2016"))*((Feuil1!$C:$C<=DATEVALUE("31/12/2016"))*(Feuil1!$A:$A=$A7)*Feuil1!$I:$I)) -> 0 | H7: =SUMPRODUCT((Feuil1!$C:$C>=DATEVALUE("01/01/2017"))*((Feuil1!$C:$C<=DATEVALUE("31/01/2017"))*(Feuil1!$A:$A=$A7)*Feuil1!$I:$I)) -> 0 | I7: =SUMPRODUCT((Feuil1!$C:$C>=DATEVALUE("01/02/2017"))*((Feuil1!$C:$C<=DATEVALUE("28/02/2017"))*(Feuil1!$A:$A=$A7)*Feuil1!$I:$I)) -> 0 | J7: =SUMPRODUCT((Feuil1!$C:$C>=DATEVALUE("01/03/2017"))*((Feuil1!$C:$C<=DATEVALUE("31/03/2017"))*(Feuil1!$A:$A=$A7)*Feuil1!$I:$I)) -> 0 | K7: =SUMPRODUCT((Feuil1!$C:$C>=DATEVALUE("01/04/2017"))*((Feuil1!$C:$C<=DATEVALUE("30/04/2017"))*(Feuil1!$A:$A=$A7)*Feuil1!$I:$I)) -> 0 | L7: =SUMPRODUCT((Feuil1!$C:$C>=DATEVALUE("01/05/2017"))*((Feuil1!$C:$C<=DATEVALUE("31/05/2017"))*(Feuil1!$A:$A=$A7)*Feuil1!$I:$I)) -> 0 | M7: =SUMPRODUCT((Feuil1!$C:$C>=DATEVALUE("01/06/2017"))*((Feuil1!$C:$C<=DATEVALUE("30/06/2017"))*(Feuil1!$A:$A=$A7)*Feuil1!$I:$I)) -> 0 | N7: =SUMPRODUCT((Feuil1!$C:$C>=DATEVALUE("01/07/2017"))*((Feuil1!$C:$C<=DATEVALUE("31/07/2017"))*(Feuil1!$A:$A=$A7)*Feuil1!$I:$I)) -> 0 | O7: =SUMPRODUCT((Feuil1!$C:$C>=DATEVALUE("01/08/2017"))*((Feuil1!$C:$C<=DATEVALUE("31/08/2017"))*(Feuil1!$A:$A=$A7)*Feuil1!$I:$I)) -> 0
A8: 706050 | B8: Cours Collectif Adultes | D8: =SUMPRODUCT((Feuil1!$C:$C>=DATEVALUE("01/09/2016"))*((Feuil1!$C:$C<=DATEVALUE("30/09/2016"))*(Feuil1!$A:$A=$A8)*Feuil1!$I:$I)) -> 0 | E8: =SUMPRODUCT((Feuil1!$C:$C>=DATEVALUE("01/10/2016"))*((Feuil1!$C:$C<=DATEVALUE("31/10/2016"))*(Feuil1!$A:$A=$A8)*Feuil1!$I:$I)) -> 0 | F8: =SUMPRODUCT((Feuil1!$C:$C>=DATEVALUE("01/11/2016"))*((Feuil1!$C:$C<=DATEVALUE("30/11/2016"))*(Feuil1!$A:$A=$A8)*Feuil1!$I:$I)) -> 0 | G8: =SUMPRODUCT((Feuil1!$C:$C>=DATEVALUE("01/12/2016"))*((Feuil1!$C:$C<=DATEVALUE("31/12/2016"))*(Feuil1!$A:$A=$A8)*Feuil1!$I:$I)) -> 0 | H8: =SUMPRODUCT((Feuil1!$C:$C>=DATEVALUE("01/01/2017"))*((Feuil1!$C:$C<=DATEVALUE("31/01/2017"))*(Feuil1!$A:$A=$A8)*Feuil1!$I:$I)) -> 0 | I8: =SUMPRODUCT((Feuil1!$C:$C>=DATEVALUE("01/02/2017"))*((Feuil1!$C:$C<=DATEVALUE("28/02/2017"))*(Feuil1!$A:$A=$A8)*Feuil1!$I:$I)) -> 0 | J8: =SUMPRODUCT((Feuil1!$C:$C>=DATEVALUE("01/03/2017"))*((Feuil1!$C:$C<=DATEVALUE("31/03/2017"))*(Feuil1!$A:$A=$A8)*Feuil1!$I:$I)) -> 0 | K8: =SUMPRODUCT((Feuil1!$C:$C>=DATEVALUE("01/04/2017"))*((Feuil1!$C:$C<=DATEVALUE("30/04/2017"))*(Feuil1!$A:$A=$A8)*Feuil1!$I:$I)) -> 0 | L8: =SUMPRODUCT((Feuil1!$C:$C>=DATEVALUE("01/05/2017"))*((Feuil1!$C:$C<=DATEVALUE("31/05/2017"))*(Feuil1!$A:$A=$A8)*Feuil1!$I:$I)) -> 0 | M8: =SUMPRODUCT((Feuil1!$C:$C>=DATEVALUE("01/06/2017"))*((Feuil1!$C:$C<=DATEVALUE("30/06/2017"))*(Feuil1!$A:$A=$A8)*Feuil1!$I:$I)) -> 0 | N8: =SUMPRODUCT((Feuil1!$C:$C>=DATEVALUE("01/07/2017"))*((Feuil1!$C:$C<=DATEVALUE("31/07/2017"))*(Feuil1!$A:$A=$A8)*Feuil1!$I:$I)) -> 0 | O8: =SUMPRODUCT((Feuil1!$C:$C>=DATEVALUE("01/08/2017"))*((Feuil1!$C:$C<=DATEVALUE("31/08/2017"))*(Feuil1!$A:$A=$A8)*Feuil1!$I:$I)) -> 0
A9: 706060 | B9: Entrainement joueurs équipes | D9: =SUMPRODUCT((Feuil1!$C:$C>=DATEVALUE("01/09/2016"))*((Feuil1!$C:$C<=DATEVALUE("30/09/2016"))*(Feuil1!$A:$A=$A9)*Feuil1!$I:$I)) -> 0 | E9: =SUMPRODUCT((Feuil1!$C:$C>=DATEVALUE("01/10/2016"))*((Feuil1!$C:$C<=DATEVALUE("31/10/2016"))*(Feuil1!$A:$A=$A9)*Feuil1!$I:$I)) -> 0 | F9: =SUMPRODUCT((Feuil1!$C:$C>=DATEVALUE("01/11/2016"))*((Feuil1!$C:$C<=DATEVALUE("30/11/2016"))*(Feuil1!$A:$A=$A9)*Feuil1!$I:$I)) -> 0 | G9: =SUMPRODUCT((Feuil1!$C:$C>=DATEVALUE("01/12/2016"))*((Feuil1!$C:$C<=DATEVALUE("31/12/2016"))*(Feuil1!$A:$A=$A9)*Feuil1!$I:$I)) -> 0 | H9: =SUMPRODUCT((Feuil1!$C:$C>=DATEVALUE("01/01/2017"))*((Feuil1!$C:$C<=DATEVALUE("31/01/2017"))*(Feuil1!$A:$A=$A9)*Feuil1!$I:$I)) -> 0 | I9: =SUMPRODUCT((Feuil1!$C:$C>=DATEVALUE("01/02/2017"))*((Feuil1!$C:$C<=DATEVALUE("28/02/2017"))*(Feuil1!$A:$A=$A9)*Feuil1!$I:$I)) -> 0 | J9: =SUMPRODUCT((Feuil1!$C:$C>=DATEVALUE("01/03/2017"))*((Feuil1!$C:$C<=DATEVALUE("31/03/2017"))*(Feuil1!$A:$A=$A9)*Feuil1!$I:$I)) -> 0 | K9: =SUMPRODUCT((Feuil1!$C:$C>=DATEVALUE("01/04/2017"))*((Feuil1!$C:$C<=DATEVALUE("30/04/2017"))*(Feuil1!$A:$A=$A9)*Feuil1!$I:$I)) -> 0 | L9: =SUMPRODUCT((Feuil1!$C:$C>=DATEVALUE("01/05/2017"))*((Feuil1!$C:$C<=DATEVALUE("31/05/2017"))*(Feuil1!$A:$A=$A9)*Feuil1!$I:$I)) -> 0 | M9: =SUMPRODUCT((Feuil1!$C:$C>=DATEVALUE("01/06/2017"))*((Feuil1!$C:$C<=DATEVALUE("30/06/2017"))*(Feuil1!$A:$A=$A9)*Feuil1!$I:$I)) -> 0 | N9: =SUMPRODUCT((Feuil1!$C:$C>=DATEVALUE("01/07/2017"))*((Feuil1!$C:$C<=DATEVALUE("31/07/2017"))*(Feuil1!$A:$A=$A9)*Feuil1!$I:$I)) -> 0 | O9: =SUMPRODUCT((Feuil1!$C:$C>=DATEVALUE("01/08/2017"))*((Feuil1!$C:$C<=DATEVALUE("31/08/2017"))*(Feuil1!$A:$A=$A9)*Feuil1!$I:$I)) -> 0
A10: 706070 | B10: Club Junior | D10: =SUMPRODUCT((Feuil1!$C:$C>=DATEVALUE("01/09/2016"))*((Feuil1!$C:$C<=DATEVALUE("30/09/2016"))*(Feuil1!$A:$A=$A10)*Feuil1!$I:$I)) -> 0 | E10: =SUMPRODUCT((Feuil1!$C:$C>=DATEVALUE("01/10/2016"))*((Feuil1!$C:$C<=DATEVALUE("31/10/2016"))*(Feuil1!$A:$A=$A10)*Feuil1!$I:$I)) -> 0 | F10: =SUMPRODUCT((Feuil1!$C:$C>=DATEVALUE("01/11/2016"))*((Feuil1!$C:$C<=DATEVALUE("30/11/2016"))*(Feuil1!$A:$A=$A10)*Feuil1!$I:$I)) -> 0 | G10: =SUMPRODUCT((Feuil1!$C:$C>=DATEVALUE("01/12/2016"))*((Feuil1!$C:$C<=DATEVALUE("31/12/2016"))*(Feuil1!$A:$A=$A10)*Feuil1!$I:$I)) -> 0 | H10: =SUMPRODUCT((Feuil1!$C:$C>=DATEVALUE("01/01/2017"))*((Feuil1!$C:$C<=DATEVALUE("31/01/2017"))*(Feuil1!$A:$A=$A10)*Feuil1!$I:$I)) -> 0 | I10: =SUMPRODUCT((Feuil1!$C:$C>=DATEVALUE("01/02/2017"))*((Feuil1!$C:$C<=DATEVALUE("28/02/2017"))*(Feuil1!$A:$A=$A10)*Feuil1!$I:$I)) -> 0 | J10: =SUMPRODUCT((Feuil1!$C:$C>=DATEVALUE("01/03/2017"))*((Feuil1!$C:$C<=DATEVALUE("31/03/2017"))*(Feuil1!$A:$A=$A10)*Feuil1!$I:$I)) -> 0 | K10: =SUMPRODUCT((Feuil1!$C:$C>=DATEVALUE("01/04/2017"))*((Feuil1!$C:$C<=DATEVALUE("30/04/2017"))*(Feuil1!$A:$A=$A10)*Feuil1!$I:$I)) -> 0 | L10: =SUMPRODUCT((Feuil1!$C:$C>=DATEVALUE("01/05/2017"))*((Feuil1!$C:$C<=DATEVALUE("31/05/2017"))*(Feuil1!$A:$A=$A10)*Feuil1!$I:$I)) -> 0 | M10: =SUMPRODUCT((Feuil1!$C:$C>=DATEVALUE("01/06/2017"))*((Feuil1!$C:$C<=DATEVALUE("30/06/2017"))*(Feuil1!$A:$A=$A10)*Feuil1!$I:$I)) -> 0 | N10: =SUMPRODUCT((Feuil1!$C:$C>=DATEVALUE("01/07/2017"))*((Feuil1!$C:$C<=DATEVALUE("31/07/2017"))*(Feuil1!$A:$A=$A10)*Feuil1!$I:$I)) -> 0 | O10: =SUMPRODUCT((Feuil1!$C:$C>=DATEVALUE("01/08/2017"))*((Feuil1!$C:$C<=DATEVALUE("31/08/2017"))*(Feuil1!$A:$A=$A10)*Feuil1!$I:$I)) -> 0
A11: 706080 | B11: Entraînement physique | D11: =SUMPRODUCT((Feuil1!$C:$C>=DATEVALUE("01/09/2016"))*((Feuil1!$C:$C<=DATEVALUE("30/09/2016"))*(Feuil1!$A:$A=$A11)*Feuil1!$I:$I)) -> 0 | E11: =SUMPRODUCT((Feuil1!$C:$C>=DATEVALUE("01/10/2016"))*((Feuil1!$C:$C<=DATEVALUE("31/10/2016"))*(Feuil1!$A:$A=$A11)*Feuil1!$I:$I)) -> 0 | F11: =SUMPRODUCT((Feuil1!$C:$C>=DATEVALUE("01/11/2016"))*((Feuil1!$C:$C<=DATEVALUE("30/11/2016"))*(Feuil1!$A:$A=$A11)*Feuil1!$I:$I)) -> 0 | G11: =SUMPRODUCT((Feuil1!$C:$C>=DATEVALUE("01/12/2016"))*((Feuil1!$C:$C<=DATEVALUE("31/12/2016"))*(Feuil1!$A:$A=$A11)*Feuil1!$I:$I)) -> 0 | H11: =SUMPRODUCT((Feuil1!$C:$C>=DATEVALUE("01/01/2017"))*((Feuil1!$C:$C<=DATEVALUE("31/01/2017"))*(Feuil1!$A:$A=$A11)*Feuil1!$I:$I)) -> 0 | I11: =SUMPRODUCT((Feuil1!$C:$C>=DATEVALUE("01/02/2017"))*((Feuil1!$C:$C<=DATEVALUE("28/02/2017"))*(Feuil1!$A:$A=$A11)*Feuil1!$I:$I)) -> 0 | J11: =SUMPRODUCT((Feuil1!$C:$C>=DATEVALUE("01/03/2017"))*((Feuil1!$C:$C<=DATEVALUE("31/03/2017"))*(Feuil1!$A:$A=$A11)*Feuil1!$I:$I)) -> 0 | K11: =SUMPRODUCT((Feuil1!$C:$C>=DATEVALUE("01/04/2017"))*((Feuil1!$C:$C<=DATEVALUE("30/04/2017"))*(Feuil1!$A:$A=$A11)*Feuil1!$I:$I)) -> 0 | L11: =SUMPRODUCT((Feuil1!$C:$C>=DATEVALUE("01/05/2017"))*((Feuil1!$C:$C<=DATEVALUE("31/05/2017"))*(Feuil1!$A:$A=$A11)*Feuil1!$I:$I)) -> 0 | M11: =SUMPRODUCT((Feuil1!$C:$C>=DATEVALUE("01/06/2017"))*((Feuil1!$C:$C<=DATEVALUE("30/06/2017"))*(Feuil1!$A:$A=$A11)*Feuil1!$I:$I)) -> 0 | N11: =SUMPRODUCT((Feuil1!$C:$C>=DATEVALUE("01/07/2017"))*((Feuil1!$C:$C<=DATEVALUE("31/07/2017"))*(Feuil1!$A:$A=$A11)*Feuil1!$I:$I)) -> 0 | O11: =SUMPRODUCT((Feuil1!$C:$C>=DATEVALUE("01/08/2017"))*((Feuil1!$C:$C<=DATEVALUE("31/08/2017"))*(Feuil1!$A:$A=$A11)*Feuil1!$I:$I)) -> 0
A12: 706090 | B12: Gymtennis | D12: =SUMPRODUCT((Feuil1!$C:$C>=DATEVALUE("01/09/2016"))*((Feuil1!$C:$C<=DATEVALUE("30/09/2016"))*(Feuil1!$A:$A=$A12)*Feuil1!$I:$I)) -> 0 | E12: =SUMPRODUCT((Feuil1!$C:$C>=DATEVALUE("01/10/2016"))*((Feuil1!$C:$C<=DATEVALUE("31/10/2016"))*(Feuil1!$A:$A=$A12)*Feuil1!$I:$I)) -> 0 | F12: =SUMPRODUCT((Feuil1!$C:$C>=DATEVALUE("01/11/2016"))*((Feuil1!$C:$C<=DATEVALUE("30/11/2016"))*(Feuil1!$A:$A=$A12)*Feuil1!$I:$I)) -> 0 | G12: =SUMPRODUCT((Feuil1!$C:$C>=DATEVALUE("01/12/2016"))*((Feuil1!$C:$C<=DATEVALUE("31/12/2016"))*(Feuil1!$A:$A=$A12)*Feuil1!$I:$I)) -> 0 | H12: =SUMPRODUCT((Feuil1!$C:$C>=DATEVALUE("01/01/2017"))*((Feuil1!$C:$C<=DATEVALUE("31/01/2017"))*(Feuil1!$A:$A=$A12)*Feuil1!$I:$I)) -> 0 | I12: =SUMPRODUCT((Feuil1!$C:$C>=DATEVALUE("01/02/2017"))*((Feuil1!$C:$C<=DATEVALUE("28/02/2017"))*(Feuil1!$A:$A=$A12)*Feuil1!$I:$I)) -> 0 | J12: =SUMPRODUCT((Feuil1!$C:$C>=DATEVALUE("01/03/2017"))*((Feuil1!$C:$C<=DATEVALUE("31/03/2017"))*(Feuil1!$A:$A=$A12)*Feuil1!$I:$I)) -> 0 | K12: =SUMPRODUCT((Feuil1!$C:$C>=DATEVALUE("01/04/2017"))*((Feuil1!$C:$C<=DATEVALUE("30/04/2017"))*(Feuil1!$A:$A=$A12)*Feuil1!$I:$I)) -> 0 | L12: =SUMPRODUCT((Feuil1!$C:$C>=DATEVALUE("01/05/2017"))*((Feuil1!$C:$C<=DATEVALUE("31/05/2017"))*(Feuil1!$A:$A=$A12)*Feuil1!$I:$I)) -> 0 | M12: =SUMPRODUCT((Feuil1!$C:$C>=DATEVALUE("01/06/2017"))*((Feuil1!$C:$C<=DATEVALUE("30/06/2017"))*(Feuil1!$A:$A=$A12)*Feuil1!$I:$I)) -> 0 | N12: =SUMPRODUCT((Feuil1!$C:$C>=DATEVALUE("01/07/2017"))*((Feuil1!$C:$C<=DATEVALUE("31/07/2017"))*(Feuil1!$A:$A=$A12)*Feuil1!$I:$I)) -> 0 | O12: =SUMPRODUCT((Feuil1!$C:$C>=DATEVALUE("01/08/2017"))*((Feuil1!$C:$C<=DATEVALUE("31/08/2017"))*(Feuil1!$A:$A=$A12)*Feuil1!$I:$I)) -> 943
A13: 706100 | B13: Invitations | D13: =SUMPRODUCT((Feuil1!$C:$C>=DATEVALUE("01/09/2016"))*((Feuil1!$C:$C<=DATEVALUE("30/09/2016"))*(Feuil1!$A:$A=$A13)*Feuil1!$I:$I)) -> 0 | E13: =SUMPRODUCT((Feuil1!$C:$C>=DATEVALUE("01/10/2016"))*((Feuil1!$C:$C<=DATEVALUE("31/10/2016"))*(Feuil1!$A:$A=$A13)*Feuil1!$I:$I)) -> 0 | F13: =SUMPRODUCT((Feuil1!$C:$C>=DATEVALUE("01/11/2016"))*((Feuil1!$C:$C<=DATEVALUE("30/11/2016"))*(Feuil1!$A:$A=$A13)*Feuil1!$I:$I)) -> 0 | G13: =SUMPRODUCT((Feuil1!$C:$C>=DATEVALUE("01/12/2016"))*((Feuil1!$C:$C<=DATEVALUE("31/12/2016"))*(Feuil1!$A:$A=$A13)*Feuil1!$I:$I)) -> 0 | H13: =SUMPRODUCT((Feuil1!$C:$C>=DATEVALUE("01/01/2017"))*((Feuil1!$C:$C<=DATEVALUE("31/01/2017"))*(Feuil1!$A:$A=$A13)*Feuil1!$I:$I)) -> 0 | I13: =SUMPRODUCT((Feuil1!$C:$C>=DATEVALUE("01/02/2017"))*((Feuil1!$C:$C<=DATEVALUE("28/02/2017"))*(Feuil1!$A:$A=$A13)*Feuil1!$I:$I)) -> 0 | J13: =SUMPRODUCT((Feuil1!$C:$C>=DATEVALUE("01/03/2017"))*((Feuil1!$C:$C<=DATEVALUE("31/03/2017"))*(Feuil1!$A:$A=$A13)*Feuil1!$I:$I)) -> 0 | K13: =SUMPRODUCT((Feuil1!$C:$C>=DATEVALUE("01/04/2017"))*((Feuil1!$C:$C<=DATEVALUE("30/04/2017"))*(Feuil1!$A:$A=$A13)*Feuil1!$I:$I)) -> 0 | L13: =SUMPRODUCT((Feuil1!$C:$C>=DATEVALUE("01/05/2017"))*((Feuil1!$C:$C<=DATEVALUE("31/05/2017"))*(Feuil1!$A:$A=$A13)*Feuil1!$I:$I)) -> 0 | M13: =SUMPRODUCT((Feuil1!$C:$C>=DATEVALUE("01/06/2017"))*((Feuil1!$C:$C<=DATEVALUE("30/06/2017"))*(Feuil1!$A:$A=$A13)*Feuil1!$I:$I)) -> 0 | N13: =SUMPRODUCT((Feuil1!$C:$C>=DATEVALUE("01/07/2017"))*((Feuil1!$C:$C<=DATEVALUE("31/07/2017"))*(Feuil1!$A:$A=$A13)*Feuil1!$I:$I)) -> 0 | O13: =SUMPRODUCT((Feuil1!$C:$C>=DATEVALUE("01/08/2017"))*((Feuil1!$C:$C<=DATEVALUE("31/08/2017"))*(Feuil1!$A:$A=$A13)*Feuil1!$I:$I)) -> 179.2
A14: 709100 | B14: Remises accordées sur cotisation | D14: =SUMPRODUCT((Feuil1!$C:$C>=DATEVALUE("01/09/2016"))*((Feuil1!$C:$C<=DATEVALUE("30/09/2016"))*(Feuil1!$A:$A=$A14)*Feuil1!$I:$I)) -> 0 | E14: =SUMPRODUCT((Feuil1!$C:$C>=DATEVALUE("01/10/2016"))*((Feuil1!$C:$C<=DATEVALUE("31/10/2016"))*(Feuil1!$A:$A=$A14)*Feuil1!$I:$I)) -> 0 | F14: =SUMPRODUCT((Feuil1!$C:$C>=DATEVALUE("01/11/2016"))*((Feuil1!$C:$C<=DATEVALUE("30/11/2016"))*(Feuil1!$A:$A=$A14)*Feuil1!$I:$I)) -> 0 | G14: =SUMPRODUCT((Feuil1!$C:$C>=DATEVALUE("01/12/2016"))*((Feuil1!$C:$C<=DATEVALUE("31/12/2016"))*(Feuil1!$A:$A=$A14)*Feuil1!$I:$I)) -> 0 | H14: =SUMPRODUCT((Feuil1!$C:$C>=DATEVALUE("01/01/2017"))*((Feuil1!$C:$C<=DATEVALUE("31/01/2017"))*(Feuil1!$A:$A=$A14)*Feuil1!$I:$I)) -> 0 | I14: =SUMPRODUCT((Feuil1!$C:$C>=DATEVALUE("01/02/2017"))*((Feuil1!$C:$C<=DATEVALUE("28/02/2017"))*(Feuil1!$A:$A=$A14)*Feuil1!$I:$I)) -> 0 | J14: =SUMPRODUCT((Feuil1!$C:$C>=DATEVALUE("01/03/2017"))*((Feuil1!$C:$C<=DATEVALUE("31/03/2017"))*(Feuil1!$A:$A=$A14)*Feuil1!$I:$I)) -> 0 | K14: =SUMPRODUCT((Feuil1!$C:$C>=DATEVALUE("01/04/2017"))*((Feuil1!$C:$C<=DATEVALUE("30/04/2017"))*(Feuil1!$A:$A=$A14)*Feuil1!$I:$I)) -> 0 | L14: =SUMPRODUCT((Feuil1!$C:$C>=DATEVALUE("01/05/2017"))*((Feuil1!$C:$C<=DATEVALUE("31/05/2017"))*(Feuil1!$A:$A=$A14)*Feuil1!$I:$I)) -> 0 | M14: =SUMPRODUCT((Feuil1!$C:$C>=DATEVALUE("01/06/2017"))*((Feuil1!$C:$C<=DATEVALUE("30/06/2017"))*(Feuil1!$A:$A=$A14)*Feuil1!$I:$I)) -> 0 | N14: =SUMPRODUCT((Feuil1!$C:$C>=DATEVALUE("01/07/2017"))*((Feuil1!$C:$C<=DATEVALUE("31/07/2017"))*(Feuil1!$A:$A=$A14)*Feuil1!$I:$I)) -> 0 | O14: =SUMPRODUCT((Feuil1!$C:$C>=DATEVALUE("01/08/2017"))*((Feuil1!$C:$C<=DATEVALUE("31/08/2017"))*(Feuil1!$A:$A=$A14)*Feuil1!$I:$I)) -> 0
A15: 756000 | B15: Cotisations brutes | D15: =SUMPRODUCT((Feuil1!$C:$C>=DATEVALUE("01/09/2016"))*((Feuil1!$C:$C<=DATEVALUE("30/09/2016"))*(Feuil1!$A:$A=$A15)*Feuil1!$I:$I)) -> 0 | E15: =SUMPRODUCT((Feuil1!$C:$C>=DATEVALUE("01/10/2016"))*((Feuil1!$C:$C<=DATEVALUE("31/10/2016"))*(Feuil1!$A:$A=$A15)*Feuil1!$I:$I)) -> 0 | F15: =SUMPRODUCT((Feuil1!$C:$C>=DATEVALUE("01/11/2016"))*((Feuil1!$C:$C<=DATEVALUE("30/11/2016"))*(Feuil1!$A:$A=$A15)*Feuil1!$I:$I)) -> 0 | G15: =SUMPRODUCT((Feuil1!$C:$C>=DATEVALUE("01/12/2016"))*((Feuil1!$C:$C<=DATEVALUE("31/12/2016"))*(Feuil1!$A:$A=$A15)*Feuil1!$I:$I)) -> 0 | H15: =SUMPRODUCT((Feuil1!$C:$C>=DATEVALUE("01/01/2017"))*((Feuil1!$C:$C<=DATEVALUE("31/01/2017"))*(Feuil1!$A:$A=$A15)*Feuil1!$I:$I)) -> 0 | I15: =SUMPRODUCT((Feuil1!$C:$C>=DATEVALUE("01/02/2017"))*((Feuil1!$C:$C<=DATEVALUE("28/02/2017"))*(Feuil1!$A:$A=$A15)*Feuil1!$I:$I)) -> 0 | J15: =SUMPRODUCT((Feuil1!$C:$C>=DATEVALUE("01/03/2017"))*((Feuil1!$C:$C<=DATEVALUE("31/03/2017"))*(Feuil1!$A:$A=$A15)*Feuil1!$I:$I)) -> 0 | K15: =SUMPRODUCT((Feuil1!$C:$C>=DATEVALUE("01/04/2017"))*((Feuil1!$C:$C<=DATEVALUE("30/04/2017"))*(Feuil1!$A:$A=$A15)*Feuil1!$I:$I)) -> 0 | L15: =SUMPRODUCT((Feuil1!$C:$C>=DATEVALUE("01/05/2017"))*((Feuil1!$C:$C<=DATEVALUE("31/05/2017"))*(Feuil1!$A:$A=$A15)*Feuil1!$I:$I)) -> 0 | M15: =SUMPRODUCT((Feuil1!$C:$C>=DATEVALUE("01/06/2017"))*((Feuil1!$C:$C<=DATEVALUE("30/06/2017"))*(Feuil1!$A:$A=$A15)*Feuil1!$I:$I)) -> 0 | N15: =SUMPRODUCT((Feuil1!$C:$C>=DATEVALUE("01/07/2017"))*((Feuil1!$C:$C<=DATEVALUE("31/07/2017"))*(Feuil1!$A:$A=$A15)*Feuil1!$I:$I)) -> 0 | O15: =SUMPRODUCT((Feuil1!$C:$C>=DATEVALUE("01/08/2017"))*((Feuil1!$C:$C<=DATEVALUE("31/08/2017"))*(Feuil1!$A:$A=$A15)*Feuil1!$I:$I)) -> 0
A16: 756010 | B16: Badges | D16: =SUMPRODUCT((Feuil1!$C:$C>=DATEVALUE("01/09/2016"))*((Feuil1!$C:$C<=DATEVALUE("30/09/2016"))*(Feuil1!$A:$A=$A16)*Feuil1!$I:$I)) -> 0 | E16: =SUMPRODUCT((Feuil1!$C:$C>=DATEVALUE("01/10/2016"))*((Feuil1!$C:$C<=DATEVALUE("31/10/2016"))*(Feuil1!$A:$A=$A16)*Feuil1!$I:$I)) -> 0 | F16: =SUMPRODUCT((Feuil1!$C:$C>=DATEVALUE("01/11/2016"))*((Feuil1!$C:$C<=DATEVALUE("30/11/2016"))*(Feuil1!$A:$A=$A16)*Feuil1!$I:$I)) -> 0 | G16: =SUMPRODUCT((Feuil1!$C:$C>=DATEVALUE("01/12/2016"))*((Feuil1!$C:$C<=DATEVALUE("31/12/2016"))*(Feuil1!$A:$A=$A16)*Feuil1!$I:$I)) -> 0 | H16: =SUMPRODUCT((Feuil1!$C:$C>=DATEVALUE("01/01/2017"))*((Feuil1!$C:$C<=DATEVALUE("31/01/2017"))*(Feuil1!$A:$A=$A16)*Feuil1!$I:$I)) -> 0 | I16: =SUMPRODUCT((Feuil1!$C:$C>=DATEVALUE("01/02/2017"))*((Feuil1!$C:$C<=DATEVALUE("28/02/2017"))*(Feuil1!$A:$A=$A16)*Feuil1!$I:$I)) -> 0 | J16: =SUMPRODUCT((Feuil1!$C:$C>=DATEVALUE("01/03/2017"))*((Feuil1!$C:$C<=DATEVALUE("31/03/2017"))*(Feuil1!$A:$A=$A16)*Feuil1!$I:$I)) -> 0 | K16: =SUMPRODUCT((Feuil1!$C:$C>=DATEVALUE("01/04/2017"))*((Feuil1!$C:$C<=DATEVALUE("30/04/2017"))*(Feuil1!$A:$A=$A16)*Feuil1!$I:$I)) -> 0 | L16: =SUMPRODUCT((Feuil1!$C:$C>=DATEVALUE("01/05/2017"))*((Feuil1!$C:$C<=DATEVALUE("31/05/2017"))*(Feuil1!$A:$A=$A16)*Feuil1!$I:$I)) -> 0 | M16: =SUMPRODUCT((Feuil1!$C:$C>=DATEVALUE("01/06/2017"))*((Feuil1!$C:$C<=DATEVALUE("30/06/2017"))*(Feuil1!$A:$A=$A16)*Feuil1!$I:$I)) -> 0 | N16: =SUMPRODUCT((Feuil1!$C:$C>=DATEVALUE("01/07/2017"))*((Feuil1!$C:$C<=DATEVALUE("31/07/2017"))*(Feuil1!$A:$A=$A16)*Feuil1!$I:$I)) -> 0 | O16: =SUMPRODUCT((Feuil1!$C:$C>=DATEVALUE("01/08/2017"))*((Feuil1!$C:$C<=DATEVALUE("31/08/2017"))*(Feuil1!$A:$A=$A16)*Feuil1!$I:$I)) -> 0
A18: cotis,cours,badges, invitations,stages | D18: =SUM(D4:D17) -> 0 | E18: =SUM(E4:E17) -> 0 | F18: =SUM(F4:F17) -> 0 | G18: =SUM(G4:G17) -> 0 | H18: =SUM(H4:H17) -> 0 | I18: =SUM(I4:I17) -> 0 | J18: =SUM(J4:J17) -> 0 | K18: =SUM(K4:K17) -> 0 | ... O18: =SUM(O4:O17) -> 6910.2
A20: 708200 | B20: Tournois inscriptions | D20: =SUMPRODUCT((Feuil1!$C:$C>=DATEVALUE("01/09/2016"))*((Feuil1!$C:$C<=DATEVALUE("30/09/2016"))*(Feuil1!$A:$A=$A20)*Feuil1!$I:$I)) -> 0 | E20: =SUMPRODUCT((Feuil1!$C:$C>=DATEVALUE("01/10/2016"))*((Feuil1!$C:$C<=DATEVALUE("31/10/2016"))*(Feuil1!$A:$A=$A20)*Feuil1!$I:$I)) -> 0 | F20: =SUMPRODUCT((Feuil1!$C:$C>=DATEVALUE("01/11/2016"))*((Feuil1!$C:$C<=DATEVALUE("30/11/2016"))*(Feuil1!$A:$A=$A20)*Feuil1!$I:$I)) -> 0 | G20: =SUMPRODUCT((Feuil1!$C:$C>=DATEVALUE("01/12/2016"))*((Feuil1!$C:$C<=DATEVALUE("31/12/2016"))*(Feuil1!$A:$A=$A20)*Feuil1!$I:$I)) -> 0 | H20: =SUMPRODUCT((Feuil1!$C:$C>=DATEVALUE("01/01/2017"))*((Feuil1!$C:$C<=DATEVALUE("31/01/2017"))*(Feuil1!$A:$A=$A20)*Feuil1!$I:$I)) -> 0 | I20: =SUMPRODUCT((Feuil1!$C:$C>=DATEVALUE("01/02/2017"))*((Feuil1!$C:$C<=DATEVALUE("28/02/2017"))*(Feuil1!$A:$A=$A20)*Feuil1!$I:$I)) -> 0 | J20: =SUMPRODUCT((Feuil1!$C:$C>=DATEVALUE("01/03/2017"))*((Feuil1!$C:$C<=DATEVALUE("31/03/2017"))*(Feuil1!$A:$A=$A20)*Feuil1!$I:$I)) -> 0 | K20: =SUMPRODUCT((Feuil1!$C:$C>=DATEVALUE("01/04/2017"))*((Feuil1!$C:$C<=DATEVALUE("30/04/2017"))*(Feuil1!$A:$A=$A20)*Feuil1!$I:$I)) -> 0 | L20: =SUMPRODUCT((Feuil1!$C:$C>=DATEVALUE("01/05/2017"))*((Feuil1!$C:$C<=DATEVALUE("31/05/2017"))*(Feuil1!$A:$A=$A20)*Feuil1!$I:$I)) -> 0 | M20: =SUMPRODUCT((Feuil1!$C:$C>=DATEVALUE("01/06/2017"))*((Feuil1!$C:$C<=DATEVALUE("30/06/2017"))*(Feuil1!$A:$A=$A20)*Feuil1!$I:$I)) -> 0 | N20: =SUMPRODUCT((Feuil1!$C:$C>=DATEVALUE("01/07/2017"))*((Feuil1!$C:$C<=DATEVALUE("31/07/2017"))*(Feuil1!$A:$A=$A20)*Feuil1!$I:$I)) -> 0 | O20: =SUMPRODUCT((Feuil1!$C:$C>=DATEVALUE("01/08/2017"))*((Feuil1!$C:$C<=DATEVALUE("31/08/2017"))*(Feuil1!$A:$A=$A20)*Feuil1!$I:$I)) -> 0
A21: 708210 | B21: Tournoi open avril | D21: =SUMPRODUCT((Feuil1!$C:$C>=DATEVALUE("01/09/2016"))*((Feuil1!$C:$C<=DATEVALUE("30/09/2016"))*(Feuil1!$A:$A=$A21)*Feuil1!$I:$I)) -> 0 | E21: =SUMPRODUCT((Feuil1!$C:$C>=DATEVALUE("01/10/2016"))*((Feuil1!$C:$C<=DATEVALUE("31/10/2016"))*(Feuil1!$A:$A=$A21)*Feuil1!$I:$I)) -> 0 | F21: =SUMPRODUCT((Feuil1!$C:$C>=DATEVALUE("01/11/2016"))*((Feuil1!$C:$C<=DATEVALUE("30/11/2016"))*(Feuil1!$A:$A=$A21)*Feuil1!$I:$I)) -> 0 | G21: =SUMPRODUCT((Feuil1!$C:$C>=DATEVALUE("01/12/2016"))*((Feuil1!$C:$C<=DATEVALUE("31/12/2016"))*(Feuil1!$A:$A=$A21)*Feuil1!$I:$I)) -> 0 | H21: =SUMPRODUCT((Feuil1!$C:$C>=DATEVALUE("01/01/2017"))*((Feuil1!$C:$C<=DATEVALUE("31/01/2017"))*(Feuil1!$A:$A=$A21)*Feuil1!$I:$I)) -> 0 | I21: =SUMPRODUCT((Feuil1!$C:$C>=DATEVALUE("01/02/2017"))*((Feuil1!$C:$C<=DATEVALUE("28/02/2017"))*(Feuil1!$A:$A=$A21)*Feuil1!$I:$I)) -> 0 | J21: =SUMPRODUCT((Feuil1!$C:$C>=DATEVALUE("01/03/2017"))*((Feuil1!$C:$C<=DATEVALUE("31/03/2017"))*(Feuil1!$A:$A=$A21)*Feuil1!$I:$I)) -> 0 | K21: =SUMPRODUCT((Feuil1!$C:$C>=DATEVALUE("01/04/2017"))*((Feuil1!$C:$C<=DATEVALUE("30/04/2017"))*(Feuil1!$A:$A=$A21)*Feuil1!$I:$I)) -> 0 | L21: =SUMPRODUCT((Feuil1!$C:$C>=DATEVALUE("01/05/2017"))*((Feuil1!$C:$C<=DATEVALUE("31/05/2017"))*(Feuil1!$A:$A=$A21)*Feuil1!$I:$I)) -> 4310 | M21: =SUMPRODUCT((Feuil1!$C:$C>=DATEVALUE("01/06/2017"))*((Feuil1!$C:$C<=DATEVALUE("30/06/2017"))*(Feuil1!$A:$A=$A21)*Feuil1!$I:$I)) -> 0 | N21: =SUMPRODUCT((Feuil1!$C:$C>=DATEVALUE("01/07/2017"))*((Feuil1!$C:$C<=DATEVALUE("31/07/2017"))*(Feuil1!$A:$A=$A21)*Feuil1!$I:$I)) -> 0 | O21: =SUMPRODUCT((Feuil1!$C:$C>=DATEVALUE("01/08/2017"))*((Feuil1!$C:$C<=DATEVALUE("31/08/2017"))*(Feuil1!$A:$A=$A21)*Feuil1!$I:$I)) -> 0
A22: 708220 | B22: Tournoi open juillet | D22: =SUMPRODUCT((Feuil1!$C:$C>=DATEVALUE("01/09/2016"))*((Feuil1!$C:$C<=DATEVALUE("30/09/2016"))*(Feuil1!$A:$A=$A22)*Feuil1!$I:$I)) -> 0 | E22: =SUMPRODUCT((Feuil1!$C:$C>=DATEVALUE("01/10/2016"))*((Feuil1!$C:$C<=DATEVALUE("31/10/2016"))*(Feuil1!$A:$A=$A22)*Feuil1!$I:$I)) -> 0 | F22: =SUMPRODUCT((Feuil1!$C:$C>=DATEVALUE("01/11/2016"))*((Feuil1!$C:$C<=DATEVALUE("30/11/2016"))*(Feuil1!$A:$A=$A22)*Feuil1!$I:$I)) -> 0 | G22: =SUMPRODUCT((Feuil1!$C:$C>=DATEVALUE("01/12/2016"))*((Feuil1!$C:$C<=DATEVALUE("31/12/2016"))*(Feuil1!$A:$A=$A22)*Feuil1!$I:$I)) -> 0 | H22: =SUMPRODUCT((Feuil1!$C:$C>=DATEVALUE("01/01/2017"))*((Feuil1!$C:$C<=DATEVALUE("31/01/2017"))*(Feuil1!$A:$A=$A22)*Feuil1!$I:$I)) -> 0 | I22: =SUMPRODUCT((Feuil1!$C:$C>=DATEVALUE("01/02/2017"))*((Feuil1!$C:$C<=DATEVALUE("28/02/2017"))*(Feuil1!$A:$A=$A22)*Feuil1!$I:$I)) -> 0 | J22: =SUMPRODUCT((Feuil1!$C:$C>=DATEVALUE("01/03/2017"))*((Feuil1!$C:$C<=DATEVALUE("31/03/2017"))*(Feuil1!$A:$A=$A22)*Feuil1!$I:$I)) -> 0 | K22: =SUMPRODUCT((Feuil1!$C:$C>=DATEVALUE("01/04/2017"))*((Feuil1!$C:$C<=DATEVALUE("30/04/2017"))*(Feuil1!$A:$A=$A22)*Feuil1!$I:$I)) -> 0 | L22: =SUMPRODUCT((Feuil1!$C:$C>=DATEVALUE("01/05/2017"))*((Feuil1!$C:$C<=DATEVALUE("31/05/2017"))*(Feuil1!$A:$A=$A22)*Feuil1!$I:$I)) -> 0 | M22: =SUMPRODUCT((Feuil1!$C:$C>=DATEVALUE("01/06/2017"))*((Feuil1!$C:$C<=DATEVALUE("30/06/2017"))*(Feuil1!$A:$A=$A22)*Feuil1!$I:$I)) -> 0 | N22: =SUMPRODUCT((Feuil1!$C:$C>=DATEVALUE("01/07/2017"))*((Feuil1!$C:$C<=DATEVALUE("31/07/2017"))*(Feuil1!$A:$A=$A22)*Feuil1!$I:$I)) -> 0 | O22: =SUMPRODUCT((Feuil1!$C:$C>=DATEVALUE("01/08/2017"))*((Feuil1!$C:$C<=DATEVALUE("31/08/2017"))*(Feuil1!$A:$A=$A22)*Feuil1!$I:$I)) -> 2811
A23: 708230 | B23: Tournoi interne | D23: =SUMPRODUCT((Feuil1!$C:$C>=DATEVALUE("01/09/2016"))*((Feuil1!$C:$C<=DATEVALUE("30/09/2016"))*(Feuil1!$A:$A=$A23)*Feuil1!$I:$I)) -> 0 | E23: =SUMPRODUCT((Feuil1!$C:$C>=DATEVALUE("01/10/2016"))*((Feuil1!$C:$C<=DATEVALUE("31/10/2016"))*(Feuil1!$A:$A=$A23)*Feuil1!$I:$I)) -> 0 | F23: =SUMPRODUCT((Feuil1!$C:$C>=DATEVALUE("01/11/2016"))*((Feuil1!$C:$C<=DATEVALUE("30/11/2016"))*(Feuil1!$A:$A=$A23)*Feuil1!$I:$I)) -> 0 | G23: =SUMPRODUCT((Feuil1!$C:$C>=DATEVALUE("01/12/2016"))*((Feuil1!$C:$C<=DATEVALUE("31/12/2016"))*(Feuil1!$A:$A=$A23)*Feuil1!$I:$I)) -> 0 | H23: =SUMPRODUCT((Feuil1!$C:$C>=DATEVALUE("01/01/2017"))*((Feuil1!$C:$C<=DATEVALUE("31/01/2017"))*(Feuil1!$A:$A=$A23)*Feuil1!$I:$I)) -> 0 | I23: =SUMPRODUCT((Feuil1!$C:$C>=DATEVALUE("01/02/2017"))*((Feuil1!$C:$C<=DATEVALUE("28/02/2017"))*(Feuil1!$A:$A=$A23)*Feuil1!$I:$I)) -> 127 | J23: =SUMPRODUCT((Feuil1!$C:$C>=DATEVALUE("01/03/2017"))*((Feuil1!$C:$C<=DATEVALUE("31/03/2017"))*(Feuil1!$A:$A=$A23)*Feuil1!$I:$I)) -> 0 | K23: =SUMPRODUCT((Feuil1!$C:$C>=DATEVALUE("01/04/2017"))*((Feuil1!$C:$C<=DATEVALUE("30/04/2017"))*(Feuil1!$A:$A=$A23)*Feuil1!$I:$I)) -> 0 | L23: =SUMPRODUCT((Feuil1!$C:$C>=DATEVALUE("01/05/2017"))*((Feuil1!$C:$C<=DATEVALUE("31/05/2017"))*(Feuil1!$A:$A=$A23)*Feuil1!$I:$I)) -> 0 | M23: =SUMPRODUCT((Feuil1!$C:$C>=DATEVALUE("01/06/2017"))*((Feuil1!$C:$C<=DATEVALUE("30/06/2017"))*(Feuil1!$A:$A=$A23)*Feuil1!$I:$I)) -> 0 | N23: =SUMPRODUCT((Feuil1!$C:$C>=DATEVALUE("01/07/2017"))*((Feuil1!$C:$C<=DATEVALUE("31/07/2017"))*(Feuil1!$A:$A=$A23)*Feuil1!$I:$I)) -> 0 | O23: =SUMPRODUCT((Feuil1!$C:$C>=DATEVALUE("01/08/2017"))*((Feuil1!$C:$C<=DATEVALUE("31/08/2017"))*(Feuil1!$A:$A=$A23)*Feuil1!$I:$I)) -> 237
A24: 708240 | B24: Tournoi Galaxie | D24: =SUMPRODUCT((Feuil1!$C:$C>=DATEVALUE("01/09/2016"))*((Feuil1!$C:$C<=DATEVALUE("30/09/2016"))*(Feuil1!$A:$A=$A24)*Feuil1!$I:$I)) -> 0 | E24: =SUMPRODUCT((Feuil1!$C:$C>=DATEVALUE("01/10/2016"))*((Feuil1!$C:$C<=DATEVALUE("31/10/2016"))*(Feuil1!$A:$A=$A24)*Feuil1!$I:$I)) -> 0 | F24: =SUMPRODUCT((Feuil1!$C:$C>=DATEVALUE("01/11/2016"))*((Feuil1!$C:$C<=DATEVALUE("30/11/2016"))*(Feuil1!$A:$A=$A24)*Feuil1!$I:$I)) -> 0 | G24: =SUMPRODUCT((Feuil1!$C:$C>=DATEVALUE("01/12/2016"))*((Feuil1!$C:$C<=DATEVALUE("31/12/2016"))*(Feuil1!$A:$A=$A24)*Feuil1!$I:$I)) -> 0 | H24: =SUMPRODUCT((Feuil1!$C:$C>=DATEVALUE("01/01/2017"))*((Feuil1!$C:$C<=DATEVALUE("31/01/2017"))*(Feuil1!$A:$A=$A24)*Feuil1!$I:$I)) -> 0 | I24: =SUMPRODUCT((Feuil1!$C:$C>=DATEVALUE("01/02/2017"))*((Feuil1!$C:$C<=DATEVALUE("28/02/2017"))*(Feuil1!$A:$A=$A24)*Feuil1!$I:$I)) -> 0 | J24: =SUMPRODUCT((Feuil1!$C:$C>=DATEVALUE("01/03/2017"))*((Feuil1!$C:$C<=DATEVALUE("31/03/2017"))*(Feuil1!$A:$A=$A24)*Feuil1!$I:$I)) -> 0 | K24: =SUMPRODUCT((Feuil1!$C:$C>=DATEVALUE("01/04/2017"))*((Feuil1!$C:$C<=DATEVALUE("30/04/2017"))*(Feuil1!$A:$A=$A24)*Feuil1!$I:$I)) -> 0 | L24: =SUMPRODUCT((Feuil1!$C:$C>=DATEVALUE("01/05/2017"))*((Feuil1!$C:$C<=DATEVALUE("31/05/2017"))*(Feuil1!$A:$A=$A24)*Feuil1!$I:$I)) -> 0 | M24: =SUMPRODUCT((Feuil1!$C:$C>=DATEVALUE("01/06/2017"))*((Feuil1!$C:$C<=DATEVALUE("30/06/2017"))*(Feuil1!$A:$A=$A24)*Feuil1!$I:$I)) -> 0 | N24: =SUMPRODUCT((Feuil1!$C:$C>=DATEVALUE("01/07/2017"))*((Feuil1!$C:$C<=DATEVALUE("31/07/2017"))*(Feuil1!$A:$A=$A24)*Feuil1!$I:$I)) -> 195 | O24: =SUMPRODUCT((Feuil1!$C:$C>=DATEVALUE("01/08/2017"))*((Feuil1!$C:$C<=DATEVALUE("31/08/2017"))*(Feuil1!$A:$A=$A24)*Feuil1!$I:$I)) -> 0
A25: 708250 | B25: Tournoi Trophée Chatrier | D25: =SUMPRODUCT((Feuil1!$C:$C>=DATEVALUE("01/09/2016"))*((Feuil1!$C:$C<=DATEVALUE("30/09/2016"))*(Feuil1!$A:$A=$A25)*Feuil1!$I:$I)) -> 0 | E25: =SUMPRODUCT((Feuil1!$C:$C>=DATEVALUE("01/10/2016"))*((Feuil1!$C:$C<=DATEVALUE("31/10/2016"))*(Feuil1!$A:$A=$A25)*Feuil1!$I:$I)) -> 0 | F25: =SUMPRODUCT((Feuil1!$C:$C>=DATEVALUE("01/11/2016"))*((Feuil1!$C:$C<=DATEVALUE("30/11/2016"))*(Feuil1!$A:$A=$A25)*Feuil1!$I:$I)) -> 0 | G25: =SUMPRODUCT((Feuil1!$C:$C>=DATEVALUE("01/12/2016"))*((Feuil1!$C:$C<=DATEVALUE("31/12/2016"))*(Feuil1!$A:$A=$A25)*Feuil1!$I:$I)) -> 1026 | H25: =SUMPRODUCT((Feuil1!$C:$C>=DATEVALUE("01/01/2017"))*((Feuil1!$C:$C<=DATEVALUE("31/01/2017"))*(Feuil1!$A:$A=$A25)*Feuil1!$I:$I)) -> 0 | I25: =SUMPRODUCT((Feuil1!$C:$C>=DATEVALUE("01/02/2017"))*((Feuil1!$C:$C<=DATEVALUE("28/02/2017"))*(Feuil1!$A:$A=$A25)*Feuil1!$I:$I)) -> 0 | J25: =SUMPRODUCT((Feuil1!$C:$C>=DATEVALUE("01/03/2017"))*((Feuil1!$C:$C<=DATEVALUE("31/03/2017"))*(Feuil1!$A:$A=$A25)*Feuil1!$I:$I)) -> 0 | K25: =SUMPRODUCT((Feuil1!$C:$C>=DATEVALUE("01/04/2017"))*((Feuil1!$C:$C<=DATEVALUE("30/04/2017"))*(Feuil1!$A:$A=$A25)*Feuil1!$I:$I)) -> 0 | L25: =SUMPRODUCT((Feuil1!$C:$C>=DATEVALUE("01/05/2017"))*((Feuil1!$C:$C<=DATEVALUE("31/05/2017"))*(Feuil1!$A:$A=$A25)*Feuil1!$I:$I)) -> 0 | M25: =SUMPRODUCT((Feuil1!$C:$C>=DATEVALUE("01/06/2017"))*((Feuil1!$C:$C<=DATEVALUE("30/06/2017"))*(Feuil1!$A:$A=$A25)*Feuil1!$I:$I)) -> 0 | N25: =SUMPRODUCT((Feuil1!$C:$C>=DATEVALUE("01/07/2017"))*((Feuil1!$C:$C<=DATEVALUE("31/07/2017"))*(Feuil1!$A:$A=$A25)*Feuil1!$I:$I)) -> 0 | O25: =SUMPRODUCT((Feuil1!$C:$C>=DATEVALUE("01/08/2017"))*((Feuil1!$C:$C<=DATEVALUE("31/08/2017"))*(Feuil1!$A:$A=$A25)*Feuil1!$I:$I)) -> 0
A27: tournois et matches | D27: =SUM(D20:D26) -> 0 | E27: =SUM(E20:E26) -> 0 | F27: =SUM(F20:F26) -> 0 | G27: =SUM(G20:G26) -> 1026 | H27: =SUM(H20:H26) -> 0 | I27: =SUM(I20:I26) -> 127 | J27: =SUM(J20:J26) -> 0 | K27: =SUM(K20:K26) -> 0 | ... O27: =SUM(O20:O26) -> 3048
A29: 708100 | B29: Animation du Club | D29: =SUMPRODUCT((Feuil1!$C:$C>=DATEVALUE("01/09/2016"))*((Feuil1!$C:$C<=DATEVALUE("30/09/2016"))*(Feuil1!$A:$A=$A29)*Feuil1!$I:$I)) -> 0 | E29: =SUMPRODUCT((Feuil1!$C:$C>=DATEVALUE("01/10/2016"))*((Feuil1!$C:$C<=DATEVALUE("31/10/2016"))*(Feuil1!$A:$A=$A29)*Feuil1!$I:$I)) -> 0 | F29: =SUMPRODUCT((Feuil1!$C:$C>=DATEVALUE("01/11/2016"))*((Feuil1!$C:$C<=DATEVALUE("30/11/2016"))*(Feuil1!$A:$A=$A29)*Feuil1!$I:$I)) -> 0 | G29: =SUMPRODUCT((Feuil1!$C:$C>=DATEVALUE("01/12/2016"))*((Feuil1!$C:$C<=DATEVALUE("31/12/2016"))*(Feuil1!$A:$A=$A29)*Feuil1!$I:$I)) -> 0 | H29: =SUMPRODUCT((Feuil1!$C:$C>=DATEVALUE("01/01/2017"))*((Feuil1!$C:$C<=DATEVALUE("31/01/2017"))*(Feuil1!$A:$A=$A29)*Feuil1!$I:$I)) -> 0 | I29: =SUMPRODUCT((Feuil1!$C:$C>=DATEVALUE("01/02/2017"))*((Feuil1!$C:$C<=DATEVALUE("28/02/2017"))*(Feuil1!$A:$A=$A29)*Feuil1!$I:$I)) -> 0 | J29: =SUMPRODUCT((Feuil1!$C:$C>=DATEVALUE("01/03/2017"))*((Feuil1!$C:$C<=DATEVALUE("31/03/2017"))*(Feuil1!$A:$A=$A29)*Feuil1!$I:$I)) -> 0 | K29: =SUMPRODUCT((Feuil1!$C:$C>=DATEVALUE("01/04/2017"))*((Feuil1!$C:$C<=DATEVALUE("30/04/2017"))*(Feuil1!$A:$A=$A29)*Feuil1!$I:$I)) -> 0 | L29: =SUMPRODUCT((Feuil1!$C:$C>=DATEVALUE("01/05/2017"))*((Feuil1!$C:$C<=DATEVALUE("31/05/2017"))*(Feuil1!$A:$A=$A29)*Feuil1!$I:$I)) -> 0 | M29: =SUMPRODUCT((Feuil1!$C:$C>=DATEVALUE("01/06/2017"))*((Feuil1!$C:$C<=DATEVALUE("30/06/2017"))*(Feuil1!$A:$A=$A29)*Feuil1!$I:$I)) -> 0 | N29: =SUMPRODUCT((Feuil1!$C:$C>=DATEVALUE("01/07/2017"))*((Feuil1!$C:$C<=DATEVALUE("31/07/2017"))*(Feuil1!$A:$A=$A29)*Feuil1!$I:$I)) -> 0 | O29: =SUMPRODUCT((Feuil1!$C:$C>=DATEVALUE("01/08/2017"))*((Feuil1!$C:$C<=DATEVALUE("31/08/2017"))*(Feuil1!$A:$A=$A29)*Feuil1!$I:$I)) -> 0
A30: 708110 | B30: Soirée Gala | D30: =SUMPRODUCT((Feuil1!$C:$C>=DATEVALUE("01/09/2016"))*((Feuil1!$C:$C<=DATEVALUE("30/09/2016"))*(Feuil1!$A:$A=$A30)*Feuil1!$I:$I)) -> 0 | E30: =SUMPRODUCT((Feuil1!$C:$C>=DATEVALUE("01/10/2016"))*((Feuil1!$C:$C<=DATEVALUE("31/10/2016"))*(Feuil1!$A:$A=$A30)*Feuil1!$I:$I)) -> 0 | F30: =SUMPRODUCT((Feuil1!$C:$C>=DATEVALUE("01/11/2016"))*((Feuil1!$C:$C<=DATEVALUE("30/11/2016"))*(Feuil1!$A:$A=$A30)*Feuil1!$I:$I)) -> 2317 | G30: =SUMPRODUCT((Feuil1!$C:$C>=DATEVALUE("01/12/2016"))*((Feuil1!$C:$C<=DATEVALUE("31/12/2016"))*(Feuil1!$A:$A=$A30)*Feuil1!$I:$I)) -> 0 | H30: =SUMPRODUCT((Feuil1!$C:$C>=DATEVALUE("01/01/2017"))*((Feuil1!$C:$C<=DATEVALUE("31/01/2017"))*(Feuil1!$A:$A=$A30)*Feuil1!$I:$I)) -> 0 | I30: =SUMPRODUCT((Feuil1!$C:$C>=DATEVALUE("01/02/2017"))*((Feuil1!$C:$C<=DATEVALUE("28/02/2017"))*(Feuil1!$A:$A=$A30)*Feuil1!$I:$I)) -> 0 | J30: =SUMPRODUCT((Feuil1!$C:$C>=DATEVALUE("01/03/2017"))*((Feuil1!$C:$C<=DATEVALUE("31/03/2017"))*(Feuil1!$A:$A=$A30)*Feuil1!$I:$I)) -> 0 | K30: =SUMPRODUCT((Feuil1!$C:$C>=DATEVALUE("01/04/2017"))*((Feuil1!$C:$C<=DATEVALUE("30/04/2017"))*(Feuil1!$A:$A=$A30)*Feuil1!$I:$I)) -> 0 | L30: =SUMPRODUCT((Feuil1!$C:$C>=DATEVALUE("01/05/2017"))*((Feuil1!$C:$C<=DATEVALUE("31/05/2017"))*(Feuil1!$A:$A=$A30)*Feuil1!$I:$I)) -> 0 | M30: =SUMPRODUCT((Feuil1!$C:$C>=DATEVALUE("01/06/2017"))*((Feuil1!$C:$C<=DATEVALUE("30/06/2017"))*(Feuil1!$A:$A=$A30)*Feuil1!$I:$I)) -> 0 | N30: =SUMPRODUCT((Feuil1!$C:$C>=DATEVALUE("01/07/2017"))*((Feuil1!$C:$C<=DATEVALUE("31/07/2017"))*(Feuil1!$A:$A=$A30)*Feuil1!$I:$I)) -> 0 | O30: =SUMPRODUCT((Feuil1!$C:$C>=DATEVALUE("01/08/2017"))*((Feuil1!$C:$C<=DATEVALUE("31/08/2017"))*(Feuil1!$A:$A=$A30)*Feuil1!$I:$I)) -> 0
A31: 708120 | B31: Soirée diverse (Bowling…) | D31: =SUMPRODUCT((Feuil1!$C:$C>=DATEVALUE("01/09/2016"))*((Feuil1!$C:$C<=DATEVALUE("30/09/2016"))*(Feuil1!$A:$A=$A31)*Feuil1!$I:$I)) -> 0 | E31: =SUMPRODUCT((Feuil1!$C:$C>=DATEVALUE("01/10/2016"))*((Feuil1!$C:$C<=DATEVALUE("31/10/2016"))*(Feuil1!$A:$A=$A31)*Feuil1!$I:$I)) -> 0 | F31: =SUMPRODUCT((Feuil1!$C:$C>=DATEVALUE("01/11/2016"))*((Feuil1!$C:$C<=DATEVALUE("30/11/2016"))*(Feuil1!$A:$A=$A31)*Feuil1!$I:$I)) -> 0 | G31: =SUMPRODUCT((Feuil1!$C:$C>=DATEVALUE("01/12/2016"))*((Feuil1!$C:$C<=DATEVALUE("31/12/2016"))*(Feuil1!$A:$A=$A31)*Feuil1!$I:$I)) -> 0 | H31: =SUMPRODUCT((Feuil1!$C:$C>=DATEVALUE("01/01/2017"))*((Feuil1!$C:$C<=DATEVALUE("31/01/2017"))*(Feuil1!$A:$A=$A31)*Feuil1!$I:$I)) -> 0 | I31: =SUMPRODUCT((Feuil1!$C:$C>=DATEVALUE("01/02/2017"))*((Feuil1!$C:$C<=DATEVALUE("28/02/2017"))*(Feuil1!$A:$A=$A31)*Feuil1!$I:$I)) -> 0 | J31: =SUMPRODUCT((Feuil1!$C:$C>=DATEVALUE("01/03/2017"))*((Feuil1!$C:$C<=DATEVALUE("31/03/2017"))*(Feuil1!$A:$A=$A31)*Feuil1!$I:$I)) -> 0 | K31: =SUMPRODUCT((Feuil1!$C:$C>=DATEVALUE("01/04/2017"))*((Feuil1!$C:$C<=DATEVALUE("30/04/2017"))*(Feuil1!$A:$A=$A31)*Feuil1!$I:$I)) -> 0 | L31: =SUMPRODUCT((Feuil1!$C:$C>=DATEVALUE("01/05/2017"))*((Feuil1!$C:$C<=DATEVALUE("31/05/2017"))*(Feuil1!$A:$A=$A31)*Feuil1!$I:$I)) -> 0 | M31: =SUMPRODUCT((Feuil1!$C:$C>=DATEVALUE("01/06/2017"))*((Feuil1!$C:$C<=DATEVALUE("30/06/2017"))*(Feuil1!$A:$A=$A31)*Feuil1!$I:$I)) -> 0 | N31: =SUMPRODUCT((Feuil1!$C:$C>=DATEVALUE("01/07/2017"))*((Feuil1!$C:$C<=DATEVALUE("31/07/2017"))*(Feuil1!$A:$A=$A31)*Feuil1!$I:$I)) -> 0 | O31: =SUMPRODUCT((Feuil1!$C:$C>=DATEVALUE("01/08/2017"))*((Feuil1!$C:$C<=DATEVALUE("31/08/2017"))*(Feuil1!$A:$A=$A31)*Feuil1!$I:$I)) -> 0
A32: 708130 | B32: Jeux divers au sein du club | D32: =SUMPRODUCT((Feuil1!$C:$C>=DATEVALUE("01/09/2016"))*((Feuil1!$C:$C<=DATEVALUE("30/09/2016"))*(Feuil1!$A:$A=$A32)*Feuil1!$I:$I)) -> 0 | E32: =SUMPRODUCT((Feuil1!$C:$C>=DATEVALUE("01/10/2016"))*((Feuil1!$C:$C<=DATEVALUE("31/10/2016"))*(Feuil1!$A:$A=$A32)*Feuil1!$I:$I)) -> 0 | F32: =SUMPRODUCT((Feuil1!$C:$C>=DATEVALUE("01/11/2016"))*((Feuil1!$C:$C<=DATEVALUE("30/11/2016"))*(Feuil1!$A:$A=$A32)*Feuil1!$I:$I)) -> 0 | G32: =SUMPRODUCT((Feuil1!$C:$C>=DATEVALUE("01/12/2016"))*((Feuil1!$C:$C<=DATEVALUE("31/12/2016"))*(Feuil1!$A:$A=$A32)*Feuil1!$I:$I)) -> 0 | H32: =SUMPRODUCT((Feuil1!$C:$C>=DATEVALUE("01/01/2017"))*((Feuil1!$C:$C<=DATEVALUE("31/01/2017"))*(Feuil1!$A:$A=$A32)*Feuil1!$I:$I)) -> 0 | I32: =SUMPRODUCT((Feuil1!$C:$C>=DATEVALUE("01/02/2017"))*((Feuil1!$C:$C<=DATEVALUE("28/02/2017"))*(Feuil1!$A:$A=$A32)*Feuil1!$I:$I)) -> 0 | J32: =SUMPRODUCT((Feuil1!$C:$C>=DATEVALUE("01/03/2017"))*((Feuil1!$C:$C<=DATEVALUE("31/03/2017"))*(Feuil1!$A:$A=$A32)*Feuil1!$I:$I)) -> 0 | K32: =SUMPRODUCT((Feuil1!$C:$C>=DATEVALUE("01/04/2017"))*((Feuil1!$C:$C<=DATEVALUE("30/04/2017"))*(Feuil1!$A:$A=$A32)*Feuil1!$I:$I)) -> 0 | L32: =SUMPRODUCT((Feuil1!$C:$C>=DATEVALUE("01/05/2017"))*((Feuil1!$C:$C<=DATEVALUE("31/05/2017"))*(Feuil1!$A:$A=$A32)*Feuil1!$I:$I)) -> 0 | M32: =SUMPRODUCT((Feuil1!$C:$C>=DATEVALUE("01/06/2017"))*((Feuil1!$C:$C<=DATEVALUE("30/06/2017"))*(Feuil1!$A:$A=$A32)*Feuil1!$I:$I)) -> 0 | N32: =SUMPRODUCT((Feuil1!$C:$C>=DATEVALUE("01/07/2017"))*((Feuil1!$C:$C<=DATEVALUE("31/07/2017"))*(Feuil1!$A:$A=$A32)*Feuil1!$I:$I)) -> 0 | O32: =SUMPRODUCT((Feuil1!$C:$C>=DATEVALUE("01/08/2017"))*((Feuil1!$C:$C<=DATEVALUE("31/08/2017"))*(Feuil1!$A:$A=$A32)*Feuil1!$I:$I)) -> 0
A33: 708140 | B33: Fête école de tennis | D33: =SUMPRODUCT((Feuil1!$C:$C>=DATEVALUE("01/09/2016"))*((Feuil1!$C:$C<=DATEVALUE("30/09/2016"))*(Feuil1!$A:$A=$A33)*Feuil1!$I:$I)) -> 0 | E33: =SUMPRODUCT((Feuil1!$C:$C>=DATEVALUE("01/10/2016"))*((Feuil1!$C:$C<=DATEVALUE("31/10/2016"))*(Feuil1!$A:$A=$A33)*Feuil1!$I:$I)) -> 0 | F33: =SUMPRODUCT((Feuil1!$C:$C>=DATEVALUE("01/11/2016"))*((Feuil1!$C:$C<=DATEVALUE("30/11/2016"))*(Feuil1!$A:$A=$A33)*Feuil1!$I:$I)) -> 0 | G33: =SUMPRODUCT((Feuil1!$C:$C>=DATEVALUE("01/12/2016"))*((Feuil1!$C:$C<=DATEVALUE("31/12/2016"))*(Feuil1!$A:$A=$A33)*Feuil1!$I:$I)) -> 0 | H33: =SUMPRODUCT((Feuil1!$C:$C>=DATEVALUE("01/01/2017"))*((Feuil1!$C:$C<=DATEVALUE("31/01/2017"))*(Feuil1!$A:$A=$A33)*Feuil1!$I:$I)) -> 0 | I33: =SUMPRODUCT((Feuil1!$C:$C>=DATEVALUE("01/02/2017"))*((Feuil1!$C:$C<=DATEVALUE("28/02/2017"))*(Feuil1!$A:$A=$A33)*Feuil1!$I:$I)) -> 0 | J33: =SUMPRODUCT((Feuil1!$C:$C>=DATEVALUE("01/03/2017"))*((Feuil1!$C:$C<=DATEVALUE("31/03/2017"))*(Feuil1!$A:$A=$A33)*Feuil1!$I:$I)) -> 0 | K33: =SUMPRODUCT((Feuil1!$C:$C>=DATEVALUE("01/04/2017"))*((Feuil1!$C:$C<=DATEVALUE("30/04/2017"))*(Feuil1!$A:$A=$A33)*Feuil1!$I:$I)) -> 0 | L33: =SUMPRODUCT((Feuil1!$C:$C>=DATEVALUE("01/05/2017"))*((Feuil1!$C:$C<=DATEVALUE("31/05/2017"))*(Feuil1!$A:$A=$A33)*Feuil1!$I:$I)) -> 0 | M33: =SUMPRODUCT((Feuil1!$C:$C>=DATEVALUE("01/06/2017"))*((Feuil1!$C:$C<=DATEVALUE("30/06/2017"))*(Feuil1!$A:$A=$A33)*Feuil1!$I:$I)) -> 0 | N33: =SUMPRODUCT((Feuil1!$C:$C>=DATEVALUE("01/07/2017"))*((Feuil1!$C:$C<=DATEVALUE("31/07/2017"))*(Feuil1!$A:$A=$A33)*Feuil1!$I:$I)) -> 399 | O33: =SUMPRODUCT((Feuil1!$C:$C>=DATEVALUE("01/08/2017"))*((Feuil1!$C:$C<=DATEVALUE("31/08/2017"))*(Feuil1!$A:$A=$A33)*Feuil1!$I:$I)) -> 0
A34: 708150 | B34: Soirée Equipes | D34: =SUMPRODUCT((Feuil1!$C:$C>=DATEVALUE("01/09/2016"))*((Feuil1!$C:$C<=DATEVALUE("30/09/2016"))*(Feuil1!$A:$A=$A34)*Feuil1!$I:$I)) -> 0 | E34: =SUMPRODUCT((Feuil1!$C:$C>=DATEVALUE("01/10/2016"))*((Feuil1!$C:$C<=DATEVALUE("31/10/2016"))*(Feuil1!$A:$A=$A34)*Feuil1!$I:$I)) -> 0 | F34: =SUMPRODUCT((Feuil1!$C:$C>=DATEVALUE("01/11/2016"))*((Feuil1!$C:$C<=DATEVALUE("30/11/2016"))*(Feuil1!$A:$A=$A34)*Feuil1!$I:$I)) -> 0 | G34: =SUMPRODUCT((Feuil1!$C:$C>=DATEVALUE("01/12/2016"))*((Feuil1!$C:$C<=DATEVALUE("31/12/2016"))*(Feuil1!$A:$A=$A34)*Feuil1!$I:$I)) -> 0 | H34: =SUMPRODUCT((Feuil1!$C:$C>=DATEVALUE("01/01/2017"))*((Feuil1!$C:$C<=DATEVALUE("31/01/2017"))*(Feuil1!$A:$A=$A34)*Feuil1!$I:$I)) -> 0 | I34: =SUMPRODUCT((Feuil1!$C:$C>=DATEVALUE("01/02/2017"))*((Feuil1!$C:$C<=DATEVALUE("28/02/2017"))*(Feuil1!$A:$A=$A34)*Feuil1!$I:$I)) -> 0 | J34: =SUMPRODUCT((Feuil1!$C:$C>=DATEVALUE("01/03/2017"))*((Feuil1!$C:$C<=DATEVALUE("31/03/2017"))*(Feuil1!$A:$A=$A34)*Feuil1!$I:$I)) -> 0 | K34: =SUMPRODUCT((Feuil1!$C:$C>=DATEVALUE("01/04/2017"))*((Feuil1!$C:$C<=DATEVALUE("30/04/2017"))*(Feuil1!$A:$A=$A34)*Feuil1!$I:$I)) -> 0 | L34: =SUMPRODUCT((Feuil1!$C:$C>=DATEVALUE("01/05/2017"))*((Feuil1!$C:$C<=DATEVALUE("31/05/2017"))*(Feuil1!$A:$A=$A34)*Feuil1!$I:$I)) -> 0 | M34: =SUMPRODUCT((Feuil1!$C:$C>=DATEVALUE("01/06/2017"))*((Feuil1!$C:$C<=DATEVALUE("30/06/2017"))*(Feuil1!$A:$A=$A34)*Feuil1!$I:$I)) -> 1350 | N34: =SUMPRODUCT((Feuil1!$C:$C>=DATEVALUE("01/07/2017"))*((Feuil1!$C:$C<=DATEVALUE("31/07/2017"))*(Feuil1!$A:$A=$A34)*Feuil1!$I:$I)) -> 0 | O34: =SUMPRODUCT((Feuil1!$C:$C>=DATEVALUE("01/08/2017"))*((Feuil1!$C:$C<=DATEVALUE("31/08/2017"))*(Feuil1!$A:$A=$A34)*Feuil1!$I:$I)) -> 0
A36: animations | D36: =SUM(D29:D35) -> 0 | E36: =SUM(E29:E35) -> 0 | F36: =SUM(F29:F35) -> 2317 | G36: =SUM(G29:G35) -> 0 | H36: =SUM(H29:H35) -> 0 | I36: =SUM(I29:I35) -> 0 | J36: =SUM(J29:J35) -> 0 | K36: =SUM(K29:K35) -> 0 | ... O36: =SUM(O29:O35) -> 0
A38: 706110 | B38: Politique sportive (PS) | D38: =SUMPRODUCT((Feuil1!$C:$C>=DATEVALUE("01/09/2016"))*((Feuil1!$C:$C<=DATEVALUE("30/09/2016"))*(Feuil1!$A:$A=$A38)*Feuil1!$I:$I)) -> 0 | E38: =SUMPRODUCT((Feuil1!$C:$C>=DATEVALUE("01/10/2016"))*((Feuil1!$C:$C<=DATEVALUE("31/10/2016"))*(Feuil1!$A:$A=$A38)*Feuil1!$I:$I)) -> 0 | F38: =SUMPRODUCT((Feuil1!$C:$C>=DATEVALUE("01/11/2016"))*((Feuil1!$C:$C<=DATEVALUE("30/11/2016"))*(Feuil1!$A:$A=$A38)*Feuil1!$I:$I)) -> 0 | G38: =SUMPRODUCT((Feuil1!$C:$C>=DATEVALUE("01/12/2016"))*((Feuil1!$C:$C<=DATEVALUE("31/12/2016"))*(Feuil1!$A:$A=$A38)*Feuil1!$I:$I)) -> 0 | H38: =SUMPRODUCT((Feuil1!$C:$C>=DATEVALUE("01/01/2017"))*((Feuil1!$C:$C<=DATEVALUE("31/01/2017"))*(Feuil1!$A:$A=$A38)*Feuil1!$I:$I)) -> 0 | I38: =SUMPRODUCT((Feuil1!$C:$C>=DATEVALUE("01/02/2017"))*((Feuil1!$C:$C<=DATEVALUE("28/02/2017"))*(Feuil1!$A:$A=$A38)*Feuil1!$I:$I)) -> 0 | J38: =SUMPRODUCT((Feuil1!$C:$C>=DATEVALUE("01/03/2017"))*((Feuil1!$C:$C<=DATEVALUE("31/03/2017"))*(Feuil1!$A:$A=$A38)*Feuil1!$I:$I)) -> 0 | K38: =SUMPRODUCT((Feuil1!$C:$C>=DATEVALUE("01/04/2017"))*((Feuil1!$C:$C<=DATEVALUE("30/04/2017"))*(Feuil1!$A:$A=$A38)*Feuil1!$I:$I)) -> 0 | L38: =SUMPRODUCT((Feuil1!$C:$C>=DATEVALUE("01/05/2017"))*((Feuil1!$C:$C<=DATEVALUE("31/05/2017"))*(Feuil1!$A:$A=$A38)*Feuil1!$I:$I)) -> 0 | M38: =SUMPRODUCT((Feuil1!$C:$C>=DATEVALUE("01/06/2017"))*((Feuil1!$C:$C<=DATEVALUE("30/06/2017"))*(Feuil1!$A:$A=$A38)*Feuil1!$I:$I)) -> 0 | N38: =SUMPRODUCT((Feuil1!$C:$C>=DATEVALUE("01/07/2017"))*((Feuil1!$C:$C<=DATEVALUE("31/07/2017"))*(Feuil1!$A:$A=$A38)*Feuil1!$I:$I)) -> 0 | O38: =SUMPRODUCT((Feuil1!$C:$C>=DATEVALUE("01/08/2017"))*((Feuil1!$C:$C<=DATEVALUE("31/08/2017"))*(Feuil1!$A:$A=$A38)*Feuil1!$I:$I)) -> 0
A39: 740100 | B39: Subvention Mairie | D39: =SUMPRODUCT((Feuil1!$C:$C>=DATEVALUE("01/09/2016"))*((Feuil1!$C:$C<=DATEVALUE("30/09/2016"))*(Feuil1!$A:$A=$A39)*Feuil1!$I:$I)) -> 8000 | E39: =SUMPRODUCT((Feuil1!$C:$C>=DATEVALUE("01/10/2016"))*((Feuil1!$C:$C<=DATEVALUE("31/10/2016"))*(Feuil1!$A:$A=$A39)*Feuil1!$I:$I)) -> 0 | F39: =SUMPRODUCT((Feuil1!$C:$C>=DATEVALUE("01/11/2016"))*((Feuil1!$C:$C<=DATEVALUE("30/11/2016"))*(Feuil1!$A:$A=$A39)*Feuil1!$I:$I)) -> 0 | G39: =SUMPRODUCT((Feuil1!$C:$C>=DATEVALUE("01/12/2016"))*((Feuil1!$C:$C<=DATEVALUE("31/12/2016"))*(Feuil1!$A:$A=$A39)*Feuil1!$I:$I)) -> 0 | H39: =SUMPRODUCT((Feuil1!$C:$C>=DATEVALUE("01/01/2017"))*((Feuil1!$C:$C<=DATEVALUE("31/01/2017"))*(Feuil1!$A:$A=$A39)*Feuil1!$I:$I)) -> 0 | I39: =SUMPRODUCT((Feuil1!$C:$C>=DATEVALUE("01/02/2017"))*((Feuil1!$C:$C<=DATEVALUE("28/02/2017"))*(Feuil1!$A:$A=$A39)*Feuil1!$I:$I)) -> 0 | J39: =SUMPRODUCT((Feuil1!$C:$C>=DATEVALUE("01/03/2017"))*((Feuil1!$C:$C<=DATEVALUE("31/03/2017"))*(Feuil1!$A:$A=$A39)*Feuil1!$I:$I)) -> 0 | K39: =SUMPRODUCT((Feuil1!$C:$C>=DATEVALUE("01/04/2017"))*((Feuil1!$C:$C<=DATEVALUE("30/04/2017"))*(Feuil1!$A:$A=$A39)*Feuil1!$I:$I)) -> 0 | L39: =SUMPRODUCT((Feuil1!$C:$C>=DATEVALUE("01/05/2017"))*((Feuil1!$C:$C<=DATEVALUE("31/05/2017"))*(Feuil1!$A:$A=$A39)*Feuil1!$I:$I)) -> 8000 | M39: =SUMPRODUCT((Feuil1!$C:$C>=DATEVALUE("01/06/2017"))*((Feuil1!$C:$C<=DATEVALUE("30/06/2017"))*(Feuil1!$A:$A=$A39)*Feuil1!$I:$I)) -> 0 | N39: =SUMPRODUCT((Feuil1!$C:$C>=DATEVALUE("01/07/2017"))*((Feuil1!$C:$C<=DATEVALUE("31/07/2017"))*(Feuil1!$A:$A=$A39)*Feuil1!$I:$I)) -> 0 | O39: =SUMPRODUCT((Feuil1!$C:$C>=DATEVALUE("01/08/2017"))*((Feuil1!$C:$C<=DATEVALUE("31/08/2017"))*(Feuil1!$A:$A=$A39)*Feuil1!$I:$I)) -> 0
