Workbook

Sheet Listing Macro
A1: Application.Calculation = xlManual | G1: tout | H1: oui | I1: =+A1 -> Application.Calculation = xlManual
G2: tout | H2: oui | I2: Workbooks.Open Filename:="K:\DIDIER D\Modele cadrage DD.xlsx"
G3: tout | H3: oui | I3: Windows("CADTVA.xlsm").Activate | L3: Mets ici tes initiales pour reconnaitre tes fichiers de cadrages
A4: Sheets("CA par taux").Select | G4: =+LISTE!$A$3 -> 427 | H4: =+VLOOKUP(G:G,LISTE!$A:$CY,26,0) -> 0 | I4: =+A4 -> Sheets("CA par taux").Select | L4: DD | M4: =+VLOOKUP(TVA!B4,'Listing Macro'!$N$4:$Q$15,2,0) -> 06 | N4: JANVIER | O4: 01
A5: Rows("5401:5450").Select | G5: =+G4 -> 427 | H5: =+VLOOKUP(G:G,[1]LISTE!$A:$BZ,26,0) -> non | I5: =+LEFT(A5,10)&VLOOKUP(G:G,LISTE!$A:$BG,28,0)&":"&VLOOKUP(G:G,LISTE!$A:$BG,29,0)&RIGHT(A5,9) -> Rows("4:184").Select | N5: FEVRIER | O5: 02
G6: =+G5 -> 427 | H6: =+VLOOKUP(G:G,[1]LISTE!$A:$BZ,26,0) -> non | I6: Selection.Copy | N6: MARS | O6: 03
G7: =+G6 -> 427 | H7: =+VLOOKUP(G:G,[1]LISTE!$A:$BZ,26,0) -> non | I7: Windows("Modele cadrage DD.xlsx").Activate | N7: AVRIL | O7: 04
A8: Sheets("CA par taux").Select | G8: =+G7 -> 427 | H8: =+VLOOKUP(G:G,[1]LISTE!$A:$BZ,26,0) -> non | I8: =+I4 -> Sheets("CA par taux").Select | N8: MAI | O8: 05
G9: =+G8 -> 427 | H9: =+VLOOKUP(G:G,[1]LISTE!$A:$BZ,26,0) -> non | I9: Range("A4").PasteSpecial Paste:=xlPasteValues | N9: JUIN | O9: 06
G10: =+G9 -> 427 | H10: =+VLOOKUP(G:G,[1]LISTE!$A:$BZ,26,0) -> non | I10: Windows("Calcul Cadrages TVA DidierD 06 v3.xlsm").Activate | N10: JUILLET | O10: 07
A11: Sheets("HA intraco par taux").Select | G11: =+G10 -> 427 | H11: =+VLOOKUP(G:G,[1]LISTE!$A:$BZ,26,0) -> non | I11: =+A11 -> Sheets("HA intraco par taux").Select | N11: AOUT | O11: 08
A12: Rows("5401:5450").Select | G12: =+G11 -> 427 | H12: =+VLOOKUP(G:G,[1]LISTE!$A:$BZ,26,0) -> non | I12: =+LEFT(A12,10)&VLOOKUP(G:G,LISTE!$A:$BG,30,0)&":"&VLOOKUP(G:G,LISTE!$A:$BG,31,0)&RIGHT(A12,9) -> Rows("4:124").Select | N12: SEPTEMBRE | O12: 09
G13: =+G12 -> 427 | H13: =+VLOOKUP(G:G,[1]LISTE!$A:$BZ,26,0) -> non | I13: Selection.Copy | N13: OCTOBRE | O13: 10
G14: =+G13 -> 427 | H14: =+VLOOKUP(G:G,[1]LISTE!$A:$BZ,26,0) -> non | I14: Windows("Modele cadrage DD.xlsx").Activate | N14: NOVEMBRE | O14: 11
A15: Sheets("CA par taux").Select | G15: =+G14 -> 427 | H15: =+VLOOKUP(G:G,[1]LISTE!$A:$BZ,26,0) -> non | I15: =+I11 -> Sheets("HA intraco par taux").Select | N15: DECEMBRE | O15: 12
G16: =+G15 -> 427 | H16: =+VLOOKUP(G:G,[1]LISTE!$A:$BZ,26,0) -> non | I16: Range("A4").PasteSpecial Paste:=xlPasteValues
G17: =+G16 -> 427 | H17: =+VLOOKUP(G:G,[1]LISTE!$A:$BZ,26,0) -> non | I17: Windows("Calcul Cadrages TVA DidierD 06 v3.xlsm").Activate
A18: Rows("5401:5450").Select | G18: =+G17 -> 427 | H18: =+VLOOKUP(G:G,[1]LISTE!$A:$BZ,26,0) -> non | I18: =+A41 -> Sheets("COMPTA").Select
A19: Rows("5401:5450").Select | G19: =+G18 -> 427 | H19: =+VLOOKUP(G:G,[1]LISTE!$A:$BZ,26,0) -> non | I19: =+LEFT(A19,10)&VLOOKUP(G:G,LISTE!$A:$BG,32,0)&":"&VLOOKUP(G:G,LISTE!$A:$BG,33,0)&RIGHT(A19,9) -> Rows("10:194").Select
G20: =+G19 -> 427 | H20: =+VLOOKUP(G:G,[1]LISTE!$A:$BZ,26,0) -> non | I20: Selection.Copy
A21: Sheets("CA par taux").Select | G21: =+G20 -> 427 | H21: =+VLOOKUP(G:G,[1]LISTE!$A:$BZ,26,0) -> non | I21: Windows("Modele cadrage DD.xlsx").Activate
G22: =+G21 -> 427 | H22: =+VLOOKUP(G:G,[1]LISTE!$A:$BZ,26,0) -> non | I22: =+I18 -> Sheets("COMPTA").Select
G23: =+G22 -> 427 | H23: =+VLOOKUP(G:G,[1]LISTE!$A:$BZ,26,0) -> non | I23: Range("A10").PasteSpecial Paste:=xlPasteValues
A24: Sheets("CA3").Select | G24: =+G23 -> 427 | H24: =+VLOOKUP(G:G,[1]LISTE!$A:$BZ,26,0) -> non | I24: Windows("Calcul Cadrages TVA DidierD 06 v3.xlsm").Activate
A25: Rows("5401:5450").Select | G25: =+G24 -> 427 | H25: =+VLOOKUP(G:G,[1]LISTE!$A:$BZ,26,0) -> non | I25: =+A24 -> Sheets("CA3").Select
A26: Rows("5401:5450").Select | G26: =+G25 -> 427 | H26: =+VLOOKUP(G:G,[1]LISTE!$A:$BZ,26,0) -> non | I26: =+LEFT(A26,10)&VLOOKUP(G:G,LISTE!$A:$BY,34,0)&":"&VLOOKUP(G:G,LISTE!$A:$BY,35,0)&RIGHT(A26,9) -> Rows("2:52").Select
G27: =+G26 -> 427 | H27: =+VLOOKUP(G:G,[1]LISTE!$A:$BZ,26,0) -> non | I27: Selection.Copy
A28: Sheets("CA par taux").Select | G28: =+G27 -> 427 | H28: =+VLOOKUP(G:G,[1]LISTE!$A:$BZ,26,0) -> non | I28: Windows("Modele cadrage DD.xlsx").Activate
G29: =+G28 -> 427 | H29: =+VLOOKUP(G:G,[1]LISTE!$A:$BZ,26,0) -> non | I29: =+I25 -> Sheets("CA3").Select
G30: =+G29 -> 427 | H30: =+VLOOKUP(G:G,[1]LISTE!$A:$BZ,26,0) -> non | I30: Range("A2").PasteSpecial Paste:=xlPasteValues
A31: Sheets("CA3").Select | G31: =+G30 -> 427 | H31: =+VLOOKUP(G:G,[1]LISTE!$A:$BZ,26,0) -> non | I31: Windows("Calcul Cadrages TVA DidierD 06 v3.xlsm").Activate
A32: Sheets("TVA OPTIM").Select | G32: =+G31 -> 427 | H32: =+VLOOKUP(G:G,[1]LISTE!$A:$BZ,26,0) -> non | I32: =+A32 -> Sheets("TVA OPTIM").Select
A33: ActiveCell.FormulaR1C1 = "F77" | G33: =+G32 -> 427 | H33: =+VLOOKUP(G:G,[1]LISTE!$A:$BZ,26,0) -> non | I33: =+LEFT(A33,30)&G33&RIGHT(A33,1) -> ActiveCell.FormulaR1C1 = "427"
G34: =+G33 -> 427 | H34: =+VLOOKUP(G:G,[1]LISTE!$A:$BZ,26,0) -> non | I34: ActiveSheet.Calculate
G35: =+G34 -> 427 | H35: =+VLOOKUP(G:G,[1]LISTE!$A:$BZ,26,0) -> non | I35: Range("A1:N48").Select
G36: =+G35 -> 427 | H36: =+VLOOKUP(G:G,[1]LISTE!$A:$BZ,26,0) -> non | I36: Application.CutCopyMode = False
G37: =+G36 -> 427 | H37: =+VLOOKUP(G:G,[1]LISTE!$A:$BZ,26,0) -> non | I37: Selection.Copy
G38: =+G37 -> 427 | H38: =+VLOOKUP(G:G,[1]LISTE!$A:$BZ,26,0) -> non | I38: Windows("Modele cadrage DD.xlsx").Activate
A39: Sheets("CA par taux").Select | G39: =+G38 -> 427 | H39: =+VLOOKUP(G:G,[1]LISTE!$A:$BZ,26,0) -> non | I39: =+I32 -> Sheets("TVA OPTIM").Select
G40: =+G39 -> 427 | H40: =+VLOOKUP(G:G,[1]LISTE!$A:$BZ,26,0) -> non | I40: Range("A1").PasteSpecial Paste:=xlPasteValues
...

Sheet LISTE
AB1: Lignes Cadrages
AA2: TVA A FAIRE | AB2: CA par taux | AD2: HA Intraco | AF2: Compta | AH2: CA3
A3: 427 | AA3: =+VLOOKUP(A:A,[1]CA3!B:BE,56,0) -> non | AB3: 4 | AC3: =+AB3+180 -> 184 | AD3: =+AB3 -> 4 | AE3: =+AD3+120 -> 124 | AF3: 10 | AG3: =+AF3+184 -> 194 | AH3: 2 | AI3: =+AH3+50 -> 52
A4: K32 | AA4: =+VLOOKUP(A:A,[1]CA3!B:BE,56,0) -> oui | AB4: 201 | AC4: =+AB4+180 -> 381 | AD4: =+AB4 -> 201 | AE4: =+AD4+120 -> 321 | AF4: =+AD4 -> 201 | AG4: =+AF4+184 -> 385 | AH4: =+AB4 -> 201 | AI4: =+AH4+50 -> 251
A5: K46 | AA5: =+VLOOKUP(A:A,[1]CA3!B:BE,56,0) -> non | AB5: 401 | AC5: =+AB5+180 -> 581 | AD5: =+AB5 -> 401 | AE5: =+AD5+120 -> 521 | AF5: =+AD5 -> 401 | AG5: =+AF5+184 -> 585 | AH5: =+AB5 -> 401 | AI5: =+AH5+50 -> 451
A6: K49 | AA6: =+VLOOKUP(A:A,[1]CA3!B:BE,56,0) -> oui | AB6: 601 | AC6: =+AB6+180 -> 781 | AD6: =+AB6 -> 601 | AE6: =+AD6+120 -> 721 | AF6: =+AD6 -> 601 | AG6: =+AF6+184 -> 785 | AH6: =+AB6 -> 601 | AI6: =+AH6+50 -> 651
A7: K50 | AA7: =+VLOOKUP(A:A,[1]CA3!B:BE,56,0) -> oui | AB7: 801 | AC7: =+AB7+180 -> 981 | AD7: =+AB7 -> 801 | AE7: =+AD7+120 -> 921 | AF7: =+AD7 -> 801 | AG7: =+AF7+184 -> 985 | AH7: =+AB7 -> 801 | AI7: =+AH7+50 -> 851
A8: K54 | AA8: =+VLOOKUP(A:A,[1]CA3!B:BE,56,0) -> oui | AB8: 1001 | AC8: =+AB8+180 -> 1181 | AD8: =+AB8 -> 1001 | AE8: =+AD8+120 -> 1121 | AF8: =+AD8 -> 1001 | AG8: =+AF8+184 -> 1185 | AH8: =+AB8 -> 1001 | AI8: =+AH8+50 -> 1051
A9: K55 | AA9: =+VLOOKUP(A:A,[1]CA3!B:BE,56,0) -> oui | AB9: 1201 | AC9: =+AB9+180 -> 1381 | AD9: =+AB9 -> 1201 | AE9: =+AD9+120 -> 1321 | AF9: =+AD9 -> 1201 | AG9: =+AF9+184 -> 1385 | AH9: =+AB9 -> 1201 | AI9: =+AH9+50 -> 1251
A10: K57 | AA10: =+VLOOKUP(A:A,[1]CA3!B:BE,56,0) -> oui | AB10: 1401 | AC10: =+AB10+180 -> 1581 | AD10: =+AB10 -> 1401 | AE10: =+AD10+120 -> 1521 | AF10: =+AD10 -> 1401 | AG10: =+AF10+184 -> 1585 | AH10: =+AB10 -> 1401 | AI10: =+AH10+50 -> 1451
A11: K60 | AA11: =+VLOOKUP(A:A,[1]CA3!B:BE,56,0) -> oui | AB11: 1601 | AC11: =+AB11+180 -> 1781 | AD11: =+AB11 -> 1601 | AE11: =+AD11+120 -> 1721 | AF11: =+AD11 -> 1601 | AG11: =+AF11+184 -> 1785 | AH11: =+AB11 -> 1601 | AI11: =+AH11+50 -> 1651
A12: L37 | AA12: =+VLOOKUP(A:A,[1]CA3!B:BE,56,0) -> non | AB12: 1801 | AC12: =+AB12+180 -> 1981 | AD12: =+AB12 -> 1801 | AE12: =+AD12+120 -> 1921 | AF12: =+AD12 -> 1801 | AG12: =+AF12+184 -> 1985 | AH12: =+AB12 -> 1801 | AI12: =+AH12+50 -> 1851
A13: L92 | AA13: =+VLOOKUP(A:A,[1]CA3!B:BE,56,0) -> oui | AB13: 2001 | AC13: =+AB13+180 -> 2181 | AD13: =+AB13 -> 2001 | AE13: =+AD13+120 -> 2121 | AF13: =+AD13 -> 2001 | AG13: =+AF13+184 -> 2185 | AH13: =+AB13 -> 2001 | AI13: =+AH13+50 -> 2051
A14: N21 | AA14: =+VLOOKUP(A:A,[1]CA3!B:BE,56,0) -> non | AB14: 2201 | AC14: =+AB14+180 -> 2381 | AD14: =+AB14 -> 2201 | AE14: =+AD14+120 -> 2321 | AF14: =+AD14 -> 2201 | AG14: =+AF14+184 -> 2385 | AH14: =+AB14 -> 2201 | AI14: =+AH14+50 -> 2251
A15: P28 | AA15: =+VLOOKUP(A:A,[1]CA3!B:BE,56,0) -> oui | AB15: 2401 | AC15: =+AB15+180 -> 2581 | AD15: =+AB15 -> 2401 | AE15: =+AD15+120 -> 2521 | AF15: =+AD15 -> 2401 | AG15: =+AF15+184 -> 2585 | AH15: =+AB15 -> 2401 | AI15: =+AH15+50 -> 2451
... A34: W01 | AA34: =+VLOOKUP(A:A,[1]CA3!B:BE,56,0) -> non | AB34: 6201 | AC34: =+AB34+180 -> 6381 | AD34: =+AB34 -> 6201 | AE34: =+AD34+120 -> 6321 | AF34: =+AD34 -> 6201 | AG34: =+AF34+184 -> 6385 | AH34: =+AB34 -> 6201 | AI34: =+AH34+50 -> 6251
A39: 427
A40: E60
A41: F77
A42: K32
A43: K46
A44: K49
A45: K50
A46: K54
A47: K55
A48: K57
A49: K60
A50: L37
... A70: Y34

Sheet CA3
A2: Cadrage TVA | B2: =[1]COMPTA!A10 -> 427 | C2: =+B2 -> 427
C3: =+C2 -> 427
C4: =+C3 -> 427
A5: Déclarations CA3 | B5: TOTAL C.A. H.T. | C5: =+C4 -> 427
C6: =+C5 -> 427
B7: n° de ligne | C7: =+C6 -> 427
C8: =+C7 -> 427
A9: JANVIER | C9: =+C8 -> 427
A10: FEVRIER | C10: =+C9 -> 427
A11: MARS | C11: =+C10 -> 427
A12: AVRIL | C12: =+C11 -> 427
A13: MAI | C13: =+C12 -> 427
A14: JUIN | C14: =+C13 -> 427
A15: JUILLET | C15: =+C14 -> 427
A16: AOUT | C16: =+C15 -> 427
A17: SEPTEMBRE | C17: =+C16 -> 427
A18: OCTOBRE | C18: =+C17 -> 427
A19: NOVEMBRE | C19: =+C18 -> 427
A20: DECEMBRE | C20: =+C19 -> 427
C21: =+C20 -> 427
A22: TOTAL
C23: =+C22 -> 0
A24: CA comptabilisé à déclarer | C24: =+C23 -> 0
A25: Achats intraco à déclarer | C25: =+C24 -> 0
C26: =+C25 -> 0
A27: =+CONCATENATE("Ecart ",C27) -> Ecart 0 | C27: =+C26 -> 0
C28: =+C27 -> 0
A29: diff compta jaune | C29: =+C28 -> 0
C30: =+C29 -> 0
A31: diff rouge | C31: =+C30 -> 0
C32: =+C31 -> 0
C33: =+C32 -> 0
C34: =+C33 -> 0
C35: =+C34 -> 0
C36: =+C35 -> 0
C37: =+C36 -> 0
C38: =+C37 -> 0
C39: =+C38 -> 0
C40: =+C39 -> 0
C41: =+C40 -> 0
...

Sheet COMPTA
C5: Total CA en compta (Balance)
A8: CODE SAP
B9: Libellé compte
A10: 427 | B10: VTES DECHETS | C10: 0
A11: 427 | B11: VTES DECHETS | C11: 0
A12: 427 | B12: PALETTE ET DECHETS | C12: 0
A13: 427 | B13: AUTRES PRESTATIONS | C13: 0
A14: 427 | B14: PREST. ADMINISTRATIV | C14: 0
A15: 427 | B15: PREST. ADMINISTRATIV | C15: 0
A16: 427 | B16: COUT VAR.PREST.LOG. | C16: 0
A17: 427 | B17: COUT VAR.PREST.LOG. | C17: 0
A18: 427 | B18: AUTR. REVENUS (FPLP) | C18: 0
A19: 427 | B19: SCI PREST. LOC. IMM. | C19: 0
A20: 427 | B20: SCI PREST. LOC. IMM. | C20: 0
A21: 427 | B21: VENTES MARCHANDISES | C21: 0
... A164: 427 | B164: TR.CH./RESTRUCTURAT. | C164: 0
A165: 427 | B165: 0 | C165: 0
A166: 427 | B166: 0 | C166: 0
A167: 427 | B167: 0 | C167: 0
A168: 427 | B168: 0 | C168: 0
A169: 427 | B169: 0 | C169: 0
A170: 427 | B170: 0 | C170: 0
A171: 427 | B171: 0 | C171: 0
A172: 427 | B172: 0 | C172: 0
A173: 427 | B173: 0 | C173: 0
A174: 427 | B174: 0 | C174: 0
A175: 427 | B175: 0 | C175: 0
A176: 427 | B176: 0 | C176: 0
... A179: 427 | B179: 0 | C179: 0
A180: 427
A181: 427
A182: 427 | B182: Total des comptes à déclarer
A183: 427
A184: 427
A185: 427 | C185: Ecart =
A186: 427 | C186: La Balance et le GL doivent être IDENTIQUES
A187: 427
A188: 427
A189: 427
A190: 427
...

Sheet HA intraco  par taux
B1: 2
B2: Code TVA
A4: =+'[1]CA par taux'!A4 -> 427 | B4: LOGICIELS
A5: =+'[1]CA par taux'!A5 -> 427 | B5: DROIT AU BAIL
A6: =+'[1]CA par taux'!A6 -> 427 | B6: FONDS DE COMMERCE
A7: =+'[1]CA par taux'!A4 -> 427 | B7: MAT.INDUST.COMMER.
A8: =+'[1]CA par taux'!A5 -> 427 | B8: I.A.A. FONC. DIVERS
A9: =+'[1]CA par taux'!A6 -> 427 | B9: I.A.A .DIV. TAXE PRO
A10: =+'[1]CA par taux'!A7 -> 427 | B10: MAT.INFORMATIQUE
A11: =+'[1]CA par taux'!A8 -> 427 | B11: MAT.MOB.BUREAU
A12: =+'[1]CA par taux'!A9 -> 427 | B12: ACOMPT. IMMOS CORPO.
A13: =+'[1]CA par taux'!A10 -> 427 | B13: ACOMPTES IMMO INCORP
A14: =+'[1]CA par taux'!A11 -> 427 | B14: ACH. MAT.CONSOMMABLE
A15: =+'[1]CA par taux'!A12 -> 427 | B15: ACHATS D'EMBALLAGES
A16: =+'[1]CA par taux'!A13 -> 427 | B16: VAR.STOCK MSES
A17: =+'[1]CA par taux'!A14 -> 427 | B17: STOCK MSES TRANSIT
A18: =+'[1]CA par taux'!A15 -> 427 | B18: VAR.STOCK ESSENCE
... A109: =+'[1]CA par taux'!A106 -> 427 | B109: PREST.SECURITE
A110: =+'[1]CA par taux'!A107 -> 427
A111: =+'[1]CA par taux'!A108 -> 427
A112: =+'[1]CA par taux'!A109 -> 427
A113: =+'[1]CA par taux'!A110 -> 427
A114: =+'[1]CA par taux'!A111 -> 427
A115: =+'[1]CA par taux'!A112 -> 427
A116: =+'[1]CA par taux'!A113 -> 427
A117: =+'[1]CA par taux'!A114 -> 427
A118: =+'[1]CA par taux'!A115 -> 427
A119: =+'[1]CA par taux'!A116 -> 427
A120: =+'[1]CA par taux'!A117 -> 427
A121: =+'[1]CA par taux'!A118 -> 427
... A200: =+'[1]CA par taux'!A197 -> 427
A201: =+'[1]CA par taux'!A201 -> K32 | B201: LOGICIELS
A202: =+'[1]CA par taux'!A202 -> K32 | B202: DROIT AU BAIL
A203: =+'[1]CA par taux'!A203 -> K32 | B203: FONDS DE COMMERCE
A204: =+'[1]CA par taux'!A204 -> K32 | B204: MAT.INDUST.COMMER.
A205: =+'[1]CA par taux'!A205 -> K32 | B205: I.A.A. FONC. DIVERS
A206: =+'[1]CA par taux'!A206 -> K32 | B206: I.A.A .DIV. TAXE PRO
A207: =+'[1]CA par taux'!A207 -> K32 | B207: MAT.INFORMATIQUE
A208: =+'[1]CA par taux'!A208 -> K32 | B208: MAT.MOB.BUREAU
A209: =+'[1]CA par taux'!A209 -> K32 | B209: ACOMPT. IMMOS CORPO.
...

Sheet CA par taux
B1: 3
B2: Code TVA
A4: 427 | B4: VTES DECHETS
A5: 427 | B5: VTES DECHETS
A6: 427 | B6: PALETTE ET DECHETS
A7: 427 | B7: AUTRES PRESTATIONS
A8: 427 | B8: PREST. ADMINISTRATIV
A9: 427 | B9: PREST. ADMINISTRATIV
A10: 427 | B10: COUT VAR.PREST.LOG.
A11: 427 | B11: COUT VAR.PREST.LOG.
A12: 427 | B12: AUTR. REVENUS (FPLP)
A13: 427 | B13: SCI PREST. LOC. IMM.
A14: 427 | B14: SCI PREST. LOC. IMM.
A15: 427 | B15: VENTES MARCHANDISES
... A158: 427 | B158: TR.CH./RESTRUCTURAT.
A159: 427 | B159: 0
A160: 427 | B160: 0
A161: 427 | B161: 0
A162: 427 | B162: 0
A163: 427 | B163: 0
A164: 427 | B164: 0
A165: 427 | B165: 0
A166: 427 | B166: 0
A167: 427 | B167: 0
A168: 427 | B168: 0
A169: 427 | B169: 0
A170: 427 | B170: 0
... A173: 427 | B173: 0
A174: 427
A175: 427
A176: 427
A177: 427
A178: 427
A179: 427
A180: 427
A181: 427
A182: 427
A183: 427
A184: 427
A185: 427
...

Sheet TVA
A1: W18 | C1: A | D1: Montant des opérations réalisés
D2: Operations imposables | K2: Operations non imposables
B3: Mois a renseigner | C3: 01 | D3: Ventes prestations de service | J3: 04 | K3: Exportations Hors CE
B4: JUIN | C4: 02 | D4: Autres opérations imposables | J4: 05 | K4: Autres opérations non imposables
C5: 2A | D5: Achats de prestations de services intracommunautaires (article 283-2 du Code général des impôts) | J5: 06 | K5: Livraison intraco
B6: 427 | C6: 2B | D6: Importations (entreprises ayant opté pour le dispositif d'autoliquidation de la TVA à l'importation) | J6: 5A | K6: Ventes à distance
C7: 03 | D7: Acquisitions intracommunautaires
D8: Dont ventes à distance et/ou opérations de montage : | J8: 6A | K8: Livraison électricité, gaz, chaleur ou frois non imposable en France
C9: 3A | D9: Livraisons d'électricité, de gaz naturel, de chaleur ou de froid imposables en France | J9: 07 | K9: achats en franchise
B10: Montant base TVA a 2,10 à renseigner en annexe 3310 A | C10: 3B | D10: Achats de biens ou de prestations de services réalisés auprès d'un assujetti non établi en France (article 283-1 du Code général des impôts) | J10: 7A | K10: Ventes de biens ou de prestations de services réalisés auprès d'un assujetti non établi en France
C11: 3C | D11: Régularisations | J11: 7B | K11: Régularisations
D12: Total opérations imposables (sans la ligne 3C) | K12: Total opérations non imposables
C13: B | D13: Décompte de la tva à payer
I14: TVA brute | J14: Base HT
I15: Opérations réalisées en France métropolitaine :
H16: 08 | I16: Taux réduit 20 %
H17: 09 | I17: Taux réduit 5,5 %
H18: 9B | I18: Taux réduit 10 %
I19: Opérations réalisées dans les DOM :
H20: 10 | I20: Taux normal 8,5 %
H21: 11 | I21: Taux réduit 2,1 %
I22: Opérations imposables à un autre taux | N22: ZONE A COPIER DANS OPTIM IS
H23: 13 | I23: Ancien taux
H24: 14 | I24: Taux particulier (2,10)
H25: 15 | I25: TVA antérieurement déduite à reverser
H26: 5B | I26: Somme à y ajouter, y compris congés
J27: 16 | K27: TOTAL DE LA TVA BRUTE DUE (somme des lignes 08 a 5B) | L27: =SUM(L16:L18)+SUM(L20:L21)+SUM(L23:L26) -> 0
J28: 7C | K28: Dont TVA sur importations soumises au régime d'auto-liquidation
J29: 17 | K29: Dont TVA sur acquisition intraco | L29: =+SUMIFS([1]CA3!AO:AO,[1]CA3!$A:$A,TVA!$B$4,[1]CA3!$C:$C,TVA!$A$1) -> 0
J30: 18 | K30: Dont TVA sur opérations à destination de Monaco
K31: TVA déductible
J32: 19 | K32: Biens constituant des immobilisations
J33: 20 | K33: Autres biens et services
J34: 20B | K34: DONT : Autoliquidation TVA sur opérations intracommunautaires :
J35: 21 | K35: Autre TVA à déduire | L35: =+SUMIFS([1]CA3!AQ:AQ,[1]CA3!$A:$A,TVA!$B$4,[1]CA3!$C:$C,TVA!$A$1) -> 0
D36: (Dont régularisation sur de la TVA collectée :
J37: 22 | K37: Report du crédit apparaissant ligne 27 de la précédente déclaration | L37: =+SUMIFS([1]CA3!AS:AS,[1]CA3!$A:$A,TVA!$B$4,[1]CA3!$C:$C,TVA!$A$1) -> 0
J38: 2C | K38: Somme à imputer, y compris congés
J39: 23 | K39: TOTAL TVA DEDUCTIBLE (ligne 19 à 2C)
J40: 24 | K40: Dont TVA non perçue récupérable par les assujettis disposants d'un établissement stable dans les DOM
...
