Workbook

Sheet Fiche synthetique
M2: FINANCES | R2: Realisation | U2: Executif | Z2: Realisation
C3: NIVEAU DE REALISATION GLOBAL | N3: Nbre de dossier | R3: =S5/N5 -> 0.57142857 | V3: Nbre de dossier | Z3: =AA5/V5 -> #DIV/0!
N5: =COUNTIF('Details des dossiers encours'!D4:D439,"Finances") -> 7 | S5: =COUNTIFS('Details des dossiers encours'!D4:D440,"Finances",'Details des dossiers encours'!I4:I440,"CONTINUE") -> 4 | V5: =COUNTIF('Details des dossiers encours'!D4:D439,"Executif/Management") -> 0 | AA5: =COUNTIFS('Details des dossiers encours'!D4:D440,"Executif/Management",'Details des dossiers encours'!I4:I440,"CONTINUE") -> 0
C6: Nombre des dossier encours | F6: =COUNTA('Details des dossiers encours'!C4:C439) -> 54
S7: =COUNTIFS('Details des dossiers encours'!D4:D440,"Finances",'Details des dossiers encours'!I4:I440,"ALERTE") -> 3 | AA7: =COUNTIFS('Details des dossiers encours'!D4:D440,"Executif/Management",'Details des dossiers encours'!I4:I440,"ALERTE") -> 0
C8: Respect des delais | F8: =S5+S13+S21+AA5+AA13+AA21 -> 15
C9: Non Respect des delais | F9: =S7+S15+S23+AA7+AA15+AA23 -> 39
M10: SUIVI EVALUATION | R10: Realisation | U10: Tous | Z10: Realisation
N11: Nombre de dossiers | R11: =S13/N13 -> 0.27777778 | V11: Nombre de dossiers | Z11: =AA13/V13 -> 0.2
N13: =COUNTIF('Details des dossiers encours'!D4:D440,"Suivi et Evaluation") -> 18 | S13: =COUNTIFS('Details des dossiers encours'!D4:D440,"Suivi et Evaluation",'Details des dossiers encours'!I4:I440,"CONTINUE") -> 5 | V13: =COUNTIF('Details des dossiers encours'!D4:D440,"Tous") -> 10 | AA13: =COUNTIFS('Details des dossiers encours'!D4:D440,"Tous",'Details des dossiers encours'!I4:I440,"CONTINUE") -> 2
S15: =COUNTIFS('Details des dossiers encours'!D4:D440,"Suivi et Evaluation",'Details des dossiers encours'!I4:I440,"Alerte") -> 13 | AA15: =COUNTIFS('Details des dossiers encours'!D4:D440,"Tous",'Details des dossiers encours'!I4:I440,"Alerte") -> 8
M18: PMD | R18: Realisation | U18: N/A | Z18: Realisation
N19: Nombre de dossiers | R19: =S21/N21 -> 0.23529412 | V19: Nombre de dossiers | Z19: =AA21/V21 -> 0
N21: =COUNTIF('Details des dossiers encours'!D4:D440,"Passation de Marché") -> 17 | S21: =COUNTIFS('Details des dossiers encours'!D4:D440,"Passation de Marché",'Details des dossiers encours'!I4:I440,"CONTINUE") -> 4 | V21: =COUNTIF('Details des dossiers encours'!D4:D440,"N/A") -> 2 | AA21: =COUNTIFS('Details des dossiers encours'!D4:D440,"N/A",'Details des dossiers encours'!I4:I440,"CONTINUE") -> 0
S23: =COUNTIFS('Details des dossiers encours'!D4:D440,"Passation de Marché",'Details des dossiers encours'!I4:I440,"Alerte") -> 13 | AA23: =COUNTIFS('Details des dossiers encours'!D4:D440,"N/A",'Details des dossiers encours'!I4:I440,"Alerte") -> 2
B43: Semaine 39 | C43: Semaine 40 | D43: Semaine 41 | E43: Semaine 42 | F43: Semaine 43 | G43: Semaine 44 | H43: Semaine 45 | I43: Semaine 46 | J43: Semaine 47 | K43: Semaine 48 | L43: Semaine 49

Sheet Details des dossiers encours
B3: N° d’ordre | C3: Recommandations/Engagements | D3: Departement | E3: Personne en Charge | F3: Date buttoire | G3: Nouvelle Echeance | H3: Date de realisation | I3: Respect de delai
B4: 1 | C4: Dossier Auditeur Interne Le Directeur des Opérations a demandé à la PM d’inviter Mr Paul Mataka, 1er après le test écrit & interview, pour négociation du montant des ses honoraires. Il a demandé aux 3 chefs de service d’assister à ces négociations. 16/10/2017 pour faire un PV de non conciliation PV de non conciliation signé entre Promines et Mr Mataka le 11/10/2017 PV envoyé au TTL le 20/10/2017 pour DNO de poursuivre le processus, passer au 2ème candidat. La NO du TTL reçue le 20/10/2017 pour poursuivre le processus de recrutement. Le 2ème candidat Mr Max Makunga est convoqué ce lundi 30/10/2017 pour négociation honoraires. | D4: Tous | E4: N/A | F4: 43024 | G4: 43038 | I4: =IF(H4>=G4,"CONTINUE",IF(TODAY()<=G4,"CONTINUE","ALERTE")) -> ALERTE
B5: 2 | C5: Avenant Contrat Grpt IGS/PGW/NRG Le Directeur des Opérations a demandé au RPM de recevoir Mr Laurent demain mercredi 04/10/2017 à 9h00 et d’associer Mr Sephorien de la BM et le RSE à cette réunion, et lui parler aussi de l’accord de confidentialité. Le Directeur des Opérations a demandé au RPM de relancer le mail sur l’accord de confidentialité à Mr Lanssina de la BM afin qu’il se prononce clairement sur ce dossier. Le RSE entre en contact avec le Grpt IGS pour avoir le nouveau chronogramme de leurs activités | D5: Tous | E5: N/A | F5: 43032 | G5: 43026 | I5: =IF(H5>=G5,"CONTINUE",IF(TODAY()<=G5,"CONTINUE","ALERTE")) -> ALERTE
B6: 3 | C6: Dossier ASE Le RSE a promis de constituer la liste de panel pour les tests écrits et interview de 16 candidats figurant sur la liste restreinte Transmettre la liste de panel au D.E avant le 20/10/2017 25/10/2017: Non réalisé Sur ce le D.E a rappelé au RSE que ça fait plus d’un mois qu’il promet de constituer la liste de panel pour le test écrit et interviews ASE et le D.E a demandé au RSE de remettre cette liste à la PM pour faire des lettres d’engagements sous sa validation. | D6: Suivi et Evaluation | E6: UNGI KIABOLUA | F6: 43024 | G6: 43049 | I6: =IF(H6>=G6,"CONTINUE",IF(TODAY()<=G6,"CONTINUE","ALERTE")) -> ALERTE
B7: 4 | C7: Rapport de FMS Le Directeur des Opérations a demandé au RAF & à la Trésorière de présenter au consultant de Tomate, Ranto, les documents demandés par le FMS pour avis. Et tous ces documents doivent être prêts au plutard le 12/10/2017 et les envoyer au FMS Non Réalisé pcq le Comptable doit faire les analyses des comptes et finir ce samedi 15/10/2017 Le D.O a demandé à la PM d’annexer les documents probants au tableau de suivi des recommandations audit externe 2016 | D7: Finances | E7: MUKADI KALALA | F7: 43023 | G7: 43027 | I7: =IF(H7>=G7,"CONTINUE",IF(TODAY()<=G7,"CONTINUE","ALERTE")) -> ALERTE
B8: 5 | C8: Dossier RAMO Le RSE a promis de finaliser cette semaine le RAMO envoyé par Mme Rachel/BM et le lundi 09/10/2017 le transmettre officiellement au Président du CTS. Le Directeur des Opérations a demandé au RAF de planifier la Réunion du CTS | D8: Suivi et Evaluation | E8: UNGI KIABOLUA | F8: 43024 | G8: 43028 | I8: =IF(H8>=G8,"CONTINUE",IF(TODAY()<=G8,"CONTINUE","ALERTE")) -> ALERTE
B9: 6 | C9: Recrutement du RAPM Le Directeur des Opérations a demandé au RPM et au RAF de travailler ensemble pour rédiger les TDRs pour le recrutement d’un Responsable Adjoint de la Passation des Marchés et les lui soumettre au plutard le 18/10/2017. Le D.E a insisté que le RPM & le RAF lui transmettre le projet des TDRs le 18/10/2017 Réalisé Le RPM a transmis au D.E le projet des TDRs le 18/10/2017. | D9: Passation de Marché | E9: MBUYI WA MPOYI | F9: 43026 | G9: 43026 | H9: 43026 | I9: =IF(H9>=G9,"CONTINUE",IF(TODAY()<=G9,"CONTINUE","ALERTE")) -> CONTINUE
B10: 7 | C10: Mécanisme de gestion des Plaintes Le RSE a promis de finaliser ce dossier et l’envoyer à la BM le 10/10/2017 Réalisé et envoyé à l’équipe de sauvegarde de la BM, qui n’a pas encore réagi. RSE a promis de leur demander un RDV pour en discuter. | D10: Suivi et Evaluation | E10: UNGI KIABOLUA | F10: 43024 | G10: 43025 | H10: 43033 | I10: =IF(H10>=G10,"CONTINUE",IF(TODAY()<=G10,"CONTINUE","ALERTE")) -> CONTINUE
B11: 8 | C11: World Vision 2ème Contrat Le RPM a promis d’envoyer la F384 à Mme Lucie/BM pour enregistrement de ce contrat dans le site de la BM et Faire un Avenant sans incidence financière. | D11: Passation de Marché | E11: MBUYI WA MPOYI | F11: 43025 | G11: 43025 | I11: =IF(H11>=G11,"CONTINUE",IF(TODAY()<=G11,"CONTINUE","ALERTE")) -> ALERTE
B12: 9 | C12: RSF 3ème Trimestre Le Directeur des Opérations a demandé au RSE et au RPM de transmettre au RAF leurs données au plutard le 20/10/2017 Echéance maintenue 20/10/2017 Echéance maintenue 20/10/2017 Réalisé Le RPM a transmis les données PM au RAF le 18/10/2017 | D12: Tous | E12: UNGI KIABOLUA | F12: 43028 | G12: 43048 | I12: =IF(H12>=G12,"CONTINUE",IF(TODAY()<=G12,"CONTINUE","ALERTE")) -> ALERTE
B13: 10 | C13: TVA payée sur Facture Hôtel Memling/Sept. 2017 Le RAF a promis d’écrire à la Cellule Fiscale pour leur demander de prendre en charge la TVA payée sur la facture de l’hôtel Memling lors de l’atelier sur le Business Model au mois de sept. 2017 | D13: Finances | E13: MUKADI KALALA | H13: 43022 | I13: =IF(H13>=G13,"CONTINUE",IF(TODAY()<=G13,"CONTINUE","ALERTE")) -> CONTINUE
B14: 11 | C14: Loyer Promines Le Directeur des Opérations a demandé au RSE, à l’APM et à la Trésorerie de lui faire la situation du loyer. Réalisé le 18/10/2017 la PM a envoyé la DNO le 19/10/2017. Au 25/10/2017 le TTL n’a pas accordé la NO ; Le D.E a demandé à l’APM de relancer le TTL sur base du mail de Mr Alvarez du 25/10/2017 | D14: Tous | E14: UNGI KIABOLUA | F14: 43026 | G14: 43048 | I14: =IF(H14>=G14,"CONTINUE",IF(TODAY()<=G14,"CONTINUE","ALERTE")) -> ALERTE
B15: 12 | C15: Budget Mission d’encadrement et Formation Homologues Le Directeur des Opérations a demandé au RAF de donner le montant déjà dépensé par Promines et de faire un tableau prévisionnel pour l’encadrement & la formation des homologues. Le Directeur des Opérations a demandé au RPM de partager le budget que le consultant a donné pour cette formation avec le RAF, le RSE, la Trésorière et IT. Le Directeur des Opérations a demandé au RSE de voir si toutes ces formations sont justifiées par rapport aux indicateurs du Projet Promines et de lui faire un état sur ces formations. | D15: Tous | E15: MUKADI KALALA | F15: 43026 | G15: 43027 | H15: 43027 | I15: =IF(H15>=G15,"CONTINUE",IF(TODAY()<=G15,"CONTINUE","ALERTE")) -> CONTINUE
B16: 13 | C16: Révision & Mis à jour PTBA 2017 & PPM 2017-30.06.2018 Le Directeur des Opérations a demandé au RAF & à la Trésorière de faire la mise à jour du PTBA, faire la réallocation des Economies et intégrer les nouveaux éléments. Il a demandé aussi à la PM faire la mise à jour du PPM et d’associer le RSE pour voir par rapport à notre PPM 2017-2018 quelles sont les activités qui restent à faire Lundi 23/10/2017 pour retravailler avec la Trésorière et le resoumettre au D.O Creer une notification pour les intervenant avec une date precise | D16: Tous | E16: MUKADI KALALA | F16: 43025 | G16: 43042 | I16: =IF(H16>=G16,"CONTINUE",IF(TODAY()<=G16,"CONTINUE","ALERTE")) -> ALERTE
B17: 14 | C17: Accord de Confidentialité Le Directeur des Opérations a demandé au RPM de faire un mail de relance à Mr Lanssina de la BM. Le D.O a demandé au RPM de prendre en compte la réponse de GAF et lui écrire avec attache de nos observations. | D17: Passation de Marché | E17: MBUYI WA MPOYI | F17: 43026 | G17: 43026 | I17: =IF(H17>=G17,"CONTINUE",IF(TODAY()<=G17,"CONTINUE","ALERTE")) -> ALERTE
B18: 15 | C18: Conférence RENAFEM Le RSE a confirmé que la liste des participants a été clôturée. Conférence RENAFEM du 01 AU 03/11/2017 Délégation « STRATEGIES » : Selon la page 44 du contrat Stratégies, Hormis les honoraires et autres frais logistiques, les frais d’hébergement, perdiems, billets d’avion et transport sont à charge de Promines. Le D.E a rappelé au RSE que les frais d’hébergement de l’équipe Stratégies sont dans le perdiem taux DSA. 1. Le RSE a confirmé que la liste des participants a été clôturée. 2. Question des billets d’avion pour les participants de Bukavu-Goma-Bunia-Kindu-Kisangani qui risquent d’arriver en retard à la conférence de Renafem/Lubumbashi prévue du 01 au 03/11/2017. Le RSE a confirmé que les billets de ceux de Bunia et Kindu étaient très compliqués. Le D.E a demandé au RSE et à l’IT d’aller demain 26/10/2017 à 8h chez Africa Travel faire la réservation des billets pour les participants de Bukavu et Kisangani, de demander un devis et de contacter Havas à ce sujet avant toute confirmation chez Africa Travel. | D18: Suivi et Evaluation | E18: UNGI KIABOLUA | H18: 43024 | I18: =IF(H18>=G18,"CONTINUE",IF(TODAY()<=G18,"CONTINUE","ALERTE")) -> CONTINUE
B19: 16 | C19: RSE & PRAP Le Directeur des Opérations a demandé au RSE de se rapprocher de PRAP pour voir comment ils ont mis en œuvre le départ en retraite dans les autres ministères. Mais le Directeur des Opérations demande au RSE de s’approcher de Mr Fundi pour ce sujet. Le RSE confirme avoir contacté Mr Fundi et il organisera une séance de travail avec lui. Le RSE a confirmé n’avoir pas contacté le Coordonnateur de PRAP parce qu’il n’a pas son numéro de téléphone. ok Le RSE confirme avoir pu récolter les éléments : recruter un spécialiste en prévoyance social, qui va calculer le montant total à payer pour le départ en retrait.OK Sur ce le D.E a insisté pour que le RSE contacte le coordonnateur de PRAP qui a déjà le dossier aboutit avec le montant. 26/10/2017: Le RSE a promis de le voir dans son bureau à la Fonction Publique; | D19: Suivi et Evaluation | E19: UNGI KIABOLUA | F19: 43027 | G19: 43034 | H19: 43033 | I19: =IF(H19>=G19,"CONTINUE",IF(TODAY()<=G19,"CONTINUE","ALERTE")) -> ALERTE
B20: 17 | C20: Contrat 041.004/2017 & 041.005/2017 FEKETE & Pablo AMADO Le D.O a demandé au RAF de rappeler aux consultants de nous envoyer leurs factures | D20: Finances | E20: MUKADI KALALA | F20: 43027 | G20: 43027 | I20: =IF(H20>=G20,"CONTINUE",IF(TODAY()<=G20,"CONTINUE","ALERTE")) -> ALERTE
B21: 18 | C21: Suivi 2ème contrat World Vision Le RSE a pris l’engagement de faire une mission de supervision à Kolwezi avant la conférence de Renafem/Lubumbashi. Il le fera avec Mme Rachel/BM Attendre mission Renafem à Lubumbashi pour confirmer leur rapport. Il le fera avec Mme Rachel. | D21: Suivi et Evaluation | E21: UNGI KIABOLUA | F21: 43025 | G21: 43033 | I21: =IF(H21>=G21,"CONTINUE",IF(TODAY()<=G21,"CONTINUE","ALERTE")) -> ALERTE
B22: 19 | C22: CS 04.53/2016 BRGM le D.O a demandé à IT & RSE de transmettre les informations au RAF ; Le D.O a demandé au RAF de réclamer la facture au consultant. | D22: Tous | E22: NKULANI | F22: 43027 | G22: 43028 | I22: =IF(H22>=G22,"CONTINUE",IF(TODAY()<=G22,"CONTINUE","ALERTE")) -> ALERTE
B23: 20 | C23: CS 041.006/2017 Marc Munschy Le D.O a demandé au RAF de réclamer la facture auprès du consultant | D23: Finances | E23: MUKADI KALALA | F23: 43027 | G23: 43027 | I23: =IF(H23>=G23,"CONTINUE",IF(TODAY()<=G23,"CONTINUE","ALERTE")) -> ALERTE
B24: 21 | C24: CS 04.061/2016 Grpt BEAK & BRGM Le D.O a demandé au RPM de transmettre le contrat aux Finances | D24: Passation de Marché | E24: MBUYI WA MPOYI | F24: 43027 | G24: 43027 | I24: =IF(H24>=G24,"CONTINUE",IF(TODAY()<=G24,"CONTINUE","ALERTE")) -> ALERTE
B25: 22 | C25: Protocole SAEMAPE Le D.O a demandé au RPM & RSE de finaliser le travail et de le partager à tous avant de relancer la DNO | D25: Tous | E25: MBUYI WA MPOYI | F25: 43026 | G25: 43033 | H25: 43033 | I25: =IF(H25>=G25,"CONTINUE",IF(TODAY()<=G25,"CONTINUE","ALERTE")) -> CONTINUE
B26: 23 | C26: CS 04.52/2016 Alexandre Soubrie Le D.O a demandé à la PM, Trésorière, RSE et IT de finaliser ce dossier et de lui faire rapport Réalisé et CR envoyé au D.E par mail le 24/10/2017 Le D.E a demandé à l’IT de lui faire une note explicative confirmant qu’il n’y a pas de lien entre l’hébergement & les matériels à acheter. Le D.E a également demandé à l’IT et l’APM de lui proposer les noms des évaluateurs pour validation. | D26: Tous | E26: UNGI KIABOLUA | F26: 43032 | G26: 43034 | I26: =IF(H26>=G26,"CONTINUE",IF(TODAY()<=G26,"CONTINUE","ALERTE")) -> ALERTE
B27: 24 | C27: AMI 79 Audit SOKIMO par deux évaluateurs André Lambert et Vitor Correia Le D.O a demandé au RPM d’écrire un mail aux deux évaluateurs pour nous donner des éclaircissements sur leur travail par rapport à nos attentes. | D27: Passation de Marché | E27: MBUYI WA MPOYI | F27: 43026 | G27: 43035 | I27: =IF(H27>=G27,"CONTINUE",IF(TODAY()<=G27,"CONTINUE","ALERTE")) -> ALERTE
B28: 25 | C28: Publication PPA Le D.O a demandé au RSE d’écrire à Mr Alvarez lui expliquer le processus de publication du PPA et de copier tous les interlocuteurs | D28: Suivi et Evaluation | E28: UNGI KIABOLUA | F28: 43027 | G28: 43027 | I28: =IF(H28>=G28,"CONTINUE",IF(TODAY()<=G28,"CONTINUE","ALERTE")) -> ALERTE
B29: 26 | C29: Les Factures en souffrance : Grpt BRGM-GAF-Grpt IGS Le D.O a demandé à la Trésorière de les remettre au RSE pour suivi livrables & approbations des livrables | D29: Suivi et Evaluation | E29: UNGI KIABOLUA | F29: 43026 | G29: 43026 | I29: =IF(H29>=G29,"CONTINUE",IF(TODAY()<=G29,"CONTINUE","ALERTE")) -> ALERTE
B30: 27 | C30: Les Factures en souffrance : André Lambert-Vitor et CIDE et Deloitte Le D.O a demandé à la Trésorière de les remettre au RPM pour remettre aux finances les contrats Le 18/10/2017 le RPM a remis aux Finances les deux contrats André Lambert & Vitor Correia. Au 25/10/2017 le contrat CIDE n’est pas encore remis aux Finances ni le livrable du nouveau contrat Deloitte. Le RPM avait confirmé aux Finances de disposer du livrable Deloitte. Le RSE a confirmé n’avoir pas vu ce livrable. | D30: Passation de Marché | E30: MBUYI WA MPOYI | F30: 43026 | G30: 43033 | I30: =IF(H30>=G30,"CONTINUE",IF(TODAY()<=G30,"CONTINUE","ALERTE")) -> ALERTE
B31: 28 | C31: Publication PPA 17/10/2017/ Le D.E a demandé au RSE d’écrire à Mr Alvarez lui expliquer le processus de publication du PPA et de copier tous les interlocuteurs Réalisé le PPA est déjà publié dans le site Promines depuis le 18/10/2017. Le D.E a rappelé au RSE qu’il faudrait commencer la phase d’exécution envie de prérequis du financement additionnel. Sur ce, le RSE a promis d’entrer en contact avec Mme Lucienne de la BM. | D31: Suivi et Evaluation | E31: UNGI KIABOLUA | F31: 43025 | G31: 43034 | I31: =IF(H31>=G31,"CONTINUE",IF(TODAY()<=G31,"CONTINUE","ALERTE")) -> ALERTE
B32: 29 | C32: Les Factures en attente : Le D.E a demandé à la Trésorière de les remettre au RSE pour suivi livrables & approbations des livrables(Realisé) Sur ce, la Trésorière a remis au RSE en date du 18/10/2017 les 6 factures ci-après : André Lambert-Vitor Correia-Grpt BRGM.IGS.GEOCOFF-Deloitte-Grpt GAF et Grpt IGS.PGW.NRG. Et toutes ces factures sont au 25/10/2017 auprès du RSE. Commentaires RSE : Pas de livrable pour la facture IGS et pas de validation du contrôleur qualité M. Munschy. Aussi pas d’harmonie entre les deux contrats consultant et contrôle qualité. Et les autres factures non traitées. Et le D.E a demandé au RSE de préparer une note justificative, un projet d’avenant pour les deux contrats IGS et Contrôle qualité, le lui soumettre pour lecture & validation avant de le transmettre au TTL. (RSE) Le D.E a aussi demandé aux Finances de resoumettre toutes ces factures au RSE | D32: Suivi et Evaluation | E32: UNGI KIABOLUA | F32: 43025 | G32: 43034 | H32: 43033 | I32: =IF(H32>=G32,"CONTINUE",IF(TODAY()<=G32,"CONTINUE","ALERTE")) -> ALERTE
B33: 30 | C33: Formation continue du Min. des Mines 2017-2018. Le D.E a réagi au mail du RSE du 24/10/2017 sur le budget de supervision de formation continue par CSMORA. Le D.E a rappelé au RSE que tous les supports de formation sont imprimés ici à Promines qui prend en charge les coûts de la reproduction et reliure. Les perdiems des participants sont payés par la Trésorière et la caissière, suivant les listes des présences. Et si on confie cette formation à CSMORA qui n’a pas qualité, à quoi servirait le Comité de Formation Continue ? Sur ce, le D.E a demandé au RSE de reprendre le dossier et d’organiser le comité de formation continue. Faire le préliminaire demain 26/10/2017 avec Mr Garry SAKATA | D33: Tous | E33: N/A | F33: 43033 | G33: 43041 | I33: =IF(H33>=G33,"CONTINUE",IF(TODAY()<=G33,"CONTINUE","ALERTE")) -> ALERTE
B34: 31 | C34: Dossier ancien contrat Grpt Path Le RSE a confirmé avoir envoyé un mail le 19/10/2017 à Path c/° Mr Nkulu pour que Promines puisse récupérer le véhicule mis à la disposition de ITRI et jusqu’au 25/10/2017, Mr Nkulu n’a pas réagi. Le RSE n’a pas remis au RAF tous les éléments afin de lui permettre de faire une lettre officielle à Path et lui demande de transformer son mail du 19/10/2017 en lettre pour déposer chez Path. Le RSE a promis de faire un mail de relance à Path aujourd’hui même après la réunion | D34: Suivi et Evaluation | E34: UNGI KIABOLUA | F34: 43033 | G34: 43033 | I34: =IF(H34>=G34,"CONTINUE",IF(TODAY()<=G34,"CONTINUE","ALERTE")) -> ALERTE
B35: 32 | C35: Comité de Pilotage (CoPil) Le D.E a rappelé au RSE que quand les membres de CoPil partent en mission, le RSE est censé savoir l’objet de leur mission et avoir leur rapport de mission. Le RSE a confirmé que les membres de CoPil lui envoient les CR de leurs réunions en électronique. Le RSE a confirmé qu’il a tous les CR des réunions de CoPil en électronique. Le D.E a demandé au RSE de mettre en place dans son bureau un classeur CoPil. Le D.E a demandé au RSE de lui faire un calendrier prévisionnel de CoPil qui n’est pas un organe indépendant mais dépend de Promines. Ce calendrier va comporter des dates qui sont en lien avec les dates de réception des livrables que le CoPil devra suivre | D35: Suivi et Evaluation | E35: UNGI KIABOLUA | F35: 43033 | G35: 43034 | I35: =IF(H35>=G35,"CONTINUE",IF(TODAY()<=G35,"CONTINUE","ALERTE")) -> ALERTE
B36: 33 | C36: Rapport général d’avancement des activités Volet A Le D.E a demandé au RSE de lui faire un rapport d’avancement des activités Volet A avec les membres du CoPil et lui faire une restitution le 15/11/2017 Le D.E a demandé au RSE de lui faire un rapport d’avancement des activités Volet A avec les membres du CoPil et lui faire une restitution le 15/11/2017 | D36: Suivi et Evaluation | E36: UNGI KIABOLUA | F36: 43033 | G36: 43054 | I36: =IF(H36>=G36,"CONTINUE",IF(TODAY()<=G36,"CONTINUE","ALERTE")) -> CONTINUE
B37: 34 | C37: Budget Formation Homologues et Mission d’encadrement Le D.E a demandé au RSE de voir si toutes ces formations sont justifiées par rapport aux indicateurs du Projet Promines et de lui faire un état sur ces formations. Sur ce le D.E a demandé au RSE de s’approcher de Mr Kampata et Mr Mupande car ils ont un fichier excel pour ces formations. Le RSE a proposé d’avoir une réunion avec tous les Homologues | D37: Suivi et Evaluation | E37: UNGI KIABOLUA | F37: 43027 | G37: 43049 | I37: =IF(H37>=G37,"CONTINUE",IF(TODAY()<=G37,"CONTINUE","ALERTE")) -> ALERTE
B38: 35 | C38: Dossier Travail des Enfants dans les Mines Le D.E a informé au RSE qu’il le fera travailler sur la demande du Min. des Mines sur le recrutement d’un consultant pour mettre en place un système de lutte contre le travail des enfants dans les mines, afin de proposer au Promines un angle qui soit en lien avec les objectifs du Projet Promines. | D38: Suivi et Evaluation | E38: UNGI KIABOLUA | F38: 43033 | G38: 43042 | I38: =IF(H38>=G38,"CONTINUE",IF(TODAY()<=G38,"CONTINUE","ALERTE")) -> ALERTE
B39: 36 | C39: Groupe de travail Mines-Hydrocarbures-Electricité. Le D.E a informé au RSE que le TTL prévoit dans le cadre du Financement Additionnel quelques activités avec les hydrocarbures et l’environnement. | D39: Suivi et Evaluation | E39: UNGI KIABOLUA | I39: =IF(H39>=G39,"CONTINUE",IF(TODAY()<=G39,"CONTINUE","ALERTE")) -> CONTINUE
B40: 37 | C40: Avenant Contrat Grpt IGS/PGW/NRG Le D.E a demandé au RSE d’entrer en contact avec le Grpt IGS pour avoir le nouveau chronogramme de leurs activités. | D40: Suivi et Evaluation | E40: UNGI KIABOLUA | F40: 43025 | G40: 43032 | I40: =IF(H40>=G40,"CONTINUE",IF(TODAY()<=G40,"CONTINUE","ALERTE")) -> ALERTE
B41: 38 | C41: Contrat Pro Invest L’APM a confirmé que la PM va faire un nouveau contrat de 4 mois durée d’exécution car le 1er n’a jamais démarré et ce projet de contrat est fait, sera envoyé au RSE pour vérifier les chronogrammes | D41: Passation de Marché | E41: MBUYI WA MPOYI | F41: 43033 | G41: 43034 | I41: =IF(H41>=G41,"CONTINUE",IF(TODAY()<=G41,"CONTINUE","ALERTE")) -> ALERTE
B42: 39 | C42: Contrat 04.076 CIDE L’APM a confirmé n’avoir pas trouvé ce contrat qui est déjà signé seulement par le prestataire et non Promines. Il ne retrouve pas non plus la notification de ce contrat au consultant. Il a fait un mail au RPM en congé pour avoir des plus amples informations à ce sujet. Le D.E a demandé à l’APM de faire une DNO demain 26/10/2017. | D42: Passation de Marché | E42: MBUYI WA MPOYI | F42: 43033 | G42: 43034 | I42: =IF(H42>=G42,"CONTINUE",IF(TODAY()<=G42,"CONTINUE","ALERTE")) -> ALERTE
...
