Workbook

Sheet Tableau de comparaison
B2: Barrière type | K2: Barrières variantes
B7: Barrière pivotante | K7: Barrière pivotante
B8: Référence | D8: Simple Rondin 2 postions | K8: Référence | L8: 630 008-13 | T8: =VLOOKUP(L8,Liste!$A$7:$B$60,2,FALSE) -> Simple Rondin 2 positions
B9: Montage | D9: Client | G9: Usine | K9: Montage | L9: Client | P9: Usine
B10: Composants | D10: Rondin wéma | E10: Rondin wéma | F10: Rondin wéma | G10: Rondin wéma | H10: Rondin wéma | I10: Sc.Rab | K10: Composants | L10: =INDEX(O$129:O$290,MATCH($L$8,$D$129:$D$290,0)) -> Rondin wéma | M10: =INDEX(P$129:P$290,MATCH($L$8,$D$129:$D$290,0)) -> Rondin wéma | N10: =INDEX(Q$129:Q$290,MATCH($L$8,$D$129:$D$290,0)) -> Rondin wéma | O10: =INDEX(R$129:R$290,MATCH($L$8,$D$129:$D$290,0)) -> Rondin wéma | P10: =INDEX(S$129:S$290,MATCH($L$8,$D$129:$D$290,0)) -> Rondin wéma | Q10: =INDEX(T$129:T$290,MATCH($L$8,$D$129:$D$290,0)) -> Sc.Rab | R10: =INDEX(U$129:U$290,MATCH($L$8,$D$129:$D$290,0)) -> 0 | S10: =INDEX(V$129:V$290,MATCH($L$8,$D$129:$D$290,0)) -> 0
B11: Sous composants | D11: Montant articulation | E11: Montant cadenas | F11: Montant récepteur | G11: Barrière | H11: Montant articulé | I11: Renfort barrière | K11: Sous composants | L11: =INDEX(O$130:O$290,MATCH($L$8,$D$129:$D$290,0)) -> Montant articulation | M11: =INDEX(P$130:P$290,MATCH($L$8,$D$129:$D$290,0)) -> Montant cadenas | N11: =INDEX(Q$130:Q$290,MATCH($L$8,$D$129:$D$290,0)) -> Montant récepteur | O11: =INDEX(R$130:R$290,MATCH($L$8,$D$129:$D$290,0)) -> Barrière | P11: =INDEX(S$130:S$290,MATCH($L$8,$D$129:$D$290,0)) -> Montant articulé | Q11: =INDEX(T$130:T$290,MATCH($L$8,$D$129:$D$290,0)) -> Renfort barrière | R11: =INDEX(U$130:U$290,MATCH($L$8,$D$129:$D$290,0)) -> 0 | S11: =INDEX(V$130:V$290,MATCH($L$8,$D$129:$D$290,0)) -> 0
B12: Longueur | D12: =IF($D$8=$U$76,V79,IF($D$8=$U$85,V88,IF($D$8=$U$94,V97,IF($D$8=$U$103,V106,)))) -> 1500 | E12: =IF($D$8=$U$76,W79,IF($D$8=$U$85,W88,IF($D$8=$U$94,W97,IF($D$8=$U$103,W106,)))) -> 1500 | F12: =IF($D$8=$U$76,X79,IF($D$8=$U$85,X88,IF($D$8=$U$94,X97,IF($D$8=$U$103,X106,)))) -> 1300 | G12: =IF($D$8=$U$76,Y79,IF($D$8=$U$85,Y88,IF($D$8=$U$94,Y97,IF($D$8=$U$103,Y106,)))) -> 0 | H12: =IF($D$8=$U$76,Z79,IF($D$8=$U$85,Z88,IF($D$8=$U$94,Z97,IF($D$8=$U$103,Z106,)))) -> 1050 | I12: =IF($D$8=$U$76,AA79,IF($D$8=$U$85,AA88,IF($D$8=$U$94,AA97,IF($D$8=$U$103,AA106,)))) -> 0 | K12: Longueur | L12: =INDEX(G$129:G$290,MATCH($L$8,$D$129:$D$290,0)) -> 1500 | M12: =INDEX(H$129:H$290,MATCH($L$8,$D$129:$D$290,0)) -> 1500 | N12: =INDEX(I$129:I$290,MATCH($L$8,$D$129:$D$290,0)) -> 1300 | O12: =INDEX(J$129:J$290,MATCH($L$8,$D$129:$D$290,0)) -> 1900 | P12: =INDEX(K$129:K$290,MATCH($L$8,$D$129:$D$290,0)) -> 1040 | Q12: =INDEX(L$129:L$290,MATCH($L$8,$D$129:$D$290,0)) -> 1330 | R12: =INDEX(M$129:M$290,MATCH($L$8,$D$129:$D$290,0)) -> 0 | S12: =INDEX(N$129:N$290,MATCH($L$8,$D$129:$D$290,0)) -> 0
B13: Ø/largeur | D13: =IF($D$8=$U$76,V80,IF($D$8=$U$85,V89,IF($D$8=$U$94,V98,IF($D$8=$U$103,V107,)))) -> 160 | E13: =IF($D$8=$U$76,W80,IF($D$8=$U$85,W89,IF($D$8=$U$94,W98,IF($D$8=$U$103,W107,)))) -> 130 | F13: =IF($D$8=$U$76,X80,IF($D$8=$U$85,X89,IF($D$8=$U$94,X98,IF($D$8=$U$103,X107,)))) -> 100 | G13: =IF($D$8=$U$76,Y80,IF($D$8=$U$85,Y89,IF($D$8=$U$94,Y98,IF($D$8=$U$103,Y107,)))) -> 100 | H13: =IF($D$8=$U$76,Z80,IF($D$8=$U$85,Z89,IF($D$8=$U$94,Z98,IF($D$8=$U$103,Z107,)))) -> 160 | I13: =IF($D$8=$U$76,AA80,IF($D$8=$U$85,AA89,IF($D$8=$U$94,AA98,IF($D$8=$U$103,AA107,)))) -> 100 | K13: Ø/Largeur | L13: =INDEX(G$130:G$290,MATCH($L$8,$D$129:$D$290,0)) -> 160 | M13: =INDEX(H$130:H$290,MATCH($L$8,$D$129:$D$290,0)) -> 130 | N13: =INDEX(I$130:I$290,MATCH($L$8,$D$129:$D$290,0)) -> 100 | O13: =INDEX(J$130:J$290,MATCH($L$8,$D$129:$D$290,0)) -> 100 | P13: =INDEX(K$130:K$290,MATCH($L$8,$D$129:$D$290,0)) -> 160 | Q13: =INDEX(L$130:L$290,MATCH($L$8,$D$129:$D$290,0)) -> 100 | R13: =INDEX(M$130:M$290,MATCH($L$8,$D$129:$D$290,0)) -> 0 | S13: =INDEX(N$130:N$290,MATCH($L$8,$D$129:$D$290,0)) -> 0
B14: Epaisseur | D14: =IF($D$8=$U$76,V81,IF($D$8=$U$85,V90,IF($D$8=$U$94,V99,IF($D$8=$U$103,V108,)))) -> 0 | E14: =IF($D$8=$U$76,W81,IF($D$8=$U$85,W90,IF($D$8=$U$94,W99,IF($D$8=$U$103,W108,)))) -> 0 | F14: =IF($D$8=$U$76,X81,IF($D$8=$U$85,X90,IF($D$8=$U$94,X99,IF($D$8=$U$103,X108,)))) -> 0 | G14: =IF($D$8=$U$76,Y81,IF($D$8=$U$85,Y90,IF($D$8=$U$94,Y99,IF($D$8=$U$103,Y108,)))) -> 0 | H14: =IF($D$8=$U$76,Z81,IF($D$8=$U$85,Z90,IF($D$8=$U$94,Z99,IF($D$8=$U$103,Z108,)))) -> 0 | I14: =IF($D$8=$U$76,AA81,IF($D$8=$U$85,AA90,IF($D$8=$U$94,AA99,IF($D$8=$U$103,AA108,)))) -> 40 | K14: Epaisseur | L14: =INDEX(G$131:G$290,MATCH($L$8,$D$129:$D$290,0)) -> 0 | M14: =INDEX(H$131:H$290,MATCH($L$8,$D$129:$D$290,0)) -> 0 | N14: =INDEX(I$131:I$290,MATCH($L$8,$D$129:$D$290,0)) -> 0 | O14: =INDEX(J$131:J$290,MATCH($L$8,$D$129:$D$290,0)) -> 0 | P14: =INDEX(K$131:K$290,MATCH($L$8,$D$129:$D$290,0)) -> 0 | Q14: =INDEX(L$131:L$290,MATCH($L$8,$D$129:$D$290,0)) -> 40 | R14: =INDEX(M$131:M$290,MATCH($L$8,$D$129:$D$290,0)) -> 0 | S14: =INDEX(N$131:N$290,MATCH($L$8,$D$129:$D$290,0)) -> 0
B15: Quantité | D15: 1 | E15: 2 | F15: 2 | G15: 1 | H15: 1 | I15: 1 | K15: Quantité | L15: =INDEX(O$131:O$290,MATCH($L$8,$D$129:$D$290,0)) -> 1 | M15: =INDEX(P$131:P$290,MATCH($L$8,$D$129:$D$290,0)) -> 2 | N15: =INDEX(Q$131:Q$290,MATCH($L$8,$D$129:$D$290,0)) -> 2 | O15: =INDEX(R$131:R$290,MATCH($L$8,$D$129:$D$290,0)) -> 1 | P15: =INDEX(S$131:S$290,MATCH($L$8,$D$129:$D$290,0)) -> 1 | Q15: =INDEX(T$131:T$290,MATCH($L$8,$D$129:$D$290,0)) -> 1 | R15: =INDEX(U$131:U$290,MATCH($L$8,$D$129:$D$290,0)) -> 0 | S15: =INDEX(V$131:V$290,MATCH($L$8,$D$129:$D$290,0)) -> 0
B16: QUINCAILLERIRE | K16: QUINCAILLERIRE | V16: 630009 | Y16: =D132 -> 630 009-03 (passage 4,00m+2contre appuis) | AB16: 630-009-04 | AE16: =D138 -> 630-009-04 SC | AH16: 630-009-04T11 | AK16: 630 009-05 (passage 3,00m+2contre appuis) | AN16: 630 009-06SC ( SANS CADENAS ) | AQ16: 630 009-06 (passage 4m + 2 contre appuis) | AT16: 630 009-09 (sciages passage 3,50 m) | AW16: 630 009-10 | AZ16: 630 009-13 | BC16: 630 009-14 (passage 2,50 m) | BF16: 630 009-15 | BI16: 630 009-16 | BL16: 630 009-17 (double passage 6 m) VOIR BE | BO16: 630 009-18 (passage 3m 1 appui amovible) | BR16: 630 009-18 1 | BU16: 630 009-18 2 (passage3m; 1CA sur fourreau; bande réfléchissante) | BX16: 630 009-20 (passage 4,50m+2 contre appuis) | CA16: 630 009-21 (passage 5m +2 contre appuis) | CD16: 630 009-22 (passage 5m cadenas pompier) | CG16: 630 009-23 pivotante renforcée passage 4m | CJ16: 630 009-24 | CM16: 631 009-25 | CP16: 630 009-26 (passage 4m + C100 sur platines) | CS16: 633 009-27 | CV16: 634 009-28 | CY16: 635 009-29 | DB16: 636 009-30 | DE16: 630-009-30 1 | DH16: 630 009-30R sciage 3m ROBINIER | DK16: 630 009-31 1 | DN16: 630-009-32 | DQ16: 630 009-33 SCIAGES (passage 4,0m) | DT16: 630 009-34 (passage 2x2.50m) | DW16: 630 009-35 | DZ16: 631 009-36 | EC16: 632 009-37 | EF16: 630 009-38 STANDARD AVEC 1 APPUI RECEPTION 2M | EI16: 630 009-39 (passage double 8m -2x4m) | EL16: 630 009-091 | EO16: 630 009-091R sciage 3.50 m ROBINIER | ER16: 630 009-321 (armé passage 3m) | EU16: 630008-01 | EX16: 630 008-10 | FA16: 630 008-11 | FD16: 630 008-12 | FG16: 630 008-13 | FJ16: 630 008-14 | FM16: 630 008-15 | FP16: 630 008-16 | FS16: 630 008-18 | FV16: 630 008-31 | FY16: 630 008-31
B17: Références | C17: Quantité | E17: Commentaire | K17: Références | L17: Quantité | N17: Vérification | O17: Test référence | Q17: Test quantité | S17: Résultat | V17: Client | Y17: Client | AB17: Client | AE17: Client | AH17: Client | AK17: Client | AN17: Client | AQ17: Client | AT17: Client | AW17: Client | AZ17: Client | BC17: Client | BF17: Client | BI17: Client | BL17: Client | BO17: Client | BR17: Client | BU17: Client | BX17: Client | CA17: Client | CD17: Client | CG17: Client | CJ17: Client | CM17: Client | CP17: Client | CS17: Client | CV17: Client | CY17: Client | DB17: Client | DE17: Client | DH17: Client | DK17: Client | DN17: Client | DQ17: Client | DT17: Client | DW17: Client | DZ17: Client | EC17: Client | EF17: Client | EI17: Client | EL17: Client | EO17: Client | ER17: Client | EU17: Client | EX17: Client | FA17: Client | FD17: Client | FG17: Client | FJ17: Client | FM17: Client | FP17: Client | FS17: Client | FV17: Client | FY17: Client
B18: Client | V18: 609456 | W18: 4 | Y18: 609456 | Z18: 6 | AB18: 609456 | AC18: 4 | AE18: 609456 | AF18: 4 | AH18: 609456 | AI18: 4 | AK18: 609456 | AL18: 4 | AN18: 609456 | AO18: 4 | AQ18: 609456 | AR18: 4 | AT18: 609456 | AU18: 4 | AW18: 609456 | AX18: 4 | AZ18: 609456 | BA18: 4 | BC18: 609456 | BD18: 4 | BF18: 609456 | BG18: 0 | BI18: 609456 | BJ18: 6 | BL18: 609456 | BM18: 8 | BO18: 609456 | BP18: 4 | BR18: 609456 | BS18: 4 | BU18: 609456 | BV18: 4 | BX18: 609456 | BY18: 4 | CA18: 609456 | CB18: 4 | CD18: 609456 | CE18: 4 | CG18: 609456 | CH18: 0 | CJ18: 609456 | CK18: 0 | CM18: 609456 | CN18: 4 | CP18: 609456 | CQ18: 0 | CS18: 609456 | CT18: 4 | CV18: 609456 | CW18: 4 | CY18: 609456 | CZ18: 8 | DB18: 609456 | DC18: 4 | DE18: 609456 | DF18: 4 | DH18: 609456 | DI18: 4 | DK18: 609456 | DL18: 8 | DN18: 609456 | DO18: 4 | DQ18: 609456 | DR18: 4 | DT18: 609456 | DU18: 8 | DW18: 609456 | DX18: 4 | DZ18: 609456 | EA18: 4 | EC18: 609456 | ED18: 4 | EF18: 609456 | EG18: 4 | EI18: 609456 | EJ18: 8 | EL18: 609456 | EM18: 4 | EO18: 609456 | EP18: 4 | ER18: 609456 | ES18: 4 | EU18: 609456 | EV18: 4 | EX18: 609456 | EY18: 4 | FA18: 609456 | FB18: 4 | FD18: 609456 | FE18: 4 | FG18: 609456 | FH18: 4 | FJ18: 609456 | FK18: 4 | FM18: 609456 | FN18: 4 | FP18: 609456 | FQ18: 4 | FS18: 609456 | FT18: 4 | FV18: 609456 | FW18: 4 | FY18: 609456 | FZ18: 4
B19: =IF($D$8=$AG$78,AG82,IF($D$8=$AJ$78,AJ82,IF($D$8=$AM$78,AM82,IF($D$8=$AP$78,AP82)))) -> 609456 | C19: =IF($D$8=$AG$78,AH82,IF($D$8=$AJ$78,AK82,IF($D$8=$AM$78,AN82,IF($D$8=$AP$78,AQ82)))) -> 4 | D19: =CONCATENATE(B19,C19) -> 6094564 | K19: =IFERROR(INDEX(V$18:FZ$38,ROWS($1:1),MATCH($L$8,$V$16:$FZ$16,0)),"") -> 609456 | L19: =IFERROR(INDEX(W$18:GA$38,ROWS($1:1),MATCH($L$8,$V$16:$FZ$16,0)),"") -> 4 | M19: =CONCATENATE(K19,L19) -> 6094564 | N19: =IF(VLOOKUP(M19,$D$19:$D$49,1,FALSE)=M19,"Bon composant, bonne quantitée","Erreur de composant ou de quantité") -> Bon composant, bonne quantitée | V19: 609514-04 | W19: 2 | Y19: 609514-04 | Z19: 2 | AB19: 609514-04 | AC19: 2 | AE19: 609514-04 | AF19: 2 | AH19: 609514-04 | AI19: 2 | AK19: 609514-04 | AL19: 0 | AN19: 609514-04 | AO19: 2 | AQ19: 609514-04 | AR19: 2 | AT19: 609514-04 | AU19: 0 | AW19: 609514-04 | AX19: 0 | AZ19: 609514-04 | BA19: 0 | BC19: 609514-04 | BD19: 0 | BF19: 609514-04 | BG19: 0 | BI19: 609514-04 | BJ19: 0 | BL19: 609514-04 | BM19: 0 | BO19: 609514-04 | BP19: 0 | BR19: 609514-04 | BS19: 0 | BU19: 609514-04 | BV19: 0 | BX19: 609514-04 | BY19: 2 | CA19: 609514-04 | CB19: 2 | CD19: 609514-04 | CE19: 2 | CG19: 609514-04 | CH19: 0 | CJ19: 609514-04 | CK19: 0 | CM19: 609514-04 | CN19: 0 | CP19: 609514-04 | CQ19: 0 | CS19: 609514-04 | CT19: 0 | CV19: 609514-04 | CW19: 0 | CY19: 609514-04 | CZ19: 0 | DB19: 609514-04 | DC19: 0 | DE19: 609514-04 | DF19: 0 | DH19: 609514-04 | DI19: 0 | DK19: 609514-04 | DL19: 0 | DN19: 609514-04 | DO19: 0 | DQ19: 609514-04 | DR19: 0 | DT19: 609514-04 | DU19: 0 | DW19: 609514-04 | DX19: 0 | DZ19: 609514-04 | EA19: 2 | EC19: 609514-04 | ED19: 0 | EF19: 609514-04 | EG19: 2 | EI19: 609514-04 | EJ19: 0 | EL19: 609514-04 | EM19: 0 | EO19: 609514-04 | EP19: 0 | ER19: 609514-04 | ES19: 0 | EU19: 609514-04 | EX19: 609514-04 | FA19: 609514-04 | FD19: 609514-04 | FG19: 609514-04 | FJ19: 609514-04 | FM19: 609514-04 | FP19: 609514-04 | FS19: 609514-04 | FV19: 609514-04 | FY19: 609514-04
B20: =IF($D$8=$AG$78,AG83,IF($D$8=$AJ$78,AJ83,IF($D$8=$AM$78,AM83,IF($D$8=$AP$78,AP83)))) -> H.M10X200.Z | C20: =IF($D$8=$AG$78,AH83,IF($D$8=$AJ$78,AK83,IF($D$8=$AM$78,AN83,IF($D$8=$AP$78,AQ83)))) -> 4 | D20: =CONCATENATE(B20,C20) -> H.M10X200.Z4 | K20: =IFERROR(INDEX(V$18:FZ$38,ROWS($1:2),MATCH($L$8,$V$16:$FZ$16,0)),"") -> 609514-04 | L20: =IFERROR(INDEX(W$18:GA$38,ROWS($1:2),MATCH($L$8,$V$16:$FZ$16,0)),"") -> 0 | M20: =CONCATENATE(K20,L20) -> 609514-040 | N20: =IF(VLOOKUP(M20,$D$19:$D$49,1,FALSE)=M20,"Bon composant, bonne quantitée","Erreur de composant ou de quantité") -> #N/A | V20: 609514-03 | W20: 1 | Y20: 609514-03 | Z20: 1 | AB20: 609514-03 | AC20: 0 | AE20: 609514-03 | AF20: 0 | AH20: 609514-03 | AI20: 0 | AK20: 609514-03 | AL20: 0 | AN20: 609514-03 | AO20: 0 | AQ20: 609514-03 | AR20: 0 | AT20: 609514-03 | AU20: 0 | AW20: 609514-03 | AX20: 0 | AZ20: 609514-03 | BA20: 0 | BC20: 609514-03 | BD20: 0 | BF20: 609514-03 | BG20: 0 | BI20: 609514-03 | BJ20: 0 | BL20: 609514-03 | BM20: 0 | BO20: 609514-03 | BP20: 1 | BR20: 609514-03 | BS20: 0 | BU20: 609514-03 | BV20: 1 | BX20: 609514-03 | BY20: 0 | CA20: 609514-03 | CB20: 0 | CD20: 609514-03 | CE20: 0 | CG20: 609514-03 | CH20: 0 | CJ20: 609514-03 | CK20: 0 | CM20: 609514-03 | CN20: 1 | CP20: 609514-03 | CQ20: 0 | CS20: 609514-03 | CT20: 0 | CV20: 609514-03 | CW20: 0 | CY20: 609514-03 | CZ20: 0 | DB20: 609514-03 | DC20: 0 | DE20: 609514-03 | DF20: 0 | DH20: 609514-03 | DI20: 0 | DK20: 609514-03 | DL20: 0 | DN20: 609514-03 | DO20: 0 | DQ20: 609514-03 | DR20: 0 | DT20: 609514-03 | DU20: 0 | DW20: 609514-03 | DX20: 0 | DZ20: 609514-03 | EA20: 1 | EC20: 609514-03 | ED20: 0 | EF20: 609514-03 | EG20: 1 | EI20: 609514-03 | EJ20: 0 | EL20: 609514-03 | EM20: 0 | EO20: 609514-03 | EP20: 0 | ER20: 609514-03 | ES20: 0 | EU20: 609514-03 | EX20: 609514-03 | FA20: 609514-03 | FD20: 609514-03 | FG20: 609514-03 | FJ20: 609514-03 | FM20: 609514-03 | FP20: 609514-03 | FQ20: 1 | FS20: 609514-03 | FT20: 1 | FV20: 609514-03 | FW20: 1 | FY20: 609514-03 | FZ20: 1
B21: =IF($D$8=$AG$78,AG84,IF($D$8=$AJ$78,AJ84,IF($D$8=$AM$78,AM84,IF($D$8=$AP$78,AP84)))) -> RD.10X22.Z | C21: =IF($D$8=$AG$78,AH84,IF($D$8=$AJ$78,AK84,IF($D$8=$AM$78,AN84,IF($D$8=$AP$78,AQ84)))) -> 8 | D21: =CONCATENATE(B21,C21) -> RD.10X22.Z8 | K21: =IFERROR(INDEX(V$18:FZ$38,ROWS($1:3),MATCH($L$8,$V$16:$FZ$16,0)),"") -> 609514-03 | L21: =IFERROR(INDEX(W$18:GA$38,ROWS($1:3),MATCH($L$8,$V$16:$FZ$16,0)),"") -> 0 | M21: =CONCATENATE(K21,L21) -> 609514-030 | N21: =IF(VLOOKUP(M21,$D$19:$D$49,1,FALSE)=M21,"Bon composant, bonne quantitée","Erreur de composant ou de quantité") -> #N/A | V21: H.M10X200.Z | W21: 4 | Y21: H.M10X200.Z | Z21: 4 | AB21: H.M10X200.Z | AC21: 4 | AE21: H.M10X200.Z | AF21: 4 | AH21: H.M10X200.Z | AI21: 4 | AK21: H.M10X200.Z | AL21: 4 | AN21: H.M10X200.Z | AO21: 4 | AQ21: H.M10X200.Z | AR21: 4 | AT21: H.M10X200.Z | AU21: 0 | AW21: H.M10X200.Z | AX21: 0 | AZ21: H.M10X200.Z | BA21: 0 | BC21: H.M10X200.Z | BD21: 0 | BF21: H.M10X200.Z | BG21: 0 | BI21: H.M10X200.Z | BJ21: 4 | BL21: H.M10X200.Z | BM21: 4 | BO21: H.M10X200.Z | BP21: 4 | BR21: H.M10X200.Z | BS21: 4 | BU21: H.M10X200.Z | BV21: 4 | BX21: H.M10X200.Z | BY21: 4 | CA21: H.M10X200.Z | CB21: 4 | CD21: H.M10X200.Z | CE21: 4 | CG21: H.M10X200.Z | CH21: 0 | CJ21: H.M10X200.Z | CK21: 0 | CM21: H.M10X200.Z | CN21: 4 | CP21: H.M10X200.Z | CQ21: 0 | CS21: H.M10X200.Z | CT21: 0 | CV21: H.M10X200.Z | CW21: 4 | CY21: H.M10X200.Z | CZ21: 4 | DB21: H.M10X200.Z | DC21: 0 | DE21: H.M10X200.Z | DF21: 0 | DH21: H.M10X200.Z | DI21: 0 | DK21: H.M10X200.Z | DL21: 0 | DN21: H.M10X200.Z | DO21: 4 | DQ21: H.M10X200.Z | DR21: 0 | DT21: H.M10X200.Z | DU21: 4 | DW21: H.M10X200.Z | DX21: 4 | DZ21: H.M10X200.Z | EA21: 4 | EC21: H.M10X200.Z | ED21: 0 | EF21: H.M10X200.Z | EG21: 4 | EI21: H.M10X200.Z | EJ21: 4 | EL21: H.M10X200.Z | EM21: 0 | EO21: H.M10X200.Z | EP21: 0 | ER21: H.M10X200.Z | ES21: 4 | EU21: H.M10X200.Z | EV21: 2 | EX21: H.M10X200.Z | FA21: H.M10X200.Z | FB21: 4 | FD21: H.M10X200.Z | FE21: 4 | FG21: H.M10X200.Z | FH21: 4 | FJ21: H.M10X200.Z | FK21: 2 | FM21: H.M10X200.Z | FN21: 2 | FP21: H.M10X200.Z | FQ21: 4 | FS21: H.M10X200.Z | FT21: 4 | FV21: H.M10X200.Z | FW21: 4 | FY21: H.M10X200.Z | FZ21: 4
B22: =IF($D$8=$AG$78,AG85,IF($D$8=$AJ$78,AJ85,IF($D$8=$AM$78,AM85,IF($D$8=$AP$78,AP85)))) -> E.FRE.M10.Z | C22: =IF($D$8=$AG$78,AH85,IF($D$8=$AJ$78,AK85,IF($D$8=$AM$78,AN85,IF($D$8=$AP$78,AQ85)))) -> 4 | D22: =CONCATENATE(B22,C22) -> E.FRE.M10.Z4 | K22: =IFERROR(INDEX(V$18:FZ$38,ROWS($1:4),MATCH($L$8,$V$16:$FZ$16,0)),"") -> H.M10X200.Z | L22: =IFERROR(INDEX(W$18:GA$38,ROWS($1:4),MATCH($L$8,$V$16:$FZ$16,0)),"") -> 4 | M22: =CONCATENATE(K22,L22) -> H.M10X200.Z4 | N22: =IF(VLOOKUP(M22,$D$19:$D$49,1,FALSE)=M22,"Bon composant, bonne quantitée","Erreur de composant ou de quantité") -> Bon composant, bonne quantitée | V22: RD.12.27.Z | W22: 8 | Y22: RD.12.27.Z | Z22: 0 | AB22: RD.12.27.Z | AC22: 0 | AE22: RD.12.27.Z | AF22: 0 | AH22: RD.12.27.Z | AI22: 0 | AK22: RD.12.27.Z | AL22: 4 | AN22: RD.12.27.Z | AO22: 0 | AQ22: RD.12.27.Z | AR22: 0 | AT22: RD.12.27.Z | AU22: 11 | AW22: RD.12.27.Z | AX22: 0 | AZ22: RD.12.27.Z | BA22: 0 | BC22: RD.12.27.Z | BD22: 0 | BF22: RD.12.27.Z | BG22: 0 | BI22: RD.12.27.Z | BJ22: 8 | BL22: RD.12.27.Z | BM22: 0 | BO22: RD.12.27.Z | BP22: 0 | BR22: RD.12.27.Z | BS22: 0 | BU22: RD.12.27.Z | BV22: 0 | BX22: RD.12.27.Z | BY22: 0 | CA22: RD.12.27.Z | CB22: 0 | CD22: RD.12.27.Z | CE22: 0 | CG22: RD.12.27.Z | CH22: 0 | CJ22: RD.12.27.Z | CK22: 0 | CM22: RD.12.27.Z | CN22: 0 | CP22: RD.12.27.Z | CQ22: 0 | CS22: RD.12.27.Z | CT22: 0 | CV22: RD.12.27.Z | CW22: 0 | CY22: RD.12.27.Z | CZ22: 0 | DB22: RD.12.27.Z | DC22: 0 | DE22: RD.12.27.Z | DF22: 0 | DH22: RD.12.27.Z | DI22: 0 | DK22: RD.12.27.Z | DL22: 0 | DN22: RD.12.27.Z | DO22: 0 | DQ22: RD.12.27.Z | DR22: 0 | DT22: RD.12.27.Z | DU22: 0 | DW22: RD.12.27.Z | DX22: 0 | DZ22: RD.12.27.Z | EA22: 8 | EC22: RD.12.27.Z | ED22: 0 | EF22: RD.12.27.Z | EG22: 8 | EI22: RD.12.27.Z | EJ22: 0 | EL22: RD.12.27.Z | EM22: 0 | EO22: RD.12.27.Z | EP22: 0 | ER22: RD.12.27.Z | ES22: 0 | EU22: RD.12.27.Z | EX22: RD.12.27.Z | FA22: RD.12.27.Z | FD22: RD.12.27.Z | FG22: RD.12.27.Z | FH22: 8 | FJ22: RD.12.27.Z | FK22: 8 | FM22: RD.12.27.Z | FN22: 8 | FP22: RD.12.27.Z | FQ22: 8 | FS22: RD.12.27.Z | FT22: 8 | FV22: RD.12.27.Z | FW22: 8 | FY22: RD.12.27.Z | FZ22: 8
B23: =IF($D$8=$AG$78,AG86,IF($D$8=$AJ$78,AJ86,IF($D$8=$AM$78,AM86,IF($D$8=$AP$78,AP86)))) -> TRCC.M14X180.Z | C23: =IF($D$8=$AG$78,AH86,IF($D$8=$AJ$78,AK86,IF($D$8=$AM$78,AN86,IF($D$8=$AP$78,AQ86)))) -> 8 | D23: =CONCATENATE(B23,C23) -> TRCC.M14X180.Z8 | K23: =IFERROR(INDEX(V$18:FZ$38,ROWS($1:5),MATCH($L$8,$V$16:$FZ$16,0)),"") -> RD.12.27.Z | L23: =IFERROR(INDEX(W$18:GA$38,ROWS($1:5),MATCH($L$8,$V$16:$FZ$16,0)),"") -> 8 | M23: =CONCATENATE(K23,L23) -> RD.12.27.Z8 | N23: =IF(VLOOKUP(M23,$D$19:$D$49,1,FALSE)=M23,"Bon composant, bonne quantitée","Erreur de composant ou de quantité") -> #N/A | V23: E.FRE.M10.Z | W23: 4 | Y23: E.FRE.M10.Z | Z23: 4 | AB23: E.FRE.M10.Z | AC23: 7 | AE23: E.FRE.M10.Z | AF23: 7 | AH23: E.FRE.M10.Z | AI23: 7 | AK23: E.FRE.M10.Z | AL23: 4 | AN23: E.FRE.M10.Z | AO23: 7 | AQ23: E.FRE.M10.Z | AR23: 7 | AT23: E.FRE.M10.Z | AU23: 7 | AW23: E.FRE.M10.Z | AX23: 0 | AZ23: E.FRE.M10.Z | BA23: 0 | BC23: E.FRE.M10.Z | BD23: 0 | BF23: E.FRE.M10.Z | BG23: 0 | BI23: E.FRE.M10.Z | BJ23: 4 | BL23: E.FRE.M10.Z | BM23: 4 | BO23: E.FRE.M10.Z | BP23: 7 | BR23: E.FRE.M10.Z | BS23: 4 | BU23: E.FRE.M10.Z | BV23: 7 | BX23: E.FRE.M10.Z | BY23: 7 | CA23: E.FRE.M10.Z | CB23: 7 | CD23: E.FRE.M10.Z | CE23: 7 | CG23: E.FRE.M10.Z | CH23: 0 | CJ23: E.FRE.M10.Z | CK23: 0 | CM23: E.FRE.M10.Z | CN23: 7 | CP23: E.FRE.M10.Z | CQ23: 0 | CS23: E.FRE.M10.Z | CT23: 0 | CV23: E.FRE.M10.Z | CW23: 4 | CY23: E.FRE.M10.Z | CZ23: 6 | DB23: E.FRE.M10.Z | DC23: 0 | DE23: E.FRE.M10.Z | DF23: 0 | DH23: E.FRE.M10.Z | DI23: 0 | DK23: E.FRE.M10.Z | DL23: 0 | DN23: E.FRE.M10.Z | DO23: 4 | DQ23: E.FRE.M10.Z | DR23: 0 | DT23: E.FRE.M10.Z | DU23: 6 | DW23: E.FRE.M10.Z | DX23: 4 | DZ23: E.FRE.M10.Z | EA23: 4 | EC23: E.FRE.M10.Z | ED23: 0 | EF23: E.FRE.M10.Z | EG23: 4 | EI23: E.FRE.M10.Z | EJ23: 6 | EL23: E.FRE.M10.Z | EM23: 0 | EO23: E.FRE.M10.Z | EP23: 0 | ER23: E.FRE.M10.Z | ES23: 4 | EU23: E.FRE.M10.Z | EV23: 2 | EX23: E.FRE.M10.Z | EY23: 8 | FA23: E.FRE.M10.Z | FB23: 4 | FD23: E.FRE.M10.Z | FE23: 4 | FG23: E.FRE.M10.Z | FH23: 4 | FJ23: E.FRE.M10.Z | FK23: 4 | FM23: E.FRE.M10.Z | FN23: 4 | FP23: E.FRE.M10.Z | FQ23: 7 | FS23: E.FRE.M10.Z | FT23: 7 | FV23: E.FRE.M10.Z | FW23: 7 | FY23: E.FRE.M10.Z | FZ23: 7
B24: =IF($D$8=$AG$78,AG87,IF($D$8=$AJ$78,AJ87,IF($D$8=$AM$78,AM87,IF($D$8=$AP$78,AP87)))) -> RD.14PZ | C24: =IF($D$8=$AG$78,AH87,IF($D$8=$AJ$78,AK87,IF($D$8=$AM$78,AN87,IF($D$8=$AP$78,AQ87)))) -> 8 | D24: =CONCATENATE(B24,C24) -> RD.14PZ8 | K24: =IFERROR(INDEX(V$18:FZ$38,ROWS($1:6),MATCH($L$8,$V$16:$FZ$16,0)),"") -> E.FRE.M10.Z | L24: =IFERROR(INDEX(W$18:GA$38,ROWS($1:6),MATCH($L$8,$V$16:$FZ$16,0)),"") -> 4 | M24: =CONCATENATE(K24,L24) -> E.FRE.M10.Z4 | N24: =IF(VLOOKUP(M24,$D$19:$D$49,1,FALSE)=M24,"Bon composant, bonne quantitée","Erreur de composant ou de quantité") -> Bon composant, bonne quantitée | V24: TRCC.M14X180.Z | W24: 8 | Y24: TRCC.M14X180.Z | Z24: 12 | AB24: TRCC.M14X180.Z | AC24: 8 | AE24: TRCC.M14X180.Z | AF24: 8 | AH24: TRCC.M14X180.Z | AI24: 8 | AK24: TRCC.M14X180.Z | AL24: 8 | AN24: TRCC.M14X180.Z | AO24: 0 | AQ24: TRCC.M14X180.Z | AR24: 0 | AT24: TRCC.M14X180.Z | AU24: 0 | AW24: TRCC.M14X180.Z | AX24: 0 | AZ24: TRCC.M14X180.Z | BA24: 0 | BC24: TRCC.M14X180.Z | BD24: 0 | BF24: TRCC.M14X180.Z | BG24: 2 | BI24: TRCC.M14X180.Z | BJ24: 12 | BL24: TRCC.M14X180.Z | BM24: 16 | BO24: TRCC.M14X180.Z | BP24: 8 | BR24: TRCC.M14X180.Z | BS24: 8 | BU24: TRCC.M14X180.Z | BV24: 8 | BX24: TRCC.M14X180.Z | BY24: 0 | CA24: TRCC.M14X180.Z | CB24: 0 | CD24: TRCC.M14X180.Z | CE24: 8 | CG24: TRCC.M14X180.Z | CH24: 0 | CJ24: TRCC.M14X180.Z | CK24: 0 | CM24: TRCC.M14X180.Z | CN24: 8 | CP24: TRCC.M14X180.Z | CQ24: 0 | CS24: TRCC.M14X180.Z | CT24: 0 | CV24: TRCC.M14X180.Z | CW24: 8 | CY24: TRCC.M14X180.Z | CZ24: 16 | DB24: TRCC.M14X180.Z | DC24: 0 | DE24: TRCC.M14X180.Z | DF24: 0 | DH24: TRCC.M14X180.Z | DI24: 0 | DK24: TRCC.M14X180.Z | DL24: 0 | DN24: TRCC.M14X180.Z | DO24: 8 | DQ24: TRCC.M14X180.Z | DR24: 0 | DT24: TRCC.M14X180.Z | DU24: 16 | DW24: TRCC.M14X180.Z | DX24: 8 | DZ24: TRCC.M14X180.Z | EA24: 8 | EC24: TRCC.M14X180.Z | ED24: 0 | EF24: TRCC.M14X180.Z | EG24: 8 | EI24: TRCC.M14X180.Z | EJ24: 16 | EL24: TRCC.M14X180.Z | EM24: 0 | EO24: TRCC.M14X180.Z | EP24: 0 | ER24: TRCC.M14X180.Z | ES24: 8 | EU24: TRCC.M14X180.Z | EV24: 8 | EX24: TRCC.M14X180.Z | EY24: 4 | FA24: TRCC.M14X180.Z | FB24: 8 | FD24: TRCC.M14X180.Z | FE24: 8 | FG24: TRCC.M14X180.Z | FH24: 8 | FJ24: TRCC.M14X180.Z | FK24: 8 | FM24: TRCC.M14X180.Z | FN24: 8 | FP24: TRCC.M14X180.Z | FQ24: 8 | FS24: TRCC.M14X180.Z | FT24: 8 | FV24: TRCC.M14X180.Z | FW24: 8 | FY24: TRCC.M14X180.Z | FZ24: 8
B25: =IF($D$8=$AG$78,AG88,IF($D$8=$AJ$78,AJ88,IF($D$8=$AM$78,AM88,IF($D$8=$AP$78,AP88)))) -> E.FRE.M14.Z | C25: =IF($D$8=$AG$78,AH88,IF($D$8=$AJ$78,AK88,IF($D$8=$AM$78,AN88,IF($D$8=$AP$78,AQ88)))) -> 8 | D25: =CONCATENATE(B25,C25) -> E.FRE.M14.Z8 | K25: =IFERROR(INDEX(V$18:FZ$38,ROWS($1:7),MATCH($L$8,$V$16:$FZ$16,0)),"") -> TRCC.M14X180.Z | L25: =IFERROR(INDEX(W$18:GA$38,ROWS($1:7),MATCH($L$8,$V$16:$FZ$16,0)),"") -> 8 | M25: =CONCATENATE(K25,L25) -> TRCC.M14X180.Z8 | N25: =IF(VLOOKUP(M25,$D$19:$D$49,1,FALSE)=M25,"Bon composant, bonne quantitée","Erreur de composant ou de quantité") -> Bon composant, bonne quantitée | V25: RD.16X32.Z | W25: 12 | Y25: RD.16X32.Z | Z25: 0 | AB25: RD.16X32.Z | AC25: 0 | AE25: RD.16X32.Z | AF25: 0 | AH25: RD.16X32.Z | AI25: 0 | AK25: RD.16X32.Z | AL25: 12 | AN25: RD.16X32.Z | AO25: 0 | AQ25: RD.16X32.Z | AR25: 0 | AT25: RD.16X32.Z | AU25: 10 | AW25: RD.16X32.Z | AX25: 0 | AZ25: RD.16X32.Z | BA25: 10 | BC25: RD.16X32.Z | BD25: 12 | BF25: RD.16X32.Z | BG25: 11 | BI25: RD.16X32.Z | BJ25: 30 | BL25: RD.16X32.Z | BM25: 0 | BO25: RD.16X32.Z | BP25: 0 | BR25: RD.16X32.Z | BS25: 0 | BU25: RD.16X32.Z | BV25: 0 | BX25: RD.16X32.Z | BY25: 0 | CA25: RD.16X32.Z | CB25: 0 | CD25: RD.16X32.Z | CE25: 0 | CG25: RD.16X32.Z | CH25: 0 | CJ25: RD.16X32.Z | CK25: 0 | CM25: RD.16X32.Z | CN25: 0 | CP25: RD.16X32.Z | CQ25: 0 | CS25: RD.16X32.Z | CT25: 0 | CV25: RD.16X32.Z | CW25: 0 | CY25: RD.16X32.Z | CZ25: 0 | DB25: RD.16X32.Z | DC25: 10 | DE25: RD.16X32.Z | DF25: 10 | DH25: RD.16X32.Z | DI25: 10 | DK25: RD.16X32.Z | DL25: 20 | DN25: RD.16X32.Z | DO25: 0 | DQ25: RD.16X32.Z | DR25: 0 | DT25: RD.16X32.Z | DU25: 0 | DW25: RD.16X32.Z | DX25: 0 | DZ25: RD.16X32.Z | EA25: 12 | EC25: RD.16X32.Z | ED25: 10 | EF25: RD.16X32.Z | EG25: 12 | EI25: RD.16X32.Z | EJ25: 0 | EL25: RD.16X32.Z | EM25: 10 | EO25: RD.16X32.Z | EP25: 10 | ER25: RD.16X32.Z | ES25: 0 | EU25: RD.16X32.Z | EX25: RD.16X32.Z | FA25: RD.16X32.Z | FD25: RD.16X32.Z | FG25: RD.16X32.Z | FH25: 12 | FJ25: RD.16X32.Z | FK25: 12 | FM25: RD.16X32.Z | FN25: 12 | FP25: RD.16X32.Z | FQ25: 12 | FS25: RD.16X32.Z | FT25: 12 | FV25: RD.16X32.Z | FW25: 12 | FY25: RD.16X32.Z | FZ25: 12
B26: =IF($D$8=$AG$78,AG89,IF($D$8=$AJ$78,AJ89,IF($D$8=$AM$78,AM89,IF($D$8=$AP$78,AP89)))) -> H.M14X040.G | C26: =IF($D$8=$AG$78,AH89,IF($D$8=$AJ$78,AK89,IF($D$8=$AM$78,AN89,IF($D$8=$AP$78,AQ89)))) -> 2 | D26: =CONCATENATE(B26,C26) -> H.M14X040.G2 | K26: =IFERROR(INDEX(V$18:FZ$38,ROWS($1:8),MATCH($L$8,$V$16:$FZ$16,0)),"") -> RD.16X32.Z | L26: =IFERROR(INDEX(W$18:GA$38,ROWS($1:8),MATCH($L$8,$V$16:$FZ$16,0)),"") -> 12 | M26: =CONCATENATE(K26,L26) -> RD.16X32.Z12 | N26: =IF(VLOOKUP(M26,$D$19:$D$49,1,FALSE)=M26,"Bon composant, bonne quantitée","Erreur de composant ou de quantité") -> #N/A | V26: E.FRE.M14.Z | W26: 10 | Y26: E.FRE.M14.Z | Z26: 15 | AB26: E.FRE.M14.Z | AC26: 8 | AE26: E.FRE.M14.Z | AF26: 8 | AH26: E.FRE.M14.Z | AI26: 8 | AK26: E.FRE.M14.Z | AL26: 12 | AN26: E.FRE.M14.Z | AO26: 0 | AQ26: E.FRE.M14.Z | AR26: 0 | AT26: E.FRE.M14.Z | AU26: 8 | AW26: E.FRE.M14.Z | AX26: 8 | AZ26: E.FRE.M14.Z | BA26: 8 | BC26: E.FRE.M14.Z | BD26: 12 | BF26: E.FRE.M14.Z | BG26: 6 | BI26: E.FRE.M14.Z | BJ26: 15 | BL26: E.FRE.M14.Z | BM26: 16 | BO26: E.FRE.M14.Z | BP26: 8 | BR26: E.FRE.M14.Z | BS26: 8 | BU26: E.FRE.M14.Z | BV26: 8 | BX26: E.FRE.M14.Z | BY26: 0 | CA26: E.FRE.M14.Z | CB26: 4 | CD26: E.FRE.M14.Z | CE26: 4 | CG26: E.FRE.M14.Z | CH26: 0 | CJ26: E.FRE.M14.Z | CK26: 0 | CM26: E.FRE.M14.Z | CN26: 8 | CP26: E.FRE.M14.Z | CQ26: 0 | CS26: E.FRE.M14.Z | CT26: 8 | CV26: E.FRE.M14.Z | CW26: 8 | CY26: E.FRE.M14.Z | CZ26: 18 | DB26: E.FRE.M14.Z | DC26: 8 | DE26: E.FRE.M14.Z | DF26: 8 | DH26: E.FRE.M14.Z | DI26: 8 | DK26: E.FRE.M14.Z | DL26: 16 | DN26: E.FRE.M14.Z | DO26: 8 | DQ26: E.FRE.M14.Z | DR26: 12 | DT26: E.FRE.M14.Z | DU26: 18 | DW26: E.FRE.M14.Z | DX26: 8 | DZ26: E.FRE.M14.Z | EA26: 10 | EC26: E.FRE.M14.Z | ED26: 8 | EF26: E.FRE.M14.Z | EG26: 10 | EI26: E.FRE.M14.Z | EJ26: 18 | EL26: E.FRE.M14.Z | EM26: 8 | EO26: E.FRE.M14.Z | EP26: 8 | ER26: E.FRE.M14.Z | ES26: 8 | EU26: E.FRE.M14.Z | EV26: 8 | EX26: E.FRE.M14.Z | EY26: 12 | FA26: E.FRE.M14.Z | FB26: 12 | FD26: E.FRE.M14.Z | FE26: 10 | FG26: E.FRE.M14.Z | FH26: 4 | FJ26: E.FRE.M14.Z | FK26: 8 | FM26: E.FRE.M14.Z | FN26: 8 | FP26: E.FRE.M14.Z | FQ26: 8 | FS26: E.FRE.M14.Z | FT26: 8 | FV26: E.FRE.M14.Z | FW26: 8 | FY26: E.FRE.M14.Z | FZ26: 8
B27: =IF($D$8=$AG$78,AG90,IF($D$8=$AJ$78,AJ90,IF($D$8=$AM$78,AM90,IF($D$8=$AP$78,AP90)))) -> E.M14.G | C27: =IF($D$8=$AG$78,AH90,IF($D$8=$AJ$78,AK90,IF($D$8=$AM$78,AN90,IF($D$8=$AP$78,AQ90)))) -> 4 | D27: =CONCATENATE(B27,C27) -> E.M14.G4 | K27: =IFERROR(INDEX(V$18:FZ$38,ROWS($1:9),MATCH($L$8,$V$16:$FZ$16,0)),"") -> E.FRE.M14.Z | L27: =IFERROR(INDEX(W$18:GA$38,ROWS($1:9),MATCH($L$8,$V$16:$FZ$16,0)),"") -> 4 | M27: =CONCATENATE(K27,L27) -> E.FRE.M14.Z4 | N27: =IF(VLOOKUP(M27,$D$19:$D$49,1,FALSE)=M27,"Bon composant, bonne quantitée","Erreur de composant ou de quantité") -> #N/A | V27: H.M14X040.G | W27: 2 | Y27: H.M14X040.G | Z27: 3 | AB27: H.M14X040.G | AC27: 2 | AE27: H.M14X040.G | AF27: 2 | AH27: H.M14X040.G | AI27: 2 | AK27: H.M14X040.G | AL27: 0 | AN27: H.M14X040.G | AO27: 2 | AQ27: H.M14X040.G | AR27: 2 | AT27: H.M14X040.G | AU27: 2 | AW27: H.M14X040.G | AX27: 2 | AZ27: H.M14X040.G | BA27: 2 | BC27: H.M14X040.G | BD27: 2 | BF27: H.M14X040.G | BG27: 0 | BI27: H.M14X040.G | BJ27: 0 | BL27: H.M14X040.G | BM27: 4 | BO27: H.M14X040.G | BP27: 2 | BR27: H.M14X040.G | BS27: 2 | BU27: H.M14X040.G | BV27: 2 | BX27: H.M14X040.G | BY27: 2 | CA27: H.M14X040.G | CB27: 2 | CD27: H.M14X040.G | CE27: 2 | CG27: H.M14X040.G | CH27: 2 | CJ27: H.M14X040.G | CK27: 2 | CM27: H.M14X040.G | CN27: 2 | CP27: H.M14X040.G | CQ27: 2 | CS27: H.M14X040.G | CT27: 2 | CV27: H.M14X040.G | CW27: 2 | CY27: H.M14X040.G | CZ27: 4 | DB27: H.M14X040.G | DC27: 2 | DE27: H.M14X040.G | DF27: 2 | DH27: H.M14X040.G | DI27: 2 | DK27: H.M14X040.G | DL27: 4 | DN27: H.M14X040.G | DO27: 2 | DQ27: H.M14X040.G | DR27: 0 | DT27: H.M14X040.G | DU27: 4 | DW27: H.M14X040.G | DX27: 2 | DZ27: H.M14X040.G | EA27: 2 | EC27: H.M14X040.G | ED27: 2 | EF27: H.M14X040.G | EG27: 2 | EI27: H.M14X040.G | EJ27: 4 | EL27: H.M14X040.G | EM27: 2 | EO27: H.M14X040.G | EP27: 2 | ER27: H.M14X040.G | ES27: 2 | EU27: H.M14X040.G | EX27: H.M14X040.G | FA27: H.M14X040.G | FD27: H.M14X040.G | FG27: H.M14X040.G | FJ27: H.M14X040.G | FK27: 2 | FM27: H.M14X040.G | FN27: 2 | FP27: H.M14X040.G | FQ27: 2 | FS27: H.M14X040.G | FT27: 2 | FV27: H.M14X040.G | FW27: 2 | FY27: H.M14X040.G | FZ27: 2
B28: =IF($D$8=$AG$78,AG91,IF($D$8=$AJ$78,AJ91,IF($D$8=$AM$78,AM91,IF($D$8=$AP$78,AP91)))) -> 690901 | C28: =IF($D$8=$AG$78,AH91,IF($D$8=$AJ$78,AK91,IF($D$8=$AM$78,AN91,IF($D$8=$AP$78,AQ91)))) -> 11 | D28: =CONCATENATE(B28,C28) -> 69090111 | K28: =IFERROR(INDEX(V$18:FZ$38,ROWS($1:10),MATCH($L$8,$V$16:$FZ$16,0)),"") -> H.M14X040.G | L28: =IFERROR(INDEX(W$18:GA$38,ROWS($1:10),MATCH($L$8,$V$16:$FZ$16,0)),"") -> 0 | M28: =CONCATENATE(K28,L28) -> H.M14X040.G0 | N28: =IF(VLOOKUP(M28,$D$19:$D$49,1,FALSE)=M28,"Bon composant, bonne quantitée","Erreur de composant ou de quantité") -> #N/A | V28: 690901 | W28: 11 | Y28: 690901 | Z28: 11 | AB28: 690901 | AC28: 11 | AE28: 690901 | AF28: 11 | AH28: 690901 | AI28: 11 | AK28: 690901 | AL28: 8 | AN28: 690901 | AO28: 11 | AQ28: 690901 | AR28: 11 | AT28: 690901 | AU28: 0 | AW28: 690901 | AX28: 0 | AZ28: 690901 | BA28: 1 | BC28: 690901 | BD28: 1 | BF28: 690901 | BG28: 0 | BI28: 690901 | BJ28: 8 | BL28: 690901 | BM28: 10 | BO28: 690901 | BP28: 11 | BR28: 690901 | BS28: 8 | BU28: 690901 | BV28: 11 | BX28: 690901 | BY28: 11 | CA28: 690901 | CB28: 11 | CD28: 690901 | CE28: 11 | CG28: 690901 | CH28: 0 | CJ28: 690901 | CK28: 0 | CM28: 690901 | CN28: 11 | CP28: 690901 | CQ28: 0 | CS28: 690901 | CT28: 0 | CV28: 690901 | CW28: 8 | CY28: 690901 | CZ28: 10 | DB28: 690901 | DC28: 0 | DE28: 690901 | DF28: 0 | DH28: 690901 | DI28: 0 | DK28: 690901 | DL28: 0 | DN28: 690901 | DO28: 8 | DQ28: 690901 | DR28: 0 | DT28: 690901 | DU28: 10 | DW28: 690901 | DX28: 8 | DZ28: 690901 | EA28: 11 | EC28: 690901 | ED28: 0 | EF28: 690901 | EG28: 11 | EI28: 690901 | EJ28: 10 | EL28: 690901 | EM28: 0 | EO28: 690901 | EP28: 0 | ER28: 690901 | ES28: 8 | EU28: 690901 | EV28: 4 | EX28: 690901 | EY28: 8 | FA28: 690901 | FB28: 11 | FD28: 690901 | FE28: 11 | FG28: 690901 | FH28: 8 | FJ28: 690901 | FK28: 6 | FM28: 690901 | FN28: 6 | FP28: 690901 | FQ28: 11 | FS28: 690901 | FT28: 11 | FV28: 690901 | FW28: 11 | FY28: 690901 | FZ28: 11
B29: =IF($D$8=$AG$78,AG92,IF($D$8=$AJ$78,AJ92,IF($D$8=$AM$78,AM92,IF($D$8=$AP$78,AP92)))) -> 609514-04 | C29: =IF($D$8=$AG$78,AH92,IF($D$8=$AJ$78,AK92,IF($D$8=$AM$78,AN92,IF($D$8=$AP$78,AQ92)))) -> 2 | D29: =CONCATENATE(B29,C29) -> 609514-042 | K29: =IFERROR(INDEX(V$18:FZ$38,ROWS($1:11),MATCH($L$8,$V$16:$FZ$16,0)),"") -> 690901 | L29: =IFERROR(INDEX(W$18:GA$38,ROWS($1:11),MATCH($L$8,$V$16:$FZ$16,0)),"") -> 8 | M29: =CONCATENATE(K29,L29) -> 6909018 | N29: =IF(VLOOKUP(M29,$D$19:$D$49,1,FALSE)=M29,"Bon composant, bonne quantitée","Erreur de composant ou de quantité") -> #N/A | V29: 609594 | W29: 1 | Y29: 609594 | Z29: 1 | AB29: 609594 | AC29: 1 | AE29: 609594 | AF29: 0 | AH29: 609594 | AI29: 0 | AK29: 609594 | AL29: 1 | AN29: 609594 | AO29: 0 | AQ29: 609594 | AR29: 1 | AT29: 609594 | AU29: 1 | AW29: 609594 | AX29: 1 | AZ29: 609594 | BA29: 1 | BC29: 609594 | BD29: 1 | BF29: 609594 | BG29: 0 | BI29: 609594 | BJ29: 2 | BL29: 609594 | BM29: 2 | BO29: 609594 | BP29: 1 | BR29: 609594 | BS29: 0 | BU29: 609594 | BV29: 1 | BX29: 609594 | BY29: 1 | CA29: 609594 | CB29: 1 | CD29: 609594 | CE29: 0 | CG29: 609594 | CH29: 0 | CJ29: 609594 | CK29: 0 | CM29: 609594 | CN29: 1 | CP29: 609594 | CQ29: 0 | CS29: 609594 | CT29: 0 | CV29: 609594 | CW29: 1 | CY29: 609594 | CZ29: 1 | DB29: 609594 | DC29: 1 | DE29: 609594 | DF29: 1 | DH29: 609594 | DI29: 1 | DK29: 609594 | DL29: 0 | DN29: 609594 | DO29: 1 | DQ29: 609594 | DR29: 1 | DT29: 609594 | DU29: 1 | DW29: 609594 | DX29: 0 | DZ29: 609594 | EA29: 1 | EC29: 609594 | ED29: 1 | EF29: 609594 | EG29: 1 | EI29: 609594 | EJ29: 1 | EL29: 609594 | EM29: 1 | EO29: 609594 | EP29: 1 | ER29: 609594 | ES29: 1 | EU29: 609594 | EV29: 1 | EX29: 609594 | EY29: 1 | FA29: 609594 | FB29: 1 | FD29: 609594 | FE29: 1 | FG29: 609594 | FH29: 1 | FJ29: 609594 | FK29: 2 | FM29: 609594 | FN29: 2 | FP29: 609594 | FQ29: 1 | FS29: 609594 | FT29: 1 | FV29: 609594 | FW29: 1 | FY29: 609594 | FZ29: 1
B30: =IF($D$8=$AG$78,AG93,IF($D$8=$AJ$78,AJ93,IF($D$8=$AM$78,AM93,IF($D$8=$AP$78,AP93)))) -> 609514-03 | C30: =IF($D$8=$AG$78,AH93,IF($D$8=$AJ$78,AK93,IF($D$8=$AM$78,AN93,IF($D$8=$AP$78,AQ93)))) -> 1 | D30: =CONCATENATE(B30,C30) -> 609514-031 | K30: =IFERROR(INDEX(V$18:FZ$38,ROWS($1:12),MATCH($L$8,$V$16:$FZ$16,0)),"") -> 609594 | L30: =IFERROR(INDEX(W$18:GA$38,ROWS($1:12),MATCH($L$8,$V$16:$FZ$16,0)),"") -> 1 | M30: =CONCATENATE(K30,L30) -> 6095941 | N30: =IF(VLOOKUP(M30,$D$19:$D$49,1,FALSE)=M30,"Bon composant, bonne quantitée","Erreur de composant ou de quantité") -> #N/A | V30: 609593 | W30: 1 | Y30: 609593 | Z30: 1 | AB30: 609593 | AC30: 1 | AE30: 609593 | AF30: 0 | AH30: 609593 | AI30: 0 | AK30: 609593 | AL30: 1 | AN30: 609593 | AO30: 1 | AQ30: 609593 | AR30: 1 | AT30: 609593 | AU30: 1 | AW30: 609593 | AX30: 1 | AZ30: 609593 | BA30: 1 | BC30: 609593 | BD30: 0 | BF30: 609593 | BG30: 0 | BI30: 609593 | BJ30: 0 | BL30: 609593 | BM30: 2 | BO30: 609593 | BP30: 1 | BR30: 609593 | BS30: 0 | BU30: 609593 | BV30: 1 | BX30: 609593 | BY30: 1 | CA30: 609593 | CB30: 1 | CD30: 609593 | CE30: 1 | CG30: 609593 | CH30: 0 | CJ30: 609593 | CK30: 0 | CM30: 609593 | CN30: 0 | CP30: 609593 | CQ30: 0 | CS30: 609593 | CT30: 0 | CV30: 609593 | CW30: 0 | CY30: 609593 | CZ30: 0 | DB30: 609593 | DC30: 1 | DE30: 609593 | DF30: 1 | DH30: 609593 | DI30: 1 | DK30: 609593 | DL30: 0 | DN30: 609593 | DO30: 1 | DQ30: 609593 | DR30: 1 | DT30: 609593 | DU30: 0 | DW30: 609593 | DX30: 0 | DZ30: 609593 | EA30: 1 | EC30: 609593 | ED30: 1 | EF30: 609593 | EG30: 1 | EI30: 609593 | EJ30: 0 | EL30: 609593 | EM30: 1 | EO30: 609593 | EP30: 1 | ER30: 609593 | ES30: 1 | EU30: 609593 | EV30: 1 | EX30: 609593 | FA30: 609593 | FD30: 609593 | FG30: 609593 | FJ30: 609593 | FM30: 609593 | FP30: 609593 | FQ30: 1 | FS30: 609593 | FT30: 1 | FV30: 609593 | FW30: 1 | FY30: 609593 | FZ30: 1
B31: =IF($D$8=$AG$78,AG94,IF($D$8=$AJ$78,AJ94,IF($D$8=$AM$78,AM94,IF($D$8=$AP$78,AP94)))) -> USINE | C31: =IF($D$8=$AG$78,AH94,IF($D$8=$AJ$78,AK94,IF($D$8=$AM$78,AN94,IF($D$8=$AP$78,AQ94)))) -> 0 | D31: =CONCATENATE(B31,C31) -> USINE0 | K31: =IFERROR(INDEX(V$18:FZ$38,ROWS($1:13),MATCH($L$8,$V$16:$FZ$16,0)),"") -> 609593 | L31: =IFERROR(INDEX(W$18:GA$38,ROWS($1:13),MATCH($L$8,$V$16:$FZ$16,0)),"") -> 0 | M31: =CONCATENATE(K31,L31) -> 6095930 | N31: =IF(VLOOKUP(M31,$D$19:$D$49,1,FALSE)=M31,"Bon composant, bonne quantitée","Erreur de composant ou de quantité") -> #N/A | Y31: RD.10X22.Z | Z31: 8 | AB31: E.M14.G | AC31: 4 | AE31: E.M14.G | AF31: 4 | AH31: E.M14.G | AI31: 4 | AK31: H.M14X35.Z | AL31: 2 | AN31: E.M16.G | AO31: 8 | AQ31: E.M16.G | AR31: 8 | AT31: 609631-01 | AU31: 1 | AW31: H.M14X160.Z | AX31: 2 | AZ31: H.M14X160.Z | BA31: 2 | BC31: H.M14X160.Z | BD31: 2 | BF31: H.M14X140.Z | BG31: 2 | BI31: 609637 | BJ31: 1 | BL31: RD.10X22.Z | BM31: 10 | BO31: RD.10X22.Z | BP31: 11 | BR31: RD.10X22.Z | BS31: 8 | BU31: RD.10X22.Z | BV31: 11 | BX31: RD.10X22.Z | BY31: 11 | CA31: RD.10X22.Z | CB31: 11 | CD31: RD.10X22.Z | CE31: 11 | CG31: RD.14X30.G | CH31: 4 | CJ31: RD.14X30.G | CK31: 4 | CM31: RD.10X22.Z | CN31: 11 | CP31: 609513 | CQ31: 1 | CS31: TRCC.M14X160.Z | CT31: 8 | CV31: RD.10X22.Z | CW31: 8 | CY31: RD.10X22.Z | CZ31: 10 | DB31: E.M14.G | DC31: 4 | DE31: E.M10.G | DF31: 4 | DH31: E.M14.G | DI31: 4 | DK31: E.M10.G | DL31: 8 | DN31: RD.10X22.Z | DO31: 8 | DQ31: H.MX14X160.Z | DR31: 2 | DT31: RD.10X22.Z | DU31: 10 | DW31: 609513 | DX31: 1 | DZ31: 0 | EA31: 0 | EC31: 609631-01 | ED31: 1 | EF31: 0 | EG31: 0 | EI31: RD.10X22.Z | EJ31: 10 | EL31: H.MX14X160.Z | EM31: 2 | EO31: H.MX14X160.Z | EP31: 2 | ER31: RD.10X22.Z | ES31: 8 | EU31: RD.14PZ | EV31: 12 | EX31: H.M14X35.Z | EY31: 2 | FA31: H.M14X35.Z | FB31: 2 | FD31: H.M14X35.Z | FE31: 2 | FG31: H.M14X35.Z | FH31: 2 | FJ31: 609514-01 | FK31: 1 | FM31: 609514-01 | FN31: 1 | FS31: E.M10.Z | FT31: 7
B32: =IF($D$8=$AG$78,AG95,IF($D$8=$AJ$78,AJ95,IF($D$8=$AM$78,AM95,IF($D$8=$AP$78,AP95)))) -> V.TFTX06X160.I | C32: =IF($D$8=$AG$78,AH95,IF($D$8=$AJ$78,AK95,IF($D$8=$AM$78,AN95,IF($D$8=$AP$78,AQ95)))) -> 2 | D32: =CONCATENATE(B32,C32) -> V.TFTX06X160.I2 | K32: =IFERROR(INDEX(V$18:FZ$38,ROWS($1:14),MATCH($L$8,$V$16:$FZ$16,0)),"") -> H.M14X35.Z | L32: =IFERROR(INDEX(W$18:GA$38,ROWS($1:14),MATCH($L$8,$V$16:$FZ$16,0)),"") -> 2 | M32: =CONCATENATE(K32,L32) -> H.M14X35.Z2 | N32: =IF(VLOOKUP(M32,$D$19:$D$49,1,FALSE)=M32,"Bon composant, bonne quantitée","Erreur de composant ou de quantité") -> #N/A | Y32: RD.14PZ | Z32: 18 | AB32: RD.10X22.Z | AC32: 11 | AE32: RD.10X22 | AF32: 11 | AH32: RD.10X22.Z | AI32: 11 | AN32: 609514-05 | AO32: 1 | AQ32: 609514-05 | AR32: 1 | AT32: TRCC.14X160.Z | AU32: 6 | AW32: E.M14.G | AX32: 4 | AZ32: E.M14.G | BA32: 4 | BC32: TRCC.14X160.Z | BD32: 6 | BF32: H.M14X035.Z | BG32: 2 | BI32: 609631-01 | BJ32: 1 | BL32: 609514-13 | BM32: 0 | BO32: 609514-13 | BP32: 2 | BR32: 609513 | BS32: 1 | BU32: 609514-13 | BV32: 2 | BX32: 609514-05 | BY32: 2 | CA32: 609514-05 | CB32: 1 | CD32: 609514-05 | CE32: 1 | CG32: E.M14.G | CH32: 4 | CJ32: 609513 | CK32: 1 | CM32: E.M14.G | CN32: 4 | CP32: E.M14.G | CQ32: 4 | CS32: E.M14.G | CT32: 4 | CV32: E.M14.Z | CW32: 4 | CY32: E.M14.G | CZ32: 4 | DB32: 609631-01 | DC32: 1 | DE32: 609631-01 | DF32: 1 | DH32: 609631-01 | DI32: 1 | DK32: 609631-01 | DL32: 2 | DN32: E.M14.G | DO32: 4 | DQ32: TRCC.M14X160.Z | DR32: 6 | DT32: E.M14.G | DU32: 4 | DW32: 609424-03 | DX32: 1 | DZ32: 0 | EA32: 0 | EC32: E.M14.G | ED32: 4 | EF32: 0 | EG32: 0 | EI32: E.M14.G | EJ32: 8 | EL32: TRCC.M14X160.Z | EM32: 6 | EO32: TRCC.M14X160.Z | EP32: 6 | ER32: 609631-03 | ES32: 1 | EU32: E.M14.Z | EV32: 4 | FA32: RD.10X22 | FB32: 8 | FD32: RD.10X22 | FE32: 8 | FG32: RD.10X22 | FH32: 8 | FJ32: RD.10X22 | FK32: 6 | FM32: RD.10X22 | FN32: 6 | FP32: RD.10X22 | FQ32: 11 | FS32: RD.10X22 | FT32: 11 | FY32: RD.10X22 | FZ32: 11
B33: =IF($D$8=$AG$78,AG96,IF($D$8=$AJ$78,AJ96,IF($D$8=$AM$78,AM96,IF($D$8=$AP$78,AP96)))) -> V.TFTX06X120.I | C33: =IF($D$8=$AG$78,AH96,IF($D$8=$AJ$78,AK96,IF($D$8=$AM$78,AN96,IF($D$8=$AP$78,AQ96)))) -> 1 | D33: =CONCATENATE(B33,C33) -> V.TFTX06X120.I1 | K33: =IFERROR(INDEX(V$18:FZ$38,ROWS($1:15),MATCH($L$8,$V$16:$FZ$16,0)),"") -> RD.10X22 | L33: =IFERROR(INDEX(W$18:GA$38,ROWS($1:15),MATCH($L$8,$V$16:$FZ$16,0)),"") -> 8 | M33: =CONCATENATE(K33,L33) -> RD.10X228 | N33: =IF(VLOOKUP(M33,$D$19:$D$49,1,FALSE)=M33,"Bon composant, bonne quantitée","Erreur de composant ou de quantité") -> #N/A | AB33: RD.14PZ | AC33: 8 | AE33: RD.14PZ | AF33: 8 | AH33: RD.14PZ | AI33: 8 | AN33: 800204 | AO33: 8 | AQ33: 800204 | AR33: 8 | AT33: H.M14X160.Z | AU33: 2 | AW33: TRCC.14X160.Z | AX33: 6 | AZ33: TRCC.14X160.Z | BA33: 6 | BC33: 609631-01 | BD33: 1 | BF33: 609440 | BG33: 1 | BI33: H.M14X035.Z | BJ33: 3 | BL33: E.M14.G | BM33: 8 | BO33: E.M14.G | BP33: 4 | BR33: E.M14.G | BS33: 4 | BU33: E.M14.G | BV33: 4 | BX33: E.M14.G | BY33: 4 | CD33: E.M14.Z | CE33: 8 | CG33: 609513 | CH33: 1 | CJ33: E.M14.G | CK33: 4 | CM33: RD.14X30.Z | CN33: 8 | CP33: RD.14X30.G | CQ33: 4 | CS33: 609631-01 | CT33: 1 | CV33: RD.14PZ | CW33: 12 | CY33: RD.14PZ | CZ33: 18 | DB33: TRCC.M14X160.Z | DC33: 6 | DE33: TRCC.M14X160.Z | DF33: 6 | DH33: TRCC.M14X160.Z | DI33: 6 | DK33: TRCC.M14X160.Z | DL33: 12 | DN33: RD.14PZ | DO33: 12 | DQ33: RD.14PZ | DR33: 10 | DT33: RD.14PZ | DU33: 18 | DW33: RD.14PZ | DX33: 8 | DZ33: 0 | EA33: 0 | EC33: TRCC.M14X160.Z | ED33: 6 | EF33: 0 | EG33: 0 | EI33: RD.14PZ | EJ33: 18 | EL33: RD.14PZ | EM33: 0 | EO33: RD.14PZ | EP33: 0 | ER33: RD.14PZ | ES33: 8 | EU33: RD.10X22.Z | EV33: 4 | EX33: RD.14X28.Z | EY33: 4 | FA33: RD.14PZ | FB33: 12 | FD33: RD.14PZ | FE33: 12 | FG33: RD.14PZ | FH33: 12 | FJ33: RD.14X30.G | FK33: 12 | FM33: RD.14X30.G | FN33: 12 | FP33: 609514-05 | FQ33: 1 | FS33: 609514-05 | FT33: 2 | FY33: 609514-05 | FZ33: 2
B34: =IF($D$8=$AG$78,AG97,IF($D$8=$AJ$78,AJ97,IF($D$8=$AM$78,AM97,IF($D$8=$AP$78,AP97)))) -> V.TFTX06X080.I | C34: =IF($D$8=$AG$78,AH97,IF($D$8=$AJ$78,AK97,IF($D$8=$AM$78,AN97,IF($D$8=$AP$78,AQ97)))) -> 1 | D34: =CONCATENATE(B34,C34) -> V.TFTX06X080.I1 | K34: =IFERROR(INDEX(V$18:FZ$38,ROWS($1:16),MATCH($L$8,$V$16:$FZ$16,0)),"") -> RD.14PZ | L34: =IFERROR(INDEX(W$18:GA$38,ROWS($1:16),MATCH($L$8,$V$16:$FZ$16,0)),"") -> 12 | M34: =CONCATENATE(K34,L34) -> RD.14PZ12 | N34: =IF(VLOOKUP(M34,$D$19:$D$49,1,FALSE)=M34,"Bon composant, bonne quantitée","Erreur de composant ou de quantité") -> #N/A | AB34: 609514-05 | AC34: 1 | AE34: 609514-05 | AF34: 1 | AH34: 609513 | AI34: 1 | AN34: E.M14.G | AO34: 4 | AQ34: E.M14.G | AR34: 4 | AT34: E.M14.G | AU34: 4 | AW34: RD.14PZ | AX34: 10 | AZ34: 609631-01 | BA34: 1 | BC34: H.M14X035.Z | BD34: 2 | BF34: 609445 | BG34: 2 | BI34: 609424-03 | BJ34: 1 | BL34: RD.14PZ | BM34: 16 | BO34: RD.14PZ | BP34: 8 | BR34: RD.14PZ | BS34: 8 | BU34: RD.14PZ | BV34: 8 | BX34: E.M16.G | BY34: 8 | CA34: E.M16.G | CB34: 8 | CD34: RD.14PZ | CE34: 8 | CJ34: 0 | CK34: 0 | CM34: 609514-05 | CN34: 2 | CS34: 800204 | CT34: 12 | CV34: 609631-03 | CW34: 1 | CY34: 609630-01 | CZ34: 2 | DB34: H.M14X160.Z | DC34: 2 | DE34: H.M14X160.Z | DF34: 2 | DH34: H.M14X160.Z | DI34: 2 | DK34: H.M14X160.Z | DL34: 4 | DN34: 609631-03 | DO34: 1 | DQ34: 609631-01 | DR34: 1 | DT34: 609630-01 | DU34: 2 | DW34: RD.10X22.Z | DX34: 8 | DZ34: 0 | EA34: 0 | EC34: H.M14X160.Z | ED34: 2 | EF34: 0 | EG34: 0 | EI34: 609630-01 | EJ34: 2 | EL34: 609631-01 | EM34: 1 | EO34: 609631-01 | EP34: 1 | ER34: E.M14.G | ES34: 4 | EU34: 609637 | EV34: 1 | EX34: 609637 | EY34: 1 | FA34: 609637 | FB34: 1 | FD34: 609637 | FE34: 1 | FG34: 609637 | FH34: 1 | FJ34: 609637 | FK34: 1 | FM34: 609637 | FN34: 1 | FS34: 800218 | FT34: 2
B35: =IF($D$8=$AG$78,AG98,IF($D$8=$AJ$78,AJ98,IF($D$8=$AM$78,AM98,IF($D$8=$AP$78,AP98)))) -> 0 | C35: =IF($D$8=$AG$78,AH98,IF($D$8=$AJ$78,AK98,IF($D$8=$AM$78,AN98,IF($D$8=$AP$78,AQ98)))) -> 0 | D35: =CONCATENATE(B35,C35) -> 00 | K35: =IFERROR(INDEX(V$18:FZ$38,ROWS($1:17),MATCH($L$8,$V$16:$FZ$16,0)),"") -> 609637 | L35: =IFERROR(INDEX(W$18:GA$38,ROWS($1:17),MATCH($L$8,$V$16:$FZ$16,0)),"") -> 1 | M35: =CONCATENATE(K35,L35) -> 6096371 | N35: =IF(VLOOKUP(M35,$D$19:$D$49,1,FALSE)=M35,"Bon composant, bonne quantitée","Erreur de composant ou de quantité") -> #N/A | AH35: 609514-05 | AI35: 1 | AN35: RD.10X22.Z | AO35: 11 | AQ35: RD.10X22.Z | AR35: 11 | AW35: 60931-01 | AX35: 1 | BF35: 609631 | BG35: 1 | BL35: TIR.10X120.Z | BM35: 2 | BR35: 609631-10 | BS35: 1 | BX35: TRCC.M16X180.G | BY35: 8 | CA35: TRCC.M16X180.G | CB35: 8 | CD35: 609513 | CE35: 1 | CM35: 800204 | CN35: 4 | CP35: 0 | CQ35: 0 | CV35: V.TR06X050.Z | CW35: 4 | CY35: 690902 | CZ35: 2 | DN35: 0 | DO35: 0 | DQ35: H.M14X035.Z | DR35: 2 | DT35: 800218 | DU35: 8 | DW35: E.M14.G | DX35: 4 | DZ35: 0 | EA35: 0 | EC35: 0 | ED35: 0 | EF35: 0 | EG35: 0 | EI35: 800218 | EJ35: 8 | EL35: E.M14.G | EM35: 4 | EO35: E.M14.G | EP35: 4 | ER35: 800218 | ES35: 4 | EU35: H.M10X220.Z | FA35: 609631-01 | FB35: 1 | FD35: 609631-01 | FE35: 1 | FJ35: E.M14.G | FK35: 4 | FM35: E.M14.G | FN35: 4 | FP35: E.M14.G | FQ35: 4 | FS35: E.M14.G | FT35: 4 | FV35: E.M14.G | FW35: 4 | FY35: E.M14.G | FZ35: 4
B36: =IF($D$8=$AG$78,AG99,IF($D$8=$AJ$78,AJ99,IF($D$8=$AM$78,AM99,IF($D$8=$AP$78,AP99)))) -> 0 | C36: =IF($D$8=$AG$78,AH99,IF($D$8=$AJ$78,AK99,IF($D$8=$AM$78,AN99,IF($D$8=$AP$78,AQ99)))) -> 0 | D36: =CONCATENATE(B36,C36) -> 00 | K36: =IFERROR(INDEX(V$18:FZ$38,ROWS($1:18),MATCH($L$8,$V$16:$FZ$16,0)),"") -> 0 | L36: =IFERROR(INDEX(W$18:GA$38,ROWS($1:18),MATCH($L$8,$V$16:$FZ$16,0)),"") -> 0 | M36: =CONCATENATE(K36,L36) -> 00 | N36: =IF(VLOOKUP(M36,$D$19:$D$49,1,FALSE)=M36,"Bon composant, bonne quantitée","Erreur de composant ou de quantité") -> Bon composant, bonne quantitée | AN36: TRCC.M16X180.G | AO36: 8 | AQ36: TRCC.M16X180.G | AR36: 8 | BF36: TIR.14X060.Z | BG36: 1 | BL36: 609637 | BM36: 2 | BR36: 609424-03 | BS36: 1 | BX36: 800804 | BY36: 8 | CA36: 800804 | CB36: 8 | CV36: 609444-10 | CW36: 2 | CY36: 609637 | CZ36: 1 | DB36: 0 | DC36: 0 | DE36: 0 | DF36: 0 | DH36: 0 | DI36: 0 | DK36: 0 | DL36: 0 | DN36: 606444-20 | DO36: 1 | DQ36: 0 | DR36: 0 | DT36: 609514-05 | DU36: 2 | DZ36: 0 | EA36: 0 | EC36: 0 | ED36: 0 | EF36: 0 | EG36: 0 | EI36: 609514-05 | EJ36: 2 | EU36: H.M14X040.Z | EV36: 2 | EX36: H.M10X220.Z | EY36: 4 | FA36: 609424-03 | FB36: 1 | FD36: 609424-03 | FE36: 1 | FJ36: 609514-05 | FK36: 1 | FM36: 609514-05 | FN36: 1 | FS36: 609513 | FT36: 1 | FY36: 609513 | FZ36: 1
B37: =IF($D$8=$AG$78,AG100,IF($D$8=$AJ$78,AJ100,IF($D$8=$AM$78,AM100,IF($D$8=$AP$78,AP100)))) -> 0 | C37: =IF($D$8=$AG$78,AH100,IF($D$8=$AJ$78,AK100,IF($D$8=$AM$78,AN100,IF($D$8=$AP$78,AQ100)))) -> 0 | D37: =CONCATENATE(B37,C37) -> 00 | K37: =IFERROR(INDEX(V$18:FZ$38,ROWS($1:19),MATCH($L$8,$V$16:$FZ$16,0)),"") -> 0 | L37: =IFERROR(INDEX(W$18:GA$38,ROWS($1:19),MATCH($L$8,$V$16:$FZ$16,0)),"") -> 0 | M37: =CONCATENATE(K37,L37) -> 00 | N37: =IF(VLOOKUP(M37,$D$19:$D$49,1,FALSE)=M37,"Bon composant, bonne quantitée","Erreur de composant ou de quantité") -> Bon composant, bonne quantitée | CY37: 800218 | CZ37: 8 | DN37: V.TR05X050.I | DO37: 5 | DQ37: 0 | DR37: 0 | DT37: 609637 | DU37: 1 | DW37: 0 | DX37: 0 | DZ37: 0 | EA37: 0 | EC37: 0 | ED37: 0 | EF37: 0 | EG37: 0 | EI37: 609637 | EJ37: 1 | EL37: 0 | EM37: 0 | EO37: 0 | EP37: 0 | ER37: 0 | ES37: 0 | EX37: TRCC.M16X140.Z | EY37: 4 | FJ37: RD.14PZ | FK37: 8 | FM37: RD.14PZ | FN37: 8 | FP37: RD.14PZ | FQ37: 12 | FS37: RD.14PZ | FT37: 8 | FV37: RD.14PZ | FW37: 8 | FY37: RD.14PZ | FZ37: 8
B38: =IF($D$8=$AG$78,AG101,IF($D$8=$AJ$78,AJ101,IF($D$8=$AM$78,AM101,IF($D$8=$AP$78,AP101)))) -> 0 | C38: =IF($D$8=$AG$78,AH101,IF($D$8=$AJ$78,AK101,IF($D$8=$AM$78,AN101,IF($D$8=$AP$78,AQ101)))) -> 0 | D38: =CONCATENATE(B38,C38) -> 00 | K38: =IFERROR(INDEX(V$18:FZ$38,ROWS($1:20),MATCH($L$8,$V$16:$FZ$16,0)),"") -> 0 | L38: =IFERROR(INDEX(W$18:GA$38,ROWS($1:20),MATCH($L$8,$V$16:$FZ$16,0)),"") -> 0 | M38: =CONCATENATE(K38,L38) -> 00 | N38: =IF(VLOOKUP(M38,$D$19:$D$49,1,FALSE)=M38,"Bon composant, bonne quantitée","Erreur de composant ou de quantité") -> Bon composant, bonne quantitée | BC38: E.M14.G | BD38: 4 | BF38: E.M14.G | BG38: 4 | CY38: 609514-05 | CZ38: 2 | DN38: 609444610 | DO38: 1 | DQ38: 0 | DR38: 0 | DT38: 690902 | DU38: 2 | DW38: 0 | DX38: 0 | DZ38: 0 | EA38: 0 | EC38: 0 | ED38: 0 | EF38: 0 | EG38: 0 | EI38: 690902 | EJ38: 2 | EL38: 0 | EM38: 0 | EO38: 0 | EP38: 0 | ER38: 0 | ES38: 0 | FS38: 609631-01 | FT38: 1 | FV38: 609631T | FW38: 1
B39: =IF($D$8=$AG$78,AG102,IF($D$8=$AJ$78,AJ102,IF($D$8=$AM$78,AM102,IF($D$8=$AP$78,AP102)))) -> 0 | C39: =IF($D$8=$AG$78,AH102,IF($D$8=$AJ$78,AK102,IF($D$8=$AM$78,AN102,IF($D$8=$AP$78,AQ102)))) -> 0 | D39: =CONCATENATE(B39,C39) -> 00 | K39: =IFERROR(INDEX($V$18:$FZ$38,ROWS($1:21),MATCH($L$8,$V$16:$FZ$16,0)),"") -> 0 | L39: =IFERROR(INDEX(W$18:GA$38,ROWS($1:21),MATCH($L$8,$V$16:$FZ$16,0)),"") -> 0 | M39: =CONCATENATE(K39,L39) -> 00 | N39: =IF(VLOOKUP(M39,$D$19:$D$49,1,FALSE)=M39,"Bon composant, bonne quantitée","Erreur de composant ou de quantité") -> Bon composant, bonne quantitée | V39: Usine | Y39: Usine | AB39: Usine | AE39: Usine | AH39: Usine | AK39: Usine | AN39: Usine | AQ39: Usine | AT39: Usine | AW39: Usine | AZ39: Usine | BC39: Usine | BF39: Usine | BI39: Usine | BL39: Usine | BO39: Usine | BR39: Usine | BU39: Usine | BX39: Usine | CA39: Usine | CD39: Usine | CG39: Usine | CJ39: Usine | CM39: Usine | CP39: Usine | CS39: Usine | CV39: Usine | CY39: Usine | DB39: Usine | DE39: Usine | DH39: Usine | DK39: Usine | DN39: Usine | DQ39: Usine | DT39: Usine | DW39: Usine | DZ39: Usine | EC39: Usine | EF39: Usine | EI39: Usine | EL39: Usine | EO39: Usine | ER39: Usine | EU39: Usine | EX39: Usine | FA39: Usine | FD39: Usine | FG39: Usine | FJ39: Usine | FM39: Usine | FP39: Usine | FS39: Usine | FV39: Usine | FY39: Usine
B40: =IF($D$8=$AG$78,AG103,IF($D$8=$AJ$78,AJ103,IF($D$8=$AM$78,AM103,IF($D$8=$AP$78,AP103)))) -> 0 | C40: =IF($D$8=$AG$78,AH103,IF($D$8=$AJ$78,AK103,IF($D$8=$AM$78,AN103,IF($D$8=$AP$78,AQ103)))) -> 0 | D40: =CONCATENATE(B40,C40) -> 00 | K40: USINE | L40: =IFERROR(INDEX(W$18:GA$38,ROWS($1:22),MATCH($L$8,$V$16:$FZ$16,0)),"") | M40: =CONCATENATE(K40,L40) -> USINE | N40: =IF(VLOOKUP(M40,$D$19:$D$49,1,FALSE)=M40,"Bon composant, bonne quantitée","Erreur de composant ou de quantité") -> #N/A | V40: V.TFTX06X140.I | W40: 2 | Y40: V.TFTX06X140.I | Z40: 2 | AB40: V.TFTX06X140.I | AC40: 0 | AE40: V.TFTX06X140.I | AF40: 2 | AH40: V.TFTX06X140.I | AI40: 0 | AK40: V.TFTX06X140.I | AL40: 2 | AN40: V.TFTX06X140.I | AO40: 2 | AQ40: V.TFTX06X140.I | AR40: 2 | AT40: V.TFTX06X140.I | AU40: 1 | AW40: V.TFTX06X140.I | AX40: 2 | AZ40: V.TFTX06X140.I | BA40: 2 | BC40: V.TFTX06X140.I | BD40: 0 | BF40: V.TFTX06X140.I | BG40: 0 | BI40: V.TFTX06X140.I | BJ40: 2 | BL40: V.TFTX06X140.I | BM40: 0 | BO40: V.TFTX06X140.I | BP40: 2 | BR40: V.TFTX06X140.I | BS40: 0 | BU40: V.TFTX06X140.I | BV40: 2 | BX40: V.TFTX06X140.I | BY40: 2 | CA40: V.TFTX06X140.I | CB40: 2 | CD40: V.TFTX06X140.I | CE40: 2 | CG40: V.TFTX06X140.I | CH40: 0 | CJ40: V.TFTX06X140.I | CK40: 1 | CM40: V.TFTX06X140.I | CN40: 2 | CP40: V.TFTX06X140.I | CQ40: 1 | CS40: V.TFTX06X140.I | CT40: 0 | CV40: V.TFTX06X140.I | CW40: 0 | CY40: V.TFTX06X140.I | CZ40: 2 | DB40: V.TFTX06X140.I | DC40: 2 | DE40: V.TFTX06X140.I | DF40: 2 | DH40: V.TFTX06X140.I | DI40: 2 | DK40: V.TFTX06X140.I | DL40: 4 | DN40: V.TFTX06X140.I | DO40: 0 | DQ40: V.TFTX06X140.I | DR40: 0 | DT40: V.TFTX06X140.I | DU40: 4 | DW40: V.TFTX06X140.I | DX40: 0 | DZ40: V.TFTX06X140.I | EA40: 2 | EC40: V.TFTX06X140.I | ED40: 2 | EF40: V.TFTX06X140.I | EG40: 2 | EI40: V.TFTX06X140.I | EJ40: 4 | EL40: V.TFTX06X140.I | EM40: 2 | EO40: V.TFTX06X140.I | EP40: 2 | ER40: V.TFTX06X140.I | ES40: 1 | EU40: V.TFTX06X140.I | EV40: 3 | EX40: V.TFTX06X140.I | EY40: 2 | FA40: V.TFTX06X140.I | FB40: 2 | FD40: V.TFTX06X140.I | FE40: 2 | FG40: V.TFTX06X140.I | FH40: 2 | FJ40: V.TFTX06X140.I | FK40: 3 | FM40: V.TFTX06X140.I | FN40: 3 | FP40: V.TFTX06X140.I | FS40: V.TFTX06X140.I | FT40: 2 | FV40: V.TFTX06X140.I | FW40: 2 | FY40: V.TFTX06X140.I | FZ40: 2
B41: =IF($D$8=$AG$78,AG104,IF($D$8=$AJ$78,AJ104,IF($D$8=$AM$78,AM104,IF($D$8=$AP$78,AP104)))) -> 0 | C41: =IF($D$8=$AG$78,AH104,IF($D$8=$AJ$78,AK104,IF($D$8=$AM$78,AN104,IF($D$8=$AP$78,AQ104)))) -> 0 | D41: =CONCATENATE(B41,C41) -> 00 | K41: =IF($L$8=$D$132,Y40,IF($L$8=$D$135,AB40,IF($L$8=$D$138,AE40,IF($L$8=$D$141,AH40,IF($L$8=$D$144,AK40,IF($L$8=$D$147,AN40,IF($L$8=$D$153,AT40,IF($L$8=$D$156,AW40,IF($L$8=$D$159,AZ40,IF($L$8=$D$162,BC40,IF($L$8=$D$165,BF40,IF($L$8=$D$171,BL40,IF($L$8=$BO$16,BO40,IF($L$8=$BR$16,BR40,IF($L$8=$BU$16,BU40,IF($L$8=$BX$16,BX40,IF($L$8=$CA$16,CA40,IF($L$8=$CD$16,CD40,IF($L$8=$CG$16,CG40,IF($L$8=$CJ$16,CJ40,IF($L$8=$CM$16,CM40,IF($L$8=$CP$16,CP40,IF($L$8=$CS$16,CS40,IF($L$8=$CV$16,CV40,IF($L$8=$CY$16,CY40,IF($L$8=$DB$16,DB40,IF($L$8=$DE$16,DE40,IF($L$8=$DH$16,DH40,IF($L$8=$DK$16,DK40,IF($L$8=$DN$16,DN40,IF($L$8=$DQ$16,DQ40,IF($L$8=$DT$16,DT40,IF($L$8=$DW$16,DW40,IF($L$8=$DZ$16,DZ40,IF($L$8=$EC$16,EC40,IF($L$8=$EF$16,EF40,IF($L$8=$EI$16,EI40,IF($L$8=$EL$16,EL40,IF($L$8=$EO$16,EO40,IF($L$8=$ER$16,ER40,IF($L$8=$BI$16,BI40,IF($L$8=$AQ$16,AQ40,IF($L$8=$V$16,V40,IF($L$8=ET37,EU40,IF($L$8=$EX$16,EX40,IF($L$8=$FA$16,FA40,IF($L$8=$FD$16,FD40,IF($L$8=$FG$16,FG40,IF($L$8=$FJ$16,FJ40,IF($L$8=$FM$16,FM40,IF($L$8=$FS$16,FS40,IF($L$8=$FV$16,FV40,IF($L$8=$FY$16,FY40))))))))))))))))))))))))))))))))))))))))))))))))))))) -> V.TFTX06X140.I | L41: =IF($L$8=$D$132,Z40,IF($L$8=$D$135,AC40,IF($L$8=$D$138,AF40,IF($L$8=$D$141,AI40,IF($L$8=$D$144,AL40,IF($L$8=$D$147,AO40,IF($L$8=$D$153,AU40,IF($L$8=$D$156,AX40,IF($L$8=$D$159,BA40,IF($L$8=$D$162,BD40,IF($L$8=$D$165,BG40,IF($L$8=$D$171,BM40,IF($L$8=$BO$16,BP40,IF($L$8=$BR$16,BS40,IF($L$8=$BU$16,BV40,IF($L$8=$BX$16,BY40,IF($L$8=$CA$16,CB40,IF($L$8=$CD$16,CE40,IF($L$8=$CG$16,CH40,IF($L$8=$CJ$16,CK40,IF($L$8=$CM$16,CN40,IF($L$8=$CP$16,CQ40,IF($L$8=$CS$16,CT40,IF($L$8=$CV$16,CW40,IF($L$8=$CY$16,CZ40,IF($L$8=$DB$16,DC40,IF($L$8=$DE$16,DF40,IF($L$8=$DH$16,DI40,IF($L$8=$DK$16,DL40,IF($L$8=$DN$16,DO40,IF($L$8=$DQ$16,DR40,IF($L$8=$DT$16,DU40,IF($L$8=$DW$16,DX40,IF($L$8=$DZ$16,EA40,IF($L$8=$EC$16,ED40,IF($L$8=$EF$16,EG40,IF($L$8=$EI$16,EJ40,IF($L$8=$EL$16,EM40,IF($L$8=$EO$16,EP40,IF($L$8=$ER$16,ES40,IF($L$8=$BI$16,BJ40,IF($L$8=$AQ$16,AR40,IF($L$8=$V$16,W40,IF($L$8=EU37,EV40,IF($L$8=$EX$16,EY40,IF($L$8=$FA$16,FB40,IF($L$8=$FD$16,FE40,IF($L$8=$FG$16,FH40,IF($L$8=$FJ$16,FK40,IF($L$8=$FM$16,FN40,IF($L$8=$FS$16,FT40,IF($L$8=$FV$16,FW40,IF($L$8=$FY$16,FZ40))))))))))))))))))))))))))))))))))))))))))))))))))))) -> 2 | M41: =CONCATENATE(K41,L41) -> V.TFTX06X140.I2 | N41: =IF(VLOOKUP(M41,$D$19:$D$49,1,FALSE)=M41,"Bon composant, bonne quantitée","Erreur de composant ou de quantité") -> #N/A | V41: V.TFTX06X100.I | W41: 2 | Y41: V.TFTX06X100.I | Z41: 2 | AB41: V.TFTX06X100.I | AC41: 0 | AE41: V.TFTX06X100.I | AF41: 2 | AH41: V.TFTX06X100.I | AI41: 0 | AK41: V.TFTX06X100.I | AL41: 2 | AN41: V.TFTX06X100.I | AO41: 2 | AQ41: V.TFTX06X100.I | AR41: 2 | AT41: V.TFTX06X100.I | AU41: 0 | AW41: V.TFTX06X100.I | AX41: 0 | AZ41: V.TFTX06X100.I | BA41: 2 | BC41: V.TFTX06X100.I | BD41: 2 | BF41: V.TFTX06X100.I | BG41: 3 | BI41: V.TFTX06X100.I | BJ41: 1 | BL41: V.TFTX06X100.I | BM41: 0 | BO41: V.TFTX06X100.I | BP41: 1 | BR41: V.TFTX06X100.I | BS41: 0 | BU41: V.TFTX06X100.I | BV41: 1 | BX41: V.TFTX06X100.I | BY41: 2 | CA41: V.TFTX06X100.I | CB41: 2 | CD41: V.TFTX06X100.I | CE41: 2 | CG41: V.TFTX06X100.I | CH41: 0 | CJ41: V.TFTX06X100.I | CK41: 0 | CM41: V.TFTX06X100.I | CN41: 2 | CP41: V.TFTX06X100.I | CQ41: 0 | CS41: V.TFTX06X100.I | CT41: 0 | CV41: V.TFTX06X100.I | CW41: 0 | CY41: V.TFTX06X100.I | CZ41: 6 | DB41: V.TFTX06X100.I | DC41: 2 | DE41: V.TFTX06X100.I | DF41: 2 | DH41: V.TFTX06X100.I | DI41: 2 | DK41: V.TFTX06X100.I | DL41: 4 | DN41: V.TFTX06X100.I | DO41: 0 | DQ41: V.TFTX06X100.I | DR41: 2 | DT41: V.TFTX06X100.I | DU41: 4 | DW41: V.TFTX06X100.I | DX41: 0 | DZ41: V.TFTX06X100.I | EA41: 2 | EC41: V.TFTX06X100.I | ED41: 2 | EF41: V.TFTX06X100.I | EG41: 2 | EI41: V.TFTX06X100.I | EJ41: 4 | EL41: V.TFTX06X100.I | EM41: 2 | EO41: V.TFTX06X100.I | EP41: 2 | ER41: V.TFTX06X100.I | ES41: 0 | EU41: V.TFTX06X100.I | EV41: 2 | EX41: V.TFTX06X100.I | EY41: 2 | FA41: V.TFTX06X100.I | FB41: 2 | FD41: V.TFTX06X100.I | FE41: 2 | FG41: V.TFTX06X100.I | FH41: 2 | FJ41: V.TFTX06X100.I | FK41: 1 | FM41: V.TFTX06X100.I | FN41: 1 | FP41: V.TFTX06X100.I | FS41: V.TFTX06X100.I | FT41: 2 | FV41: V.TFTX06X100.I | FW41: 2 | FY41: V.TFTX06X100.I | FZ41: 2
B42: =IF($D$8=$AG$78,AG105,IF($D$8=$AJ$78,AJ105,IF($D$8=$AM$78,AM105,IF($D$8=$AP$78,AP105)))) -> 0 | C42: =IF($D$8=$AG$78,AH105,IF($D$8=$AJ$78,AK105,IF($D$8=$AM$78,AN105,IF($D$8=$AP$78,AQ105)))) -> 0 | D42: =CONCATENATE(B42,C42) -> 00 | K42: =IF($L$8=$D$132,Y41,IF($L$8=$D$135,AB41,IF($L$8=$D$138,AE41,IF($L$8=$D$141,AH41,IF($L$8=$D$144,AK41,IF($L$8=$D$147,AN41,IF($L$8=$D$153,AT41,IF($L$8=$D$156,AW41,IF($L$8=$D$159,AZ41,IF($L$8=$D$162,BC41,IF($L$8=$D$165,BF41,IF($L$8=$D$171,BL41,IF($L$8=$BO$16,BO41,IF($L$8=$BR$16,BR41,IF($L$8=$BU$16,BU41,IF($L$8=$BX$16,BX41,IF($L$8=$CA$16,CA41,IF($L$8=$CD$16,CD41,IF($L$8=$CG$16,CG41,IF($L$8=$CJ$16,CJ41,IF($L$8=$CM$16,CM41,IF($L$8=$CP$16,CP41,IF($L$8=$CS$16,CS41,IF($L$8=$CV$16,CV41,IF($L$8=$CY$16,CY41,IF($L$8=$DB$16,DB41,IF($L$8=$DE$16,DE41,IF($L$8=$DH$16,DH41,IF($L$8=$DK$16,DK41,IF($L$8=$DN$16,DN41,IF($L$8=$DQ$16,DQ41,IF($L$8=$DT$16,DT41,IF($L$8=$DW$16,DW41,IF($L$8=$DZ$16,DZ41,IF($L$8=$EC$16,EC41,IF($L$8=$EF$16,EF41,IF($L$8=$EI$16,EI41,IF($L$8=$EL$16,EL41,IF($L$8=$EO$16,EO41,IF($L$8=$ER$16,ER41,IF($L$8=$BI$16,BI41,IF($L$8=$AQ$16,AQ41,IF($L$8=$V$16,V41,IF($L$8=ET38,EU41,IF($L$8=$EX$16,EX41,IF($L$8=$FA$16,FA41,IF($L$8=$FD$16,FD41,IF($L$8=$FG$16,FG41,IF($L$8=$FJ$16,FJ41,IF($L$8=$FM$16,FM41,IF($L$8=$FS$16,FS41,IF($L$8=$FV$16,FV41,IF($L$8=$FY$16,FY41))))))))))))))))))))))))))))))))))))))))))))))))))))) -> V.TFTX06X100.I | L42: =IF($L$8=$D$132,Z41,IF($L$8=$D$135,AC41,IF($L$8=$D$138,AF41,IF($L$8=$D$141,AI41,IF($L$8=$D$144,AL41,IF($L$8=$D$147,AO41,IF($L$8=$D$153,AU41,IF($L$8=$D$156,AX41,IF($L$8=$D$159,BA41,IF($L$8=$D$162,BD41,IF($L$8=$D$165,BG41,IF($L$8=$D$171,BM41,IF($L$8=$BO$16,BP41,IF($L$8=$BR$16,BS41,IF($L$8=$BU$16,BV41,IF($L$8=$BX$16,BY41,IF($L$8=$CA$16,CB41,IF($L$8=$CD$16,CE41,IF($L$8=$CG$16,CH41,IF($L$8=$CJ$16,CK41,IF($L$8=$CM$16,CN41,IF($L$8=$CP$16,CQ41,IF($L$8=$CS$16,CT41,IF($L$8=$CV$16,CW41,IF($L$8=$CY$16,CZ41,IF($L$8=$DB$16,DC41,IF($L$8=$DE$16,DF41,IF($L$8=$DH$16,DI41,IF($L$8=$DK$16,DL41,IF($L$8=$DN$16,DO41,IF($L$8=$DQ$16,DR41,IF($L$8=$DT$16,DU41,IF($L$8=$DW$16,DX41,IF($L$8=$DZ$16,EA41,IF($L$8=$EC$16,ED41,IF($L$8=$EF$16,EG41,IF($L$8=$EI$16,EJ41,IF($L$8=$EL$16,EM41,IF($L$8=$EO$16,EP41,IF($L$8=$ER$16,ES41,IF($L$8=$BI$16,BJ41,IF($L$8=$AQ$16,AR41,IF($L$8=$V$16,W41,IF($L$8=EU38,EV41,IF($L$8=$EX$16,EY41,IF($L$8=$FA$16,FB41,IF($L$8=$FD$16,FE41,IF($L$8=$FG$16,FH41,IF($L$8=$FJ$16,FK41,IF($L$8=$FM$16,FN41,IF($L$8=$FS$16,FT41,IF($L$8=$FV$16,FW41,IF($L$8=$FY$16,FZ41))))))))))))))))))))))))))))))))))))))))))))))))))))) -> 2 | M42: =CONCATENATE(K42,L42) -> V.TFTX06X100.I2 | N42: =IF(VLOOKUP(M42,$D$19:$D$49,1,FALSE)=M42,"Bon composant, bonne quantitée","Erreur de composant ou de quantité") -> #N/A | V42: V.TFTX06X080.I | W42: 1 | Y42: V.TFTX06X080.I | Z42: 2 | AB42: V.TFTX06X080.I | AC42: 1 | AE42: V.TFTX06X080.I | AF42: 2 | AH42: V.TFTX06X080.I | AI42: 1 | AK42: V.TFTX06X080.I | AL42: 2 | AN42: V.TFTX06X080.I | AO42: 2 | AQ42: V.TFTX06X080.I | AR42: 2 | AT42: V.TFTX06X080.I | AU42: 0 | AW42: V.TFTX06X080.I | AX42: 0 | AZ42: V.TFTX06X080.I | BA42: 0 | BC42: V.TFTX06X080.I | BD42: 1 | BF42: V.TFTX06X080.I | BG42: 0 | BI42: V.TFTX06X080.I | BJ42: 1 | BL42: V.TFTX06X080.I | BM42: 0 | BO42: V.TFTX06X080.I | BP42: 1 | BR42: V.TFTX06X080.I | BS42: 1 | BU42: V.TFTX06X080.I | BV42: 1 | BX42: V.TFTX06X080.I | BY42: 2 | CA42: V.TFTX06X080.I | CB42: 2 | CD42: V.TFTX06X080.I | CE42: 2 | CG42: V.TFTX06X080.I | CH42: 0 | CJ42: V.TFTX06X080.I | CK42: 0 | CM42: V.TFTX06X080.I | CN42: 1 | CP42: V.TFTX06X080.I | CQ42: 0 | CS42: V.TFTX06X080.I | CT42: 0 | CV42: V.TFTX06X080.I | CW42: 0 | CY42: V.TFTX06X080.I | CZ42: 2 | DB42: V.TFTX06X080.I | DC42: 0 | DE42: V.TFTX06X080.I | DF42: 0 | DH42: V.TFTX06X080.I | DI42: 0 | DK42: V.TFTX06X080.I | DL42: 0 | DN42: V.TFTX06X080.I | DO42: 0 | DQ42: V.TFTX06X080.I | DR42: 1 | DT42: V.TFTX06X080.I | DU42: 2 | DW42: V.TFTX06X080.I | DX42: 1 | DZ42: V.TFTX06X080.I | EA42: 1 | EC42: V.TFTX06X080.I | ED42: 0 | EF42: V.TFTX06X080.I | EG42: 1 | EI42: V.TFTX06X080.I | EJ42: 2 | EL42: V.TFTX06X080.I | EM42: 0 | EO42: V.TFTX06X080.I | EP42: 0 | ER42: V.TFTX06X080.I | ES42: 1 | EU42: V.TFTX06X080.I | EV42: 2 | EX42: V.TFTX06X080.I | EY42: 2 | FA42: V.TFTX06X080.I | FB42: 2 | FD42: V.TFTX06X080.I | FE42: 2 | FG42: V.TFTX06X080.I | FH42: 2 | FJ42: V.TFTX06X080.I | FK42: 1 | FM42: V.TFTX06X080.I | FN42: 1 | FP42: V.TFTX06X080.I | FQ42: 1 | FS42: V.TFTX06X080.I | FT42: 2 | FV42: V.TFTX06X080.I | FW42: 1 | FY42: V.TFTX06X080.I | FZ42: 1
