Workbook

Sheet Tableau de comparaison
B2: Barrière type | K2: Barrières variantes
B7: Barrière pivotante | K7: Barrière pivotante
B8: Référence | D8: Simple Rondin 2 postions | K8: Référence | L8: 630 008-13 | T8: =VLOOKUP(L8,Liste!$A$7:$B$60,2,FALSE) -> Simple Rondin 2 positions
B9: Montage | D9: Client | G9: Usine | K9: Montage | L9: Client | P9: Usine
B10: Composants | D10: Rondin wéma | E10: Rondin wéma | F10: Rondin wéma | G10: Rondin wéma | H10: Rondin wéma | I10: Sc.Rab | K10: Composants | L10: =INDEX(O$129:O$290,MATCH($L$8,$D$129:$D$290,0)) -> Rondin wéma | M10: =INDEX(P$129:P$290,MATCH($L$8,$D$129:$D$290,0)) -> Rondin wéma | N10: =INDEX(Q$129:Q$290,MATCH($L$8,$D$129:$D$290,0)) -> Rondin wéma | O10: =INDEX(R$129:R$290,MATCH($L$8,$D$129:$D$290,0)) -> Rondin wéma | P10: =INDEX(S$129:S$290,MATCH($L$8,$D$129:$D$290,0)) -> Rondin wéma | Q10: =INDEX(T$129:T$290,MATCH($L$8,$D$129:$D$290,0)) -> Sc.Rab | R10: =INDEX(U$129:U$290,MATCH($L$8,$D$129:$D$290,0)) -> 0 | S10: =INDEX(V$129:V$290,MATCH($L$8,$D$129:$D$290,0)) -> 0
B11: Sous composants | D11: Montant articulation | E11: Montant cadenas | F11: Montant récepteur | G11: Barrière | H11: Montant articulé | I11: Renfort barrière | K11: Sous composants | L11: =INDEX(O$130:O$290,MATCH($L$8,$D$129:$D$290,0)) -> Montant articulation | M11: =INDEX(P$130:P$290,MATCH($L$8,$D$129:$D$290,0)) -> Montant cadenas | N11: =INDEX(Q$130:Q$290,MATCH($L$8,$D$129:$D$290,0)) -> Montant récepteur | O11: =INDEX(R$130:R$290,MATCH($L$8,$D$129:$D$290,0)) -> Barrière | P11: =INDEX(S$130:S$290,MATCH($L$8,$D$129:$D$290,0)) -> Montant articulé | Q11: =INDEX(T$130:T$290,MATCH($L$8,$D$129:$D$290,0)) -> Renfort barrière | R11: =INDEX(U$130:U$290,MATCH($L$8,$D$129:$D$290,0)) -> 0 | S11: =INDEX(V$130:V$290,MATCH($L$8,$D$129:$D$290,0)) -> 0
B12: Longueur | D12: =IF($D$8=$U$76,V79,IF($D$8=$U$85,V88,IF($D$8=$U$94,V97,IF($D$8=$U$103,V106,)))) -> 1500 | E12: =IF($D$8=$U$76,W79,IF($D$8=$U$85,W88,IF($D$8=$U$94,W97,IF($D$8=$U$103,W106,)))) -> 1500 | F12: =IF($D$8=$U$76,X79,IF($D$8=$U$85,X88,IF($D$8=$U$94,X97,IF($D$8=$U$103,X106,)))) -> 1300 | G12: =IF($D$8=$U$76,Y79,IF($D$8=$U$85,Y88,IF($D$8=$U$94,Y97,IF($D$8=$U$103,Y106,)))) -> 0 | H12: =IF($D$8=$U$76,Z79,IF($D$8=$U$85,Z88,IF($D$8=$U$94,Z97,IF($D$8=$U$103,Z106,)))) -> 1050 | I12: =IF($D$8=$U$76,AA79,IF($D$8=$U$85,AA88,IF($D$8=$U$94,AA97,IF($D$8=$U$103,AA106,)))) -> 0 | K12: Longueur | L12: =INDEX(G$129:G$290,MATCH($L$8,$D$129:$D$290,0)) -> 1500 | M12: =INDEX(H$129:H$290,MATCH($L$8,$D$129:$D$290,0)) -> 1500 | N12: =INDEX(I$129:I$290,MATCH($L$8,$D$129:$D$290,0)) -> 1300 | O12: =INDEX(J$129:J$290,MATCH($L$8,$D$129:$D$290,0)) -> 1900 | P12: =INDEX(K$129:K$290,MATCH($L$8,$D$129:$D$290,0)) -> 1040 | Q12: =INDEX(L$129:L$290,MATCH($L$8,$D$129:$D$290,0)) -> 1330 | R12: =INDEX(M$129:M$290,MATCH($L$8,$D$129:$D$290,0)) -> 0 | S12: =INDEX(N$129:N$290,MATCH($L$8,$D$129:$D$290,0)) -> 0
B13: Ø/largeur | D13: =IF($D$8=$U$76,V80,IF($D$8=$U$85,V89,IF($D$8=$U$94,V98,IF($D$8=$U$103,V107,)))) -> 160 | E13: =IF($D$8=$U$76,W80,IF($D$8=$U$85,W89,IF($D$8=$U$94,W98,IF($D$8=$U$103,W107,)))) -> 130 | F13: =IF($D$8=$U$76,X80,IF($D$8=$U$85,X89,IF($D$8=$U$94,X98,IF($D$8=$U$103,X107,)))) -> 100 | G13: =IF($D$8=$U$76,Y80,IF($D$8=$U$85,Y89,IF($D$8=$U$94,Y98,IF($D$8=$U$103,Y107,)))) -> 100 | H13: =IF($D$8=$U$76,Z80,IF($D$8=$U$85,Z89,IF($D$8=$U$94,Z98,IF($D$8=$U$103,Z107,)))) -> 160 | I13: =IF($D$8=$U$76,AA80,IF($D$8=$U$85,AA89,IF($D$8=$U$94,AA98,IF($D$8=$U$103,AA107,)))) -> 100 | K13: Ø/Largeur | L13: =INDEX(G$130:G$290,MATCH($L$8,$D$129:$D$290,0)) -> 160 | M13: =INDEX(H$130:H$290,MATCH($L$8,$D$129:$D$290,0)) -> 130 | N13: =INDEX(I$130:I$290,MATCH($L$8,$D$129:$D$290,0)) -> 100 | O13: =INDEX(J$130:J$290,MATCH($L$8,$D$129:$D$290,0)) -> 100 | P13: =INDEX(K$130:K$290,MATCH($L$8,$D$129:$D$290,0)) -> 160 | Q13: =INDEX(L$130:L$290,MATCH($L$8,$D$129:$D$290,0)) -> 100 | R13: =INDEX(M$130:M$290,MATCH($L$8,$D$129:$D$290,0)) -> 0 | S13: =INDEX(N$130:N$290,MATCH($L$8,$D$129:$D$290,0)) -> 0
B14: Epaisseur | D14: =IF($D$8=$U$76,V81,IF($D$8=$U$85,V90,IF($D$8=$U$94,V99,IF($D$8=$U$103,V108,)))) -> 0 | E14: =IF($D$8=$U$76,W81,IF($D$8=$U$85,W90,IF($D$8=$U$94,W99,IF($D$8=$U$103,W108,)))) -> 0 | F14: =IF($D$8=$U$76,X81,IF($D$8=$U$85,X90,IF($D$8=$U$94,X99,IF($D$8=$U$103,X108,)))) -> 0 | G14: =IF($D$8=$U$76,Y81,IF($D$8=$U$85,Y90,IF($D$8=$U$94,Y99,IF($D$8=$U$103,Y108,)))) -> 0 | H14: =IF($D$8=$U$76,Z81,IF($D$8=$U$85,Z90,IF($D$8=$U$94,Z99,IF($D$8=$U$103,Z108,)))) -> 0 | I14: =IF($D$8=$U$76,AA81,IF($D$8=$U$85,AA90,IF($D$8=$U$94,AA99,IF($D$8=$U$103,AA108,)))) -> 40 | K14: Epaisseur | L14: =INDEX(G$131:G$290,MATCH($L$8,$D$129:$D$290,0)) -> 0 | M14: =INDEX(H$131:H$290,MATCH($L$8,$D$129:$D$290,0)) -> 0 | N14: =INDEX(I$131:I$290,MATCH($L$8,$D$129:$D$290,0)) -> 0 | O14: =INDEX(J$131:J$290,MATCH($L$8,$D$129:$D$290,0)) -> 0 | P14: =INDEX(K$131:K$290,MATCH($L$8,$D$129:$D$290,0)) -> 0 | Q14: =INDEX(L$131:L$290,MATCH($L$8,$D$129:$D$290,0)) -> 40 | R14: =INDEX(M$131:M$290,MATCH($L$8,$D$129:$D$290,0)) -> 0 | S14: =INDEX(N$131:N$290,MATCH($L$8,$D$129:$D$290,0)) -> 0
B15: Quantité | D15: 1 | E15: 2 | F15: 2 | G15: 1 | H15: 1 | I15: 1 | K15: Quantité | L15: =INDEX(O$131:O$290,MATCH($L$8,$D$129:$D$290,0)) -> 1 | M15: =INDEX(P$131:P$290,MATCH($L$8,$D$129:$D$290,0)) -> 2 | N15: =INDEX(Q$131:Q$290,MATCH($L$8,$D$129:$D$290,0)) -> 2 | O15: =INDEX(R$131:R$290,MATCH($L$8,$D$129:$D$290,0)) -> 1 | P15: =INDEX(S$131:S$290,MATCH($L$8,$D$129:$D$290,0)) -> 1 | Q15: =INDEX(T$131:T$290,MATCH($L$8,$D$129:$D$290,0)) -> 1 | R15: =INDEX(U$131:U$290,MATCH($L$8,$D$129:$D$290,0)) -> 0 | S15: =INDEX(V$131:V$290,MATCH($L$8,$D$129:$D$290,0)) -> 0
B16: QUINCAILLERIRE | K16: QUINCAILLERIRE | V16: 630009 | Y16: =D132 -> 630 009-03 (passage 4,00m+2contre appuis) | AB16: 630-009-04 | AE16: =D138 -> 630-009-04 SC | AH16: 630-009-04T11 | AK16: 630 009-05 (passage 3,00m+2contre appuis) | AN16: 630 009-06SC ( SANS CADENAS ) | AQ16: 630 009-06 (passage 4m + 2 contre appuis) | AT16: 630 009-09 (sciages passage 3,50 m) | AW16: 630 009-10 | AZ16: 630 009-13 | BC16: 630 009-14 (passage 2,50 m) | BF16: 630 009-15 | BI16: 630 009-16 | BL16: 630 009-17 (double passage 6 m) VOIR BE | BO16: 630 009-18 (passage 3m 1 appui amovible) | BR16: 630 009-18 1 | BU16: 630 009-18 2 (passage3m; 1CA sur fourreau; bande réfléchissante) | BX16: 630 009-20 (passage 4,50m+2 contre appuis) | CA16: 630 009-21 (passage 5m +2 contre appuis) | CD16: 630 009-22 (passage 5m cadenas pompier) | CG16: 630 009-23 pivotante renforcée passage 4m | CJ16: 630 009-24 | CM16: 631 009-25 | CP16: 630 009-26 (passage 4m + C100 sur platines) | CS16: 633 009-27 | CV16: 634 009-28 | CY16: 635 009-29 | DB16: 636 009-30 | DE16: 630-009-30 1 | DH16: 630 009-30R sciage 3m ROBINIER | DK16: 630 009-31 1 | DN16: 630-009-32 | DQ16: 630 009-33 SCIAGES (passage 4,0m) | DT16: 630 009-34 (passage 2x2.50m) | DW16: 630 009-35 | DZ16: 631 009-36 | EC16: 632 009-37 | EF16: 630 009-38 STANDARD AVEC 1 APPUI RECEPTION 2M | EI16: 630 009-39 (passage double 8m -2x4m) | EL16: 630 009-091 | EO16: 630 009-091R sciage 3.50 m ROBINIER | ER16: 630 009-321 (armé passage 3m) | EU16: 630008-01 | EX16: 630 008-10 | FA16: 630 008-11 | FD16: 630 008-12 | FG16: 630 008-13 | FJ16: 630 008-14 | FM16: 630 008-15 | FP16: 630 008-16 | FS16: 630 008-18 | FV16: 630 008-31 | FY16: 630 008-31
B17: Références | C17: Quantité | E17: Commentaire | K17: Références | L17: Quantité | N17: Vérification | O17: Test référence | Q17: Test quantité | S17: Résultat | V17: Client | Y17: Client | AB17: Client | AE17: Client | AH17: Client | AK17: Client | AN17: Client | AQ17: Client | AT17: Client | AW17: Client | AZ17: Client | BC17: Client | BF17: Client | BI17: Client | BL17: Client | BO17: Client | BR17: Client | BU17: Client | BX17: Client | CA17: Client | CD17: Client | CG17: Client | CJ17: Client | CM17: Client | CP17: Client | CS17: Client | CV17: Client | CY17: Client | DB17: Client | DE17: Client | DH17: Client | DK17: Client | DN17: Client | DQ17: Client | DT17: Client | DW17: Client | DZ17: Client | EC17: Client | EF17: Client | EI17: Client | EL17: Client | EO17: Client | ER17: Client | EU17: Client | EX17: Client | FA17: Client | FD17: Client | FG17: Client | FJ17: Client | FM17: Client | FP17: Client | FS17: Client | FV17: Client | FY17: Client
B18: Client | V18: 609456 | W18: 4 | Y18: 609456 | Z18: 6 | AB18: 609456 | AC18: 4 | AE18: 609456 | AF18: 4 | AH18: 609456 | AI18: 4 | AK18: 609456 | AL18: 4 | AN18: 609456 | AO18: 4 | AQ18: 609456 | AR18: 4 | AT18: 609456 | AU18: 4 | AW18: 609456 | AX18: 4 | AZ18: 609456 | BA18: 4 | BC18: 609456 | BD18: 4 | BF18: 609456 | BG18: 0 | BI18: 609456 | BJ18: 6 | BL18: 609456 | BM18: 8 | BO18: 609456 | BP18: 4 | BR18: 609456 | BS18: 4 | BU18: 609456 | BV18: 4 | BX18: 609456 | BY18: 4 | CA18: 609456 | CB18: 4 | CD18: 609456 | CE18: 4 | CG18: 609456 | CH18: 0 | CJ18: 609456 | CK18: 0 | CM18: 609456 | CN18: 4 | CP18: 609456 | CQ18: 0 | CS18: 609456 | CT18: 4 | CV18: 609456 | CW18: 4 | CY18: 609456 | CZ18: 8 | DB18: 609456 | DC18: 4 | DE18: 609456 | DF18: 4 | DH18: 609456 | DI18: 4 | DK18: 609456 | DL18: 8 | DN18: 609456 | DO18: 4 | DQ18: 609456 | DR18: 4 | DT18: 609456 | DU18: 8 | DW18: 609456 | DX18: 4 | DZ18: 609456 | EA18: 4 | EC18: 609456 | ED18: 4 | EF18: 609456 | EG18: 4 | EI18: 609456 | EJ18: 8 | EL18: 609456 | EM18: 4 | EO18: 609456 | EP18: 4 | ER18: 609456 | ES18: 4 | EU18: 609456 | EV18: 4 | EX18: 609456 | EY18: 4 | FA18: 609456 | FB18: 4 | FD18: 609456 | FE18: 4 | FG18: 609456 | FH18: 4 | FJ18: 609456 | FK18: 4 | FM18: 609456 | FN18: 4 | FP18: 609456 | FQ18: 4 | FS18: 609456 | FT18: 4 | FV18: 609456 | FW18: 4 | FY18: 609456 | FZ18: 4
B19: =IF($D$8=$AG$78,AG82,IF($D$8=$AJ$78,AJ82,IF($D$8=$AM$78,AM82,IF($D$8=$AP$78,AP82)))) -> 609456 | C19: =IF($D$8=$AG$78,AH82,IF($D$8=$AJ$78,AK82,IF($D$8=$AM$78,AN82,IF($D$8=$AP$78,AQ82)))) -> 4 | D19: =CONCATENATE(B19,C19) -> 6094564 | K19: =IFERROR(INDEX(V$18:FZ$38,ROWS($1:1),MATCH($L$8,$V$16:$FZ$16,0)),"") -> 609456 | L19: =IFERROR(INDEX(W$18:GA$38,ROWS($1:1),MATCH($L$8,$V$16:$FZ$16,0)),"") -> 4 | M19: =CONCATENATE(K19,L19) -> 6094564 | N19: =IF(VLOOKUP(M19,$D$19:$D$49,1,FALSE)=M19,"Bon composant, bonne quantitée","Erreur de composant ou de quantité") -> Bon composant, bonne quantitée | V19: 609514-04 | W19: 2 | Y19: 609514-04 | Z19: 2 | AB19: 609514-04 | AC19: 2 | AE19: 609514-04 | AF19: 2 | AH19: 609514-04 | AI19: 2 | AK19: 609514-04 | AL19: 0 | AN19: 609514-04 | AO19: 2 | AQ19: 609514-04 | AR19: 2 | AT19: 609514-04 | AU19: 0 | AW19: 609514-04 | AX19: 0 | AZ19: 609514-04 | BA19: 0 | BC19: 609514-04 | BD19: 0 | BF19: 609514-04 | BG19: 0 | BI19: 609514-04 | BJ19: 0 | BL19: 609514-04 | BM19: 0 | BO19: 609514-04 | BP19: 0 | BR19: 609514-04 | BS19: 0 | BU19: 609514-04 | BV19: 0 | BX19: 609514-04 | BY19: 2 | CA19: 609514-04 | CB19: 2 | CD19: 609514-04 | CE19: 2 | CG19: 609514-04 | CH19: 0 | CJ19: 609514-04 | CK19: 0 | CM19: 609514-04 | CN19: 0 | CP19: 609514-04 | CQ19: 0 | CS19: 609514-04 | CT19: 0 | CV19: 609514-04 | CW19: 0 | CY19: 609514-04 | CZ19: 0 | DB19: 609514-04 | DC19: 0 | DE19: 609514-04 | DF19: 0 | DH19: 609514-04 | DI19: 0 | DK19: 609514-04 | DL19: 0 | DN19: 609514-04 | DO19: 0 | DQ19: 609514-04 | DR19: 0 | DT19: 609514-04 | DU19: 0 | DW19: 609514-04 | DX19: 0 | DZ19: 609514-04 | EA19: 2 | EC19: 609514-04 | ED19: 0 | EF19: 609514-04 | EG19: 2 | EI19: 609514-04 | EJ19: 0 | EL19: 609514-04 | EM19: 0 | EO19: 609514-04 | EP19: 0 | ER19: 609514-04 | ES19: 0 | EU19: 609514-04 | EX19: 609514-04 | FA19: 609514-04 | FD19: 609514-04 | FG19: 609514-04 | FJ19: 609514-04 | FM19: 609514-04 | FP19: 609514-04 | FS19: 609514-04 | FV19: 609514-04 | FY19: 609514-04
B20: =IF($D$8=$AG$78,AG83,IF($D$8=$AJ$78,AJ83,IF($D$8=$AM$78,AM83,IF($D$8=$AP$78,AP83)))) -> H.M10X200.Z | C20: =IF($D$8=$AG$78,AH83,IF($D$8=$AJ$78,AK83,IF($D$8=$AM$78,AN83,IF($D$8=$AP$78,AQ83)))) -> 4 | D20: =CONCATENATE(B20,C20) -> H.M10X200.Z4 | K20: =IFERROR(INDEX(V$18:FZ$38,ROWS($1:2),MATCH($L$8,$V$16:$FZ$16,0)),"") -> 609514-04 | L20: =IFERROR(INDEX(W$18:GA$38,ROWS($1:2),MATCH($L$8,$V$16:$FZ$16,0)),"") -> 0 | M20: =CONCATENATE(K20,L20) -> 609514-040 | N20: =IF(VLOOKUP(M20,$D$19:$D$49,1,FALSE)=M20,"Bon composant, bonne quantitée","Erreur de composant ou de quantité") -> #N/A | V20: 609514-03 | W20: 1 | Y20: 609514-03 | Z20: 1 | AB20: 609514-03 | AC20: 0 | AE20: 609514-03 | AF20: 0 | AH20: 609514-03 | AI20: 0 | AK20: 609514-03 | AL20: 0 | AN20: 609514-03 | AO20: 0 | AQ20: 609514-03 | AR20: 0 | AT20: 609514-03 | AU20: 0 | AW20: 609514-03 | AX20: 0 | AZ20: 609514-03 | BA20: 0 | BC20: 609514-03 | BD20: 0 | BF20: 609514-03 | BG20: 0 | BI20: 609514-03 | BJ20: 0 | BL20: 609514-03 | BM20: 0 | BO20: 609514-03 | BP20: 1 | BR20: 609514-03 | BS20: 0 | BU20: 609514-03 | BV20: 1 | BX20: 609514-03 | BY20: 0 | CA20: 609514-03 | CB20: 0 | CD20: 609514-03 | CE20: 0 | CG20: 609514-03 | CH20: 0 | CJ20: 609514-03 | CK20: 0 | CM20: 609514-03 | CN20: 1 | CP20: 609514-03 | CQ20: 0 | CS20: 609514-03 | CT20: 0 | CV20: 609514-03 | CW20: 0 | CY20: 609514-03 | CZ20: 0 | DB20: 609514-03 | DC20: 0 | DE20: 609514-03 | DF20: 0 | DH20: 609514-03 | DI20: 0 | DK20: 609514-03 | DL20: 0 | DN20: 609514-03 | DO20: 0 | DQ20: 609514-03 | DR20: 0 | DT20: 609514-03 | DU20: 0 | DW20: 609514-03 | DX20: 0 | DZ20: 609514-03 | EA20: 1 | EC20: 609514-03 | ED20: 0 | EF20: 609514-03 | EG20: 1 | EI20: 609514-03 | EJ20: 0 | EL20: 609514-03 | EM20: 0 | EO20: 609514-03 | EP20: 0 | ER20: 609514-03 | ES20: 0 | EU20: 609514-03 | EX20: 609514-03 | FA20: 609514-03 | FD20: 609514-03 | FG20: 609514-03 | FJ20: 609514-03 | FM20: 609514-03 | FP20: 609514-03 | FQ20: 1 | FS20: 609514-03 | FT20: 1 | FV20: 609514-03 | FW20: 1 | FY20: 609514-03 | FZ20: 1
B21: =IF($D$8=$AG$78,AG84,IF($D$8=$AJ$78,AJ84,IF($D$8=$AM$78,AM84,IF($D$8=$AP$78,AP84)))) -> RD.10X22.Z | C21: =IF($D$8=$AG$78,AH84,IF($D$8=$AJ$78,AK84,IF($D$8=$AM$78,AN84,IF($D$8=$AP$78,AQ84)))) -> 8 | D21: =CONCATENATE(B21,C21) -> RD.10X22.Z8 | K21: =IFERROR(INDEX(V$18:FZ$38,ROWS($1:3),MATCH($L$8,$V$16:$FZ$16,0)),"") -> 609514-03 | L21: =IFERROR(INDEX(W$18:GA$38,ROWS($1:3),MATCH($L$8,$V$16:$FZ$16,0)),"") -> 0 | M21: =CONCATENATE(K21,L21) -> 609514-030 | N21: =IF(VLOOKUP(M21,$D$19:$D$49,1,FALSE)=M21,"Bon composant, bonne quantitée","Erreur de composant ou de quantité") -> #N/A | V21: H.M10X200.Z | W21: 4 | Y21: H.M10X200.Z | Z21: 4 | AB21: H.M10X200.Z | AC21: 4 | AE21: H.M10X200.Z | AF21: 4 | AH21: H.M10X200.Z | AI21: 4 | AK21: H.M10X200.Z | AL21: 4 | AN21: H.M10X200.Z | AO21: 4 | AQ21: H.M10X200.Z | AR21: 4 | AT21: H.M10X200.Z | AU21: 0 | AW21: H.M10X200.Z | AX21: 0 | AZ21: H.M10X200.Z | BA21: 0 | BC21: H.M10X200.Z | BD21: 0 | BF21: H.M10X200.Z | BG21: 0 | BI21: H.M10X200.Z | BJ21: 4 | BL21: H.M10X200.Z | BM21: 4 | BO21: H.M10X200.Z | BP21: 4 | BR21: H.M10X200.Z | BS21: 4 | BU21: H.M10X200.Z | BV21: 4 | BX21: H.M10X200.Z | BY21: 4 | CA21: H.M10X200.Z | CB21: 4 | CD21: H.M10X200.Z | CE21: 4 | CG21: H.M10X200.Z | CH21: 0 | CJ21: H.M10X200.Z | CK21: 0 | CM21: H.M10X200.Z | CN21: 4 | CP21: H.M10X200.Z | CQ21: 0 | CS21: H.M10X200.Z | CT21: 0 | CV21: H.M10X200.Z | CW21: 4 | CY21: H.M10X200.Z | CZ21: 4 | DB21: H.M10X200.Z | DC21: 0 | DE21: H.M10X200.Z | DF21: 0 | DH21: H.M10X200.Z | DI21: 0 | DK21: H.M10X200.Z | DL21: 0 | DN21: H.M10X200.Z | DO21: 4 | DQ21: H.M10X200.Z | DR21: 0 | DT21: H.M10X200.Z | DU21: 4 | DW21: H.M10X200.Z | DX21: 4 | DZ21: H.M10X200.Z | EA21: 4 | EC21: H.M10X200.Z | ED21: 0 | EF21: H.M10X200.Z | EG21: 4 | EI21: H.M10X200.Z | EJ21: 4 | EL21: H.M10X200.Z | EM21: 0 | EO21: H.M10X200.Z | EP21: 0 | ER21: H.M10X200.Z | ES21: 4 | EU21: H.M10X200.Z | EV21: 2 | EX21: H.M10X200.Z | FA21: H.M10X200.Z | FB21: 4 | FD21: H.M10X200.Z | FE21: 4 | FG21: H.M10X200.Z | FH21: 4 | FJ21: H.M10X200.Z | FK21: 2 | FM21: H.M10X200.Z | FN21: 2 | FP21: H.M10X200.Z | FQ21: 4 | FS21: H.M10X200.Z | FT21: 4 | FV21: H.M10X200.Z | FW21: 4 | FY21: H.M10X200.Z | FZ21: 4
B22: =IF($D$8=$AG$78,AG85,IF($D$8=$AJ$78,AJ85,IF($D$8=$AM$78,AM85,IF($D$8=$AP$78,AP85)))) -> E.FRE.M10.Z | C22: =IF($D$8=$AG$78,AH85,IF($D$8=$AJ$78,AK85,IF($D$8=$AM$78,AN85,IF($D$8=$AP$78,AQ85)))) -> 4 | D22: =CONCATENATE(B22,C22) -> E.FRE.M10.Z4 | K22: =IFERROR(INDEX(V$18:FZ$38,ROWS($1:4),MATCH($L$8,$V$16:$FZ$16,0)),"") -> H.M10X200.Z | L22: =IFERROR(INDEX(W$18:GA$38,ROWS($1:4),MATCH($L$8,$V$16:$FZ$16,0)),"") -> 4 | M22: =CONCATENATE(K22,L22) -> H.M10X200.Z4 | N22: =IF(VLOOKUP(M22,$D$19:$D$49,1,FALSE)=M22,"Bon composant, bonne quantitée","Erreur de composant ou de quantité") -> Bon composant, bonne quantitée | V22: RD.12.27.Z | W22: 8 | Y22: RD.12.27.Z | Z22: 0 | AB22: RD.12.27.Z | AC22: 0 | AE22: RD.12.27.Z | AF22: 0 | AH22: RD.12.27.Z | AI22: 0 | AK22: RD.12.27.Z | AL22: 4 | AN22: RD.12.27.Z | AO22: 0 | AQ22: RD.12.27.Z | AR22: 0 | AT22: RD.12.27.Z | AU22: 11 | AW22: RD.12.27.Z | AX22: 0 | AZ22: RD.12.27.Z | BA22: 0 | BC22: RD.12.27.Z | BD22: 0 | BF22: RD.12.27.Z | BG22: 0 | BI22: RD.12.27.Z | BJ22: 8 | BL22: RD.12.27.Z | BM22: 0 | BO22: RD.12.27.Z | BP22: 0 | BR22: RD.12.27.Z | BS22: 0 | BU22: RD.12.27.Z | BV22: 0 | BX22: RD.12.27.Z | BY22: 0 | CA22: RD.12.27.Z | CB22: 0 | CD22: RD.12.27.Z | CE22: 0 | CG22: RD.12.27.Z | CH22: 0 | CJ22: RD.12.27.Z | CK22: 0 | CM22: RD.12.27.Z | CN22: 0 | CP22: RD.12.27.Z | CQ22: 0 | CS22: RD.12.27.Z | CT22: 0 | CV22: RD.12.27.Z | CW22: 0 | CY22: RD.12.27.Z | CZ22: 0 | DB22: RD.12.27.Z | DC22: 0 | DE22: RD.12.27.Z | DF22: 0 | DH22: RD.12.27.Z | DI22: 0 | DK22: RD.12.27.Z | DL22: 0 | DN22: RD.12.27.Z | DO22: 0 | DQ22: RD.12.27.Z | DR22: 0 | DT22: RD.12.27.Z | DU22: 0 | DW22: RD.12.27.Z | DX22: 0 | DZ22: RD.12.27.Z | EA22: 8 | EC22: RD.12.27.Z | ED22: 0 | EF22: RD.12.27.Z | EG22: 8 | EI22: RD.12.27.Z | EJ22: 0 | EL22: RD.12.27.Z | EM22: 0 | EO22: RD.12.27.Z | EP22: 0 | ER22: RD.12.27.Z | ES22: 0 | EU22: RD.12.27.Z | EX22: RD.12.27.Z | FA22: RD.12.27.Z | FD22: RD.12.27.Z | FG22: RD.12.27.Z | FH22: 8 | FJ22: RD.12.27.Z | FK22: 8 | FM22: RD.12.27.Z | FN22: 8 | FP22: RD.12.27.Z | FQ22: 8 | FS22: RD.12.27.Z | FT22: 8 | FV22: RD.12.27.Z | FW22: 8 | FY22: RD.12.27.Z | FZ22: 8
B23: =IF($D$8=$AG$78,AG86,IF($D$8=$AJ$78,AJ86,IF($D$8=$AM$78,AM86,IF($D$8=$AP$78,AP86)))) -> TRCC.M14X180.Z | C23: =IF($D$8=$AG$78,AH86,IF($D$8=$AJ$78,AK86,IF($D$8=$AM$78,AN86,IF($D$8=$AP$78,AQ86)))) -> 8 | D23: =CONCATENATE(B23,C23) -> TRCC.M14X180.Z8 | K23: =IFERROR(INDEX(V$18:FZ$38,ROWS($1:5),MATCH($L$8,$V$16:$FZ$16,0)),"") -> RD.12.27.Z | L23: =IFERROR(INDEX(W$18:GA$38,ROWS($1:5),MATCH($L$8,$V$16:$FZ$16,0)),"") -> 8 | M23: =CONCATENATE(K23,L23) -> RD.12.27.Z8 | N23: =IF(VLOOKUP(M23,$D$19:$D$49,1,FALSE)=M23,"Bon composant, bonne quantitée","Erreur de composant ou de quantité") -> #N/A | V23: E.FRE.M10.Z | W23: 4 | Y23: E.FRE.M10.Z | Z23: 4 | AB23: E.FRE.M10.Z | AC23: 7 | AE23: E.FRE.M10.Z | AF23: 7 | AH23: E.FRE.M10.Z | AI23: 7 | AK23: E.FRE.M10.Z | AL23: 4 | AN23: E.FRE.M10.Z | AO23: 7 | AQ23: E.FRE.M10.Z | AR23: 7 | AT23: E.FRE.M10.Z | AU23: 7 | AW23: E.FRE.M10.Z | AX23: 0 | AZ23: E.FRE.M10.Z | BA23: 0 | BC23: E.FRE.M10.Z | BD23: 0 | BF23: E.FRE.M10.Z | BG23: 0 | BI23: E.FRE.M10.Z | BJ23: 4 | BL23: E.FRE.M10.Z | BM23: 4 | BO23: E.FRE.M10.Z | BP23: 7 | BR23: E.FRE.M10.Z | BS23: 4 | BU23: E.FRE.M10.Z | BV23: 7 | BX23: E.FRE.M10.Z | BY23: 7 | CA23: E.FRE.M10.Z | CB23: 7 | CD23: E.FRE.M10.Z | CE23: 7 | CG23: E.FRE.M10.Z | CH23: 0 | CJ23: E.FRE.M10.Z | CK23: 0 | CM23: E.FRE.M10.Z | CN23: 7 | CP23: E.FRE.M10.Z | CQ23: 0 | CS23: E.FRE.M10.Z | CT23: 0 | CV23: E.FRE.M10.Z | CW23: 4 | CY23: E.FRE.M10.Z | CZ23: 6 | DB23: E.FRE.M10.Z | DC23: 0 | DE23: E.FRE.M10.Z | DF23: 0 | DH23: E.FRE.M10.Z | DI23: 0 | DK23: E.FRE.M10.Z | DL23: 0 | DN23: E.FRE.M10.Z | DO23: 4 | DQ23: E.FRE.M10.Z | DR23: 0 | DT23: E.FRE.M10.Z | DU23: 6 | DW23: E.FRE.M10.Z | DX23: 4 | DZ23: E.FRE.M10.Z | EA23: 4 | EC23: E.FRE.M10.Z | ED23: 0 | EF23: E.FRE.M10.Z | EG23: 4 | EI23: E.FRE.M10.Z | EJ23: 6 | EL23: E.FRE.M10.Z | EM23: 0 | EO23: E.FRE.M10.Z | EP23: 0 | ER23: E.FRE.M10.Z | ES23: 4 | EU23: E.FRE.M10.Z | EV23: 2 | EX23: E.FRE.M10.Z | EY23: 8 | FA23: E.FRE.M10.Z | FB23: 4 | FD23: E.FRE.M10.Z | FE23: 4 | FG23: E.FRE.M10.Z | FH23: 4 | FJ23: E.FRE.M10.Z | FK23: 4 | FM23: E.FRE.M10.Z | FN23: 4 | FP23: E.FRE.M10.Z | FQ23: 7 | FS23: E.FRE.M10.Z | FT23: 7 | FV23: E.FRE.M10.Z | FW23: 7 | FY23: E.FRE.M10.Z | FZ23: 7
B24: =IF($D$8=$AG$78,AG87,IF($D$8=$AJ$78,AJ87,IF($D$8=$AM$78,AM87,IF($D$8=$AP$78,AP87)))) -> RD.14PZ | C24: =IF($D$8=$AG$78,AH87,IF($D$8=$AJ$78,AK87,IF($D$8=$AM$78,AN87,IF($D$8=$AP$78,AQ87)))) -> 8 | D24: =CONCATENATE(B24,C24) -> RD.14PZ8 | K24: =IFERROR(INDEX(V$18:FZ$38,ROWS($1:6),MATCH($L$8,$V$16:$FZ$16,0)),"") -> E.FRE.M10.Z | L24: =IFERROR(INDEX(W$18:GA$38,ROWS($1:6),MATCH($L$8,$V$16:$FZ$16,0)),"") -> 4 | M24: =CONCATENATE(K24,L24) -> E.FRE.M10.Z4 | N24: =IF(VLOOKUP(M24,$D$19:$D$49,1,FALSE)=M24,"Bon composant, bonne quantitée","Erreur de composant ou de quantité") -> Bon composant, bonne quantitée | V24: TRCC.M14X180.Z | W24: 8 | Y24: TRCC.M14X180.Z | Z24: 12 | AB24: TRCC.M14X180.Z | AC24: 8 | AE24: TRCC.M14X180.Z | AF24: 8 | AH24: TRCC.M14X180.Z | AI24: 8 | AK24: TRCC.M14X180.Z | AL24: 8 | AN24: TRCC.M14X180.Z | AO24: 0 | AQ24: TRCC.M14X180.Z | AR24: 0 | AT24: TRCC.M14X180.Z | AU24: 0 | AW24: TRCC.M14X180.Z | AX24: 0 | AZ24: TRCC.M14X180.Z | BA24: 0 | BC24: TRCC.M14X180.Z | BD24: 0 | BF24: TRCC.M14X180.Z | BG24: 2 | BI24: TRCC.M14X180.Z | BJ24: 12 | BL24: TRCC.M14X180.Z | BM24: 16 | BO24: TRCC.M14X180.Z | BP24: 8 | BR24: TRCC.M14X180.Z | BS24: 8 | BU24: TRCC.M14X180.Z | BV24: 8 | BX24: TRCC.M14X180.Z | BY24: 0 | CA24: TRCC.M14X180.Z | CB24: 0 | CD24: TRCC.M14X180.Z | CE24: 8 | CG24: TRCC.M14X180.Z | CH24: 0 | CJ24: TRCC.M14X180.Z | CK24: 0 | CM24: TRCC.M14X180.Z | CN24: 8 | CP24: TRCC.M14X180.Z | CQ24: 0 | CS24: TRCC.M14X180.Z | CT24: 0 | CV24: TRCC.M14X180.Z | CW24: 8 | CY24: TRCC.M14X180.Z | CZ24: 16 | DB24: TRCC.M14X180.Z | DC24: 0 | DE24: TRCC.M14X180.Z | DF24: 0 | DH24: TRCC.M14X180.Z | DI24: 0 | DK24: TRCC.M14X180.Z | DL24: 0 | DN24: TRCC.M14X180.Z | DO24: 8 | DQ24: TRCC.M14X180.Z | DR24: 0 | DT24: TRCC.M14X180.Z | DU24: 16 | DW24: TRCC.M14X180.Z | DX24: 8 | DZ24: TRCC.M14X180.Z | EA24: 8 | EC24: TRCC.M14X180.Z | ED24: 0 | EF24: TRCC.M14X180.Z | EG24: 8 | EI24: TRCC.M14X180.Z | EJ24: 16 | EL24: TRCC.M14X180.Z | EM24: 0 | EO24: TRCC.M14X180.Z | EP24: 0 | ER24: TRCC.M14X180.Z | ES24: 8 | EU24: TRCC.M14X180.Z | EV24: 8 | EX24: TRCC.M14X180.Z | EY24: 4 | FA24: TRCC.M14X180.Z | FB24: 8 | FD24: TRCC.M14X180.Z | FE24: 8 | FG24: TRCC.M14X180.Z | FH24: 8 | FJ24: TRCC.M14X180.Z | FK24: 8 | FM24: TRCC.M14X180.Z | FN24: 8 | FP24: TRCC.M14X180.Z | FQ24: 8 | FS24: TRCC.M14X180.Z | FT24: 8 | FV24: TRCC.M14X180.Z | FW24: 8 | FY24: TRCC.M14X180.Z | FZ24: 8
B25: =IF($D$8=$AG$78,AG88,IF($D$8=$AJ$78,AJ88,IF($D$8=$AM$78,AM88,IF($D$8=$AP$78,AP88)))) -> E.FRE.M14.Z | C25: =IF($D$8=$AG$78,AH88,IF($D$8=$AJ$78,AK88,IF($D$8=$AM$78,AN88,IF($D$8=$AP$78,AQ88)))) -> 8 | D25: =CONCATENATE(B25,C25) -> E.FRE.M14.Z8 | K25: =IFERROR(INDEX(V$18:FZ$38,ROWS($1:7),MATCH($L$8,$V$16:$FZ$16,0)),"") -> TRCC.M14X180.Z | L25: =IFERROR(INDEX(W$18:GA$38,ROWS($1:7),MATCH($L$8,$V$16:$FZ$16,0)),"") -> 8 | M25: =CONCATENATE(K25,L25) -> TRCC.M14X180.Z8 | N25: =IF(VLOOKUP(M25,$D$19:$D$49,1,FALSE)=M25,"Bon composant, bonne quantitée","Erreur de composant ou de quantité") -> Bon composant, bonne quantitée | V25: RD.16X32.Z | W25: 12 | Y25: RD.16X32.Z | Z25: 0 | AB25: RD.16X32.Z | AC25: 0 | AE25: RD.16X32.Z | AF25: 0 | AH25: RD.16X32.Z | AI25: 0 | AK25: RD.16X32.Z | AL25: 12 | AN25: RD.16X32.Z | AO25: 0 | AQ25: RD.16X32.Z | AR25: 0 | AT25: RD.16X32.Z | AU25: 10 | AW25: RD.16X32.Z | AX25: 0 | AZ25: RD.16X32.Z | BA25: 10 | BC25: RD.16X32.Z | BD25: 12 | BF25: RD.16X32.Z | BG25: 11 | BI25: RD.16X32.Z | BJ25: 30 | BL25: RD.16X32.Z | BM25: 0 | BO25: RD.16X32.Z | BP25: 0 | BR25: RD.16X32.Z | BS25: 0 | BU25: RD.16X32.Z | BV25: 0 | BX25: RD.16X32.Z | BY25: 0 | CA25: RD.16X32.Z | CB25: 0 | CD25: RD.16X32.Z | CE25: 0 | CG25: RD.16X32.Z | CH25: 0 | CJ25: RD.16X32.Z | CK25: 0 | CM25: RD.16X32.Z | CN25: 0 | CP25: RD.16X32.Z | CQ25: 0 | CS25: RD.16X32.Z | CT25: 0 | CV25: RD.16X32.Z | CW25: 0 | CY25: RD.16X32.Z | CZ25: 0 | DB25: RD.16X32.Z | DC25: 10 | DE25: RD.16X32.Z | DF25: 10 | DH25: RD.16X32.Z | DI25: 10 | DK25: RD.16X32.Z | DL25: 20 | DN25: RD.16X32.Z | DO25: 0 | DQ25: RD.16X32.Z | DR25: 0 | DT25: RD.16X32.Z | DU25: 0 | DW25: RD.16X32.Z | DX25: 0 | DZ25: RD.16X32.Z | EA25: 12 | EC25: RD.16X32.Z | ED25: 10 | EF25: RD.16X32.Z | EG25: 12 | EI25: RD.16X32.Z | EJ25: 0 | EL25: RD.16X32.Z | EM25: 10 | EO25: RD.16X32.Z | EP25: 10 | ER25: RD.16X32.Z | ES25: 0 | EU25: RD.16X32.Z | EX25: RD.16X32.Z | FA25: RD.16X32.Z | FD25: RD.16X32.Z | FG25: RD.16X32.Z | FH25: 12 | FJ25: RD.16X32.Z | FK25: 12 | FM25: RD.16X32.Z | FN25: 12 | FP25: RD.16X32.Z | FQ25: 12 | FS25: RD.16X32.Z | FT25: 12 | FV25: RD.16X32.Z | FW25: 12 | FY25: RD.16X32.Z | FZ25: 12
B26: =IF($D$8=$AG$78,AG89,IF($D$8=$AJ$78,AJ89,IF($D$8=$AM$78,AM89,IF($D$8=$AP$78,AP89)))) -> H.M14X040.G | C26: =IF($D$8=$AG$78,AH89,IF($D$8=$AJ$78,AK89,IF($D$8=$AM$78,AN89,IF($D$8=$AP$78,AQ89)))) -> 2 | D26: =CONCATENATE(B26,C26) -> H.M14X040.G2 | K26: =IFERROR(INDEX(V$18:FZ$38,ROWS($1:8),MATCH($L$8,$V$16:$FZ$16,0)),"") -> RD.16X32.Z | L26: =IFERROR(INDEX(W$18:GA$38,ROWS($1:8),MATCH($L$8,$V$16:$FZ$16,0)),"") -> 12 | M26: =CONCATENATE(K26,L26) -> RD.16X32.Z12 | N26: =IF(VLOOKUP(M26,$D$19:$D$49,1,FALSE)=M26,"Bon composant, bonne quantitée","Erreur de composant ou de quantité") -> #N/A | V26: E.FRE.M14.Z | W26: 10 | Y26: E.FRE.M14.Z | Z26: 15 | AB26: E.FRE.M14.Z | AC26: 8 | AE26: E.FRE.M14.Z | AF26: 8 | AH26: E.FRE.M14.Z | AI26: 8 | AK26: E.FRE.M14.Z | AL26: 12 | AN26: E.FRE.M14.Z | AO26: 0 | AQ26: E.FRE.M14.Z | AR26: 0 | AT26: E.FRE.M14.Z | AU26: 8 | AW26: E.FRE.M14.Z | AX26: 8 | AZ26: E.FRE.M14.Z | BA26: 8 | BC26: E.FRE.M14.Z | BD26: 12 | BF26: E.FRE.M14.Z | BG26: 6 | BI26: E.FRE.M14.Z | BJ26: 15 | BL26: E.FRE.M14.Z | BM26: 16 | BO26: E.FRE.M14.Z | BP26: 8 | BR26: E.FRE.M14.Z | BS26: 8 | BU26: E.FRE.M14.Z | BV26: 8 | BX26: E.FRE.M14.Z | BY26: 0 | CA26: E.FRE.M14.Z | CB26: 4 | CD26: E.FRE.M14.Z | CE26: 4 | CG26: E.FRE.M14.Z | CH26: 0 | CJ26: E.FRE.M14.Z | CK26: 0 | CM26: E.FRE.M14.Z | CN26: 8 | CP26: E.FRE.M14.Z | CQ26: 0 | CS26: E.FRE.M14.Z | CT26: 8 | CV26: E.FRE.M14.Z | CW26: 8 | CY26: E.FRE.M14.Z | CZ26: 18 | DB26: E.FRE.M14.Z | DC26: 8 | DE26: E.FRE.M14.Z | DF26: 8 | DH26: E.FRE.M14.Z | DI26: 8 | DK26: E.FRE.M14.Z | DL26: 16 | DN26: E.FRE.M14.Z | DO26: 8 | DQ26: E.FRE.M14.Z | DR26: 12 | DT26: E.FRE.M14.Z | DU26: 18 | DW26: E.FRE.M14.Z | DX26: 8 | DZ26: E.FRE.M14.Z | EA26: 10 | EC26: E.FRE.M14.Z | ED26: 8 | EF26: E.FRE.M14.Z | EG26: 10 | EI26: E.FRE.M14.Z | EJ26: 18 | EL26: E.FRE.M14.Z | EM26: 8 | EO26: E.FRE.M14.Z | EP26: 8 | ER26: E.FRE.M14.Z | ES26: 8 | EU26: E.FRE.M14.Z | EV26: 8 | EX26: E.FRE.M14.Z | EY26: 12 | FA26: E.FRE.M14.Z | FB26: 12 | FD26: E.FRE.M14.Z | FE26: 10 | FG26: E.FRE.M14.Z | FH26: 4 | FJ26: E.FRE.M14.Z | FK26: 8 | FM26: E.FRE.M14.Z | FN26: 8 | FP26: E.FRE.M14.Z | FQ26: 8 | FS26: E.FRE.M14.Z | FT26: 8 | FV26: E.FRE.M14.Z | FW26: 8 | FY26: E.FRE.M14.Z | FZ26: 8
B27: =IF($D$8=$AG$78,AG90,IF($D$8=$AJ$78,AJ90,IF($D$8=$AM$78,AM90,IF($D$8=$AP$78,AP90)))) -> E.M14.G | C27: =IF($D$8=$AG$78,AH90,IF($D$8=$AJ$78,AK90,IF($D$8=$AM$78,AN90,IF($D$8=$AP$78,AQ90)))) -> 4 | D27: =CONCATENATE(B27,C27) -> E.M14.G4 | K27: =IFERROR(INDEX(V$18:FZ$38,ROWS($1:9),MATCH($L$8,$V$16:$FZ$16,0)),"") -> E.FRE.M14.Z | L27: =IFERROR(INDEX(W$18:GA$38,ROWS($1:9),MATCH($L$8,$V$16:$FZ$16,0)),"") -> 4 | M27: =CONCATENATE(K27,L27) -> E.FRE.M14.Z4 | N27: =IF(VLOOKUP(M27,$D$19:$D$49,1,FALSE)=M27,"Bon composant, bonne quantitée","Erreur de composant ou de quantité") -> #N/A | V27: H.M14X040.G | W27: 2 | Y27: H.M14X040.G | Z27: 3 | AB27: H.M14X040.G | AC27: 2 | AE27: H.M14X040.G | AF27: 2 | AH27: H.M14X040.G | AI27: 2 | AK27: H.M14X040.G | AL27: 0 | AN27: H.M14X040.G | AO27: 2 | AQ27: H.M14X040.G | AR27: 2 | AT27: H.M14X040.G | AU27: 2 | AW27: H.M14X040.G | AX27: 2 | AZ27: H.M14X040.G | BA27: 2 | BC27: H.M14X040.G | BD27: 2 | BF27: H.M14X040.G | BG27: 0 | BI27: H.M14X040.G | BJ27: 0 | BL27: H.M14X040.G | BM27: 4 | BO27: H.M14X040.G | BP27: 2 | BR27: H.M14X040.G | BS27: 2 | BU27: H.M14X040.G | BV27: 2 | BX27: H.M14X040.G | BY27: 2 | CA27: H.M14X040.G | CB27: 2 | CD27: H.M14X040.G | CE27: 2 | CG27: H.M14X040.G | CH27: 2 | CJ27: H.M14X040.G | CK27: 2 | CM27: H.M14X040.G | CN27: 2 | CP27: H.M14X040.G | CQ27: 2 | CS27: H.M14X040.G | CT27: 2 | CV27: H.M14X040.G | CW27: 2 | CY27: H.M14X040.G | CZ27: 4 | DB27: H.M14X040.G | DC27: 2 | DE27: H.M14X040.G | DF27: 2 | DH27: H.M14X040.G | DI27: 2 | DK27: H.M14X040.G | DL27: 4 | DN27: H.M14X040.G | DO27: 2 | DQ27: H.M14X040.G | DR27: 0 | DT27: H.M14X040.G | DU27: 4 | DW27: H.M14X040.G | DX27: 2 | DZ27: H.M14X040.G | EA27: 2 | EC27: H.M14X040.G | ED27: 2 | EF27: H.M14X040.G | EG27: 2 | EI27: H.M14X040.G | EJ27: 4 | EL27: H.M14X040.G | EM27: 2 | EO27: H.M14X040.G | EP27: 2 | ER27: H.M14X040.G | ES27: 2 | EU27: H.M14X040.G | EX27: H.M14X040.G | FA27: H.M14X040.G | FD27: H.M14X040.G | FG27: H.M14X040.G | FJ27: H.M14X040.G | FK27: 2 | FM27: H.M14X040.G | FN27: 2 | FP27: H.M14X040.G | FQ27: 2 | FS27: H.M14X040.G | FT27: 2 | FV27: H.M14X040.G | FW27: 2 | FY27: H.M14X040.G | FZ27: 2
B28: =IF($D$8=$AG$78,AG91,IF($D$8=$AJ$78,AJ91,IF($D$8=$AM$78,AM91,IF($D$8=$AP$78,AP91)))) -> 690901 | C28: =IF($D$8=$AG$78,AH91,IF($D$8=$AJ$78,AK91,IF($D$8=$AM$78,AN91,IF($D$8=$AP$78,AQ91)))) -> 11 | D28: =CONCATENATE(B28,C28) -> 69090111 | K28: =IFERROR(INDEX(V$18:FZ$38,ROWS($1:10),MATCH($L$8,$V$16:$FZ$16,0)),"") -> H.M14X040.G | L28: =IFERROR(INDEX(W$18:GA$38,ROWS($1:10),MATCH($L$8,$V$16:$FZ$16,0)),"") -> 0 | M28: =CONCATENATE(K28,L28) -> H.M14X040.G0 | N28: =IF(VLOOKUP(M28,$D$19:$D$49,1,FALSE)=M28,"Bon composant, bonne quantitée","Erreur de composant ou de quantité") -> #N/A | V28: 690901 | W28: 11 | Y28: 690901 | Z28: 11 | AB28: 690901 | AC28: 11 | AE28: 690901 | AF28: 11 | AH28: 690901 | AI28: 11 | AK28: 690901 | AL28: 8 | AN28: 690901 | AO28: 11 | AQ28: 690901 | AR28: 11 | AT28: 690901 | AU28: 0 | AW28: 690901 | AX28: 0 | AZ28: 690901 | BA28: 1 | BC28: 690901 | BD28: 1 | BF28: 690901 | BG28: 0 | BI28: 690901 | BJ28: 8 | BL28: 690901 | BM28: 10 | BO28: 690901 | BP28: 11 | BR28: 690901 | BS28: 8 | BU28: 690901 | BV28: 11 | BX28: 690901 | BY28: 11 | CA28: 690901 | CB28: 11 | CD28: 690901 | CE28: 11 | CG28: 690901 | CH28: 0 | CJ28: 690901 | CK28: 0 | CM28: 690901 | CN28: 11 | CP28: 690901 | CQ28: 0 | CS28: 690901 | CT28: 0 | CV28: 690901 | CW28: 8 | CY28: 690901 | CZ28: 10 | DB28: 690901 | DC28: 0 | DE28: 690901 | DF28: 0 | DH28: 690901 | DI28: 0 | DK28: 690901 | DL28: 0 | DN28: 690901 | DO28: 8 | DQ28: 690901 | DR28: 0 | DT28: 690901 | DU28: 10 | DW28: 690901 | DX28: 8 | DZ28: 690901 | EA28: 11 | EC28: 690901 | ED28: 0 | EF28: 690901 | EG28: 11 | EI28: 690901 | EJ28: 10 | EL28: 690901 | EM28: 0 | EO28: 690901 | EP28: 0 | ER28: 690901 | ES28: 8 | EU28: 690901 | EV28: 4 | EX28: 690901 | EY28: 8 | FA28: 690901 | FB28: 11 | FD28: 690901 | FE28: 11 | FG28: 690901 | FH28: 8 | FJ28: 690901 | FK28: 6 | FM28: 690901 | FN28: 6 | FP28: 690901 | FQ28: 11 | FS28: 690901 | FT28: 11 | FV28: 690901 | FW28: 11 | FY28: 690901 | FZ28: 11
B29: =IF($D$8=$AG$78,AG92,IF($D$8=$AJ$78,AJ92,IF($D$8=$AM$78,AM92,IF($D$8=$AP$78,AP92)))) -> 609514-04 | C29: =IF($D$8=$AG$78,AH92,IF($D$8=$AJ$78,AK92,IF($D$8=$AM$78,AN92,IF($D$8=$AP$78,AQ92)))) -> 2 | D29: =CONCATENATE(B29,C29) -> 609514-042 | K29: =IFERROR(INDEX(V$18:FZ$38,ROWS($1:11),MATCH($L$8,$V$16:$FZ$16,0)),"") -> 690901 | L29: =IFERROR(INDEX(W$18:GA$38,ROWS($1:11),MATCH($L$8,$V$16:$FZ$16,0)),"") -> 8 | M29: =CONCATENATE(K29,L29) -> 6909018 | N29: =IF(VLOOKUP(M29,$D$19:$D$49,1,FALSE)=M29,"Bon composant, bonne quantitée","Erreur de composant ou de quantité") -> #N/A | V29: 609594 | W29: 1 | Y29: 609594 | Z29: 1 | AB29: 609594 | AC29: 1 | AE29: 609594 | AF29: 0 | AH29: 609594 | AI29: 0 | AK29: 609594 | AL29: 1 | AN29: 609594 | AO29: 0 | AQ29: 609594 | AR29: 1 | AT29: 609594 | AU29: 1 | AW29: 609594 | AX29: 1 | AZ29: 609594 | BA29: 1 | BC29: 609594 | BD29: 1 | BF29: 609594 | BG29: 0 | BI29: 609594 | BJ29: 2 | BL29: 609594 | BM29: 2 | BO29: 609594 | BP29: 1 | BR29: 609594 | BS29: 0 | BU29: 609594 | BV29: 1 | BX29: 609594 | BY29: 1 | CA29: 609594 | CB29: 1 | CD29: 609594 | CE29: 0 | CG29: 609594 | CH29: 0 | CJ29: 609594 | CK29: 0 | CM29: 609594 | CN29: 1 | CP29: 609594 | CQ29: 0 | CS29: 609594 | CT29: 0 | CV29: 609594 | CW29: 1 | CY29: 609594 | CZ29: 1 | DB29: 609594 | DC29: 1 | DE29: 609594 | DF29: 1 | DH29: 609594 | DI29: 1 | DK29: 609594 | DL29: 0 | DN29: 609594 | DO29: 1 | DQ29: 609594 | DR29: 1 | DT29: 609594 | DU29: 1 | DW29: 609594 | DX29: 0 | DZ29: 609594 | EA29: 1 | EC29: 609594 | ED29: 1 | EF29: 609594 | EG29: 1 | EI29: 609594 | EJ29: 1 | EL29: 609594 | EM29: 1 | EO29: 609594 | EP29: 1 | ER29: 609594 | ES29: 1 | EU29: 609594 | EV29: 1 | EX29: 609594 | EY29: 1 | FA29: 609594 | FB29: 1 | FD29: 609594 | FE29: 1 | FG29: 609594 | FH29: 1 | FJ29: 609594 | FK29: 2 | FM29: 609594 | FN29: 2 | FP29: 609594 | FQ29: 1 | FS29: 609594 | FT29: 1 | FV29: 609594 | FW29: 1 | FY29: 609594 | FZ29: 1
B30: =IF($D$8=$AG$78,AG93,IF($D$8=$AJ$78,AJ93,IF($D$8=$AM$78,AM93,IF($D$8=$AP$78,AP93)))) -> 609514-03 | C30: =IF($D$8=$AG$78,AH93,IF($D$8=$AJ$78,AK93,IF($D$8=$AM$78,AN93,IF($D$8=$AP$78,AQ93)))) -> 1 | D30: =CONCATENATE(B30,C30) -> 609514-031 | K30: =IFERROR(INDEX(V$18:FZ$38,ROWS($1:12),MATCH($L$8,$V$16:$FZ$16,0)),"") -> 609594 | L30: =IFERROR(INDEX(W$18:GA$38,ROWS($1:12),MATCH($L$8,$V$16:$FZ$16,0)),"") -> 1 | M30: =CONCATENATE(K30,L30) -> 6095941 | N30: =IF(VLOOKUP(M30,$D$19:$D$49,1,FALSE)=M30,"Bon composant, bonne quantitée","Erreur de composant ou de quantité") -> #N/A | V30: 609593 | W30: 1 | Y30: 609593 | Z30: 1 | AB30: 609593 | AC30: 1 | AE30: 609593 | AF30: 0 | AH30: 609593 | AI30: 0 | AK30: 609593 | AL30: 1 | AN30: 609593 | AO30: 1 | AQ30: 609593 | AR30: 1 | AT30: 609593 | AU30: 1 | AW30: 609593 | AX30: 1 | AZ30: 609593 | BA30: 1 | BC30: 609593 | BD30: 0 | BF30: 609593 | BG30: 0 | BI30: 609593 | BJ30: 0 | BL30: 609593 | BM30: 2 | BO30: 609593 | BP30: 1 | BR30: 609593 | BS30: 0 | BU30: 609593 | BV30: 1 | BX30: 609593 | BY30: 1 | CA30: 609593 | CB30: 1 | CD30: 609593 | CE30: 1 | CG30: 609593 | CH30: 0 | CJ30: 609593 | CK30: 0 | CM30: 609593 | CN30: 0 | CP30: 609593 | CQ30: 0 | CS30: 609593 | CT30: 0 | CV30: 609593 | CW30: 0 | CY30: 609593 | CZ30: 0 | DB30: 609593 | DC30: 1 | DE30: 609593 | DF30: 1 | DH30: 609593 | DI30: 1 | DK30: 609593 | DL30: 0 | DN30: 609593 | DO30: 1 | DQ30: 609593 | DR30: 1 | DT30: 609593 | DU30: 0 | DW30: 609593 | DX30: 0 | DZ30: 609593 | EA30: 1 | EC30: 609593 | ED30: 1 | EF30: 609593 | EG30: 1 | EI30: 609593 | EJ30: 0 | EL30: 609593 | EM30: 1 | EO30: 609593 | EP30: 1 | ER30: 609593 | ES30: 1 | EU30: 609593 | EV30: 1 | EX30: 609593 | FA30: 609593 | FD30: 609593 | FG30: 609593 | FJ30: 609593 | FM30: 609593 | FP30: 609593 | FQ30: 1 | FS30: 609593 | FT30: 1 | FV30: 609593 | FW30: 1 | FY30: 609593 | FZ30: 1
B31: =IF($D$8=$AG$78,AG94,IF($D$8=$AJ$78,AJ94,IF($D$8=$AM$78,AM94,IF($D$8=$AP$78,AP94)))) -> USINE | C31: =IF($D$8=$AG$78,AH94,IF($D$8=$AJ$78,AK94,IF($D$8=$AM$78,AN94,IF($D$8=$AP$78,AQ94)))) -> 0 | D31: =CONCATENATE(B31,C31) -> USINE0 | K31: =IFERROR(INDEX(V$18:FZ$38,ROWS($1:13),MATCH($L$8,$V$16:$FZ$16,0)),"") -> 609593 | L31: =IFERROR(INDEX(W$18:GA$38,ROWS($1:13),MATCH($L$8,$V$16:$FZ$16,0)),"") -> 0 | M31: =CONCATENATE(K31,L31) -> 6095930 | N31: =IF(VLOOKUP(M31,$D$19:$D$49,1,FALSE)=M31,"Bon composant, bonne quantitée","Erreur de composant ou de quantité") -> #N/A | Y31: RD.10X22.Z | Z31: 8 | AB31: E.M14.G | AC31: 4 | AE31: E.M14.G | AF31: 4 | AH31: E.M14.G | AI31: 4 | AK31: H.M14X35.Z | AL31: 2 | AN31: E.M16.G | AO31: 8 | AQ31: E.M16.G | AR31: 8 | AT31: 609631-01 | AU31: 1 | AW31: H.M14X160.Z | AX31: 2 | AZ31: H.M14X160.Z | BA31: 2 | BC31: H.M14X160.Z | BD31: 2 | BF31: H.M14X140.Z | BG31: 2 | BI31: 609637 | BJ31: 1 | BL31: RD.10X22.Z | BM31: 10 | BO31: RD.10X22.Z | BP31: 11 | BR31: RD.10X22.Z | BS31: 8 | BU31: RD.10X22.Z | BV31: 11 | BX31: RD.10X22.Z | BY31: 11 | CA31: RD.10X22.Z | CB31: 11 | CD31: RD.10X22.Z | CE31: 11 | CG31: RD.14X30.G | CH31: 4 | CJ31: RD.14X30.G | CK31: 4 | CM31: RD.10X22.Z | CN31: 11 | CP31: 609513 | CQ31: 1 | CS31: TRCC.M14X160.Z | CT31: 8 | CV31: RD.10X22.Z | CW31: 8 | CY31: RD.10X22.Z | CZ31: 10 | DB31: E.M14.G | DC31: 4 | DE31: E.M10.G | DF31: 4 | DH31: E.M14.G | DI31: 4 | DK31: E.M10.G | DL31: 8 | DN31: RD.10X22.Z | DO31: 8 | DQ31: H.MX14X160.Z | DR31: 2 | DT31: RD.10X22.Z | DU31: 10 | DW31: 609513 | DX31: 1 | DZ31: 0 | EA31: 0 | EC31: 609631-01 | ED31: 1 | EF31: 0 | EG31: 0 | EI31: RD.10X22.Z | EJ31: 10 | EL31: H.MX14X160.Z | EM31: 2 | EO31: H.MX14X160.Z | EP31: 2 | ER31: RD.10X22.Z | ES31: 8 | EU31: RD.14PZ | EV31: 12 | EX31: H.M14X35.Z | EY31: 2 | FA31: H.M14X35.Z | FB31: 2 | FD31: H.M14X35.Z | FE31: 2 | FG31: H.M14X35.Z | FH31: 2 | FJ31: 609514-01 | FK31: 1 | FM31: 609514-01 | FN31: 1 | FS31: E.M10.Z | FT31: 7
B32: =IF($D$8=$AG$78,AG95,IF($D$8=$AJ$78,AJ95,IF($D$8=$AM$78,AM95,IF($D$8=$AP$78,AP95)))) -> V.TFTX06X160.I | C32: =IF($D$8=$AG$78,AH95,IF($D$8=$AJ$78,AK95,IF($D$8=$AM$78,AN95,IF($D$8=$AP$78,AQ95)))) -> 2 | D32: =CONCATENATE(B32,C32) -> V.TFTX06X160.I2 | K32: =IFERROR(INDEX(V$18:FZ$38,ROWS($1:14),MATCH($L$8,$V$16:$FZ$16,0)),"") -> H.M14X35.Z | L32: =IFERROR(INDEX(W$18:GA$38,ROWS($1:14),MATCH($L$8,$V$16:$FZ$16,0)),"") -> 2 | M32: =CONCATENATE(K32,L32) -> H.M14X35.Z2 | N32: =IF(VLOOKUP(M32,$D$19:$D$49,1,FALSE)=M32,"Bon composant, bonne quantitée","Erreur de composant ou de quantité") -> #N/A | Y32: RD.14PZ | Z32: 18 | AB32: RD.10X22.Z | AC32: 11 | AE32: RD.10X22 | AF32: 11 | AH32: RD.10X22.Z | AI32: 11 | AN32: 609514-05 | AO32: 1 | AQ32: 609514-05 | AR32: 1 | AT32: TRCC.14X160.Z | AU32: 6 | AW32: E.M14.G | AX32: 4 | AZ32: E.M14.G | BA32: 4 | BC32: TRCC.14X160.Z | BD32: 6 | BF32: H.M14X035.Z | BG32: 2 | BI32: 609631-01 | BJ32: 1 | BL32: 609514-13 | BM32: 0 | BO32: 609514-13 | BP32: 2 | BR32: 609513 | BS32: 1 | BU32: 609514-13 | BV32: 2 | BX32: 609514-05 | BY32: 2 | CA32: 609514-05 | CB32: 1 | CD32: 609514-05 | CE32: 1 | CG32: E.M14.G | CH32: 4 | CJ32: 609513 | CK32: 1 | CM32: E.M14.G | CN32: 4 | CP32: E.M14.G | CQ32: 4 | CS32: E.M14.G | CT32: 4 | CV32: E.M14.Z | CW32: 4 | CY32: E.M14.G | CZ32: 4 | DB32: 609631-01 | DC32: 1 | DE32: 609631-01 | DF32: 1 | DH32: 609631-01 | DI32: 1 | DK32: 609631-01 | DL32: 2 | DN32: E.M14.G | DO32: 4 | DQ32: TRCC.M14X160.Z | DR32: 6 | DT32: E.M14.G | DU32: 4 | DW32: 609424-03 | DX32: 1 | DZ32: 0 | EA32: 0 | EC32: E.M14.G | ED32: 4 | EF32: 0 | EG32: 0 | EI32: E.M14.G | EJ32: 8 | EL32: TRCC.M14X160.Z | EM32: 6 | EO32: TRCC.M14X160.Z | EP32: 6 | ER32: 609631-03 | ES32: 1 | EU32: E.M14.Z | EV32: 4 | FA32: RD.10X22 | FB32: 8 | FD32: RD.10X22 | FE32: 8 | FG32: RD.10X22 | FH32: 8 | FJ32: RD.10X22 | FK32: 6 | FM32: RD.10X22 | FN32: 6 | FP32: RD.10X22 | FQ32: 11 | FS32: RD.10X22 | FT32: 11 | FY32: RD.10X22 | FZ32: 11
B33: =IF($D$8=$AG$78,AG96,IF($D$8=$AJ$78,AJ96,IF($D$8=$AM$78,AM96,IF($D$8=$AP$78,AP96)))) -> V.TFTX06X120.I | C33: =IF($D$8=$AG$78,AH96,IF($D$8=$AJ$78,AK96,IF($D$8=$AM$78,AN96,IF($D$8=$AP$78,AQ96)))) -> 1 | D33: =CONCATENATE(B33,C33) -> V.TFTX06X120.I1 | K33: =IFERROR(INDEX(V$18:FZ$38,ROWS($1:15),MATCH($L$8,$V$16:$FZ$16,0)),"") -> RD.10X22 | L33: =IFERROR(INDEX(W$18:GA$38,ROWS($1:15),MATCH($L$8,$V$16:$FZ$16,0)),"") -> 8 | M33: =CONCATENATE(K33,L33) -> RD.10X228 | N33: =IF(VLOOKUP(M33,$D$19:$D$49,1,FALSE)=M33,"Bon composant, bonne quantitée","Erreur de composant ou de quantité") -> #N/A | AB33: RD.14PZ | AC33: 8 | AE33: RD.14PZ | AF33: 8 | AH33: RD.14PZ | AI33: 8 | AN33: 800204 | AO33: 8 | AQ33: 800204 | AR33: 8 | AT33: H.M14X160.Z | AU33: 2 | AW33: TRCC.14X160.Z | AX33: 6 | AZ33: TRCC.14X160.Z | BA33: 6 | BC33: 609631-01 | BD33: 1 | BF33: 609440 | BG33: 1 | BI33: H.M14X035.Z | BJ33: 3 | BL33: E.M14.G | BM33: 8 | BO33: E.M14.G | BP33: 4 | BR33: E.M14.G | BS33: 4 | BU33: E.M14.G | BV33: 4 | BX33: E.M14.G | BY33: 4 | CD33: E.M14.Z | CE33: 8 | CG33: 609513 | CH33: 1 | CJ33: E.M14.G | CK33: 4 | CM33: RD.14X30.Z | CN33: 8 | CP33: RD.14X30.G | CQ33: 4 | CS33: 609631-01 | CT33: 1 | CV33: RD.14PZ | CW33: 12 | CY33: RD.14PZ | CZ33: 18 | DB33: TRCC.M14X160.Z | DC33: 6 | DE33: TRCC.M14X160.Z | DF33: 6 | DH33: TRCC.M14X160.Z | DI33: 6 | DK33: TRCC.M14X160.Z | DL33: 12 | DN33: RD.14PZ | DO33: 12 | DQ33: RD.14PZ | DR33: 10 | DT33: RD.14PZ | DU33: 18 | DW33: RD.14PZ | DX33: 8 | DZ33: 0 | EA33: 0 | EC33: TRCC.M14X160.Z | ED33: 6 | EF33: 0 | EG33: 0 | EI33: RD.14PZ | EJ33: 18 | EL33: RD.14PZ | EM33: 0 | EO33: RD.14PZ | EP33: 0 | ER33: RD.14PZ | ES33: 8 | EU33: RD.10X22.Z | EV33: 4 | EX33: RD.14X28.Z | EY33: 4 | FA33: RD.14PZ | FB33: 12 | FD33: RD.14PZ | FE33: 12 | FG33: RD.14PZ | FH33: 12 | FJ33: RD.14X30.G | FK33: 12 | FM33: RD.14X30.G | FN33: 12 | FP33: 609514-05 | FQ33: 1 | FS33: 609514-05 | FT33: 2 | FY33: 609514-05 | FZ33: 2
B34: =IF($D$8=$AG$78,AG97,IF($D$8=$AJ$78,AJ97,IF($D$8=$AM$78,AM97,IF($D$8=$AP$78,AP97)))) -> V.TFTX06X080.I | C34: =IF($D$8=$AG$78,AH97,IF($D$8=$AJ$78,AK97,IF($D$8=$AM$78,AN97,IF($D$8=$AP$78,AQ97)))) -> 1 | D34: =CONCATENATE(B34,C34) -> V.TFTX06X080.I1 | K34: =IFERROR(INDEX(V$18:FZ$38,ROWS($1:16),MATCH($L$8,$V$16:$FZ$16,0)),"") -> RD.14PZ | L34: =IFERROR(INDEX(W$18:GA$38,ROWS($1:16),MATCH($L$8,$V$16:$FZ$16,0)),"") -> 12 | M34: =CONCATENATE(K34,L34) -> RD.14PZ12 | N34: =IF(VLOOKUP(M34,$D$19:$D$49,1,FALSE)=M34,"Bon composant, bonne quantitée","Erreur de composant ou de quantité") -> #N/A | AB34: 609514-05 | AC34: 1 | AE34: 609514-05 | AF34: 1 | AH34: 609513 | AI34: 1 | AN34: E.M14.G | AO34: 4 | AQ34: E.M14.G | AR34: 4 | AT34: E.M14.G | AU34: 4 | AW34: RD.14PZ | AX34: 10 | AZ34: 609631-01 | BA34: 1 | BC34: H.M14X035.Z | BD34: 2 | BF34: 609445 | BG34: 2 | BI34: 609424-03 | BJ34: 1 | BL34: RD.14PZ | BM34: 16 | BO34: RD.14PZ | BP34: 8 | BR34: RD.14PZ | BS34: 8 | BU34: RD.14PZ | BV34: 8 | BX34: E.M16.G | BY34: 8 | CA34: E.M16.G | CB34: 8 | CD34: RD.14PZ | CE34: 8 | CJ34: 0 | CK34: 0 | CM34: 609514-05 | CN34: 2 | CS34: 800204 | CT34: 12 | CV34: 609631-03 | CW34: 1 | CY34: 609630-01 | CZ34: 2 | DB34: H.M14X160.Z | DC34: 2 | DE34: H.M14X160.Z | DF34: 2 | DH34: H.M14X160.Z | DI34: 2 | DK34: H.M14X160.Z | DL34: 4 | DN34: 609631-03 | DO34: 1 | DQ34: 609631-01 | DR34: 1 | DT34: 609630-01 | DU34: 2 | DW34: RD.10X22.Z | DX34: 8 | DZ34: 0 | EA34: 0 | EC34: H.M14X160.Z | ED34: 2 | EF34: 0 | EG34: 0 | EI34: 609630-01 | EJ34: 2 | EL34: 609631-01 | EM34: 1 | EO34: 609631-01 | EP34: 1 | ER34: E.M14.G | ES34: 4 | EU34: 609637 | EV34: 1 | EX34: 609637 | EY34: 1 | FA34: 609637 | FB34: 1 | FD34: 609637 | FE34: 1 | FG34: 609637 | FH34: 1 | FJ34: 609637 | FK34: 1 | FM34: 609637 | FN34: 1 | FS34: 800218 | FT34: 2
B35: =IF($D$8=$AG$78,AG98,IF($D$8=$AJ$78,AJ98,IF($D$8=$AM$78,AM98,IF($D$8=$AP$78,AP98)))) -> 0 | C35: =IF($D$8=$AG$78,AH98,IF($D$8=$AJ$78,AK98,IF($D$8=$AM$78,AN98,IF($D$8=$AP$78,AQ98)))) -> 0 | D35: =CONCATENATE(B35,C35) -> 00 | K35: =IFERROR(INDEX(V$18:FZ$38,ROWS($1:17),MATCH($L$8,$V$16:$FZ$16,0)),"") -> 609637 | L35: =IFERROR(INDEX(W$18:GA$38,ROWS($1:17),MATCH($L$8,$V$16:$FZ$16,0)),"") -> 1 | M35: =CONCATENATE(K35,L35) -> 6096371 | N35: =IF(VLOOKUP(M35,$D$19:$D$49,1,FALSE)=M35,"Bon composant, bonne quantitée","Erreur de composant ou de quantité") -> #N/A | AH35: 609514-05 | AI35: 1 | AN35: RD.10X22.Z | AO35: 11 | AQ35: RD.10X22.Z | AR35: 11 | AW35: 60931-01 | AX35: 1 | BF35: 609631 | BG35: 1 | BL35: TIR.10X120.Z | BM35: 2 | BR35: 609631-10 | BS35: 1 | BX35: TRCC.M16X180.G | BY35: 8 | CA35: TRCC.M16X180.G | CB35: 8 | CD35: 609513 | CE35: 1 | CM35: 800204 | CN35: 4 | CP35: 0 | CQ35: 0 | CV35: V.TR06X050.Z | CW35: 4 | CY35: 690902 | CZ35: 2 | DN35: 0 | DO35: 0 | DQ35: H.M14X035.Z | DR35: 2 | DT35: 800218 | DU35: 8 | DW35: E.M14.G | DX35: 4 | DZ35: 0 | EA35: 0 | EC35: 0 | ED35: 0 | EF35: 0 | EG35: 0 | EI35: 800218 | EJ35: 8 | EL35: E.M14.G | EM35: 4 | EO35: E.M14.G | EP35: 4 | ER35: 800218 | ES35: 4 | EU35: H.M10X220.Z | FA35: 609631-01 | FB35: 1 | FD35: 609631-01 | FE35: 1 | FJ35: E.M14.G | FK35: 4 | FM35: E.M14.G | FN35: 4 | FP35: E.M14.G | FQ35: 4 | FS35: E.M14.G | FT35: 4 | FV35: E.M14.G | FW35: 4 | FY35: E.M14.G | FZ35: 4
B36: =IF($D$8=$AG$78,AG99,IF($D$8=$AJ$78,AJ99,IF($D$8=$AM$78,AM99,IF($D$8=$AP$78,AP99)))) -> 0 | C36: =IF($D$8=$AG$78,AH99,IF($D$8=$AJ$78,AK99,IF($D$8=$AM$78,AN99,IF($D$8=$AP$78,AQ99)))) -> 0 | D36: =CONCATENATE(B36,C36) -> 00 | K36: =IFERROR(INDEX(V$18:FZ$38,ROWS($1:18),MATCH($L$8,$V$16:$FZ$16,0)),"") -> 0 | L36: =IFERROR(INDEX(W$18:GA$38,ROWS($1:18),MATCH($L$8,$V$16:$FZ$16,0)),"") -> 0 | M36: =CONCATENATE(K36,L36) -> 00 | N36: =IF(VLOOKUP(M36,$D$19:$D$49,1,FALSE)=M36,"Bon composant, bonne quantitée","Erreur de composant ou de quantité") -> Bon composant, bonne quantitée | AN36: TRCC.M16X180.G | AO36: 8 | AQ36: TRCC.M16X180.G | AR36: 8 | BF36: TIR.14X060.Z | BG36: 1 | BL36: 609637 | BM36: 2 | BR36: 609424-03 | BS36: 1 | BX36: 800804 | BY36: 8 | CA36: 800804 | CB36: 8 | CV36: 609444-10 | CW36: 2 | CY36: 609637 | CZ36: 1 | DB36: 0 | DC36: 0 | DE36: 0 | DF36: 0 | DH36: 0 | DI36: 0 | DK36: 0 | DL36: 0 | DN36: 606444-20 | DO36: 1 | DQ36: 0 | DR36: 0 | DT36: 609514-05 | DU36: 2 | DZ36: 0 | EA36: 0 | EC36: 0 | ED36: 0 | EF36: 0 | EG36: 0 | EI36: 609514-05 | EJ36: 2 | EU36: H.M14X040.Z | EV36: 2 | EX36: H.M10X220.Z | EY36: 4 | FA36: 609424-03 | FB36: 1 | FD36: 609424-03 | FE36: 1 | FJ36: 609514-05 | FK36: 1 | FM36: 609514-05 | FN36: 1 | FS36: 609513 | FT36: 1 | FY36: 609513 | FZ36: 1
B37: =IF($D$8=$AG$78,AG100,IF($D$8=$AJ$78,AJ100,IF($D$8=$AM$78,AM100,IF($D$8=$AP$78,AP100)))) -> 0 | C37: =IF($D$8=$AG$78,AH100,IF($D$8=$AJ$78,AK100,IF($D$8=$AM$78,AN100,IF($D$8=$AP$78,AQ100)))) -> 0 | D37: =CONCATENATE(B37,C37) -> 00 | K37: =IFERROR(INDEX(V$18:FZ$38,ROWS($1:19),MATCH($L$8,$V$16:$FZ$16,0)),"") -> 0 | L37: =IFERROR(INDEX(W$18:GA$38,ROWS($1:19),MATCH($L$8,$V$16:$FZ$16,0)),"") -> 0 | M37: =CONCATENATE(K37,L37) -> 00 | N37: =IF(VLOOKUP(M37,$D$19:$D$49,1,FALSE)=M37,"Bon composant, bonne quantitée","Erreur de composant ou de quantité") -> Bon composant, bonne quantitée | CY37: 800218 | CZ37: 8 | DN37: V.TR05X050.I | DO37: 5 | DQ37: 0 | DR37: 0 | DT37: 609637 | DU37: 1 | DW37: 0 | DX37: 0 | DZ37: 0 | EA37: 0 | EC37: 0 | ED37: 0 | EF37: 0 | EG37: 0 | EI37: 609637 | EJ37: 1 | EL37: 0 | EM37: 0 | EO37: 0 | EP37: 0 | ER37: 0 | ES37: 0 | EX37: TRCC.M16X140.Z | EY37: 4 | FJ37: RD.14PZ | FK37: 8 | FM37: RD.14PZ | FN37: 8 | FP37: RD.14PZ | FQ37: 12 | FS37: RD.14PZ | FT37: 8 | FV37: RD.14PZ | FW37: 8 | FY37: RD.14PZ | FZ37: 8
B38: =IF($D$8=$AG$78,AG101,IF($D$8=$AJ$78,AJ101,IF($D$8=$AM$78,AM101,IF($D$8=$AP$78,AP101)))) -> 0 | C38: =IF($D$8=$AG$78,AH101,IF($D$8=$AJ$78,AK101,IF($D$8=$AM$78,AN101,IF($D$8=$AP$78,AQ101)))) -> 0 | D38: =CONCATENATE(B38,C38) -> 00 | K38: =IFERROR(INDEX(V$18:FZ$38,ROWS($1:20),MATCH($L$8,$V$16:$FZ$16,0)),"") -> 0 | L38: =IFERROR(INDEX(W$18:GA$38,ROWS($1:20),MATCH($L$8,$V$16:$FZ$16,0)),"") -> 0 | M38: =CONCATENATE(K38,L38) -> 00 | N38: =IF(VLOOKUP(M38,$D$19:$D$49,1,FALSE)=M38,"Bon composant, bonne quantitée","Erreur de composant ou de quantité") -> Bon composant, bonne quantitée | BC38: E.M14.G | BD38: 4 | BF38: E.M14.G | BG38: 4 | CY38: 609514-05 | CZ38: 2 | DN38: 609444610 | DO38: 1 | DQ38: 0 | DR38: 0 | DT38: 690902 | DU38: 2 | DW38: 0 | DX38: 0 | DZ38: 0 | EA38: 0 | EC38: 0 | ED38: 0 | EF38: 0 | EG38: 0 | EI38: 690902 | EJ38: 2 | EL38: 0 | EM38: 0 | EO38: 0 | EP38: 0 | ER38: 0 | ES38: 0 | FS38: 609631-01 | FT38: 1 | FV38: 609631T | FW38: 1
B39: =IF($D$8=$AG$78,AG102,IF($D$8=$AJ$78,AJ102,IF($D$8=$AM$78,AM102,IF($D$8=$AP$78,AP102)))) -> 0 | C39: =IF($D$8=$AG$78,AH102,IF($D$8=$AJ$78,AK102,IF($D$8=$AM$78,AN102,IF($D$8=$AP$78,AQ102)))) -> 0 | D39: =CONCATENATE(B39,C39) -> 00 | K39: =IFERROR(INDEX($V$18:$FZ$38,ROWS($1:21),MATCH($L$8,$V$16:$FZ$16,0)),"") -> 0 | L39: =IFERROR(INDEX(W$18:GA$38,ROWS($1:21),MATCH($L$8,$V$16:$FZ$16,0)),"") -> 0 | M39: =CONCATENATE(K39,L39) -> 00 | N39: =IF(VLOOKUP(M39,$D$19:$D$49,1,FALSE)=M39,"Bon composant, bonne quantitée","Erreur de composant ou de quantité") -> Bon composant, bonne quantitée | V39: Usine | Y39: Usine | AB39: Usine | AE39: Usine | AH39: Usine | AK39: Usine | AN39: Usine | AQ39: Usine | AT39: Usine | AW39: Usine | AZ39: Usine | BC39: Usine | BF39: Usine | BI39: Usine | BL39: Usine | BO39: Usine | BR39: Usine | BU39: Usine | BX39: Usine | CA39: Usine | CD39: Usine | CG39: Usine | CJ39: Usine | CM39: Usine | CP39: Usine | CS39: Usine | CV39: Usine | CY39: Usine | DB39: Usine | DE39: Usine | DH39: Usine | DK39: Usine | DN39: Usine | DQ39: Usine | DT39: Usine | DW39: Usine | DZ39: Usine | EC39: Usine | EF39: Usine | EI39: Usine | EL39: Usine | EO39: Usine | ER39: Usine | EU39: Usine | EX39: Usine | FA39: Usine | FD39: Usine | FG39: Usine | FJ39: Usine | FM39: Usine | FP39: Usine | FS39: Usine | FV39: Usine | FY39: Usine
B40: =IF($D$8=$AG$78,AG103,IF($D$8=$AJ$78,AJ103,IF($D$8=$AM$78,AM103,IF($D$8=$AP$78,AP103)))) -> 0 | C40: =IF($D$8=$AG$78,AH103,IF($D$8=$AJ$78,AK103,IF($D$8=$AM$78,AN103,IF($D$8=$AP$78,AQ103)))) -> 0 | D40: =CONCATENATE(B40,C40) -> 00 | K40: USINE | L40: =IFERROR(INDEX(W$18:GA$38,ROWS($1:22),MATCH($L$8,$V$16:$FZ$16,0)),"") | M40: =CONCATENATE(K40,L40) -> USINE | N40: =IF(VLOOKUP(M40,$D$19:$D$49,1,FALSE)=M40,"Bon composant, bonne quantitée","Erreur de composant ou de quantité") -> #N/A | V40: V.TFTX06X140.I | W40: 2 | Y40: V.TFTX06X140.I | Z40: 2 | AB40: V.TFTX06X140.I | AC40: 0 | AE40: V.TFTX06X140.I | AF40: 2 | AH40: V.TFTX06X140.I | AI40: 0 | AK40: V.TFTX06X140.I | AL40: 2 | AN40: V.TFTX06X140.I | AO40: 2 | AQ40: V.TFTX06X140.I | AR40: 2 | AT40: V.TFTX06X140.I | AU40: 1 | AW40: V.TFTX06X140.I | AX40: 2 | AZ40: V.TFTX06X140.I | BA40: 2 | BC40: V.TFTX06X140.I | BD40: 0 | BF40: V.TFTX06X140.I | BG40: 0 | BI40: V.TFTX06X140.I | BJ40: 2 | BL40: V.TFTX06X140.I | BM40: 0 | BO40: V.TFTX06X140.I | BP40: 2 | BR40: V.TFTX06X140.I | BS40: 0 | BU40: V.TFTX06X140.I | BV40: 2 | BX40: V.TFTX06X140.I | BY40: 2 | CA40: V.TFTX06X140.I | CB40: 2 | CD40: V.TFTX06X140.I | CE40: 2 | CG40: V.TFTX06X140.I | CH40: 0 | CJ40: V.TFTX06X140.I | CK40: 1 | CM40: V.TFTX06X140.I | CN40: 2 | CP40: V.TFTX06X140.I | CQ40: 1 | CS40: V.TFTX06X140.I | CT40: 0 | CV40: V.TFTX06X140.I | CW40: 0 | CY40: V.TFTX06X140.I | CZ40: 2 | DB40: V.TFTX06X140.I | DC40: 2 | DE40: V.TFTX06X140.I | DF40: 2 | DH40: V.TFTX06X140.I | DI40: 2 | DK40: V.TFTX06X140.I | DL40: 4 | DN40: V.TFTX06X140.I | DO40: 0 | DQ40: V.TFTX06X140.I | DR40: 0 | DT40: V.TFTX06X140.I | DU40: 4 | DW40: V.TFTX06X140.I | DX40: 0 | DZ40: V.TFTX06X140.I | EA40: 2 | EC40: V.TFTX06X140.I | ED40: 2 | EF40: V.TFTX06X140.I | EG40: 2 | EI40: V.TFTX06X140.I | EJ40: 4 | EL40: V.TFTX06X140.I | EM40: 2 | EO40: V.TFTX06X140.I | EP40: 2 | ER40: V.TFTX06X140.I | ES40: 1 | EU40: V.TFTX06X140.I | EV40: 3 | EX40: V.TFTX06X140.I | EY40: 2 | FA40: V.TFTX06X140.I | FB40: 2 | FD40: V.TFTX06X140.I | FE40: 2 | FG40: V.TFTX06X140.I | FH40: 2 | FJ40: V.TFTX06X140.I | FK40: 3 | FM40: V.TFTX06X140.I | FN40: 3 | FP40: V.TFTX06X140.I | FS40: V.TFTX06X140.I | FT40: 2 | FV40: V.TFTX06X140.I | FW40: 2 | FY40: V.TFTX06X140.I | FZ40: 2
B41: =IF($D$8=$AG$78,AG104,IF($D$8=$AJ$78,AJ104,IF($D$8=$AM$78,AM104,IF($D$8=$AP$78,AP104)))) -> 0 | C41: =IF($D$8=$AG$78,AH104,IF($D$8=$AJ$78,AK104,IF($D$8=$AM$78,AN104,IF($D$8=$AP$78,AQ104)))) -> 0 | D41: =CONCATENATE(B41,C41) -> 00 | K41: =IF($L$8=$D$132,Y40,IF($L$8=$D$135,AB40,IF($L$8=$D$138,AE40,IF($L$8=$D$141,AH40,IF($L$8=$D$144,AK40,IF($L$8=$D$147,AN40,IF($L$8=$D$153,AT40,IF($L$8=$D$156,AW40,IF($L$8=$D$159,AZ40,IF($L$8=$D$162,BC40,IF($L$8=$D$165,BF40,IF($L$8=$D$171,BL40,IF($L$8=$BO$16,BO40,IF($L$8=$BR$16,BR40,IF($L$8=$BU$16,BU40,IF($L$8=$BX$16,BX40,IF($L$8=$CA$16,CA40,IF($L$8=$CD$16,CD40,IF($L$8=$CG$16,CG40,IF($L$8=$CJ$16,CJ40,IF($L$8=$CM$16,CM40,IF($L$8=$CP$16,CP40,IF($L$8=$CS$16,CS40,IF($L$8=$CV$16,CV40,IF($L$8=$CY$16,CY40,IF($L$8=$DB$16,DB40,IF($L$8=$DE$16,DE40,IF($L$8=$DH$16,DH40,IF($L$8=$DK$16,DK40,IF($L$8=$DN$16,DN40,IF($L$8=$DQ$16,DQ40,IF($L$8=$DT$16,DT40,IF($L$8=$DW$16,DW40,IF($L$8=$DZ$16,DZ40,IF($L$8=$EC$16,EC40,IF($L$8=$EF$16,EF40,IF($L$8=$EI$16,EI40,IF($L$8=$EL$16,EL40,IF($L$8=$EO$16,EO40,IF($L$8=$ER$16,ER40,IF($L$8=$BI$16,BI40,IF($L$8=$AQ$16,AQ40,IF($L$8=$V$16,V40,IF($L$8=ET37,EU40,IF($L$8=$EX$16,EX40,IF($L$8=$FA$16,FA40,IF($L$8=$FD$16,FD40,IF($L$8=$FG$16,FG40,IF($L$8=$FJ$16,FJ40,IF($L$8=$FM$16,FM40,IF($L$8=$FS$16,FS40,IF($L$8=$FV$16,FV40,IF($L$8=$FY$16,FY40))))))))))))))))))))))))))))))))))))))))))))))))))))) -> V.TFTX06X140.I | L41: =IF($L$8=$D$132,Z40,IF($L$8=$D$135,AC40,IF($L$8=$D$138,AF40,IF($L$8=$D$141,AI40,IF($L$8=$D$144,AL40,IF($L$8=$D$147,AO40,IF($L$8=$D$153,AU40,IF($L$8=$D$156,AX40,IF($L$8=$D$159,BA40,IF($L$8=$D$162,BD40,IF($L$8=$D$165,BG40,IF($L$8=$D$171,BM40,IF($L$8=$BO$16,BP40,IF($L$8=$BR$16,BS40,IF($L$8=$BU$16,BV40,IF($L$8=$BX$16,BY40,IF($L$8=$CA$16,CB40,IF($L$8=$CD$16,CE40,IF($L$8=$CG$16,CH40,IF($L$8=$CJ$16,CK40,IF($L$8=$CM$16,CN40,IF($L$8=$CP$16,CQ40,IF($L$8=$CS$16,CT40,IF($L$8=$CV$16,CW40,IF($L$8=$CY$16,CZ40,IF($L$8=$DB$16,DC40,IF($L$8=$DE$16,DF40,IF($L$8=$DH$16,DI40,IF($L$8=$DK$16,DL40,IF($L$8=$DN$16,DO40,IF($L$8=$DQ$16,DR40,IF($L$8=$DT$16,DU40,IF($L$8=$DW$16,DX40,IF($L$8=$DZ$16,EA40,IF($L$8=$EC$16,ED40,IF($L$8=$EF$16,EG40,IF($L$8=$EI$16,EJ40,IF($L$8=$EL$16,EM40,IF($L$8=$EO$16,EP40,IF($L$8=$ER$16,ES40,IF($L$8=$BI$16,BJ40,IF($L$8=$AQ$16,AR40,IF($L$8=$V$16,W40,IF($L$8=EU37,EV40,IF($L$8=$EX$16,EY40,IF($L$8=$FA$16,FB40,IF($L$8=$FD$16,FE40,IF($L$8=$FG$16,FH40,IF($L$8=$FJ$16,FK40,IF($L$8=$FM$16,FN40,IF($L$8=$FS$16,FT40,IF($L$8=$FV$16,FW40,IF($L$8=$FY$16,FZ40))))))))))))))))))))))))))))))))))))))))))))))))))))) -> 2 | M41: =CONCATENATE(K41,L41) -> V.TFTX06X140.I2 | N41: =IF(VLOOKUP(M41,$D$19:$D$49,1,FALSE)=M41,"Bon composant, bonne quantitée","Erreur de composant ou de quantité") -> #N/A | V41: V.TFTX06X100.I | W41: 2 | Y41: V.TFTX06X100.I | Z41: 2 | AB41: V.TFTX06X100.I | AC41: 0 | AE41: V.TFTX06X100.I | AF41: 2 | AH41: V.TFTX06X100.I | AI41: 0 | AK41: V.TFTX06X100.I | AL41: 2 | AN41: V.TFTX06X100.I | AO41: 2 | AQ41: V.TFTX06X100.I | AR41: 2 | AT41: V.TFTX06X100.I | AU41: 0 | AW41: V.TFTX06X100.I | AX41: 0 | AZ41: V.TFTX06X100.I | BA41: 2 | BC41: V.TFTX06X100.I | BD41: 2 | BF41: V.TFTX06X100.I | BG41: 3 | BI41: V.TFTX06X100.I | BJ41: 1 | BL41: V.TFTX06X100.I | BM41: 0 | BO41: V.TFTX06X100.I | BP41: 1 | BR41: V.TFTX06X100.I | BS41: 0 | BU41: V.TFTX06X100.I | BV41: 1 | BX41: V.TFTX06X100.I | BY41: 2 | CA41: V.TFTX06X100.I | CB41: 2 | CD41: V.TFTX06X100.I | CE41: 2 | CG41: V.TFTX06X100.I | CH41: 0 | CJ41: V.TFTX06X100.I | CK41: 0 | CM41: V.TFTX06X100.I | CN41: 2 | CP41: V.TFTX06X100.I | CQ41: 0 | CS41: V.TFTX06X100.I | CT41: 0 | CV41: V.TFTX06X100.I | CW41: 0 | CY41: V.TFTX06X100.I | CZ41: 6 | DB41: V.TFTX06X100.I | DC41: 2 | DE41: V.TFTX06X100.I | DF41: 2 | DH41: V.TFTX06X100.I | DI41: 2 | DK41: V.TFTX06X100.I | DL41: 4 | DN41: V.TFTX06X100.I | DO41: 0 | DQ41: V.TFTX06X100.I | DR41: 2 | DT41: V.TFTX06X100.I | DU41: 4 | DW41: V.TFTX06X100.I | DX41: 0 | DZ41: V.TFTX06X100.I | EA41: 2 | EC41: V.TFTX06X100.I | ED41: 2 | EF41: V.TFTX06X100.I | EG41: 2 | EI41: V.TFTX06X100.I | EJ41: 4 | EL41: V.TFTX06X100.I | EM41: 2 | EO41: V.TFTX06X100.I | EP41: 2 | ER41: V.TFTX06X100.I | ES41: 0 | EU41: V.TFTX06X100.I | EV41: 2 | EX41: V.TFTX06X100.I | EY41: 2 | FA41: V.TFTX06X100.I | FB41: 2 | FD41: V.TFTX06X100.I | FE41: 2 | FG41: V.TFTX06X100.I | FH41: 2 | FJ41: V.TFTX06X100.I | FK41: 1 | FM41: V.TFTX06X100.I | FN41: 1 | FP41: V.TFTX06X100.I | FS41: V.TFTX06X100.I | FT41: 2 | FV41: V.TFTX06X100.I | FW41: 2 | FY41: V.TFTX06X100.I | FZ41: 2
B42: =IF($D$8=$AG$78,AG105,IF($D$8=$AJ$78,AJ105,IF($D$8=$AM$78,AM105,IF($D$8=$AP$78,AP105)))) -> 0 | C42: =IF($D$8=$AG$78,AH105,IF($D$8=$AJ$78,AK105,IF($D$8=$AM$78,AN105,IF($D$8=$AP$78,AQ105)))) -> 0 | D42: =CONCATENATE(B42,C42) -> 00 | K42: =IF($L$8=$D$132,Y41,IF($L$8=$D$135,AB41,IF($L$8=$D$138,AE41,IF($L$8=$D$141,AH41,IF($L$8=$D$144,AK41,IF($L$8=$D$147,AN41,IF($L$8=$D$153,AT41,IF($L$8=$D$156,AW41,IF($L$8=$D$159,AZ41,IF($L$8=$D$162,BC41,IF($L$8=$D$165,BF41,IF($L$8=$D$171,BL41,IF($L$8=$BO$16,BO41,IF($L$8=$BR$16,BR41,IF($L$8=$BU$16,BU41,IF($L$8=$BX$16,BX41,IF($L$8=$CA$16,CA41,IF($L$8=$CD$16,CD41,IF($L$8=$CG$16,CG41,IF($L$8=$CJ$16,CJ41,IF($L$8=$CM$16,CM41,IF($L$8=$CP$16,CP41,IF($L$8=$CS$16,CS41,IF($L$8=$CV$16,CV41,IF($L$8=$CY$16,CY41,IF($L$8=$DB$16,DB41,IF($L$8=$DE$16,DE41,IF($L$8=$DH$16,DH41,IF($L$8=$DK$16,DK41,IF($L$8=$DN$16,DN41,IF($L$8=$DQ$16,DQ41,IF($L$8=$DT$16,DT41,IF($L$8=$DW$16,DW41,IF($L$8=$DZ$16,DZ41,IF($L$8=$EC$16,EC41,IF($L$8=$EF$16,EF41,IF($L$8=$EI$16,EI41,IF($L$8=$EL$16,EL41,IF($L$8=$EO$16,EO41,IF($L$8=$ER$16,ER41,IF($L$8=$BI$16,BI41,IF($L$8=$AQ$16,AQ41,IF($L$8=$V$16,V41,IF($L$8=ET38,EU41,IF($L$8=$EX$16,EX41,IF($L$8=$FA$16,FA41,IF($L$8=$FD$16,FD41,IF($L$8=$FG$16,FG41,IF($L$8=$FJ$16,FJ41,IF($L$8=$FM$16,FM41,IF($L$8=$FS$16,FS41,IF($L$8=$FV$16,FV41,IF($L$8=$FY$16,FY41))))))))))))))))))))))))))))))))))))))))))))))))))))) -> V.TFTX06X100.I | L42: =IF($L$8=$D$132,Z41,IF($L$8=$D$135,AC41,IF($L$8=$D$138,AF41,IF($L$8=$D$141,AI41,IF($L$8=$D$144,AL41,IF($L$8=$D$147,AO41,IF($L$8=$D$153,AU41,IF($L$8=$D$156,AX41,IF($L$8=$D$159,BA41,IF($L$8=$D$162,BD41,IF($L$8=$D$165,BG41,IF($L$8=$D$171,BM41,IF($L$8=$BO$16,BP41,IF($L$8=$BR$16,BS41,IF($L$8=$BU$16,BV41,IF($L$8=$BX$16,BY41,IF($L$8=$CA$16,CB41,IF($L$8=$CD$16,CE41,IF($L$8=$CG$16,CH41,IF($L$8=$CJ$16,CK41,IF($L$8=$CM$16,CN41,IF($L$8=$CP$16,CQ41,IF($L$8=$CS$16,CT41,IF($L$8=$CV$16,CW41,IF($L$8=$CY$16,CZ41,IF($L$8=$DB$16,DC41,IF($L$8=$DE$16,DF41,IF($L$8=$DH$16,DI41,IF($L$8=$DK$16,DL41,IF($L$8=$DN$16,DO41,IF($L$8=$DQ$16,DR41,IF($L$8=$DT$16,DU41,IF($L$8=$DW$16,DX41,IF($L$8=$DZ$16,EA41,IF($L$8=$EC$16,ED41,IF($L$8=$EF$16,EG41,IF($L$8=$EI$16,EJ41,IF($L$8=$EL$16,EM41,IF($L$8=$EO$16,EP41,IF($L$8=$ER$16,ES41,IF($L$8=$BI$16,BJ41,IF($L$8=$AQ$16,AR41,IF($L$8=$V$16,W41,IF($L$8=EU38,EV41,IF($L$8=$EX$16,EY41,IF($L$8=$FA$16,FB41,IF($L$8=$FD$16,FE41,IF($L$8=$FG$16,FH41,IF($L$8=$FJ$16,FK41,IF($L$8=$FM$16,FN41,IF($L$8=$FS$16,FT41,IF($L$8=$FV$16,FW41,IF($L$8=$FY$16,FZ41))))))))))))))))))))))))))))))))))))))))))))))))))))) -> 2 | M42: =CONCATENATE(K42,L42) -> V.TFTX06X100.I2 | N42: =IF(VLOOKUP(M42,$D$19:$D$49,1,FALSE)=M42,"Bon composant, bonne quantitée","Erreur de composant ou de quantité") -> #N/A | V42: V.TFTX06X080.I | W42: 1 | Y42: V.TFTX06X080.I | Z42: 2 | AB42: V.TFTX06X080.I | AC42: 1 | AE42: V.TFTX06X080.I | AF42: 2 | AH42: V.TFTX06X080.I | AI42: 1 | AK42: V.TFTX06X080.I | AL42: 2 | AN42: V.TFTX06X080.I | AO42: 2 | AQ42: V.TFTX06X080.I | AR42: 2 | AT42: V.TFTX06X080.I | AU42: 0 | AW42: V.TFTX06X080.I | AX42: 0 | AZ42: V.TFTX06X080.I | BA42: 0 | BC42: V.TFTX06X080.I | BD42: 1 | BF42: V.TFTX06X080.I | BG42: 0 | BI42: V.TFTX06X080.I | BJ42: 1 | BL42: V.TFTX06X080.I | BM42: 0 | BO42: V.TFTX06X080.I | BP42: 1 | BR42: V.TFTX06X080.I | BS42: 1 | BU42: V.TFTX06X080.I | BV42: 1 | BX42: V.TFTX06X080.I | BY42: 2 | CA42: V.TFTX06X080.I | CB42: 2 | CD42: V.TFTX06X080.I | CE42: 2 | CG42: V.TFTX06X080.I | CH42: 0 | CJ42: V.TFTX06X080.I | CK42: 0 | CM42: V.TFTX06X080.I | CN42: 1 | CP42: V.TFTX06X080.I | CQ42: 0 | CS42: V.TFTX06X080.I | CT42: 0 | CV42: V.TFTX06X080.I | CW42: 0 | CY42: V.TFTX06X080.I | CZ42: 2 | DB42: V.TFTX06X080.I | DC42: 0 | DE42: V.TFTX06X080.I | DF42: 0 | DH42: V.TFTX06X080.I | DI42: 0 | DK42: V.TFTX06X080.I | DL42: 0 | DN42: V.TFTX06X080.I | DO42: 0 | DQ42: V.TFTX06X080.I | DR42: 1 | DT42: V.TFTX06X080.I | DU42: 2 | DW42: V.TFTX06X080.I | DX42: 1 | DZ42: V.TFTX06X080.I | EA42: 1 | EC42: V.TFTX06X080.I | ED42: 0 | EF42: V.TFTX06X080.I | EG42: 1 | EI42: V.TFTX06X080.I | EJ42: 2 | EL42: V.TFTX06X080.I | EM42: 0 | EO42: V.TFTX06X080.I | EP42: 0 | ER42: V.TFTX06X080.I | ES42: 1 | EU42: V.TFTX06X080.I | EV42: 2 | EX42: V.TFTX06X080.I | EY42: 2 | FA42: V.TFTX06X080.I | FB42: 2 | FD42: V.TFTX06X080.I | FE42: 2 | FG42: V.TFTX06X080.I | FH42: 2 | FJ42: V.TFTX06X080.I | FK42: 1 | FM42: V.TFTX06X080.I | FN42: 1 | FP42: V.TFTX06X080.I | FQ42: 1 | FS42: V.TFTX06X080.I | FT42: 2 | FV42: V.TFTX06X080.I | FW42: 1 | FY42: V.TFTX06X080.I | FZ42: 1
B43: =IF($D$8=$AG$78,AG106,IF($D$8=$AJ$78,AJ106,IF($D$8=$AM$78,AM106,IF($D$8=$AP$78,AP106)))) -> 0 | C43: =IF($D$8=$AG$78,AH106,IF($D$8=$AJ$78,AK106,IF($D$8=$AM$78,AN106,IF($D$8=$AP$78,AQ106)))) -> 0 | D43: =CONCATENATE(B43,C43) -> 00 | K43: V.TFTX06X080.I | L43: =IF($L$8=$D$132,Z42,IF($L$8=$D$135,AC42,IF($L$8=$D$138,AF42,IF($L$8=$D$141,AI42,IF($L$8=$D$144,AL42,IF($L$8=$D$147,AO42,IF($L$8=$D$153,AU42,IF($L$8=$D$156,AX42,IF($L$8=$D$159,BA42,IF($L$8=$D$162,BD42,IF($L$8=$D$165,BG42,IF($L$8=$D$171,BM42,IF($L$8=$BO$16,BP42,IF($L$8=$BR$16,BS42,IF($L$8=$BU$16,BV42,IF($L$8=$BX$16,BY42,IF($L$8=$CA$16,CB42,IF($L$8=$CD$16,CE42,IF($L$8=$CG$16,CH42,IF($L$8=$CJ$16,CK42,IF($L$8=$CM$16,CN42,IF($L$8=$CP$16,CQ42,IF($L$8=$CS$16,CT42,IF($L$8=$CV$16,CW42,IF($L$8=$CY$16,CZ42,IF($L$8=$DB$16,DC42,IF($L$8=$DE$16,DF42,IF($L$8=$DH$16,DI42,IF($L$8=$DK$16,DL42,IF($L$8=$DN$16,DO42,IF($L$8=$DQ$16,DR42,IF($L$8=$DT$16,DU42,IF($L$8=$DW$16,DX42,IF($L$8=$DZ$16,EA42,IF($L$8=$EC$16,ED42,IF($L$8=$EF$16,EG42,IF($L$8=$EI$16,EJ42,IF($L$8=$EL$16,EM42,IF($L$8=$EO$16,EP42,IF($L$8=$ER$16,ES42,IF($L$8=$BI$16,BJ42,IF($L$8=$AQ$16,AR42,IF($L$8=$V$16,W42,IF($L$8=EU39,EV42,IF($L$8=$EX$16,EY42,IF($L$8=$FA$16,FB42,IF($L$8=$FD$16,FE42,IF($L$8=$FG$16,FH42,IF($L$8=$FJ$16,FK42,IF($L$8=$FM$16,FN42,IF($L$8=$FS$16,FT42,IF($L$8=$FV$16,FW42,IF($L$8=$FY$16,FZ42))))))))))))))))))))))))))))))))))))))))))))))))))))) -> 2 | M43: =CONCATENATE(K43,L43) -> V.TFTX06X080.I2 | N43: =IF(VLOOKUP(M43,$D$19:$D$49,1,FALSE)=M43,"Bon composant, bonne quantitée","Erreur de composant ou de quantité") -> #N/A | Y43: 605044 | Z43: 1 | AB43: V.TFTX06X160.I | AC43: 2 | AH43: V.TFTX06X160.I | AI43: 2 | AT43: H.M10X120.Z | AU43: 1 | AW43: H.M10X120.Z | AX43: 1 | AZ43: H.M10X110.Z | BA43: 1 | BC43: H.M10X120.Z | BD43: 1 | BF43: TRCC.M14X180.Z | BG43: 4 | BI43: TIR.10X080.Z | BJ43: 2 | BL43: V.TFTXX06XX160.I | BM43: 2 | BO43: 609594 | BP43: 1 | BR43: V.TFTX06X160.I | BS43: 2 | BU43: 609594 | BV43: 1 | CG43: 609456 | CH43: 4 | CJ43: 609456 | CK43: 4 | CM43: 609594 | CN43: 3 | CP43: 609456 | CQ43: 4 | CS43: H.M20X120.Z | CT43: 1 | CV43: TIR.10X120.Z | CW43: 1 | CY43: 0 | CZ43: 0 | DB43: H.M0X110.Z | DC43: 1 | DE43: H.M0X110.Z | DF43: 1 | DH43: H.M0X110.Z | DI43: 1 | DK43: H.M0X110.Z | DL43: 2 | DN43: RD.10X22.Z | DO43: 1 | DQ43: RD.10X22.Z | DR43: 4 | DT43: 0 | DU43: 0 | DW43: V.TFTX06X120.I | DX43: 1 | DZ43: 0 | EA43: 0 | EC43: H.M10X110.Z | ED43: 1 | EF43: 0 | EG43: 0 | EI43: 0 | EJ43: 0 | EL43: RD.10X22.Z | EM43: 4 | EO43: RD.10X22.Z | EP43: 4 | ER43: V.TFTX06X050.I | ES43: 10 | EX43: V.TFTX06X120.I | EY43: 1 | FA43: V.TFTX06X120.I | FB43: 1 | FD43: V.TFTX06X120.I | FE43: 1 | FG43: V.TFTX06X120.I | FH43: 1 | FP43: V.TFTX06X160.I | FQ43: 2 | FS43: 609424-03 | FT43: 1
B44: =IF($D$8=$AG$78,AG107,IF($D$8=$AJ$78,AJ107,IF($D$8=$AM$78,AM107,IF($D$8=$AP$78,AP107)))) -> 0 | C44: =IF($D$8=$AG$78,AH107,IF($D$8=$AJ$78,AK107,IF($D$8=$AM$78,AN107,IF($D$8=$AP$78,AQ107)))) -> 0 | D44: =CONCATENATE(B44,C44) -> 00 | K44: =IF($L$8=$D$132,Y43,IF($L$8=$D$135,AB43,IF($L$8=$D$138,AE43,IF($L$8=$D$141,AH43,IF($L$8=$D$144,AK43,IF($L$8=$D$147,AN43,IF($L$8=$D$153,AT43,IF($L$8=$D$156,AW43,IF($L$8=$D$159,AZ43,IF($L$8=$D$162,BC43,IF($L$8=$D$165,BF43,IF($L$8=$D$171,BL43,IF($L$8=$BO$16,BO43,IF($L$8=$BR$16,BR43,IF($L$8=$BU$16,BU43,IF($L$8=$BX$16,BX43,IF($L$8=$CA$16,CA43,IF($L$8=$CD$16,CD43,IF($L$8=$CG$16,CG43,IF($L$8=$CJ$16,CJ43,IF($L$8=$CM$16,CM43,IF($L$8=$CP$16,CP43,IF($L$8=$CS$16,CS43,IF($L$8=$CV$16,CV43,IF($L$8=$CY$16,CY43,IF($L$8=$DB$16,DB43,IF($L$8=$DE$16,DE43,IF($L$8=$DH$16,DH43,IF($L$8=$DK$16,DK43,IF($L$8=$DN$16,DN43,IF($L$8=$DQ$16,DQ43,IF($L$8=$DT$16,DT43,IF($L$8=$DW$16,DW43,IF($L$8=$DZ$16,DZ43,IF($L$8=$EC$16,EC43,IF($L$8=$EF$16,EF43,IF($L$8=$EI$16,EI43,IF($L$8=$EL$16,EL43,IF($L$8=$EO$16,EO43,IF($L$8=$ER$16,ER43,IF($L$8=$BI$16,BI43,IF($L$8=$AQ$16,AQ43,IF($L$8=$V$16,V43,IF($L$8=ET40,EU43,IF($L$8=$EX$16,EX43,IF($L$8=$FA$16,FA43,IF($L$8=$FD$16,FD43,IF($L$8=$FG$16,FG43,IF($L$8=$FJ$16,FJ43,IF($L$8=$FM$16,FM43,IF($L$8=$FS$16,FS43,IF($L$8=$FV$16,FV43,IF($L$8=$FY$16,FY43))))))))))))))))))))))))))))))))))))))))))))))))))))) -> V.TFTX06X120.I | L44: =IF($L$8=$D$132,Z43,IF($L$8=$D$135,AC43,IF($L$8=$D$138,AF43,IF($L$8=$D$141,AI43,IF($L$8=$D$144,AL43,IF($L$8=$D$147,AO43,IF($L$8=$D$153,AU43,IF($L$8=$D$156,AX43,IF($L$8=$D$159,BA43,IF($L$8=$D$162,BD43,IF($L$8=$D$165,BG43,IF($L$8=$D$171,BM43,IF($L$8=$BO$16,BP43,IF($L$8=$BR$16,BS43,IF($L$8=$BU$16,BV43,IF($L$8=$BX$16,BY43,IF($L$8=$CA$16,CB43,IF($L$8=$CD$16,CE43,IF($L$8=$CG$16,CH43,IF($L$8=$CJ$16,CK43,IF($L$8=$CM$16,CN43,IF($L$8=$CP$16,CQ43,IF($L$8=$CS$16,CT43,IF($L$8=$CV$16,CW43,IF($L$8=$CY$16,CZ43,IF($L$8=$DB$16,DC43,IF($L$8=$DE$16,DF43,IF($L$8=$DH$16,DI43,IF($L$8=$DK$16,DL43,IF($L$8=$DN$16,DO43,IF($L$8=$DQ$16,DR43,IF($L$8=$DT$16,DU43,IF($L$8=$DW$16,DX43,IF($L$8=$DZ$16,EA43,IF($L$8=$EC$16,ED43,IF($L$8=$EF$16,EG43,IF($L$8=$EI$16,EJ43,IF($L$8=$EL$16,EM43,IF($L$8=$EO$16,EP43,IF($L$8=$ER$16,ES43,IF($L$8=$BI$16,BJ43,IF($L$8=$AQ$16,AR43,IF($L$8=$V$16,W43,IF($L$8=EU40,EV43,IF($L$8=$EX$16,EY43,IF($L$8=$FA$16,FB43,IF($L$8=$FD$16,FE43,IF($L$8=$FG$16,FH43,IF($L$8=$FJ$16,FK43,IF($L$8=$FM$16,FN43,IF($L$8=$FS$16,FT43,IF($L$8=$FV$16,FW43,IF($L$8=$FY$16,FZ43))))))))))))))))))))))))))))))))))))))))))))))))))))) -> 1 | M44: =CONCATENATE(K44,L44) -> V.TFTX06X120.I1 | N44: =IF(VLOOKUP(M44,$D$19:$D$49,1,FALSE)=M44,"Bon composant, bonne quantitée","Erreur de composant ou de quantité") -> Bon composant, bonne quantitée | Y44: TIR.10X080;Z | Z44: 2 | AB44: V.TFTX06X120.I | AC44: 1 | AH44: V.TFTX06X120.I | AI44: 1 | AT44: TIR.10X080.Z | AU44: 2 | AW44: TIR.10X180.Z | AX44: 2 | AZ44: TIR.10X180.Z | BA44: 2 | BC44: TIR.10X080.Z | BD44: 2 | BF44: TRCC.M10X140.Z | BG44: 1 | BI44: RD.12X27.Z | BJ44: 2 | BL44: V.TFTXX06XX120.I | BM44: 4 | BO44: 609593 | BP44: 1 | BR44: V.TFTX06X120.I | BS44: 1 | BU44: 609593 | BV44: 1 | CG44: 609474 | CH44: 14 | CJ44: HM.14X120.Z | CK44: 4 | CM44: 605036 | CN44: 3 | CP44: HM.14X120.Z | CQ44: 4 | CS44: TRCC.M10X100.Z | CT44: 1 | CV44: RD.10X22.Z | CW44: 1 | CY44: 0 | CZ44: 0 | DB44: RD.10X22.Z | DC44: 4 | DE44: RD.10X22.Z | DF44: 4 | DH44: RD.10X22.Z | DI44: 4 | DK44: RD.10X22.Z | DL44: 8 | DN44: TIR.10X120.Z | DO44: 1 | DQ44: TIR.10X180.Z | DR44: 2 | DT44: 0 | DU44: 0 | DW44: V.TFTX06X160.I | DX44: 2 | DZ44: 0 | EA44: 0 | EC44: TIR.10X080.Z | ED44: 2 | EF44: 0 | EG44: 0 | EI44: 0 | EJ44: 0 | EL44: TIR.10X080.Z | EM44: 2 | EO44: TIR.10X080.Z | EP44: 2 | ER44: V.TFTX06X180.I | ES44: 1 | FA44: 609514-03 | FB44: 1 | FD44: 609514-03 | FE44: 1 | FG44: 609514-03 | FH44: 1 | FP44: V.TFTX06X120.I | FQ44: 1
B45: =IF($D$8=$AG$78,AG108,IF($D$8=$AJ$78,AJ108,IF($D$8=$AM$78,AM108,IF($D$8=$AP$78,AP108)))) -> 0 | C45: =IF($D$8=$AG$78,AH108,IF($D$8=$AJ$78,AK108,IF($D$8=$AM$78,AN108,IF($D$8=$AP$78,AQ108)))) -> 0 | D45: =CONCATENATE(B45,C45) -> 00 | K45: =IF($L$8=$D$132,Y44,IF($L$8=$D$135,AB44,IF($L$8=$D$138,AE44,IF($L$8=$D$141,AH44,IF($L$8=$D$144,AK44,IF($L$8=$D$147,AN44,IF($L$8=$D$153,AT44,IF($L$8=$D$156,AW44,IF($L$8=$D$159,AZ44,IF($L$8=$D$162,BC44,IF($L$8=$D$165,BF44,IF($L$8=$D$171,BL44,IF($L$8=$BO$16,BO44,IF($L$8=$BR$16,BR44,IF($L$8=$BU$16,BU44,IF($L$8=$BX$16,BX44,IF($L$8=$CA$16,CA44,IF($L$8=$CD$16,CD44,IF($L$8=$CG$16,CG44,IF($L$8=$CJ$16,CJ44,IF($L$8=$CM$16,CM44,IF($L$8=$CP$16,CP44,IF($L$8=$CS$16,CS44,IF($L$8=$CV$16,CV44,IF($L$8=$CY$16,CY44,IF($L$8=$DB$16,DB44,IF($L$8=$DE$16,DE44,IF($L$8=$DH$16,DH44,IF($L$8=$DK$16,DK44,IF($L$8=$DN$16,DN44,IF($L$8=$DQ$16,DQ44,IF($L$8=$DT$16,DT44,IF($L$8=$DW$16,DW44,IF($L$8=$DZ$16,DZ44,IF($L$8=$EC$16,EC44,IF($L$8=$EF$16,EF44,IF($L$8=$EI$16,EI44,IF($L$8=$EL$16,EL44,IF($L$8=$EO$16,EO44,IF($L$8=$ER$16,ER44,IF($L$8=$BI$16,BI44,IF($L$8=$AQ$16,AQ44,IF($L$8=$V$16,V44,IF($L$8=ET41,EU44,IF($L$8=$EX$16,EX44,IF($L$8=$FA$16,FA44,IF($L$8=$FD$16,FD44,IF($L$8=$FG$16,FG44,IF($L$8=$FJ$16,FJ44,IF($L$8=$FM$16,FM44,IF($L$8=$FS$16,FS44,IF($L$8=$FV$16,FV44,IF($L$8=$FY$16,FY44))))))))))))))))))))))))))))))))))))))))))))))))))))) -> 609514-03 | L45: =IF($L$8=$D$132,Z44,IF($L$8=$D$135,AC44,IF($L$8=$D$138,AF44,IF($L$8=$D$141,AI44,IF($L$8=$D$144,AL44,IF($L$8=$D$147,AO44,IF($L$8=$D$153,AU44,IF($L$8=$D$156,AX44,IF($L$8=$D$159,BA44,IF($L$8=$D$162,BD44,IF($L$8=$D$165,BG44,IF($L$8=$D$171,BM44,IF($L$8=$BO$16,BP44,IF($L$8=$BR$16,BS44,IF($L$8=$BU$16,BV44,IF($L$8=$BX$16,BY44,IF($L$8=$CA$16,CB44,IF($L$8=$CD$16,CE44,IF($L$8=$CG$16,CH44,IF($L$8=$CJ$16,CK44,IF($L$8=$CM$16,CN44,IF($L$8=$CP$16,CQ44,IF($L$8=$CS$16,CT44,IF($L$8=$CV$16,CW44,IF($L$8=$CY$16,CZ44,IF($L$8=$DB$16,DC44,IF($L$8=$DE$16,DF44,IF($L$8=$DH$16,DI44,IF($L$8=$DK$16,DL44,IF($L$8=$DN$16,DO44,IF($L$8=$DQ$16,DR44,IF($L$8=$DT$16,DU44,IF($L$8=$DW$16,DX44,IF($L$8=$DZ$16,EA44,IF($L$8=$EC$16,ED44,IF($L$8=$EF$16,EG44,IF($L$8=$EI$16,EJ44,IF($L$8=$EL$16,EM44,IF($L$8=$EO$16,EP44,IF($L$8=$ER$16,ES44,IF($L$8=$BI$16,BJ44,IF($L$8=$AQ$16,AR44,IF($L$8=$V$16,W44,IF($L$8=EU41,EV44,IF($L$8=$EX$16,EY44,IF($L$8=$FA$16,FB44,IF($L$8=$FD$16,FE44,IF($L$8=$FG$16,FH44,IF($L$8=$FJ$16,FK44,IF($L$8=$FM$16,FN44,IF($L$8=$FS$16,FT44,IF($L$8=$FV$16,FW44,IF($L$8=$FY$16,FZ44))))))))))))))))))))))))))))))))))))))))))))))))))))) -> 1 | M45: =CONCATENATE(K45,L45) -> 609514-031 | N45: =IF(VLOOKUP(M45,$D$19:$D$49,1,FALSE)=M45,"Bon composant, bonne quantitée","Erreur de composant ou de quantité") -> Bon composant, bonne quantitée | Y45: RD.10X22.Z | Z45: 2 | AT45: E.FRE.M10.Z | AU45: 1 | AW45: E.FRE.M10.Z | AX45: 1 | AZ45: E.FRE.M10.Z | BA45: 1 | BC45: E.FRE.M10.Z | BD45: 1 | BF45: E.FRE.M10.Z | BG45: 1 | BI45: 605044 | BJ45: 1 | BL45: 609420 | BM45: 1 | BO45: 609631-01 | BP45: 1 | BU45: 609631-01 | BV45: 1 | CG45: V.TRTX06X030.I | CH45: 14 | CJ45: HM.14X160.Z | CK45: 4 | CM45: 609434-03 | CN45: 2 | CP45: HM.14X160.Z | CQ45: 4 | CS45: E.FRE.M10.Z | CT45: 2 | CV45: V.TFTX06X050.Z | CW45: 2 | CY45: 0 | CZ45: 0 | DB45: TIR.10X080.Z | DC45: 2 | DE45: TIR.10X080.Z | DF45: 2 | DH45: TIR.10X080.Z | DI45: 2 | DK45: TIR.10X080.Z | DL45: 4 | DN45: V.TFTX06X120.I | DO45: 2 | DQ45: V.TFTX06X120.I | DR45: 1 | DT45: 0 | DU45: 0 | DZ45: 0 | EA45: 0 | EC45: E.FRE.M10.Z | ED45: 1 | EF45: 0 | EG45: 0 | EI45: 0 | EJ45: 0 | EL45: H.M10X110.Z | EM45: 1 | EO45: H.M10X110.Z | EP45: 1 | ER45: 609420 | ES45: 1 | FA45: 09514-04 | FB45: 1 | FD45: 09514-04 | FE45: 1 | FG45: 09514-04 | FH45: 1
B46: =IF($D$8=$AG$78,AG109,IF($D$8=$AJ$78,AJ109,IF($D$8=$AM$78,AM109,IF($D$8=$AP$78,AP109)))) -> 0 | C46: =IF($D$8=$AG$78,AH109,IF($D$8=$AJ$78,AK109,IF($D$8=$AM$78,AN109,IF($D$8=$AP$78,AQ109)))) -> 0 | D46: =CONCATENATE(B46,C46) -> 00 | K46: =IF($L$8=$D$132,Y45,IF($L$8=$D$135,AB45,IF($L$8=$D$138,AE45,IF($L$8=$D$141,AH45,IF($L$8=$D$144,AK45,IF($L$8=$D$147,AN45,IF($L$8=$D$153,AT45,IF($L$8=$D$156,AW45,IF($L$8=$D$159,AZ45,IF($L$8=$D$162,BC45,IF($L$8=$D$165,BF45,IF($L$8=$D$171,BL45,IF($L$8=$BO$16,BO45,IF($L$8=$BR$16,BR45,IF($L$8=$BU$16,BU45,IF($L$8=$BX$16,BX45,IF($L$8=$CA$16,CA45,IF($L$8=$CD$16,CD45,IF($L$8=$CG$16,CG45,IF($L$8=$CJ$16,CJ45,IF($L$8=$CM$16,CM45,IF($L$8=$CP$16,CP45,IF($L$8=$CS$16,CS45,IF($L$8=$CV$16,CV45,IF($L$8=$CY$16,CY45,IF($L$8=$DB$16,DB45,IF($L$8=$DE$16,DE45,IF($L$8=$DH$16,DH45,IF($L$8=$DK$16,DK45,IF($L$8=$DN$16,DN45,IF($L$8=$DQ$16,DQ45,IF($L$8=$DT$16,DT45,IF($L$8=$DW$16,DW45,IF($L$8=$DZ$16,DZ45,IF($L$8=$EC$16,EC45,IF($L$8=$EF$16,EF45,IF($L$8=$EI$16,EI45,IF($L$8=$EL$16,EL45,IF($L$8=$EO$16,EO45,IF($L$8=$ER$16,ER45,IF($L$8=$BI$16,BI45,IF($L$8=$AQ$16,AQ45,IF($L$8=$V$16,V45,IF($L$8=ET42,EU45,IF($L$8=$EX$16,EX45,IF($L$8=$FA$16,FA45,IF($L$8=$FD$16,FD45,IF($L$8=$FG$16,FG45,IF($L$8=$FJ$16,FJ45,IF($L$8=$FM$16,FM45,IF($L$8=$FS$16,FS45,IF($L$8=$FV$16,FV45,IF($L$8=$FY$16,FY45))))))))))))))))))))))))))))))))))))))))))))))))))))) -> 09514-04 | L46: =IF($L$8=$D$132,Z45,IF($L$8=$D$135,AC45,IF($L$8=$D$138,AF45,IF($L$8=$D$141,AI45,IF($L$8=$D$144,AL45,IF($L$8=$D$147,AO45,IF($L$8=$D$153,AU45,IF($L$8=$D$156,AX45,IF($L$8=$D$159,BA45,IF($L$8=$D$162,BD45,IF($L$8=$D$165,BG45,IF($L$8=$D$171,BM45,IF($L$8=$BO$16,BP45,IF($L$8=$BR$16,BS45,IF($L$8=$BU$16,BV45,IF($L$8=$BX$16,BY45,IF($L$8=$CA$16,CB45,IF($L$8=$CD$16,CE45,IF($L$8=$CG$16,CH45,IF($L$8=$CJ$16,CK45,IF($L$8=$CM$16,CN45,IF($L$8=$CP$16,CQ45,IF($L$8=$CS$16,CT45,IF($L$8=$CV$16,CW45,IF($L$8=$CY$16,CZ45,IF($L$8=$DB$16,DC45,IF($L$8=$DE$16,DF45,IF($L$8=$DH$16,DI45,IF($L$8=$DK$16,DL45,IF($L$8=$DN$16,DO45,IF($L$8=$DQ$16,DR45,IF($L$8=$DT$16,DU45,IF($L$8=$DW$16,DX45,IF($L$8=$DZ$16,EA45,IF($L$8=$EC$16,ED45,IF($L$8=$EF$16,EG45,IF($L$8=$EI$16,EJ45,IF($L$8=$EL$16,EM45,IF($L$8=$EO$16,EP45,IF($L$8=$ER$16,ES45,IF($L$8=$BI$16,BJ45,IF($L$8=$AQ$16,AR45,IF($L$8=$V$16,W45,IF($L$8=EU42,EV45,IF($L$8=$EX$16,EY45,IF($L$8=$FA$16,FB45,IF($L$8=$FD$16,FE45,IF($L$8=$FG$16,FH45,IF($L$8=$FJ$16,FK45,IF($L$8=$FM$16,FN45,IF($L$8=$FS$16,FT45,IF($L$8=$FV$16,FW45,IF($L$8=$FY$16,FZ45))))))))))))))))))))))))))))))))))))))))))))))))))))) -> 1 | M46: =CONCATENATE(K46,L46) -> 09514-041 | N46: =IF(VLOOKUP(M46,$D$19:$D$49,1,FALSE)=M46,"Bon composant, bonne quantitée","Erreur de composant ou de quantité") -> #N/A | AT46: RD.10X22.Z | AW46: RD.10X22.Z | AX46: 4 | AZ46: RD.10X22.Z | BA46: 4 | BC46: RD.12X27.Z | BD46: 4 | BF46: RD.12X27.Z | BG46: 1 | BI46: TRCC.M10X180.Z | BJ46: 1 | BL46: 609447 | BM46: 1 | BO46: 609424-03 | BP46: 1 | BU46: 609424-03 | BV46: 1 | CG46: TRCCM14X160.Z | CH46: 4 | CJ46: E.FRE M10.Z | CK46: 3 | CM46: 605061 | CN46: 1 | CP46: E.FRE M10.Z | CQ46: 3 | CS46: RD.10X22.Z | CT46: 3 | CV46: V.TR06X050.Z | CW46: 5 | CY46: 0 | CZ46: 0 | DB46: E.FRE.M10.Z | DC46: 1 | DE46: E.FRE.M10.Z | DF46: 1 | DH46: E.FRE.M10.Z | DI46: 1 | DK46: E.FRE.M10.Z | DL46: 2 | DN46: V.TR06X050.I | DO46: 5 | DQ46: H.M10X120.Z | DR46: 1 | DT46: 0 | DU46: 0 | DW46: 0 | DX46: 0 | DZ46: 0 | EA46: 0 | EC46: RD.10X22.Z | ED46: 4 | EF46: 0 | EG46: 0 | EI46: 0 | EJ46: 0 | EL46: 605044 | EM46: 1 | EO46: 605044 | EP46: 1 | ER46: 609447 | ES46: 1
B47: =IF($D$8=$AG$78,AG110,IF($D$8=$AJ$78,AJ110,IF($D$8=$AM$78,AM110,IF($D$8=$AP$78,AP110)))) -> 0 | C47: =IF($D$8=$AG$78,AH110,IF($D$8=$AJ$78,AK110,IF($D$8=$AM$78,AN110,IF($D$8=$AP$78,AQ110)))) -> 0 | D47: =CONCATENATE(B47,C47) -> 00 | K47: =IF($L$8=$D$132,Y46,IF($L$8=$D$135,AB46,IF($L$8=$D$138,AE46,IF($L$8=$D$141,AH46,IF($L$8=$D$144,AK46,IF($L$8=$D$147,AN46,IF($L$8=$D$153,AT46,IF($L$8=$D$156,AW46,IF($L$8=$D$159,AZ46,IF($L$8=$D$162,BC46,IF($L$8=$D$165,BF46,IF($L$8=$D$171,BL46,IF($L$8=$BO$16,BO46,IF($L$8=$BR$16,BR46,IF($L$8=$BU$16,BU46,IF($L$8=$BX$16,BX46,IF($L$8=$CA$16,CA46,IF($L$8=$CD$16,CD46,IF($L$8=$CG$16,CG46,IF($L$8=$CJ$16,CJ46,IF($L$8=$CM$16,CM46,IF($L$8=$CP$16,CP46,IF($L$8=$CS$16,CS46,IF($L$8=$CV$16,CV46,IF($L$8=$CY$16,CY46,IF($L$8=$DB$16,DB46,IF($L$8=$DE$16,DE46,IF($L$8=$DH$16,DH46,IF($L$8=$DK$16,DK46,IF($L$8=$DN$16,DN46,IF($L$8=$DQ$16,DQ46,IF($L$8=$DT$16,DT46,IF($L$8=$DW$16,DW46,IF($L$8=$DZ$16,DZ46,IF($L$8=$EC$16,EC46,IF($L$8=$EF$16,EF46,IF($L$8=$EI$16,EI46,IF($L$8=$EL$16,EL46,IF($L$8=$EO$16,EO46,IF($L$8=$ER$16,ER46,IF($L$8=$BI$16,BI46,IF($L$8=$AQ$16,AQ46,IF($L$8=$V$16,V46,IF($L$8=ET43,EU46,IF($L$8=$EX$16,EX46,IF($L$8=$FA$16,FA46,IF($L$8=$FD$16,FD46,IF($L$8=$FG$16,FG46,IF($L$8=$FJ$16,FJ46,IF($L$8=$FM$16,FM46,IF($L$8=$FS$16,FS46,IF($L$8=$FV$16,FV46,IF($L$8=$FY$16,FY46))))))))))))))))))))))))))))))))))))))))))))))))))))) -> 0 | L47: =IF($L$8=$D$132,Z46,IF($L$8=$D$135,AC46,IF($L$8=$D$138,AF46,IF($L$8=$D$141,AI46,IF($L$8=$D$144,AL46,IF($L$8=$D$147,AO46,IF($L$8=$D$153,AU46,IF($L$8=$D$156,AX46,IF($L$8=$D$159,BA46,IF($L$8=$D$162,BD46,IF($L$8=$D$165,BG46,IF($L$8=$D$171,BM46,IF($L$8=$BO$16,BP46,IF($L$8=$BR$16,BS46,IF($L$8=$BU$16,BV46,IF($L$8=$BX$16,BY46,IF($L$8=$CA$16,CB46,IF($L$8=$CD$16,CE46,IF($L$8=$CG$16,CH46,IF($L$8=$CJ$16,CK46,IF($L$8=$CM$16,CN46,IF($L$8=$CP$16,CQ46,IF($L$8=$CS$16,CT46,IF($L$8=$CV$16,CW46,IF($L$8=$CY$16,CZ46,IF($L$8=$DB$16,DC46,IF($L$8=$DE$16,DF46,IF($L$8=$DH$16,DI46,IF($L$8=$DK$16,DL46,IF($L$8=$DN$16,DO46,IF($L$8=$DQ$16,DR46,IF($L$8=$DT$16,DU46,IF($L$8=$DW$16,DX46,IF($L$8=$DZ$16,EA46,IF($L$8=$EC$16,ED46,IF($L$8=$EF$16,EG46,IF($L$8=$EI$16,EJ46,IF($L$8=$EL$16,EM46,IF($L$8=$EO$16,EP46,IF($L$8=$ER$16,ES46,IF($L$8=$BI$16,BJ46,IF($L$8=$AQ$16,AR46,IF($L$8=$V$16,W46,IF($L$8=EU43,EV46,IF($L$8=$EX$16,EY46,IF($L$8=$FA$16,FB46,IF($L$8=$FD$16,FE46,IF($L$8=$FG$16,FH46,IF($L$8=$FJ$16,FK46,IF($L$8=$FM$16,FN46,IF($L$8=$FS$16,FT46,IF($L$8=$FV$16,FW46,IF($L$8=$FY$16,FZ46))))))))))))))))))))))))))))))))))))))))))))))))))))) -> 0 | M47: =CONCATENATE(K47,L47) -> 00 | N47: =IF(K47&L47="00","",ISNUMBER(MATCH(K47&L47,$B$19:$B$57&$C$19:$C$57,0))) | AT47: 605044 | AU47: 1 | AW47: 605044 | AX47: 1 | AZ47: 605044 | BA47: 1 | BC47: 605044 | BD47: 1 | BF47: 690901 | BG47: 1 | BI47: TRCC.M10X130.Z | BJ47: 1 | BL47: 609592602 | BM47: 1 | BU47: 609419 | BV47: 4 | CG47: TRCCM14X180.Z | CH47: 4 | CJ47: TRCCM14X180.Z | CK47: 4 | CM47: 0 | CN47: 0 | CP47: TRCCM14X180.Z | CQ47: 4 | CS47: V.TFTX06X200.I | CT47: 2 | CV47: 609444-11 | CW47: 1 | CY47: 0 | CZ47: 0 | DB47: 605044 | DC47: 1 | DE47: 605044 | DF47: 1 | DH47: 605044 | DI47: 1 | DK47: 605044 | DL47: 2 | DN47: 609444-14 | DO47: 1 | DQ47: 605044 | DR47: 1 | DT47: 0 | DU47: 0 | DW47: 0 | DX47: 0 | DZ47: 0 | EA47: 0 | EC47: 605044 | ED47: 1 | EF47: 0 | EG47: 0 | EI47: 0 | EJ47: 0 | EL47: 690901 | EM47: 2 | EO47: 690901 | EP47: 2 | ER47: 609592-02 | ES47: 1
B48: =IF($D$8=$AG$78,AG111,IF($D$8=$AJ$78,AJ111,IF($D$8=$AM$78,AM111,IF($D$8=$AP$78,AP111)))) -> 0 | C48: =IF($D$8=$AG$78,AH111,IF($D$8=$AJ$78,AK111,IF($D$8=$AM$78,AN111,IF($D$8=$AP$78,AQ111)))) -> 0 | D48: =CONCATENATE(B48,C48) -> 00 | K48: =IF($L$8=$D$132,Y47,IF($L$8=$D$135,AB47,IF($L$8=$D$138,AE47,IF($L$8=$D$141,AH47,IF($L$8=$D$144,AK47,IF($L$8=$D$147,AN47,IF($L$8=$D$153,AT47,IF($L$8=$D$156,AW47,IF($L$8=$D$159,AZ47,IF($L$8=$D$162,BC47,IF($L$8=$D$165,BF47,IF($L$8=$D$171,BL47,IF($L$8=$BO$16,BO47,IF($L$8=$BR$16,BR47,IF($L$8=$BU$16,BU47,IF($L$8=$BX$16,BX47,IF($L$8=$CA$16,CA47,IF($L$8=$CD$16,CD47,IF($L$8=$CG$16,CG47,IF($L$8=$CJ$16,CJ47,IF($L$8=$CM$16,CM47,IF($L$8=$CP$16,CP47,IF($L$8=$CS$16,CS47,IF($L$8=$CV$16,CV47,IF($L$8=$CY$16,CY47,IF($L$8=$DB$16,DB47,IF($L$8=$DE$16,DE47,IF($L$8=$DH$16,DH47,IF($L$8=$DK$16,DK47,IF($L$8=$DN$16,DN47,IF($L$8=$DQ$16,DQ47,IF($L$8=$DT$16,DT47,IF($L$8=$DW$16,DW47,IF($L$8=$DZ$16,DZ47,IF($L$8=$EC$16,EC47,IF($L$8=$EF$16,EF47,IF($L$8=$EI$16,EI47,IF($L$8=$EL$16,EL47,IF($L$8=$EO$16,EO47,IF($L$8=$ER$16,ER47,IF($L$8=$BI$16,BI47,IF($L$8=$AQ$16,AQ47,IF($L$8=$V$16,V47,IF($L$8=ET44,EU47,IF($L$8=$EX$16,EX47,IF($L$8=$FA$16,FA47,IF($L$8=$FD$16,FD47,IF($L$8=$FG$16,FG47,IF($L$8=$FJ$16,FJ47,IF($L$8=$FM$16,FM47,IF($L$8=$FS$16,FS47,IF($L$8=$FV$16,FV47,IF($L$8=$FY$16,FY47))))))))))))))))))))))))))))))))))))))))))))))))))))) -> 0 | L48: =IF($L$8=$D$132,Z47,IF($L$8=$D$135,AC47,IF($L$8=$D$138,AF47,IF($L$8=$D$141,AI47,IF($L$8=$D$144,AL47,IF($L$8=$D$147,AO47,IF($L$8=$D$153,AU47,IF($L$8=$D$156,AX47,IF($L$8=$D$159,BA47,IF($L$8=$D$162,BD47,IF($L$8=$D$165,BG47,IF($L$8=$D$171,BM47,IF($L$8=$BO$16,BP47,IF($L$8=$BR$16,BS47,IF($L$8=$BU$16,BV47,IF($L$8=$BX$16,BY47,IF($L$8=$CA$16,CB47,IF($L$8=$CD$16,CE47,IF($L$8=$CG$16,CH47,IF($L$8=$CJ$16,CK47,IF($L$8=$CM$16,CN47,IF($L$8=$CP$16,CQ47,IF($L$8=$CS$16,CT47,IF($L$8=$CV$16,CW47,IF($L$8=$CY$16,CZ47,IF($L$8=$DB$16,DC47,IF($L$8=$DE$16,DF47,IF($L$8=$DH$16,DI47,IF($L$8=$DK$16,DL47,IF($L$8=$DN$16,DO47,IF($L$8=$DQ$16,DR47,IF($L$8=$DT$16,DU47,IF($L$8=$DW$16,DX47,IF($L$8=$DZ$16,EA47,IF($L$8=$EC$16,ED47,IF($L$8=$EF$16,EG47,IF($L$8=$EI$16,EJ47,IF($L$8=$EL$16,EM47,IF($L$8=$EO$16,EP47,IF($L$8=$ER$16,ES47,IF($L$8=$BI$16,BJ47,IF($L$8=$AQ$16,AR47,IF($L$8=$V$16,W47,IF($L$8=EU44,EV47,IF($L$8=$EX$16,EY47,IF($L$8=$FA$16,FB47,IF($L$8=$FD$16,FE47,IF($L$8=$FG$16,FH47,IF($L$8=$FJ$16,FK47,IF($L$8=$FM$16,FN47,IF($L$8=$FS$16,FT47,IF($L$8=$FV$16,FW47,IF($L$8=$FY$16,FZ47))))))))))))))))))))))))))))))))))))))))))))))))))))) -> 0 | M48: =CONCATENATE(K48,L48) -> 00 | N48: =IF(K48&L48="00","",ISNUMBER(MATCH(K48&L48,$B$19:$B$57&$C$19:$C$57,0))) | AT48: 690901 | AU48: 2 | AW48: 690901 | AX48: 2 | AZ48: 690901 | BA48: 2 | BC48: 690901 | BD48: 2 | BF48: 60944-01 | BG48: 1 | BI48: E.FRE.M10.Z | BJ48: 2 | BL48: RD.16X40.I | BM48: 1 | BU48: 605147 | BV48: 4 | CG48: TF.M10X230.Z | CH48: 1 | CJ48: RD.14PZ | CK48: 20 | CM48: 0 | CN48: 0 | CP48: RD.14PZ | CQ48: 20 | CS48: V.TRTX07X200.I | CT48: 13 | CV48: 609901 | CW48: 1 | CY48: 0 | CZ48: 0 | DB48: 609901 | DC48: 2 | DE48: 609901 | DF48: 2 | DH48: 609901 | DI48: 2 | DK48: 609901 | DL48: 4 | DN48: 690901 | DO48: 1 | DQ48: 690901 | DR48: 2 | DT48: 0 | DU48: 0 | DW48: 0 | DX48: 0 | DZ48: 0 | EA48: 0 | EC48: 690901 | ED48: 2 | EF48: 0 | EG48: 0 | EI48: 0 | EJ48: 0 | EL48: E.FRE.M10.Z | EM48: 1 | EO48: E.FRE.M10.Z | EP48: 1 | ER48: RD.16X40 | ES48: 1
B49: =IF($D$8=$AG$78,AG112,IF($D$8=$AJ$78,AJ112,IF($D$8=$AM$78,AM112,IF($D$8=$AP$78,AP112)))) -> 0 | C49: =IF($D$8=$AG$78,AH112,IF($D$8=$AJ$78,AK112,IF($D$8=$AM$78,AN112,IF($D$8=$AP$78,AQ112)))) -> 0 | D49: =CONCATENATE(B49,C49) -> 00 | K49: =IF($L$8=$D$132,Y48,IF($L$8=$D$135,AB48,IF($L$8=$D$138,AE48,IF($L$8=$D$141,AH48,IF($L$8=$D$144,AK48,IF($L$8=$D$147,AN48,IF($L$8=$D$153,AT48,IF($L$8=$D$156,AW48,IF($L$8=$D$159,AZ48,IF($L$8=$D$162,BC48,IF($L$8=$D$165,BF48,IF($L$8=$D$171,BL48,IF($L$8=$BO$16,BO48,IF($L$8=$BR$16,BR48,IF($L$8=$BU$16,BU48,IF($L$8=$BX$16,BX48,IF($L$8=$CA$16,CA48,IF($L$8=$CD$16,CD48,IF($L$8=$CG$16,CG48,IF($L$8=$CJ$16,CJ48,IF($L$8=$CM$16,CM48,IF($L$8=$CP$16,CP48,IF($L$8=$CS$16,CS48,IF($L$8=$CV$16,CV48,IF($L$8=$CY$16,CY48,IF($L$8=$DB$16,DB48,IF($L$8=$DE$16,DE48,IF($L$8=$DH$16,DH48,IF($L$8=$DK$16,DK48,IF($L$8=$DN$16,DN48,IF($L$8=$DQ$16,DQ48,IF($L$8=$DT$16,DT48,IF($L$8=$DW$16,DW48,IF($L$8=$DZ$16,DZ48,IF($L$8=$EC$16,EC48,IF($L$8=$EF$16,EF48,IF($L$8=$EI$16,EI48,IF($L$8=$EL$16,EL48,IF($L$8=$EO$16,EO48,IF($L$8=$ER$16,ER48,IF($L$8=$BI$16,BI48,IF($L$8=$AQ$16,AQ48,IF($L$8=$V$16,V48,IF($L$8=ET45,EU48,IF($L$8=$EX$16,EX48,IF($L$8=$FA$16,FA48,IF($L$8=$FD$16,FD48,IF($L$8=$FG$16,FG48,IF($L$8=$FJ$16,FJ48,IF($L$8=$FM$16,FM48,IF($L$8=$FS$16,FS48,IF($L$8=$FV$16,FV48,IF($L$8=$FY$16,FY48))))))))))))))))))))))))))))))))))))))))))))))))))))) -> 0 | L49: =IF($L$8=$D$132,Z48,IF($L$8=$D$135,AC48,IF($L$8=$D$138,AF48,IF($L$8=$D$141,AI48,IF($L$8=$D$144,AL48,IF($L$8=$D$147,AO48,IF($L$8=$D$153,AU48,IF($L$8=$D$156,AX48,IF($L$8=$D$159,BA48,IF($L$8=$D$162,BD48,IF($L$8=$D$165,BG48,IF($L$8=$D$171,BM48,IF($L$8=$BO$16,BP48,IF($L$8=$BR$16,BS48,IF($L$8=$BU$16,BV48,IF($L$8=$BX$16,BY48,IF($L$8=$CA$16,CB48,IF($L$8=$CD$16,CE48,IF($L$8=$CG$16,CH48,IF($L$8=$CJ$16,CK48,IF($L$8=$CM$16,CN48,IF($L$8=$CP$16,CQ48,IF($L$8=$CS$16,CT48,IF($L$8=$CV$16,CW48,IF($L$8=$CY$16,CZ48,IF($L$8=$DB$16,DC48,IF($L$8=$DE$16,DF48,IF($L$8=$DH$16,DI48,IF($L$8=$DK$16,DL48,IF($L$8=$DN$16,DO48,IF($L$8=$DQ$16,DR48,IF($L$8=$DT$16,DU48,IF($L$8=$DW$16,DX48,IF($L$8=$DZ$16,EA48,IF($L$8=$EC$16,ED48,IF($L$8=$EF$16,EG48,IF($L$8=$EI$16,EJ48,IF($L$8=$EL$16,EM48,IF($L$8=$EO$16,EP48,IF($L$8=$ER$16,ES48,IF($L$8=$BI$16,BJ48,IF($L$8=$AQ$16,AR48,IF($L$8=$V$16,W48,IF($L$8=EU45,EV48,IF($L$8=$EX$16,EY48,IF($L$8=$FA$16,FB48,IF($L$8=$FD$16,FE48,IF($L$8=$FG$16,FH48,IF($L$8=$FJ$16,FK48,IF($L$8=$FM$16,FN48,IF($L$8=$FS$16,FT48,IF($L$8=$FV$16,FW48,IF($L$8=$FY$16,FZ48))))))))))))))))))))))))))))))))))))))))))))))))))))) -> 0 | M49: =CONCATENATE(K49,L49) -> 00 | N49: =IF(K49&L49="00","",ISNUMBER(MATCH(K49&L49,$B$19:$B$57&$C$19:$C$57,0))) | AT49: V.TFTX06X120.I | AU49: 1 | AW49: V.TFTX06X120.I | AX49: 1 | BC49: V.TFTX06X120.I | BD49: 1 | BF49: 609456 | BG49: 2 | BI49: RD.12X27.Z | BJ49: 2 | CG49: H.M10X200.Z | CH49: 2 | CJ49: RD.10X22.Z | CK49: 3 | CP49: RD.10X22.Z | CQ49: 3 | CS49: V.TRTX06X040.I | CT49: 1 | DQ49: E.FRE.M10.Z | DR49: 1 | DW49: 0 | DX49: 0 | DZ49: 0 | EA49: 0 | EC49: 0 | ED49: 0 | EF49: 0 | EG49: 0 | ER49: 609444-10 | ES49: 1
B50: =IF($D$8=$AG$78,AG113,IF($D$8=$AJ$78,AJ113,IF($D$8=$AM$78,AM113,IF($D$8=$AP$78,AP113)))) -> 0 | C50: =IF($D$8=$AG$78,AH113,IF($D$8=$AJ$78,AK113,IF($D$8=$AM$78,AN113,IF($D$8=$AP$78,AQ113)))) -> 0 | D50: =CONCATENATE(B50,C50) -> 00 | K50: =IF($L$8=$D$132,Y49,IF($L$8=$D$135,AB49,IF($L$8=$D$138,AE49,IF($L$8=$D$141,AH49,IF($L$8=$D$144,AK49,IF($L$8=$D$147,AN49,IF($L$8=$D$153,AT49,IF($L$8=$D$156,AW49,IF($L$8=$D$159,AZ49,IF($L$8=$D$162,BC49,IF($L$8=$D$165,BF49,IF($L$8=$D$171,BL49,IF($L$8=$BO$16,BO49,IF($L$8=$BR$16,BR49,IF($L$8=$BU$16,BU49,IF($L$8=$BX$16,BX49,IF($L$8=$CA$16,CA49,IF($L$8=$CD$16,CD49,IF($L$8=$CG$16,CG49,IF($L$8=$CJ$16,CJ49,IF($L$8=$CM$16,CM49,IF($L$8=$CP$16,CP49,IF($L$8=$CS$16,CS49,IF($L$8=$CV$16,CV49,IF($L$8=$CY$16,CY49,IF($L$8=$DB$16,DB49,IF($L$8=$DE$16,DE49,IF($L$8=$DH$16,DH49,IF($L$8=$DK$16,DK49,IF($L$8=$DN$16,DN49,IF($L$8=$DQ$16,DQ49,IF($L$8=$DT$16,DT49,IF($L$8=$DW$16,DW49,IF($L$8=$DZ$16,DZ49,IF($L$8=$EC$16,EC49,IF($L$8=$EF$16,EF49,IF($L$8=$EI$16,EI49,IF($L$8=$EL$16,EL49,IF($L$8=$EO$16,EO49,IF($L$8=$ER$16,ER49,IF($L$8=$BI$16,BI49,IF($L$8=$AQ$16,AQ49,IF($L$8=$V$16,V49,IF($L$8=ET46,EU49,IF($L$8=$EX$16,EX49,IF($L$8=$FA$16,FA49,IF($L$8=$FD$16,FD49,IF($L$8=$FG$16,FG49,IF($L$8=$FJ$16,FJ49,IF($L$8=$FM$16,FM49,IF($L$8=$FS$16,FS49,IF($L$8=$FV$16,FV49,IF($L$8=$FY$16,FY49))))))))))))))))))))))))))))))))))))))))))))))))))))) -> 0 | L50: =IF($L$8=$D$132,Z49,IF($L$8=$D$135,AC49,IF($L$8=$D$138,AF49,IF($L$8=$D$141,AI49,IF($L$8=$D$144,AL49,IF($L$8=$D$147,AO49,IF($L$8=$D$153,AU49,IF($L$8=$D$156,AX49,IF($L$8=$D$159,BA49,IF($L$8=$D$162,BD49,IF($L$8=$D$165,BG49,IF($L$8=$D$171,BM49,IF($L$8=$BO$16,BP49,IF($L$8=$BR$16,BS49,IF($L$8=$BU$16,BV49,IF($L$8=$BX$16,BY49,IF($L$8=$CA$16,CB49,IF($L$8=$CD$16,CE49,IF($L$8=$CG$16,CH49,IF($L$8=$CJ$16,CK49,IF($L$8=$CM$16,CN49,IF($L$8=$CP$16,CQ49,IF($L$8=$CS$16,CT49,IF($L$8=$CV$16,CW49,IF($L$8=$CY$16,CZ49,IF($L$8=$DB$16,DC49,IF($L$8=$DE$16,DF49,IF($L$8=$DH$16,DI49,IF($L$8=$DK$16,DL49,IF($L$8=$DN$16,DO49,IF($L$8=$DQ$16,DR49,IF($L$8=$DT$16,DU49,IF($L$8=$DW$16,DX49,IF($L$8=$DZ$16,EA49,IF($L$8=$EC$16,ED49,IF($L$8=$EF$16,EG49,IF($L$8=$EI$16,EJ49,IF($L$8=$EL$16,EM49,IF($L$8=$EO$16,EP49,IF($L$8=$ER$16,ES49,IF($L$8=$BI$16,BJ49,IF($L$8=$AQ$16,AR49,IF($L$8=$V$16,W49,IF($L$8=EU46,EV49,IF($L$8=$EX$16,EY49,IF($L$8=$FA$16,FB49,IF($L$8=$FD$16,FE49,IF($L$8=$FG$16,FH49,IF($L$8=$FJ$16,FK49,IF($L$8=$FM$16,FN49,IF($L$8=$FS$16,FT49,IF($L$8=$FV$16,FW49,IF($L$8=$FY$16,FZ49))))))))))))))))))))))))))))))))))))))))))))))))))))) -> 0 | M50: =CONCATENATE(K50,L50) -> 00 | N50: =IF(K50&L50="00","",ISNUMBER(MATCH(K50&L50,$B$19:$B$57&$C$19:$C$57,0))) | AT50: V.TFTX06X180.I | AU50: 1 | AW50: V.TFTX06X180.I | AX50: 1 | BF50: RD.16X32.Z | BG50: 4 | BI50: 690901 | BJ50: 2 | CG50: RD.14PZ | CH50: 8 | CJ50: E.FRE.M14.Z | CK50: 12 | CP50: E.FRE.M14.Z | CQ50: 12 | CS50: 690901 | CT50: 3 | ER50: 609444-19 | ES50: 1
B51: =IF($D$8=$AG$78,AG114,IF($D$8=$AJ$78,AJ114,IF($D$8=$AM$78,AM114,IF($D$8=$AP$78,AP114)))) -> 0 | C51: =IF($D$8=$AG$78,AH114,IF($D$8=$AJ$78,AK114,IF($D$8=$AM$78,AN114,IF($D$8=$AP$78,AQ114)))) -> 0 | D51: =CONCATENATE(B51,C51) -> 00 | K51: =IF($L$8=$D$132,Y50,IF($L$8=$D$135,AB50,IF($L$8=$D$138,AE50,IF($L$8=$D$141,AH50,IF($L$8=$D$144,AK50,IF($L$8=$D$147,AN50,IF($L$8=$D$153,AT50,IF($L$8=$D$156,AW50,IF($L$8=$D$159,AZ50,IF($L$8=$D$162,BC50,IF($L$8=$D$165,BF50,IF($L$8=$D$171,BL50,IF($L$8=$BO$16,BO50,IF($L$8=$BR$16,BR50,IF($L$8=$BU$16,BU50,IF($L$8=$BX$16,BX50,IF($L$8=$CA$16,CA50,IF($L$8=$CD$16,CD50,IF($L$8=$CG$16,CG50,IF($L$8=$CJ$16,CJ50,IF($L$8=$CM$16,CM50,IF($L$8=$CP$16,CP50,IF($L$8=$CS$16,CS50,IF($L$8=$CV$16,CV50,IF($L$8=$CY$16,CY50,IF($L$8=$DB$16,DB50,IF($L$8=$DE$16,DE50,IF($L$8=$DH$16,DH50,IF($L$8=$DK$16,DK50,IF($L$8=$DN$16,DN50,IF($L$8=$DQ$16,DQ50,IF($L$8=$DT$16,DT50,IF($L$8=$DW$16,DW50,IF($L$8=$DZ$16,DZ50,IF($L$8=$EC$16,EC50,IF($L$8=$EF$16,EF50,IF($L$8=$EI$16,EI50,IF($L$8=$EL$16,EL50,IF($L$8=$EO$16,EO50,IF($L$8=$ER$16,ER50,IF($L$8=$BI$16,BI50,IF($L$8=$AQ$16,AQ50,IF($L$8=$V$16,V50,IF($L$8=ET47,EU50,IF($L$8=$EX$16,EX50,IF($L$8=$FA$16,FA50,IF($L$8=$FD$16,FD50,IF($L$8=$FG$16,FG50,IF($L$8=$FJ$16,FJ50,IF($L$8=$FM$16,FM50,IF($L$8=$FS$16,FS50,IF($L$8=$FV$16,FV50,IF($L$8=$FY$16,FY50))))))))))))))))))))))))))))))))))))))))))))))))))))) -> 0 | L51: =IF($L$8=$D$132,Z50,IF($L$8=$D$135,AC50,IF($L$8=$D$138,AF50,IF($L$8=$D$141,AI50,IF($L$8=$D$144,AL50,IF($L$8=$D$147,AO50,IF($L$8=$D$153,AU50,IF($L$8=$D$156,AX50,IF($L$8=$D$159,BA50,IF($L$8=$D$162,BD50,IF($L$8=$D$165,BG50,IF($L$8=$D$171,BM50,IF($L$8=$BO$16,BP50,IF($L$8=$BR$16,BS50,IF($L$8=$BU$16,BV50,IF($L$8=$BX$16,BY50,IF($L$8=$CA$16,CB50,IF($L$8=$CD$16,CE50,IF($L$8=$CG$16,CH50,IF($L$8=$CJ$16,CK50,IF($L$8=$CM$16,CN50,IF($L$8=$CP$16,CQ50,IF($L$8=$CS$16,CT50,IF($L$8=$CV$16,CW50,IF($L$8=$CY$16,CZ50,IF($L$8=$DB$16,DC50,IF($L$8=$DE$16,DF50,IF($L$8=$DH$16,DI50,IF($L$8=$DK$16,DL50,IF($L$8=$DN$16,DO50,IF($L$8=$DQ$16,DR50,IF($L$8=$DT$16,DU50,IF($L$8=$DW$16,DX50,IF($L$8=$DZ$16,EA50,IF($L$8=$EC$16,ED50,IF($L$8=$EF$16,EG50,IF($L$8=$EI$16,EJ50,IF($L$8=$EL$16,EM50,IF($L$8=$EO$16,EP50,IF($L$8=$ER$16,ES50,IF($L$8=$BI$16,BJ50,IF($L$8=$AQ$16,AR50,IF($L$8=$V$16,W50,IF($L$8=EU47,EV50,IF($L$8=$EX$16,EY50,IF($L$8=$FA$16,FB50,IF($L$8=$FD$16,FE50,IF($L$8=$FG$16,FH50,IF($L$8=$FJ$16,FK50,IF($L$8=$FM$16,FN50,IF($L$8=$FS$16,FT50,IF($L$8=$FV$16,FW50,IF($L$8=$FY$16,FZ50))))))))))))))))))))))))))))))))))))))))))))))))))))) -> 0 | M51: =CONCATENATE(K51,L51) -> 00 | N51: =IF(K51&L51="00","",ISNUMBER(MATCH(K51&L51,$B$19:$B$57&$C$19:$C$57,0))) | BF51: E.FREM14.Z | BG51: 4 | CG51: E.FRE.M10.Z | CH51: 7 | CJ51: 690901 | CK51: 3 | CP51: 690901 | CQ51: 3 | CS51: PLAQ-ALUBLANC/VERT | CT51: 1 | ER51: 609444-20 | ES51: 1
B52: =IF($D$8=$AG$78,AG115,IF($D$8=$AJ$78,AJ115,IF($D$8=$AM$78,AM115,IF($D$8=$AP$78,AP115)))) -> 0 | C52: =IF($D$8=$AG$78,AH115,IF($D$8=$AJ$78,AK115,IF($D$8=$AM$78,AN115,IF($D$8=$AP$78,AQ115)))) -> 0 | D52: =CONCATENATE(B52,C52) -> 00 | K52: =IF($L$8=$D$132,Y51,IF($L$8=$D$135,AB51,IF($L$8=$D$138,AE51,IF($L$8=$D$141,AH51,IF($L$8=$D$144,AK51,IF($L$8=$D$147,AN51,IF($L$8=$D$153,AT51,IF($L$8=$D$156,AW51,IF($L$8=$D$159,AZ51,IF($L$8=$D$162,BC51,IF($L$8=$D$165,BF51,IF($L$8=$D$171,BL51,IF($L$8=$BO$16,BO51,IF($L$8=$BR$16,BR51,IF($L$8=$BU$16,BU51,IF($L$8=$BX$16,BX51,IF($L$8=$CA$16,CA51,IF($L$8=$CD$16,CD51,IF($L$8=$CG$16,CG51,IF($L$8=$CJ$16,CJ51,IF($L$8=$CM$16,CM51,IF($L$8=$CP$16,CP51,IF($L$8=$CS$16,CS51,IF($L$8=$CV$16,CV51,IF($L$8=$CY$16,CY51,IF($L$8=$DB$16,DB51,IF($L$8=$DE$16,DE51,IF($L$8=$DH$16,DH51,IF($L$8=$DK$16,DK51,IF($L$8=$DN$16,DN51,IF($L$8=$DQ$16,DQ51,IF($L$8=$DT$16,DT51,IF($L$8=$DW$16,DW51,IF($L$8=$DZ$16,DZ51,IF($L$8=$EC$16,EC51,IF($L$8=$EF$16,EF51,IF($L$8=$EI$16,EI51,IF($L$8=$EL$16,EL51,IF($L$8=$EO$16,EO51,IF($L$8=$ER$16,ER51,IF($L$8=$BI$16,BI51,IF($L$8=$AQ$16,AQ51,IF($L$8=$V$16,V51,IF($L$8=ET48,EU51,IF($L$8=$EX$16,EX51,IF($L$8=$FA$16,FA51,IF($L$8=$FD$16,FD51,IF($L$8=$FG$16,FG51,IF($L$8=$FJ$16,FJ51,IF($L$8=$FM$16,FM51,IF($L$8=$FS$16,FS51,IF($L$8=$FV$16,FV51,IF($L$8=$FY$16,FY51))))))))))))))))))))))))))))))))))))))))))))))))))))) -> 0 | L52: =IF($L$8=$D$132,Z51,IF($L$8=$D$135,AC51,IF($L$8=$D$138,AF51,IF($L$8=$D$141,AI51,IF($L$8=$D$144,AL51,IF($L$8=$D$147,AO51,IF($L$8=$D$153,AU51,IF($L$8=$D$156,AX51,IF($L$8=$D$159,BA51,IF($L$8=$D$162,BD51,IF($L$8=$D$165,BG51,IF($L$8=$D$171,BM51,IF($L$8=$BO$16,BP51,IF($L$8=$BR$16,BS51,IF($L$8=$BU$16,BV51,IF($L$8=$BX$16,BY51,IF($L$8=$CA$16,CB51,IF($L$8=$CD$16,CE51,IF($L$8=$CG$16,CH51,IF($L$8=$CJ$16,CK51,IF($L$8=$CM$16,CN51,IF($L$8=$CP$16,CQ51,IF($L$8=$CS$16,CT51,IF($L$8=$CV$16,CW51,IF($L$8=$CY$16,CZ51,IF($L$8=$DB$16,DC51,IF($L$8=$DE$16,DF51,IF($L$8=$DH$16,DI51,IF($L$8=$DK$16,DL51,IF($L$8=$DN$16,DO51,IF($L$8=$DQ$16,DR51,IF($L$8=$DT$16,DU51,IF($L$8=$DW$16,DX51,IF($L$8=$DZ$16,EA51,IF($L$8=$EC$16,ED51,IF($L$8=$EF$16,EG51,IF($L$8=$EI$16,EJ51,IF($L$8=$EL$16,EM51,IF($L$8=$EO$16,EP51,IF($L$8=$ER$16,ES51,IF($L$8=$BI$16,BJ51,IF($L$8=$AQ$16,AR51,IF($L$8=$V$16,W51,IF($L$8=EU48,EV51,IF($L$8=$EX$16,EY51,IF($L$8=$FA$16,FB51,IF($L$8=$FD$16,FE51,IF($L$8=$FG$16,FH51,IF($L$8=$FJ$16,FK51,IF($L$8=$FM$16,FN51,IF($L$8=$FS$16,FT51,IF($L$8=$FV$16,FW51,IF($L$8=$FY$16,FZ51))))))))))))))))))))))))))))))))))))))))))))))))))))) -> 0 | M52: =CONCATENATE(K52,L52) -> 00 | N52: =IF(K52&L52="00","",ISNUMBER(MATCH(K52&L52,$B$19:$B$57&$C$19:$C$57,0))) | CG52: E.M14.Z | CH52: 1 | CJ52: V.TFTX06X060.I | CK52: 1 | CP52: V.TFTX06X060.I | CQ52: 1 | CS52: PTI-2.X45 | CT52: 4 | ER52: TIR.10X120.Z | ES52: 1
B53: =IF($D$8=$AG$78,AG116,IF($D$8=$AJ$78,AJ116,IF($D$8=$AM$78,AM116,IF($D$8=$AP$78,AP116)))) -> 0 | C53: =IF($D$8=$AG$78,AH116,IF($D$8=$AJ$78,AK116,IF($D$8=$AM$78,AN116,IF($D$8=$AP$78,AQ116)))) -> 0 | D53: =CONCATENATE(B53,C53) -> 00 | K53: =IF($L$8=$D$132,Y52,IF($L$8=$D$135,AB52,IF($L$8=$D$138,AE52,IF($L$8=$D$141,AH52,IF($L$8=$D$144,AK52,IF($L$8=$D$147,AN52,IF($L$8=$D$153,AT52,IF($L$8=$D$156,AW52,IF($L$8=$D$159,AZ52,IF($L$8=$D$162,BC52,IF($L$8=$D$165,BF52,IF($L$8=$D$171,BL52,IF($L$8=$BO$16,BO52,IF($L$8=$BR$16,BR52,IF($L$8=$BU$16,BU52,IF($L$8=$BX$16,BX52,IF($L$8=$CA$16,CA52,IF($L$8=$CD$16,CD52,IF($L$8=$CG$16,CG52,IF($L$8=$CJ$16,CJ52,IF($L$8=$CM$16,CM52,IF($L$8=$CP$16,CP52,IF($L$8=$CS$16,CS52,IF($L$8=$CV$16,CV52,IF($L$8=$CY$16,CY52,IF($L$8=$DB$16,DB52,IF($L$8=$DE$16,DE52,IF($L$8=$DH$16,DH52,IF($L$8=$DK$16,DK52,IF($L$8=$DN$16,DN52,IF($L$8=$DQ$16,DQ52,IF($L$8=$DT$16,DT52,IF($L$8=$DW$16,DW52,IF($L$8=$DZ$16,DZ52,IF($L$8=$EC$16,EC52,IF($L$8=$EF$16,EF52,IF($L$8=$EI$16,EI52,IF($L$8=$EL$16,EL52,IF($L$8=$EO$16,EO52,IF($L$8=$ER$16,ER52,IF($L$8=$BI$16,BI52,IF($L$8=$AQ$16,AQ52,IF($L$8=$V$16,V52,IF($L$8=ET49,EU52,IF($L$8=$EX$16,EX52,IF($L$8=$FA$16,FA52,IF($L$8=$FD$16,FD52,IF($L$8=$FG$16,FG52,IF($L$8=$FJ$16,FJ52,IF($L$8=$FM$16,FM52,IF($L$8=$FS$16,FS52,IF($L$8=$FV$16,FV52,IF($L$8=$FY$16,FY52))))))))))))))))))))))))))))))))))))))))))))))))))))) -> 0 | L53: =IF($L$8=$D$132,Z52,IF($L$8=$D$135,AC52,IF($L$8=$D$138,AF52,IF($L$8=$D$141,AI52,IF($L$8=$D$144,AL52,IF($L$8=$D$147,AO52,IF($L$8=$D$153,AU52,IF($L$8=$D$156,AX52,IF($L$8=$D$159,BA52,IF($L$8=$D$162,BD52,IF($L$8=$D$165,BG52,IF($L$8=$D$171,BM52,IF($L$8=$BO$16,BP52,IF($L$8=$BR$16,BS52,IF($L$8=$BU$16,BV52,IF($L$8=$BX$16,BY52,IF($L$8=$CA$16,CB52,IF($L$8=$CD$16,CE52,IF($L$8=$CG$16,CH52,IF($L$8=$CJ$16,CK52,IF($L$8=$CM$16,CN52,IF($L$8=$CP$16,CQ52,IF($L$8=$CS$16,CT52,IF($L$8=$CV$16,CW52,IF($L$8=$CY$16,CZ52,IF($L$8=$DB$16,DC52,IF($L$8=$DE$16,DF52,IF($L$8=$DH$16,DI52,IF($L$8=$DK$16,DL52,IF($L$8=$DN$16,DO52,IF($L$8=$DQ$16,DR52,IF($L$8=$DT$16,DU52,IF($L$8=$DW$16,DX52,IF($L$8=$DZ$16,EA52,IF($L$8=$EC$16,ED52,IF($L$8=$EF$16,EG52,IF($L$8=$EI$16,EJ52,IF($L$8=$EL$16,EM52,IF($L$8=$EO$16,EP52,IF($L$8=$ER$16,ES52,IF($L$8=$BI$16,BJ52,IF($L$8=$AQ$16,AR52,IF($L$8=$V$16,W52,IF($L$8=EU49,EV52,IF($L$8=$EX$16,EY52,IF($L$8=$FA$16,FB52,IF($L$8=$FD$16,FE52,IF($L$8=$FG$16,FH52,IF($L$8=$FJ$16,FK52,IF($L$8=$FM$16,FN52,IF($L$8=$FS$16,FT52,IF($L$8=$FV$16,FW52,IF($L$8=$FY$16,FZ52))))))))))))))))))))))))))))))))))))))))))))))))))))) -> 0 | M53: =CONCATENATE(K53,L53) -> 00 | CG53: RD.10X22.Z | CH53: 9 | CJ53: V.TFTX06X120.I | CK53: 2 | CP53: V.TFTX06X120.I | CQ53: 2 | CS53: PD.630009-27.R1 | CT53: 1 | ER53: RD.10X22.Z | ES53: 1
B54: =IF($D$8=$AG$78,AG117,IF($D$8=$AJ$78,AJ117,IF($D$8=$AM$78,AM117,IF($D$8=$AP$78,AP117)))) -> 0 | C54: =IF($D$8=$AG$78,AH117,IF($D$8=$AJ$78,AK117,IF($D$8=$AM$78,AN117,IF($D$8=$AP$78,AQ117)))) -> 0 | D54: =CONCATENATE(B54,C54) -> 00 | K54: =IF($L$8=$D$132,Y53,IF($L$8=$D$135,AB53,IF($L$8=$D$138,AE53,IF($L$8=$D$141,AH53,IF($L$8=$D$144,AK53,IF($L$8=$D$147,AN53,IF($L$8=$D$153,AT53,IF($L$8=$D$156,AW53,IF($L$8=$D$159,AZ53,IF($L$8=$D$162,BC53,IF($L$8=$D$165,BF53,IF($L$8=$D$171,BL53,IF($L$8=$BO$16,BO53,IF($L$8=$BR$16,BR53,IF($L$8=$BU$16,BU53,IF($L$8=$BX$16,BX53,IF($L$8=$CA$16,CA53,IF($L$8=$CD$16,CD53,IF($L$8=$CG$16,CG53,IF($L$8=$CJ$16,CJ53,IF($L$8=$CM$16,CM53,IF($L$8=$CP$16,CP53,IF($L$8=$CS$16,CS53,IF($L$8=$CV$16,CV53,IF($L$8=$CY$16,CY53,IF($L$8=$DB$16,DB53,IF($L$8=$DE$16,DE53,IF($L$8=$DH$16,DH53,IF($L$8=$DK$16,DK53,IF($L$8=$DN$16,DN53,IF($L$8=$DQ$16,DQ53,IF($L$8=$DT$16,DT53,IF($L$8=$DW$16,DW53,IF($L$8=$DZ$16,DZ53,IF($L$8=$EC$16,EC53,IF($L$8=$EF$16,EF53,IF($L$8=$EI$16,EI53,IF($L$8=$EL$16,EL53,IF($L$8=$EO$16,EO53,IF($L$8=$ER$16,ER53,IF($L$8=$BI$16,BI53,IF($L$8=$AQ$16,AQ53,IF($L$8=$V$16,V53,IF($L$8=ET50,EU53,IF($L$8=$EX$16,EX53,IF($L$8=$FA$16,FA53,IF($L$8=$FD$16,FD53,IF($L$8=$FG$16,FG53,IF($L$8=$FJ$16,FJ53,IF($L$8=$FM$16,FM53,IF($L$8=$FS$16,FS53,IF($L$8=$FV$16,FV53,IF($L$8=$FY$16,FY53))))))))))))))))))))))))))))))))))))))))))))))))))))) -> 0 | L54: =IF($L$8=$D$132,Z53,IF($L$8=$D$135,AC53,IF($L$8=$D$138,AF53,IF($L$8=$D$141,AI53,IF($L$8=$D$144,AL53,IF($L$8=$D$147,AO53,IF($L$8=$D$153,AU53,IF($L$8=$D$156,AX53,IF($L$8=$D$159,BA53,IF($L$8=$D$162,BD53,IF($L$8=$D$165,BG53,IF($L$8=$D$171,BM53,IF($L$8=$BO$16,BP53,IF($L$8=$BR$16,BS53,IF($L$8=$BU$16,BV53,IF($L$8=$BX$16,BY53,IF($L$8=$CA$16,CB53,IF($L$8=$CD$16,CE53,IF($L$8=$CG$16,CH53,IF($L$8=$CJ$16,CK53,IF($L$8=$CM$16,CN53,IF($L$8=$CP$16,CQ53,IF($L$8=$CS$16,CT53,IF($L$8=$CV$16,CW53,IF($L$8=$CY$16,CZ53,IF($L$8=$DB$16,DC53,IF($L$8=$DE$16,DF53,IF($L$8=$DH$16,DI53,IF($L$8=$DK$16,DL53,IF($L$8=$DN$16,DO53,IF($L$8=$DQ$16,DR53,IF($L$8=$DT$16,DU53,IF($L$8=$DW$16,DX53,IF($L$8=$DZ$16,EA53,IF($L$8=$EC$16,ED53,IF($L$8=$EF$16,EG53,IF($L$8=$EI$16,EJ53,IF($L$8=$EL$16,EM53,IF($L$8=$EO$16,EP53,IF($L$8=$ER$16,ES53,IF($L$8=$BI$16,BJ53,IF($L$8=$AQ$16,AR53,IF($L$8=$V$16,W53,IF($L$8=EU50,EV53,IF($L$8=$EX$16,EY53,IF($L$8=$FA$16,FB53,IF($L$8=$FD$16,FE53,IF($L$8=$FG$16,FH53,IF($L$8=$FJ$16,FK53,IF($L$8=$FM$16,FN53,IF($L$8=$FS$16,FT53,IF($L$8=$FV$16,FW53,IF($L$8=$FY$16,FZ53))))))))))))))))))))))))))))))))))))))))))))))))))))) -> 0 | M54: =CONCATENATE(K54,L54) -> 00 | CG54: E.FRE.M14.Z | CH54: 7 | CJ54: 800650 modifié | CK54: 1 | CP54: 800650 modifié | CQ54: 1 | CS54: PD.630009-27.R2 | CT54: 1 | ER54: 690901 | ES54: 1
B55: =IF($D$8=$AG$78,AG118,IF($D$8=$AJ$78,AJ118,IF($D$8=$AM$78,AM118,IF($D$8=$AP$78,AP118)))) -> 0 | C55: =IF($D$8=$AG$78,AH118,IF($D$8=$AJ$78,AK118,IF($D$8=$AM$78,AN118,IF($D$8=$AP$78,AQ118)))) -> 0 | D55: =CONCATENATE(B55,C55) -> 00 | K55: =IF($L$8=$D$132,Y54,IF($L$8=$D$135,AB54,IF($L$8=$D$138,AE54,IF($L$8=$D$141,AH54,IF($L$8=$D$144,AK54,IF($L$8=$D$147,AN54,IF($L$8=$D$153,AT54,IF($L$8=$D$156,AW54,IF($L$8=$D$159,AZ54,IF($L$8=$D$162,BC54,IF($L$8=$D$165,BF54,IF($L$8=$D$171,BL54,IF($L$8=$BO$16,BO54,IF($L$8=$BR$16,BR54,IF($L$8=$BU$16,BU54,IF($L$8=$BX$16,BX54,IF($L$8=$CA$16,CA54,IF($L$8=$CD$16,CD54,IF($L$8=$CG$16,CG54,IF($L$8=$CJ$16,CJ54,IF($L$8=$CM$16,CM54,IF($L$8=$CP$16,CP54,IF($L$8=$CS$16,CS54,IF($L$8=$CV$16,CV54,IF($L$8=$CY$16,CY54,IF($L$8=$DB$16,DB54,IF($L$8=$DE$16,DE54,IF($L$8=$DH$16,DH54,IF($L$8=$DK$16,DK54,IF($L$8=$DN$16,DN54,IF($L$8=$DQ$16,DQ54,IF($L$8=$DT$16,DT54,IF($L$8=$DW$16,DW54,IF($L$8=$DZ$16,DZ54,IF($L$8=$EC$16,EC54,IF($L$8=$EF$16,EF54,IF($L$8=$EI$16,EI54,IF($L$8=$EL$16,EL54,IF($L$8=$EO$16,EO54,IF($L$8=$ER$16,ER54,IF($L$8=$BI$16,BI54,IF($L$8=$AQ$16,AQ54,IF($L$8=$V$16,V54,IF($L$8=ET51,EU54,IF($L$8=$EX$16,EX54,IF($L$8=$FA$16,FA54,IF($L$8=$FD$16,FD54,IF($L$8=$FG$16,FG54,IF($L$8=$FJ$16,FJ54,IF($L$8=$FM$16,FM54,IF($L$8=$FS$16,FS54,IF($L$8=$FV$16,FV54,IF($L$8=$FY$16,FY54))))))))))))))))))))))))))))))))))))))))))))))))))))) -> 0 | L55: =IF($L$8=$D$132,Z54,IF($L$8=$D$135,AC54,IF($L$8=$D$138,AF54,IF($L$8=$D$141,AI54,IF($L$8=$D$144,AL54,IF($L$8=$D$147,AO54,IF($L$8=$D$153,AU54,IF($L$8=$D$156,AX54,IF($L$8=$D$159,BA54,IF($L$8=$D$162,BD54,IF($L$8=$D$165,BG54,IF($L$8=$D$171,BM54,IF($L$8=$BO$16,BP54,IF($L$8=$BR$16,BS54,IF($L$8=$BU$16,BV54,IF($L$8=$BX$16,BY54,IF($L$8=$CA$16,CB54,IF($L$8=$CD$16,CE54,IF($L$8=$CG$16,CH54,IF($L$8=$CJ$16,CK54,IF($L$8=$CM$16,CN54,IF($L$8=$CP$16,CQ54,IF($L$8=$CS$16,CT54,IF($L$8=$CV$16,CW54,IF($L$8=$CY$16,CZ54,IF($L$8=$DB$16,DC54,IF($L$8=$DE$16,DF54,IF($L$8=$DH$16,DI54,IF($L$8=$DK$16,DL54,IF($L$8=$DN$16,DO54,IF($L$8=$DQ$16,DR54,IF($L$8=$DT$16,DU54,IF($L$8=$DW$16,DX54,IF($L$8=$DZ$16,EA54,IF($L$8=$EC$16,ED54,IF($L$8=$EF$16,EG54,IF($L$8=$EI$16,EJ54,IF($L$8=$EL$16,EM54,IF($L$8=$EO$16,EP54,IF($L$8=$ER$16,ES54,IF($L$8=$BI$16,BJ54,IF($L$8=$AQ$16,AR54,IF($L$8=$V$16,W54,IF($L$8=EU51,EV54,IF($L$8=$EX$16,EY54,IF($L$8=$FA$16,FB54,IF($L$8=$FD$16,FE54,IF($L$8=$FG$16,FH54,IF($L$8=$FJ$16,FK54,IF($L$8=$FM$16,FN54,IF($L$8=$FS$16,FT54,IF($L$8=$FV$16,FW54,IF($L$8=$FY$16,FZ54))))))))))))))))))))))))))))))))))))))))))))))))))))) -> 0 | M55: =CONCATENATE(K55,L55) -> 00 | CG55: 690901 | CH55: 9 | CJ55: 800650 | CK55: 2 | CP55: 800650 | CQ55: 2
B56: =IF($D$8=$AG$78,AG119,IF($D$8=$AJ$78,AJ119,IF($D$8=$AM$78,AM119,IF($D$8=$AP$78,AP119)))) -> 0 | C56: =IF($D$8=$AG$78,AH119,IF($D$8=$AJ$78,AK119,IF($D$8=$AM$78,AN119,IF($D$8=$AP$78,AQ119)))) -> 0 | D56: =CONCATENATE(B56,C56) -> 00 | K56: =IF($L$8=$D$132,Y55,IF($L$8=$D$135,AB55,IF($L$8=$D$138,AE55,IF($L$8=$D$141,AH55,IF($L$8=$D$144,AK55,IF($L$8=$D$147,AN55,IF($L$8=$D$153,AT55,IF($L$8=$D$156,AW55,IF($L$8=$D$159,AZ55,IF($L$8=$D$162,BC55,IF($L$8=$D$165,BF55,IF($L$8=$D$171,BL55,IF($L$8=$BO$16,BO55,IF($L$8=$BR$16,BR55,IF($L$8=$BU$16,BU55,IF($L$8=$BX$16,BX55,IF($L$8=$CA$16,CA55,IF($L$8=$CD$16,CD55,IF($L$8=$CG$16,CG55,IF($L$8=$CJ$16,CJ55,IF($L$8=$CM$16,CM55,IF($L$8=$CP$16,CP55,IF($L$8=$CS$16,CS55,IF($L$8=$CV$16,CV55,IF($L$8=$CY$16,CY55,IF($L$8=$DB$16,DB55,IF($L$8=$DE$16,DE55,IF($L$8=$DH$16,DH55,IF($L$8=$DK$16,DK55,IF($L$8=$DN$16,DN55,IF($L$8=$DQ$16,DQ55,IF($L$8=$DT$16,DT55,IF($L$8=$DW$16,DW55,IF($L$8=$DZ$16,DZ55,IF($L$8=$EC$16,EC55,IF($L$8=$EF$16,EF55,IF($L$8=$EI$16,EI55,IF($L$8=$EL$16,EL55,IF($L$8=$EO$16,EO55,IF($L$8=$ER$16,ER55,IF($L$8=$BI$16,BI55,IF($L$8=$AQ$16,AQ55,IF($L$8=$V$16,V55,IF($L$8=ET52,EU55,IF($L$8=$EX$16,EX55,IF($L$8=$FA$16,FA55,IF($L$8=$FD$16,FD55,IF($L$8=$FG$16,FG55,IF($L$8=$FJ$16,FJ55,IF($L$8=$FM$16,FM55,IF($L$8=$FS$16,FS55,IF($L$8=$FV$16,FV55,IF($L$8=$FY$16,FY55))))))))))))))))))))))))))))))))))))))))))))))))))))) -> 0 | L56: =IF($L$8=$D$132,Z55,IF($L$8=$D$135,AC55,IF($L$8=$D$138,AF55,IF($L$8=$D$141,AI55,IF($L$8=$D$144,AL55,IF($L$8=$D$147,AO55,IF($L$8=$D$153,AU55,IF($L$8=$D$156,AX55,IF($L$8=$D$159,BA55,IF($L$8=$D$162,BD55,IF($L$8=$D$165,BG55,IF($L$8=$D$171,BM55,IF($L$8=$BO$16,BP55,IF($L$8=$BR$16,BS55,IF($L$8=$BU$16,BV55,IF($L$8=$BX$16,BY55,IF($L$8=$CA$16,CB55,IF($L$8=$CD$16,CE55,IF($L$8=$CG$16,CH55,IF($L$8=$CJ$16,CK55,IF($L$8=$CM$16,CN55,IF($L$8=$CP$16,CQ55,IF($L$8=$CS$16,CT55,IF($L$8=$CV$16,CW55,IF($L$8=$CY$16,CZ55,IF($L$8=$DB$16,DC55,IF($L$8=$DE$16,DF55,IF($L$8=$DH$16,DI55,IF($L$8=$DK$16,DL55,IF($L$8=$DN$16,DO55,IF($L$8=$DQ$16,DR55,IF($L$8=$DT$16,DU55,IF($L$8=$DW$16,DX55,IF($L$8=$DZ$16,EA55,IF($L$8=$EC$16,ED55,IF($L$8=$EF$16,EG55,IF($L$8=$EI$16,EJ55,IF($L$8=$EL$16,EM55,IF($L$8=$EO$16,EP55,IF($L$8=$ER$16,ES55,IF($L$8=$BI$16,BJ55,IF($L$8=$AQ$16,AR55,IF($L$8=$V$16,W55,IF($L$8=EU52,EV55,IF($L$8=$EX$16,EY55,IF($L$8=$FA$16,FB55,IF($L$8=$FD$16,FE55,IF($L$8=$FG$16,FH55,IF($L$8=$FJ$16,FK55,IF($L$8=$FM$16,FN55,IF($L$8=$FS$16,FT55,IF($L$8=$FV$16,FW55,IF($L$8=$FY$16,FZ55))))))))))))))))))))))))))))))))))))))))))))))))))))) -> 0 | M56: =CONCATENATE(K56,L56) -> 00 | CG56: V.TRTX06X050.I | CH56: 14 | CJ56: 609514-03 | CK56: 1 | CP56: 609514-03 | CQ56: 1
B57: =IF($D$8=$AG$78,AG120,IF($D$8=$AJ$78,AJ120,IF($D$8=$AM$78,AM120,IF($D$8=$AP$78,AP120)))) -> 0 | C57: =IF($D$8=$AG$78,AH120,IF($D$8=$AJ$78,AK120,IF($D$8=$AM$78,AN120,IF($D$8=$AP$78,AQ120)))) -> 0 | D57: =CONCATENATE(B57,C57) -> 00 | K57: =IF($L$8=$D$132,Y56,IF($L$8=$D$135,AB56,IF($L$8=$D$138,AE56,IF($L$8=$D$141,AH56,IF($L$8=$D$144,AK56,IF($L$8=$D$147,AN56,IF($L$8=$D$153,AT56,IF($L$8=$D$156,AW56,IF($L$8=$D$159,AZ56,IF($L$8=$D$162,BC56,IF($L$8=$D$165,BF56,IF($L$8=$D$171,BL56,IF($L$8=$BO$16,BO56,IF($L$8=$BR$16,BR56,IF($L$8=$BU$16,BU56,IF($L$8=$BX$16,BX56,IF($L$8=$CA$16,CA56,IF($L$8=$CD$16,CD56,IF($L$8=$CG$16,CG56,IF($L$8=$CJ$16,CJ56,IF($L$8=$CM$16,CM56,IF($L$8=$CP$16,CP56,IF($L$8=$CS$16,CS56,IF($L$8=$CV$16,CV56,IF($L$8=$CY$16,CY56,IF($L$8=$DB$16,DB56,IF($L$8=$DE$16,DE56,IF($L$8=$DH$16,DH56,IF($L$8=$DK$16,DK56,IF($L$8=$DN$16,DN56,IF($L$8=$DQ$16,DQ56,IF($L$8=$DT$16,DT56,IF($L$8=$DW$16,DW56,IF($L$8=$DZ$16,DZ56,IF($L$8=$EC$16,EC56,IF($L$8=$EF$16,EF56,IF($L$8=$EI$16,EI56,IF($L$8=$EL$16,EL56,IF($L$8=$EO$16,EO56,IF($L$8=$ER$16,ER56,IF($L$8=$BI$16,BI56,IF($L$8=$AQ$16,AQ56,IF($L$8=$V$16,V56,IF($L$8=ET53,EU56,IF($L$8=$EX$16,EX56,IF($L$8=$FA$16,FA56,IF($L$8=$FD$16,FD56,IF($L$8=$FG$16,FG56,IF($L$8=$FJ$16,FJ56,IF($L$8=$FM$16,FM56,IF($L$8=$FS$16,FS56,IF($L$8=$FV$16,FV56,IF($L$8=$FY$16,FY56))))))))))))))))))))))))))))))))))))))))))))))))))))) -> 0 | L57: =IF($L$8=$D$132,Z56,IF($L$8=$D$135,AC56,IF($L$8=$D$138,AF56,IF($L$8=$D$141,AI56,IF($L$8=$D$144,AL56,IF($L$8=$D$147,AO56,IF($L$8=$D$153,AU56,IF($L$8=$D$156,AX56,IF($L$8=$D$159,BA56,IF($L$8=$D$162,BD56,IF($L$8=$D$165,BG56,IF($L$8=$D$171,BM56,IF($L$8=$BO$16,BP56,IF($L$8=$BR$16,BS56,IF($L$8=$BU$16,BV56,IF($L$8=$BX$16,BY56,IF($L$8=$CA$16,CB56,IF($L$8=$CD$16,CE56,IF($L$8=$CG$16,CH56,IF($L$8=$CJ$16,CK56,IF($L$8=$CM$16,CN56,IF($L$8=$CP$16,CQ56,IF($L$8=$CS$16,CT56,IF($L$8=$CV$16,CW56,IF($L$8=$CY$16,CZ56,IF($L$8=$DB$16,DC56,IF($L$8=$DE$16,DF56,IF($L$8=$DH$16,DI56,IF($L$8=$DK$16,DL56,IF($L$8=$DN$16,DO56,IF($L$8=$DQ$16,DR56,IF($L$8=$DT$16,DU56,IF($L$8=$DW$16,DX56,IF($L$8=$DZ$16,EA56,IF($L$8=$EC$16,ED56,IF($L$8=$EF$16,EG56,IF($L$8=$EI$16,EJ56,IF($L$8=$EL$16,EM56,IF($L$8=$EO$16,EP56,IF($L$8=$ER$16,ES56,IF($L$8=$BI$16,BJ56,IF($L$8=$AQ$16,AR56,IF($L$8=$V$16,W56,IF($L$8=EU53,EV56,IF($L$8=$EX$16,EY56,IF($L$8=$FA$16,FB56,IF($L$8=$FD$16,FE56,IF($L$8=$FG$16,FH56,IF($L$8=$FJ$16,FK56,IF($L$8=$FM$16,FN56,IF($L$8=$FS$16,FT56,IF($L$8=$FV$16,FW56,IF($L$8=$FY$16,FZ56))))))))))))))))))))))))))))))))))))))))))))))))))))) -> 0 | M57: =CONCATENATE(K57,L57) -> 00 | CG57: V.TFTX06X050.I | CH57: 1 | CJ57: 609514-04 | CK57: 1 | CP57: 609514-04 | CQ57: 1
B58: =IF($D$8=$AG$78,AG121,IF($D$8=$AJ$78,AJ121,IF($D$8=$AM$78,AM121,IF($D$8=$AP$78,AP121)))) -> 0 | C58: =IF($D$8=$AG$78,AH121,IF($D$8=$AJ$78,AK121,IF($D$8=$AM$78,AN121,IF($D$8=$AP$78,AQ121)))) -> 0 | D58: =CONCATENATE(B58,C58) -> 00 | K58: =IF($L$8=$D$132,Y57,IF($L$8=$D$135,AB57,IF($L$8=$D$138,AE57,IF($L$8=$D$141,AH57,IF($L$8=$D$144,AK57,IF($L$8=$D$147,AN57,IF($L$8=$D$153,AT57,IF($L$8=$D$156,AW57,IF($L$8=$D$159,AZ57,IF($L$8=$D$162,BC57,IF($L$8=$D$165,BF57,IF($L$8=$D$171,BL57,IF($L$8=$BO$16,BO57,IF($L$8=$BR$16,BR57,IF($L$8=$BU$16,BU57,IF($L$8=$BX$16,BX57,IF($L$8=$CA$16,CA57,IF($L$8=$CD$16,CD57,IF($L$8=$CG$16,CG57,IF($L$8=$CJ$16,CJ57,IF($L$8=$CM$16,CM57,IF($L$8=$CP$16,CP57,IF($L$8=$CS$16,CS57,IF($L$8=$CV$16,CV57,IF($L$8=$CY$16,CY57,IF($L$8=$DB$16,DB57,IF($L$8=$DE$16,DE57,IF($L$8=$DH$16,DH57,IF($L$8=$DK$16,DK57,IF($L$8=$DN$16,DN57,IF($L$8=$DQ$16,DQ57,IF($L$8=$DT$16,DT57,IF($L$8=$DW$16,DW57,IF($L$8=$DZ$16,DZ57,IF($L$8=$EC$16,EC57,IF($L$8=$EF$16,EF57,IF($L$8=$EI$16,EI57,IF($L$8=$EL$16,EL57,IF($L$8=$EO$16,EO57,IF($L$8=$ER$16,ER57,IF($L$8=$BI$16,BI57,IF($L$8=$AQ$16,AQ57,IF($L$8=$V$16,V57,IF($L$8=ET54,EU57,IF($L$8=$EX$16,EX57,IF($L$8=$FA$16,FA57,IF($L$8=$FD$16,FD57,IF($L$8=$FG$16,FG57,IF($L$8=$FJ$16,FJ57,IF($L$8=$FM$16,FM57,IF($L$8=$FS$16,FS57,IF($L$8=$FV$16,FV57,IF($L$8=$FY$16,FY57))))))))))))))))))))))))))))))))))))))))))))))))))))) -> 0 | L58: =IF($L$8=$D$132,Z57,IF($L$8=$D$135,AC57,IF($L$8=$D$138,AF57,IF($L$8=$D$141,AI57,IF($L$8=$D$144,AL57,IF($L$8=$D$147,AO57,IF($L$8=$D$153,AU57,IF($L$8=$D$156,AX57,IF($L$8=$D$159,BA57,IF($L$8=$D$162,BD57,IF($L$8=$D$165,BG57,IF($L$8=$D$171,BM57,IF($L$8=$BO$16,BP57,IF($L$8=$BR$16,BS57,IF($L$8=$BU$16,BV57,IF($L$8=$BX$16,BY57,IF($L$8=$CA$16,CB57,IF($L$8=$CD$16,CE57,IF($L$8=$CG$16,CH57,IF($L$8=$CJ$16,CK57,IF($L$8=$CM$16,CN57,IF($L$8=$CP$16,CQ57,IF($L$8=$CS$16,CT57,IF($L$8=$CV$16,CW57,IF($L$8=$CY$16,CZ57,IF($L$8=$DB$16,DC57,IF($L$8=$DE$16,DF57,IF($L$8=$DH$16,DI57,IF($L$8=$DK$16,DL57,IF($L$8=$DN$16,DO57,IF($L$8=$DQ$16,DR57,IF($L$8=$DT$16,DU57,IF($L$8=$DW$16,DX57,IF($L$8=$DZ$16,EA57,IF($L$8=$EC$16,ED57,IF($L$8=$EF$16,EG57,IF($L$8=$EI$16,EJ57,IF($L$8=$EL$16,EM57,IF($L$8=$EO$16,EP57,IF($L$8=$ER$16,ES57,IF($L$8=$BI$16,BJ57,IF($L$8=$AQ$16,AR57,IF($L$8=$V$16,W57,IF($L$8=EU54,EV57,IF($L$8=$EX$16,EY57,IF($L$8=$FA$16,FB57,IF($L$8=$FD$16,FE57,IF($L$8=$FG$16,FH57,IF($L$8=$FJ$16,FK57,IF($L$8=$FM$16,FN57,IF($L$8=$FS$16,FT57,IF($L$8=$FV$16,FW57,IF($L$8=$FY$16,FZ57))))))))))))))))))))))))))))))))))))))))))))))))))))) -> 0 | M58: =CONCATENATE(K58,L58) -> 00 | CG58: V.TFTX06X120.I | CH58: 2 | CJ58: 609514-05 | CK58: 1 | CP58: 609514-05 | CQ58: 1
B59: =IF($D$8=$AG$78,AG122,IF($D$8=$AJ$78,AJ122,IF($D$8=$AM$78,AM122,IF($D$8=$AP$78,AP122)))) -> 0 | C59: =IF($D$8=$AG$78,AH111,IF($D$8=$AJ$78,AK111,IF($D$8=$AM$78,AN111,IF($D$8=$AP$78,AQ113)))) -> 0 | D59: =CONCATENATE(B59,C59) -> 00 | K59: =IF($L$8=$D$132,Y58,IF($L$8=$D$135,AB58,IF($L$8=$D$138,AE58,IF($L$8=$D$141,AH58,IF($L$8=$D$144,AK58,IF($L$8=$D$147,AN58,IF($L$8=$D$153,AT58,IF($L$8=$D$156,AW58,IF($L$8=$D$159,AZ58,IF($L$8=$D$162,BC58,IF($L$8=$D$165,BF58,IF($L$8=$D$171,BL58,IF($L$8=$BO$16,BO58,IF($L$8=$BR$16,BR58,IF($L$8=$BU$16,BU58,IF($L$8=$BX$16,BX58,IF($L$8=$CA$16,CA58,IF($L$8=$CD$16,CD58,IF($L$8=$CG$16,CG58,IF($L$8=$CJ$16,CJ58,IF($L$8=$CM$16,CM58,IF($L$8=$CP$16,CP58,IF($L$8=$CS$16,CS58,IF($L$8=$CV$16,CV58,IF($L$8=$CY$16,CY58,IF($L$8=$DB$16,DB58,IF($L$8=$DE$16,DE58,IF($L$8=$DH$16,DH58,IF($L$8=$DK$16,DK58,IF($L$8=$DN$16,DN58,IF($L$8=$DQ$16,DQ58,IF($L$8=$DT$16,DT58,IF($L$8=$DW$16,DW58,IF($L$8=$DZ$16,DZ58,IF($L$8=$EC$16,EC58,IF($L$8=$EF$16,EF58,IF($L$8=$EI$16,EI58,IF($L$8=$EL$16,EL58,IF($L$8=$EO$16,EO58,IF($L$8=$ER$16,ER58,IF($L$8=$BI$16,BI58,IF($L$8=$AQ$16,AQ58,IF($L$8=$V$16,V58,IF($L$8=ET55,EU58,IF($L$8=$EX$16,EX58,IF($L$8=$FA$16,FA58,IF($L$8=$FD$16,FD58,IF($L$8=$FG$16,FG58,IF($L$8=$FJ$16,FJ58,IF($L$8=$FM$16,FM58,IF($L$8=$FS$16,FS58,IF($L$8=$FV$16,FV58,IF($L$8=$FY$16,FY58))))))))))))))))))))))))))))))))))))))))))))))))))))) -> 0 | L59: =IF($L$8=$D$132,Z58,IF($L$8=$D$135,AC58,IF($L$8=$D$138,AF58,IF($L$8=$D$141,AI58,IF($L$8=$D$144,AL58,IF($L$8=$D$147,AO58,IF($L$8=$D$153,AU58,IF($L$8=$D$156,AX58,IF($L$8=$D$159,BA58,IF($L$8=$D$162,BD58,IF($L$8=$D$165,BG58,IF($L$8=$D$171,BM58,IF($L$8=$BO$16,BP58,IF($L$8=$BR$16,BS58,IF($L$8=$BU$16,BV58,IF($L$8=$BX$16,BY58,IF($L$8=$CA$16,CB58,IF($L$8=$CD$16,CE58,IF($L$8=$CG$16,CH58,IF($L$8=$CJ$16,CK58,IF($L$8=$CM$16,CN58,IF($L$8=$CP$16,CQ58,IF($L$8=$CS$16,CT58,IF($L$8=$CV$16,CW58,IF($L$8=$CY$16,CZ58,IF($L$8=$DB$16,DC58,IF($L$8=$DE$16,DF58,IF($L$8=$DH$16,DI58,IF($L$8=$DK$16,DL58,IF($L$8=$DN$16,DO58,IF($L$8=$DQ$16,DR58,IF($L$8=$DT$16,DU58,IF($L$8=$DW$16,DX58,IF($L$8=$DZ$16,EA58,IF($L$8=$EC$16,ED58,IF($L$8=$EF$16,EG58,IF($L$8=$EI$16,EJ58,IF($L$8=$EL$16,EM58,IF($L$8=$EO$16,EP58,IF($L$8=$ER$16,ES58,IF($L$8=$BI$16,BJ58,IF($L$8=$AQ$16,AR58,IF($L$8=$V$16,W58,IF($L$8=EU55,EV58,IF($L$8=$EX$16,EY58,IF($L$8=$FA$16,FB58,IF($L$8=$FD$16,FE58,IF($L$8=$FG$16,FH58,IF($L$8=$FJ$16,FK58,IF($L$8=$FM$16,FN58,IF($L$8=$FS$16,FT58,IF($L$8=$FV$16,FW58,IF($L$8=$FY$16,FZ58))))))))))))))))))))))))))))))))))))))))))))))))))))) -> 0 | M59: =CONCATENATE(K59,L59) -> 00 | CG59: V.TFTX06X200.I | CH59: 1 | CJ59: 690902 | CK59: 4 | CP59: 690902 | CQ59: 4
B60: =IF($D$8=$AG$78,AG123,IF($D$8=$AJ$78,AJ123,IF($D$8=$AM$78,AM123,IF($D$8=$AP$78,AP123)))) -> 0 | C60: =IF($D$8=$AG$78,AH112,IF($D$8=$AJ$78,AK112,IF($D$8=$AM$78,AN112,IF($D$8=$AP$78,AQ114)))) -> 0 | D60: =CONCATENATE(B60,C60) -> 00 | K60: =IF($L$8=$D$132,Y59,IF($L$8=$D$135,AB59,IF($L$8=$D$138,AE59,IF($L$8=$D$141,AH59,IF($L$8=$D$144,AK59,IF($L$8=$D$147,AN59,IF($L$8=$D$153,AT59,IF($L$8=$D$156,AW59,IF($L$8=$D$159,AZ59,IF($L$8=$D$162,BC59,IF($L$8=$D$165,BF59,IF($L$8=$D$171,BL59,IF($L$8=$BO$16,BO59,IF($L$8=$BR$16,BR59,IF($L$8=$BU$16,BU59,IF($L$8=$BX$16,BX59,IF($L$8=$CA$16,CA59,IF($L$8=$CD$16,CD59,IF($L$8=$CG$16,CG59,IF($L$8=$CJ$16,CJ59,IF($L$8=$CM$16,CM59,IF($L$8=$CP$16,CP59,IF($L$8=$CS$16,CS59,IF($L$8=$CV$16,CV59,IF($L$8=$CY$16,CY59,IF($L$8=$DB$16,DB59,IF($L$8=$DE$16,DE59,IF($L$8=$DH$16,DH59,IF($L$8=$DK$16,DK59,IF($L$8=$DN$16,DN59,IF($L$8=$DQ$16,DQ59,IF($L$8=$DT$16,DT59,IF($L$8=$DW$16,DW59,IF($L$8=$DZ$16,DZ59,IF($L$8=$EC$16,EC59,IF($L$8=$EF$16,EF59,IF($L$8=$EI$16,EI59,IF($L$8=$EL$16,EL59,IF($L$8=$EO$16,EO59,IF($L$8=$ER$16,ER59,IF($L$8=$BI$16,BI59,IF($L$8=$AQ$16,AQ59,IF($L$8=$V$16,V59,IF($L$8=ET56,EU59,IF($L$8=$EX$16,EX59,IF($L$8=$FA$16,FA59,IF($L$8=$FD$16,FD59,IF($L$8=$FG$16,FG59,IF($L$8=$FJ$16,FJ59,IF($L$8=$FM$16,FM59,IF($L$8=$FS$16,FS59,IF($L$8=$FV$16,FV59,IF($L$8=$FY$16,FY59))))))))))))))))))))))))))))))))))))))))))))))))))))) -> 0 | L60: =IF($L$8=$D$132,Z59,IF($L$8=$D$135,AC59,IF($L$8=$D$138,AF59,IF($L$8=$D$141,AI59,IF($L$8=$D$144,AL59,IF($L$8=$D$147,AO59,IF($L$8=$D$153,AU59,IF($L$8=$D$156,AX59,IF($L$8=$D$159,BA59,IF($L$8=$D$162,BD59,IF($L$8=$D$165,BG59,IF($L$8=$D$171,BM59,IF($L$8=$BO$16,BP59,IF($L$8=$BR$16,BS59,IF($L$8=$BU$16,BV59,IF($L$8=$BX$16,BY59,IF($L$8=$CA$16,CB59,IF($L$8=$CD$16,CE59,IF($L$8=$CG$16,CH59,IF($L$8=$CJ$16,CK59,IF($L$8=$CM$16,CN59,IF($L$8=$CP$16,CQ59,IF($L$8=$CS$16,CT59,IF($L$8=$CV$16,CW59,IF($L$8=$CY$16,CZ59,IF($L$8=$DB$16,DC59,IF($L$8=$DE$16,DF59,IF($L$8=$DH$16,DI59,IF($L$8=$DK$16,DL59,IF($L$8=$DN$16,DO59,IF($L$8=$DQ$16,DR59,IF($L$8=$DT$16,DU59,IF($L$8=$DW$16,DX59,IF($L$8=$DZ$16,EA59,IF($L$8=$EC$16,ED59,IF($L$8=$EF$16,EG59,IF($L$8=$EI$16,EJ59,IF($L$8=$EL$16,EM59,IF($L$8=$EO$16,EP59,IF($L$8=$ER$16,ES59,IF($L$8=$BI$16,BJ59,IF($L$8=$AQ$16,AR59,IF($L$8=$V$16,W59,IF($L$8=EU56,EV59,IF($L$8=$EX$16,EY59,IF($L$8=$FA$16,FB59,IF($L$8=$FD$16,FE59,IF($L$8=$FG$16,FH59,IF($L$8=$FJ$16,FK59,IF($L$8=$FM$16,FN59,IF($L$8=$FS$16,FT59,IF($L$8=$FV$16,FW59,IF($L$8=$FY$16,FZ59))))))))))))))))))))))))))))))))))))))))))))))))))))) -> 0 | M60: =CONCATENATE(K60,L60) -> 00 | CG60: 800016 modifié | CH60: 1
B61: =IF($D$8=$AG$78,AG113,IF($D$8=$AJ$78,AJ114,IF($D$8=$AM$78,AM113,IF($D$8=$AP$78,AP115)))) -> 0 | C61: =IF($D$8=$AG$78,AH113,IF($D$8=$AJ$78,AK113,IF($D$8=$AM$78,AN113,IF($D$8=$AP$78,AQ115)))) -> 0 | D61: =CONCATENATE(B61,C61) -> 00 | K61: =IF($L$8=$D$132,Y60,IF($L$8=$D$135,AB60,IF($L$8=$D$138,AE60,IF($L$8=$D$141,AH60,IF($L$8=$D$144,AK60,IF($L$8=$D$147,AN60,IF($L$8=$D$153,AT60,IF($L$8=$D$156,AW60,IF($L$8=$D$159,AZ60,IF($L$8=$D$162,BC60,IF($L$8=$D$165,BF60,IF($L$8=$D$171,BL60,IF($L$8=$BO$16,BO60,IF($L$8=$BR$16,BR60,IF($L$8=$BU$16,BU60,IF($L$8=$BX$16,BX60,IF($L$8=$CA$16,CA60,IF($L$8=$CD$16,CD60,IF($L$8=$CG$16,CG60,IF($L$8=$CJ$16,CJ60,IF($L$8=$CM$16,CM60,IF($L$8=$CP$16,CP60,IF($L$8=$CS$16,CS60,IF($L$8=$CV$16,CV60,IF($L$8=$CY$16,CY60,IF($L$8=$DB$16,DB60,IF($L$8=$DE$16,DE60,IF($L$8=$DH$16,DH60,IF($L$8=$DK$16,DK60,IF($L$8=$DN$16,DN60,IF($L$8=$DQ$16,DQ60,IF($L$8=$DT$16,DT60,IF($L$8=$DW$16,DW60,IF($L$8=$DZ$16,DZ60,IF($L$8=$EC$16,EC60,IF($L$8=$EF$16,EF60,IF($L$8=$EI$16,EI60,IF($L$8=$EL$16,EL60,IF($L$8=$EO$16,EO60,IF($L$8=$ER$16,ER60,IF($L$8=$BI$16,BI60,IF($L$8=$AQ$16,AQ60,IF($L$8=$V$16,V60,IF($L$8=ET57,EU60,IF($L$8=$EX$16,EX60,IF($L$8=$FA$16,FA60,IF($L$8=$FD$16,FD60,IF($L$8=$FG$16,FG60,IF($L$8=$FJ$16,FJ60,IF($L$8=$FM$16,FM60,IF($L$8=$FS$16,FS60,IF($L$8=$FV$16,FV60,IF($L$8=$FY$16,FY60))))))))))))))))))))))))))))))))))))))))))))))))))))) -> 0 | L61: =IF($L$8=$D$132,Z60,IF($L$8=$D$135,AC60,IF($L$8=$D$138,AF60,IF($L$8=$D$141,AI60,IF($L$8=$D$144,AL60,IF($L$8=$D$147,AO60,IF($L$8=$D$153,AU60,IF($L$8=$D$156,AX60,IF($L$8=$D$159,BA60,IF($L$8=$D$162,BD60,IF($L$8=$D$165,BG60,IF($L$8=$D$171,BM60,IF($L$8=$BO$16,BP60,IF($L$8=$BR$16,BS60,IF($L$8=$BU$16,BV60,IF($L$8=$BX$16,BY60,IF($L$8=$CA$16,CB60,IF($L$8=$CD$16,CE60,IF($L$8=$CG$16,CH60,IF($L$8=$CJ$16,CK60,IF($L$8=$CM$16,CN60,IF($L$8=$CP$16,CQ60,IF($L$8=$CS$16,CT60,IF($L$8=$CV$16,CW60,IF($L$8=$CY$16,CZ60,IF($L$8=$DB$16,DC60,IF($L$8=$DE$16,DF60,IF($L$8=$DH$16,DI60,IF($L$8=$DK$16,DL60,IF($L$8=$DN$16,DO60,IF($L$8=$DQ$16,DR60,IF($L$8=$DT$16,DU60,IF($L$8=$DW$16,DX60,IF($L$8=$DZ$16,EA60,IF($L$8=$EC$16,ED60,IF($L$8=$EF$16,EG60,IF($L$8=$EI$16,EJ60,IF($L$8=$EL$16,EM60,IF($L$8=$EO$16,EP60,IF($L$8=$ER$16,ES60,IF($L$8=$BI$16,BJ60,IF($L$8=$AQ$16,AR60,IF($L$8=$V$16,W60,IF($L$8=EU57,EV60,IF($L$8=$EX$16,EY60,IF($L$8=$FA$16,FB60,IF($L$8=$FD$16,FE60,IF($L$8=$FG$16,FH60,IF($L$8=$FJ$16,FK60,IF($L$8=$FM$16,FN60,IF($L$8=$FS$16,FT60,IF($L$8=$FV$16,FW60,IF($L$8=$FY$16,FZ60))))))))))))))))))))))))))))))))))))))))))))))))))))) -> 0 | M61: =CONCATENATE(K61,L61) -> 00 | CG61: 800016 modifié | CH61: 1
B62: =IF($D$8=$AG$78,AG114,IF($D$8=$AJ$78,AJ115,IF($D$8=$AM$78,AM114,IF($D$8=$AP$78,AP116)))) -> 0 | C62: =IF($D$8=$AG$78,AH114,IF($D$8=$AJ$78,AK114,IF($D$8=$AM$78,AN114,IF($D$8=$AP$78,AQ116)))) -> 0 | D62: =CONCATENATE(B62,C62) -> 00 | K62: =IF($L$8=$D$132,Y61,IF($L$8=$D$135,AB61,IF($L$8=$D$138,AE61,IF($L$8=$D$141,AH61,IF($L$8=$D$144,AK61,IF($L$8=$D$147,AN61,IF($L$8=$D$153,AT61,IF($L$8=$D$156,AW61,IF($L$8=$D$159,AZ61,IF($L$8=$D$162,BC61,IF($L$8=$D$165,BF61,IF($L$8=$D$171,BL61,IF($L$8=$BO$16,BO61,IF($L$8=$BR$16,BR61,IF($L$8=$BU$16,BU61,IF($L$8=$BX$16,BX61,IF($L$8=$CA$16,CA61,IF($L$8=$CD$16,CD61,IF($L$8=$CG$16,CG61,IF($L$8=$CJ$16,CJ61,IF($L$8=$CM$16,CM61,IF($L$8=$CP$16,CP61,IF($L$8=$CS$16,CS61,IF($L$8=$CV$16,CV61,IF($L$8=$CY$16,CY61,IF($L$8=$DB$16,DB61,IF($L$8=$DE$16,DE61,IF($L$8=$DH$16,DH61,IF($L$8=$DK$16,DK61,IF($L$8=$DN$16,DN61,IF($L$8=$DQ$16,DQ61,IF($L$8=$DT$16,DT61,IF($L$8=$DW$16,DW61,IF($L$8=$DZ$16,DZ61,IF($L$8=$EC$16,EC61,IF($L$8=$EF$16,EF61,IF($L$8=$EI$16,EI61,IF($L$8=$EL$16,EL61,IF($L$8=$EO$16,EO61,IF($L$8=$ER$16,ER61,IF($L$8=$BI$16,BI61,IF($L$8=$AQ$16,AQ61,IF($L$8=$V$16,V61,IF($L$8=ET58,EU61,IF($L$8=$EX$16,EX61,IF($L$8=$FA$16,FA61,IF($L$8=$FD$16,FD61,IF($L$8=$FG$16,FG61,IF($L$8=$FJ$16,FJ61,IF($L$8=$FM$16,FM61,IF($L$8=$FS$16,FS61,IF($L$8=$FV$16,FV61,IF($L$8=$FY$16,FY61))))))))))))))))))))))))))))))))))))))))))))))))))))) -> 0 | L62: =IF($L$8=$D$132,Z61,IF($L$8=$D$135,AC61,IF($L$8=$D$138,AF61,IF($L$8=$D$141,AI61,IF($L$8=$D$144,AL61,IF($L$8=$D$147,AO61,IF($L$8=$D$153,AU61,IF($L$8=$D$156,AX61,IF($L$8=$D$159,BA61,IF($L$8=$D$162,BD61,IF($L$8=$D$165,BG61,IF($L$8=$D$171,BM61,IF($L$8=$BO$16,BP61,IF($L$8=$BR$16,BS61,IF($L$8=$BU$16,BV61,IF($L$8=$BX$16,BY61,IF($L$8=$CA$16,CB61,IF($L$8=$CD$16,CE61,IF($L$8=$CG$16,CH61,IF($L$8=$CJ$16,CK61,IF($L$8=$CM$16,CN61,IF($L$8=$CP$16,CQ61,IF($L$8=$CS$16,CT61,IF($L$8=$CV$16,CW61,IF($L$8=$CY$16,CZ61,IF($L$8=$DB$16,DC61,IF($L$8=$DE$16,DF61,IF($L$8=$DH$16,DI61,IF($L$8=$DK$16,DL61,IF($L$8=$DN$16,DO61,IF($L$8=$DQ$16,DR61,IF($L$8=$DT$16,DU61,IF($L$8=$DW$16,DX61,IF($L$8=$DZ$16,EA61,IF($L$8=$EC$16,ED61,IF($L$8=$EF$16,EG61,IF($L$8=$EI$16,EJ61,IF($L$8=$EL$16,EM61,IF($L$8=$EO$16,EP61,IF($L$8=$ER$16,ES61,IF($L$8=$BI$16,BJ61,IF($L$8=$AQ$16,AR61,IF($L$8=$V$16,W61,IF($L$8=EU58,EV61,IF($L$8=$EX$16,EY61,IF($L$8=$FA$16,FB61,IF($L$8=$FD$16,FE61,IF($L$8=$FG$16,FH61,IF($L$8=$FJ$16,FK61,IF($L$8=$FM$16,FN61,IF($L$8=$FS$16,FT61,IF($L$8=$FV$16,FW61,IF($L$8=$FY$16,FZ61))))))))))))))))))))))))))))))))))))))))))))))))))))) -> 0 | M62: =CONCATENATE(K62,L62) -> 00 | CG62: 609514-03 | CH62: 1
B63: =IF($D$8=$AG$78,AG115,IF($D$8=$AJ$78,AJ116,IF($D$8=$AM$78,AM115,IF($D$8=$AP$78,AP117)))) -> 0 | C63: =IF($D$8=$AG$78,AH115,IF($D$8=$AJ$78,AK115,IF($D$8=$AM$78,AN115,IF($D$8=$AP$78,AQ117)))) -> 0 | D63: =CONCATENATE(B63,C63) -> 00 | K63: =IF($L$8=$D$132,Y62,IF($L$8=$D$135,AB62,IF($L$8=$D$138,AE62,IF($L$8=$D$141,AH62,IF($L$8=$D$144,AK62,IF($L$8=$D$147,AN62,IF($L$8=$D$153,AT62,IF($L$8=$D$156,AW62,IF($L$8=$D$159,AZ62,IF($L$8=$D$162,BC62,IF($L$8=$D$165,BF62,IF($L$8=$D$171,BL62,IF($L$8=$BO$16,BO62,IF($L$8=$BR$16,BR62,IF($L$8=$BU$16,BU62,IF($L$8=$BX$16,BX62,IF($L$8=$CA$16,CA62,IF($L$8=$CD$16,CD62,IF($L$8=$CG$16,CG62,IF($L$8=$CJ$16,CJ62,IF($L$8=$CM$16,CM62,IF($L$8=$CP$16,CP62,IF($L$8=$CS$16,CS62,IF($L$8=$CV$16,CV62,IF($L$8=$CY$16,CY62,IF($L$8=$DB$16,DB62,IF($L$8=$DE$16,DE62,IF($L$8=$DH$16,DH62,IF($L$8=$DK$16,DK62,IF($L$8=$DN$16,DN62,IF($L$8=$DQ$16,DQ62,IF($L$8=$DT$16,DT62,IF($L$8=$DW$16,DW62,IF($L$8=$DZ$16,DZ62,IF($L$8=$EC$16,EC62,IF($L$8=$EF$16,EF62,IF($L$8=$EI$16,EI62,IF($L$8=$EL$16,EL62,IF($L$8=$EO$16,EO62,IF($L$8=$ER$16,ER62,IF($L$8=$BI$16,BI62,IF($L$8=$AQ$16,AQ62,IF($L$8=$V$16,V62,IF($L$8=ET59,EU62,IF($L$8=$EX$16,EX62,IF($L$8=$FA$16,FA62,IF($L$8=$FD$16,FD62,IF($L$8=$FG$16,FG62,IF($L$8=$FJ$16,FJ62,IF($L$8=$FM$16,FM62,IF($L$8=$FS$16,FS62,IF($L$8=$FV$16,FV62,IF($L$8=$FY$16,FY62))))))))))))))))))))))))))))))))))))))))))))))))))))) -> 0 | L63: =IF($L$8=$D$132,Z62,IF($L$8=$D$135,AC62,IF($L$8=$D$138,AF62,IF($L$8=$D$141,AI62,IF($L$8=$D$144,AL62,IF($L$8=$D$147,AO62,IF($L$8=$D$153,AU62,IF($L$8=$D$156,AX62,IF($L$8=$D$159,BA62,IF($L$8=$D$162,BD62,IF($L$8=$D$165,BG62,IF($L$8=$D$171,BM62,IF($L$8=$BO$16,BP62,IF($L$8=$BR$16,BS62,IF($L$8=$BU$16,BV62,IF($L$8=$BX$16,BY62,IF($L$8=$CA$16,CB62,IF($L$8=$CD$16,CE62,IF($L$8=$CG$16,CH62,IF($L$8=$CJ$16,CK62,IF($L$8=$CM$16,CN62,IF($L$8=$CP$16,CQ62,IF($L$8=$CS$16,CT62,IF($L$8=$CV$16,CW62,IF($L$8=$CY$16,CZ62,IF($L$8=$DB$16,DC62,IF($L$8=$DE$16,DF62,IF($L$8=$DH$16,DI62,IF($L$8=$DK$16,DL62,IF($L$8=$DN$16,DO62,IF($L$8=$DQ$16,DR62,IF($L$8=$DT$16,DU62,IF($L$8=$DW$16,DX62,IF($L$8=$DZ$16,EA62,IF($L$8=$EC$16,ED62,IF($L$8=$EF$16,EG62,IF($L$8=$EI$16,EJ62,IF($L$8=$EL$16,EM62,IF($L$8=$EO$16,EP62,IF($L$8=$ER$16,ES62,IF($L$8=$BI$16,BJ62,IF($L$8=$AQ$16,AR62,IF($L$8=$V$16,W62,IF($L$8=EU59,EV62,IF($L$8=$EX$16,EY62,IF($L$8=$FA$16,FB62,IF($L$8=$FD$16,FE62,IF($L$8=$FG$16,FH62,IF($L$8=$FJ$16,FK62,IF($L$8=$FM$16,FN62,IF($L$8=$FS$16,FT62,IF($L$8=$FV$16,FW62,IF($L$8=$FY$16,FZ62))))))))))))))))))))))))))))))))))))))))))))))))))))) -> 0 | M63: =CONCATENATE(K63,L63) -> 00 | CG63: 609514-04 | CH63: 1
B64: =IF($D$8=$AG$78,AG116,IF($D$8=$AJ$78,AJ117,IF($D$8=$AM$78,AM116,IF($D$8=$AP$78,AP118)))) -> 0 | C64: =IF($D$8=$AG$78,AH116,IF($D$8=$AJ$78,AK116,IF($D$8=$AM$78,AN116,IF($D$8=$AP$78,AQ118)))) -> 0 | D64: =CONCATENATE(B64,C64) -> 00 | K64: =IF($L$8=$D$132,Y63,IF($L$8=$D$135,AB63,IF($L$8=$D$138,AE63,IF($L$8=$D$141,AH63,IF($L$8=$D$144,AK63,IF($L$8=$D$147,AN63,IF($L$8=$D$153,AT63,IF($L$8=$D$156,AW63,IF($L$8=$D$159,AZ63,IF($L$8=$D$162,BC63,IF($L$8=$D$165,BF63,IF($L$8=$D$171,BL63,IF($L$8=$BO$16,BO63,IF($L$8=$BR$16,BR63,IF($L$8=$BU$16,BU63,IF($L$8=$BX$16,BX63,IF($L$8=$CA$16,CA63,IF($L$8=$CD$16,CD63,IF($L$8=$CG$16,CG63,IF($L$8=$CJ$16,CJ63,IF($L$8=$CM$16,CM63,IF($L$8=$CP$16,CP63,IF($L$8=$CS$16,CS63,IF($L$8=$CV$16,CV63,IF($L$8=$CY$16,CY63,IF($L$8=$DB$16,DB63,IF($L$8=$DE$16,DE63,IF($L$8=$DH$16,DH63,IF($L$8=$DK$16,DK63,IF($L$8=$DN$16,DN63,IF($L$8=$DQ$16,DQ63,IF($L$8=$DT$16,DT63,IF($L$8=$DW$16,DW63,IF($L$8=$DZ$16,DZ63,IF($L$8=$EC$16,EC63,IF($L$8=$EF$16,EF63,IF($L$8=$EI$16,EI63,IF($L$8=$EL$16,EL63,IF($L$8=$EO$16,EO63,IF($L$8=$ER$16,ER63,IF($L$8=$BI$16,BI63,IF($L$8=$AQ$16,AQ63,IF($L$8=$V$16,V63,IF($L$8=ET60,EU63,IF($L$8=$EX$16,EX63,IF($L$8=$FA$16,FA63,IF($L$8=$FD$16,FD63,IF($L$8=$FG$16,FG63,IF($L$8=$FJ$16,FJ63,IF($L$8=$FM$16,FM63,IF($L$8=$FS$16,FS63,IF($L$8=$FV$16,FV63,IF($L$8=$FY$16,FY63))))))))))))))))))))))))))))))))))))))))))))))))))))) -> 0 | L64: =IF($L$8=$D$132,Z63,IF($L$8=$D$135,AC63,IF($L$8=$D$138,AF63,IF($L$8=$D$141,AI63,IF($L$8=$D$144,AL63,IF($L$8=$D$147,AO63,IF($L$8=$D$153,AU63,IF($L$8=$D$156,AX63,IF($L$8=$D$159,BA63,IF($L$8=$D$162,BD63,IF($L$8=$D$165,BG63,IF($L$8=$D$171,BM63,IF($L$8=$BO$16,BP63,IF($L$8=$BR$16,BS63,IF($L$8=$BU$16,BV63,IF($L$8=$BX$16,BY63,IF($L$8=$CA$16,CB63,IF($L$8=$CD$16,CE63,IF($L$8=$CG$16,CH63,IF($L$8=$CJ$16,CK63,IF($L$8=$CM$16,CN63,IF($L$8=$CP$16,CQ63,IF($L$8=$CS$16,CT63,IF($L$8=$CV$16,CW63,IF($L$8=$CY$16,CZ63,IF($L$8=$DB$16,DC63,IF($L$8=$DE$16,DF63,IF($L$8=$DH$16,DI63,IF($L$8=$DK$16,DL63,IF($L$8=$DN$16,DO63,IF($L$8=$DQ$16,DR63,IF($L$8=$DT$16,DU63,IF($L$8=$DW$16,DX63,IF($L$8=$DZ$16,EA63,IF($L$8=$EC$16,ED63,IF($L$8=$EF$16,EG63,IF($L$8=$EI$16,EJ63,IF($L$8=$EL$16,EM63,IF($L$8=$EO$16,EP63,IF($L$8=$ER$16,ES63,IF($L$8=$BI$16,BJ63,IF($L$8=$AQ$16,AR63,IF($L$8=$V$16,W63,IF($L$8=EU60,EV63,IF($L$8=$EX$16,EY63,IF($L$8=$FA$16,FB63,IF($L$8=$FD$16,FE63,IF($L$8=$FG$16,FH63,IF($L$8=$FJ$16,FK63,IF($L$8=$FM$16,FN63,IF($L$8=$FS$16,FT63,IF($L$8=$FV$16,FW63,IF($L$8=$FY$16,FZ63))))))))))))))))))))))))))))))))))))))))))))))))))))) -> 0 | M64: =CONCATENATE(K64,L64) -> 00 | CG64: 609514-09 | CH64: 1
B65: =IF($D$8=$AG$78,AG117,IF($D$8=$AJ$78,AJ118,IF($D$8=$AM$78,AM117,IF($D$8=$AP$78,AP119)))) -> 0 | C65: =IF($D$8=$AG$78,AH117,IF($D$8=$AJ$78,AK117,IF($D$8=$AM$78,AN117,IF($D$8=$AP$78,AQ119)))) -> 0 | D65: =CONCATENATE(B65,C65) -> 00 | K65: =IF($L$8=$D$132,Y64,IF($L$8=$D$135,AB64,IF($L$8=$D$138,AE64,IF($L$8=$D$141,AH64,IF($L$8=$D$144,AK64,IF($L$8=$D$147,AN64,IF($L$8=$D$153,AT64,IF($L$8=$D$156,AW64,IF($L$8=$D$159,AZ64,IF($L$8=$D$162,BC64,IF($L$8=$D$165,BF64,IF($L$8=$D$171,BL64,IF($L$8=$BO$16,BO64,IF($L$8=$BR$16,BR64,IF($L$8=$BU$16,BU64,IF($L$8=$BX$16,BX64,IF($L$8=$CA$16,CA64,IF($L$8=$CD$16,CD64,IF($L$8=$CG$16,CG64,IF($L$8=$CJ$16,CJ64,IF($L$8=$CM$16,CM64,IF($L$8=$CP$16,CP64,IF($L$8=$CS$16,CS64,IF($L$8=$CV$16,CV64,IF($L$8=$CY$16,CY64,IF($L$8=$DB$16,DB64,IF($L$8=$DE$16,DE64,IF($L$8=$DH$16,DH64,IF($L$8=$DK$16,DK64,IF($L$8=$DN$16,DN64,IF($L$8=$DQ$16,DQ64,IF($L$8=$DT$16,DT64,IF($L$8=$DW$16,DW64,IF($L$8=$DZ$16,DZ64,IF($L$8=$EC$16,EC64,IF($L$8=$EF$16,EF64,IF($L$8=$EI$16,EI64,IF($L$8=$EL$16,EL64,IF($L$8=$EO$16,EO64,IF($L$8=$ER$16,ER64,IF($L$8=$BI$16,BI64,IF($L$8=$AQ$16,AQ64,IF($L$8=$V$16,V64,IF($L$8=ET61,EU64,IF($L$8=$EX$16,EX64,IF($L$8=$FA$16,FA64,IF($L$8=$FD$16,FD64,IF($L$8=$FG$16,FG64,IF($L$8=$FJ$16,FJ64,IF($L$8=$FM$16,FM64,IF($L$8=$FS$16,FS64,IF($L$8=$FV$16,FV64,IF($L$8=$FY$16,FY64))))))))))))))))))))))))))))))))))))))))))))))))))))) -> 0 | L65: =IF($L$8=$D$132,Z64,IF($L$8=$D$135,AC64,IF($L$8=$D$138,AF64,IF($L$8=$D$141,AI64,IF($L$8=$D$144,AL64,IF($L$8=$D$147,AO64,IF($L$8=$D$153,AU64,IF($L$8=$D$156,AX64,IF($L$8=$D$159,BA64,IF($L$8=$D$162,BD64,IF($L$8=$D$165,BG64,IF($L$8=$D$171,BM64,IF($L$8=$BO$16,BP64,IF($L$8=$BR$16,BS64,IF($L$8=$BU$16,BV64,IF($L$8=$BX$16,BY64,IF($L$8=$CA$16,CB64,IF($L$8=$CD$16,CE64,IF($L$8=$CG$16,CH64,IF($L$8=$CJ$16,CK64,IF($L$8=$CM$16,CN64,IF($L$8=$CP$16,CQ64,IF($L$8=$CS$16,CT64,IF($L$8=$CV$16,CW64,IF($L$8=$CY$16,CZ64,IF($L$8=$DB$16,DC64,IF($L$8=$DE$16,DF64,IF($L$8=$DH$16,DI64,IF($L$8=$DK$16,DL64,IF($L$8=$DN$16,DO64,IF($L$8=$DQ$16,DR64,IF($L$8=$DT$16,DU64,IF($L$8=$DW$16,DX64,IF($L$8=$DZ$16,EA64,IF($L$8=$EC$16,ED64,IF($L$8=$EF$16,EG64,IF($L$8=$EI$16,EJ64,IF($L$8=$EL$16,EM64,IF($L$8=$EO$16,EP64,IF($L$8=$ER$16,ES64,IF($L$8=$BI$16,BJ64,IF($L$8=$AQ$16,AR64,IF($L$8=$V$16,W64,IF($L$8=EU61,EV64,IF($L$8=$EX$16,EY64,IF($L$8=$FA$16,FB64,IF($L$8=$FD$16,FE64,IF($L$8=$FG$16,FH64,IF($L$8=$FJ$16,FK64,IF($L$8=$FM$16,FN64,IF($L$8=$FS$16,FT64,IF($L$8=$FV$16,FW64,IF($L$8=$FY$16,FZ64))))))))))))))))))))))))))))))))))))))))))))))))))))) -> 0 | M65: =CONCATENATE(K65,L65) -> 00 | CG65: 609444-08 | CH65: 1
B66: =IF($D$8=$AG$78,AG118,IF($D$8=$AJ$78,AJ119,IF($D$8=$AM$78,AM118,IF($D$8=$AP$78,AP120)))) -> 0 | C66: =IF($D$8=$AG$78,AH118,IF($D$8=$AJ$78,AK118,IF($D$8=$AM$78,AN118,IF($D$8=$AP$78,AQ120)))) -> 0 | D66: =CONCATENATE(B66,C66) -> 00 | K66: =IF($L$8=$D$132,Y65,IF($L$8=$D$135,AB65,IF($L$8=$D$138,AE65,IF($L$8=$D$141,AH65,IF($L$8=$D$144,AK65,IF($L$8=$D$147,AN65,IF($L$8=$D$153,AT65,IF($L$8=$D$156,AW65,IF($L$8=$D$159,AZ65,IF($L$8=$D$162,BC65,IF($L$8=$D$165,BF65,IF($L$8=$D$171,BL65,IF($L$8=$BO$16,BO65,IF($L$8=$BR$16,BR65,IF($L$8=$BU$16,BU65,IF($L$8=$BX$16,BX65,IF($L$8=$CA$16,CA65,IF($L$8=$CD$16,CD65,IF($L$8=$CG$16,CG65,IF($L$8=$CJ$16,CJ65,IF($L$8=$CM$16,CM65,IF($L$8=$CP$16,CP65,IF($L$8=$CS$16,CS65,IF($L$8=$CV$16,CV65,IF($L$8=$CY$16,CY65,IF($L$8=$DB$16,DB65,IF($L$8=$DE$16,DE65,IF($L$8=$DH$16,DH65,IF($L$8=$DK$16,DK65,IF($L$8=$DN$16,DN65,IF($L$8=$DQ$16,DQ65,IF($L$8=$DT$16,DT65,IF($L$8=$DW$16,DW65,IF($L$8=$DZ$16,DZ65,IF($L$8=$EC$16,EC65,IF($L$8=$EF$16,EF65,IF($L$8=$EI$16,EI65,IF($L$8=$EL$16,EL65,IF($L$8=$EO$16,EO65,IF($L$8=$ER$16,ER65,IF($L$8=$BI$16,BI65,IF($L$8=$AQ$16,AQ65,IF($L$8=$V$16,V65,IF($L$8=ET62,EU65,IF($L$8=$EX$16,EX65,IF($L$8=$FA$16,FA65,IF($L$8=$FD$16,FD65,IF($L$8=$FG$16,FG65,IF($L$8=$FJ$16,FJ65,IF($L$8=$FM$16,FM65,IF($L$8=$FS$16,FS65,IF($L$8=$FV$16,FV65,IF($L$8=$FY$16,FY65))))))))))))))))))))))))))))))))))))))))))))))))))))) -> 0 | L66: =IF($L$8=$D$132,Z65,IF($L$8=$D$135,AC65,IF($L$8=$D$138,AF65,IF($L$8=$D$141,AI65,IF($L$8=$D$144,AL65,IF($L$8=$D$147,AO65,IF($L$8=$D$153,AU65,IF($L$8=$D$156,AX65,IF($L$8=$D$159,BA65,IF($L$8=$D$162,BD65,IF($L$8=$D$165,BG65,IF($L$8=$D$171,BM65,IF($L$8=$BO$16,BP65,IF($L$8=$BR$16,BS65,IF($L$8=$BU$16,BV65,IF($L$8=$BX$16,BY65,IF($L$8=$CA$16,CB65,IF($L$8=$CD$16,CE65,IF($L$8=$CG$16,CH65,IF($L$8=$CJ$16,CK65,IF($L$8=$CM$16,CN65,IF($L$8=$CP$16,CQ65,IF($L$8=$CS$16,CT65,IF($L$8=$CV$16,CW65,IF($L$8=$CY$16,CZ65,IF($L$8=$DB$16,DC65,IF($L$8=$DE$16,DF65,IF($L$8=$DH$16,DI65,IF($L$8=$DK$16,DL65,IF($L$8=$DN$16,DO65,IF($L$8=$DQ$16,DR65,IF($L$8=$DT$16,DU65,IF($L$8=$DW$16,DX65,IF($L$8=$DZ$16,EA65,IF($L$8=$EC$16,ED65,IF($L$8=$EF$16,EG65,IF($L$8=$EI$16,EJ65,IF($L$8=$EL$16,EM65,IF($L$8=$EO$16,EP65,IF($L$8=$ER$16,ES65,IF($L$8=$BI$16,BJ65,IF($L$8=$AQ$16,AR65,IF($L$8=$V$16,W65,IF($L$8=EU62,EV65,IF($L$8=$EX$16,EY65,IF($L$8=$FA$16,FB65,IF($L$8=$FD$16,FE65,IF($L$8=$FG$16,FH65,IF($L$8=$FJ$16,FK65,IF($L$8=$FM$16,FN65,IF($L$8=$FS$16,FT65,IF($L$8=$FV$16,FW65,IF($L$8=$FY$16,FZ65))))))))))))))))))))))))))))))))))))))))))))))))))))) -> 0 | M66: =CONCATENATE(K66,L66) -> 00 | CG66: 609444-09 | CH66: 1
B67: =IF($D$8=$AG$78,AG119,IF($D$8=$AJ$78,AJ120,IF($D$8=$AM$78,AM119,IF($D$8=$AP$78,AP121)))) -> 0 | C67: =IF($D$8=$AG$78,AH119,IF($D$8=$AJ$78,AK119,IF($D$8=$AM$78,AN119,IF($D$8=$AP$78,AQ121)))) -> 0 | D67: =CONCATENATE(B67,C67) -> 00 | K67: =IF($L$8=$D$132,Y66,IF($L$8=$D$135,AB66,IF($L$8=$D$138,AE66,IF($L$8=$D$141,AH66,IF($L$8=$D$144,AK66,IF($L$8=$D$147,AN66,IF($L$8=$D$153,AT66,IF($L$8=$D$156,AW66,IF($L$8=$D$159,AZ66,IF($L$8=$D$162,BC66,IF($L$8=$D$165,BF66,IF($L$8=$D$171,BL66,IF($L$8=$BO$16,BO66,IF($L$8=$BR$16,BR66,IF($L$8=$BU$16,BU66,IF($L$8=$BX$16,BX66,IF($L$8=$CA$16,CA66,IF($L$8=$CD$16,CD66,IF($L$8=$CG$16,CG66,IF($L$8=$CJ$16,CJ66,IF($L$8=$CM$16,CM66,IF($L$8=$CP$16,CP66,IF($L$8=$CS$16,CS66,IF($L$8=$CV$16,CV66,IF($L$8=$CY$16,CY66,IF($L$8=$DB$16,DB66,IF($L$8=$DE$16,DE66,IF($L$8=$DH$16,DH66,IF($L$8=$DK$16,DK66,IF($L$8=$DN$16,DN66,IF($L$8=$DQ$16,DQ66,IF($L$8=$DT$16,DT66,IF($L$8=$DW$16,DW66,IF($L$8=$DZ$16,DZ66,IF($L$8=$EC$16,EC66,IF($L$8=$EF$16,EF66,IF($L$8=$EI$16,EI66,IF($L$8=$EL$16,EL66,IF($L$8=$EO$16,EO66,IF($L$8=$ER$16,ER66,IF($L$8=$BI$16,BI66,IF($L$8=$AQ$16,AQ66,IF($L$8=$V$16,V66,IF($L$8=ET63,EU66,IF($L$8=$EX$16,EX66,IF($L$8=$FA$16,FA66,IF($L$8=$FD$16,FD66,IF($L$8=$FG$16,FG66,IF($L$8=$FJ$16,FJ66,IF($L$8=$FM$16,FM66,IF($L$8=$FS$16,FS66,IF($L$8=$FV$16,FV66,IF($L$8=$FY$16,FY66))))))))))))))))))))))))))))))))))))))))))))))))))))) -> 0 | L67: =IF($L$8=$D$132,Z66,IF($L$8=$D$135,AC66,IF($L$8=$D$138,AF66,IF($L$8=$D$141,AI66,IF($L$8=$D$144,AL66,IF($L$8=$D$147,AO66,IF($L$8=$D$153,AU66,IF($L$8=$D$156,AX66,IF($L$8=$D$159,BA66,IF($L$8=$D$162,BD66,IF($L$8=$D$165,BG66,IF($L$8=$D$171,BM66,IF($L$8=$BO$16,BP66,IF($L$8=$BR$16,BS66,IF($L$8=$BU$16,BV66,IF($L$8=$BX$16,BY66,IF($L$8=$CA$16,CB66,IF($L$8=$CD$16,CE66,IF($L$8=$CG$16,CH66,IF($L$8=$CJ$16,CK66,IF($L$8=$CM$16,CN66,IF($L$8=$CP$16,CQ66,IF($L$8=$CS$16,CT66,IF($L$8=$CV$16,CW66,IF($L$8=$CY$16,CZ66,IF($L$8=$DB$16,DC66,IF($L$8=$DE$16,DF66,IF($L$8=$DH$16,DI66,IF($L$8=$DK$16,DL66,IF($L$8=$DN$16,DO66,IF($L$8=$DQ$16,DR66,IF($L$8=$DT$16,DU66,IF($L$8=$DW$16,DX66,IF($L$8=$DZ$16,EA66,IF($L$8=$EC$16,ED66,IF($L$8=$EF$16,EG66,IF($L$8=$EI$16,EJ66,IF($L$8=$EL$16,EM66,IF($L$8=$EO$16,EP66,IF($L$8=$ER$16,ES66,IF($L$8=$BI$16,BJ66,IF($L$8=$AQ$16,AR66,IF($L$8=$V$16,W66,IF($L$8=EU63,EV66,IF($L$8=$EX$16,EY66,IF($L$8=$FA$16,FB66,IF($L$8=$FD$16,FE66,IF($L$8=$FG$16,FH66,IF($L$8=$FJ$16,FK66,IF($L$8=$FM$16,FN66,IF($L$8=$FS$16,FT66,IF($L$8=$FV$16,FW66,IF($L$8=$FY$16,FZ66))))))))))))))))))))))))))))))))))))))))))))))))))))) -> 0 | M67: =CONCATENATE(K67,L67) -> 00
B68: =IF($D$8=$AG$78,AG120,IF($D$8=$AJ$78,AJ121,IF($D$8=$AM$78,AM120,IF($D$8=$AP$78,AP122)))) -> 0 | C68: =IF($D$8=$AG$78,AH120,IF($D$8=$AJ$78,AK120,IF($D$8=$AM$78,AN120,IF($D$8=$AP$78,AQ122)))) -> 0 | D68: =CONCATENATE(B68,C68) -> 00 | K68: =IF($L$8=$D$132,Y67,IF($L$8=$D$135,AB67,IF($L$8=$D$138,AE67,IF($L$8=$D$141,AH67,IF($L$8=$D$144,AK67,IF($L$8=$D$147,AN67,IF($L$8=$D$153,AT67,IF($L$8=$D$156,AW67,IF($L$8=$D$159,AZ67,IF($L$8=$D$162,BC67,IF($L$8=$D$165,BF67,IF($L$8=$D$171,BL67,IF($L$8=$BO$16,BO67,IF($L$8=$BR$16,BR67,IF($L$8=$BU$16,BU67,IF($L$8=$BX$16,BX67,IF($L$8=$CA$16,CA67,IF($L$8=$CD$16,CD67,IF($L$8=$CG$16,CG67,IF($L$8=$CJ$16,CJ67,IF($L$8=$CM$16,CM67,IF($L$8=$CP$16,CP67,IF($L$8=$CS$16,CS67,IF($L$8=$CV$16,CV67,IF($L$8=$CY$16,CY67,IF($L$8=$DB$16,DB67,IF($L$8=$DE$16,DE67,IF($L$8=$DH$16,DH67,IF($L$8=$DK$16,DK67,IF($L$8=$DN$16,DN67,IF($L$8=$DQ$16,DQ67,IF($L$8=$DT$16,DT67,IF($L$8=$DW$16,DW67,IF($L$8=$DZ$16,DZ67,IF($L$8=$EC$16,EC67,IF($L$8=$EF$16,EF67,IF($L$8=$EI$16,EI67,IF($L$8=$EL$16,EL67,IF($L$8=$EO$16,EO67,IF($L$8=$ER$16,ER67,IF($L$8=$BI$16,BI67,IF($L$8=$AQ$16,AQ67,IF($L$8=$V$16,V67,IF($L$8=ET64,EU67,IF($L$8=$EX$16,EX67,IF($L$8=$FA$16,FA67,IF($L$8=$FD$16,FD67,IF($L$8=$FG$16,FG67,IF($L$8=$FJ$16,FJ67,IF($L$8=$FM$16,FM67,IF($L$8=$FS$16,FS67,IF($L$8=$FV$16,FV67,IF($L$8=$FY$16,FY67))))))))))))))))))))))))))))))))))))))))))))))))))))) -> 0 | L68: =IF($L$8=$D$132,Z67,IF($L$8=$D$135,AC67,IF($L$8=$D$138,AF67,IF($L$8=$D$141,AI67,IF($L$8=$D$144,AL67,IF($L$8=$D$147,AO67,IF($L$8=$D$153,AU67,IF($L$8=$D$156,AX67,IF($L$8=$D$159,BA67,IF($L$8=$D$162,BD67,IF($L$8=$D$165,BG67,IF($L$8=$D$171,BM67,IF($L$8=$BO$16,BP67,IF($L$8=$BR$16,BS67,IF($L$8=$BU$16,BV67,IF($L$8=$BX$16,BY67,IF($L$8=$CA$16,CB67,IF($L$8=$CD$16,CE67,IF($L$8=$CG$16,CH67,IF($L$8=$CJ$16,CK67,IF($L$8=$CM$16,CN67,IF($L$8=$CP$16,CQ67,IF($L$8=$CS$16,CT67,IF($L$8=$CV$16,CW67,IF($L$8=$CY$16,CZ67,IF($L$8=$DB$16,DC67,IF($L$8=$DE$16,DF67,IF($L$8=$DH$16,DI67,IF($L$8=$DK$16,DL67,IF($L$8=$DN$16,DO67,IF($L$8=$DQ$16,DR67,IF($L$8=$DT$16,DU67,IF($L$8=$DW$16,DX67,IF($L$8=$DZ$16,EA67,IF($L$8=$EC$16,ED67,IF($L$8=$EF$16,EG67,IF($L$8=$EI$16,EJ67,IF($L$8=$EL$16,EM67,IF($L$8=$EO$16,EP67,IF($L$8=$ER$16,ES67,IF($L$8=$BI$16,BJ67,IF($L$8=$AQ$16,AR67,IF($L$8=$V$16,W67,IF($L$8=EU64,EV67,IF($L$8=$EX$16,EY67,IF($L$8=$FA$16,FB67,IF($L$8=$FD$16,FE67,IF($L$8=$FG$16,FH67,IF($L$8=$FJ$16,FK67,IF($L$8=$FM$16,FN67,IF($L$8=$FS$16,FT67,IF($L$8=$FV$16,FW67,IF($L$8=$FY$16,FZ67))))))))))))))))))))))))))))))))))))))))))))))))))))) -> 0 | M68: =CONCATENATE(K68,L68) -> 00
B70: Opérations | K70: Opérations
B71: Composant/Opération | C71: Perçage | D71: Diamètre | E71: Lamage | F71: Chanfreinage | G71: Méplat | H71: Rainure | I71: Coupe Biaise | K71: Composant/Opération | L71: Perçage | M71: Diamètre | N71: Lamage | O71: Chanfreinage | P71: Méplat | Q71: Rainure | R71: Coupe Biaise | S71: Mi-bois
B72: Montant articulation | C72: 236 | D72: 16 | F72: Supérieur | G72: 74*154 | K72: =IF('Tableau de comparaison'!$L$8='Liste opérations'!$B$3,'Liste opérations'!B5,IF($L$8='Liste opérations'!$K$3,'Liste opérations'!K5,IF($L$8='Liste opérations'!$T$3,'Liste opérations'!T5,IF($L$8='Liste opérations'!$AC$3,'Liste opérations'!AC5,IF($L$8='Liste opérations'!A56,'Liste opérations'!B58,IF($L$8='Liste opérations'!$K$56,'Liste opérations'!K58,IF($L$8='Liste opérations'!$T$56,'Liste opérations'!T58,IF($L$8='Liste opérations'!$AC$56,'Liste opérations'!AC58,IF($L$8='Liste opérations'!$B$109,'Liste opérations'!B111,IF($L$8='Liste opérations'!$K$109,'Liste opérations'!K111,IF($L$8='Liste opérations'!$T$109,'Liste opérations'!T111,IF($L$8='Liste opérations'!$AC$109,'Liste opérations'!AC111,IF($L$8='Liste opérations'!$B$162,'Liste opérations'!B164,IF($L$8='Liste opérations'!$T$162,'Liste opérations'!T164,IF($L$8='Liste opérations'!$AC$162,'Liste opérations'!AC164,IF($L$8='Liste opérations'!$B$233,'Liste opérations'!B235,IF($L$8='Liste opérations'!$K$232,'Liste opérations'!K234,IF($L$8='Liste opérations'!$T$232,'Liste opérations'!T234,IF($L$8='Liste opérations'!$AC$232,'Liste opérations'!AC234,IF($L$8='Liste opérations'!$B$56,'Liste opérations'!B58,FALSE)))))))))))))))))))) -> FALSE | L72: =IF('Tableau de comparaison'!$L$8='Liste opérations'!$B$3,'Liste opérations'!C5,IF($L$8='Liste opérations'!$K$3,'Liste opérations'!L5,IF($L$8='Liste opérations'!$T$3,'Liste opérations'!U5,IF($L$8='Liste opérations'!$AC$3,'Liste opérations'!AD5,IF($L$8='Liste opérations'!B56,'Liste opérations'!C58,IF($L$8='Liste opérations'!$K$56,'Liste opérations'!L58,IF($L$8='Liste opérations'!$T$56,'Liste opérations'!U58,IF($L$8='Liste opérations'!$AC$56,'Liste opérations'!AD58,IF($L$8='Liste opérations'!$B$109,'Liste opérations'!C111,IF($L$8='Liste opérations'!$K$109,'Liste opérations'!L111,IF($L$8='Liste opérations'!$T$109,'Liste opérations'!U111,IF($L$8='Liste opérations'!$AC$109,'Liste opérations'!AD111,IF($L$8='Liste opérations'!$B$162,'Liste opérations'!C164,IF($L$8='Liste opérations'!$T$162,'Liste opérations'!U164,IF($L$8='Liste opérations'!$AC$162,'Liste opérations'!AD164,IF($L$8='Liste opérations'!$B$233,'Liste opérations'!C235,IF($L$8='Liste opérations'!$K$232,'Liste opérations'!L234,IF($L$8='Liste opérations'!$T$232,'Liste opérations'!U234,IF($L$8='Liste opérations'!$AC$232,'Liste opérations'!AD234,IF($L$8='Liste opérations'!$B$56,'Liste opérations'!C58,FALSE)))))))))))))))))))) -> FALSE | M72: =IF('Tableau de comparaison'!$L$8='Liste opérations'!$B$3,'Liste opérations'!D5,IF($L$8='Liste opérations'!$K$3,'Liste opérations'!M5,IF($L$8='Liste opérations'!$T$3,'Liste opérations'!V5,IF($L$8='Liste opérations'!$AC$3,'Liste opérations'!AE5,IF($L$8='Liste opérations'!C56,'Liste opérations'!D58,IF($L$8='Liste opérations'!$K$56,'Liste opérations'!M58,IF($L$8='Liste opérations'!$T$56,'Liste opérations'!V58,IF($L$8='Liste opérations'!$AC$56,'Liste opérations'!AE58,IF($L$8='Liste opérations'!$B$109,'Liste opérations'!D111,IF($L$8='Liste opérations'!$K$109,'Liste opérations'!M111,IF($L$8='Liste opérations'!$T$109,'Liste opérations'!V111,IF($L$8='Liste opérations'!$AC$109,'Liste opérations'!AE111,IF($L$8='Liste opérations'!$B$162,'Liste opérations'!D164,IF($L$8='Liste opérations'!$T$162,'Liste opérations'!V164,IF($L$8='Liste opérations'!$AC$162,'Liste opérations'!AE164,IF($L$8='Liste opérations'!$B$233,'Liste opérations'!D235,IF($L$8='Liste opérations'!$K$232,'Liste opérations'!M234,IF($L$8='Liste opérations'!$T$232,'Liste opérations'!V234,IF($L$8='Liste opérations'!$AC$232,'Liste opérations'!AE234,IF($L$8='Liste opérations'!$B$56,'Liste opérations'!D58,FALSE)))))))))))))))))))) -> FALSE | N72: =IF('Tableau de comparaison'!$L$8='Liste opérations'!$B$3,'Liste opérations'!E5,IF($L$8='Liste opérations'!$K$3,'Liste opérations'!N5,IF($L$8='Liste opérations'!$T$3,'Liste opérations'!W5,IF($L$8='Liste opérations'!$AC$3,'Liste opérations'!AF5,IF($L$8='Liste opérations'!D56,'Liste opérations'!E58,IF($L$8='Liste opérations'!$K$56,'Liste opérations'!N58,IF($L$8='Liste opérations'!$T$56,'Liste opérations'!W58,IF($L$8='Liste opérations'!$AC$56,'Liste opérations'!AF58,IF($L$8='Liste opérations'!$B$109,'Liste opérations'!E111,IF($L$8='Liste opérations'!$K$109,'Liste opérations'!N111,IF($L$8='Liste opérations'!$T$109,'Liste opérations'!W111,IF($L$8='Liste opérations'!$AC$109,'Liste opérations'!AF111,IF($L$8='Liste opérations'!$B$162,'Liste opérations'!E164,IF($L$8='Liste opérations'!$T$162,'Liste opérations'!W164,IF($L$8='Liste opérations'!$AC$162,'Liste opérations'!AF164,IF($L$8='Liste opérations'!$B$233,'Liste opérations'!E235,IF($L$8='Liste opérations'!$K$232,'Liste opérations'!N234,IF($L$8='Liste opérations'!$T$232,'Liste opérations'!W234,IF($L$8='Liste opérations'!$AC$232,'Liste opérations'!AF234,IF($L$8='Liste opérations'!$B$56,'Liste opérations'!E58,FALSE)))))))))))))))))))) -> FALSE | O72: =IF('Tableau de comparaison'!$L$8='Liste opérations'!$B$3,'Liste opérations'!F5,IF($L$8='Liste opérations'!$K$3,'Liste opérations'!O5,IF($L$8='Liste opérations'!$T$3,'Liste opérations'!X5,IF($L$8='Liste opérations'!$AC$3,'Liste opérations'!AG5,IF($L$8='Liste opérations'!E56,'Liste opérations'!F58,IF($L$8='Liste opérations'!$K$56,'Liste opérations'!O58,IF($L$8='Liste opérations'!$T$56,'Liste opérations'!X58,IF($L$8='Liste opérations'!$AC$56,'Liste opérations'!AG58,IF($L$8='Liste opérations'!$B$109,'Liste opérations'!F111,IF($L$8='Liste opérations'!$K$109,'Liste opérations'!O111,IF($L$8='Liste opérations'!$T$109,'Liste opérations'!X111,IF($L$8='Liste opérations'!$AC$109,'Liste opérations'!AG111,IF($L$8='Liste opérations'!$B$162,'Liste opérations'!F164,IF($L$8='Liste opérations'!$T$162,'Liste opérations'!X164,IF($L$8='Liste opérations'!$AC$162,'Liste opérations'!AG164,IF($L$8='Liste opérations'!$B$233,'Liste opérations'!F235,IF($L$8='Liste opérations'!$K$232,'Liste opérations'!O234,IF($L$8='Liste opérations'!$T$232,'Liste opérations'!X234,IF($L$8='Liste opérations'!$AC$232,'Liste opérations'!AG234,IF($L$8='Liste opérations'!$B$56,'Liste opérations'!F58,FALSE)))))))))))))))))))) -> FALSE | P72: =IF('Tableau de comparaison'!$L$8='Liste opérations'!$B$3,'Liste opérations'!G5,IF($L$8='Liste opérations'!$K$3,'Liste opérations'!P5,IF($L$8='Liste opérations'!$T$3,'Liste opérations'!Y5,IF($L$8='Liste opérations'!$AC$3,'Liste opérations'!AH5,IF($L$8='Liste opérations'!F56,'Liste opérations'!G58,IF($L$8='Liste opérations'!$K$56,'Liste opérations'!P58,IF($L$8='Liste opérations'!$T$56,'Liste opérations'!Y58,IF($L$8='Liste opérations'!$AC$56,'Liste opérations'!AH58,IF($L$8='Liste opérations'!$B$109,'Liste opérations'!G111,IF($L$8='Liste opérations'!$K$109,'Liste opérations'!P111,IF($L$8='Liste opérations'!$T$109,'Liste opérations'!Y111,IF($L$8='Liste opérations'!$AC$109,'Liste opérations'!AH111,IF($L$8='Liste opérations'!$B$162,'Liste opérations'!G164,IF($L$8='Liste opérations'!$T$162,'Liste opérations'!Y164,IF($L$8='Liste opérations'!$AC$162,'Liste opérations'!AH164,IF($L$8='Liste opérations'!$B$233,'Liste opérations'!G235,IF($L$8='Liste opérations'!$K$232,'Liste opérations'!P234,IF($L$8='Liste opérations'!$T$232,'Liste opérations'!Y234,IF($L$8='Liste opérations'!$AC$232,'Liste opérations'!AH234,IF($L$8='Liste opérations'!$B$56,'Liste opérations'!G58,FALSE)))))))))))))))))))) -> FALSE | Q72: =IF('Tableau de comparaison'!$L$8='Liste opérations'!$B$3,'Liste opérations'!H5,IF($L$8='Liste opérations'!$K$3,'Liste opérations'!Q5,IF($L$8='Liste opérations'!$T$3,'Liste opérations'!Z5,IF($L$8='Liste opérations'!$AC$3,'Liste opérations'!AI5,IF($L$8='Liste opérations'!G56,'Liste opérations'!H58,IF($L$8='Liste opérations'!$K$56,'Liste opérations'!Q58,IF($L$8='Liste opérations'!$T$56,'Liste opérations'!Z58,IF($L$8='Liste opérations'!$AC$56,'Liste opérations'!AI58,IF($L$8='Liste opérations'!$B$109,'Liste opérations'!H111,IF($L$8='Liste opérations'!$K$109,'Liste opérations'!Q111,IF($L$8='Liste opérations'!$T$109,'Liste opérations'!Z111,IF($L$8='Liste opérations'!$AC$109,'Liste opérations'!AI111,IF($L$8='Liste opérations'!$B$162,'Liste opérations'!H164,IF($L$8='Liste opérations'!$T$162,'Liste opérations'!Z164,IF($L$8='Liste opérations'!$AC$162,'Liste opérations'!AI164,IF($L$8='Liste opérations'!$B$233,'Liste opérations'!H235,IF($L$8='Liste opérations'!$K$232,'Liste opérations'!Q234,IF($L$8='Liste opérations'!$T$232,'Liste opérations'!Z234,IF($L$8='Liste opérations'!$AC$232,'Liste opérations'!AI234,IF($L$8='Liste opérations'!$B$56,'Liste opérations'!H58,FALSE)))))))))))))))))))) -> FALSE | R72: =IF('Tableau de comparaison'!$L$8='Liste opérations'!$B$3,'Liste opérations'!I5,IF($L$8='Liste opérations'!$K$3,'Liste opérations'!R5,IF($L$8='Liste opérations'!$T$3,'Liste opérations'!AA5,IF($L$8='Liste opérations'!$AC$3,'Liste opérations'!AJ5,IF($L$8='Liste opérations'!H56,'Liste opérations'!I58,IF($L$8='Liste opérations'!$K$56,'Liste opérations'!R58,IF($L$8='Liste opérations'!$T$56,'Liste opérations'!AA58,IF($L$8='Liste opérations'!$AC$56,'Liste opérations'!AJ58,IF($L$8='Liste opérations'!$B$109,'Liste opérations'!I111,IF($L$8='Liste opérations'!$K$109,'Liste opérations'!R111,IF($L$8='Liste opérations'!$T$109,'Liste opérations'!AA111,IF($L$8='Liste opérations'!$AC$109,'Liste opérations'!AJ111,IF($L$8='Liste opérations'!$B$162,'Liste opérations'!I164,IF($L$8='Liste opérations'!$T$162,'Liste opérations'!AA164,IF($L$8='Liste opérations'!$AC$162,'Liste opérations'!AJ164,IF($L$8='Liste opérations'!$B$233,'Liste opérations'!I235,IF($L$8='Liste opérations'!$K$232,'Liste opérations'!R234,IF($L$8='Liste opérations'!$T$232,'Liste opérations'!AA234,IF($L$8='Liste opérations'!$AC$232,'Liste opérations'!AJ234,IF($L$8='Liste opérations'!$B$56,'Liste opérations'!I58,FALSE)))))))))))))))))))) -> FALSE | S72: =IF('Tableau de comparaison'!$L$8='Liste opérations'!$B$3,'Liste opérations'!J5,IF($L$8='Liste opérations'!$K$3,'Liste opérations'!S5,IF($L$8='Liste opérations'!$T$3,'Liste opérations'!AB5,IF($L$8='Liste opérations'!$AC$3,'Liste opérations'!AK5,IF($L$8='Liste opérations'!I56,'Liste opérations'!J58,IF($L$8='Liste opérations'!$K$56,'Liste opérations'!S58,IF($L$8='Liste opérations'!$T$56,'Liste opérations'!AB58,IF($L$8='Liste opérations'!$AC$56,'Liste opérations'!AK58,IF($L$8='Liste opérations'!$B$109,'Liste opérations'!J111,IF($L$8='Liste opérations'!$K$109,'Liste opérations'!S111,IF($L$8='Liste opérations'!$T$109,'Liste opérations'!AB111,IF($L$8='Liste opérations'!$AC$109,'Liste opérations'!AK111,IF($L$8='Liste opérations'!$B$162,'Liste opérations'!J164,IF($L$8='Liste opérations'!$T$162,'Liste opérations'!AB164,IF($L$8='Liste opérations'!$AC$162,'Liste opérations'!AK164,IF($L$8='Liste opérations'!$B$233,'Liste opérations'!J235,IF($L$8='Liste opérations'!$K$232,'Liste opérations'!S234,IF($L$8='Liste opérations'!$T$232,'Liste opérations'!AB234,IF($L$8='Liste opérations'!$AC$232,'Liste opérations'!AK234,IF($L$8='Liste opérations'!$B$56,'Liste opérations'!J58,FALSE)))))))))))))))))))) -> FALSE
C73: 356 | D73: 16 | F73: 10*10 | L73: =IF('Tableau de comparaison'!$L$8='Liste opérations'!$B$3,'Liste opérations'!C6,IF($L$8='Liste opérations'!$K$3,'Liste opérations'!L6,IF($L$8='Liste opérations'!$T$3,'Liste opérations'!U6,IF($L$8='Liste opérations'!$AC$3,'Liste opérations'!AD6,IF($L$8='Liste opérations'!B57,'Liste opérations'!C59,IF($L$8='Liste opérations'!$K$56,'Liste opérations'!L59,IF($L$8='Liste opérations'!$T$56,'Liste opérations'!U59,IF($L$8='Liste opérations'!$AC$56,'Liste opérations'!AD59,IF($L$8='Liste opérations'!$B$109,'Liste opérations'!C112,IF($L$8='Liste opérations'!$K$109,'Liste opérations'!L112,IF($L$8='Liste opérations'!$T$109,'Liste opérations'!U112,IF($L$8='Liste opérations'!$AC$109,'Liste opérations'!AD112,IF($L$8='Liste opérations'!$B$162,'Liste opérations'!C165,IF($L$8='Liste opérations'!$T$162,'Liste opérations'!U165,IF($L$8='Liste opérations'!$AC$162,'Liste opérations'!AD165,IF($L$8='Liste opérations'!$B$233,'Liste opérations'!C236,IF($L$8='Liste opérations'!$K$232,'Liste opérations'!L235,IF($L$8='Liste opérations'!$T$232,'Liste opérations'!U235,IF($L$8='Liste opérations'!$AC$232,'Liste opérations'!AD235,IF($L$8='Liste opérations'!$B$56,'Liste opérations'!C59,FALSE)))))))))))))))))))) -> FALSE | M73: =IF('Tableau de comparaison'!$L$8='Liste opérations'!$B$3,'Liste opérations'!D6,IF($L$8='Liste opérations'!$K$3,'Liste opérations'!M6,IF($L$8='Liste opérations'!$T$3,'Liste opérations'!V6,IF($L$8='Liste opérations'!$AC$3,'Liste opérations'!AE6,IF($L$8='Liste opérations'!C57,'Liste opérations'!D59,IF($L$8='Liste opérations'!$K$56,'Liste opérations'!M59,IF($L$8='Liste opérations'!$T$56,'Liste opérations'!V59,IF($L$8='Liste opérations'!$AC$56,'Liste opérations'!AE59,IF($L$8='Liste opérations'!$B$109,'Liste opérations'!D112,IF($L$8='Liste opérations'!$K$109,'Liste opérations'!M112,IF($L$8='Liste opérations'!$T$109,'Liste opérations'!V112,IF($L$8='Liste opérations'!$AC$109,'Liste opérations'!AE112,IF($L$8='Liste opérations'!$B$162,'Liste opérations'!D165,IF($L$8='Liste opérations'!$T$162,'Liste opérations'!V165,IF($L$8='Liste opérations'!$AC$162,'Liste opérations'!AE165,IF($L$8='Liste opérations'!$B$233,'Liste opérations'!D236,IF($L$8='Liste opérations'!$K$232,'Liste opérations'!M235,IF($L$8='Liste opérations'!$T$232,'Liste opérations'!V235,IF($L$8='Liste opérations'!$AC$232,'Liste opérations'!AE235,IF($L$8='Liste opérations'!$B$56,'Liste opérations'!D59,FALSE)))))))))))))))))))) -> FALSE | N73: =IF('Tableau de comparaison'!$L$8='Liste opérations'!$B$3,'Liste opérations'!E6,IF($L$8='Liste opérations'!$K$3,'Liste opérations'!N6,IF($L$8='Liste opérations'!$T$3,'Liste opérations'!W6,IF($L$8='Liste opérations'!$AC$3,'Liste opérations'!AF6,IF($L$8='Liste opérations'!D57,'Liste opérations'!E59,IF($L$8='Liste opérations'!$K$56,'Liste opérations'!N59,IF($L$8='Liste opérations'!$T$56,'Liste opérations'!W59,IF($L$8='Liste opérations'!$AC$56,'Liste opérations'!AF59,IF($L$8='Liste opérations'!$B$109,'Liste opérations'!E112,IF($L$8='Liste opérations'!$K$109,'Liste opérations'!N112,IF($L$8='Liste opérations'!$T$109,'Liste opérations'!W112,IF($L$8='Liste opérations'!$AC$109,'Liste opérations'!AF112,IF($L$8='Liste opérations'!$B$162,'Liste opérations'!E165,IF($L$8='Liste opérations'!$T$162,'Liste opérations'!W165,IF($L$8='Liste opérations'!$AC$162,'Liste opérations'!AF165,IF($L$8='Liste opérations'!$B$233,'Liste opérations'!E236,IF($L$8='Liste opérations'!$K$232,'Liste opérations'!N235,IF($L$8='Liste opérations'!$T$232,'Liste opérations'!W235,IF($L$8='Liste opérations'!$AC$232,'Liste opérations'!AF235,IF($L$8='Liste opérations'!$B$56,'Liste opérations'!E59,FALSE)))))))))))))))))))) -> FALSE | O73: =IF('Tableau de comparaison'!$L$8='Liste opérations'!$B$3,'Liste opérations'!F6,IF($L$8='Liste opérations'!$K$3,'Liste opérations'!O6,IF($L$8='Liste opérations'!$T$3,'Liste opérations'!X6,IF($L$8='Liste opérations'!$AC$3,'Liste opérations'!AG6,IF($L$8='Liste opérations'!E57,'Liste opérations'!F59,IF($L$8='Liste opérations'!$K$56,'Liste opérations'!O59,IF($L$8='Liste opérations'!$T$56,'Liste opérations'!X59,IF($L$8='Liste opérations'!$AC$56,'Liste opérations'!AG59,IF($L$8='Liste opérations'!$B$109,'Liste opérations'!F112,IF($L$8='Liste opérations'!$K$109,'Liste opérations'!O112,IF($L$8='Liste opérations'!$T$109,'Liste opérations'!X112,IF($L$8='Liste opérations'!$AC$109,'Liste opérations'!AG112,IF($L$8='Liste opérations'!$B$162,'Liste opérations'!F165,IF($L$8='Liste opérations'!$T$162,'Liste opérations'!X165,IF($L$8='Liste opérations'!$AC$162,'Liste opérations'!AG165,IF($L$8='Liste opérations'!$B$233,'Liste opérations'!F236,IF($L$8='Liste opérations'!$K$232,'Liste opérations'!O235,IF($L$8='Liste opérations'!$T$232,'Liste opérations'!X235,IF($L$8='Liste opérations'!$AC$232,'Liste opérations'!AG235,IF($L$8='Liste opérations'!$B$56,'Liste opérations'!F59,FALSE)))))))))))))))))))) -> FALSE | P73: =IF('Tableau de comparaison'!$L$8='Liste opérations'!$B$3,'Liste opérations'!G6,IF($L$8='Liste opérations'!$K$3,'Liste opérations'!P6,IF($L$8='Liste opérations'!$T$3,'Liste opérations'!Y6,IF($L$8='Liste opérations'!$AC$3,'Liste opérations'!AH6,IF($L$8='Liste opérations'!F57,'Liste opérations'!G59,IF($L$8='Liste opérations'!$K$56,'Liste opérations'!P59,IF($L$8='Liste opérations'!$T$56,'Liste opérations'!Y59,IF($L$8='Liste opérations'!$AC$56,'Liste opérations'!AH59,IF($L$8='Liste opérations'!$B$109,'Liste opérations'!G112,IF($L$8='Liste opérations'!$K$109,'Liste opérations'!P112,IF($L$8='Liste opérations'!$T$109,'Liste opérations'!Y112,IF($L$8='Liste opérations'!$AC$109,'Liste opérations'!AH112,IF($L$8='Liste opérations'!$B$162,'Liste opérations'!G165,IF($L$8='Liste opérations'!$T$162,'Liste opérations'!Y165,IF($L$8='Liste opérations'!$AC$162,'Liste opérations'!AH165,IF($L$8='Liste opérations'!$B$233,'Liste opérations'!G236,IF($L$8='Liste opérations'!$K$232,'Liste opérations'!P235,IF($L$8='Liste opérations'!$T$232,'Liste opérations'!Y235,IF($L$8='Liste opérations'!$AC$232,'Liste opérations'!AH235,IF($L$8='Liste opérations'!$B$56,'Liste opérations'!G59,FALSE)))))))))))))))))))) -> FALSE | Q73: =IF('Tableau de comparaison'!$L$8='Liste opérations'!$B$3,'Liste opérations'!H6,IF($L$8='Liste opérations'!$K$3,'Liste opérations'!Q6,IF($L$8='Liste opérations'!$T$3,'Liste opérations'!Z6,IF($L$8='Liste opérations'!$AC$3,'Liste opérations'!AI6,IF($L$8='Liste opérations'!G57,'Liste opérations'!H59,IF($L$8='Liste opérations'!$K$56,'Liste opérations'!Q59,IF($L$8='Liste opérations'!$T$56,'Liste opérations'!Z59,IF($L$8='Liste opérations'!$AC$56,'Liste opérations'!AI59,IF($L$8='Liste opérations'!$B$109,'Liste opérations'!H112,IF($L$8='Liste opérations'!$K$109,'Liste opérations'!Q112,IF($L$8='Liste opérations'!$T$109,'Liste opérations'!Z112,IF($L$8='Liste opérations'!$AC$109,'Liste opérations'!AI112,IF($L$8='Liste opérations'!$B$162,'Liste opérations'!H165,IF($L$8='Liste opérations'!$T$162,'Liste opérations'!Z165,IF($L$8='Liste opérations'!$AC$162,'Liste opérations'!AI165,IF($L$8='Liste opérations'!$B$233,'Liste opérations'!H236,IF($L$8='Liste opérations'!$K$232,'Liste opérations'!Q235,IF($L$8='Liste opérations'!$T$232,'Liste opérations'!Z235,IF($L$8='Liste opérations'!$AC$232,'Liste opérations'!AI235,IF($L$8='Liste opérations'!$B$56,'Liste opérations'!H59,FALSE)))))))))))))))))))) -> FALSE | R73: =IF('Tableau de comparaison'!$L$8='Liste opérations'!$B$3,'Liste opérations'!I6,IF($L$8='Liste opérations'!$K$3,'Liste opérations'!R6,IF($L$8='Liste opérations'!$T$3,'Liste opérations'!AA6,IF($L$8='Liste opérations'!$AC$3,'Liste opérations'!AJ6,IF($L$8='Liste opérations'!H57,'Liste opérations'!I59,IF($L$8='Liste opérations'!$K$56,'Liste opérations'!R59,IF($L$8='Liste opérations'!$T$56,'Liste opérations'!AA59,IF($L$8='Liste opérations'!$AC$56,'Liste opérations'!AJ59,IF($L$8='Liste opérations'!$B$109,'Liste opérations'!I112,IF($L$8='Liste opérations'!$K$109,'Liste opérations'!R112,IF($L$8='Liste opérations'!$T$109,'Liste opérations'!AA112,IF($L$8='Liste opérations'!$AC$109,'Liste opérations'!AJ112,IF($L$8='Liste opérations'!$B$162,'Liste opérations'!I165,IF($L$8='Liste opérations'!$T$162,'Liste opérations'!AA165,IF($L$8='Liste opérations'!$AC$162,'Liste opérations'!AJ165,IF($L$8='Liste opérations'!$B$233,'Liste opérations'!I236,IF($L$8='Liste opérations'!$K$232,'Liste opérations'!R235,IF($L$8='Liste opérations'!$T$232,'Liste opérations'!AA235,IF($L$8='Liste opérations'!$AC$232,'Liste opérations'!AJ235,IF($L$8='Liste opérations'!$B$56,'Liste opérations'!I59,FALSE)))))))))))))))))))) -> FALSE | S73: =IF('Tableau de comparaison'!$L$8='Liste opérations'!$B$3,'Liste opérations'!J6,IF($L$8='Liste opérations'!$K$3,'Liste opérations'!S6,IF($L$8='Liste opérations'!$T$3,'Liste opérations'!AB6,IF($L$8='Liste opérations'!$AC$3,'Liste opérations'!AK6,IF($L$8='Liste opérations'!I57,'Liste opérations'!J59,IF($L$8='Liste opérations'!$K$56,'Liste opérations'!S59,IF($L$8='Liste opérations'!$T$56,'Liste opérations'!AB59,IF($L$8='Liste opérations'!$AC$56,'Liste opérations'!AK59,IF($L$8='Liste opérations'!$B$109,'Liste opérations'!J112,IF($L$8='Liste opérations'!$K$109,'Liste opérations'!S112,IF($L$8='Liste opérations'!$T$109,'Liste opérations'!AB112,IF($L$8='Liste opérations'!$AC$109,'Liste opérations'!AK112,IF($L$8='Liste opérations'!$B$162,'Liste opérations'!J165,IF($L$8='Liste opérations'!$T$162,'Liste opérations'!AB165,IF($L$8='Liste opérations'!$AC$162,'Liste opérations'!AK165,IF($L$8='Liste opérations'!$B$233,'Liste opérations'!J236,IF($L$8='Liste opérations'!$K$232,'Liste opérations'!S235,IF($L$8='Liste opérations'!$T$232,'Liste opérations'!AB235,IF($L$8='Liste opérations'!$AC$232,'Liste opérations'!AK235,IF($L$8='Liste opérations'!$B$56,'Liste opérations'!J59,FALSE)))))))))))))))))))) -> FALSE
C74: 886 | D74: 16 | L74: =IF('Tableau de comparaison'!$L$8='Liste opérations'!$B$3,'Liste opérations'!C7,IF($L$8='Liste opérations'!$K$3,'Liste opérations'!L7,IF($L$8='Liste opérations'!$T$3,'Liste opérations'!U7,IF($L$8='Liste opérations'!$AC$3,'Liste opérations'!AD7,IF($L$8='Liste opérations'!B58,'Liste opérations'!C60,IF($L$8='Liste opérations'!$K$56,'Liste opérations'!L60,IF($L$8='Liste opérations'!$T$56,'Liste opérations'!U60,IF($L$8='Liste opérations'!$AC$56,'Liste opérations'!AD60,IF($L$8='Liste opérations'!$B$109,'Liste opérations'!C113,IF($L$8='Liste opérations'!$K$109,'Liste opérations'!L113,IF($L$8='Liste opérations'!$T$109,'Liste opérations'!U113,IF($L$8='Liste opérations'!$AC$109,'Liste opérations'!AD113,IF($L$8='Liste opérations'!$B$162,'Liste opérations'!C166,IF($L$8='Liste opérations'!$T$162,'Liste opérations'!U166,IF($L$8='Liste opérations'!$AC$162,'Liste opérations'!AD166,IF($L$8='Liste opérations'!$B$233,'Liste opérations'!C237,IF($L$8='Liste opérations'!$K$232,'Liste opérations'!L236,IF($L$8='Liste opérations'!$T$232,'Liste opérations'!U236,IF($L$8='Liste opérations'!$AC$232,'Liste opérations'!AD236,IF($L$8='Liste opérations'!$B$56,'Liste opérations'!C60,FALSE)))))))))))))))))))) -> FALSE | M74: =IF('Tableau de comparaison'!$L$8='Liste opérations'!$B$3,'Liste opérations'!D7,IF($L$8='Liste opérations'!$K$3,'Liste opérations'!M7,IF($L$8='Liste opérations'!$T$3,'Liste opérations'!V7,IF($L$8='Liste opérations'!$AC$3,'Liste opérations'!AE7,IF($L$8='Liste opérations'!C58,'Liste opérations'!D60,IF($L$8='Liste opérations'!$K$56,'Liste opérations'!M60,IF($L$8='Liste opérations'!$T$56,'Liste opérations'!V60,IF($L$8='Liste opérations'!$AC$56,'Liste opérations'!AE60,IF($L$8='Liste opérations'!$B$109,'Liste opérations'!D113,IF($L$8='Liste opérations'!$K$109,'Liste opérations'!M113,IF($L$8='Liste opérations'!$T$109,'Liste opérations'!V113,IF($L$8='Liste opérations'!$AC$109,'Liste opérations'!AE113,IF($L$8='Liste opérations'!$B$162,'Liste opérations'!D166,IF($L$8='Liste opérations'!$T$162,'Liste opérations'!V166,IF($L$8='Liste opérations'!$AC$162,'Liste opérations'!AE166,IF($L$8='Liste opérations'!$B$233,'Liste opérations'!D237,IF($L$8='Liste opérations'!$K$232,'Liste opérations'!M236,IF($L$8='Liste opérations'!$T$232,'Liste opérations'!V236,IF($L$8='Liste opérations'!$AC$232,'Liste opérations'!AE236,IF($L$8='Liste opérations'!$B$56,'Liste opérations'!D60,FALSE)))))))))))))))))))) -> FALSE | N74: =IF('Tableau de comparaison'!$L$8='Liste opérations'!$B$3,'Liste opérations'!E7,IF($L$8='Liste opérations'!$K$3,'Liste opérations'!N7,IF($L$8='Liste opérations'!$T$3,'Liste opérations'!W7,IF($L$8='Liste opérations'!$AC$3,'Liste opérations'!AF7,IF($L$8='Liste opérations'!D58,'Liste opérations'!E60,IF($L$8='Liste opérations'!$K$56,'Liste opérations'!N60,IF($L$8='Liste opérations'!$T$56,'Liste opérations'!W60,IF($L$8='Liste opérations'!$AC$56,'Liste opérations'!AF60,IF($L$8='Liste opérations'!$B$109,'Liste opérations'!E113,IF($L$8='Liste opérations'!$K$109,'Liste opérations'!N113,IF($L$8='Liste opérations'!$T$109,'Liste opérations'!W113,IF($L$8='Liste opérations'!$AC$109,'Liste opérations'!AF113,IF($L$8='Liste opérations'!$B$162,'Liste opérations'!E166,IF($L$8='Liste opérations'!$T$162,'Liste opérations'!W166,IF($L$8='Liste opérations'!$AC$162,'Liste opérations'!AF166,IF($L$8='Liste opérations'!$B$233,'Liste opérations'!E237,IF($L$8='Liste opérations'!$K$232,'Liste opérations'!N236,IF($L$8='Liste opérations'!$T$232,'Liste opérations'!W236,IF($L$8='Liste opérations'!$AC$232,'Liste opérations'!AF236,IF($L$8='Liste opérations'!$B$56,'Liste opérations'!E60,FALSE)))))))))))))))))))) -> FALSE | O74: =IF('Tableau de comparaison'!$L$8='Liste opérations'!$B$3,'Liste opérations'!F7,IF($L$8='Liste opérations'!$K$3,'Liste opérations'!O7,IF($L$8='Liste opérations'!$T$3,'Liste opérations'!X7,IF($L$8='Liste opérations'!$AC$3,'Liste opérations'!AG7,IF($L$8='Liste opérations'!E58,'Liste opérations'!F60,IF($L$8='Liste opérations'!$K$56,'Liste opérations'!O60,IF($L$8='Liste opérations'!$T$56,'Liste opérations'!X60,IF($L$8='Liste opérations'!$AC$56,'Liste opérations'!AG60,IF($L$8='Liste opérations'!$B$109,'Liste opérations'!F113,IF($L$8='Liste opérations'!$K$109,'Liste opérations'!O113,IF($L$8='Liste opérations'!$T$109,'Liste opérations'!X113,IF($L$8='Liste opérations'!$AC$109,'Liste opérations'!AG113,IF($L$8='Liste opérations'!$B$162,'Liste opérations'!F166,IF($L$8='Liste opérations'!$T$162,'Liste opérations'!X166,IF($L$8='Liste opérations'!$AC$162,'Liste opérations'!AG166,IF($L$8='Liste opérations'!$B$233,'Liste opérations'!F237,IF($L$8='Liste opérations'!$K$232,'Liste opérations'!O236,IF($L$8='Liste opérations'!$T$232,'Liste opérations'!X236,IF($L$8='Liste opérations'!$AC$232,'Liste opérations'!AG236,IF($L$8='Liste opérations'!$B$56,'Liste opérations'!F60,FALSE)))))))))))))))))))) -> FALSE | P74: =IF('Tableau de comparaison'!$L$8='Liste opérations'!$B$3,'Liste opérations'!G7,IF($L$8='Liste opérations'!$K$3,'Liste opérations'!P7,IF($L$8='Liste opérations'!$T$3,'Liste opérations'!Y7,IF($L$8='Liste opérations'!$AC$3,'Liste opérations'!AH7,IF($L$8='Liste opérations'!F58,'Liste opérations'!G60,IF($L$8='Liste opérations'!$K$56,'Liste opérations'!P60,IF($L$8='Liste opérations'!$T$56,'Liste opérations'!Y60,IF($L$8='Liste opérations'!$AC$56,'Liste opérations'!AH60,IF($L$8='Liste opérations'!$B$109,'Liste opérations'!G113,IF($L$8='Liste opérations'!$K$109,'Liste opérations'!P113,IF($L$8='Liste opérations'!$T$109,'Liste opérations'!Y113,IF($L$8='Liste opérations'!$AC$109,'Liste opérations'!AH113,IF($L$8='Liste opérations'!$B$162,'Liste opérations'!G166,IF($L$8='Liste opérations'!$T$162,'Liste opérations'!Y166,IF($L$8='Liste opérations'!$AC$162,'Liste opérations'!AH166,IF($L$8='Liste opérations'!$B$233,'Liste opérations'!G237,IF($L$8='Liste opérations'!$K$232,'Liste opérations'!P236,IF($L$8='Liste opérations'!$T$232,'Liste opérations'!Y236,IF($L$8='Liste opérations'!$AC$232,'Liste opérations'!AH236,IF($L$8='Liste opérations'!$B$56,'Liste opérations'!G60,FALSE)))))))))))))))))))) -> FALSE | Q74: =IF('Tableau de comparaison'!$L$8='Liste opérations'!$B$3,'Liste opérations'!H7,IF($L$8='Liste opérations'!$K$3,'Liste opérations'!Q7,IF($L$8='Liste opérations'!$T$3,'Liste opérations'!Z7,IF($L$8='Liste opérations'!$AC$3,'Liste opérations'!AI7,IF($L$8='Liste opérations'!G58,'Liste opérations'!H60,IF($L$8='Liste opérations'!$K$56,'Liste opérations'!Q60,IF($L$8='Liste opérations'!$T$56,'Liste opérations'!Z60,IF($L$8='Liste opérations'!$AC$56,'Liste opérations'!AI60,IF($L$8='Liste opérations'!$B$109,'Liste opérations'!H113,IF($L$8='Liste opérations'!$K$109,'Liste opérations'!Q113,IF($L$8='Liste opérations'!$T$109,'Liste opérations'!Z113,IF($L$8='Liste opérations'!$AC$109,'Liste opérations'!AI113,IF($L$8='Liste opérations'!$B$162,'Liste opérations'!H166,IF($L$8='Liste opérations'!$T$162,'Liste opérations'!Z166,IF($L$8='Liste opérations'!$AC$162,'Liste opérations'!AI166,IF($L$8='Liste opérations'!$B$233,'Liste opérations'!H237,IF($L$8='Liste opérations'!$K$232,'Liste opérations'!Q236,IF($L$8='Liste opérations'!$T$232,'Liste opérations'!Z236,IF($L$8='Liste opérations'!$AC$232,'Liste opérations'!AI236,IF($L$8='Liste opérations'!$B$56,'Liste opérations'!H60,FALSE)))))))))))))))))))) -> FALSE | R74: =IF('Tableau de comparaison'!$L$8='Liste opérations'!$B$3,'Liste opérations'!I7,IF($L$8='Liste opérations'!$K$3,'Liste opérations'!R7,IF($L$8='Liste opérations'!$T$3,'Liste opérations'!AA7,IF($L$8='Liste opérations'!$AC$3,'Liste opérations'!AJ7,IF($L$8='Liste opérations'!H58,'Liste opérations'!I60,IF($L$8='Liste opérations'!$K$56,'Liste opérations'!R60,IF($L$8='Liste opérations'!$T$56,'Liste opérations'!AA60,IF($L$8='Liste opérations'!$AC$56,'Liste opérations'!AJ60,IF($L$8='Liste opérations'!$B$109,'Liste opérations'!I113,IF($L$8='Liste opérations'!$K$109,'Liste opérations'!R113,IF($L$8='Liste opérations'!$T$109,'Liste opérations'!AA113,IF($L$8='Liste opérations'!$AC$109,'Liste opérations'!AJ113,IF($L$8='Liste opérations'!$B$162,'Liste opérations'!I166,IF($L$8='Liste opérations'!$T$162,'Liste opérations'!AA166,IF($L$8='Liste opérations'!$AC$162,'Liste opérations'!AJ166,IF($L$8='Liste opérations'!$B$233,'Liste opérations'!I237,IF($L$8='Liste opérations'!$K$232,'Liste opérations'!R236,IF($L$8='Liste opérations'!$T$232,'Liste opérations'!AA236,IF($L$8='Liste opérations'!$AC$232,'Liste opérations'!AJ236,IF($L$8='Liste opérations'!$B$56,'Liste opérations'!I60,FALSE)))))))))))))))))))) -> FALSE | S74: =IF('Tableau de comparaison'!$L$8='Liste opérations'!$B$3,'Liste opérations'!J7,IF($L$8='Liste opérations'!$K$3,'Liste opérations'!S7,IF($L$8='Liste opérations'!$T$3,'Liste opérations'!AB7,IF($L$8='Liste opérations'!$AC$3,'Liste opérations'!AK7,IF($L$8='Liste opérations'!I58,'Liste opérations'!J60,IF($L$8='Liste opérations'!$K$56,'Liste opérations'!S60,IF($L$8='Liste opérations'!$T$56,'Liste opérations'!AB60,IF($L$8='Liste opérations'!$AC$56,'Liste opérations'!AK60,IF($L$8='Liste opérations'!$B$109,'Liste opérations'!J113,IF($L$8='Liste opérations'!$K$109,'Liste opérations'!S113,IF($L$8='Liste opérations'!$T$109,'Liste opérations'!AB113,IF($L$8='Liste opérations'!$AC$109,'Liste opérations'!AK113,IF($L$8='Liste opérations'!$B$162,'Liste opérations'!J166,IF($L$8='Liste opérations'!$T$162,'Liste opérations'!AB166,IF($L$8='Liste opérations'!$AC$162,'Liste opérations'!AK166,IF($L$8='Liste opérations'!$B$233,'Liste opérations'!J237,IF($L$8='Liste opérations'!$K$232,'Liste opérations'!S236,IF($L$8='Liste opérations'!$T$232,'Liste opérations'!AB236,IF($L$8='Liste opérations'!$AC$232,'Liste opérations'!AK236,IF($L$8='Liste opérations'!$B$56,'Liste opérations'!J60,FALSE)))))))))))))))))))) -> FALSE
C75: 1006 | D75: 16 | L75: =IF('Tableau de comparaison'!$L$8='Liste opérations'!$B$3,'Liste opérations'!C8,IF($L$8='Liste opérations'!$K$3,'Liste opérations'!L8,IF($L$8='Liste opérations'!$T$3,'Liste opérations'!U8,IF($L$8='Liste opérations'!$AC$3,'Liste opérations'!AD8,IF($L$8='Liste opérations'!B59,'Liste opérations'!C61,IF($L$8='Liste opérations'!$K$56,'Liste opérations'!L61,IF($L$8='Liste opérations'!$T$56,'Liste opérations'!U61,IF($L$8='Liste opérations'!$AC$56,'Liste opérations'!AD61,IF($L$8='Liste opérations'!$B$109,'Liste opérations'!C114,IF($L$8='Liste opérations'!$K$109,'Liste opérations'!L114,IF($L$8='Liste opérations'!$T$109,'Liste opérations'!U114,IF($L$8='Liste opérations'!$AC$109,'Liste opérations'!AD114,IF($L$8='Liste opérations'!$B$162,'Liste opérations'!C167,IF($L$8='Liste opérations'!$T$162,'Liste opérations'!U167,IF($L$8='Liste opérations'!$AC$162,'Liste opérations'!AD167,IF($L$8='Liste opérations'!$B$233,'Liste opérations'!C238,IF($L$8='Liste opérations'!$K$232,'Liste opérations'!L237,IF($L$8='Liste opérations'!$T$232,'Liste opérations'!U237,IF($L$8='Liste opérations'!$AC$232,'Liste opérations'!AD237,IF($L$8='Liste opérations'!$B$56,'Liste opérations'!C61,FALSE)))))))))))))))))))) -> FALSE | M75: =IF('Tableau de comparaison'!$L$8='Liste opérations'!$B$3,'Liste opérations'!D8,IF($L$8='Liste opérations'!$K$3,'Liste opérations'!M8,IF($L$8='Liste opérations'!$T$3,'Liste opérations'!V8,IF($L$8='Liste opérations'!$AC$3,'Liste opérations'!AE8,IF($L$8='Liste opérations'!C59,'Liste opérations'!D61,IF($L$8='Liste opérations'!$K$56,'Liste opérations'!M61,IF($L$8='Liste opérations'!$T$56,'Liste opérations'!V61,IF($L$8='Liste opérations'!$AC$56,'Liste opérations'!AE61,IF($L$8='Liste opérations'!$B$109,'Liste opérations'!D114,IF($L$8='Liste opérations'!$K$109,'Liste opérations'!M114,IF($L$8='Liste opérations'!$T$109,'Liste opérations'!V114,IF($L$8='Liste opérations'!$AC$109,'Liste opérations'!AE114,IF($L$8='Liste opérations'!$B$162,'Liste opérations'!D167,IF($L$8='Liste opérations'!$T$162,'Liste opérations'!V167,IF($L$8='Liste opérations'!$AC$162,'Liste opérations'!AE167,IF($L$8='Liste opérations'!$B$233,'Liste opérations'!D238,IF($L$8='Liste opérations'!$K$232,'Liste opérations'!M237,IF($L$8='Liste opérations'!$T$232,'Liste opérations'!V237,IF($L$8='Liste opérations'!$AC$232,'Liste opérations'!AE237,IF($L$8='Liste opérations'!$B$56,'Liste opérations'!D61,FALSE)))))))))))))))))))) -> FALSE | N75: =IF('Tableau de comparaison'!$L$8='Liste opérations'!$B$3,'Liste opérations'!E8,IF($L$8='Liste opérations'!$K$3,'Liste opérations'!N8,IF($L$8='Liste opérations'!$T$3,'Liste opérations'!W8,IF($L$8='Liste opérations'!$AC$3,'Liste opérations'!AF8,IF($L$8='Liste opérations'!D59,'Liste opérations'!E61,IF($L$8='Liste opérations'!$K$56,'Liste opérations'!N61,IF($L$8='Liste opérations'!$T$56,'Liste opérations'!W61,IF($L$8='Liste opérations'!$AC$56,'Liste opérations'!AF61,IF($L$8='Liste opérations'!$B$109,'Liste opérations'!E114,IF($L$8='Liste opérations'!$K$109,'Liste opérations'!N114,IF($L$8='Liste opérations'!$T$109,'Liste opérations'!W114,IF($L$8='Liste opérations'!$AC$109,'Liste opérations'!AF114,IF($L$8='Liste opérations'!$B$162,'Liste opérations'!E167,IF($L$8='Liste opérations'!$T$162,'Liste opérations'!W167,IF($L$8='Liste opérations'!$AC$162,'Liste opérations'!AF167,IF($L$8='Liste opérations'!$B$233,'Liste opérations'!E238,IF($L$8='Liste opérations'!$K$232,'Liste opérations'!N237,IF($L$8='Liste opérations'!$T$232,'Liste opérations'!W237,IF($L$8='Liste opérations'!$AC$232,'Liste opérations'!AF237,IF($L$8='Liste opérations'!$B$56,'Liste opérations'!E61,FALSE)))))))))))))))))))) -> FALSE | O75: =IF('Tableau de comparaison'!$L$8='Liste opérations'!$B$3,'Liste opérations'!F8,IF($L$8='Liste opérations'!$K$3,'Liste opérations'!O8,IF($L$8='Liste opérations'!$T$3,'Liste opérations'!X8,IF($L$8='Liste opérations'!$AC$3,'Liste opérations'!AG8,IF($L$8='Liste opérations'!E59,'Liste opérations'!F61,IF($L$8='Liste opérations'!$K$56,'Liste opérations'!O61,IF($L$8='Liste opérations'!$T$56,'Liste opérations'!X61,IF($L$8='Liste opérations'!$AC$56,'Liste opérations'!AG61,IF($L$8='Liste opérations'!$B$109,'Liste opérations'!F114,IF($L$8='Liste opérations'!$K$109,'Liste opérations'!O114,IF($L$8='Liste opérations'!$T$109,'Liste opérations'!X114,IF($L$8='Liste opérations'!$AC$109,'Liste opérations'!AG114,IF($L$8='Liste opérations'!$B$162,'Liste opérations'!F167,IF($L$8='Liste opérations'!$T$162,'Liste opérations'!X167,IF($L$8='Liste opérations'!$AC$162,'Liste opérations'!AG167,IF($L$8='Liste opérations'!$B$233,'Liste opérations'!F238,IF($L$8='Liste opérations'!$K$232,'Liste opérations'!O237,IF($L$8='Liste opérations'!$T$232,'Liste opérations'!X237,IF($L$8='Liste opérations'!$AC$232,'Liste opérations'!AG237,IF($L$8='Liste opérations'!$B$56,'Liste opérations'!F61,FALSE)))))))))))))))))))) -> FALSE | P75: =IF('Tableau de comparaison'!$L$8='Liste opérations'!$B$3,'Liste opérations'!G8,IF($L$8='Liste opérations'!$K$3,'Liste opérations'!P8,IF($L$8='Liste opérations'!$T$3,'Liste opérations'!Y8,IF($L$8='Liste opérations'!$AC$3,'Liste opérations'!AH8,IF($L$8='Liste opérations'!F59,'Liste opérations'!G61,IF($L$8='Liste opérations'!$K$56,'Liste opérations'!P61,IF($L$8='Liste opérations'!$T$56,'Liste opérations'!Y61,IF($L$8='Liste opérations'!$AC$56,'Liste opérations'!AH61,IF($L$8='Liste opérations'!$B$109,'Liste opérations'!G114,IF($L$8='Liste opérations'!$K$109,'Liste opérations'!P114,IF($L$8='Liste opérations'!$T$109,'Liste opérations'!Y114,IF($L$8='Liste opérations'!$AC$109,'Liste opérations'!AH114,IF($L$8='Liste opérations'!$B$162,'Liste opérations'!G167,IF($L$8='Liste opérations'!$T$162,'Liste opérations'!Y167,IF($L$8='Liste opérations'!$AC$162,'Liste opérations'!AH167,IF($L$8='Liste opérations'!$B$233,'Liste opérations'!G238,IF($L$8='Liste opérations'!$K$232,'Liste opérations'!P237,IF($L$8='Liste opérations'!$T$232,'Liste opérations'!Y237,IF($L$8='Liste opérations'!$AC$232,'Liste opérations'!AH237,IF($L$8='Liste opérations'!$B$56,'Liste opérations'!G61,FALSE)))))))))))))))))))) -> FALSE | Q75: =IF('Tableau de comparaison'!$L$8='Liste opérations'!$B$3,'Liste opérations'!H8,IF($L$8='Liste opérations'!$K$3,'Liste opérations'!Q8,IF($L$8='Liste opérations'!$T$3,'Liste opérations'!Z8,IF($L$8='Liste opérations'!$AC$3,'Liste opérations'!AI8,IF($L$8='Liste opérations'!G59,'Liste opérations'!H61,IF($L$8='Liste opérations'!$K$56,'Liste opérations'!Q61,IF($L$8='Liste opérations'!$T$56,'Liste opérations'!Z61,IF($L$8='Liste opérations'!$AC$56,'Liste opérations'!AI61,IF($L$8='Liste opérations'!$B$109,'Liste opérations'!H114,IF($L$8='Liste opérations'!$K$109,'Liste opérations'!Q114,IF($L$8='Liste opérations'!$T$109,'Liste opérations'!Z114,IF($L$8='Liste opérations'!$AC$109,'Liste opérations'!AI114,IF($L$8='Liste opérations'!$B$162,'Liste opérations'!H167,IF($L$8='Liste opérations'!$T$162,'Liste opérations'!Z167,IF($L$8='Liste opérations'!$AC$162,'Liste opérations'!AI167,IF($L$8='Liste opérations'!$B$233,'Liste opérations'!H238,IF($L$8='Liste opérations'!$K$232,'Liste opérations'!Q237,IF($L$8='Liste opérations'!$T$232,'Liste opérations'!Z237,IF($L$8='Liste opérations'!$AC$232,'Liste opérations'!AI237,IF($L$8='Liste opérations'!$B$56,'Liste opérations'!H61,FALSE)))))))))))))))))))) -> FALSE | R75: =IF('Tableau de comparaison'!$L$8='Liste opérations'!$B$3,'Liste opérations'!I8,IF($L$8='Liste opérations'!$K$3,'Liste opérations'!R8,IF($L$8='Liste opérations'!$T$3,'Liste opérations'!AA8,IF($L$8='Liste opérations'!$AC$3,'Liste opérations'!AJ8,IF($L$8='Liste opérations'!H59,'Liste opérations'!I61,IF($L$8='Liste opérations'!$K$56,'Liste opérations'!R61,IF($L$8='Liste opérations'!$T$56,'Liste opérations'!AA61,IF($L$8='Liste opérations'!$AC$56,'Liste opérations'!AJ61,IF($L$8='Liste opérations'!$B$109,'Liste opérations'!I114,IF($L$8='Liste opérations'!$K$109,'Liste opérations'!R114,IF($L$8='Liste opérations'!$T$109,'Liste opérations'!AA114,IF($L$8='Liste opérations'!$AC$109,'Liste opérations'!AJ114,IF($L$8='Liste opérations'!$B$162,'Liste opérations'!I167,IF($L$8='Liste opérations'!$T$162,'Liste opérations'!AA167,IF($L$8='Liste opérations'!$AC$162,'Liste opérations'!AJ167,IF($L$8='Liste opérations'!$B$233,'Liste opérations'!I238,IF($L$8='Liste opérations'!$K$232,'Liste opérations'!R237,IF($L$8='Liste opérations'!$T$232,'Liste opérations'!AA237,IF($L$8='Liste opérations'!$AC$232,'Liste opérations'!AJ237,IF($L$8='Liste opérations'!$B$56,'Liste opérations'!I61,FALSE)))))))))))))))))))) -> FALSE | S75: =IF('Tableau de comparaison'!$L$8='Liste opérations'!$B$3,'Liste opérations'!J8,IF($L$8='Liste opérations'!$K$3,'Liste opérations'!S8,IF($L$8='Liste opérations'!$T$3,'Liste opérations'!AB8,IF($L$8='Liste opérations'!$AC$3,'Liste opérations'!AK8,IF($L$8='Liste opérations'!I59,'Liste opérations'!J61,IF($L$8='Liste opérations'!$K$56,'Liste opérations'!S61,IF($L$8='Liste opérations'!$T$56,'Liste opérations'!AB61,IF($L$8='Liste opérations'!$AC$56,'Liste opérations'!AK61,IF($L$8='Liste opérations'!$B$109,'Liste opérations'!J114,IF($L$8='Liste opérations'!$K$109,'Liste opérations'!S114,IF($L$8='Liste opérations'!$T$109,'Liste opérations'!AB114,IF($L$8='Liste opérations'!$AC$109,'Liste opérations'!AK114,IF($L$8='Liste opérations'!$B$162,'Liste opérations'!J167,IF($L$8='Liste opérations'!$T$162,'Liste opérations'!AB167,IF($L$8='Liste opérations'!$AC$162,'Liste opérations'!AK167,IF($L$8='Liste opérations'!$B$233,'Liste opérations'!J238,IF($L$8='Liste opérations'!$K$232,'Liste opérations'!S237,IF($L$8='Liste opérations'!$T$232,'Liste opérations'!AB237,IF($L$8='Liste opérations'!$AC$232,'Liste opérations'!AK237,IF($L$8='Liste opérations'!$B$56,'Liste opérations'!J61,FALSE)))))))))))))))))))) -> FALSE
L76: =IF('Tableau de comparaison'!$L$8='Liste opérations'!$B$3,'Liste opérations'!C9,IF($L$8='Liste opérations'!$K$3,'Liste opérations'!L9,IF($L$8='Liste opérations'!$T$3,'Liste opérations'!U9,IF($L$8='Liste opérations'!$AC$3,'Liste opérations'!AD9,IF($L$8='Liste opérations'!B60,'Liste opérations'!C62,IF($L$8='Liste opérations'!$K$56,'Liste opérations'!L62,IF($L$8='Liste opérations'!$T$56,'Liste opérations'!U62,IF($L$8='Liste opérations'!$AC$56,'Liste opérations'!AD62,IF($L$8='Liste opérations'!$B$109,'Liste opérations'!C115,IF($L$8='Liste opérations'!$K$109,'Liste opérations'!L115,IF($L$8='Liste opérations'!$T$109,'Liste opérations'!U115,IF($L$8='Liste opérations'!$AC$109,'Liste opérations'!AD115,IF($L$8='Liste opérations'!$B$162,'Liste opérations'!C168,IF($L$8='Liste opérations'!$T$162,'Liste opérations'!U168,IF($L$8='Liste opérations'!$AC$162,'Liste opérations'!AD168,IF($L$8='Liste opérations'!$B$233,'Liste opérations'!C239,IF($L$8='Liste opérations'!$K$232,'Liste opérations'!L238,IF($L$8='Liste opérations'!$T$232,'Liste opérations'!U238,IF($L$8='Liste opérations'!$AC$232,'Liste opérations'!AD238,IF($L$8='Liste opérations'!$B$56,'Liste opérations'!C62,FALSE)))))))))))))))))))) -> FALSE | M76: =IF('Tableau de comparaison'!$L$8='Liste opérations'!$B$3,'Liste opérations'!D9,IF($L$8='Liste opérations'!$K$3,'Liste opérations'!M9,IF($L$8='Liste opérations'!$T$3,'Liste opérations'!V9,IF($L$8='Liste opérations'!$AC$3,'Liste opérations'!AE9,IF($L$8='Liste opérations'!C60,'Liste opérations'!D62,IF($L$8='Liste opérations'!$K$56,'Liste opérations'!M62,IF($L$8='Liste opérations'!$T$56,'Liste opérations'!V62,IF($L$8='Liste opérations'!$AC$56,'Liste opérations'!AE62,IF($L$8='Liste opérations'!$B$109,'Liste opérations'!D115,IF($L$8='Liste opérations'!$K$109,'Liste opérations'!M115,IF($L$8='Liste opérations'!$T$109,'Liste opérations'!V115,IF($L$8='Liste opérations'!$AC$109,'Liste opérations'!AE115,IF($L$8='Liste opérations'!$B$162,'Liste opérations'!D168,IF($L$8='Liste opérations'!$T$162,'Liste opérations'!V168,IF($L$8='Liste opérations'!$AC$162,'Liste opérations'!AE168,IF($L$8='Liste opérations'!$B$233,'Liste opérations'!D239,IF($L$8='Liste opérations'!$K$232,'Liste opérations'!M238,IF($L$8='Liste opérations'!$T$232,'Liste opérations'!V238,IF($L$8='Liste opérations'!$AC$232,'Liste opérations'!AE238,IF($L$8='Liste opérations'!$B$56,'Liste opérations'!D62,FALSE)))))))))))))))))))) -> FALSE | N76: =IF('Tableau de comparaison'!$L$8='Liste opérations'!$B$3,'Liste opérations'!E9,IF($L$8='Liste opérations'!$K$3,'Liste opérations'!N9,IF($L$8='Liste opérations'!$T$3,'Liste opérations'!W9,IF($L$8='Liste opérations'!$AC$3,'Liste opérations'!AF9,IF($L$8='Liste opérations'!D60,'Liste opérations'!E62,IF($L$8='Liste opérations'!$K$56,'Liste opérations'!N62,IF($L$8='Liste opérations'!$T$56,'Liste opérations'!W62,IF($L$8='Liste opérations'!$AC$56,'Liste opérations'!AF62,IF($L$8='Liste opérations'!$B$109,'Liste opérations'!E115,IF($L$8='Liste opérations'!$K$109,'Liste opérations'!N115,IF($L$8='Liste opérations'!$T$109,'Liste opérations'!W115,IF($L$8='Liste opérations'!$AC$109,'Liste opérations'!AF115,IF($L$8='Liste opérations'!$B$162,'Liste opérations'!E168,IF($L$8='Liste opérations'!$T$162,'Liste opérations'!W168,IF($L$8='Liste opérations'!$AC$162,'Liste opérations'!AF168,IF($L$8='Liste opérations'!$B$233,'Liste opérations'!E239,IF($L$8='Liste opérations'!$K$232,'Liste opérations'!N238,IF($L$8='Liste opérations'!$T$232,'Liste opérations'!W238,IF($L$8='Liste opérations'!$AC$232,'Liste opérations'!AF238,IF($L$8='Liste opérations'!$B$56,'Liste opérations'!E62,FALSE)))))))))))))))))))) -> FALSE | O76: =IF('Tableau de comparaison'!$L$8='Liste opérations'!$B$3,'Liste opérations'!F9,IF($L$8='Liste opérations'!$K$3,'Liste opérations'!O9,IF($L$8='Liste opérations'!$T$3,'Liste opérations'!X9,IF($L$8='Liste opérations'!$AC$3,'Liste opérations'!AG9,IF($L$8='Liste opérations'!E60,'Liste opérations'!F62,IF($L$8='Liste opérations'!$K$56,'Liste opérations'!O62,IF($L$8='Liste opérations'!$T$56,'Liste opérations'!X62,IF($L$8='Liste opérations'!$AC$56,'Liste opérations'!AG62,IF($L$8='Liste opérations'!$B$109,'Liste opérations'!F115,IF($L$8='Liste opérations'!$K$109,'Liste opérations'!O115,IF($L$8='Liste opérations'!$T$109,'Liste opérations'!X115,IF($L$8='Liste opérations'!$AC$109,'Liste opérations'!AG115,IF($L$8='Liste opérations'!$B$162,'Liste opérations'!F168,IF($L$8='Liste opérations'!$T$162,'Liste opérations'!X168,IF($L$8='Liste opérations'!$AC$162,'Liste opérations'!AG168,IF($L$8='Liste opérations'!$B$233,'Liste opérations'!F239,IF($L$8='Liste opérations'!$K$232,'Liste opérations'!O238,IF($L$8='Liste opérations'!$T$232,'Liste opérations'!X238,IF($L$8='Liste opérations'!$AC$232,'Liste opérations'!AG238,IF($L$8='Liste opérations'!$B$56,'Liste opérations'!F62,FALSE)))))))))))))))))))) -> FALSE | P76: =IF('Tableau de comparaison'!$L$8='Liste opérations'!$B$3,'Liste opérations'!G9,IF($L$8='Liste opérations'!$K$3,'Liste opérations'!P9,IF($L$8='Liste opérations'!$T$3,'Liste opérations'!Y9,IF($L$8='Liste opérations'!$AC$3,'Liste opérations'!AH9,IF($L$8='Liste opérations'!F60,'Liste opérations'!G62,IF($L$8='Liste opérations'!$K$56,'Liste opérations'!P62,IF($L$8='Liste opérations'!$T$56,'Liste opérations'!Y62,IF($L$8='Liste opérations'!$AC$56,'Liste opérations'!AH62,IF($L$8='Liste opérations'!$B$109,'Liste opérations'!G115,IF($L$8='Liste opérations'!$K$109,'Liste opérations'!P115,IF($L$8='Liste opérations'!$T$109,'Liste opérations'!Y115,IF($L$8='Liste opérations'!$AC$109,'Liste opérations'!AH115,IF($L$8='Liste opérations'!$B$162,'Liste opérations'!G168,IF($L$8='Liste opérations'!$T$162,'Liste opérations'!Y168,IF($L$8='Liste opérations'!$AC$162,'Liste opérations'!AH168,IF($L$8='Liste opérations'!$B$233,'Liste opérations'!G239,IF($L$8='Liste opérations'!$K$232,'Liste opérations'!P238,IF($L$8='Liste opérations'!$T$232,'Liste opérations'!Y238,IF($L$8='Liste opérations'!$AC$232,'Liste opérations'!AH238,IF($L$8='Liste opérations'!$B$56,'Liste opérations'!G62,FALSE)))))))))))))))))))) -> FALSE | Q76: =IF('Tableau de comparaison'!$L$8='Liste opérations'!$B$3,'Liste opérations'!H9,IF($L$8='Liste opérations'!$K$3,'Liste opérations'!Q9,IF($L$8='Liste opérations'!$T$3,'Liste opérations'!Z9,IF($L$8='Liste opérations'!$AC$3,'Liste opérations'!AI9,IF($L$8='Liste opérations'!G60,'Liste opérations'!H62,IF($L$8='Liste opérations'!$K$56,'Liste opérations'!Q62,IF($L$8='Liste opérations'!$T$56,'Liste opérations'!Z62,IF($L$8='Liste opérations'!$AC$56,'Liste opérations'!AI62,IF($L$8='Liste opérations'!$B$109,'Liste opérations'!H115,IF($L$8='Liste opérations'!$K$109,'Liste opérations'!Q115,IF($L$8='Liste opérations'!$T$109,'Liste opérations'!Z115,IF($L$8='Liste opérations'!$AC$109,'Liste opérations'!AI115,IF($L$8='Liste opérations'!$B$162,'Liste opérations'!H168,IF($L$8='Liste opérations'!$T$162,'Liste opérations'!Z168,IF($L$8='Liste opérations'!$AC$162,'Liste opérations'!AI168,IF($L$8='Liste opérations'!$B$233,'Liste opérations'!H239,IF($L$8='Liste opérations'!$K$232,'Liste opérations'!Q238,IF($L$8='Liste opérations'!$T$232,'Liste opérations'!Z238,IF($L$8='Liste opérations'!$AC$232,'Liste opérations'!AI238,IF($L$8='Liste opérations'!$B$56,'Liste opérations'!H62,FALSE)))))))))))))))))))) -> FALSE | R76: =IF('Tableau de comparaison'!$L$8='Liste opérations'!$B$3,'Liste opérations'!I9,IF($L$8='Liste opérations'!$K$3,'Liste opérations'!R9,IF($L$8='Liste opérations'!$T$3,'Liste opérations'!AA9,IF($L$8='Liste opérations'!$AC$3,'Liste opérations'!AJ9,IF($L$8='Liste opérations'!H60,'Liste opérations'!I62,IF($L$8='Liste opérations'!$K$56,'Liste opérations'!R62,IF($L$8='Liste opérations'!$T$56,'Liste opérations'!AA62,IF($L$8='Liste opérations'!$AC$56,'Liste opérations'!AJ62,IF($L$8='Liste opérations'!$B$109,'Liste opérations'!I115,IF($L$8='Liste opérations'!$K$109,'Liste opérations'!R115,IF($L$8='Liste opérations'!$T$109,'Liste opérations'!AA115,IF($L$8='Liste opérations'!$AC$109,'Liste opérations'!AJ115,IF($L$8='Liste opérations'!$B$162,'Liste opérations'!I168,IF($L$8='Liste opérations'!$T$162,'Liste opérations'!AA168,IF($L$8='Liste opérations'!$AC$162,'Liste opérations'!AJ168,IF($L$8='Liste opérations'!$B$233,'Liste opérations'!I239,IF($L$8='Liste opérations'!$K$232,'Liste opérations'!R238,IF($L$8='Liste opérations'!$T$232,'Liste opérations'!AA238,IF($L$8='Liste opérations'!$AC$232,'Liste opérations'!AJ238,IF($L$8='Liste opérations'!$B$56,'Liste opérations'!I62,FALSE)))))))))))))))))))) -> FALSE | S76: =IF('Tableau de comparaison'!$L$8='Liste opérations'!$B$3,'Liste opérations'!J9,IF($L$8='Liste opérations'!$K$3,'Liste opérations'!S9,IF($L$8='Liste opérations'!$T$3,'Liste opérations'!AB9,IF($L$8='Liste opérations'!$AC$3,'Liste opérations'!AK9,IF($L$8='Liste opérations'!I60,'Liste opérations'!J62,IF($L$8='Liste opérations'!$K$56,'Liste opérations'!S62,IF($L$8='Liste opérations'!$T$56,'Liste opérations'!AB62,IF($L$8='Liste opérations'!$AC$56,'Liste opérations'!AK62,IF($L$8='Liste opérations'!$B$109,'Liste opérations'!J115,IF($L$8='Liste opérations'!$K$109,'Liste opérations'!S115,IF($L$8='Liste opérations'!$T$109,'Liste opérations'!AB115,IF($L$8='Liste opérations'!$AC$109,'Liste opérations'!AK115,IF($L$8='Liste opérations'!$B$162,'Liste opérations'!J168,IF($L$8='Liste opérations'!$T$162,'Liste opérations'!AB168,IF($L$8='Liste opérations'!$AC$162,'Liste opérations'!AK168,IF($L$8='Liste opérations'!$B$233,'Liste opérations'!J239,IF($L$8='Liste opérations'!$K$232,'Liste opérations'!S238,IF($L$8='Liste opérations'!$T$232,'Liste opérations'!AB238,IF($L$8='Liste opérations'!$AC$232,'Liste opérations'!AK238,IF($L$8='Liste opérations'!$B$56,'Liste opérations'!J62,FALSE)))))))))))))))))))) -> FALSE | U76: Simple Rondin 2 postions
L77: =IF('Tableau de comparaison'!$L$8='Liste opérations'!$B$3,'Liste opérations'!C10,IF($L$8='Liste opérations'!$K$3,'Liste opérations'!L10,IF($L$8='Liste opérations'!$T$3,'Liste opérations'!U10,IF($L$8='Liste opérations'!$AC$3,'Liste opérations'!AD10,IF($L$8='Liste opérations'!B61,'Liste opérations'!C63,IF($L$8='Liste opérations'!$K$56,'Liste opérations'!L63,IF($L$8='Liste opérations'!$T$56,'Liste opérations'!U63,IF($L$8='Liste opérations'!$AC$56,'Liste opérations'!AD63,IF($L$8='Liste opérations'!$B$109,'Liste opérations'!C116,IF($L$8='Liste opérations'!$K$109,'Liste opérations'!L116,IF($L$8='Liste opérations'!$T$109,'Liste opérations'!U116,IF($L$8='Liste opérations'!$AC$109,'Liste opérations'!AD116,IF($L$8='Liste opérations'!$B$162,'Liste opérations'!C169,IF($L$8='Liste opérations'!$T$162,'Liste opérations'!U169,IF($L$8='Liste opérations'!$AC$162,'Liste opérations'!AD169,IF($L$8='Liste opérations'!$B$233,'Liste opérations'!C240,IF($L$8='Liste opérations'!$K$232,'Liste opérations'!L239,IF($L$8='Liste opérations'!$T$232,'Liste opérations'!U239,IF($L$8='Liste opérations'!$AC$232,'Liste opérations'!AD239,IF($L$8='Liste opérations'!$B$56,'Liste opérations'!C63,FALSE)))))))))))))))))))) -> FALSE | M77: =IF('Tableau de comparaison'!$L$8='Liste opérations'!$B$3,'Liste opérations'!D10,IF($L$8='Liste opérations'!$K$3,'Liste opérations'!M10,IF($L$8='Liste opérations'!$T$3,'Liste opérations'!V10,IF($L$8='Liste opérations'!$AC$3,'Liste opérations'!AE10,IF($L$8='Liste opérations'!C61,'Liste opérations'!D63,IF($L$8='Liste opérations'!$K$56,'Liste opérations'!M63,IF($L$8='Liste opérations'!$T$56,'Liste opérations'!V63,IF($L$8='Liste opérations'!$AC$56,'Liste opérations'!AE63,IF($L$8='Liste opérations'!$B$109,'Liste opérations'!D116,IF($L$8='Liste opérations'!$K$109,'Liste opérations'!M116,IF($L$8='Liste opérations'!$T$109,'Liste opérations'!V116,IF($L$8='Liste opérations'!$AC$109,'Liste opérations'!AE116,IF($L$8='Liste opérations'!$B$162,'Liste opérations'!D169,IF($L$8='Liste opérations'!$T$162,'Liste opérations'!V169,IF($L$8='Liste opérations'!$AC$162,'Liste opérations'!AE169,IF($L$8='Liste opérations'!$B$233,'Liste opérations'!D240,IF($L$8='Liste opérations'!$K$232,'Liste opérations'!M239,IF($L$8='Liste opérations'!$T$232,'Liste opérations'!V239,IF($L$8='Liste opérations'!$AC$232,'Liste opérations'!AE239,IF($L$8='Liste opérations'!$B$56,'Liste opérations'!D63,FALSE)))))))))))))))))))) -> FALSE | N77: =IF('Tableau de comparaison'!$L$8='Liste opérations'!$B$3,'Liste opérations'!E10,IF($L$8='Liste opérations'!$K$3,'Liste opérations'!N10,IF($L$8='Liste opérations'!$T$3,'Liste opérations'!W10,IF($L$8='Liste opérations'!$AC$3,'Liste opérations'!AF10,IF($L$8='Liste opérations'!D61,'Liste opérations'!E63,IF($L$8='Liste opérations'!$K$56,'Liste opérations'!N63,IF($L$8='Liste opérations'!$T$56,'Liste opérations'!W63,IF($L$8='Liste opérations'!$AC$56,'Liste opérations'!AF63,IF($L$8='Liste opérations'!$B$109,'Liste opérations'!E116,IF($L$8='Liste opérations'!$K$109,'Liste opérations'!N116,IF($L$8='Liste opérations'!$T$109,'Liste opérations'!W116,IF($L$8='Liste opérations'!$AC$109,'Liste opérations'!AF116,IF($L$8='Liste opérations'!$B$162,'Liste opérations'!E169,IF($L$8='Liste opérations'!$T$162,'Liste opérations'!W169,IF($L$8='Liste opérations'!$AC$162,'Liste opérations'!AF169,IF($L$8='Liste opérations'!$B$233,'Liste opérations'!E240,IF($L$8='Liste opérations'!$K$232,'Liste opérations'!N239,IF($L$8='Liste opérations'!$T$232,'Liste opérations'!W239,IF($L$8='Liste opérations'!$AC$232,'Liste opérations'!AF239,IF($L$8='Liste opérations'!$B$56,'Liste opérations'!E63,FALSE)))))))))))))))))))) -> FALSE | O77: =IF('Tableau de comparaison'!$L$8='Liste opérations'!$B$3,'Liste opérations'!F10,IF($L$8='Liste opérations'!$K$3,'Liste opérations'!O10,IF($L$8='Liste opérations'!$T$3,'Liste opérations'!X10,IF($L$8='Liste opérations'!$AC$3,'Liste opérations'!AG10,IF($L$8='Liste opérations'!E61,'Liste opérations'!F63,IF($L$8='Liste opérations'!$K$56,'Liste opérations'!O63,IF($L$8='Liste opérations'!$T$56,'Liste opérations'!X63,IF($L$8='Liste opérations'!$AC$56,'Liste opérations'!AG63,IF($L$8='Liste opérations'!$B$109,'Liste opérations'!F116,IF($L$8='Liste opérations'!$K$109,'Liste opérations'!O116,IF($L$8='Liste opérations'!$T$109,'Liste opérations'!X116,IF($L$8='Liste opérations'!$AC$109,'Liste opérations'!AG116,IF($L$8='Liste opérations'!$B$162,'Liste opérations'!F169,IF($L$8='Liste opérations'!$T$162,'Liste opérations'!X169,IF($L$8='Liste opérations'!$AC$162,'Liste opérations'!AG169,IF($L$8='Liste opérations'!$B$233,'Liste opérations'!F240,IF($L$8='Liste opérations'!$K$232,'Liste opérations'!O239,IF($L$8='Liste opérations'!$T$232,'Liste opérations'!X239,IF($L$8='Liste opérations'!$AC$232,'Liste opérations'!AG239,IF($L$8='Liste opérations'!$B$56,'Liste opérations'!F63,FALSE)))))))))))))))))))) -> FALSE | P77: =IF('Tableau de comparaison'!$L$8='Liste opérations'!$B$3,'Liste opérations'!G10,IF($L$8='Liste opérations'!$K$3,'Liste opérations'!P10,IF($L$8='Liste opérations'!$T$3,'Liste opérations'!Y10,IF($L$8='Liste opérations'!$AC$3,'Liste opérations'!AH10,IF($L$8='Liste opérations'!F61,'Liste opérations'!G63,IF($L$8='Liste opérations'!$K$56,'Liste opérations'!P63,IF($L$8='Liste opérations'!$T$56,'Liste opérations'!Y63,IF($L$8='Liste opérations'!$AC$56,'Liste opérations'!AH63,IF($L$8='Liste opérations'!$B$109,'Liste opérations'!G116,IF($L$8='Liste opérations'!$K$109,'Liste opérations'!P116,IF($L$8='Liste opérations'!$T$109,'Liste opérations'!Y116,IF($L$8='Liste opérations'!$AC$109,'Liste opérations'!AH116,IF($L$8='Liste opérations'!$B$162,'Liste opérations'!G169,IF($L$8='Liste opérations'!$T$162,'Liste opérations'!Y169,IF($L$8='Liste opérations'!$AC$162,'Liste opérations'!AH169,IF($L$8='Liste opérations'!$B$233,'Liste opérations'!G240,IF($L$8='Liste opérations'!$K$232,'Liste opérations'!P239,IF($L$8='Liste opérations'!$T$232,'Liste opérations'!Y239,IF($L$8='Liste opérations'!$AC$232,'Liste opérations'!AH239,IF($L$8='Liste opérations'!$B$56,'Liste opérations'!G63,FALSE)))))))))))))))))))) -> FALSE | Q77: =IF('Tableau de comparaison'!$L$8='Liste opérations'!$B$3,'Liste opérations'!H10,IF($L$8='Liste opérations'!$K$3,'Liste opérations'!Q10,IF($L$8='Liste opérations'!$T$3,'Liste opérations'!Z10,IF($L$8='Liste opérations'!$AC$3,'Liste opérations'!AI10,IF($L$8='Liste opérations'!G61,'Liste opérations'!H63,IF($L$8='Liste opérations'!$K$56,'Liste opérations'!Q63,IF($L$8='Liste opérations'!$T$56,'Liste opérations'!Z63,IF($L$8='Liste opérations'!$AC$56,'Liste opérations'!AI63,IF($L$8='Liste opérations'!$B$109,'Liste opérations'!H116,IF($L$8='Liste opérations'!$K$109,'Liste opérations'!Q116,IF($L$8='Liste opérations'!$T$109,'Liste opérations'!Z116,IF($L$8='Liste opérations'!$AC$109,'Liste opérations'!AI116,IF($L$8='Liste opérations'!$B$162,'Liste opérations'!H169,IF($L$8='Liste opérations'!$T$162,'Liste opérations'!Z169,IF($L$8='Liste opérations'!$AC$162,'Liste opérations'!AI169,IF($L$8='Liste opérations'!$B$233,'Liste opérations'!H240,IF($L$8='Liste opérations'!$K$232,'Liste opérations'!Q239,IF($L$8='Liste opérations'!$T$232,'Liste opérations'!Z239,IF($L$8='Liste opérations'!$AC$232,'Liste opérations'!AI239,IF($L$8='Liste opérations'!$B$56,'Liste opérations'!H63,FALSE)))))))))))))))))))) -> FALSE | R77: =IF('Tableau de comparaison'!$L$8='Liste opérations'!$B$3,'Liste opérations'!I10,IF($L$8='Liste opérations'!$K$3,'Liste opérations'!R10,IF($L$8='Liste opérations'!$T$3,'Liste opérations'!AA10,IF($L$8='Liste opérations'!$AC$3,'Liste opérations'!AJ10,IF($L$8='Liste opérations'!H61,'Liste opérations'!I63,IF($L$8='Liste opérations'!$K$56,'Liste opérations'!R63,IF($L$8='Liste opérations'!$T$56,'Liste opérations'!AA63,IF($L$8='Liste opérations'!$AC$56,'Liste opérations'!AJ63,IF($L$8='Liste opérations'!$B$109,'Liste opérations'!I116,IF($L$8='Liste opérations'!$K$109,'Liste opérations'!R116,IF($L$8='Liste opérations'!$T$109,'Liste opérations'!AA116,IF($L$8='Liste opérations'!$AC$109,'Liste opérations'!AJ116,IF($L$8='Liste opérations'!$B$162,'Liste opérations'!I169,IF($L$8='Liste opérations'!$T$162,'Liste opérations'!AA169,IF($L$8='Liste opérations'!$AC$162,'Liste opérations'!AJ169,IF($L$8='Liste opérations'!$B$233,'Liste opérations'!I240,IF($L$8='Liste opérations'!$K$232,'Liste opérations'!R239,IF($L$8='Liste opérations'!$T$232,'Liste opérations'!AA239,IF($L$8='Liste opérations'!$AC$232,'Liste opérations'!AJ239,IF($L$8='Liste opérations'!$B$56,'Liste opérations'!I63,FALSE)))))))))))))))))))) -> FALSE | S77: =IF('Tableau de comparaison'!$L$8='Liste opérations'!$B$3,'Liste opérations'!J10,IF($L$8='Liste opérations'!$K$3,'Liste opérations'!S10,IF($L$8='Liste opérations'!$T$3,'Liste opérations'!AB10,IF($L$8='Liste opérations'!$AC$3,'Liste opérations'!AK10,IF($L$8='Liste opérations'!I61,'Liste opérations'!J63,IF($L$8='Liste opérations'!$K$56,'Liste opérations'!S63,IF($L$8='Liste opérations'!$T$56,'Liste opérations'!AB63,IF($L$8='Liste opérations'!$AC$56,'Liste opérations'!AK63,IF($L$8='Liste opérations'!$B$109,'Liste opérations'!J116,IF($L$8='Liste opérations'!$K$109,'Liste opérations'!S116,IF($L$8='Liste opérations'!$T$109,'Liste opérations'!AB116,IF($L$8='Liste opérations'!$AC$109,'Liste opérations'!AK116,IF($L$8='Liste opérations'!$B$162,'Liste opérations'!J169,IF($L$8='Liste opérations'!$T$162,'Liste opérations'!AB169,IF($L$8='Liste opérations'!$AC$162,'Liste opérations'!AK169,IF($L$8='Liste opérations'!$B$233,'Liste opérations'!J240,IF($L$8='Liste opérations'!$K$232,'Liste opérations'!S239,IF($L$8='Liste opérations'!$T$232,'Liste opérations'!AB239,IF($L$8='Liste opérations'!$AC$232,'Liste opérations'!AK239,IF($L$8='Liste opérations'!$B$56,'Liste opérations'!J63,FALSE)))))))))))))))))))) -> FALSE | V77: Montant articulation | W77: Montant cadenas | X77: montant récepteur | Y77: Barrière | Z77: Montant articulé | AA77: Renfort barrière
