Workbook

Sheet rapport hebdo
C2: Semaine
B4: nom | C4: fonction | D4: Nombre heure normale théorique | E4: lundi | F4: mardi | G4: mercredi | H4: jeudi | I4: vendredi | J4: samedi | K4: dimanche | L4: Total
B5: AA | C5: responsable | D5: 35 | E5: 8 | F5: 8 | G5: 8 | H5: 8 | I5: 8 | J5: 8 | L5: =SUM(E5:K5) -> 48
B6: BB | C6: responsable | D6: 35 | E6: 7 | L6: =SUM(E6:K6) -> 7
B7: CC | C7: inter | D7: 35 | E7: 4 | F7: 4 | G7: 8 | H7: 7 | I7: 7 | J7: 7 | L7: =SUM(E7:K7) -> 37
B8: DD | C8: inter | D8: 35 | E8: 7 | F8: 8 | G8: 6 | H8: 7 | I8: 3 | J8: 7 | L8: =SUM(E8:K8) -> 38
B9: EE | C9: inter | D9: 35 | E9: 7 | F9: 7 | G9: 8 | H9: 7 | I9: 7 | J9: 7 | L9: =SUM(E9:K9) -> 43
B10: FF | C10: inter | D10: 35 | E10: 7 | F10: 0 | G10: 8 | H10: 8 | I10: 8 | J10: 8 | K10: 4 | L10: =SUM(E10:K10) -> 43
L11: =SUM(E11:K11) -> 0
L12: =SUM(E12:K12) -> 0
L13: =SUM(E13:K13) -> 0
L14: =SUM(E14:K14) -> 0
L15: =SUM(E15:K15) -> 0
B16: TOTAL | E16: =SUM(E5:E15) -> 40 | F16: =SUM(F5:F15) -> 27 | G16: =SUM(G5:G15) -> 38 | H16: =SUM(H5:H15) -> 37 | I16: =SUM(I5:I15) -> 33 | J16: =SUM(J5:J15) -> 37 | K16: =SUM(K5:K15) -> 4 | L16: =SUM(L5:L15) -> 216

Sheet Chiffrage
B3: Nom | C3: Fonction | D3: Total semaine | E3: nbre hr théorique | F3: Heures Normale réalisées | G3: Heures sup semaine | H3: Heures sup de 36 à 39 hr | I3: Heures sup de 40 à 43 Hr | J3: Heures sup > 43 hr
B4: ='rapport hebdo'!B5 -> AA | C4: ='rapport hebdo'!C5 -> responsable | D4: ='rapport hebdo'!L5 -> 48 | E4: ='rapport hebdo'!D5 -> 35 | F4: =IF(D4<=35,D4,35) -> 35 | G4: =D4-F4 -> 13 | H4: =IF(G4<=4,G4,4) -> 4
B5: ='rapport hebdo'!B6 -> BB | C5: ='rapport hebdo'!C6 -> responsable | D5: ='rapport hebdo'!L6 -> 7 | E5: ='rapport hebdo'!D6 -> 35 | F5: =IF(D5<=35,D5,35) -> 7 | G5: =D5-F5 -> 0 | H5: =IF(G5<=4,G5,4) -> 0
B6: ='rapport hebdo'!B7 -> CC | C6: ='rapport hebdo'!C7 -> inter | D6: ='rapport hebdo'!L7 -> 37 | E6: ='rapport hebdo'!D7 -> 35 | F6: =IF(D6<=35,D6,35) -> 35 | G6: =D6-F6 -> 2 | H6: =IF(G6<=4,G6,4) -> 2
B7: ='rapport hebdo'!B8 -> DD | C7: ='rapport hebdo'!C8 -> inter | D7: ='rapport hebdo'!L8 -> 38 | E7: ='rapport hebdo'!D8 -> 35 | F7: =IF(D7<=35,D7,35) -> 35 | G7: =D7-F7 -> 3 | H7: =IF(G7<=4,G7,4) -> 3
B8: ='rapport hebdo'!B9 -> EE | C8: ='rapport hebdo'!C9 -> inter | D8: ='rapport hebdo'!L9 -> 43 | E8: ='rapport hebdo'!D9 -> 35 | F8: =IF(D8<=35,D8,35) -> 35 | G8: =D8-F8 -> 8 | H8: =IF(G8<=4,G8,4) -> 4
B9: ='rapport hebdo'!B10 -> FF | C9: ='rapport hebdo'!C10 -> inter | D9: ='rapport hebdo'!L10 -> 43 | E9: ='rapport hebdo'!D10 -> 35 | F9: =IF(D9<=35,D9,35) -> 35 | G9: =D9-F9 -> 8 | H9: =IF(G9<=4,G9,4) -> 4
B10: ='rapport hebdo'!B11 -> 0 | C10: ='rapport hebdo'!C11 -> 0 | D10: ='rapport hebdo'!L11 -> 0 | E10: ='rapport hebdo'!D11 -> 0 | F10: =IF(D10<=35,D10,35) -> 0 | G10: =D10-F10 -> 0 | H10: =IF(G10<=4,G10,4) -> 0
B11: ='rapport hebdo'!B12 -> 0 | C11: ='rapport hebdo'!C12 -> 0 | D11: ='rapport hebdo'!L12 -> 0 | E11: ='rapport hebdo'!D12 -> 0 | F11: =IF(D11<=35,D11,35) -> 0 | G11: =D11-F11 -> 0 | H11: =IF(G11<=4,G11,4) -> 0
B12: ='rapport hebdo'!B13 -> 0 | C12: ='rapport hebdo'!C13 -> 0 | D12: ='rapport hebdo'!L13 -> 0 | E12: ='rapport hebdo'!D13 -> 0 | F12: =IF(D12<=35,D12,35) -> 0 | G12: =D12-F12 -> 0 | H12: =IF(G12<=4,G12,4) -> 0
B13: ='rapport hebdo'!B14 -> 0 | C13: ='rapport hebdo'!C14 -> 0 | D13: ='rapport hebdo'!L14 -> 0 | E13: ='rapport hebdo'!D14 -> 0 | F13: =IF(D13<=35,D13,35) -> 0 | G13: =D13-F13 -> 0 | H13: =IF(G13<=4,G13,4) -> 0
B14: ='rapport hebdo'!B15 -> 0 | C14: ='rapport hebdo'!C15 -> 0 | D14: ='rapport hebdo'!L15 -> 0 | E14: ='rapport hebdo'!D15 -> 0 | F14: =IF(D14<=35,D14,35) -> 0 | G14: =D14-F14 -> 0 | H14: =IF(G14<=4,G14,4) -> 0
G15: =SUM(G4:G14) -> 34 | H15: =SUM(H4:H14) -> 17 | I15: =SUM(I4:I14) -> 0 | J15: =SUM(J4:J14) -> 0

Sheet Feuil3
