Workbook
Name raisons: DATA!$A$2:$A$13

Sheet DATA
A2: A | B2: A | C2: lundi | D2: mardi | E2: mercredi | F2: jeudi | G2: vendredi | H2: samedi | I2: dimanche | J2: total semaine
A3: AM | C3: =IF('Liste pr.'!$E$8<='Liste pr.'!$D$8,IF('Liste pr.'!$F$8="A",'Liste pr.'!$D$8-'Liste pr.'!$E$8," ")) | D3: =IF('Liste pr.'!$H$8<='Liste pr.'!$G$8,IF('Liste pr.'!$I$8="A",'Liste pr.'!$G$8-'Liste pr.'!$H$8,"")) | E3: =IF('Liste pr.'!$K$8<='Liste pr.'!$J$8,IF('Liste pr.'!$L$8="A",'Liste pr.'!$J$8-'Liste pr.'!$K$8,"")) | F3: =IF('Liste pr.'!$N$8<='Liste pr.'!$M$8,IF('Liste pr.'!$O$8="A",'Liste pr.'!$M$8-'Liste pr.'!$N$8,"")) | G3: =IF('Liste pr.'!$Q$8<='Liste pr.'!$P$8,IF('Liste pr.'!$R$8="A",'Liste pr.'!$P$8-'Liste pr.'!$Q$8,"")) | H3: =IF('Liste pr.'!$T$8<='Liste pr.'!$S$8,IF('Liste pr.'!$U$8="A",'Liste pr.'!$S$8-'Liste pr.'!$T$8,"")) | I3: =IF('Liste pr.'!$W$8<='Liste pr.'!$V$8,IF('Liste pr.'!$X$8="A",'Liste pr.'!$V$8-'Liste pr.'!$W$8,"")) | J3: =SUM(C3:I3) -> 0
A4: ACC | C4: =IF('Liste pr.'!E9<='Liste pr.'!D9,IF('Liste pr.'!F9="a",'Liste pr.'!D9-'Liste pr.'!E9," ")) -> 2 | D4: =IF('Liste pr.'!H9<='Liste pr.'!G9,IF('Liste pr.'!I9="A",'Liste pr.'!G9-'Liste pr.'!H9,"")) | E4: =IF('Liste pr.'!K9<='Liste pr.'!J9,IF('Liste pr.'!L9="A",'Liste pr.'!J9-'Liste pr.'!K9,"")) | F4: =IF('Liste pr.'!N9<='Liste pr.'!M9,IF('Liste pr.'!O9="A",'Liste pr.'!M9-'Liste pr.'!N9,"")) | G4: =IF('Liste pr.'!Q9<='Liste pr.'!P9,IF('Liste pr.'!R9="A",'Liste pr.'!P9-'Liste pr.'!Q9,"")) | H4: =IF('Liste pr.'!T9<='Liste pr.'!S9,IF('Liste pr.'!U9="A",'Liste pr.'!S9-'Liste pr.'!T9,"")) | I4: =IF('Liste pr.'!W9<='Liste pr.'!V9,IF('Liste pr.'!X9="A",'Liste pr.'!V9-'Liste pr.'!W9,"")) | J4: =SUM(C4:I4) -> 2
A5: CS | C5: =IF('Liste pr.'!E10<='Liste pr.'!D10,IF('Liste pr.'!F10="a",'Liste pr.'!D10-'Liste pr.'!E10," ")) | D5: =IF('Liste pr.'!H10<='Liste pr.'!G10,IF('Liste pr.'!I10="A",'Liste pr.'!G10-'Liste pr.'!H10,"")) | E5: =IF('Liste pr.'!K10<='Liste pr.'!J10,IF('Liste pr.'!L10="A",'Liste pr.'!J10-'Liste pr.'!K10,"")) | F5: =IF('Liste pr.'!N10<='Liste pr.'!M10,IF('Liste pr.'!O10="A",'Liste pr.'!M10-'Liste pr.'!N10,"")) | G5: =IF('Liste pr.'!Q10<='Liste pr.'!P10,IF('Liste pr.'!R10="A",'Liste pr.'!P10-'Liste pr.'!Q10,"")) | H5: =IF('Liste pr.'!T10<='Liste pr.'!S10,IF('Liste pr.'!U10="A",'Liste pr.'!S10-'Liste pr.'!T10,"")) | I5: =IF('Liste pr.'!W10<='Liste pr.'!V10,IF('Liste pr.'!X10="A",'Liste pr.'!V10-'Liste pr.'!W10,"")) | J5: =SUM(C5:I5) -> 0
A6: M | C6: =IF('Liste pr.'!E11<='Liste pr.'!D11,IF('Liste pr.'!F11="a",'Liste pr.'!D11-'Liste pr.'!E11," ")) | D6: =IF('Liste pr.'!H11<='Liste pr.'!G11,IF('Liste pr.'!I11="A",'Liste pr.'!G11-'Liste pr.'!H11,"")) | E6: =IF('Liste pr.'!K11<='Liste pr.'!J11,IF('Liste pr.'!L11="A",'Liste pr.'!J11-'Liste pr.'!K11,"")) | F6: =IF('Liste pr.'!N11<='Liste pr.'!M11,IF('Liste pr.'!O11="A",'Liste pr.'!M11-'Liste pr.'!N11,"")) | G6: =IF('Liste pr.'!Q11<='Liste pr.'!P11,IF('Liste pr.'!R11="A",'Liste pr.'!P11-'Liste pr.'!Q11,"")) | H6: =IF('Liste pr.'!T11<='Liste pr.'!S11,IF('Liste pr.'!U11="A",'Liste pr.'!S11-'Liste pr.'!T11,"")) | I6: =IF('Liste pr.'!W11<='Liste pr.'!V11,IF('Liste pr.'!X11="A",'Liste pr.'!V11-'Liste pr.'!W11,"")) | J6: =SUM(C6:I6) -> 0
A7: S | C7: =IF('Liste pr.'!E12<='Liste pr.'!D12,IF('Liste pr.'!F12="a",'Liste pr.'!D12-'Liste pr.'!E12," ")) | D7: =IF('Liste pr.'!H12<='Liste pr.'!G12,IF('Liste pr.'!I12="A",'Liste pr.'!G12-'Liste pr.'!H12,"")) | E7: =IF('Liste pr.'!K12<='Liste pr.'!J12,IF('Liste pr.'!L12="A",'Liste pr.'!J12-'Liste pr.'!K12,"")) | F7: =IF('Liste pr.'!N12<='Liste pr.'!M12,IF('Liste pr.'!O12="A",'Liste pr.'!M12-'Liste pr.'!N12,"")) | G7: =IF('Liste pr.'!Q12<='Liste pr.'!P12,IF('Liste pr.'!R12="A",'Liste pr.'!P12-'Liste pr.'!Q12,"")) | H7: =IF('Liste pr.'!T12<='Liste pr.'!S12,IF('Liste pr.'!U12="A",'Liste pr.'!S12-'Liste pr.'!T12,"")) | I7: =IF('Liste pr.'!W12<='Liste pr.'!V12,IF('Liste pr.'!X12="A",'Liste pr.'!V12-'Liste pr.'!W12,"")) | J7: =SUM(C7:I7) -> 0
A8: TP | C8: =IF('Liste pr.'!E13<='Liste pr.'!D13,IF('Liste pr.'!F13="a",'Liste pr.'!D13-'Liste pr.'!E13," ")) | D8: =IF('Liste pr.'!H13<='Liste pr.'!G13,IF('Liste pr.'!I13="A",'Liste pr.'!G13-'Liste pr.'!H13,"")) | E8: =IF('Liste pr.'!K13<='Liste pr.'!J13,IF('Liste pr.'!L13="A",'Liste pr.'!J13-'Liste pr.'!K13,"")) | F8: =IF('Liste pr.'!N13<='Liste pr.'!M13,IF('Liste pr.'!O13="A",'Liste pr.'!M13-'Liste pr.'!N13,"")) | G8: =IF('Liste pr.'!Q13<='Liste pr.'!P13,IF('Liste pr.'!R13="A",'Liste pr.'!P13-'Liste pr.'!Q13,"")) | H8: =IF('Liste pr.'!T13<='Liste pr.'!S13,IF('Liste pr.'!U13="A",'Liste pr.'!S13-'Liste pr.'!T13,"")) | I8: =IF('Liste pr.'!W13<='Liste pr.'!V13,IF('Liste pr.'!X13="A",'Liste pr.'!V13-'Liste pr.'!W13,"")) | J8: =SUM(C8:I8) -> 0
A9: V | C9: =IF('Liste pr.'!E14<='Liste pr.'!D14,IF('Liste pr.'!F14="a",'Liste pr.'!D14-'Liste pr.'!E14," ")) | D9: =IF('Liste pr.'!H14<='Liste pr.'!G14,IF('Liste pr.'!I14="A",'Liste pr.'!G14-'Liste pr.'!H14,"")) | E9: =IF('Liste pr.'!K14<='Liste pr.'!J14,IF('Liste pr.'!L14="A",'Liste pr.'!J14-'Liste pr.'!K14,"")) | F9: =IF('Liste pr.'!N14<='Liste pr.'!M14,IF('Liste pr.'!O14="A",'Liste pr.'!M14-'Liste pr.'!N14,"")) | G9: =IF('Liste pr.'!Q14<='Liste pr.'!P14,IF('Liste pr.'!R14="A",'Liste pr.'!P14-'Liste pr.'!Q14,"")) | H9: =IF('Liste pr.'!T14<='Liste pr.'!S14,IF('Liste pr.'!U14="A",'Liste pr.'!S14-'Liste pr.'!T14,"")) | I9: =IF('Liste pr.'!W14<='Liste pr.'!V14,IF('Liste pr.'!X14="A",'Liste pr.'!V14-'Liste pr.'!W14,"")) | J9: =SUM(C9:I9) -> 0
A10: F | C10: =IF('Liste pr.'!E15<='Liste pr.'!D15,IF('Liste pr.'!F15="a",'Liste pr.'!D15-'Liste pr.'!E15," ")) | D10: =IF('Liste pr.'!H15<='Liste pr.'!G15,IF('Liste pr.'!I15="A",'Liste pr.'!G15-'Liste pr.'!H15,"")) | E10: =IF('Liste pr.'!K15<='Liste pr.'!J15,IF('Liste pr.'!L15="A",'Liste pr.'!J15-'Liste pr.'!K15,"")) | F10: =IF('Liste pr.'!N15<='Liste pr.'!M15,IF('Liste pr.'!O15="A",'Liste pr.'!M15-'Liste pr.'!N15,"")) | G10: =IF('Liste pr.'!Q15<='Liste pr.'!P15,IF('Liste pr.'!R15="A",'Liste pr.'!P15-'Liste pr.'!Q15,"")) | H10: =IF('Liste pr.'!T15<='Liste pr.'!S15,IF('Liste pr.'!U15="A",'Liste pr.'!S15-'Liste pr.'!T15,"")) | I10: =IF('Liste pr.'!W15<='Liste pr.'!V15,IF('Liste pr.'!X15="A",'Liste pr.'!V15-'Liste pr.'!W15,"")) | J10: =SUM(C10:I10) -> 0
A11: AuM | C11: =IF('Liste pr.'!E16<='Liste pr.'!D16,IF('Liste pr.'!F16="a",'Liste pr.'!D16-'Liste pr.'!E16," ")) | D11: =IF('Liste pr.'!H16<='Liste pr.'!G16,IF('Liste pr.'!I16="A",'Liste pr.'!G16-'Liste pr.'!H16,"")) | E11: =IF('Liste pr.'!K16<='Liste pr.'!J16,IF('Liste pr.'!L16="A",'Liste pr.'!J16-'Liste pr.'!K16,"")) | F11: =IF('Liste pr.'!N16<='Liste pr.'!M16,IF('Liste pr.'!O16="A",'Liste pr.'!M16-'Liste pr.'!N16,"")) | G11: =IF('Liste pr.'!Q16<='Liste pr.'!P16,IF('Liste pr.'!R16="A",'Liste pr.'!P16-'Liste pr.'!Q16,"")) | H11: =IF('Liste pr.'!T16<='Liste pr.'!S16,IF('Liste pr.'!U16="A",'Liste pr.'!S16-'Liste pr.'!T16,"")) | I11: =IF('Liste pr.'!W16<='Liste pr.'!V16,IF('Liste pr.'!X16="A",'Liste pr.'!V16-'Liste pr.'!W16,"")) | J11: =SUM(C11:I11) -> 0
A12: FS | C12: =IF('Liste pr.'!E17<='Liste pr.'!D17,IF('Liste pr.'!F17="a",'Liste pr.'!D17-'Liste pr.'!E17," ")) | D12: =IF('Liste pr.'!H17<='Liste pr.'!G17,IF('Liste pr.'!I17="A",'Liste pr.'!G17-'Liste pr.'!H17,"")) | E12: =IF('Liste pr.'!K17<='Liste pr.'!J17,IF('Liste pr.'!L17="A",'Liste pr.'!J17-'Liste pr.'!K17,"")) | F12: =IF('Liste pr.'!N17<='Liste pr.'!M17,IF('Liste pr.'!O17="A",'Liste pr.'!M17-'Liste pr.'!N17,"")) | G12: =IF('Liste pr.'!Q17<='Liste pr.'!P17,IF('Liste pr.'!R17="A",'Liste pr.'!P17-'Liste pr.'!Q17,"")) | H12: =IF('Liste pr.'!T17<='Liste pr.'!S17,IF('Liste pr.'!U17="A",'Liste pr.'!S17-'Liste pr.'!T17,"")) | I12: =IF('Liste pr.'!W17<='Liste pr.'!V17,IF('Liste pr.'!X17="A",'Liste pr.'!V17-'Liste pr.'!W17,"")) | J12: =SUM(C12:I12) -> 0
C13: =IF('Liste pr.'!E18<='Liste pr.'!D18,IF('Liste pr.'!F18="a",'Liste pr.'!D18-'Liste pr.'!E18," ")) | D13: =IF('Liste pr.'!H18<='Liste pr.'!G18,IF('Liste pr.'!I18="A",'Liste pr.'!G18-'Liste pr.'!H18,"")) | E13: =IF('Liste pr.'!K18<='Liste pr.'!J18,IF('Liste pr.'!L18="A",'Liste pr.'!J18-'Liste pr.'!K18,"")) | F13: =IF('Liste pr.'!N18<='Liste pr.'!M18,IF('Liste pr.'!O18="A",'Liste pr.'!M18-'Liste pr.'!N18,"")) | G13: =IF('Liste pr.'!Q18<='Liste pr.'!P18,IF('Liste pr.'!R18="A",'Liste pr.'!P18-'Liste pr.'!Q18,"")) | H13: =IF('Liste pr.'!T18<='Liste pr.'!S18,IF('Liste pr.'!U18="A",'Liste pr.'!S18-'Liste pr.'!T18,"")) | I13: =IF('Liste pr.'!W18<='Liste pr.'!V18,IF('Liste pr.'!X18="A",'Liste pr.'!V18-'Liste pr.'!W18,"")) | J13: =SUM(C13:I13) -> 0
C14: =IF('Liste pr.'!E19<='Liste pr.'!D19,IF('Liste pr.'!F19="a",'Liste pr.'!D19-'Liste pr.'!E19," ")) | D14: =IF('Liste pr.'!H19<='Liste pr.'!G19,IF('Liste pr.'!I19="A",'Liste pr.'!G19-'Liste pr.'!H19,"")) | E14: =IF('Liste pr.'!K19<='Liste pr.'!J19,IF('Liste pr.'!L19="A",'Liste pr.'!J19-'Liste pr.'!K19,"")) | F14: =IF('Liste pr.'!N19<='Liste pr.'!M19,IF('Liste pr.'!O19="A",'Liste pr.'!M19-'Liste pr.'!N19,"")) | G14: =IF('Liste pr.'!Q19<='Liste pr.'!P19,IF('Liste pr.'!R19="A",'Liste pr.'!P19-'Liste pr.'!Q19,"")) | H14: =IF('Liste pr.'!T19<='Liste pr.'!S19,IF('Liste pr.'!U19="A",'Liste pr.'!S19-'Liste pr.'!T19,"")) | I14: =IF('Liste pr.'!W19<='Liste pr.'!V19,IF('Liste pr.'!X19="A",'Liste pr.'!V19-'Liste pr.'!W19,"")) | J14: =SUM(C14:I14) -> 0
C15: =IF('Liste pr.'!E20<='Liste pr.'!D20,IF('Liste pr.'!F20="a",'Liste pr.'!D20-'Liste pr.'!E20," ")) | D15: =IF('Liste pr.'!H20<='Liste pr.'!G20,IF('Liste pr.'!I20="A",'Liste pr.'!G20-'Liste pr.'!H20,"")) | E15: =IF('Liste pr.'!K20<='Liste pr.'!J20,IF('Liste pr.'!L20="A",'Liste pr.'!J20-'Liste pr.'!K20,"")) | F15: =IF('Liste pr.'!N20<='Liste pr.'!M20,IF('Liste pr.'!O20="A",'Liste pr.'!M20-'Liste pr.'!N20,"")) | G15: =IF('Liste pr.'!Q20<='Liste pr.'!P20,IF('Liste pr.'!R20="A",'Liste pr.'!P20-'Liste pr.'!Q20,"")) | H15: =IF('Liste pr.'!T20<='Liste pr.'!S20,IF('Liste pr.'!U20="A",'Liste pr.'!S20-'Liste pr.'!T20,"")) | I15: =IF('Liste pr.'!W20<='Liste pr.'!V20,IF('Liste pr.'!X20="A",'Liste pr.'!V20-'Liste pr.'!W20,"")) | J15: =SUM(C15:I15) -> 0
C16: =IF('Liste pr.'!E21<='Liste pr.'!D21,IF('Liste pr.'!F21="a",'Liste pr.'!D21-'Liste pr.'!E21," ")) | D16: =IF('Liste pr.'!H21<='Liste pr.'!G21,IF('Liste pr.'!I21="A",'Liste pr.'!G21-'Liste pr.'!H21,"")) | E16: =IF('Liste pr.'!K21<='Liste pr.'!J21,IF('Liste pr.'!L21="A",'Liste pr.'!J21-'Liste pr.'!K21,"")) | F16: =IF('Liste pr.'!N21<='Liste pr.'!M21,IF('Liste pr.'!O21="A",'Liste pr.'!M21-'Liste pr.'!N21,"")) | G16: =IF('Liste pr.'!Q21<='Liste pr.'!P21,IF('Liste pr.'!R21="A",'Liste pr.'!P21-'Liste pr.'!Q21,"")) | H16: =IF('Liste pr.'!T21<='Liste pr.'!S21,IF('Liste pr.'!U21="A",'Liste pr.'!S21-'Liste pr.'!T21,"")) | I16: =IF('Liste pr.'!W21<='Liste pr.'!V21,IF('Liste pr.'!X21="A",'Liste pr.'!V21-'Liste pr.'!W21,"")) | J16: =SUM(C16:I16) -> 0
C17: =IF('Liste pr.'!E22<='Liste pr.'!D22,IF('Liste pr.'!F22="a",'Liste pr.'!D22-'Liste pr.'!E22," ")) | D17: =IF('Liste pr.'!H22<='Liste pr.'!G22,IF('Liste pr.'!I22="A",'Liste pr.'!G22-'Liste pr.'!H22,"")) | E17: =IF('Liste pr.'!K22<='Liste pr.'!J22,IF('Liste pr.'!L22="A",'Liste pr.'!J22-'Liste pr.'!K22,"")) | F17: =IF('Liste pr.'!N22<='Liste pr.'!M22,IF('Liste pr.'!O22="A",'Liste pr.'!M22-'Liste pr.'!N22,"")) | G17: =IF('Liste pr.'!Q22<='Liste pr.'!P22,IF('Liste pr.'!R22="A",'Liste pr.'!P22-'Liste pr.'!Q22,"")) | H17: =IF('Liste pr.'!T22<='Liste pr.'!S22,IF('Liste pr.'!U22="A",'Liste pr.'!S22-'Liste pr.'!T22,"")) | I17: =IF('Liste pr.'!W22<='Liste pr.'!V22,IF('Liste pr.'!X22="A",'Liste pr.'!V22-'Liste pr.'!W22,"")) | J17: =SUM(C17:I17) -> 0
C18: =IF('Liste pr.'!E23<='Liste pr.'!D23,IF('Liste pr.'!F23="a",'Liste pr.'!D23-'Liste pr.'!E23," ")) | D18: =IF('Liste pr.'!H23<='Liste pr.'!G23,IF('Liste pr.'!I23="A",'Liste pr.'!G23-'Liste pr.'!H23,"")) | E18: =IF('Liste pr.'!K23<='Liste pr.'!J23,IF('Liste pr.'!L23="A",'Liste pr.'!J23-'Liste pr.'!K23,"")) | F18: =IF('Liste pr.'!N23<='Liste pr.'!M23,IF('Liste pr.'!O23="A",'Liste pr.'!M23-'Liste pr.'!N23,"")) | G18: =IF('Liste pr.'!Q23<='Liste pr.'!P23,IF('Liste pr.'!R23="A",'Liste pr.'!P23-'Liste pr.'!Q23,"")) | H18: =IF('Liste pr.'!T23<='Liste pr.'!S23,IF('Liste pr.'!U23="A",'Liste pr.'!S23-'Liste pr.'!T23,"")) | I18: =IF('Liste pr.'!W23<='Liste pr.'!V23,IF('Liste pr.'!X23="A",'Liste pr.'!V23-'Liste pr.'!W23,"")) | J18: =SUM(C18:I18) -> 0
K19: verif
B20: total | C20: =SUM(C3:C18) -> 2 | D20: =SUM(D3:D18) -> 0 | E20: =SUM(E3:E18) -> 0 | F20: =SUM(F3:F18) -> 0 | G20: =SUM(G3:G18) -> 0 | H20: =SUM(H3:H18) -> 0 | I20: =SUM(I3:I18) -> 0 | J20: =SUM(C20:I20) -> 2 | K20: =SUM(J3:J18) -> 2
C26: lundi | D26: mardi | E26: mercredi | F26: jeudi | G26: vendredi | H26: samedi | I26: dimanche | J26: total semaine
B27: AM | C27: =IF('Liste pr.'!E8<='Liste pr.'!D8,IF('Liste pr.'!F8="AM",'Liste pr.'!D8-'Liste pr.'!E8," ")) | D27: =IF('Liste pr.'!H8<='Liste pr.'!G8,IF('Liste pr.'!I8="AM",'Liste pr.'!G8-'Liste pr.'!H8,"")) | E27: =IF('Liste pr.'!K8<='Liste pr.'!J8,IF('Liste pr.'!L8="AM",'Liste pr.'!J8-'Liste pr.'!K8,"")) | F27: =IF('Liste pr.'!N8<='Liste pr.'!M8,IF('Liste pr.'!O8="AM",'Liste pr.'!M8-'Liste pr.'!N8,"")) | G27: =IF('Liste pr.'!Q8<='Liste pr.'!P8,IF('Liste pr.'!R8="AM",'Liste pr.'!P8-'Liste pr.'!Q8,"")) | H27: =IF('Liste pr.'!T8<='Liste pr.'!S8,IF('Liste pr.'!U8="AM",'Liste pr.'!S8-'Liste pr.'!T8,"")) | I27: =IF('Liste pr.'!W8<='Liste pr.'!V8,IF('Liste pr.'!X8="AM",'Liste pr.'!V8-'Liste pr.'!W8,"")) | J27: =SUM(C27:I27) -> 0
C28: =IF('Liste pr.'!E9<='Liste pr.'!D9,IF('Liste pr.'!F9="AM",'Liste pr.'!D9-'Liste pr.'!E9," ")) | D28: =IF('Liste pr.'!H9<='Liste pr.'!G9,IF('Liste pr.'!I9="AM",'Liste pr.'!G9-'Liste pr.'!H9,"")) | E28: =IF('Liste pr.'!K9<='Liste pr.'!J9,IF('Liste pr.'!L9="AM",'Liste pr.'!J9-'Liste pr.'!K9,"")) | F28: =IF('Liste pr.'!N9<='Liste pr.'!M9,IF('Liste pr.'!O9="AM",'Liste pr.'!M9-'Liste pr.'!N9,"")) | G28: =IF('Liste pr.'!Q9<='Liste pr.'!P9,IF('Liste pr.'!R9="AM",'Liste pr.'!P9-'Liste pr.'!Q9,"")) | H28: =IF('Liste pr.'!T9<='Liste pr.'!S9,IF('Liste pr.'!U9="AM",'Liste pr.'!S9-'Liste pr.'!T9,"")) | I28: =IF('Liste pr.'!W9<='Liste pr.'!V9,IF('Liste pr.'!X9="AM",'Liste pr.'!V9-'Liste pr.'!W9,"")) | J28: =SUM(C28:I28) -> 0
C29: =IF('Liste pr.'!E10<='Liste pr.'!D10,IF('Liste pr.'!F10="AM",'Liste pr.'!D10-'Liste pr.'!E10," ")) | D29: =IF('Liste pr.'!H10<='Liste pr.'!G10,IF('Liste pr.'!I10="AM",'Liste pr.'!G10-'Liste pr.'!H10,"")) | E29: =IF('Liste pr.'!K10<='Liste pr.'!J10,IF('Liste pr.'!L10="AM",'Liste pr.'!J10-'Liste pr.'!K10,"")) | F29: =IF('Liste pr.'!N10<='Liste pr.'!M10,IF('Liste pr.'!O10="AM",'Liste pr.'!M10-'Liste pr.'!N10,"")) | G29: =IF('Liste pr.'!Q10<='Liste pr.'!P10,IF('Liste pr.'!R10="AM",'Liste pr.'!P10-'Liste pr.'!Q10,"")) | H29: =IF('Liste pr.'!T10<='Liste pr.'!S10,IF('Liste pr.'!U10="AM",'Liste pr.'!S10-'Liste pr.'!T10,"")) | I29: =IF('Liste pr.'!W10<='Liste pr.'!V10,IF('Liste pr.'!X10="AM",'Liste pr.'!V10-'Liste pr.'!W10,"")) | J29: =SUM(C29:I29) -> 0
C30: =IF('Liste pr.'!E11<='Liste pr.'!D11,IF('Liste pr.'!F11="AM",'Liste pr.'!D11-'Liste pr.'!E11," ")) | D30: =IF('Liste pr.'!H11<='Liste pr.'!G11,IF('Liste pr.'!I11="AM",'Liste pr.'!G11-'Liste pr.'!H11,"")) | E30: =IF('Liste pr.'!K11<='Liste pr.'!J11,IF('Liste pr.'!L11="AM",'Liste pr.'!J11-'Liste pr.'!K11,"")) | F30: =IF('Liste pr.'!N11<='Liste pr.'!M11,IF('Liste pr.'!O11="AM",'Liste pr.'!M11-'Liste pr.'!N11,"")) | G30: =IF('Liste pr.'!Q11<='Liste pr.'!P11,IF('Liste pr.'!R11="AM",'Liste pr.'!P11-'Liste pr.'!Q11,"")) | H30: =IF('Liste pr.'!T11<='Liste pr.'!S11,IF('Liste pr.'!U11="AM",'Liste pr.'!S11-'Liste pr.'!T11,"")) | I30: =IF('Liste pr.'!W11<='Liste pr.'!V11,IF('Liste pr.'!X11="AM",'Liste pr.'!V11-'Liste pr.'!W11,"")) | J30: =SUM(C30:I30) -> 0
C31: =IF('Liste pr.'!E12<='Liste pr.'!D12,IF('Liste pr.'!F12="AM",'Liste pr.'!D12-'Liste pr.'!E12," ")) | D31: =IF('Liste pr.'!H12<='Liste pr.'!G12,IF('Liste pr.'!I12="AM",'Liste pr.'!G12-'Liste pr.'!H12,"")) | E31: =IF('Liste pr.'!K12<='Liste pr.'!J12,IF('Liste pr.'!L12="AM",'Liste pr.'!J12-'Liste pr.'!K12,"")) | F31: =IF('Liste pr.'!N12<='Liste pr.'!M12,IF('Liste pr.'!O12="AM",'Liste pr.'!M12-'Liste pr.'!N12,"")) | G31: =IF('Liste pr.'!Q12<='Liste pr.'!P12,IF('Liste pr.'!R12="AM",'Liste pr.'!P12-'Liste pr.'!Q12,"")) | H31: =IF('Liste pr.'!T12<='Liste pr.'!S12,IF('Liste pr.'!U12="AM",'Liste pr.'!S12-'Liste pr.'!T12,"")) | I31: =IF('Liste pr.'!W12<='Liste pr.'!V12,IF('Liste pr.'!X12="AM",'Liste pr.'!V12-'Liste pr.'!W12,"")) | J31: =SUM(C31:I31) -> 0
C32: =IF('Liste pr.'!E13<='Liste pr.'!D13,IF('Liste pr.'!F13="AM",'Liste pr.'!D13-'Liste pr.'!E13," ")) | D32: =IF('Liste pr.'!H13<='Liste pr.'!G13,IF('Liste pr.'!I13="AM",'Liste pr.'!G13-'Liste pr.'!H13,"")) | E32: =IF('Liste pr.'!K13<='Liste pr.'!J13,IF('Liste pr.'!L13="AM",'Liste pr.'!J13-'Liste pr.'!K13,"")) | F32: =IF('Liste pr.'!N13<='Liste pr.'!M13,IF('Liste pr.'!O13="AM",'Liste pr.'!M13-'Liste pr.'!N13,"")) | G32: =IF('Liste pr.'!Q13<='Liste pr.'!P13,IF('Liste pr.'!R13="AM",'Liste pr.'!P13-'Liste pr.'!Q13,"")) | H32: =IF('Liste pr.'!T13<='Liste pr.'!S13,IF('Liste pr.'!U13="AM",'Liste pr.'!S13-'Liste pr.'!T13,"")) | I32: =IF('Liste pr.'!W13<='Liste pr.'!V13,IF('Liste pr.'!X13="AM",'Liste pr.'!V13-'Liste pr.'!W13,"")) | J32: =SUM(C32:I32) -> 0
C33: =IF('Liste pr.'!E14<='Liste pr.'!D14,IF('Liste pr.'!F14="AM",'Liste pr.'!D14-'Liste pr.'!E14," ")) -> 2 | D33: =IF('Liste pr.'!H14<='Liste pr.'!G14,IF('Liste pr.'!I14="AM",'Liste pr.'!G14-'Liste pr.'!H14,"")) | E33: =IF('Liste pr.'!K14<='Liste pr.'!J14,IF('Liste pr.'!L14="AM",'Liste pr.'!J14-'Liste pr.'!K14,"")) | F33: =IF('Liste pr.'!N14<='Liste pr.'!M14,IF('Liste pr.'!O14="AM",'Liste pr.'!M14-'Liste pr.'!N14,"")) | G33: =IF('Liste pr.'!Q14<='Liste pr.'!P14,IF('Liste pr.'!R14="AM",'Liste pr.'!P14-'Liste pr.'!Q14,"")) | H33: =IF('Liste pr.'!T14<='Liste pr.'!S14,IF('Liste pr.'!U14="AM",'Liste pr.'!S14-'Liste pr.'!T14,"")) | I33: =IF('Liste pr.'!W14<='Liste pr.'!V14,IF('Liste pr.'!X14="AM",'Liste pr.'!V14-'Liste pr.'!W14,"")) | J33: =SUM(C33:I33) -> 2
C34: =IF('Liste pr.'!E15<='Liste pr.'!D15,IF('Liste pr.'!F15="AM",'Liste pr.'!D15-'Liste pr.'!E15," ")) | D34: =IF('Liste pr.'!H15<='Liste pr.'!G15,IF('Liste pr.'!I15="AM",'Liste pr.'!G15-'Liste pr.'!H15,"")) | E34: =IF('Liste pr.'!K15<='Liste pr.'!J15,IF('Liste pr.'!L15="AM",'Liste pr.'!J15-'Liste pr.'!K15,"")) | F34: =IF('Liste pr.'!N15<='Liste pr.'!M15,IF('Liste pr.'!O15="AM",'Liste pr.'!M15-'Liste pr.'!N15,"")) | G34: =IF('Liste pr.'!Q15<='Liste pr.'!P15,IF('Liste pr.'!R15="AM",'Liste pr.'!P15-'Liste pr.'!Q15,"")) | H34: =IF('Liste pr.'!T15<='Liste pr.'!S15,IF('Liste pr.'!U15="AM",'Liste pr.'!S15-'Liste pr.'!T15,"")) | I34: =IF('Liste pr.'!W15<='Liste pr.'!V15,IF('Liste pr.'!X15="AM",'Liste pr.'!V15-'Liste pr.'!W15,"")) | J34: =SUM(C34:I34) -> 0
C35: =IF('Liste pr.'!E16<='Liste pr.'!D16,IF('Liste pr.'!F16="AM",'Liste pr.'!D16-'Liste pr.'!E16," ")) | D35: =IF('Liste pr.'!H16<='Liste pr.'!G16,IF('Liste pr.'!I16="AM",'Liste pr.'!G16-'Liste pr.'!H16,"")) | E35: =IF('Liste pr.'!K16<='Liste pr.'!J16,IF('Liste pr.'!L16="AM",'Liste pr.'!J16-'Liste pr.'!K16,"")) | F35: =IF('Liste pr.'!N16<='Liste pr.'!M16,IF('Liste pr.'!O16="AM",'Liste pr.'!M16-'Liste pr.'!N16,"")) | G35: =IF('Liste pr.'!Q16<='Liste pr.'!P16,IF('Liste pr.'!R16="AM",'Liste pr.'!P16-'Liste pr.'!Q16,"")) | H35: =IF('Liste pr.'!T16<='Liste pr.'!S16,IF('Liste pr.'!U16="AM",'Liste pr.'!S16-'Liste pr.'!T16,"")) | I35: =IF('Liste pr.'!W16<='Liste pr.'!V16,IF('Liste pr.'!X16="AM",'Liste pr.'!V16-'Liste pr.'!W16,"")) | J35: =SUM(C35:I35) -> 0
C36: =IF('Liste pr.'!E17<='Liste pr.'!D17,IF('Liste pr.'!F17="AM",'Liste pr.'!D17-'Liste pr.'!E17," ")) | D36: =IF('Liste pr.'!H17<='Liste pr.'!G17,IF('Liste pr.'!I17="AM",'Liste pr.'!G17-'Liste pr.'!H17,"")) | E36: =IF('Liste pr.'!K17<='Liste pr.'!J17,IF('Liste pr.'!L17="AM",'Liste pr.'!J17-'Liste pr.'!K17,"")) | F36: =IF('Liste pr.'!N17<='Liste pr.'!M17,IF('Liste pr.'!O17="AM",'Liste pr.'!M17-'Liste pr.'!N17,"")) | G36: =IF('Liste pr.'!Q17<='Liste pr.'!P17,IF('Liste pr.'!R17="AM",'Liste pr.'!P17-'Liste pr.'!Q17,"")) | H36: =IF('Liste pr.'!T17<='Liste pr.'!S17,IF('Liste pr.'!U17="AM",'Liste pr.'!S17-'Liste pr.'!T17,"")) | I36: =IF('Liste pr.'!W17<='Liste pr.'!V17,IF('Liste pr.'!X17="AM",'Liste pr.'!V17-'Liste pr.'!W17,"")) | J36: =SUM(C36:I36) -> 0
C37: =IF('Liste pr.'!E18<='Liste pr.'!D18,IF('Liste pr.'!F18="AM",'Liste pr.'!D18-'Liste pr.'!E18," ")) | D37: =IF('Liste pr.'!H18<='Liste pr.'!G18,IF('Liste pr.'!I18="AM",'Liste pr.'!G18-'Liste pr.'!H18,"")) | E37: =IF('Liste pr.'!K18<='Liste pr.'!J18,IF('Liste pr.'!L18="AM",'Liste pr.'!J18-'Liste pr.'!K18,"")) | F37: =IF('Liste pr.'!N18<='Liste pr.'!M18,IF('Liste pr.'!O18="AM",'Liste pr.'!M18-'Liste pr.'!N18,"")) | G37: =IF('Liste pr.'!Q18<='Liste pr.'!P18,IF('Liste pr.'!R18="AM",'Liste pr.'!P18-'Liste pr.'!Q18,"")) | H37: =IF('Liste pr.'!T18<='Liste pr.'!S18,IF('Liste pr.'!U18="AM",'Liste pr.'!S18-'Liste pr.'!T18,"")) | I37: =IF('Liste pr.'!W18<='Liste pr.'!V18,IF('Liste pr.'!X18="AM",'Liste pr.'!V18-'Liste pr.'!W18,"")) | J37: =SUM(C37:I37) -> 0
C38: =IF('Liste pr.'!E19<='Liste pr.'!D19,IF('Liste pr.'!F19="AM",'Liste pr.'!D19-'Liste pr.'!E19," ")) | D38: =IF('Liste pr.'!H19<='Liste pr.'!G19,IF('Liste pr.'!I19="AM",'Liste pr.'!G19-'Liste pr.'!H19,"")) | E38: =IF('Liste pr.'!K19<='Liste pr.'!J19,IF('Liste pr.'!L19="AM",'Liste pr.'!J19-'Liste pr.'!K19,"")) | F38: =IF('Liste pr.'!N19<='Liste pr.'!M19,IF('Liste pr.'!O19="AM",'Liste pr.'!M19-'Liste pr.'!N19,"")) | G38: =IF('Liste pr.'!Q19<='Liste pr.'!P19,IF('Liste pr.'!R19="AM",'Liste pr.'!P19-'Liste pr.'!Q19,"")) | H38: =IF('Liste pr.'!T19<='Liste pr.'!S19,IF('Liste pr.'!U19="AM",'Liste pr.'!S19-'Liste pr.'!T19,"")) | I38: =IF('Liste pr.'!W19<='Liste pr.'!V19,IF('Liste pr.'!X19="AM",'Liste pr.'!V19-'Liste pr.'!W19,"")) | J38: =SUM(C38:I38) -> 0
C39: =IF('Liste pr.'!E20<='Liste pr.'!D20,IF('Liste pr.'!F20="AM",'Liste pr.'!D20-'Liste pr.'!E20," ")) | D39: =IF('Liste pr.'!H20<='Liste pr.'!G20,IF('Liste pr.'!I20="AM",'Liste pr.'!G20-'Liste pr.'!H20,"")) | E39: =IF('Liste pr.'!K20<='Liste pr.'!J20,IF('Liste pr.'!L20="AM",'Liste pr.'!J20-'Liste pr.'!K20,"")) | F39: =IF('Liste pr.'!N20<='Liste pr.'!M20,IF('Liste pr.'!O20="AM",'Liste pr.'!M20-'Liste pr.'!N20,"")) | G39: =IF('Liste pr.'!Q20<='Liste pr.'!P20,IF('Liste pr.'!R20="AM",'Liste pr.'!P20-'Liste pr.'!Q20,"")) | H39: =IF('Liste pr.'!T20<='Liste pr.'!S20,IF('Liste pr.'!U20="AM",'Liste pr.'!S20-'Liste pr.'!T20,"")) | I39: =IF('Liste pr.'!W20<='Liste pr.'!V20,IF('Liste pr.'!X20="AM",'Liste pr.'!V20-'Liste pr.'!W20,"")) | J39: =SUM(C39:I39) -> 0
... C41: =IF('Liste pr.'!E22<='Liste pr.'!D22,IF('Liste pr.'!F22="AM",'Liste pr.'!D22-'Liste pr.'!E22," ")) | D41: =IF('Liste pr.'!H22<='Liste pr.'!G22,IF('Liste pr.'!I22="AM",'Liste pr.'!G22-'Liste pr.'!H22,"")) | E41: =IF('Liste pr.'!K22<='Liste pr.'!J22,IF('Liste pr.'!L22="AM",'Liste pr.'!J22-'Liste pr.'!K22,"")) | F41: =IF('Liste pr.'!N22<='Liste pr.'!M22,IF('Liste pr.'!O22="AM",'Liste pr.'!M22-'Liste pr.'!N22,"")) | G41: =IF('Liste pr.'!Q22<='Liste pr.'!P22,IF('Liste pr.'!R22="AM",'Liste pr.'!P22-'Liste pr.'!Q22,"")) | H41: =IF('Liste pr.'!T22<='Liste pr.'!S22,IF('Liste pr.'!U22="AM",'Liste pr.'!S22-'Liste pr.'!T22,"")) | I41: =IF('Liste pr.'!W22<='Liste pr.'!V22,IF('Liste pr.'!X22="AM",'Liste pr.'!V22-'Liste pr.'!W22,"")) | J41: =SUM(C41:I41) -> 0
B42: =IF('Liste pr.'!F48="a",'Liste pr.'!D48-'Liste pr.'!E48," ") | C42: =IF('Liste pr.'!E23<='Liste pr.'!D23,IF('Liste pr.'!F23="AM",'Liste pr.'!D23-'Liste pr.'!E23," ")) | D42: =IF('Liste pr.'!H23<='Liste pr.'!G23,IF('Liste pr.'!I23="AM",'Liste pr.'!G23-'Liste pr.'!H23,"")) | E42: =IF('Liste pr.'!K23<='Liste pr.'!J23,IF('Liste pr.'!L23="AM",'Liste pr.'!J23-'Liste pr.'!K23,"")) | F42: =IF('Liste pr.'!N23<='Liste pr.'!M23,IF('Liste pr.'!O23="AM",'Liste pr.'!M23-'Liste pr.'!N23,"")) | G42: =IF('Liste pr.'!Q23<='Liste pr.'!P23,IF('Liste pr.'!R23="AM",'Liste pr.'!P23-'Liste pr.'!Q23,"")) | H42: =IF('Liste pr.'!T23<='Liste pr.'!S23,IF('Liste pr.'!U23="AM",'Liste pr.'!S23-'Liste pr.'!T23,"")) | I42: =IF('Liste pr.'!W23<='Liste pr.'!V23,IF('Liste pr.'!X23="AM",'Liste pr.'!V23-'Liste pr.'!W23,"")) | J42: =SUM(C42:I42) -> 0
K43: verif
B44: total | C44: =SUM(C27:C42) -> 2 | D44: =SUM(D27:D42) -> 0 | E44: =SUM(E27:E42) -> 0 | F44: =SUM(F27:F42) -> 0 | G44: =SUM(G27:G42) -> 0 | H44: =SUM(H27:H42) -> 0 | I44: =SUM(I27:I42) -> 0 | J44: =SUM(C44:I44) -> 2 | K44: =SUM(J27:J42) -> 2
C48: lundi | D48: mardi | E48: mercredi | F48: jeudi | G48: vendredi | H48: samedi | I48: dimanche | J48: total semaine
B49: M | C49: =IF('Liste pr.'!E8<='Liste pr.'!D8,IF('Liste pr.'!F8="M",'Liste pr.'!D8-'Liste pr.'!E8," ")) | D49: =IF('Liste pr.'!H8<='Liste pr.'!G8,IF('Liste pr.'!I8="M",'Liste pr.'!G8-'Liste pr.'!H8,"")) | E49: =IF('Liste pr.'!K8<='Liste pr.'!J8,IF('Liste pr.'!L8="M",'Liste pr.'!J8-'Liste pr.'!K8,"")) | F49: =IF('Liste pr.'!N8<='Liste pr.'!M8,IF('Liste pr.'!O8="M",'Liste pr.'!M8-'Liste pr.'!N8,"")) | G49: =IF('Liste pr.'!Q8<='Liste pr.'!P8,IF('Liste pr.'!R8="M",'Liste pr.'!P8-'Liste pr.'!Q8,"")) | H49: =IF('Liste pr.'!T8<='Liste pr.'!S8,IF('Liste pr.'!U8="M",'Liste pr.'!S8-'Liste pr.'!T8,"")) | I49: =IF('Liste pr.'!W8<='Liste pr.'!V8,IF('Liste pr.'!X8="M",'Liste pr.'!V8-'Liste pr.'!W8,"")) | J49: =SUM(C49:I49) -> 0
C50: =IF('Liste pr.'!E9<='Liste pr.'!D9,IF('Liste pr.'!F9="M",'Liste pr.'!D9-'Liste pr.'!E9," ")) | D50: =IF('Liste pr.'!H9<='Liste pr.'!G9,IF('Liste pr.'!I9="M",'Liste pr.'!G9-'Liste pr.'!H9,"")) | E50: =IF('Liste pr.'!K9<='Liste pr.'!J9,IF('Liste pr.'!L9="M",'Liste pr.'!J9-'Liste pr.'!K9,"")) | F50: =IF('Liste pr.'!N9<='Liste pr.'!M9,IF('Liste pr.'!O9="M",'Liste pr.'!M9-'Liste pr.'!N9,"")) | G50: =IF('Liste pr.'!Q9<='Liste pr.'!P9,IF('Liste pr.'!R9="M",'Liste pr.'!P9-'Liste pr.'!Q9,"")) | H50: =IF('Liste pr.'!T9<='Liste pr.'!S9,IF('Liste pr.'!U9="M",'Liste pr.'!S9-'Liste pr.'!T9,"")) | I50: =IF('Liste pr.'!W9<='Liste pr.'!V9,IF('Liste pr.'!X9="M",'Liste pr.'!V9-'Liste pr.'!W9,"")) | J50: =SUM(C50:I50) -> 0
C51: =IF('Liste pr.'!E10<='Liste pr.'!D10,IF('Liste pr.'!F10="M",'Liste pr.'!D10-'Liste pr.'!E10," ")) | D51: =IF('Liste pr.'!H10<='Liste pr.'!G10,IF('Liste pr.'!I10="M",'Liste pr.'!G10-'Liste pr.'!H10,"")) | E51: =IF('Liste pr.'!K10<='Liste pr.'!J10,IF('Liste pr.'!L10="M",'Liste pr.'!J10-'Liste pr.'!K10,"")) | F51: =IF('Liste pr.'!N10<='Liste pr.'!M10,IF('Liste pr.'!O10="M",'Liste pr.'!M10-'Liste pr.'!N10,"")) | G51: =IF('Liste pr.'!Q10<='Liste pr.'!P10,IF('Liste pr.'!R10="M",'Liste pr.'!P10-'Liste pr.'!Q10,"")) | H51: =IF('Liste pr.'!T10<='Liste pr.'!S10,IF('Liste pr.'!U10="M",'Liste pr.'!S10-'Liste pr.'!T10,"")) | I51: =IF('Liste pr.'!W10<='Liste pr.'!V10,IF('Liste pr.'!X10="M",'Liste pr.'!V10-'Liste pr.'!W10,"")) | J51: =SUM(C51:I51) -> 0
C52: =IF('Liste pr.'!E11<='Liste pr.'!D11,IF('Liste pr.'!F11="M",'Liste pr.'!D11-'Liste pr.'!E11," ")) | D52: =IF('Liste pr.'!H11<='Liste pr.'!G11,IF('Liste pr.'!I11="M",'Liste pr.'!G11-'Liste pr.'!H11,"")) | E52: =IF('Liste pr.'!K11<='Liste pr.'!J11,IF('Liste pr.'!L11="M",'Liste pr.'!J11-'Liste pr.'!K11,"")) | F52: =IF('Liste pr.'!N11<='Liste pr.'!M11,IF('Liste pr.'!O11="M",'Liste pr.'!M11-'Liste pr.'!N11,"")) | G52: =IF('Liste pr.'!Q11<='Liste pr.'!P11,IF('Liste pr.'!R11="M",'Liste pr.'!P11-'Liste pr.'!Q11,"")) | H52: =IF('Liste pr.'!T11<='Liste pr.'!S11,IF('Liste pr.'!U11="M",'Liste pr.'!S11-'Liste pr.'!T11,"")) | I52: =IF('Liste pr.'!W11<='Liste pr.'!V11,IF('Liste pr.'!X11="M",'Liste pr.'!V11-'Liste pr.'!W11,"")) | J52: =SUM(C52:I52) -> 0
C53: =IF('Liste pr.'!E12<='Liste pr.'!D12,IF('Liste pr.'!F12="M",'Liste pr.'!D12-'Liste pr.'!E12," ")) | D53: =IF('Liste pr.'!H12<='Liste pr.'!G12,IF('Liste pr.'!I12="M",'Liste pr.'!G12-'Liste pr.'!H12,"")) | E53: =IF('Liste pr.'!K12<='Liste pr.'!J12,IF('Liste pr.'!L12="M",'Liste pr.'!J12-'Liste pr.'!K12,"")) | F53: =IF('Liste pr.'!N12<='Liste pr.'!M12,IF('Liste pr.'!O12="M",'Liste pr.'!M12-'Liste pr.'!N12,"")) | G53: =IF('Liste pr.'!Q12<='Liste pr.'!P12,IF('Liste pr.'!R12="M",'Liste pr.'!P12-'Liste pr.'!Q12,"")) | H53: =IF('Liste pr.'!T12<='Liste pr.'!S12,IF('Liste pr.'!U12="M",'Liste pr.'!S12-'Liste pr.'!T12,"")) | I53: =IF('Liste pr.'!W12<='Liste pr.'!V12,IF('Liste pr.'!X12="M",'Liste pr.'!V12-'Liste pr.'!W12,"")) | J53: =SUM(C53:I53) -> 0
C54: =IF('Liste pr.'!E13<='Liste pr.'!D13,IF('Liste pr.'!F13="M",'Liste pr.'!D13-'Liste pr.'!E13," ")) | D54: =IF('Liste pr.'!H13<='Liste pr.'!G13,IF('Liste pr.'!I13="M",'Liste pr.'!G13-'Liste pr.'!H13,"")) | E54: =IF('Liste pr.'!K13<='Liste pr.'!J13,IF('Liste pr.'!L13="M",'Liste pr.'!J13-'Liste pr.'!K13,"")) | F54: =IF('Liste pr.'!N13<='Liste pr.'!M13,IF('Liste pr.'!O13="M",'Liste pr.'!M13-'Liste pr.'!N13,"")) | G54: =IF('Liste pr.'!Q13<='Liste pr.'!P13,IF('Liste pr.'!R13="M",'Liste pr.'!P13-'Liste pr.'!Q13,"")) | H54: =IF('Liste pr.'!T13<='Liste pr.'!S13,IF('Liste pr.'!U13="M",'Liste pr.'!S13-'Liste pr.'!T13,"")) | I54: =IF('Liste pr.'!W13<='Liste pr.'!V13,IF('Liste pr.'!X13="M",'Liste pr.'!V13-'Liste pr.'!W13,"")) | J54: =SUM(C54:I54) -> 0
C55: =IF('Liste pr.'!E14<='Liste pr.'!D14,IF('Liste pr.'!F14="M",'Liste pr.'!D14-'Liste pr.'!E14," ")) | D55: =IF('Liste pr.'!H14<='Liste pr.'!G14,IF('Liste pr.'!I14="M",'Liste pr.'!G14-'Liste pr.'!H14,"")) | E55: =IF('Liste pr.'!K14<='Liste pr.'!J14,IF('Liste pr.'!L14="M",'Liste pr.'!J14-'Liste pr.'!K14,"")) | F55: =IF('Liste pr.'!N14<='Liste pr.'!M14,IF('Liste pr.'!O14="M",'Liste pr.'!M14-'Liste pr.'!N14,"")) | G55: =IF('Liste pr.'!Q14<='Liste pr.'!P14,IF('Liste pr.'!R14="M",'Liste pr.'!P14-'Liste pr.'!Q14,"")) | H55: =IF('Liste pr.'!T14<='Liste pr.'!S14,IF('Liste pr.'!U14="M",'Liste pr.'!S14-'Liste pr.'!T14,"")) | I55: =IF('Liste pr.'!W14<='Liste pr.'!V14,IF('Liste pr.'!X14="M",'Liste pr.'!V14-'Liste pr.'!W14,"")) | J55: =SUM(C55:I55) -> 0
C56: =IF('Liste pr.'!E15<='Liste pr.'!D15,IF('Liste pr.'!F15="M",'Liste pr.'!D15-'Liste pr.'!E15," ")) | D56: =IF('Liste pr.'!H15<='Liste pr.'!G15,IF('Liste pr.'!I15="M",'Liste pr.'!G15-'Liste pr.'!H15,"")) | E56: =IF('Liste pr.'!K15<='Liste pr.'!J15,IF('Liste pr.'!L15="M",'Liste pr.'!J15-'Liste pr.'!K15,"")) | F56: =IF('Liste pr.'!N15<='Liste pr.'!M15,IF('Liste pr.'!O15="M",'Liste pr.'!M15-'Liste pr.'!N15,"")) | G56: =IF('Liste pr.'!Q15<='Liste pr.'!P15,IF('Liste pr.'!R15="M",'Liste pr.'!P15-'Liste pr.'!Q15,"")) | H56: =IF('Liste pr.'!T15<='Liste pr.'!S15,IF('Liste pr.'!U15="M",'Liste pr.'!S15-'Liste pr.'!T15,"")) | I56: =IF('Liste pr.'!W15<='Liste pr.'!V15,IF('Liste pr.'!X15="M",'Liste pr.'!V15-'Liste pr.'!W15,"")) | J56: =SUM(C56:I56) -> 0
C57: =IF('Liste pr.'!E16<='Liste pr.'!D16,IF('Liste pr.'!F16="M",'Liste pr.'!D16-'Liste pr.'!E16," ")) | D57: =IF('Liste pr.'!H16<='Liste pr.'!G16,IF('Liste pr.'!I16="M",'Liste pr.'!G16-'Liste pr.'!H16,"")) | E57: =IF('Liste pr.'!K16<='Liste pr.'!J16,IF('Liste pr.'!L16="M",'Liste pr.'!J16-'Liste pr.'!K16,"")) | F57: =IF('Liste pr.'!N16<='Liste pr.'!M16,IF('Liste pr.'!O16="M",'Liste pr.'!M16-'Liste pr.'!N16,"")) | G57: =IF('Liste pr.'!Q16<='Liste pr.'!P16,IF('Liste pr.'!R16="M",'Liste pr.'!P16-'Liste pr.'!Q16,"")) | H57: =IF('Liste pr.'!T16<='Liste pr.'!S16,IF('Liste pr.'!U16="M",'Liste pr.'!S16-'Liste pr.'!T16,"")) | I57: =IF('Liste pr.'!W16<='Liste pr.'!V16,IF('Liste pr.'!X16="M",'Liste pr.'!V16-'Liste pr.'!W16,"")) | J57: =SUM(C57:I57) -> 0
C58: =IF('Liste pr.'!E17<='Liste pr.'!D17,IF('Liste pr.'!F17="M",'Liste pr.'!D17-'Liste pr.'!E17," ")) | D58: =IF('Liste pr.'!H17<='Liste pr.'!G17,IF('Liste pr.'!I17="M",'Liste pr.'!G17-'Liste pr.'!H17,"")) | E58: =IF('Liste pr.'!K17<='Liste pr.'!J17,IF('Liste pr.'!L17="M",'Liste pr.'!J17-'Liste pr.'!K17,"")) | F58: =IF('Liste pr.'!N17<='Liste pr.'!M17,IF('Liste pr.'!O17="M",'Liste pr.'!M17-'Liste pr.'!N17,"")) | G58: =IF('Liste pr.'!Q17<='Liste pr.'!P17,IF('Liste pr.'!R17="M",'Liste pr.'!P17-'Liste pr.'!Q17,"")) | H58: =IF('Liste pr.'!T17<='Liste pr.'!S17,IF('Liste pr.'!U17="M",'Liste pr.'!S17-'Liste pr.'!T17,"")) | I58: =IF('Liste pr.'!W17<='Liste pr.'!V17,IF('Liste pr.'!X17="M",'Liste pr.'!V17-'Liste pr.'!W17,"")) | J58: =SUM(C58:I58) -> 0
C59: =IF('Liste pr.'!E18<='Liste pr.'!D18,IF('Liste pr.'!F18="M",'Liste pr.'!D18-'Liste pr.'!E18," ")) | D59: =IF('Liste pr.'!H18<='Liste pr.'!G18,IF('Liste pr.'!I18="M",'Liste pr.'!G18-'Liste pr.'!H18,"")) | E59: =IF('Liste pr.'!K18<='Liste pr.'!J18,IF('Liste pr.'!L18="M",'Liste pr.'!J18-'Liste pr.'!K18,"")) | F59: =IF('Liste pr.'!N18<='Liste pr.'!M18,IF('Liste pr.'!O18="M",'Liste pr.'!M18-'Liste pr.'!N18,"")) | G59: =IF('Liste pr.'!Q18<='Liste pr.'!P18,IF('Liste pr.'!R18="M",'Liste pr.'!P18-'Liste pr.'!Q18,"")) | H59: =IF('Liste pr.'!T18<='Liste pr.'!S18,IF('Liste pr.'!U18="M",'Liste pr.'!S18-'Liste pr.'!T18,"")) | I59: =IF('Liste pr.'!W18<='Liste pr.'!V18,IF('Liste pr.'!X18="M",'Liste pr.'!V18-'Liste pr.'!W18,"")) | J59: =SUM(C59:I59) -> 0
C60: =IF('Liste pr.'!E19<='Liste pr.'!D19,IF('Liste pr.'!F19="M",'Liste pr.'!D19-'Liste pr.'!E19," ")) | D60: =IF('Liste pr.'!H19<='Liste pr.'!G19,IF('Liste pr.'!I19="M",'Liste pr.'!G19-'Liste pr.'!H19,"")) | E60: =IF('Liste pr.'!K19<='Liste pr.'!J19,IF('Liste pr.'!L19="M",'Liste pr.'!J19-'Liste pr.'!K19,"")) | F60: =IF('Liste pr.'!N19<='Liste pr.'!M19,IF('Liste pr.'!O19="M",'Liste pr.'!M19-'Liste pr.'!N19,"")) | G60: =IF('Liste pr.'!Q19<='Liste pr.'!P19,IF('Liste pr.'!R19="M",'Liste pr.'!P19-'Liste pr.'!Q19,"")) | H60: =IF('Liste pr.'!T19<='Liste pr.'!S19,IF('Liste pr.'!U19="M",'Liste pr.'!S19-'Liste pr.'!T19,"")) | I60: =IF('Liste pr.'!W19<='Liste pr.'!V19,IF('Liste pr.'!X19="M",'Liste pr.'!V19-'Liste pr.'!W19,"")) | J60: =SUM(C60:I60) -> 0
C61: =IF('Liste pr.'!E20<='Liste pr.'!D20,IF('Liste pr.'!F20="M",'Liste pr.'!D20-'Liste pr.'!E20," ")) | D61: =IF('Liste pr.'!H20<='Liste pr.'!G20,IF('Liste pr.'!I20="M",'Liste pr.'!G20-'Liste pr.'!H20,"")) | E61: =IF('Liste pr.'!K20<='Liste pr.'!J20,IF('Liste pr.'!L20="M",'Liste pr.'!J20-'Liste pr.'!K20,"")) | F61: =IF('Liste pr.'!N20<='Liste pr.'!M20,IF('Liste pr.'!O20="M",'Liste pr.'!M20-'Liste pr.'!N20,"")) | G61: =IF('Liste pr.'!Q20<='Liste pr.'!P20,IF('Liste pr.'!R20="M",'Liste pr.'!P20-'Liste pr.'!Q20,"")) | H61: =IF('Liste pr.'!T20<='Liste pr.'!S20,IF('Liste pr.'!U20="M",'Liste pr.'!S20-'Liste pr.'!T20,"")) | I61: =IF('Liste pr.'!W20<='Liste pr.'!V20,IF('Liste pr.'!X20="M",'Liste pr.'!V20-'Liste pr.'!W20,"")) | J61: =SUM(C61:I61) -> 0
... C63: =IF('Liste pr.'!E22<='Liste pr.'!D22,IF('Liste pr.'!F22="M",'Liste pr.'!D22-'Liste pr.'!E22," ")) | D63: =IF('Liste pr.'!H22<='Liste pr.'!G22,IF('Liste pr.'!I22="M",'Liste pr.'!G22-'Liste pr.'!H22,"")) | E63: =IF('Liste pr.'!K22<='Liste pr.'!J22,IF('Liste pr.'!L22="M",'Liste pr.'!J22-'Liste pr.'!K22,"")) | F63: =IF('Liste pr.'!N22<='Liste pr.'!M22,IF('Liste pr.'!O22="M",'Liste pr.'!M22-'Liste pr.'!N22,"")) | G63: =IF('Liste pr.'!Q22<='Liste pr.'!P22,IF('Liste pr.'!R22="M",'Liste pr.'!P22-'Liste pr.'!Q22,"")) | H63: =IF('Liste pr.'!T22<='Liste pr.'!S22,IF('Liste pr.'!U22="M",'Liste pr.'!S22-'Liste pr.'!T22,"")) | I63: =IF('Liste pr.'!W22<='Liste pr.'!V22,IF('Liste pr.'!X22="M",'Liste pr.'!V22-'Liste pr.'!W22,"")) | J63: =SUM(C63:I63) -> 0
B64: =IF('Liste pr.'!F70="a",'Liste pr.'!D70-'Liste pr.'!E70," ") | C64: =IF('Liste pr.'!E23<='Liste pr.'!D23,IF('Liste pr.'!F23="M",'Liste pr.'!D23-'Liste pr.'!E23," ")) | D64: =IF('Liste pr.'!H23<='Liste pr.'!G23,IF('Liste pr.'!I23="M",'Liste pr.'!G23-'Liste pr.'!H23,"")) | E64: =IF('Liste pr.'!K23<='Liste pr.'!J23,IF('Liste pr.'!L23="M",'Liste pr.'!J23-'Liste pr.'!K23,"")) | F64: =IF('Liste pr.'!N23<='Liste pr.'!M23,IF('Liste pr.'!O23="M",'Liste pr.'!M23-'Liste pr.'!N23,"")) | G64: =IF('Liste pr.'!Q23<='Liste pr.'!P23,IF('Liste pr.'!R23="M",'Liste pr.'!P23-'Liste pr.'!Q23,"")) | H64: =IF('Liste pr.'!T23<='Liste pr.'!S23,IF('Liste pr.'!U23="M",'Liste pr.'!S23-'Liste pr.'!T23,"")) | I64: =IF('Liste pr.'!W23<='Liste pr.'!V23,IF('Liste pr.'!X23="M",'Liste pr.'!V23-'Liste pr.'!W23,"")) | J64: =SUM(C64:I64) -> 0
K65: verif
B66: total | C66: =SUM(C49:C64) -> 0 | D66: =SUM(D49:D64) -> 0 | E66: =SUM(E49:E64) -> 0 | F66: =SUM(F49:F64) -> 0 | G66: =SUM(G49:G64) -> 0 | H66: =SUM(H49:H64) -> 0 | I66: =SUM(I49:I64) -> 0 | J66: =SUM(C66:I66) -> 0 | K66: =SUM(J49:J64) -> 0
B70: F | C70: lundi | D70: mardi | E70: mercredi | F70: jeudi | G70: vendredi | H70: samedi | I70: dimanche | J70: total semaine
C71: =IF('Liste pr.'!E8<='Liste pr.'!D8,IF('Liste pr.'!F8="F",'Liste pr.'!D8-'Liste pr.'!E8," ")) | D71: =IF('Liste pr.'!H8<='Liste pr.'!G8,IF('Liste pr.'!I8="F",'Liste pr.'!G8-'Liste pr.'!H8,"")) | E71: =IF('Liste pr.'!K8<='Liste pr.'!J8,IF('Liste pr.'!L8="F",'Liste pr.'!J8-'Liste pr.'!K8,"")) | F71: =IF('Liste pr.'!N8<='Liste pr.'!M8,IF('Liste pr.'!O8="F",'Liste pr.'!M8-'Liste pr.'!N8,"")) | G71: =IF('Liste pr.'!Q8<='Liste pr.'!P8,IF('Liste pr.'!R8="F",'Liste pr.'!P8-'Liste pr.'!Q8,"")) | H71: =IF('Liste pr.'!T8<='Liste pr.'!S8,IF('Liste pr.'!U8="F",'Liste pr.'!S8-'Liste pr.'!T8,"")) | I71: =IF('Liste pr.'!W8<='Liste pr.'!V8,IF('Liste pr.'!X8="F",'Liste pr.'!V8-'Liste pr.'!W8,"")) | J71: =SUM(C71:I71) -> 0
C72: =IF('Liste pr.'!E9<='Liste pr.'!D9,IF('Liste pr.'!F9="F",'Liste pr.'!D9-'Liste pr.'!E9," ")) | D72: =IF('Liste pr.'!H9<='Liste pr.'!G9,IF('Liste pr.'!I9="F",'Liste pr.'!G9-'Liste pr.'!H9,"")) | E72: =IF('Liste pr.'!K9<='Liste pr.'!J9,IF('Liste pr.'!L9="F",'Liste pr.'!J9-'Liste pr.'!K9,"")) | F72: =IF('Liste pr.'!N9<='Liste pr.'!M9,IF('Liste pr.'!O9="F",'Liste pr.'!M9-'Liste pr.'!N9,"")) | G72: =IF('Liste pr.'!Q9<='Liste pr.'!P9,IF('Liste pr.'!R9="F",'Liste pr.'!P9-'Liste pr.'!Q9,"")) | H72: =IF('Liste pr.'!T9<='Liste pr.'!S9,IF('Liste pr.'!U9="F",'Liste pr.'!S9-'Liste pr.'!T9,"")) | I72: =IF('Liste pr.'!W9<='Liste pr.'!V9,IF('Liste pr.'!X9="F",'Liste pr.'!V9-'Liste pr.'!W9,"")) | J72: =SUM(C72:I72) -> 0
C73: =IF('Liste pr.'!E10<='Liste pr.'!D10,IF('Liste pr.'!F10="F",'Liste pr.'!D10-'Liste pr.'!E10," ")) | D73: =IF('Liste pr.'!H10<='Liste pr.'!G10,IF('Liste pr.'!I10="F",'Liste pr.'!G10-'Liste pr.'!H10,"")) | E73: =IF('Liste pr.'!K10<='Liste pr.'!J10,IF('Liste pr.'!L10="F",'Liste pr.'!J10-'Liste pr.'!K10,"")) | F73: =IF('Liste pr.'!N10<='Liste pr.'!M10,IF('Liste pr.'!O10="F",'Liste pr.'!M10-'Liste pr.'!N10,"")) | G73: =IF('Liste pr.'!Q10<='Liste pr.'!P10,IF('Liste pr.'!R10="F",'Liste pr.'!P10-'Liste pr.'!Q10,"")) | H73: =IF('Liste pr.'!T10<='Liste pr.'!S10,IF('Liste pr.'!U10="F",'Liste pr.'!S10-'Liste pr.'!T10,"")) | I73: =IF('Liste pr.'!W10<='Liste pr.'!V10,IF('Liste pr.'!X10="F",'Liste pr.'!V10-'Liste pr.'!W10,"")) | J73: =SUM(C73:I73) -> 0
C74: =IF('Liste pr.'!E11<='Liste pr.'!D11,IF('Liste pr.'!F11="F",'Liste pr.'!D11-'Liste pr.'!E11," ")) | D74: =IF('Liste pr.'!H11<='Liste pr.'!G11,IF('Liste pr.'!I11="F",'Liste pr.'!G11-'Liste pr.'!H11,"")) | E74: =IF('Liste pr.'!K11<='Liste pr.'!J11,IF('Liste pr.'!L11="F",'Liste pr.'!J11-'Liste pr.'!K11,"")) | F74: =IF('Liste pr.'!N11<='Liste pr.'!M11,IF('Liste pr.'!O11="F",'Liste pr.'!M11-'Liste pr.'!N11,"")) | G74: =IF('Liste pr.'!Q11<='Liste pr.'!P11,IF('Liste pr.'!R11="F",'Liste pr.'!P11-'Liste pr.'!Q11,"")) | H74: =IF('Liste pr.'!T11<='Liste pr.'!S11,IF('Liste pr.'!U11="F",'Liste pr.'!S11-'Liste pr.'!T11,"")) | I74: =IF('Liste pr.'!W11<='Liste pr.'!V11,IF('Liste pr.'!X11="F",'Liste pr.'!V11-'Liste pr.'!W11,"")) | J74: =SUM(C74:I74) -> 0
C75: =IF('Liste pr.'!E12<='Liste pr.'!D12,IF('Liste pr.'!F12="F",'Liste pr.'!D12-'Liste pr.'!E12," ")) | D75: =IF('Liste pr.'!H12<='Liste pr.'!G12,IF('Liste pr.'!I12="F",'Liste pr.'!G12-'Liste pr.'!H12,"")) | E75: =IF('Liste pr.'!K12<='Liste pr.'!J12,IF('Liste pr.'!L12="F",'Liste pr.'!J12-'Liste pr.'!K12,"")) | F75: =IF('Liste pr.'!N12<='Liste pr.'!M12,IF('Liste pr.'!O12="F",'Liste pr.'!M12-'Liste pr.'!N12,"")) | G75: =IF('Liste pr.'!Q12<='Liste pr.'!P12,IF('Liste pr.'!R12="F",'Liste pr.'!P12-'Liste pr.'!Q12,"")) | H75: =IF('Liste pr.'!T12<='Liste pr.'!S12,IF('Liste pr.'!U12="F",'Liste pr.'!S12-'Liste pr.'!T12,"")) | I75: =IF('Liste pr.'!W12<='Liste pr.'!V12,IF('Liste pr.'!X12="F",'Liste pr.'!V12-'Liste pr.'!W12,"")) | J75: =SUM(C75:I75) -> 0
C76: =IF('Liste pr.'!E13<='Liste pr.'!D13,IF('Liste pr.'!F13="F",'Liste pr.'!D13-'Liste pr.'!E13," ")) | D76: =IF('Liste pr.'!H13<='Liste pr.'!G13,IF('Liste pr.'!I13="F",'Liste pr.'!G13-'Liste pr.'!H13,"")) | E76: =IF('Liste pr.'!K13<='Liste pr.'!J13,IF('Liste pr.'!L13="F",'Liste pr.'!J13-'Liste pr.'!K13,"")) | F76: =IF('Liste pr.'!N13<='Liste pr.'!M13,IF('Liste pr.'!O13="F",'Liste pr.'!M13-'Liste pr.'!N13,"")) | G76: =IF('Liste pr.'!Q13<='Liste pr.'!P13,IF('Liste pr.'!R13="F",'Liste pr.'!P13-'Liste pr.'!Q13,"")) | H76: =IF('Liste pr.'!T13<='Liste pr.'!S13,IF('Liste pr.'!U13="F",'Liste pr.'!S13-'Liste pr.'!T13,"")) | I76: =IF('Liste pr.'!W13<='Liste pr.'!V13,IF('Liste pr.'!X13="F",'Liste pr.'!V13-'Liste pr.'!W13,"")) | J76: =SUM(C76:I76) -> 0
C77: =IF('Liste pr.'!E14<='Liste pr.'!D14,IF('Liste pr.'!F14="F",'Liste pr.'!D14-'Liste pr.'!E14," ")) | D77: =IF('Liste pr.'!H14<='Liste pr.'!G14,IF('Liste pr.'!I14="F",'Liste pr.'!G14-'Liste pr.'!H14,"")) | E77: =IF('Liste pr.'!K14<='Liste pr.'!J14,IF('Liste pr.'!L14="F",'Liste pr.'!J14-'Liste pr.'!K14,"")) | F77: =IF('Liste pr.'!N14<='Liste pr.'!M14,IF('Liste pr.'!O14="F",'Liste pr.'!M14-'Liste pr.'!N14,"")) | G77: =IF('Liste pr.'!Q14<='Liste pr.'!P14,IF('Liste pr.'!R14="F",'Liste pr.'!P14-'Liste pr.'!Q14,"")) | H77: =IF('Liste pr.'!T14<='Liste pr.'!S14,IF('Liste pr.'!U14="F",'Liste pr.'!S14-'Liste pr.'!T14,"")) | I77: =IF('Liste pr.'!W14<='Liste pr.'!V14,IF('Liste pr.'!X14="F",'Liste pr.'!V14-'Liste pr.'!W14,"")) | J77: =SUM(C77:I77) -> 0
C78: =IF('Liste pr.'!E15<='Liste pr.'!D15,IF('Liste pr.'!F15="F",'Liste pr.'!D15-'Liste pr.'!E15," ")) | D78: =IF('Liste pr.'!H15<='Liste pr.'!G15,IF('Liste pr.'!I15="F",'Liste pr.'!G15-'Liste pr.'!H15,"")) | E78: =IF('Liste pr.'!K15<='Liste pr.'!J15,IF('Liste pr.'!L15="F",'Liste pr.'!J15-'Liste pr.'!K15,"")) | F78: =IF('Liste pr.'!N15<='Liste pr.'!M15,IF('Liste pr.'!O15="F",'Liste pr.'!M15-'Liste pr.'!N15,"")) | G78: =IF('Liste pr.'!Q15<='Liste pr.'!P15,IF('Liste pr.'!R15="F",'Liste pr.'!P15-'Liste pr.'!Q15,"")) | H78: =IF('Liste pr.'!T15<='Liste pr.'!S15,IF('Liste pr.'!U15="F",'Liste pr.'!S15-'Liste pr.'!T15,"")) | I78: =IF('Liste pr.'!W15<='Liste pr.'!V15,IF('Liste pr.'!X15="F",'Liste pr.'!V15-'Liste pr.'!W15,"")) | J78: =SUM(C78:I78) -> 0
C79: =IF('Liste pr.'!E16<='Liste pr.'!D16,IF('Liste pr.'!F16="F",'Liste pr.'!D16-'Liste pr.'!E16," ")) | D79: =IF('Liste pr.'!H16<='Liste pr.'!G16,IF('Liste pr.'!I16="F",'Liste pr.'!G16-'Liste pr.'!H16,"")) | E79: =IF('Liste pr.'!K16<='Liste pr.'!J16,IF('Liste pr.'!L16="F",'Liste pr.'!J16-'Liste pr.'!K16,"")) | F79: =IF('Liste pr.'!N16<='Liste pr.'!M16,IF('Liste pr.'!O16="F",'Liste pr.'!M16-'Liste pr.'!N16,"")) | G79: =IF('Liste pr.'!Q16<='Liste pr.'!P16,IF('Liste pr.'!R16="F",'Liste pr.'!P16-'Liste pr.'!Q16,"")) | H79: =IF('Liste pr.'!T16<='Liste pr.'!S16,IF('Liste pr.'!U16="F",'Liste pr.'!S16-'Liste pr.'!T16,"")) | I79: =IF('Liste pr.'!W16<='Liste pr.'!V16,IF('Liste pr.'!X16="F",'Liste pr.'!V16-'Liste pr.'!W16,"")) | J79: =SUM(C79:I79) -> 0
C80: =IF('Liste pr.'!E17<='Liste pr.'!D17,IF('Liste pr.'!F17="F",'Liste pr.'!D17-'Liste pr.'!E17," ")) | D80: =IF('Liste pr.'!H17<='Liste pr.'!G17,IF('Liste pr.'!I17="F",'Liste pr.'!G17-'Liste pr.'!H17,"")) | E80: =IF('Liste pr.'!K17<='Liste pr.'!J17,IF('Liste pr.'!L17="F",'Liste pr.'!J17-'Liste pr.'!K17,"")) | F80: =IF('Liste pr.'!N17<='Liste pr.'!M17,IF('Liste pr.'!O17="F",'Liste pr.'!M17-'Liste pr.'!N17,"")) | G80: =IF('Liste pr.'!Q17<='Liste pr.'!P17,IF('Liste pr.'!R17="F",'Liste pr.'!P17-'Liste pr.'!Q17,"")) | H80: =IF('Liste pr.'!T17<='Liste pr.'!S17,IF('Liste pr.'!U17="F",'Liste pr.'!S17-'Liste pr.'!T17,"")) | I80: =IF('Liste pr.'!W17<='Liste pr.'!V17,IF('Liste pr.'!X17="F",'Liste pr.'!V17-'Liste pr.'!W17,"")) | J80: =SUM(C80:I80) -> 0
C81: =IF('Liste pr.'!E18<='Liste pr.'!D18,IF('Liste pr.'!F18="F",'Liste pr.'!D18-'Liste pr.'!E18," ")) | D81: =IF('Liste pr.'!H18<='Liste pr.'!G18,IF('Liste pr.'!I18="F",'Liste pr.'!G18-'Liste pr.'!H18,"")) | E81: =IF('Liste pr.'!K18<='Liste pr.'!J18,IF('Liste pr.'!L18="F",'Liste pr.'!J18-'Liste pr.'!K18,"")) | F81: =IF('Liste pr.'!N18<='Liste pr.'!M18,IF('Liste pr.'!O18="F",'Liste pr.'!M18-'Liste pr.'!N18,"")) | G81: =IF('Liste pr.'!Q18<='Liste pr.'!P18,IF('Liste pr.'!R18="F",'Liste pr.'!P18-'Liste pr.'!Q18,"")) | H81: =IF('Liste pr.'!T18<='Liste pr.'!S18,IF('Liste pr.'!U18="F",'Liste pr.'!S18-'Liste pr.'!T18,"")) | I81: =IF('Liste pr.'!W18<='Liste pr.'!V18,IF('Liste pr.'!X18="F",'Liste pr.'!V18-'Liste pr.'!W18,"")) | J81: =SUM(C81:I81) -> 0
C82: =IF('Liste pr.'!E19<='Liste pr.'!D19,IF('Liste pr.'!F19="F",'Liste pr.'!D19-'Liste pr.'!E19," ")) | D82: =IF('Liste pr.'!H19<='Liste pr.'!G19,IF('Liste pr.'!I19="F",'Liste pr.'!G19-'Liste pr.'!H19,"")) | E82: =IF('Liste pr.'!K19<='Liste pr.'!J19,IF('Liste pr.'!L19="F",'Liste pr.'!J19-'Liste pr.'!K19,"")) | F82: =IF('Liste pr.'!N19<='Liste pr.'!M19,IF('Liste pr.'!O19="F",'Liste pr.'!M19-'Liste pr.'!N19,"")) | G82: =IF('Liste pr.'!Q19<='Liste pr.'!P19,IF('Liste pr.'!R19="F",'Liste pr.'!P19-'Liste pr.'!Q19,"")) | H82: =IF('Liste pr.'!T19<='Liste pr.'!S19,IF('Liste pr.'!U19="F",'Liste pr.'!S19-'Liste pr.'!T19,"")) | I82: =IF('Liste pr.'!W19<='Liste pr.'!V19,IF('Liste pr.'!X19="F",'Liste pr.'!V19-'Liste pr.'!W19,"")) | J82: =SUM(C82:I82) -> 0
... C86: =IF('Liste pr.'!E23<='Liste pr.'!D23,IF('Liste pr.'!F23="F",'Liste pr.'!D23-'Liste pr.'!E23," ")) | D86: =IF('Liste pr.'!H23<='Liste pr.'!G23,IF('Liste pr.'!I23="F",'Liste pr.'!G23-'Liste pr.'!H23,"")) | E86: =IF('Liste pr.'!K23<='Liste pr.'!J23,IF('Liste pr.'!L23="F",'Liste pr.'!J23-'Liste pr.'!K23,"")) | F86: =IF('Liste pr.'!N23<='Liste pr.'!M23,IF('Liste pr.'!O23="F",'Liste pr.'!M23-'Liste pr.'!N23,"")) | G86: =IF('Liste pr.'!Q23<='Liste pr.'!P23,IF('Liste pr.'!R23="F",'Liste pr.'!P23-'Liste pr.'!Q23,"")) | H86: =IF('Liste pr.'!T23<='Liste pr.'!S23,IF('Liste pr.'!U23="F",'Liste pr.'!S23-'Liste pr.'!T23,"")) | I86: =IF('Liste pr.'!W23<='Liste pr.'!V23,IF('Liste pr.'!X23="F",'Liste pr.'!V23-'Liste pr.'!W23,"")) | J86: =SUM(C86:I86) -> 0
K87: verif
B88: total | C88: =SUM(C71:C86) -> 0 | D88: =SUM(D71:D86) -> 0 | E88: =SUM(E71:E86) -> 0 | F88: =SUM(F71:F86) -> 0 | G88: =SUM(G71:G86) -> 0 | H88: =SUM(H71:H86) -> 0 | I88: =SUM(I71:I86) -> 0 | J88: =SUM(C88:I88) -> 0 | K88: =SUM(J71:J86) -> 0
B92: V | C92: lundi | D92: mardi | E92: mercredi | F92: jeudi | G92: vendredi | H92: samedi | I92: dimanche | J92: total semaine
C93: =IF('Liste pr.'!E8<='Liste pr.'!D8,IF('Liste pr.'!F8="V",'Liste pr.'!D8-'Liste pr.'!E8," ")) | D93: =IF('Liste pr.'!H8<='Liste pr.'!G8,IF('Liste pr.'!I8="V",'Liste pr.'!G8-'Liste pr.'!H8,"")) | E93: =IF('Liste pr.'!K8<='Liste pr.'!J8,IF('Liste pr.'!L8="V",'Liste pr.'!J8-'Liste pr.'!K8,"")) | F93: =IF('Liste pr.'!N8<='Liste pr.'!M8,IF('Liste pr.'!O8="V",'Liste pr.'!M8-'Liste pr.'!N8,"")) | G93: =IF('Liste pr.'!Q8<='Liste pr.'!P8,IF('Liste pr.'!R8="V",'Liste pr.'!P8-'Liste pr.'!Q8,"")) | H93: =IF('Liste pr.'!T8<='Liste pr.'!S8,IF('Liste pr.'!U8="V",'Liste pr.'!S8-'Liste pr.'!T8,"")) | I93: =IF('Liste pr.'!W8<='Liste pr.'!V8,IF('Liste pr.'!X8="V",'Liste pr.'!V8-'Liste pr.'!W8,"")) | J93: =SUM(C93:I93) -> 0
C94: =IF('Liste pr.'!E9<='Liste pr.'!D9,IF('Liste pr.'!F9="V",'Liste pr.'!D9-'Liste pr.'!E9," ")) | D94: =IF('Liste pr.'!H9<='Liste pr.'!G9,IF('Liste pr.'!I9="V",'Liste pr.'!G9-'Liste pr.'!H9,"")) | E94: =IF('Liste pr.'!K9<='Liste pr.'!J9,IF('Liste pr.'!L9="V",'Liste pr.'!J9-'Liste pr.'!K9,"")) | F94: =IF('Liste pr.'!N9<='Liste pr.'!M9,IF('Liste pr.'!O9="V",'Liste pr.'!M9-'Liste pr.'!N9,"")) | G94: =IF('Liste pr.'!Q9<='Liste pr.'!P9,IF('Liste pr.'!R9="V",'Liste pr.'!P9-'Liste pr.'!Q9,"")) | H94: =IF('Liste pr.'!T9<='Liste pr.'!S9,IF('Liste pr.'!U9="V",'Liste pr.'!S9-'Liste pr.'!T9,"")) | I94: =IF('Liste pr.'!W9<='Liste pr.'!V9,IF('Liste pr.'!X9="V",'Liste pr.'!V9-'Liste pr.'!W9,"")) | J94: =SUM(C94:I94) -> 0
C95: =IF('Liste pr.'!E10<='Liste pr.'!D10,IF('Liste pr.'!F10="V",'Liste pr.'!D10-'Liste pr.'!E10," ")) | D95: =IF('Liste pr.'!H10<='Liste pr.'!G10,IF('Liste pr.'!I10="V",'Liste pr.'!G10-'Liste pr.'!H10,"")) | E95: =IF('Liste pr.'!K10<='Liste pr.'!J10,IF('Liste pr.'!L10="V",'Liste pr.'!J10-'Liste pr.'!K10,"")) | F95: =IF('Liste pr.'!N10<='Liste pr.'!M10,IF('Liste pr.'!O10="V",'Liste pr.'!M10-'Liste pr.'!N10,"")) | G95: =IF('Liste pr.'!Q10<='Liste pr.'!P10,IF('Liste pr.'!R10="V",'Liste pr.'!P10-'Liste pr.'!Q10,"")) | H95: =IF('Liste pr.'!T10<='Liste pr.'!S10,IF('Liste pr.'!U10="V",'Liste pr.'!S10-'Liste pr.'!T10,"")) | I95: =IF('Liste pr.'!W10<='Liste pr.'!V10,IF('Liste pr.'!X10="V",'Liste pr.'!V10-'Liste pr.'!W10,"")) | J95: =SUM(C95:I95) -> 0
C96: =IF('Liste pr.'!E11<='Liste pr.'!D11,IF('Liste pr.'!F11="V",'Liste pr.'!D11-'Liste pr.'!E11," ")) | D96: =IF('Liste pr.'!H11<='Liste pr.'!G11,IF('Liste pr.'!I11="V",'Liste pr.'!G11-'Liste pr.'!H11,"")) | E96: =IF('Liste pr.'!K11<='Liste pr.'!J11,IF('Liste pr.'!L11="V",'Liste pr.'!J11-'Liste pr.'!K11,"")) | F96: =IF('Liste pr.'!N11<='Liste pr.'!M11,IF('Liste pr.'!O11="V",'Liste pr.'!M11-'Liste pr.'!N11,"")) | G96: =IF('Liste pr.'!Q11<='Liste pr.'!P11,IF('Liste pr.'!R11="V",'Liste pr.'!P11-'Liste pr.'!Q11,"")) | H96: =IF('Liste pr.'!T11<='Liste pr.'!S11,IF('Liste pr.'!U11="V",'Liste pr.'!S11-'Liste pr.'!T11,"")) | I96: =IF('Liste pr.'!W11<='Liste pr.'!V11,IF('Liste pr.'!X11="V",'Liste pr.'!V11-'Liste pr.'!W11,"")) | J96: =SUM(C96:I96) -> 0
C97: =IF('Liste pr.'!E12<='Liste pr.'!D12,IF('Liste pr.'!F12="V",'Liste pr.'!D12-'Liste pr.'!E12," ")) | D97: =IF('Liste pr.'!H12<='Liste pr.'!G12,IF('Liste pr.'!I12="V",'Liste pr.'!G12-'Liste pr.'!H12,"")) -> 2 | E97: =IF('Liste pr.'!K12<='Liste pr.'!J12,IF('Liste pr.'!L12="V",'Liste pr.'!J12-'Liste pr.'!K12,"")) -> 2 | F97: =IF('Liste pr.'!N12<='Liste pr.'!M12,IF('Liste pr.'!O12="V",'Liste pr.'!M12-'Liste pr.'!N12,"")) -> 2 | G97: =IF('Liste pr.'!Q12<='Liste pr.'!P12,IF('Liste pr.'!R12="V",'Liste pr.'!P12-'Liste pr.'!Q12,"")) | H97: =IF('Liste pr.'!T12<='Liste pr.'!S12,IF('Liste pr.'!U12="V",'Liste pr.'!S12-'Liste pr.'!T12,"")) | I97: =IF('Liste pr.'!W12<='Liste pr.'!V12,IF('Liste pr.'!X12="V",'Liste pr.'!V12-'Liste pr.'!W12,"")) | J97: =SUM(C97:I97) -> 6
C98: =IF('Liste pr.'!E13<='Liste pr.'!D13,IF('Liste pr.'!F13="V",'Liste pr.'!D13-'Liste pr.'!E13," ")) | D98: =IF('Liste pr.'!H13<='Liste pr.'!G13,IF('Liste pr.'!I13="V",'Liste pr.'!G13-'Liste pr.'!H13,"")) | E98: =IF('Liste pr.'!K13<='Liste pr.'!J13,IF('Liste pr.'!L13="V",'Liste pr.'!J13-'Liste pr.'!K13,"")) | F98: =IF('Liste pr.'!N13<='Liste pr.'!M13,IF('Liste pr.'!O13="V",'Liste pr.'!M13-'Liste pr.'!N13,"")) | G98: =IF('Liste pr.'!Q13<='Liste pr.'!P13,IF('Liste pr.'!R13="V",'Liste pr.'!P13-'Liste pr.'!Q13,"")) | H98: =IF('Liste pr.'!T13<='Liste pr.'!S13,IF('Liste pr.'!U13="V",'Liste pr.'!S13-'Liste pr.'!T13,"")) | I98: =IF('Liste pr.'!W13<='Liste pr.'!V13,IF('Liste pr.'!X13="V",'Liste pr.'!V13-'Liste pr.'!W13,"")) | J98: =SUM(C98:I98) -> 0
C99: =IF('Liste pr.'!E14<='Liste pr.'!D14,IF('Liste pr.'!F14="V",'Liste pr.'!D14-'Liste pr.'!E14," ")) | D99: =IF('Liste pr.'!H14<='Liste pr.'!G14,IF('Liste pr.'!I14="V",'Liste pr.'!G14-'Liste pr.'!H14,"")) | E99: =IF('Liste pr.'!K14<='Liste pr.'!J14,IF('Liste pr.'!L14="V",'Liste pr.'!J14-'Liste pr.'!K14,"")) | F99: =IF('Liste pr.'!N14<='Liste pr.'!M14,IF('Liste pr.'!O14="V",'Liste pr.'!M14-'Liste pr.'!N14,"")) | G99: =IF('Liste pr.'!Q14<='Liste pr.'!P14,IF('Liste pr.'!R14="V",'Liste pr.'!P14-'Liste pr.'!Q14,"")) | H99: =IF('Liste pr.'!T14<='Liste pr.'!S14,IF('Liste pr.'!U14="V",'Liste pr.'!S14-'Liste pr.'!T14,"")) | I99: =IF('Liste pr.'!W14<='Liste pr.'!V14,IF('Liste pr.'!X14="V",'Liste pr.'!V14-'Liste pr.'!W14,"")) | J99: =SUM(C99:I99) -> 0
C100: =IF('Liste pr.'!E15<='Liste pr.'!D15,IF('Liste pr.'!F15="V",'Liste pr.'!D15-'Liste pr.'!E15," ")) | D100: =IF('Liste pr.'!H15<='Liste pr.'!G15,IF('Liste pr.'!I15="V",'Liste pr.'!G15-'Liste pr.'!H15,"")) | E100: =IF('Liste pr.'!K15<='Liste pr.'!J15,IF('Liste pr.'!L15="V",'Liste pr.'!J15-'Liste pr.'!K15,"")) | F100: =IF('Liste pr.'!N15<='Liste pr.'!M15,IF('Liste pr.'!O15="V",'Liste pr.'!M15-'Liste pr.'!N15,"")) | G100: =IF('Liste pr.'!Q15<='Liste pr.'!P15,IF('Liste pr.'!R15="V",'Liste pr.'!P15-'Liste pr.'!Q15,"")) | H100: =IF('Liste pr.'!T15<='Liste pr.'!S15,IF('Liste pr.'!U15="V",'Liste pr.'!S15-'Liste pr.'!T15,"")) | I100: =IF('Liste pr.'!W15<='Liste pr.'!V15,IF('Liste pr.'!X15="V",'Liste pr.'!V15-'Liste pr.'!W15,"")) | J100: =SUM(C100:I100) -> 0
C101: =IF('Liste pr.'!E16<='Liste pr.'!D16,IF('Liste pr.'!F16="V",'Liste pr.'!D16-'Liste pr.'!E16," ")) | D101: =IF('Liste pr.'!H16<='Liste pr.'!G16,IF('Liste pr.'!I16="V",'Liste pr.'!G16-'Liste pr.'!H16,"")) | E101: =IF('Liste pr.'!K16<='Liste pr.'!J16,IF('Liste pr.'!L16="V",'Liste pr.'!J16-'Liste pr.'!K16,"")) | F101: =IF('Liste pr.'!N16<='Liste pr.'!M16,IF('Liste pr.'!O16="V",'Liste pr.'!M16-'Liste pr.'!N16,"")) | G101: =IF('Liste pr.'!Q16<='Liste pr.'!P16,IF('Liste pr.'!R16="V",'Liste pr.'!P16-'Liste pr.'!Q16,"")) | H101: =IF('Liste pr.'!T16<='Liste pr.'!S16,IF('Liste pr.'!U16="V",'Liste pr.'!S16-'Liste pr.'!T16,"")) | I101: =IF('Liste pr.'!W16<='Liste pr.'!V16,IF('Liste pr.'!X16="V",'Liste pr.'!V16-'Liste pr.'!W16,"")) | J101: =SUM(C101:I101) -> 0
C102: =IF('Liste pr.'!E17<='Liste pr.'!D17,IF('Liste pr.'!F17="V",'Liste pr.'!D17-'Liste pr.'!E17," ")) | D102: =IF('Liste pr.'!H17<='Liste pr.'!G17,IF('Liste pr.'!I17="V",'Liste pr.'!G17-'Liste pr.'!H17,"")) | E102: =IF('Liste pr.'!K17<='Liste pr.'!J17,IF('Liste pr.'!L17="V",'Liste pr.'!J17-'Liste pr.'!K17,"")) | F102: =IF('Liste pr.'!N17<='Liste pr.'!M17,IF('Liste pr.'!O17="V",'Liste pr.'!M17-'Liste pr.'!N17,"")) | G102: =IF('Liste pr.'!Q17<='Liste pr.'!P17,IF('Liste pr.'!R17="V",'Liste pr.'!P17-'Liste pr.'!Q17,"")) | H102: =IF('Liste pr.'!T17<='Liste pr.'!S17,IF('Liste pr.'!U17="V",'Liste pr.'!S17-'Liste pr.'!T17,"")) | I102: =IF('Liste pr.'!W17<='Liste pr.'!V17,IF('Liste pr.'!X17="V",'Liste pr.'!V17-'Liste pr.'!W17,"")) | J102: =SUM(C102:I102) -> 0
C103: =IF('Liste pr.'!E18<='Liste pr.'!D18,IF('Liste pr.'!F18="V",'Liste pr.'!D18-'Liste pr.'!E18," ")) | D103: =IF('Liste pr.'!H18<='Liste pr.'!G18,IF('Liste pr.'!I18="V",'Liste pr.'!G18-'Liste pr.'!H18,"")) | E103: =IF('Liste pr.'!K18<='Liste pr.'!J18,IF('Liste pr.'!L18="V",'Liste pr.'!J18-'Liste pr.'!K18,"")) | F103: =IF('Liste pr.'!N18<='Liste pr.'!M18,IF('Liste pr.'!O18="V",'Liste pr.'!M18-'Liste pr.'!N18,"")) | G103: =IF('Liste pr.'!Q18<='Liste pr.'!P18,IF('Liste pr.'!R18="V",'Liste pr.'!P18-'Liste pr.'!Q18,"")) | H103: =IF('Liste pr.'!T18<='Liste pr.'!S18,IF('Liste pr.'!U18="V",'Liste pr.'!S18-'Liste pr.'!T18,"")) | I103: =IF('Liste pr.'!W18<='Liste pr.'!V18,IF('Liste pr.'!X18="V",'Liste pr.'!V18-'Liste pr.'!W18,"")) | J103: =SUM(C103:I103) -> 0
C104: =IF('Liste pr.'!E19<='Liste pr.'!D19,IF('Liste pr.'!F19="V",'Liste pr.'!D19-'Liste pr.'!E19," ")) -> 4 | D104: =IF('Liste pr.'!H19<='Liste pr.'!G19,IF('Liste pr.'!I19="V",'Liste pr.'!G19-'Liste pr.'!H19,"")) -> 2 | E104: =IF('Liste pr.'!K19<='Liste pr.'!J19,IF('Liste pr.'!L19="V",'Liste pr.'!J19-'Liste pr.'!K19,"")) | F104: =IF('Liste pr.'!N19<='Liste pr.'!M19,IF('Liste pr.'!O19="V",'Liste pr.'!M19-'Liste pr.'!N19,"")) -> 4 | G104: =IF('Liste pr.'!Q19<='Liste pr.'!P19,IF('Liste pr.'!R19="V",'Liste pr.'!P19-'Liste pr.'!Q19,"")) -> 2 | H104: =IF('Liste pr.'!T19<='Liste pr.'!S19,IF('Liste pr.'!U19="V",'Liste pr.'!S19-'Liste pr.'!T19,"")) | I104: =IF('Liste pr.'!W19<='Liste pr.'!V19,IF('Liste pr.'!X19="V",'Liste pr.'!V19-'Liste pr.'!W19,"")) | J104: =SUM(C104:I104) -> 12
... C108: =IF('Liste pr.'!E23<='Liste pr.'!D23,IF('Liste pr.'!F23="V",'Liste pr.'!D23-'Liste pr.'!E23," ")) | D108: =IF('Liste pr.'!H23<='Liste pr.'!G23,IF('Liste pr.'!I23="V",'Liste pr.'!G23-'Liste pr.'!H23,"")) | E108: =IF('Liste pr.'!K23<='Liste pr.'!J23,IF('Liste pr.'!L23="V",'Liste pr.'!J23-'Liste pr.'!K23,"")) | F108: =IF('Liste pr.'!N23<='Liste pr.'!M23,IF('Liste pr.'!O23="V",'Liste pr.'!M23-'Liste pr.'!N23,"")) | G108: =IF('Liste pr.'!Q23<='Liste pr.'!P23,IF('Liste pr.'!R23="V",'Liste pr.'!P23-'Liste pr.'!Q23,"")) | H108: =IF('Liste pr.'!T23<='Liste pr.'!S23,IF('Liste pr.'!U23="V",'Liste pr.'!S23-'Liste pr.'!T23,"")) | I108: =IF('Liste pr.'!W23<='Liste pr.'!V23,IF('Liste pr.'!X23="V",'Liste pr.'!V23-'Liste pr.'!W23,"")) | J108: =SUM(C108:I108) -> 0
K109: verif
B110: total | C110: =SUM(C93:C108) -> 6 | D110: =SUM(D93:D108) -> 8 | E110: =SUM(E93:E108) -> 4 | F110: =SUM(F93:F108) -> 10 | G110: =SUM(G93:G108) -> 4 | H110: =SUM(H93:H108) -> 0 | I110: =SUM(I93:I108) -> 0 | J110: =SUM(C110:I110) -> 32 | K110: =SUM(J93:J108) -> 32
B114: CS | C114: lundi | D114: mardi | E114: mercredi | F114: jeudi | G114: vendredi | H114: samedi | I114: dimanche | J114: total semaine
C115: =IF('Liste pr.'!E8<='Liste pr.'!D8,IF('Liste pr.'!F8="CS",'Liste pr.'!D8-'Liste pr.'!E8," ")) | D115: =IF('Liste pr.'!H8<='Liste pr.'!G8,IF('Liste pr.'!I8="CS",'Liste pr.'!G8-'Liste pr.'!H8,"")) | E115: =IF('Liste pr.'!K8<='Liste pr.'!J8,IF('Liste pr.'!L8="CS",'Liste pr.'!J8-'Liste pr.'!K8,"")) | F115: =IF('Liste pr.'!N8<='Liste pr.'!M8,IF('Liste pr.'!O8="CS",'Liste pr.'!M8-'Liste pr.'!N8,"")) | G115: =IF('Liste pr.'!Q8<='Liste pr.'!P8,IF('Liste pr.'!R8="CS",'Liste pr.'!P8-'Liste pr.'!Q8,"")) | H115: =IF('Liste pr.'!T8<='Liste pr.'!S8,IF('Liste pr.'!U8="CS",'Liste pr.'!S8-'Liste pr.'!T8,"")) | I115: =IF('Liste pr.'!W8<='Liste pr.'!V8,IF('Liste pr.'!X8="CS",'Liste pr.'!V8-'Liste pr.'!W8,"")) | J115: =SUM(C115:I115) -> 0
C116: =IF('Liste pr.'!E9<='Liste pr.'!D9,IF('Liste pr.'!F9="CS",'Liste pr.'!D9-'Liste pr.'!E9," ")) | D116: =IF('Liste pr.'!H9<='Liste pr.'!G9,IF('Liste pr.'!I9="CS",'Liste pr.'!G9-'Liste pr.'!H9,"")) | E116: =IF('Liste pr.'!K9<='Liste pr.'!J9,IF('Liste pr.'!L9="CS",'Liste pr.'!J9-'Liste pr.'!K9,"")) | F116: =IF('Liste pr.'!N9<='Liste pr.'!M9,IF('Liste pr.'!O9="CS",'Liste pr.'!M9-'Liste pr.'!N9,"")) | G116: =IF('Liste pr.'!Q9<='Liste pr.'!P9,IF('Liste pr.'!R9="CS",'Liste pr.'!P9-'Liste pr.'!Q9,"")) | H116: =IF('Liste pr.'!T9<='Liste pr.'!S9,IF('Liste pr.'!U9="CS",'Liste pr.'!S9-'Liste pr.'!T9,"")) | I116: =IF('Liste pr.'!W9<='Liste pr.'!V9,IF('Liste pr.'!X9="CS",'Liste pr.'!V9-'Liste pr.'!W9,"")) | J116: =SUM(C116:I116) -> 0
C117: =IF('Liste pr.'!E10<='Liste pr.'!D10,IF('Liste pr.'!F10="CS",'Liste pr.'!D10-'Liste pr.'!E10," ")) | D117: =IF('Liste pr.'!H10<='Liste pr.'!G10,IF('Liste pr.'!I10="CS",'Liste pr.'!G10-'Liste pr.'!H10,"")) | E117: =IF('Liste pr.'!K10<='Liste pr.'!J10,IF('Liste pr.'!L10="CS",'Liste pr.'!J10-'Liste pr.'!K10,"")) | F117: =IF('Liste pr.'!N10<='Liste pr.'!M10,IF('Liste pr.'!O10="CS",'Liste pr.'!M10-'Liste pr.'!N10,"")) | G117: =IF('Liste pr.'!Q10<='Liste pr.'!P10,IF('Liste pr.'!R10="CS",'Liste pr.'!P10-'Liste pr.'!Q10,"")) | H117: =IF('Liste pr.'!T10<='Liste pr.'!S10,IF('Liste pr.'!U10="CS",'Liste pr.'!S10-'Liste pr.'!T10,"")) | I117: =IF('Liste pr.'!W10<='Liste pr.'!V10,IF('Liste pr.'!X10="CS",'Liste pr.'!V10-'Liste pr.'!W10,"")) | J117: =SUM(C117:I117) -> 0
C118: =IF('Liste pr.'!E11<='Liste pr.'!D11,IF('Liste pr.'!F11="CS",'Liste pr.'!D11-'Liste pr.'!E11," ")) | D118: =IF('Liste pr.'!H11<='Liste pr.'!G11,IF('Liste pr.'!I11="CS",'Liste pr.'!G11-'Liste pr.'!H11,"")) | E118: =IF('Liste pr.'!K11<='Liste pr.'!J11,IF('Liste pr.'!L11="CS",'Liste pr.'!J11-'Liste pr.'!K11,"")) | F118: =IF('Liste pr.'!N11<='Liste pr.'!M11,IF('Liste pr.'!O11="CS",'Liste pr.'!M11-'Liste pr.'!N11,"")) | G118: =IF('Liste pr.'!Q11<='Liste pr.'!P11,IF('Liste pr.'!R11="CS",'Liste pr.'!P11-'Liste pr.'!Q11,"")) | H118: =IF('Liste pr.'!T11<='Liste pr.'!S11,IF('Liste pr.'!U11="CS",'Liste pr.'!S11-'Liste pr.'!T11,"")) | I118: =IF('Liste pr.'!W11<='Liste pr.'!V11,IF('Liste pr.'!X11="CS",'Liste pr.'!V11-'Liste pr.'!W11,"")) | J118: =SUM(C118:I118) -> 0
C119: =IF('Liste pr.'!E12<='Liste pr.'!D12,IF('Liste pr.'!F12="CS",'Liste pr.'!D12-'Liste pr.'!E12," ")) | D119: =IF('Liste pr.'!H12<='Liste pr.'!G12,IF('Liste pr.'!I12="CS",'Liste pr.'!G12-'Liste pr.'!H12,"")) | E119: =IF('Liste pr.'!K12<='Liste pr.'!J12,IF('Liste pr.'!L12="CS",'Liste pr.'!J12-'Liste pr.'!K12,"")) | F119: =IF('Liste pr.'!N12<='Liste pr.'!M12,IF('Liste pr.'!O12="CS",'Liste pr.'!M12-'Liste pr.'!N12,"")) | G119: =IF('Liste pr.'!Q12<='Liste pr.'!P12,IF('Liste pr.'!R12="CS",'Liste pr.'!P12-'Liste pr.'!Q12,"")) | H119: =IF('Liste pr.'!T12<='Liste pr.'!S12,IF('Liste pr.'!U12="CS",'Liste pr.'!S12-'Liste pr.'!T12,"")) | I119: =IF('Liste pr.'!W12<='Liste pr.'!V12,IF('Liste pr.'!X12="CS",'Liste pr.'!V12-'Liste pr.'!W12,"")) | J119: =SUM(C119:I119) -> 0
C120: =IF('Liste pr.'!E13<='Liste pr.'!D13,IF('Liste pr.'!F13="CS",'Liste pr.'!D13-'Liste pr.'!E13," ")) | D120: =IF('Liste pr.'!H13<='Liste pr.'!G13,IF('Liste pr.'!I13="CS",'Liste pr.'!G13-'Liste pr.'!H13,"")) | E120: =IF('Liste pr.'!K13<='Liste pr.'!J13,IF('Liste pr.'!L13="CS",'Liste pr.'!J13-'Liste pr.'!K13,"")) | F120: =IF('Liste pr.'!N13<='Liste pr.'!M13,IF('Liste pr.'!O13="CS",'Liste pr.'!M13-'Liste pr.'!N13,"")) | G120: =IF('Liste pr.'!Q13<='Liste pr.'!P13,IF('Liste pr.'!R13="CS",'Liste pr.'!P13-'Liste pr.'!Q13,"")) | H120: =IF('Liste pr.'!T13<='Liste pr.'!S13,IF('Liste pr.'!U13="CS",'Liste pr.'!S13-'Liste pr.'!T13,"")) | I120: =IF('Liste pr.'!W13<='Liste pr.'!V13,IF('Liste pr.'!X13="CS",'Liste pr.'!V13-'Liste pr.'!W13,"")) | J120: =SUM(C120:I120) -> 0
C121: =IF('Liste pr.'!E14<='Liste pr.'!D14,IF('Liste pr.'!F14="CS",'Liste pr.'!D14-'Liste pr.'!E14," ")) | D121: =IF('Liste pr.'!H14<='Liste pr.'!G14,IF('Liste pr.'!I14="CS",'Liste pr.'!G14-'Liste pr.'!H14,"")) | E121: =IF('Liste pr.'!K14<='Liste pr.'!J14,IF('Liste pr.'!L14="CS",'Liste pr.'!J14-'Liste pr.'!K14,"")) | F121: =IF('Liste pr.'!N14<='Liste pr.'!M14,IF('Liste pr.'!O14="CS",'Liste pr.'!M14-'Liste pr.'!N14,"")) | G121: =IF('Liste pr.'!Q14<='Liste pr.'!P14,IF('Liste pr.'!R14="CS",'Liste pr.'!P14-'Liste pr.'!Q14,"")) | H121: =IF('Liste pr.'!T14<='Liste pr.'!S14,IF('Liste pr.'!U14="CS",'Liste pr.'!S14-'Liste pr.'!T14,"")) | I121: =IF('Liste pr.'!W14<='Liste pr.'!V14,IF('Liste pr.'!X14="CS",'Liste pr.'!V14-'Liste pr.'!W14,"")) | J121: =SUM(C121:I121) -> 0
C122: =IF('Liste pr.'!E15<='Liste pr.'!D15,IF('Liste pr.'!F15="CS",'Liste pr.'!D15-'Liste pr.'!E15," ")) | D122: =IF('Liste pr.'!H15<='Liste pr.'!G15,IF('Liste pr.'!I15="CS",'Liste pr.'!G15-'Liste pr.'!H15,"")) | E122: =IF('Liste pr.'!K15<='Liste pr.'!J15,IF('Liste pr.'!L15="CS",'Liste pr.'!J15-'Liste pr.'!K15,"")) | F122: =IF('Liste pr.'!N15<='Liste pr.'!M15,IF('Liste pr.'!O15="CS",'Liste pr.'!M15-'Liste pr.'!N15,"")) | G122: =IF('Liste pr.'!Q15<='Liste pr.'!P15,IF('Liste pr.'!R15="CS",'Liste pr.'!P15-'Liste pr.'!Q15,"")) | H122: =IF('Liste pr.'!T15<='Liste pr.'!S15,IF('Liste pr.'!U15="CS",'Liste pr.'!S15-'Liste pr.'!T15,"")) | I122: =IF('Liste pr.'!W15<='Liste pr.'!V15,IF('Liste pr.'!X15="CS",'Liste pr.'!V15-'Liste pr.'!W15,"")) | J122: =SUM(C122:I122) -> 0
C123: =IF('Liste pr.'!E16<='Liste pr.'!D16,IF('Liste pr.'!F16="CS",'Liste pr.'!D16-'Liste pr.'!E16," ")) | D123: =IF('Liste pr.'!H16<='Liste pr.'!G16,IF('Liste pr.'!I16="CS",'Liste pr.'!G16-'Liste pr.'!H16,"")) | E123: =IF('Liste pr.'!K16<='Liste pr.'!J16,IF('Liste pr.'!L16="CS",'Liste pr.'!J16-'Liste pr.'!K16,"")) | F123: =IF('Liste pr.'!N16<='Liste pr.'!M16,IF('Liste pr.'!O16="CS",'Liste pr.'!M16-'Liste pr.'!N16,"")) | G123: =IF('Liste pr.'!Q16<='Liste pr.'!P16,IF('Liste pr.'!R16="CS",'Liste pr.'!P16-'Liste pr.'!Q16,"")) | H123: =IF('Liste pr.'!T16<='Liste pr.'!S16,IF('Liste pr.'!U16="CS",'Liste pr.'!S16-'Liste pr.'!T16,"")) | I123: =IF('Liste pr.'!W16<='Liste pr.'!V16,IF('Liste pr.'!X16="CS",'Liste pr.'!V16-'Liste pr.'!W16,"")) | J123: =SUM(C123:I123) -> 0
C124: =IF('Liste pr.'!E17<='Liste pr.'!D17,IF('Liste pr.'!F17="CS",'Liste pr.'!D17-'Liste pr.'!E17," ")) | D124: =IF('Liste pr.'!H17<='Liste pr.'!G17,IF('Liste pr.'!I17="CS",'Liste pr.'!G17-'Liste pr.'!H17,"")) | E124: =IF('Liste pr.'!K17<='Liste pr.'!J17,IF('Liste pr.'!L17="CS",'Liste pr.'!J17-'Liste pr.'!K17,"")) | F124: =IF('Liste pr.'!N17<='Liste pr.'!M17,IF('Liste pr.'!O17="CS",'Liste pr.'!M17-'Liste pr.'!N17,"")) | G124: =IF('Liste pr.'!Q17<='Liste pr.'!P17,IF('Liste pr.'!R17="CS",'Liste pr.'!P17-'Liste pr.'!Q17,"")) | H124: =IF('Liste pr.'!T17<='Liste pr.'!S17,IF('Liste pr.'!U17="CS",'Liste pr.'!S17-'Liste pr.'!T17,"")) | I124: =IF('Liste pr.'!W17<='Liste pr.'!V17,IF('Liste pr.'!X17="CS",'Liste pr.'!V17-'Liste pr.'!W17,"")) | J124: =SUM(C124:I124) -> 0
C125: =IF('Liste pr.'!E18<='Liste pr.'!D18,IF('Liste pr.'!F18="CS",'Liste pr.'!D18-'Liste pr.'!E18," ")) | D125: =IF('Liste pr.'!H18<='Liste pr.'!G18,IF('Liste pr.'!I18="CS",'Liste pr.'!G18-'Liste pr.'!H18,"")) | E125: =IF('Liste pr.'!K18<='Liste pr.'!J18,IF('Liste pr.'!L18="CS",'Liste pr.'!J18-'Liste pr.'!K18,"")) | F125: =IF('Liste pr.'!N18<='Liste pr.'!M18,IF('Liste pr.'!O18="CS",'Liste pr.'!M18-'Liste pr.'!N18,"")) | G125: =IF('Liste pr.'!Q18<='Liste pr.'!P18,IF('Liste pr.'!R18="CS",'Liste pr.'!P18-'Liste pr.'!Q18,"")) | H125: =IF('Liste pr.'!T18<='Liste pr.'!S18,IF('Liste pr.'!U18="CS",'Liste pr.'!S18-'Liste pr.'!T18,"")) | I125: =IF('Liste pr.'!W18<='Liste pr.'!V18,IF('Liste pr.'!X18="CS",'Liste pr.'!V18-'Liste pr.'!W18,"")) | J125: =SUM(C125:I125) -> 0
C126: =IF('Liste pr.'!E19<='Liste pr.'!D19,IF('Liste pr.'!F19="CS",'Liste pr.'!D19-'Liste pr.'!E19," ")) | D126: =IF('Liste pr.'!H19<='Liste pr.'!G19,IF('Liste pr.'!I19="CS",'Liste pr.'!G19-'Liste pr.'!H19,"")) | E126: =IF('Liste pr.'!K19<='Liste pr.'!J19,IF('Liste pr.'!L19="CS",'Liste pr.'!J19-'Liste pr.'!K19,"")) | F126: =IF('Liste pr.'!N19<='Liste pr.'!M19,IF('Liste pr.'!O19="CS",'Liste pr.'!M19-'Liste pr.'!N19,"")) | G126: =IF('Liste pr.'!Q19<='Liste pr.'!P19,IF('Liste pr.'!R19="CS",'Liste pr.'!P19-'Liste pr.'!Q19,"")) | H126: =IF('Liste pr.'!T19<='Liste pr.'!S19,IF('Liste pr.'!U19="CS",'Liste pr.'!S19-'Liste pr.'!T19,"")) | I126: =IF('Liste pr.'!W19<='Liste pr.'!V19,IF('Liste pr.'!X19="CS",'Liste pr.'!V19-'Liste pr.'!W19,"")) | J126: =SUM(C126:I126) -> 0
...

Sheet Liste pr.
G2: Secteur : | J2: TBS Préproduction | Q2: Semaine du | T2: 01.10.2012 | AA2: 05.10.2012
G4: Heures totales prévues pour le secteur selon contrat OFAS : | W4: heures par semaine
C6: Heures selon contrat de travail | D6: Lundi | G6: Mardi | J6: Mercredi | M6: Jeudi | P6: Vendredi | S6: Samedi | V6: Dimanche | Y6: Heures de présences effectives
A7: Nom | B7: Prénom | D7: Prévues | E7: Effectuées | F7: Motifs | G7: Prévues | H7: Effectuées | I7: Motifs | J7: Prévues | K7: Effectuées | L7: Motifs | M7: Prévues | N7: Effectuées | O7: Motifs | P7: Prévues | Q7: Effectuées | R7: Motifs | S7: Prévues | T7: Effectuées | U7: Motifs | V7: Prévues | W7: Effectuées | X7: Motifs | Z7: A | AA7: AM | AB7: M | AC7: ACC | AD7: V | AE7: CS | AF7: V+CS | AG7: S | AH7: F | AI7: AuM | AJ7: FS
C8: 8 | D8: 2 | E8: 2 | G8: 2 | J8: 2 | M8: 2 | P8: 0 | Q8: 0 | Y8: =E8+H8+K8+N8+Q8+T8+W8 -> 2 | Z8: =SUMIFS(D8,F8,"a") -> 0 | AA8: =DATA!J27 -> 0 | AB8: =DATA!J49+DATA!J159 -> 0 | AC8: =DATA!J223 -> 0 | AD8: =DATA!J93 -> 0 | AE8: =DATA!J115 -> 0 | AF8: =SUM(AD8:AE8) -> 0 | AG8: =DATA!J137 -> 0 | AH8: =DATA!J71 -> 0 | AI8: =DATA!J180 -> 0 | AJ8: =DATA!J202 -> 0
C9: =D9+G9+J9+M9+P9 -> 6 | D9: 2 | E9: 0 | F9: A | G9: 2 | J9: 0 | K9: 0 | M9: 0 | N9: 0 | P9: 2 | Y9: =E9+H9+K9+N9+Q9+T9+W9 -> 0 | Z9: =DATA!J4 -> 2 | AA9: =DATA!J28 -> 0 | AB9: =DATA!J50+DATA!J160 -> 0 | AC9: =DATA!J224 -> 0 | AD9: =DATA!J94 -> 0 | AE9: =DATA!J116 -> 0 | AF9: =SUM(AD9:AE9) -> 0 | AG9: =DATA!J138 -> 0 | AH9: =DATA!J72 -> 0 | AI9: =DATA!J181 -> 0 | AJ9: =DATA!J203 -> 0
C10: =D10+G10+J10+M10+P10 -> 6 | D10: 2 | E10: 2 | G10: 0 | H10: 0 | J10: 0 | K10: 0 | M10: 2 | P10: 2 | Y10: =E10+H10+K10+N10+Q10+T10+W10 -> 2 | Z10: =DATA!J5 -> 0 | AA10: =DATA!J29 -> 0 | AB10: =DATA!J51+DATA!J161 -> 0 | AC10: =DATA!J225 -> 0 | AD10: =DATA!J95 -> 0 | AE10: =DATA!J117 -> 0 | AF10: =SUM(AD10:AE10) -> 0 | AG10: =DATA!J139 -> 0 | AH10: =DATA!J73 -> 0 | AI10: =DATA!J182 -> 0 | AJ10: =DATA!J204 -> 0
C11: =D11+G11+J11+M11+P11 -> 8 | D11: 2 | E11: 2 | G11: 0 | H11: 0 | J11: 2 | M11: 2 | P11: 2 | Y11: =E11+H11+K11+N11+Q11+T11+W11 -> 2 | Z11: =DATA!J6 -> 0 | AA11: =DATA!J30 -> 0 | AB11: =DATA!J52+DATA!J162 -> 0 | AC11: =DATA!J226 -> 0 | AD11: =DATA!J96 -> 0 | AE11: =DATA!J118 -> 0 | AF11: =SUM(AD11:AE11) -> 0 | AG11: =DATA!J140 -> 0 | AH11: =DATA!J74 -> 0 | AI11: =DATA!J183 -> 0 | AJ11: =DATA!J205 -> 0
C12: =D12+G12+J12+M12+P12 -> 6 | D12: 0 | E12: 0 | G12: 2 | H12: 0 | I12: V | J12: 2 | K12: 0 | L12: V | M12: 2 | N12: 0 | O12: V | P12: 0 | Q12: 0 | Y12: =E12+H12+K12+N12+Q12+T12+W12 -> 0 | Z12: =DATA!J7 -> 0 | AA12: =DATA!J31 -> 0 | AB12: =DATA!J53+DATA!J163 -> 0 | AC12: =DATA!J227 -> 0 | AD12: =DATA!J97 -> 6 | AE12: =DATA!J119 -> 0 | AF12: =SUM(AD12:AE12) -> 6 | AG12: =DATA!J141 -> 0 | AH12: =DATA!J75 -> 0 | AI12: =DATA!J184 -> 0 | AJ12: =DATA!J206 -> 0
C13: =D13+G13+J13+M13+P13 -> 10 | D13: 4 | E13: 4 | G13: 2 | J13: 0 | K13: 0 | M13: 2 | P13: 2 | Y13: =E13+H13+K13+N13+Q13+T13+W13 -> 4 | Z13: =DATA!J8 -> 0 | AA13: =DATA!J32 -> 0 | AB13: =DATA!J54+DATA!J164 -> 0 | AC13: =DATA!J228 -> 0 | AD13: =DATA!J98 -> 0 | AE13: =DATA!J120 -> 0 | AF13: =SUM(AD13:AE13) -> 0 | AG13: =DATA!J142 -> 0 | AH13: =DATA!J76 -> 0 | AI13: =DATA!J185 -> 0 | AJ13: =DATA!J207 -> 0
C14: =D14+G14+J14+M14+P14 -> 8 | D14: 2 | E14: 0 | F14: AM | G14: 2 | J14: 0 | K14: 0 | M14: 2 | P14: 2 | Y14: =E14+H14+K14+N14+Q14+T14+W14 -> 0 | Z14: =DATA!J9 -> 0 | AA14: =DATA!J33 -> 2 | AB14: =DATA!J55+DATA!J165 -> 0 | AC14: =DATA!J229 -> 0 | AD14: =DATA!J99 -> 0 | AE14: =DATA!J121 -> 0 | AF14: =SUM(AD14:AE14) -> 0 | AG14: =DATA!J143 -> 0 | AH14: =DATA!J77 -> 0 | AI14: =DATA!J186 -> 0 | AJ14: =DATA!J208 -> 0
C15: =D15+G15+J15+M15+P15 -> 8 | D15: 2 | E15: 2 | G15: 2 | J15: 2 | M15: 2 | P15: 0 | Q15: 0 | Y15: =E15+H15+K15+N15+Q15+T15+W15 -> 2 | Z15: =DATA!J10 -> 0 | AA15: =DATA!J34 -> 0 | AB15: =DATA!J56+DATA!J166 -> 0 | AC15: =DATA!J230 -> 0 | AD15: =DATA!J100 -> 0 | AE15: =DATA!J122 -> 0 | AF15: =SUM(AD15:AE15) -> 0 | AG15: =DATA!J144 -> 0 | AH15: =DATA!J78 -> 0 | AI15: =DATA!J187 -> 0 | AJ15: =DATA!J209 -> 0
C16: =D16+G16+J16+M16+P16 -> 8 | D16: 2 | E16: 2 | G16: 2 | J16: 0 | K16: 0 | M16: 2 | P16: 2 | Y16: =E16+H16+K16+N16+Q16+T16+W16 -> 2 | Z16: =DATA!J11 -> 0 | AA16: =DATA!J35 -> 0 | AB16: =DATA!J57+DATA!J167 -> 0 | AC16: =DATA!J231 -> 0 | AD16: =DATA!J101 -> 0 | AE16: =DATA!J123 -> 0 | AF16: =SUM(AD16:AE16) -> 0 | AG16: =DATA!J145 -> 0 | AH16: =DATA!J79 -> 0 | AI16: =DATA!J188 -> 0 | AJ16: =DATA!J210 -> 0
C17: =D17+G17+J17+M17+P17 -> 16 | D17: 2 | E17: 2 | G17: 6 | J17: 6 | M17: 0 | N17: 0 | P17: 2 | Y17: =E17+H17+K17+N17+Q17+T17+W17 -> 2 | Z17: =DATA!J12 -> 0 | AA17: =DATA!J36 -> 0 | AB17: =DATA!J58+DATA!J168 -> 0 | AC17: =DATA!J232 -> 0 | AD17: =DATA!J102 -> 0 | AE17: =DATA!J124 -> 0 | AF17: =SUM(AD17:AE17) -> 0 | AG17: =DATA!J146 -> 0 | AH17: =DATA!J80 -> 0 | AI17: =DATA!J189 -> 0 | AJ17: =DATA!J211 -> 0
C18: =D18+G18+J18+M18+P18 -> 6 | D18: 2 | E18: 2 | G18: 2 | J18: 2 | M18: 0 | N18: 0 | P18: 0 | Q18: 0 | Y18: =E18+H18+K18+N18+Q18+T18+W18 -> 2 | Z18: =DATA!J13 -> 0 | AA18: =DATA!J37 -> 0 | AB18: =DATA!J59+DATA!J169 -> 0 | AC18: =DATA!J233 -> 0 | AD18: =DATA!J103 -> 0 | AE18: =DATA!J125 -> 0 | AF18: =SUM(AD18:AE18) -> 0 | AG18: =DATA!J147 -> 0 | AH18: =DATA!J81 -> 0 | AI18: =DATA!J190 -> 0 | AJ18: =DATA!J212 -> 0
C19: =D19+G19+J19+M19+P19 -> 12 | D19: 4 | E19: 0 | F19: V | G19: 2 | H19: 0 | I19: V | J19: 0 | K19: 0 | M19: 4 | N19: 0 | O19: V | P19: 2 | Q19: 0 | R19: V | Y19: =E19+H19+K19+N19+Q19+T19+W19 -> 0 | Z19: =DATA!J14 -> 0 | AA19: =DATA!J38 -> 0 | AB19: =DATA!J60+DATA!J170 -> 0 | AC19: =DATA!J234 -> 0 | AD19: =DATA!J104 -> 12 | AE19: =DATA!J126 -> 0 | AF19: =SUM(AD19:AE19) -> 12 | AG19: =DATA!J148 -> 0 | AH19: =DATA!J82 -> 0 | AI19: =DATA!J191 -> 0 | AJ19: =DATA!J213 -> 0
C20: =D20+G20+J20+M20+P20 -> 6 | D20: 0 | E20: 0 | G20: 2 | H20: 0 | I20: V | J20: 2 | K20: 0 | L20: V | M20: 2 | N20: 0 | O20: V | P20: 0 | Q20: 0 | Y20: =E20+H20+K20+N20+Q20+T20+W20 -> 0 | Z20: =DATA!J15 -> 0 | AA20: =DATA!J39 -> 0 | AB20: =DATA!J61+DATA!J171 -> 0 | AC20: =DATA!J235 -> 0 | AD20: =DATA!J105 -> 6 | AE20: =DATA!J127 -> 0 | AF20: =SUM(AD20:AE20) -> 6 | AG20: =DATA!J149 -> 0 | AH20: =DATA!J83 -> 0 | AI20: =DATA!J192 -> 0 | AJ20: =DATA!J214 -> 0
C21: =D21+G21+J21+M21+P21 -> 8 | D21: 2 | E21: 0 | F21: V | G21: 2 | H21: 0 | I21: V | J21: 0 | K21: 0 | M21: 2 | N21: 0 | O21: V | P21: 2 | Q21: 0 | R21: V | Y21: =E21+H21+K21+N21+Q21+T21+W21 -> 0 | Z21: =DATA!J16 -> 0 | AA21: =DATA!J40 -> 0 | AB21: =DATA!J62+DATA!J172 -> 0 | AC21: =DATA!J236 -> 0 | AD21: =DATA!J106 -> 8 | AE21: =DATA!J128 -> 0 | AF21: =SUM(AD21:AE21) -> 8 | AG21: =DATA!J150 -> 0 | AH21: =DATA!J84 -> 0 | AI21: =DATA!J193 -> 0 | AJ21: =DATA!J215 -> 0
C22: =D22+G22+J22+M22+P22 -> 6 | D22: 2 | E22: 2 | G22: 0 | H22: 0 | J22: 0 | K22: 0 | M22: 2 | P22: 2 | Y22: =E22+H22+K22+N22+Q22+T22+W22 -> 2 | Z22: =DATA!J17 -> 0 | AA22: =DATA!J41 -> 0 | AB22: =DATA!J63+DATA!J173 -> 0 | AC22: =DATA!J237 -> 0 | AD22: =DATA!J107 -> 0 | AE22: =DATA!J129 -> 0 | AF22: =SUM(AD22:AE22) -> 0 | AG22: =DATA!J151 -> 0 | AH22: =DATA!J85 -> 0 | AI22: =DATA!J194 -> 0 | AJ22: =DATA!J216 -> 0
C23: 6 | D23: 0 | E23: 0 | G23: 2 | J23: 2 | M23: 2 | P23: 0 | Q23: 0 | Y23: =E23+H23+K23+N23+Q23+T23+W23 -> 0 | Z23: =DATA!J18 -> 0 | AA23: =DATA!J42 -> 0 | AB23: =DATA!J64+DATA!J174 -> 0 | AC23: =DATA!J238 -> 0 | AD23: =DATA!J108 -> 0 | AE23: =DATA!J130 -> 0 | AF23: =SUM(AD23:AE23) -> 0 | AG23: =DATA!J152 -> 0 | AH23: =DATA!J86 -> 0 | AI23: =DATA!J195 -> 0 | AJ23: =DATA!J217 -> 0
B25: TOTAL | C25: =SUM(C8:C23) -> 128 | F25: Différence OFAS : | L25: =U4-C25 -> -128 | W25: TOTAL | Y25: =SUM(Y8:Y23) -> 20 | Z25: =SUM(Z8:Z23) -> 2 | AA25: =SUM(AA8:AA23) -> 2 | AB25: =SUM(AB8:AB23) -> 0 | AC25: =SUM(AC8:AC23) -> 0 | AD25: =SUM(AD8:AD23) -> 32 | AE25: =SUM(AE8:AE23) -> 0 | AF25: =SUM(AF8:AF23) -> 32 | ... AJ25: =SUM(AJ8:AJ23) -> 0
A27: A: absence injustifiée AM: absence pour maladie (<3 jours) M: maladie avec certificat TP: temps partiel avec certificat F: Férié (0) V: vacances CS: congés spéciaux
A28: S: stage externe ACC : accident FS : fermeture de secteur (non planifiée) AuM: autre motif d'absence
