Workbook

Sheet Initial
B4: Numéro | C4: Couleur | D4: Veste | E4: Jupe | F4: Tablier
B5: 11-01 | C5: Vert | D5: 1
B6: 11-02 | C6: Vert
B7: 11-03 | C7: Rouge | D7: 1
B8: 11-04 | C8: Bleu | F8: 1
B9: 11-05 | C9: Jaune | E9: 1
C11: Totaux | D11: =SUM(D5:D9) -> 2 | E11: =SUM(E5:E9) -> 1 | F11: =SUM(F5:F9) -> 1

Sheet Contrôle 2017
B4: Numéro | C4: Couleur | D4: Veste | E4: Jupe | F4: Tablier
B5: =REPT(Initial!B5,1) -> 11-01 | C5: =REPT(Initial!C5,1) -> Vert | D5: =REPT(Initial!D5,1) -> 1 | E5: =REPT(Initial!E5,1) | F5: =REPT(Initial!F5,1)
B6: =REPT(Initial!B6,1) -> 11-02 | C6: =REPT(Initial!C6,1) -> Vert | D6: =REPT(Initial!D6,1) | E6: =REPT(Initial!E6,1) | F6: =REPT(Initial!F6,1)
B7: =REPT(Initial!B7,1) -> 11-03 | C7: =REPT(Initial!C7,1) -> Rouge | D7: =REPT(Initial!D7,1) -> 1 | E7: =REPT(Initial!E7,1) | F7: =REPT(Initial!F7,1)
B8: =REPT(Initial!B8,1) -> 11-04 | C8: =REPT(Initial!C8,1) -> Bleu | D8: =REPT(Initial!D8,1) | E8: =REPT(Initial!E8,1) | F8: =REPT(Initial!F8,1) -> 1
B9: =REPT(Initial!B9,1) -> 11-05 | C9: =REPT(Initial!C9,1) -> Jaune | D9: =REPT(Initial!D9,1) | E9: =REPT(Initial!E9,1) -> 1 | F9: =REPT(Initial!F9,1)
D10: =REPT(Initial!D10,1) | E10: =REPT(Initial!E10,1) | F10: =REPT(Initial!F10,1)
C11: Totaux | D11: =REPT(Initial!D11,1) -> 2 | E11: =REPT(Initial!E11,1) -> 1 | F11: =REPT(Initial!F11,1) -> 1
