Workbook
Name LReporté: Feuil2!$B$4:$K$4

Sheet Feuil1
A1: N° | B1: CLIENT | E1: 2016
A2: 1 | B2: Dupont | C2: =IF(COUNTIFS(Feuil2!5:5,"X")+COUNTIFS(Feuil2!$4:$4,"reporté")>1,"reservé","") | E2: =IF(AND(E1="2016",Feuil1!B5="X"),"réservé","")
A3: 2 | B3: Durand | C3: =IF(COUNTIFS(Feuil2!6:6,"X")+COUNTIFS(Feuil2!$4:$4,"reporté")>1,"reservé","")
C4: =IF(COUNTIFS(Feuil2!7:7,"X")+COUNTIFS(Feuil2!$4:$4,"reporté")>1,"reservé","")
C5: =IF(COUNTIFS(Feuil2!8:8,"X")+COUNTIFS(Feuil2!$4:$4,"reporté")>1,"reservé","")
C6: =IF(COUNTIFS(Feuil2!9:9,"X")+COUNTIFS(Feuil2!$4:$4,"reporté")>1,"reservé","")
C7: =IF(COUNTIFS(Feuil2!10:10,"X")+COUNTIFS(Feuil2!$4:$4,"reporté")>1,"reservé","")
C8: =IF(COUNTIFS(Feuil2!11:11,"X")+COUNTIFS(Feuil2!$4:$4,"reporté")>1,"reservé","")
C9: =IF(COUNTIFS(Feuil2!12:12,"X")+COUNTIFS(Feuil2!$4:$4,"reporté")>1,"reservé","")
C10: =IF(COUNTIFS(Feuil2!13:13,"X")+COUNTIFS(Feuil2!$4:$4,"reporté")>1,"reservé","")
C11: =IF(COUNTIFS(Feuil2!14:14,"X")+COUNTIFS(Feuil2!$4:$4,"reporté")>1,"reservé","")
C12: =IF(COUNTIFS(Feuil2!15:15,"X")+COUNTIFS(Feuil2!$4:$4,"reporté")>1,"reservé","")
C13: =IF(COUNTIFS(Feuil2!16:16,"X")+COUNTIFS(Feuil2!$4:$4,"reporté")>1,"reservé","")
C14: =IF(COUNTIFS(Feuil2!17:17,"X")+COUNTIFS(Feuil2!$4:$4,"reporté")>1,"reservé","")
C15: =IF(COUNTIFS(Feuil2!18:18,"X")+COUNTIFS(Feuil2!$4:$4,"reporté")>1,"reservé","")
C16: =IF(COUNTIFS(Feuil2!19:19,"X")+COUNTIFS(Feuil2!$4:$4,"reporté")>1,"reservé","")
C17: =IF(COUNTIFS(Feuil2!20:20,"X")+COUNTIFS(Feuil2!$4:$4,"reporté")>1,"reservé","")
C18: =IF(COUNTIFS(Feuil2!21:21,"X")+COUNTIFS(Feuil2!$4:$4,"reporté")>1,"reservé","")
C19: =IF(COUNTIFS(Feuil2!22:22,"X")+COUNTIFS(Feuil2!$4:$4,"reporté")>1,"reservé","")
C20: =IF(COUNTIFS(Feuil2!23:23,"X")+COUNTIFS(Feuil2!$4:$4,"reporté")>1,"reservé","")
C21: =IF(COUNTIFS(Feuil2!24:24,"X")+COUNTIFS(Feuil2!$4:$4,"reporté")>1,"reservé","")
C22: =IF(COUNTIFS(Feuil2!25:25,"X")+COUNTIFS(Feuil2!$4:$4,"reporté")>1,"reservé","")
C23: =IF(COUNTIFS(Feuil2!26:26,"X")+COUNTIFS(Feuil2!$4:$4,"reporté")>1,"reservé","")
C24: =IF(COUNTIFS(Feuil2!27:27,"X")+COUNTIFS(Feuil2!$4:$4,"reporté")>1,"reservé","")
C25: =IF(COUNTIFS(Feuil2!28:28,"X")+COUNTIFS(Feuil2!$4:$4,"reporté")>1,"reservé","")
C26: =IF(COUNTIFS(Feuil2!29:29,"X")+COUNTIFS(Feuil2!$4:$4,"reporté")>1,"reservé","")
C27: =IF(COUNTIFS(Feuil2!30:30,"X")+COUNTIFS(Feuil2!$4:$4,"reporté")>1,"reservé","")
C28: =IF(COUNTIFS(Feuil2!31:31,"X")+COUNTIFS(Feuil2!$4:$4,"reporté")>1,"reservé","")
C29: =IF(COUNTIFS(Feuil2!32:32,"X")+COUNTIFS(Feuil2!$4:$4,"reporté")>1,"reservé","")
C30: =IF(COUNTIFS(Feuil2!33:33,"X")+COUNTIFS(Feuil2!$4:$4,"reporté")>1,"reservé","")
C31: =IF(COUNTIFS(Feuil2!34:34,"X")+COUNTIFS(Feuil2!$4:$4,"reporté")>1,"reservé","")
C32: =IF(COUNTIFS(Feuil2!35:35,"X")+COUNTIFS(Feuil2!$4:$4,"reporté")>1,"reservé","")
C33: =IF(COUNTIFS(Feuil2!36:36,"X")+COUNTIFS(Feuil2!$4:$4,"reporté")>1,"reservé","")
C34: =IF(COUNTIFS(Feuil2!37:37,"X")+COUNTIFS(Feuil2!$4:$4,"reporté")>1,"reservé","")
C35: =IF(COUNTIFS(Feuil2!38:38,"X")+COUNTIFS(Feuil2!$4:$4,"reporté")>1,"reservé","")
C36: =IF(COUNTIFS(Feuil2!39:39,"X")+COUNTIFS(Feuil2!$4:$4,"reporté")>1,"reservé","")
C37: =IF(COUNTIFS(Feuil2!40:40,"X")+COUNTIFS(Feuil2!$4:$4,"reporté")>1,"reservé","")
C38: =IF(COUNTIFS(Feuil2!41:41,"X")+COUNTIFS(Feuil2!$4:$4,"reporté")>1,"reservé","")
C39: =IF(COUNTIFS(Feuil2!42:42,"X")+COUNTIFS(Feuil2!$4:$4,"reporté")>1,"reservé","")
C40: =IF(COUNTIFS(Feuil2!43:43,"X")+COUNTIFS(Feuil2!$4:$4,"reporté")>1,"reservé","")
C41: =IF(COUNTIFS(Feuil2!44:44,"X")+COUNTIFS(Feuil2!$4:$4,"reporté")>1,"reservé","")
C42: =IF(COUNTIFS(Feuil2!45:45,"X")+COUNTIFS(Feuil2!$4:$4,"reporté")>1,"reservé","")
C43: =IF(COUNTIFS(Feuil2!46:46,"X")+COUNTIFS(Feuil2!$4:$4,"reporté")>1,"reservé","")
C44: =IF(COUNTIFS(Feuil2!47:47,"X")+COUNTIFS(Feuil2!$4:$4,"reporté")>1,"reservé","")
C45: =IF(COUNTIFS(Feuil2!48:48,"X")+COUNTIFS(Feuil2!$4:$4,"reporté")>1,"reservé","")
C46: =IF(COUNTIFS(Feuil2!49:49,"X")+COUNTIFS(Feuil2!$4:$4,"reporté")>1,"reservé","")
C47: =IF(COUNTIFS(Feuil2!50:50,"X")+COUNTIFS(Feuil2!$4:$4,"reporté")>1,"reservé","")
C48: =IF(COUNTIFS(Feuil2!51:51,"X")+COUNTIFS(Feuil2!$4:$4,"reporté")>1,"reservé","")
C49: =IF(COUNTIFS(Feuil2!52:52,"X")+COUNTIFS(Feuil2!$4:$4,"reporté")>1,"reservé","")
C50: =IF(COUNTIFS(Feuil2!53:53,"X")+COUNTIFS(Feuil2!$4:$4,"reporté")>1,"reservé","")
C51: =IF(COUNTIFS(Feuil2!54:54,"X")+COUNTIFS(Feuil2!$4:$4,"reporté")>1,"reservé","")
C52: =IF(COUNTIFS(Feuil2!55:55,"X")+COUNTIFS(Feuil2!$4:$4,"reporté")>1,"reservé","")
C53: =IF(COUNTIFS(Feuil2!56:56,"X")+COUNTIFS(Feuil2!$4:$4,"reporté")>1,"reservé","")
C54: =IF(COUNTIFS(Feuil2!57:57,"X")+COUNTIFS(Feuil2!$4:$4,"reporté")>1,"reservé","")
C55: =IF(COUNTIFS(Feuil2!58:58,"X")+COUNTIFS(Feuil2!$4:$4,"reporté")>1,"reservé","")
C56: =IF(COUNTIFS(Feuil2!59:59,"X")+COUNTIFS(Feuil2!$4:$4,"reporté")>1,"reservé","")
C57: =IF(COUNTIFS(Feuil2!60:60,"X")+COUNTIFS(Feuil2!$4:$4,"reporté")>1,"reservé","")
C58: =IF(COUNTIFS(Feuil2!61:61,"X")+COUNTIFS(Feuil2!$4:$4,"reporté")>1,"reservé","")
C59: =IF(COUNTIFS(Feuil2!62:62,"X")+COUNTIFS(Feuil2!$4:$4,"reporté")>1,"reservé","")
C60: =IF(COUNTIFS(Feuil2!63:63,"X")+COUNTIFS(Feuil2!$4:$4,"reporté")>1,"reservé","")
C61: =IF(COUNTIFS(Feuil2!64:64,"X")+COUNTIFS(Feuil2!$4:$4,"reporté")>1,"reservé","")
C62: =IF(COUNTIFS(Feuil2!65:65,"X")+COUNTIFS(Feuil2!$4:$4,"reporté")>1,"reservé","")
C63: =IF(COUNTIFS(Feuil2!66:66,"X")+COUNTIFS(Feuil2!$4:$4,"reporté")>1,"reservé","")
C64: =IF(COUNTIFS(Feuil2!67:67,"X")+COUNTIFS(Feuil2!$4:$4,"reporté")>1,"reservé","")
C65: =IF(COUNTIFS(Feuil2!68:68,"X")+COUNTIFS(Feuil2!$4:$4,"reporté")>1,"reservé","")
C66: =IF(COUNTIFS(Feuil2!69:69,"X")+COUNTIFS(Feuil2!$4:$4,"reporté")>1,"reservé","")
C67: =IF(COUNTIFS(Feuil2!70:70,"X")+COUNTIFS(Feuil2!$4:$4,"reporté")>1,"reservé","")
C68: =IF(COUNTIFS(Feuil2!71:71,"X")+COUNTIFS(Feuil2!$4:$4,"reporté")>1,"reservé","")
C69: =IF(COUNTIFS(Feuil2!72:72,"X")+COUNTIFS(Feuil2!$4:$4,"reporté")>1,"reservé","")
C70: =IF(COUNTIFS(Feuil2!73:73,"X")+COUNTIFS(Feuil2!$4:$4,"reporté")>1,"reservé","")
C71: =IF(COUNTIFS(Feuil2!74:74,"X")+COUNTIFS(Feuil2!$4:$4,"reporté")>1,"reservé","")
C72: =IF(COUNTIFS(Feuil2!75:75,"X")+COUNTIFS(Feuil2!$4:$4,"reporté")>1,"reservé","")
C73: =IF(COUNTIFS(Feuil2!76:76,"X")+COUNTIFS(Feuil2!$4:$4,"reporté")>1,"reservé","")
C74: =IF(COUNTIFS(Feuil2!77:77,"X")+COUNTIFS(Feuil2!$4:$4,"reporté")>1,"reservé","")
C75: =IF(COUNTIFS(Feuil2!78:78,"X")+COUNTIFS(Feuil2!$4:$4,"reporté")>1,"reservé","")
C76: =IF(COUNTIFS(Feuil2!79:79,"X")+COUNTIFS(Feuil2!$4:$4,"reporté")>1,"reservé","")
C77: =IF(COUNTIFS(Feuil2!80:80,"X")+COUNTIFS(Feuil2!$4:$4,"reporté")>1,"reservé","")
C78: =IF(COUNTIFS(Feuil2!81:81,"X")+COUNTIFS(Feuil2!$4:$4,"reporté")>1,"reservé","")
C79: =IF(COUNTIFS(Feuil2!82:82,"X")+COUNTIFS(Feuil2!$4:$4,"reporté")>1,"reservé","")
C80: =IF(COUNTIFS(Feuil2!83:83,"X")+COUNTIFS(Feuil2!$4:$4,"reporté")>1,"reservé","")
C81: =IF(COUNTIFS(Feuil2!84:84,"X")+COUNTIFS(Feuil2!$4:$4,"reporté")>1,"reservé","")
C82: =IF(COUNTIFS(Feuil2!85:85,"X")+COUNTIFS(Feuil2!$4:$4,"reporté")>1,"reservé","")
C83: =IF(COUNTIFS(Feuil2!86:86,"X")+COUNTIFS(Feuil2!$4:$4,"reporté")>1,"reservé","")
C84: =IF(COUNTIFS(Feuil2!87:87,"X")+COUNTIFS(Feuil2!$4:$4,"reporté")>1,"reservé","")
C85: =IF(COUNTIFS(Feuil2!88:88,"X")+COUNTIFS(Feuil2!$4:$4,"reporté")>1,"reservé","")
C86: =IF(COUNTIFS(Feuil2!89:89,"X")+COUNTIFS(Feuil2!$4:$4,"reporté")>1,"reservé","")
C87: =IF(COUNTIFS(Feuil2!90:90,"X")+COUNTIFS(Feuil2!$4:$4,"reporté")>1,"reservé","")
C88: =IF(COUNTIFS(Feuil2!91:91,"X")+COUNTIFS(Feuil2!$4:$4,"reporté")>1,"reservé","")
C89: =IF(COUNTIFS(Feuil2!92:92,"X")+COUNTIFS(Feuil2!$4:$4,"reporté")>1,"reservé","")
C90: =IF(COUNTIFS(Feuil2!93:93,"X")+COUNTIFS(Feuil2!$4:$4,"reporté")>1,"reservé","")
C91: =IF(COUNTIFS(Feuil2!94:94,"X")+COUNTIFS(Feuil2!$4:$4,"reporté")>1,"reservé","")
C92: =IF(COUNTIFS(Feuil2!95:95,"X")+COUNTIFS(Feuil2!$4:$4,"reporté")>1,"reservé","")
C93: =IF(COUNTIFS(Feuil2!96:96,"X")+COUNTIFS(Feuil2!$4:$4,"reporté")>1,"reservé","")
C94: =IF(COUNTIFS(Feuil2!97:97,"X")+COUNTIFS(Feuil2!$4:$4,"reporté")>1,"reservé","")
C95: =IF(COUNTIFS(Feuil2!98:98,"X")+COUNTIFS(Feuil2!$4:$4,"reporté")>1,"reservé","")
C96: =IF(COUNTIFS(Feuil2!99:99,"X")+COUNTIFS(Feuil2!$4:$4,"reporté")>1,"reservé","")
C97: =IF(COUNTIFS(Feuil2!100:100,"X")+COUNTIFS(Feuil2!$4:$4,"reporté")>1,"reservé","")
C98: =IF(COUNTIFS(Feuil2!101:101,"X")+COUNTIFS(Feuil2!$4:$4,"reporté")>1,"reservé","")
C99: =IF(COUNTIFS(Feuil2!102:102,"X")+COUNTIFS(Feuil2!$4:$4,"reporté")>1,"reservé","")
C100: =IF(COUNTIFS(Feuil2!103:103,"X")+COUNTIFS(Feuil2!$4:$4,"reporté")>1,"reservé","")
...

Sheet Feuil2
A1: ANNEE ==> | B1: 2016 | C1: 2017 | D1: 2018 | E1: 2019 | F1: 2020 | G1: 2021 | H1: 2022 | I1: 2023 | J1: 2024 | K1: 2025
A2: Nombre clients ==> | B2: =COUNTIF(B5:B120,"OK") -> 0 | C2: =COUNTIF(C5:C120,"OK") -> 0 | D2: =COUNTIF(D5:D120,"OK") -> 0 | E2: =COUNTIF(E5:E120,"OK") -> 0 | F2: =COUNTIF(F5:F120,"OK") -> 0 | G2: =COUNTIF(G5:G120,"OK") -> 0 | H2: =COUNTIF(H5:H120,"OK") -> 0 | I2: =COUNTIF(I5:I120,"OK") -> 0 | ... K2: =COUNTIF(K5:K120,"OK") -> 0
A3: Pourcentage ==> | B3: =B2/113 -> 0 | C3: =C2/113 -> 0 | D3: =D2/113 -> 0 | E3: =E2/113 -> 0 | F3: =F2/113 -> 0 | G3: =G2/113 -> 0 | H3: =H2/113 -> 0 | I3: =I2/113 -> 0 | ... K3: =K2/113 -> 0
A4: Client
A5: Dupont | B5: X | M5: =IF(COUNTIFS(LReporté,"reporté"),"réservé","") | N5: =IF(COUNTIFS(LReporté,"reporté"),"réservé","") | P5: =IF(AND(C4="reporté",C5="OK"),"réservé","")
A6: Durand | B6: X
