Workbook
Name LReporté: Feuil2!$B$4:$K$4

Sheet Feuil1
A1: N° | B1: CLIENT | E1: 2016
A2: 1 | B2: Dupont | C2: =IF(COUNTIFS(Feuil2!5:5,"X")+COUNTIFS(Feuil2!$4:$4,"reporté")>1,"reservé","") | E2: =IF(AND(E1="2016",Feuil1!B5="X"),"réservé","")
A3: 2 | B3: Durand | C3: =IF(COUNTIFS(Feuil2!6:6,"X")+COUNTIFS(Feuil2!$4:$4,"reporté")>1,"reservé","")
C4: =IF(COUNTIFS(Feuil2!7:7,"X")+COUNTIFS(Feuil2!$4:$4,"reporté")>1,"reservé","")
C5: =IF(COUNTIFS(Feuil2!8:8,"X")+COUNTIFS(Feuil2!$4:$4,"reporté")>1,"reservé","")
C6: =IF(COUNTIFS(Feuil2!9:9,"X")+COUNTIFS(Feuil2!$4:$4,"reporté")>1,"reservé","")
C7: =IF(COUNTIFS(Feuil2!10:10,"X")+COUNTIFS(Feuil2!$4:$4,"reporté")>1,"reservé","")
C8: =IF(COUNTIFS(Feuil2!11:11,"X")+COUNTIFS(Feuil2!$4:$4,"reporté")>1,"reservé","")
C9: =IF(COUNTIFS(Feuil2!12:12,"X")+COUNTIFS(Feuil2!$4:$4,"reporté")>1,"reservé","")
C10: =IF(COUNTIFS(Feuil2!13:13,"X")+COUNTIFS(Feuil2!$4:$4,"reporté")>1,"reservé","")
C11: =IF(COUNTIFS(Feuil2!14:14,"X")+COUNTIFS(Feuil2!$4:$4,"reporté")>1,"reservé","")
C12: =IF(COUNTIFS(Feuil2!15:15,"X")+COUNTIFS(Feuil2!$4:$4,"reporté")>1,"reservé","")
C13: =IF(COUNTIFS(Feuil2!16:16,"X")+COUNTIFS(Feuil2!$4:$4,"reporté")>1,"reservé","")
C14: =IF(COUNTIFS(Feuil2!17:17,"X")+COUNTIFS(Feuil2!$4:$4,"reporté")>1,"reservé","")
C15: =IF(COUNTIFS(Feuil2!18:18,"X")+COUNTIFS(Feuil2!$4:$4,"reporté")>1,"reservé","")
C16: =IF(COUNTIFS(Feuil2!19:19,"X")+COUNTIFS(Feuil2!$4:$4,"reporté")>1,"reservé","")
C17: =IF(COUNTIFS(Feuil2!20:20,"X")+COUNTIFS(Feuil2!$4:$4,"reporté")>1,"reservé","")
C18: =IF(COUNTIFS(Feuil2!21:21,"X")+COUNTIFS(Feuil2!$4:$4,"reporté")>1,"reservé","")
C19: =IF(COUNTIFS(Feuil2!22:22,"X")+COUNTIFS(Feuil2!$4:$4,"reporté")>1,"reservé","")
C20: =IF(COUNTIFS(Feuil2!23:23,"X")+COUNTIFS(Feuil2!$4:$4,"reporté")>1,"reservé","")
C21: =IF(COUNTIFS(Feuil2!24:24,"X")+COUNTIFS(Feuil2!$4:$4,"reporté")>1,"reservé","")
C22: =IF(COUNTIFS(Feuil2!25:25,"X")+COUNTIFS(Feuil2!$4:$4,"reporté")>1,"reservé","")
C23: =IF(COUNTIFS(Feuil2!26:26,"X")+COUNTIFS(Feuil2!$4:$4,"reporté")>1,"reservé","")
C24: =IF(COUNTIFS(Feuil2!27:27,"X")+COUNTIFS(Feuil2!$4:$4,"reporté")>1,"reservé","")
C25: =IF(COUNTIFS(Feuil2!28:28,"X")+COUNTIFS(Feuil2!$4:$4,"reporté")>1,"reservé","")
C26: =IF(COUNTIFS(Feuil2!29:29,"X")+COUNTIFS(Feuil2!$4:$4,"reporté")>1,"reservé","")
C27: =IF(COUNTIFS(Feuil2!30:30,"X")+COUNTIFS(Feuil2!$4:$4,"reporté")>1,"reservé","")
C28: =IF(COUNTIFS(Feuil2!31:31,"X")+COUNTIFS(Feuil2!$4:$4,"reporté")>1,"reservé","")
C29: =IF(COUNTIFS(Feuil2!32:32,"X")+COUNTIFS(Feuil2!$4:$4,"reporté")>1,"reservé","")
C30: =IF(COUNTIFS(Feuil2!33:33,"X")+COUNTIFS(Feuil2!$4:$4,"reporté")>1,"reservé","")
C31: =IF(COUNTIFS(Feuil2!34:34,"X")+COUNTIFS(Feuil2!$4:$4,"reporté")>1,"reservé","")
C32: =IF(COUNTIFS(Feuil2!35:35,"X")+COUNTIFS(Feuil2!$4:$4,"reporté")>1,"reservé","")
C33: =IF(COUNTIFS(Feuil2!36:36,"X")+COUNTIFS(Feuil2!$4:$4,"reporté")>1,"reservé","")
C34: =IF(COUNTIFS(Feuil2!37:37,"X")+COUNTIFS(Feuil2!$4:$4,"reporté")>1,"reservé","")
C35: =IF(COUNTIFS(Feuil2!38:38,"X")+COUNTIFS(Feuil2!$4:$4,"reporté")>1,"reservé","")
C36: =IF(COUNTIFS(Feuil2!39:39,"X")+COUNTIFS(Feuil2!$4:$4,"reporté")>1,"reservé","")
C37: =IF(COUNTIFS(Feuil2!40:40,"X")+COUNTIFS(Feuil2!$4:$4,"reporté")>1,"reservé","")
C38: =IF(COUNTIFS(Feuil2!41:41,"X")+COUNTIFS(Feuil2!$4:$4,"reporté")>1,"reservé","")
C39: =IF(COUNTIFS(Feuil2!42:42,"X")+COUNTIFS(Feuil2!$4:$4,"reporté")>1,"reservé","")
C40: =IF(COUNTIFS(Feuil2!43:43,"X")+COUNTIFS(Feuil2!$4:$4,"reporté")>1,"reservé","")
...

Sheet Feuil2
A1: ANNEE ==> | B1: 2016 | C1: 2017 | D1: 2018 | E1: 2019 | F1: 2020 | G1: 2021 | H1: 2022 | I1: 2023 | J1: 2024 | K1: 2025
A2: Nombre clients ==> | B2: =COUNTIF(B5:B120,"OK") -> 0 | C2: =COUNTIF(C5:C120,"OK") -> 0 | D2: =COUNTIF(D5:D120,"OK") -> 0 | E2: =COUNTIF(E5:E120,"OK") -> 0 | F2: =COUNTIF(F5:F120,"OK") -> 0 | G2: =COUNTIF(G5:G120,"OK") -> 0 | H2: =COUNTIF(H5:H120,"OK") -> 0 | I2: =COUNTIF(I5:I120,"OK") -> 0 | ... K2: =COUNTIF(K5:K120,"OK") -> 0
A3: Pourcentage ==> | B3: =B2/113 -> 0 | C3: =C2/113 -> 0 | D3: =D2/113 -> 0 | E3: =E2/113 -> 0 | F3: =F2/113 -> 0 | G3: =G2/113 -> 0 | H3: =H2/113 -> 0 | I3: =I2/113 -> 0 | ... K3: =K2/113 -> 0
A4: Client
A5: Dupont | B5: X | M5: =IF(COUNTIFS(LReporté,"reporté"),"réservé","") | N5: =IF(COUNTIFS(LReporté,"reporté"),"réservé","") | P5: =IF(AND(C4="reporté",C5="OK"),"réservé","")
A6: Durand | B6: X
