Workbook

Sheet Feuil1
A1: N° | B1: CLIENT
A3: 1 | B3: Dupont | C3: =IF(AND(Feuil2!C4="reporté",Feuil2!C5="X"),"réservé","") -> réservé
A4: 2 | B4: Durand | C4: =IF(AND(Feuil2!C5="reporté",Feuil2!C6="X"),"réservé","")
C5: =IF(AND(Feuil2!C6="reporté",Feuil2!C7="X"),"réservé","")
C6: =IF(AND(Feuil2!C7="reporté",Feuil2!C8="X"),"réservé","")
C7: =IF(AND(Feuil2!C8="reporté",Feuil2!C9="X"),"réservé","")
C8: =IF(AND(Feuil2!C9="reporté",Feuil2!C10="X"),"réservé","")
C9: =IF(AND(Feuil2!C10="reporté",Feuil2!C11="X"),"réservé","")
C10: =IF(AND(Feuil2!C11="reporté",Feuil2!C12="X"),"réservé","")
C11: =IF(AND(Feuil2!C12="reporté",Feuil2!C13="X"),"réservé","")
C12: =IF(AND(Feuil2!C13="reporté",Feuil2!C14="X"),"réservé","")
C13: =IF(AND(Feuil2!C14="reporté",Feuil2!C15="X"),"réservé","")
C14: =IF(AND(Feuil2!C15="reporté",Feuil2!C16="X"),"réservé","")
C15: =IF(AND(Feuil2!C16="reporté",Feuil2!C17="X"),"réservé","")
C16: =IF(AND(Feuil2!C17="reporté",Feuil2!C18="X"),"réservé","")
... C113: =IF(AND(Feuil2!C114="reporté",Feuil2!C115="X"),"réservé","")

Sheet Feuil2
A1: ANNEE ==> | C1: 2016 | D1: 2017 | E1: 2018 | F1: 2019 | G1: 2020 | H1: 2021 | I1: 2022 | J1: 2023 | K1: 2024 | L1: 2025
A2: Nombre clients ==> | C2: =COUNTIF(C5:C120,"OK") -> 0 | D2: =COUNTIF(D5:D120,"OK") -> 0 | E2: =COUNTIF(E5:E120,"OK") -> 0 | F2: =COUNTIF(F5:F120,"OK") -> 0 | G2: =COUNTIF(G5:G120,"OK") -> 0 | H2: =COUNTIF(H5:H120,"OK") -> 0 | I2: =COUNTIF(I5:I120,"OK") -> 0 | J2: =COUNTIF(J5:J120,"OK") -> 0 | ... L2: =COUNTIF(L5:L120,"OK") -> 0
A3: Pourcentage ==> | C3: =C2/113 -> 0 | D3: =D2/113 -> 0 | E3: =E2/113 -> 0 | F3: =F2/113 -> 0 | G3: =G2/113 -> 0 | H3: =H2/113 -> 0 | I3: =I2/113 -> 0 | J3: =J2/113 -> 0 | ... L3: =L2/113 -> 0
A4: N° | B4: Client | C4: reporté
A5: 1 | B5: Dupont | C5: X
A6: 2 | B6: Durand
