Workbook

Sheet Feuil1
B1: lundi | C1: mardi | D1: mercredi | E1: jeudi | F1: vendredi | G1: samedi | H1: dimanche | J1: lundi | K1: mardi | L1: mercredi | M1: jeudi | N1: vendredi | O1: samedi | P1: dimanche
A2: employé n°1 | B2: Matin | C2: matin | D2: Matin | E2: matin | F2: matin | G2: soir | H2: Nuit | J2: =VLOOKUP(B2,$R$17:S20,2,FALSE) -> 1 | K2: =VLOOKUP(C2,$R$17:T20,2,FALSE) -> 1 | L2: =VLOOKUP(D2,$R$17:U20,2,FALSE) -> 1 | M2: =VLOOKUP(E2,$R$17:V20,2,FALSE) -> 1 | N2: =VLOOKUP(F2,$R$17:W20,2,FALSE) -> 1 | O2: =VLOOKUP(G2,$R$17:X20,2,FALSE) -> 2 | P2: =VLOOKUP(H2,$R$17:Y20,2,FALSE) -> 3
A3: employé n°2 | B3: Matin | C3: matin | D3: Matin | E3: Nuit | F3: Soir | G3: soir | H3: Nuit | J3: =VLOOKUP(B3,$R$17:S21,2,FALSE) -> 1 | K3: =VLOOKUP(C3,$R$17:T21,2,FALSE) -> 1 | L3: =VLOOKUP(D3,$R$17:U21,2,FALSE) -> 1 | M3: =VLOOKUP(E3,$R$17:V21,2,FALSE) -> 3 | N3: =VLOOKUP(F3,$R$17:W21,2,FALSE) -> 2 | O3: =VLOOKUP(G3,$R$17:X21,2,FALSE) -> 2 | P3: =VLOOKUP(H3,$R$17:Y21,2,FALSE) -> 3
A4: employé n°3 | B4: Matin | C4: matin | D4: Matin | E4: Nuit | F4: repos | G4: soir | H4: Nuit | J4: =VLOOKUP(B4,$R$17:S22,2,FALSE) -> 1 | K4: =VLOOKUP(C4,$R$17:T22,2,FALSE) -> 1 | L4: =VLOOKUP(D4,$R$17:U22,2,FALSE) -> 1 | M4: =VLOOKUP(E4,$R$17:V22,2,FALSE) -> 3 | N4: =VLOOKUP(F4,$R$17:W22,2,FALSE) -> 0 | O4: =VLOOKUP(G4,$R$17:X22,2,FALSE) -> 2 | P4: =VLOOKUP(H4,$R$17:Y22,2,FALSE) -> 3
A5: employé n°4 | B5: Matin | C5: matin | D5: Matin | E5: Nuit | F5: repos | G5: soir | H5: Nuit | J5: =VLOOKUP(B5,$R$17:S23,2,FALSE) -> 1 | K5: =VLOOKUP(C5,$R$17:T23,2,FALSE) -> 1 | L5: =VLOOKUP(D5,$R$17:U23,2,FALSE) -> 1 | M5: =VLOOKUP(E5,$R$17:V23,2,FALSE) -> 3 | N5: =VLOOKUP(F5,$R$17:W23,2,FALSE) -> 0 | O5: =VLOOKUP(G5,$R$17:X23,2,FALSE) -> 2 | P5: =VLOOKUP(H5,$R$17:Y23,2,FALSE) -> 3
A6: employé n°5 | B6: Matin | C6: matin | D6: Matin | E6: Nuit | F6: Soir | G6: soir | H6: Nuit | J6: =VLOOKUP(B6,$R$17:S24,2,FALSE) -> 1 | K6: =VLOOKUP(C6,$R$17:T24,2,FALSE) -> 1 | L6: =VLOOKUP(D6,$R$17:U24,2,FALSE) -> 1 | M6: =VLOOKUP(E6,$R$17:V24,2,FALSE) -> 3 | N6: =VLOOKUP(F6,$R$17:W24,2,FALSE) -> 2 | O6: =VLOOKUP(G6,$R$17:X24,2,FALSE) -> 2 | P6: =VLOOKUP(H6,$R$17:Y24,2,FALSE) -> 3
A7: employé n°6 | B7: Matin | C7: matin | D7: Matin | E7: Nuit | F7: Soir | G7: soir | H7: Nuit | J7: =VLOOKUP(B7,$R$17:S25,2,FALSE) -> 1 | K7: =VLOOKUP(C7,$R$17:T25,2,FALSE) -> 1 | L7: =VLOOKUP(D7,$R$17:U25,2,FALSE) -> 1 | M7: =VLOOKUP(E7,$R$17:V25,2,FALSE) -> 3 | N7: =VLOOKUP(F7,$R$17:W25,2,FALSE) -> 2 | O7: =VLOOKUP(G7,$R$17:X25,2,FALSE) -> 2 | P7: =VLOOKUP(H7,$R$17:Y25,2,FALSE) -> 3
A8: employé n°7 | B8: repos | C8: repos | D8: Matin | E8: Nuit | F8: Soir | G8: soir | H8: Nuit | J8: =VLOOKUP(B8,$R$17:S26,2,FALSE) -> 0 | K8: =VLOOKUP(C8,$R$17:T26,2,FALSE) -> 0 | L8: =VLOOKUP(D8,$R$17:U26,2,FALSE) -> 1 | M8: =VLOOKUP(E8,$R$17:V26,2,FALSE) -> 3 | N8: =VLOOKUP(F8,$R$17:W26,2,FALSE) -> 2 | O8: =VLOOKUP(G8,$R$17:X26,2,FALSE) -> 2 | P8: =VLOOKUP(H8,$R$17:Y26,2,FALSE) -> 3
A9: employé n°8 | B9: Matin | C9: matin | D9: Matin | E9: Nuit | F9: Soir | G9: repos | H9: repos | J9: =VLOOKUP(B9,$R$17:S27,2,FALSE) -> 1 | K9: =VLOOKUP(C9,$R$17:T27,2,FALSE) -> 1 | L9: =VLOOKUP(D9,$R$17:U27,2,FALSE) -> 1 | M9: =VLOOKUP(E9,$R$17:V27,2,FALSE) -> 3 | N9: =VLOOKUP(F9,$R$17:W27,2,FALSE) -> 2 | O9: =VLOOKUP(G9,$R$17:X27,2,FALSE) -> 0 | P9: =VLOOKUP(H9,$R$17:Y27,2,FALSE) -> 0
A10: employé n°9 | B10: Matin | C10: matin | D10: Matin | E10: Nuit | F10: Soir | G10: soir | H10: Nuit | J10: =VLOOKUP(B10,$R$17:S28,2,FALSE) -> 1 | K10: =VLOOKUP(C10,$R$17:T28,2,FALSE) -> 1 | L10: =VLOOKUP(D10,$R$17:U28,2,FALSE) -> 1 | M10: =VLOOKUP(E10,$R$17:V28,2,FALSE) -> 3 | N10: =VLOOKUP(F10,$R$17:W28,2,FALSE) -> 2 | O10: =VLOOKUP(G10,$R$17:X28,2,FALSE) -> 2 | P10: =VLOOKUP(H10,$R$17:Y28,2,FALSE) -> 3
A11: employé n°10 | B11: Matin | C11: matin | D11: Matin | E11: Nuit | F11: Soir | G11: soir | H11: Nuit | J11: =VLOOKUP(B11,$R$17:S29,2,FALSE) -> 1 | K11: =VLOOKUP(C11,$R$17:T29,2,FALSE) -> 1 | L11: =VLOOKUP(D11,$R$17:U29,2,FALSE) -> 1 | M11: =VLOOKUP(E11,$R$17:V29,2,FALSE) -> 3 | N11: =VLOOKUP(F11,$R$17:W29,2,FALSE) -> 2 | O11: =VLOOKUP(G11,$R$17:X29,2,FALSE) -> 2 | P11: =VLOOKUP(H11,$R$17:Y29,2,FALSE) -> 3
A12: employé n°11 | B12: Matin | C12: matin | D12: Matin | E12: Nuit | F12: Soir | G12: soir | H12: Nuit | J12: =VLOOKUP(B12,$R$17:S30,2,FALSE) -> 1 | K12: =VLOOKUP(C12,$R$17:T30,2,FALSE) -> 1 | L12: =VLOOKUP(D12,$R$17:U30,2,FALSE) -> 1 | M12: =VLOOKUP(E12,$R$17:V30,2,FALSE) -> 3 | N12: =VLOOKUP(F12,$R$17:W30,2,FALSE) -> 2 | O12: =VLOOKUP(G12,$R$17:X30,2,FALSE) -> 2 | P12: =VLOOKUP(H12,$R$17:Y30,2,FALSE) -> 3
A13: employé n°12 | B13: Matin | C13: matin | D13: Matin | E13: Nuit | F13: Soir | G13: soir | H13: Nuit | J13: =VLOOKUP(B13,$R$17:S31,2,FALSE) -> 1 | K13: =VLOOKUP(C13,$R$17:T31,2,FALSE) -> 1 | L13: =VLOOKUP(D13,$R$17:U31,2,FALSE) -> 1 | M13: =VLOOKUP(E13,$R$17:V31,2,FALSE) -> 3 | N13: =VLOOKUP(F13,$R$17:W31,2,FALSE) -> 2 | O13: =VLOOKUP(G13,$R$17:X31,2,FALSE) -> 2 | P13: =VLOOKUP(H13,$R$17:Y31,2,FALSE) -> 3
I14: ,
A16: matin | B16: =COUNTIF(B2:B10,"matin") -> 8 | C16: =COUNTIF(C2:C10,"matin") -> 8 | D16: =COUNTIF(D2:D10,"matin") -> 9 | E16: =COUNTIF(E2:E10,"matin") -> 1 | F16: =COUNTIF(F2:F10,"matin") -> 1 | G16: =COUNTIF(G2:G10,"matin") -> 0 | H16: =COUNTIF(H2:H10,"matin") -> 0
A17: soir | B17: =COUNTIF(B2:B10,"soir") -> 0 | C17: =COUNTIF(C2:C10,"soir") -> 0 | D17: =COUNTIF(D2:D10,"soir") -> 0 | E17: =COUNTIF(E2:E10,"soir") -> 0 | F17: =COUNTIF(F2:F10,"soir") -> 6 | G17: =COUNTIF(G2:G10,"soir") -> 8 | H17: =COUNTIF(H2:H10,"soir") -> 0 | K17: matin | L17: nuit | M17: soir | N17: Jour ouvré | P17: repos | R17: matin | S17: 1
A18: nuit | B18: =COUNTIF(B2:B10,"nuit") -> 0 | C18: =COUNTIF(C2:C10,"nuit") -> 0 | D18: =COUNTIF(D2:D10,"nuit") -> 0 | E18: =COUNTIF(E2:E10,"nuit") -> 8 | F18: =COUNTIF(F2:F10,"nuit") -> 0 | G18: =COUNTIF(G2:G10,"nuit") -> 0 | H18: =COUNTIF(H2:H10,"nuit") -> 8 | J18: EM N°1 | K18: =COUNTIF(B2:H2,"matin") -> 5 | L18: =COUNTIF(B2:H2,"nuit") -> 1 | M18: =COUNTIF(B2:H2,"soir") -> 1 | N18: =SUM(K18:M18) -> 7 | P18: =COUNTIF(B2:H2,"repos") -> 0 | R18: soir | S18: 2
A19: TOTAL | B19: =SUM(B16:B18) -> 8 | C19: =SUM(C16:C18) -> 8 | D19: =SUM(D16:D18) -> 9 | E19: =SUM(E16:E18) -> 9 | F19: =SUM(F16:F18) -> 7 | G19: =SUM(G16:G18) -> 8 | H19: =SUM(H16:H18) -> 8 | J19: EM N°2 | K19: =COUNTIF(B3:H3,"matin") -> 3 | L19: =COUNTIF(B3:H3,"nuit") -> 2 | M19: =COUNTIF(B3:H3,"soir") -> 2 | N19: =SUM(K19:M19) -> 7 | P19: =COUNTIF(B3:H3,"repos") -> 0 | R19: nuit | S19: 3
J20: EM N°3 | K20: =COUNTIF(B4:H4,"matin") -> 3 | L20: =COUNTIF(B4:H4,"nuit") -> 2 | M20: =COUNTIF(B4:H4,"soir") -> 1 | N20: =SUM(K20:M20) -> 6 | P20: =COUNTIF(B4:H4,"repos") -> 1 | R20: repos | S20: 0
J21: EM N°4 | K21: =COUNTIF(B5:H5,"matin") -> 3 | L21: =COUNTIF(B5:H5,"nuit") -> 2 | M21: =COUNTIF(B5:H5,"soir") -> 1 | N21: =SUM(K21:M21) -> 6 | P21: =COUNTIF(B5:H5,"repos") -> 1
A22: DEMANDE RH : | J22: EM N°5 | K22: =COUNTIF(B6:H6,"matin") -> 3 | L22: =COUNTIF(B6:H6,"nuit") -> 2 | M22: =COUNTIF(B6:H6,"soir") -> 2 | N22: =SUM(K22:M22) -> 7 | P22: =COUNTIF(B6:H6,"repos") -> 0
A23: Vacations | B23: Lun | C23: Mar | D23: Mer | E23: Jeu | F23: Ven | G23: Sam | H23: Dim | J23: EM N°6 | K23: =COUNTIF(B7:H7,"matin") -> 3 | L23: =COUNTIF(B7:H7,"nuit") -> 2 | M23: =COUNTIF(B7:H7,"soir") -> 2 | N23: =SUM(K23:M23) -> 7 | P23: =COUNTIF(B7:H7,"repos") -> 0
A24: Matin | B24: 5 | C24: 5 | D24: 4 | E24: 5 | F24: 6 | G24: 5 | H24: 7 | J24: EM N°7 | K24: =COUNTIF(B8:H8,"matin") -> 1 | L24: =COUNTIF(B8:H8,"nuit") -> 2 | M24: =COUNTIF(B8:H8,"soir") -> 2 | N24: =SUM(K24:M24) -> 5 | P24: =COUNTIF(B8:H8,"repos") -> 2
A25: Soir | B25: 1 | C25: 1 | D25: 2 | E25: 2 | F25: 2 | G25: 3 | H25: 1 | J25: EM N°8 | K25: =COUNTIF(B9:H9,"matin") -> 3 | L25: =COUNTIF(B9:H9,"nuit") -> 1 | M25: =COUNTIF(B9:H9,"soir") -> 1 | N25: =SUM(K25:M25) -> 5 | P25: =COUNTIF(B9:H9,"repos") -> 2
A26: Nuit | B26: 1 | C26: 1 | D26: 1 | E26: 1 | F26: 1 | G26: 1 | H26: 1 | J26: EM N°9 | K26: =COUNTIF(B10:H10,"matin") -> 3 | L26: =COUNTIF(B10:H10,"nuit") -> 2 | M26: =COUNTIF(B10:H10,"soir") -> 2 | N26: =SUM(K26:M26) -> 7 | P26: =COUNTIF(B10:H10,"repos") -> 0
A27: Employé total besoin | B27: =SUM(B24:B26) -> 7 | C27: =SUM(C24:C26) -> 7 | D27: =SUM(D24:D26) -> 7 | E27: =SUM(E24:E26) -> 8 | F27: =SUM(F24:F26) -> 9 | G27: =SUM(G24:G26) -> 9 | H27: =SUM(H24:H26) -> 9 | J27: EM N°10 | K27: =COUNTIF(B11:H11,"matin") -> 3 | L27: =COUNTIF(B11:H11,"nuit") -> 2 | M27: =COUNTIF(B11:H11,"soir") -> 2 | N27: =SUM(K27:M27) -> 7 | P27: =COUNTIF(B11:H11,"repos") -> 0
J28: EM N°11 | K28: =COUNTIF(B12:H12,"matin") -> 3 | L28: =COUNTIF(B12:H12,"nuit") -> 2 | M28: =COUNTIF(B12:H12,"soir") -> 2 | N28: =SUM(K28:M28) -> 7 | P28: =COUNTIF(B12:H12,"repos") -> 0
J29: EM N°12 | K29: =COUNTIF(B13:H13,"matin") -> 3 | L29: =COUNTIF(B13:H13,"nuit") -> 2 | M29: =COUNTIF(B13:H13,"soir") -> 2 | N29: =SUM(K29:M29) -> 7 | P29: =COUNTIF(B13:H13,"repos") -> 0
B30: changement interdit | E30: OBLIGATION:
B31: SOIR MATIN | C31: 2+1 | E31: Repos deux jours concécutifs | O31: jour RT | P31: =SUM(P18:P26) -> 6
B32: NUIT SOIR | C32: 3+2 | E32: 0+0
B33: NUIT MATIN | C33: 3+1

Sheet Feuil2
B1: lundi | C1: mardi | D1: mercredi | E1: jeudi | F1: vendredi | G1: samedi | H1: dimanche | I1: MATIN | J1: SOIR | K1: NUIT | L1: JOUR OUVRE TOTAL | M1: REPOS
A2: employé n°1 | B2: 0 | C2: 0 | D2: 0 | E2: 0 | F2: 0 | G2: 0 | H2: 0 | I2: =COUNTIF(B2:H2,1) -> 0 | J2: =COUNTIF(B2:H2,2) -> 0 | K2: =COUNTIF(B2:H2,3) -> 0 | L2: =SUM(I2:K2) -> 0 | M2: =COUNTIF(B2:H2,0) -> 7
A3: employé n°2 | B3: 0 | C3: 0 | D3: 0 | E3: 0 | F3: 0 | G3: 0 | H3: 0 | I3: =COUNTIF(B3:H3,1) -> 0 | J3: =COUNTIF(B3:H3,2) -> 0 | K3: =COUNTIF(B3:H3,3) -> 0 | L3: =SUM(I3:K3) -> 0 | M3: =COUNTIF(B3:H3,0) -> 7
A4: employé n°3 | B4: 0 | C4: 0 | D4: 0 | E4: 0 | F4: 0 | G4: 0 | H4: 0 | I4: =COUNTIF(B4:H4,1) -> 0 | J4: =COUNTIF(B4:H4,2) -> 0 | K4: =COUNTIF(B4:H4,3) -> 0 | L4: =SUM(I4:K4) -> 0 | M4: =COUNTIF(B4:H4,0) -> 7
A5: employé n°4 | B5: 0 | C5: 0 | D5: 0 | E5: 0 | F5: 0 | G5: 0 | H5: 0 | I5: =COUNTIF(B5:H5,1) -> 0 | J5: =COUNTIF(B5:H5,2) -> 0 | K5: =COUNTIF(B5:H5,3) -> 0 | L5: =SUM(I5:K5) -> 0 | M5: =COUNTIF(B5:H5,0) -> 7
A6: employé n°5 | B6: 0 | C6: 0 | D6: 0 | E6: 0 | F6: 0 | G6: 0 | H6: 0 | I6: =COUNTIF(B6:H6,1) -> 0 | J6: =COUNTIF(B6:H6,2) -> 0 | K6: =COUNTIF(B6:H6,3) -> 0 | L6: =SUM(I6:K6) -> 0 | M6: =COUNTIF(B6:H6,0) -> 7
A7: employé n°6 | B7: 0 | C7: 0 | D7: 0 | E7: 0 | F7: 0 | G7: 0 | H7: 0 | I7: =COUNTIF(B7:H7,1) -> 0 | J7: =COUNTIF(B7:H7,2) -> 0 | K7: =COUNTIF(B7:H7,3) -> 0 | L7: =SUM(I7:K7) -> 0 | M7: =COUNTIF(B7:H7,0) -> 7
A8: employé n°7 | B8: 0 | C8: 0 | D8: 0 | E8: 0 | F8: 0 | G8: 0 | H8: 0 | I8: =COUNTIF(B8:H8,1) -> 0 | J8: =COUNTIF(B8:H8,2) -> 0 | K8: =COUNTIF(B8:H8,3) -> 0 | L8: =SUM(I8:K8) -> 0 | M8: =COUNTIF(B8:H8,0) -> 7
A9: employé n°8 | B9: 0 | C9: 0 | D9: 0 | E9: 0 | F9: 0 | G9: 0 | H9: 0 | I9: =COUNTIF(B9:H9,1) -> 0 | J9: =COUNTIF(B9:H9,2) -> 0 | K9: =COUNTIF(B9:H9,3) -> 0 | L9: =SUM(I9:K9) -> 0 | M9: =COUNTIF(B9:H9,0) -> 7
A10: employé n°9 | B10: 0 | C10: 0 | D10: 0 | E10: 0 | F10: 0 | G10: 0 | H10: 0 | I10: =COUNTIF(B10:H10,1) -> 0 | J10: =COUNTIF(B10:H10,2) -> 0 | K10: =COUNTIF(B10:H10,3) -> 0 | L10: =SUM(I10:K10) -> 0 | M10: =COUNTIF(B10:H10,0) -> 7
A11: employé n°10 | B11: 0 | C11: 0 | D11: 0 | E11: 0 | F11: 0 | G11: 0 | H11: 0 | I11: =COUNTIF(B11:H11,1) -> 0 | J11: =COUNTIF(B11:H11,2) -> 0 | K11: =COUNTIF(B11:H11,3) -> 0 | L11: =SUM(I11:K11) -> 0 | M11: =COUNTIF(B11:H11,0) -> 7
A12: employé n°11 | B12: 0 | C12: 0 | D12: 0 | E12: 0 | F12: 0 | G12: 0 | H12: 0 | I12: =COUNTIF(B12:H12,1) -> 0 | J12: =COUNTIF(B12:H12,2) -> 0 | K12: =COUNTIF(B12:H12,3) -> 0 | L12: =SUM(I12:K12) -> 0 | M12: =COUNTIF(B12:H12,0) -> 7
A13: employé n°12 | B13: 0 | C13: 0 | D13: 0 | E13: 0 | F13: 0 | G13: 0 | H13: 0 | I13: =COUNTIF(B13:H13,1) -> 0 | J13: =COUNTIF(B13:H13,2) -> 0 | K13: =COUNTIF(B13:H13,3) -> 0 | L13: =SUM(I13:K13) -> 0 | M13: =COUNTIF(B13:H13,0) -> 7
... A20: employé n°19 | B20: 0 | C20: 0 | D20: 0 | E20: 0 | F20: 0 | G20: 0 | H20: 0 | I20: =COUNTIF(B20:H20,1) -> 0 | J20: =COUNTIF(B20:H20,2) -> 0 | K20: =COUNTIF(B20:H20,3) -> 0 | L20: =SUM(I20:K20) -> 0 | M20: =COUNTIF(B20:H20,0) -> 7
A21: employé n°20 | B21: 0 | C21: 0 | D21: 0 | E21: 0 | F21: 0 | G21: 0 | H21: 0 | I21: =COUNTIF(B21:H21,1) -> 0 | J21: =COUNTIF(B21:H21,2) -> 0 | K21: =COUNTIF(B21:H21,3) -> 0 | L21: =SUM(I21:K21) -> 0 | M21: =COUNTIF(B21:H21,0) -> 7 | O21: repos Total :
H22: total | I22: =SUM(I2:I21) -> 0 | J22: =SUM(J2:J21) -> 0 | K22: =SUM(K2:K21) -> 0 | L22: =SUM(L2:L21) -> 0 | M22: =SUM(M2:M21) -> 140
A23: matin | B23: =COUNTIF(B3:B11,1) -> 0 | C23: =COUNTIF(C3:C11,1) -> 0 | D23: =COUNTIF(D3:D11,1) -> 0 | E23: =COUNTIF(E3:E11,1) -> 0 | F23: =COUNTIF(F3:F11,1) -> 0 | G23: =COUNTIF(G3:G11,1) -> 0 | H23: =COUNTIF(H3:H11,1) -> 0
A24: soir | B24: =COUNTIF(B3:B11,2) -> 0 | C24: =COUNTIF(C3:C11,2) -> 0 | D24: =COUNTIF(D3:D11,2) -> 0 | E24: =COUNTIF(E3:E11,2) -> 0 | F24: =COUNTIF(F3:F11,2) -> 0 | G24: =COUNTIF(G3:G11,2) -> 0 | H24: =COUNTIF(H3:H11,2) -> 0
A25: nuit | B25: =COUNTIF(B3:B11,3) -> 0 | C25: =COUNTIF(C3:C11,3) -> 0 | D25: =COUNTIF(D3:D11,3) -> 0 | E25: =COUNTIF(E3:E11,3) -> 0 | F25: =COUNTIF(F3:F11,3) -> 0 | G25: =COUNTIF(G3:G11,3) -> 0 | H25: =COUNTIF(H3:H11,3) -> 0
A26: TOTAL | B26: =SUM(B23:B25) -> 0 | C26: =SUM(C23:C25) -> 0 | D26: =SUM(D23:D25) -> 0 | E26: =SUM(E23:E25) -> 0 | F26: =SUM(F23:F25) -> 0 | G26: =SUM(G23:G25) -> 0 | H26: =SUM(H23:H25) -> 0 | J26: changement interdit | M26: OBLIGATION:
J27: SOIR-MATIN | K27: 2+1 | M27: Repos de 2 jours concécutifs
J28: NUIT-SOIR | K28: 3+2 | M28: 0+0
A29: DEMANDE RH : | J29: NUIT-MATIN | K29: 3+1
A30: Vacations | B30: Lun | C30: Mar | D30: Mer | E30: Jeu | F30: Ven | G30: Sam | H30: Dim | J30: 0 | K30: repos
A31: Matin | B31: 5 | C31: 5 | D31: 4 | E31: 5 | F31: 6 | G31: 5 | H31: 7 | J31: 1 | K31: matin
A32: Soir | B32: 1 | C32: 1 | D32: 2 | E32: 2 | F32: 2 | G32: 3 | H32: 1 | J32: 2 | K32: soir
A33: Nuit | B33: 1 | C33: 1 | D33: 1 | E33: 1 | F33: 1 | G33: 1 | H33: 1 | J33: 3 | K33: nuit
A38: Somme Employé total | B38: =SUM(B31:B33) -> 7 | C38: =SUM(C31:C33) -> 7 | D38: =SUM(D31:D33) -> 7 | E38: =SUM(E31:E33) -> 8 | F38: =SUM(F31:F33) -> 9 | G38: =SUM(G31:G33) -> 9 | H38: =SUM(H31:H33) -> 9

Sheet Feuil3
B1: lundi | C1: mardi | D1: mercredi | E1: jeudi | F1: vendredi | G1: samedi | H1: dimanche
A2: employé n°1 | B2: =VLOOKUP(Feuil2!B2,Feuil2!$J$30:$K$33,2,FALSE) -> repos | C2: =VLOOKUP(Feuil2!C2,Feuil2!$J$30:$K$33,2,FALSE) -> repos | D2: =VLOOKUP(Feuil2!D2,Feuil2!$J$30:$K$33,2,FALSE) -> repos | E2: =VLOOKUP(Feuil2!E2,Feuil2!$J$30:$K$33,2,FALSE) -> repos | F2: =VLOOKUP(Feuil2!F2,Feuil2!$J$30:$K$33,2,FALSE) -> repos | G2: =VLOOKUP(Feuil2!G2,Feuil2!$J$30:$K$33,2,FALSE) -> repos | H2: =VLOOKUP(Feuil2!H2,Feuil2!$J$30:$K$33,2,FALSE) -> repos
A3: employé n°2 | B3: =VLOOKUP(Feuil2!B3,Feuil2!$J$30:$K$33,2,FALSE) -> repos | C3: =VLOOKUP(Feuil2!C3,Feuil2!$J$30:$K$33,2,FALSE) -> repos | D3: =VLOOKUP(Feuil2!D3,Feuil2!$J$30:$K$33,2,FALSE) -> repos | E3: =VLOOKUP(Feuil2!E3,Feuil2!$J$30:$K$33,2,FALSE) -> repos | F3: =VLOOKUP(Feuil2!F3,Feuil2!$J$30:$K$33,2,FALSE) -> repos | G3: =VLOOKUP(Feuil2!G3,Feuil2!$J$30:$K$33,2,FALSE) -> repos | H3: =VLOOKUP(Feuil2!H3,Feuil2!$J$30:$K$33,2,FALSE) -> repos
A4: employé n°3 | B4: =VLOOKUP(Feuil2!B4,Feuil2!$J$30:$K$33,2,FALSE) -> repos | C4: =VLOOKUP(Feuil2!C4,Feuil2!$J$30:$K$33,2,FALSE) -> repos | D4: =VLOOKUP(Feuil2!D4,Feuil2!$J$30:$K$33,2,FALSE) -> repos | E4: =VLOOKUP(Feuil2!E4,Feuil2!$J$30:$K$33,2,FALSE) -> repos | F4: =VLOOKUP(Feuil2!F4,Feuil2!$J$30:$K$33,2,FALSE) -> repos | G4: =VLOOKUP(Feuil2!G4,Feuil2!$J$30:$K$33,2,FALSE) -> repos | H4: =VLOOKUP(Feuil2!H4,Feuil2!$J$30:$K$33,2,FALSE) -> repos
A5: employé n°4 | B5: =VLOOKUP(Feuil2!B5,Feuil2!$J$30:$K$33,2,FALSE) -> repos | C5: =VLOOKUP(Feuil2!C5,Feuil2!$J$30:$K$33,2,FALSE) -> repos | D5: =VLOOKUP(Feuil2!D5,Feuil2!$J$30:$K$33,2,FALSE) -> repos | E5: =VLOOKUP(Feuil2!E5,Feuil2!$J$30:$K$33,2,FALSE) -> repos | F5: =VLOOKUP(Feuil2!F5,Feuil2!$J$30:$K$33,2,FALSE) -> repos | G5: =VLOOKUP(Feuil2!G5,Feuil2!$J$30:$K$33,2,FALSE) -> repos | H5: =VLOOKUP(Feuil2!H5,Feuil2!$J$30:$K$33,2,FALSE) -> repos
A6: employé n°5 | B6: =VLOOKUP(Feuil2!B6,Feuil2!$J$30:$K$33,2,FALSE) -> repos | C6: =VLOOKUP(Feuil2!C6,Feuil2!$J$30:$K$33,2,FALSE) -> repos | D6: =VLOOKUP(Feuil2!D6,Feuil2!$J$30:$K$33,2,FALSE) -> repos | E6: =VLOOKUP(Feuil2!E6,Feuil2!$J$30:$K$33,2,FALSE) -> repos | F6: =VLOOKUP(Feuil2!F6,Feuil2!$J$30:$K$33,2,FALSE) -> repos | G6: =VLOOKUP(Feuil2!G6,Feuil2!$J$30:$K$33,2,FALSE) -> repos | H6: =VLOOKUP(Feuil2!H6,Feuil2!$J$30:$K$33,2,FALSE) -> repos
A7: employé n°6 | B7: =VLOOKUP(Feuil2!B7,Feuil2!$J$30:$K$33,2,FALSE) -> repos | C7: =VLOOKUP(Feuil2!C7,Feuil2!$J$30:$K$33,2,FALSE) -> repos | D7: =VLOOKUP(Feuil2!D7,Feuil2!$J$30:$K$33,2,FALSE) -> repos | E7: =VLOOKUP(Feuil2!E7,Feuil2!$J$30:$K$33,2,FALSE) -> repos | F7: =VLOOKUP(Feuil2!F7,Feuil2!$J$30:$K$33,2,FALSE) -> repos | G7: =VLOOKUP(Feuil2!G7,Feuil2!$J$30:$K$33,2,FALSE) -> repos | H7: =VLOOKUP(Feuil2!H7,Feuil2!$J$30:$K$33,2,FALSE) -> repos
A8: employé n°7 | B8: =VLOOKUP(Feuil2!B8,Feuil2!$J$30:$K$33,2,FALSE) -> repos | C8: =VLOOKUP(Feuil2!C8,Feuil2!$J$30:$K$33,2,FALSE) -> repos | D8: =VLOOKUP(Feuil2!D8,Feuil2!$J$30:$K$33,2,FALSE) -> repos | E8: =VLOOKUP(Feuil2!E8,Feuil2!$J$30:$K$33,2,FALSE) -> repos | F8: =VLOOKUP(Feuil2!F8,Feuil2!$J$30:$K$33,2,FALSE) -> repos | G8: =VLOOKUP(Feuil2!G8,Feuil2!$J$30:$K$33,2,FALSE) -> repos | H8: =VLOOKUP(Feuil2!H8,Feuil2!$J$30:$K$33,2,FALSE) -> repos
A9: employé n°8 | B9: =VLOOKUP(Feuil2!B9,Feuil2!$J$30:$K$33,2,FALSE) -> repos | C9: =VLOOKUP(Feuil2!C9,Feuil2!$J$30:$K$33,2,FALSE) -> repos | D9: =VLOOKUP(Feuil2!D9,Feuil2!$J$30:$K$33,2,FALSE) -> repos | E9: =VLOOKUP(Feuil2!E9,Feuil2!$J$30:$K$33,2,FALSE) -> repos | F9: =VLOOKUP(Feuil2!F9,Feuil2!$J$30:$K$33,2,FALSE) -> repos | G9: =VLOOKUP(Feuil2!G9,Feuil2!$J$30:$K$33,2,FALSE) -> repos | H9: =VLOOKUP(Feuil2!H9,Feuil2!$J$30:$K$33,2,FALSE) -> repos
A10: employé n°9 | B10: =VLOOKUP(Feuil2!B10,Feuil2!$J$30:$K$33,2,FALSE) -> repos | C10: =VLOOKUP(Feuil2!C10,Feuil2!$J$30:$K$33,2,FALSE) -> repos | D10: =VLOOKUP(Feuil2!D10,Feuil2!$J$30:$K$33,2,FALSE) -> repos | E10: =VLOOKUP(Feuil2!E10,Feuil2!$J$30:$K$33,2,FALSE) -> repos | F10: =VLOOKUP(Feuil2!F10,Feuil2!$J$30:$K$33,2,FALSE) -> repos | G10: =VLOOKUP(Feuil2!G10,Feuil2!$J$30:$K$33,2,FALSE) -> repos | H10: =VLOOKUP(Feuil2!H10,Feuil2!$J$30:$K$33,2,FALSE) -> repos
A11: employé n°10 | B11: =VLOOKUP(Feuil2!B11,Feuil2!$J$30:$K$33,2,FALSE) -> repos | C11: =VLOOKUP(Feuil2!C11,Feuil2!$J$30:$K$33,2,FALSE) -> repos | D11: =VLOOKUP(Feuil2!D11,Feuil2!$J$30:$K$33,2,FALSE) -> repos | E11: =VLOOKUP(Feuil2!E11,Feuil2!$J$30:$K$33,2,FALSE) -> repos | F11: =VLOOKUP(Feuil2!F11,Feuil2!$J$30:$K$33,2,FALSE) -> repos | G11: =VLOOKUP(Feuil2!G11,Feuil2!$J$30:$K$33,2,FALSE) -> repos | H11: =VLOOKUP(Feuil2!H11,Feuil2!$J$30:$K$33,2,FALSE) -> repos
A12: employé n°11 | B12: =VLOOKUP(Feuil2!B12,Feuil2!$J$30:$K$33,2,FALSE) -> repos | C12: =VLOOKUP(Feuil2!C12,Feuil2!$J$30:$K$33,2,FALSE) -> repos | D12: =VLOOKUP(Feuil2!D12,Feuil2!$J$30:$K$33,2,FALSE) -> repos | E12: =VLOOKUP(Feuil2!E12,Feuil2!$J$30:$K$33,2,FALSE) -> repos | F12: =VLOOKUP(Feuil2!F12,Feuil2!$J$30:$K$33,2,FALSE) -> repos | G12: =VLOOKUP(Feuil2!G12,Feuil2!$J$30:$K$33,2,FALSE) -> repos | H12: =VLOOKUP(Feuil2!H12,Feuil2!$J$30:$K$33,2,FALSE) -> repos
A13: employé n°12 | B13: =VLOOKUP(Feuil2!B13,Feuil2!$J$30:$K$33,2,FALSE) -> repos | C13: =VLOOKUP(Feuil2!C13,Feuil2!$J$30:$K$33,2,FALSE) -> repos | D13: =VLOOKUP(Feuil2!D13,Feuil2!$J$30:$K$33,2,FALSE) -> repos | E13: =VLOOKUP(Feuil2!E13,Feuil2!$J$30:$K$33,2,FALSE) -> repos | F13: =VLOOKUP(Feuil2!F13,Feuil2!$J$30:$K$33,2,FALSE) -> repos | G13: =VLOOKUP(Feuil2!G13,Feuil2!$J$30:$K$33,2,FALSE) -> repos | H13: =VLOOKUP(Feuil2!H13,Feuil2!$J$30:$K$33,2,FALSE) -> repos
