Workbook
Name A_T1_1: 'SYSTEME CLASSIFICATION'!$D$3:$D$5
Name A_T1_2: 'SYSTEME CLASSIFICATION'!$D$6:$D$8
Name A_T1_3: 'SYSTEME CLASSIFICATION'!$D$9:$D$11
Name A_T1_4: 'SYSTEME CLASSIFICATION'!$D$12:$D$14
Name A_T2_1: 'SYSTEME CLASSIFICATION'!$D$15:$D$17
Name A_T2_2: 'SYSTEME CLASSIFICATION'!$D$18:$D$21
Name A_T2_3: 'SYSTEME CLASSIFICATION'!$D$22:$D$24
Name A_T3_1: 'SYSTEME CLASSIFICATION'!$D$25:$D$27
Name A_T3_2: 'SYSTEME CLASSIFICATION'!$D$28:$D$30
Name A_T3_3: 'SYSTEME CLASSIFICATION'!$D$31:$D$33
Name A_T4_1: 'SYSTEME CLASSIFICATION'!$D$34:$D$36
Name A_T4_2: 'SYSTEME CLASSIFICATION'!$D$37:$D$39
Name A_T4_3: 'SYSTEME CLASSIFICATION'!$D$40:$D$42
Name A_T5_1: 'SYSTEME CLASSIFICATION'!$D$43:$D$45
Name A_T5_2: 'SYSTEME CLASSIFICATION'!$D$46:$D$48
Name A_T5_3: 'SYSTEME CLASSIFICATION'!$D$49:$D$51
Name B_T1_1: 'SYSTEME CLASSIFICATION'!#REF!
Name B_T1_2: 'SYSTEME CLASSIFICATION'!$D$52:$D$54
Name B_T1_3: 'SYSTEME CLASSIFICATION'!$D$55:$D$57
Name B_T10_1: 'SYSTEME CLASSIFICATION'!$D$130:$D$131
Name B_T10_2: 'SYSTEME CLASSIFICATION'!$D$133:$D$134
Name B_T10_3: 'SYSTEME CLASSIFICATION'!$D$136:$D$137
Name B_T2_1: 'SYSTEME CLASSIFICATION'!$D$58:$D$60
Name B_T2_2: 'SYSTEME CLASSIFICATION'!$D$61:$D$63
Name B_T2_3: 'SYSTEME CLASSIFICATION'!$D$64:$D$66
Name B_T3_1: 'SYSTEME CLASSIFICATION'!$D$67:$D$69
Name B_T3_2: 'SYSTEME CLASSIFICATION'!$D$70:$D$72
Name B_T3_3: 'SYSTEME CLASSIFICATION'!$D$73:$D$75
Name B_T4_1: 'SYSTEME CLASSIFICATION'!$D$76:$D$78
Name B_T4_2: 'SYSTEME CLASSIFICATION'!$D$79:$D$81
Name B_T4_3: 'SYSTEME CLASSIFICATION'!$D$83:$D$84
Name B_T5_1: 'SYSTEME CLASSIFICATION'!$D$85:$D$87
Name B_T5_2: 'SYSTEME CLASSIFICATION'!$D$88:$D$90
Name B_T5_3: 'SYSTEME CLASSIFICATION'!$D$92:$D$93
Name B_T6_1: 'SYSTEME CLASSIFICATION'!$D$95:$D$96
Name B_T6_2: 'SYSTEME CLASSIFICATION'!$D$98:$D$99
Name B_T6_3: 'SYSTEME CLASSIFICATION'!$D$101:$D$102
Name B_T7_1: 'SYSTEME CLASSIFICATION'!$D$104:$D$104
Name B_T7_2: 'SYSTEME CLASSIFICATION'!$D$106:$D$107
Name B_T7_3: 'SYSTEME CLASSIFICATION'!$D$109:$D$110
Name B_T8_1: 'SYSTEME CLASSIFICATION'!$D$112:$D$113
Name B_T8_2: 'SYSTEME CLASSIFICATION'!$D$115:$D$116
Name B_T8_3: 'SYSTEME CLASSIFICATION'!$D$118:$D$119
Name B_T9_1: 'SYSTEME CLASSIFICATION'!$D$121:$D$122
Name B_T9_2: 'SYSTEME CLASSIFICATION'!$D$124:$D$125
Name B_T9_3: 'SYSTEME CLASSIFICATION'!$D$127:$D$128
Name c_noms: 'LISTE REFERENCE STOCKABLE'!$B:$B
Name C_T1_1: 'SYSTEME CLASSIFICATION'!$D$139:$D$140
Name C_T1_2: 'SYSTEME CLASSIFICATION'!$D$142:$D$143
Name C_T1_3: 'SYSTEME CLASSIFICATION'!$D$145:$D$146
Name C_T2_1: 'SYSTEME CLASSIFICATION'!$D$148:$D$149
Name C_T2_2: 'SYSTEME CLASSIFICATION'!$D$151:$D$152
Name C_T2_3: 'SYSTEME CLASSIFICATION'!$D$154:$D$155
Name C_T3_1: 'SYSTEME CLASSIFICATION'!$D$157:$D$158
Name C_T3_2: 'SYSTEME CLASSIFICATION'!$D$160:$D$161
Name C_T3_3: 'SYSTEME CLASSIFICATION'!$D$163:$D$164
Name C_T4_1: 'SYSTEME CLASSIFICATION'!$D$166:$D$167
Name C_T4_2: 'SYSTEME CLASSIFICATION'!$D$169:$D$170
Name C_T4_3: 'SYSTEME CLASSIFICATION'!$D$172:$D$173
Name C_T5_1: 'SYSTEME CLASSIFICATION'!$D$175:$D$176

Sheet SITE N°3

Sheet QUAI

Sheet SYSTEME CLASSIFICATION
B2: Hauteur max de palette (En Métre) | C2: FOURNISEUR | D2: ALLEE / TRAVEE | E2: CODE | F2: DESIGNATION | G2: Q1 | H2: Désignation 2nd réf | I2: Q2 | J2: Désignation 3ème réf | K2: Q3 | L2: DISPONIBILITE DE L'EMPLACEMENT | M2: COMMENTAIRE MAGASINIER | N2: COMMENTAIRE MAGASINIER | O2: COMMENTAIRE MAGASINIER | P2: COMMENTAIRE MAGASINIER | Q2: COMMENTAIRE MAGASINIER | R2: COMMENTAIRE MAGASINIER | S2: COMMENTAIRE MAGASINIER | T2: COMMENTAIRE MAGASINIER | U2: COMMENTAIRE MAGASINIER | V2: COMMENTAIRE MAGASINIER | W2: abc | X2: Inventaire
B3: 0.88 | C3: =IFERROR(VLOOKUP(F3,'LISTE REFERENCE STOCKABLE'!$B$11:$G$88,6,FALSE),"") | D3: A T1-1 | E3: =IFERROR(IF(F3="","",INDEX('LISTE REFERENCE STOCKABLE'!A:A,MATCH('SYSTEME CLASSIFICATION'!F3,'LISTE REFERENCE STOCKABLE'!B:B,0),1)),"") | F3: EMPLACEMENT INEXISTANT | L3: =IFERROR(VLOOKUP('SYSTEME CLASSIFICATION'!$F3,'LISTE REFERENCE STOCKABLE'!$B$2:$C$98,2,FALSE),"DISPONIBLE") -> INEXISTANT | N3: =IFERROR(VLOOKUP('SYSTEME CLASSIFICATION'!$F3,'LISTE REFERENCE STOCKABLE'!$B$11:$D$88,3,FALSE),"") | Q3: =IFERROR(VLOOKUP('SYSTEME CLASSIFICATION'!$F3,'LISTE REFERENCE STOCKABLE'!$B$11:$E$88,4,FALSE),"") | R3: =IFERROR(VLOOKUP('SYSTEME CLASSIFICATION'!$F3,'LISTE REFERENCE STOCKABLE'!$B$11:$F$88,5,FALSE),"") | U3: =IFERROR(IF(VLOOKUP(F3,'LISTE REFERENCE STOCKABLE'!$B$2:$J$98,8,FALSE)=0,"",VLOOKUP(F3,'LISTE REFERENCE STOCKABLE'!$B$2:$J$98,8,FALSE)),"") | V3: =IFERROR(IF(VLOOKUP(F3,'LISTE REFERENCE STOCKABLE'!$B$2:$J$98,9,FALSE)=0,"",VLOOKUP(F3,'LISTE REFERENCE STOCKABLE'!$B$2:$J$98,9,FALSE)),"") | W3: =IFERROR(VLOOKUP(F3,'LISTE REFERENCE STOCKABLE'!$B$10:$K$98,10,FALSE),"") | X3: =VLOOKUP(E3,Inventaire!$C$2:$E$36,3,FALSE) -> #N/A
B4: 0.88 | C4: =IFERROR(VLOOKUP(F4,'LISTE REFERENCE STOCKABLE'!$B$11:$G$88,6,FALSE),"") | D4: A T1-1 | E4: =IFERROR(IF(F4="","",INDEX('LISTE REFERENCE STOCKABLE'!A:A,MATCH('SYSTEME CLASSIFICATION'!F4,'LISTE REFERENCE STOCKABLE'!B:B,0),1)),"") | F4: EMPLACEMENT INEXISTANT | L4: =IFERROR(VLOOKUP('SYSTEME CLASSIFICATION'!$F4,'LISTE REFERENCE STOCKABLE'!$B$2:$C$98,2,FALSE),"DISPONIBLE") -> INEXISTANT | N4: =IFERROR(VLOOKUP('SYSTEME CLASSIFICATION'!$F4,'LISTE REFERENCE STOCKABLE'!$B$11:$D$88,3,FALSE),"") | Q4: =IFERROR(VLOOKUP('SYSTEME CLASSIFICATION'!$F4,'LISTE REFERENCE STOCKABLE'!$B$11:$E$88,4,FALSE),"") | R4: =IFERROR(VLOOKUP('SYSTEME CLASSIFICATION'!$F4,'LISTE REFERENCE STOCKABLE'!$B$11:$F$88,5,FALSE),"") | U4: =IFERROR(IF(VLOOKUP(F4,'LISTE REFERENCE STOCKABLE'!$B$2:$J$98,8,FALSE)=0,"",VLOOKUP(F4,'LISTE REFERENCE STOCKABLE'!$B$2:$J$98,8,FALSE)),"") | V4: =IFERROR(IF(VLOOKUP(F4,'LISTE REFERENCE STOCKABLE'!$B$2:$J$98,9,FALSE)=0,"",VLOOKUP(F4,'LISTE REFERENCE STOCKABLE'!$B$2:$J$98,9,FALSE)),"") | W4: =IFERROR(VLOOKUP(F4,'LISTE REFERENCE STOCKABLE'!$B$10:$K$98,10,FALSE),"") | X4: =VLOOKUP(E4,Inventaire!$C$2:$E$36,3,FALSE) -> #N/A
B5: 0.88 | C5: =IFERROR(VLOOKUP(F5,'LISTE REFERENCE STOCKABLE'!$B$11:$G$88,6,FALSE),"") -> CENPAC | D5: A T1-1 | E5: =IFERROR(IF(F5="","",INDEX('LISTE REFERENCE STOCKABLE'!A:A,MATCH('SYSTEME CLASSIFICATION'!F5,'LISTE REFERENCE STOCKABLE'!B:B,0),1)),"") -> EMS0006 | F5: Film cp Astruc pour B81 | L5: =IFERROR(VLOOKUP('SYSTEME CLASSIFICATION'!$F5,'LISTE REFERENCE STOCKABLE'!$B$2:$C$98,2,FALSE),"DISPONIBLE") -> INDISPONIBLE | N5: =IFERROR(VLOOKUP('SYSTEME CLASSIFICATION'!$F5,'LISTE REFERENCE STOCKABLE'!$B$11:$D$88,3,FALSE),"") -> 30 rouleaux | Q5: =IFERROR(VLOOKUP('SYSTEME CLASSIFICATION'!$F5,'LISTE REFERENCE STOCKABLE'!$B$11:$E$88,4,FALSE),"") -> 40 | R5: =IFERROR(VLOOKUP('SYSTEME CLASSIFICATION'!$F5,'LISTE REFERENCE STOCKABLE'!$B$11:$F$88,5,FALSE),"") -> 0 | U5: =IFERROR(IF(VLOOKUP(F5,'LISTE REFERENCE STOCKABLE'!$B$2:$J$98,8,FALSE)=0,"",VLOOKUP(F5,'LISTE REFERENCE STOCKABLE'!$B$2:$J$98,8,FALSE)),"") | V5: =IFERROR(IF(VLOOKUP(F5,'LISTE REFERENCE STOCKABLE'!$B$2:$J$98,9,FALSE)=0,"",VLOOKUP(F5,'LISTE REFERENCE STOCKABLE'!$B$2:$J$98,9,FALSE)),"") | W5: =IFERROR(VLOOKUP(F5,'LISTE REFERENCE STOCKABLE'!$B$10:$K$98,10,FALSE),"") -> c | X5: =VLOOKUP(E5,Inventaire!$C$2:$E$36,3,FALSE) -> jeudi
B6: 0.88 | C6: =IFERROR(VLOOKUP(F6,'LISTE REFERENCE STOCKABLE'!$B$11:$G$88,6,FALSE),"") -> SIPEC | D6: A T1-2 | E6: =IFERROR(IF(F6="","",INDEX('LISTE REFERENCE STOCKABLE'!A:A,MATCH('SYSTEME CLASSIFICATION'!F6,'LISTE REFERENCE STOCKABLE'!B:B,0),1)),"") -> EMP0050 | F6: Papier fond cagettes 45 x 65 | L6: =IFERROR(VLOOKUP('SYSTEME CLASSIFICATION'!$F6,'LISTE REFERENCE STOCKABLE'!$B$2:$C$98,2,FALSE),"DISPONIBLE") -> INDISPONIBLE | N6: =IFERROR(VLOOKUP('SYSTEME CLASSIFICATION'!$F6,'LISTE REFERENCE STOCKABLE'!$B$11:$D$88,3,FALSE),"") -> 0 | Q6: =IFERROR(VLOOKUP('SYSTEME CLASSIFICATION'!$F6,'LISTE REFERENCE STOCKABLE'!$B$11:$E$88,4,FALSE),"") -> 500 kgs | R6: =IFERROR(VLOOKUP('SYSTEME CLASSIFICATION'!$F6,'LISTE REFERENCE STOCKABLE'!$B$11:$F$88,5,FALSE),"") -> 0 | U6: =IFERROR(IF(VLOOKUP(F6,'LISTE REFERENCE STOCKABLE'!$B$2:$J$98,8,FALSE)=0,"",VLOOKUP(F6,'LISTE REFERENCE STOCKABLE'!$B$2:$J$98,8,FALSE)),"") | V6: =IFERROR(IF(VLOOKUP(F6,'LISTE REFERENCE STOCKABLE'!$B$2:$J$98,9,FALSE)=0,"",VLOOKUP(F6,'LISTE REFERENCE STOCKABLE'!$B$2:$J$98,9,FALSE)),"") | W6: =IFERROR(VLOOKUP(F6,'LISTE REFERENCE STOCKABLE'!$B$10:$K$98,10,FALSE),"") -> a | X6: =VLOOKUP(E6,Inventaire!$C$2:$E$36,3,FALSE) -> jeudi
B7: 0.88 | C7: =IFERROR(VLOOKUP(F7,'LISTE REFERENCE STOCKABLE'!$B$11:$G$88,6,FALSE),"") -> Conservor | D7: A T1-2 | E7: =IFERROR(IF(F7="","",INDEX('LISTE REFERENCE STOCKABLE'!A:A,MATCH('SYSTEME CLASSIFICATION'!F7,'LISTE REFERENCE STOCKABLE'!B:B,0),1)),"") -> EMP0037 | F7: Boîte fer Intercontinent. | G7: 18 | L7: =IFERROR(VLOOKUP('SYSTEME CLASSIFICATION'!$F7,'LISTE REFERENCE STOCKABLE'!$B$2:$C$98,2,FALSE),"DISPONIBLE") -> INDISPONIBLE | N7: =IFERROR(VLOOKUP('SYSTEME CLASSIFICATION'!$F7,'LISTE REFERENCE STOCKABLE'!$B$11:$D$88,3,FALSE),"") -> 40 cartons X 18 = 720 emb | Q7: =IFERROR(VLOOKUP('SYSTEME CLASSIFICATION'!$F7,'LISTE REFERENCE STOCKABLE'!$B$11:$E$88,4,FALSE),"") -> 5000 | R7: =IFERROR(VLOOKUP('SYSTEME CLASSIFICATION'!$F7,'LISTE REFERENCE STOCKABLE'!$B$11:$F$88,5,FALSE),"") -> 0 | U7: =IFERROR(IF(VLOOKUP(F7,'LISTE REFERENCE STOCKABLE'!$B$2:$J$98,8,FALSE)=0,"",VLOOKUP(F7,'LISTE REFERENCE STOCKABLE'!$B$2:$J$98,8,FALSE)),"") -> 1.82 | V7: =IFERROR(IF(VLOOKUP(F7,'LISTE REFERENCE STOCKABLE'!$B$2:$J$98,9,FALSE)=0,"",VLOOKUP(F7,'LISTE REFERENCE STOCKABLE'!$B$2:$J$98,9,FALSE)),"") -> 800*1200 | W7: =IFERROR(VLOOKUP(F7,'LISTE REFERENCE STOCKABLE'!$B$10:$K$98,10,FALSE),"") -> c | X7: =VLOOKUP(E7,Inventaire!$C$2:$E$36,3,FALSE) -> #N/A
B8: 0.88 | C8: =IFERROR(VLOOKUP(F8,'LISTE REFERENCE STOCKABLE'!$B$11:$G$88,6,FALSE),"") | D8: A T1-2 | E8: =IFERROR(IF(F8="","",INDEX('LISTE REFERENCE STOCKABLE'!A:A,MATCH('SYSTEME CLASSIFICATION'!F8,'LISTE REFERENCE STOCKABLE'!B:B,0),1)),"") | F8: DÉSIGNATION NON REFERENCÉ DANS LA LISTE | L8: =IFERROR(VLOOKUP('SYSTEME CLASSIFICATION'!$F8,'LISTE REFERENCE STOCKABLE'!$B$2:$C$98,2,FALSE),"DISPONIBLE") -> INDISPONIBLE (Veuillez noter la désignation du produit dans "COMMENTAIRE MAGASINIER") | M8: PALETTE CARTONS MERINGUES | N8: =IFERROR(VLOOKUP('SYSTEME CLASSIFICATION'!$F8,'LISTE REFERENCE STOCKABLE'!$B$11:$D$88,3,FALSE),"") | Q8: =IFERROR(VLOOKUP('SYSTEME CLASSIFICATION'!$F8,'LISTE REFERENCE STOCKABLE'!$B$11:$E$88,4,FALSE),"") | R8: =IFERROR(VLOOKUP('SYSTEME CLASSIFICATION'!$F8,'LISTE REFERENCE STOCKABLE'!$B$11:$F$88,5,FALSE),"") | U8: =IFERROR(IF(VLOOKUP(F8,'LISTE REFERENCE STOCKABLE'!$B$2:$J$98,8,FALSE)=0,"",VLOOKUP(F8,'LISTE REFERENCE STOCKABLE'!$B$2:$J$98,8,FALSE)),"") | V8: =IFERROR(IF(VLOOKUP(F8,'LISTE REFERENCE STOCKABLE'!$B$2:$J$98,9,FALSE)=0,"",VLOOKUP(F8,'LISTE REFERENCE STOCKABLE'!$B$2:$J$98,9,FALSE)),"") | W8: =IFERROR(VLOOKUP(F8,'LISTE REFERENCE STOCKABLE'!$B$10:$K$98,10,FALSE),"") | X8: =VLOOKUP(E8,Inventaire!$C$2:$E$36,3,FALSE) -> #N/A
C9: =IFERROR(VLOOKUP(F9,'LISTE REFERENCE STOCKABLE'!$B$11:$G$88,6,FALSE),"") -> CENPAC | D9: A T1-3 | E9: =IFERROR(IF(F9="","",INDEX('LISTE REFERENCE STOCKABLE'!A:A,MATCH('SYSTEME CLASSIFICATION'!F9,'LISTE REFERENCE STOCKABLE'!B:B,0),1)),"") -> EMS0006 | F9: Film cp Astruc pour B81 | G9: 60 | L9: =IFERROR(VLOOKUP('SYSTEME CLASSIFICATION'!$F9,'LISTE REFERENCE STOCKABLE'!$B$2:$C$98,2,FALSE),"DISPONIBLE") -> INDISPONIBLE | N9: =IFERROR(VLOOKUP('SYSTEME CLASSIFICATION'!$F9,'LISTE REFERENCE STOCKABLE'!$B$11:$D$88,3,FALSE),"") -> 30 rouleaux | Q9: =IFERROR(VLOOKUP('SYSTEME CLASSIFICATION'!$F9,'LISTE REFERENCE STOCKABLE'!$B$11:$E$88,4,FALSE),"") -> 40 | R9: =IFERROR(VLOOKUP('SYSTEME CLASSIFICATION'!$F9,'LISTE REFERENCE STOCKABLE'!$B$11:$F$88,5,FALSE),"") -> 0 | U9: =IFERROR(IF(VLOOKUP(F9,'LISTE REFERENCE STOCKABLE'!$B$2:$J$98,8,FALSE)=0,"",VLOOKUP(F9,'LISTE REFERENCE STOCKABLE'!$B$2:$J$98,8,FALSE)),"") | V9: =IFERROR(IF(VLOOKUP(F9,'LISTE REFERENCE STOCKABLE'!$B$2:$J$98,9,FALSE)=0,"",VLOOKUP(F9,'LISTE REFERENCE STOCKABLE'!$B$2:$J$98,9,FALSE)),"") | W9: =IFERROR(VLOOKUP(F9,'LISTE REFERENCE STOCKABLE'!$B$10:$K$98,10,FALSE),"") -> c | X9: =VLOOKUP(E9,Inventaire!$C$2:$E$36,3,FALSE) -> jeudi
C10: =IFERROR(VLOOKUP(F10,'LISTE REFERENCE STOCKABLE'!$B$11:$G$88,6,FALSE),"") | D10: A T1-3 | E10: =IFERROR(IF(F10="","",INDEX('LISTE REFERENCE STOCKABLE'!A:A,MATCH('SYSTEME CLASSIFICATION'!F10,'LISTE REFERENCE STOCKABLE'!B:B,0),1)),"") | F10: EMPLACEMENT INEXISTANT | L10: =IFERROR(VLOOKUP('SYSTEME CLASSIFICATION'!$F10,'LISTE REFERENCE STOCKABLE'!$B$2:$C$98,2,FALSE),"DISPONIBLE") -> INEXISTANT | N10: =IFERROR(VLOOKUP('SYSTEME CLASSIFICATION'!$F10,'LISTE REFERENCE STOCKABLE'!$B$11:$D$88,3,FALSE),"") | Q10: =IFERROR(VLOOKUP('SYSTEME CLASSIFICATION'!$F10,'LISTE REFERENCE STOCKABLE'!$B$11:$E$88,4,FALSE),"") | R10: =IFERROR(VLOOKUP('SYSTEME CLASSIFICATION'!$F10,'LISTE REFERENCE STOCKABLE'!$B$11:$F$88,5,FALSE),"") | U10: =IFERROR(IF(VLOOKUP(F10,'LISTE REFERENCE STOCKABLE'!$B$2:$J$98,8,FALSE)=0,"",VLOOKUP(F10,'LISTE REFERENCE STOCKABLE'!$B$2:$J$98,8,FALSE)),"") | V10: =IFERROR(IF(VLOOKUP(F10,'LISTE REFERENCE STOCKABLE'!$B$2:$J$98,9,FALSE)=0,"",VLOOKUP(F10,'LISTE REFERENCE STOCKABLE'!$B$2:$J$98,9,FALSE)),"") | W10: =IFERROR(VLOOKUP(F10,'LISTE REFERENCE STOCKABLE'!$B$10:$K$98,10,FALSE),"") | X10: =VLOOKUP(E10,Inventaire!$C$2:$E$36,3,FALSE) -> #N/A
C11: =IFERROR(VLOOKUP(F11,'LISTE REFERENCE STOCKABLE'!$B$11:$G$88,6,FALSE),"") -> CENPAC | D11: A T1-3 | E11: =IFERROR(IF(F11="","",INDEX('LISTE REFERENCE STOCKABLE'!A:A,MATCH('SYSTEME CLASSIFICATION'!F11,'LISTE REFERENCE STOCKABLE'!B:B,0),1)),"") -> EMS0006 | F11: Film cp Astruc pour B81 | G11: 60 | L11: =IFERROR(VLOOKUP('SYSTEME CLASSIFICATION'!$F11,'LISTE REFERENCE STOCKABLE'!$B$2:$C$98,2,FALSE),"DISPONIBLE") -> INDISPONIBLE | N11: =IFERROR(VLOOKUP('SYSTEME CLASSIFICATION'!$F11,'LISTE REFERENCE STOCKABLE'!$B$11:$D$88,3,FALSE),"") -> 30 rouleaux | Q11: =IFERROR(VLOOKUP('SYSTEME CLASSIFICATION'!$F11,'LISTE REFERENCE STOCKABLE'!$B$11:$E$88,4,FALSE),"") -> 40 | R11: =IFERROR(VLOOKUP('SYSTEME CLASSIFICATION'!$F11,'LISTE REFERENCE STOCKABLE'!$B$11:$F$88,5,FALSE),"") -> 0 | U11: =IFERROR(IF(VLOOKUP(F11,'LISTE REFERENCE STOCKABLE'!$B$2:$J$98,8,FALSE)=0,"",VLOOKUP(F11,'LISTE REFERENCE STOCKABLE'!$B$2:$J$98,8,FALSE)),"") | V11: =IFERROR(IF(VLOOKUP(F11,'LISTE REFERENCE STOCKABLE'!$B$2:$J$98,9,FALSE)=0,"",VLOOKUP(F11,'LISTE REFERENCE STOCKABLE'!$B$2:$J$98,9,FALSE)),"") | W11: =IFERROR(VLOOKUP(F11,'LISTE REFERENCE STOCKABLE'!$B$10:$K$98,10,FALSE),"") -> c | X11: =VLOOKUP(E11,Inventaire!$C$2:$E$36,3,FALSE) -> jeudi
C12: =IFERROR(VLOOKUP(F12,'LISTE REFERENCE STOCKABLE'!$B$11:$G$88,6,FALSE),"") -> CENPAC | D12: A T1-4 | E12: =IFERROR(IF(F12="","",INDEX('LISTE REFERENCE STOCKABLE'!A:A,MATCH('SYSTEME CLASSIFICATION'!F12,'LISTE REFERENCE STOCKABLE'!B:B,0),1)),"") -> EMS0006 | F12: Film cp Astruc pour B81 | L12: =IFERROR(VLOOKUP('SYSTEME CLASSIFICATION'!$F12,'LISTE REFERENCE STOCKABLE'!$B$2:$C$98,2,FALSE),"DISPONIBLE") -> INDISPONIBLE | M12: plateau reine | N12: =IFERROR(VLOOKUP('SYSTEME CLASSIFICATION'!$F12,'LISTE REFERENCE STOCKABLE'!$B$11:$D$88,3,FALSE),"") -> 30 rouleaux | Q12: =IFERROR(VLOOKUP('SYSTEME CLASSIFICATION'!$F12,'LISTE REFERENCE STOCKABLE'!$B$11:$E$88,4,FALSE),"") -> 40 | R12: =IFERROR(VLOOKUP('SYSTEME CLASSIFICATION'!$F12,'LISTE REFERENCE STOCKABLE'!$B$11:$F$88,5,FALSE),"") -> 0 | U12: =IFERROR(IF(VLOOKUP(F12,'LISTE REFERENCE STOCKABLE'!$B$2:$J$98,8,FALSE)=0,"",VLOOKUP(F12,'LISTE REFERENCE STOCKABLE'!$B$2:$J$98,8,FALSE)),"") | V12: =IFERROR(IF(VLOOKUP(F12,'LISTE REFERENCE STOCKABLE'!$B$2:$J$98,9,FALSE)=0,"",VLOOKUP(F12,'LISTE REFERENCE STOCKABLE'!$B$2:$J$98,9,FALSE)),"") | W12: =IFERROR(VLOOKUP(F12,'LISTE REFERENCE STOCKABLE'!$B$10:$K$98,10,FALSE),"") -> c | X12: =VLOOKUP(E12,Inventaire!$C$2:$E$36,3,FALSE) -> jeudi
C13: =IFERROR(VLOOKUP(F13,'LISTE REFERENCE STOCKABLE'!$B$11:$G$88,6,FALSE),"") | D13: A T1-4 | E13: =IFERROR(IF(F13="","",INDEX('LISTE REFERENCE STOCKABLE'!A:A,MATCH('SYSTEME CLASSIFICATION'!F13,'LISTE REFERENCE STOCKABLE'!B:B,0),1)),"") | F13: DÉSIGNATION NON REFERENCÉ DANS LA LISTE | L13: =IFERROR(VLOOKUP('SYSTEME CLASSIFICATION'!$F13,'LISTE REFERENCE STOCKABLE'!$B$2:$C$98,2,FALSE),"DISPONIBLE") -> INDISPONIBLE (Veuillez noter la désignation du produit dans "COMMENTAIRE MAGASINIER") | M13: boîte patiserie + 7 boîte de ??? | N13: =IFERROR(VLOOKUP('SYSTEME CLASSIFICATION'!$F13,'LISTE REFERENCE STOCKABLE'!$B$11:$D$88,3,FALSE),"") | Q13: =IFERROR(VLOOKUP('SYSTEME CLASSIFICATION'!$F13,'LISTE REFERENCE STOCKABLE'!$B$11:$E$88,4,FALSE),"") | R13: =IFERROR(VLOOKUP('SYSTEME CLASSIFICATION'!$F13,'LISTE REFERENCE STOCKABLE'!$B$11:$F$88,5,FALSE),"") | U13: =IFERROR(IF(VLOOKUP(F13,'LISTE REFERENCE STOCKABLE'!$B$2:$J$98,8,FALSE)=0,"",VLOOKUP(F13,'LISTE REFERENCE STOCKABLE'!$B$2:$J$98,8,FALSE)),"") | V13: =IFERROR(IF(VLOOKUP(F13,'LISTE REFERENCE STOCKABLE'!$B$2:$J$98,9,FALSE)=0,"",VLOOKUP(F13,'LISTE REFERENCE STOCKABLE'!$B$2:$J$98,9,FALSE)),"") | W13: =IFERROR(VLOOKUP(F13,'LISTE REFERENCE STOCKABLE'!$B$10:$K$98,10,FALSE),"") | X13: =VLOOKUP(E13,Inventaire!$C$2:$E$36,3,FALSE) -> #N/A
C14: =IFERROR(VLOOKUP(F14,'LISTE REFERENCE STOCKABLE'!$B$11:$G$88,6,FALSE),"") | D14: A T1-4 | E14: =IFERROR(IF(F14="","",INDEX('LISTE REFERENCE STOCKABLE'!A:A,MATCH('SYSTEME CLASSIFICATION'!F14,'LISTE REFERENCE STOCKABLE'!B:B,0),1)),"") | F14: DÉSIGNATION NON REFERENCÉ DANS LA LISTE | L14: =IFERROR(VLOOKUP('SYSTEME CLASSIFICATION'!$F14,'LISTE REFERENCE STOCKABLE'!$B$2:$C$98,2,FALSE),"DISPONIBLE") -> INDISPONIBLE (Veuillez noter la désignation du produit dans "COMMENTAIRE MAGASINIER") | M14: BOÎTE 1/4 ET 1/2 TINES | N14: =IFERROR(VLOOKUP('SYSTEME CLASSIFICATION'!$F14,'LISTE REFERENCE STOCKABLE'!$B$11:$D$88,3,FALSE),"") | Q14: =IFERROR(VLOOKUP('SYSTEME CLASSIFICATION'!$F14,'LISTE REFERENCE STOCKABLE'!$B$11:$E$88,4,FALSE),"") | R14: =IFERROR(VLOOKUP('SYSTEME CLASSIFICATION'!$F14,'LISTE REFERENCE STOCKABLE'!$B$11:$F$88,5,FALSE),"") | U14: =IFERROR(IF(VLOOKUP(F14,'LISTE REFERENCE STOCKABLE'!$B$2:$J$98,8,FALSE)=0,"",VLOOKUP(F14,'LISTE REFERENCE STOCKABLE'!$B$2:$J$98,8,FALSE)),"") | V14: =IFERROR(IF(VLOOKUP(F14,'LISTE REFERENCE STOCKABLE'!$B$2:$J$98,9,FALSE)=0,"",VLOOKUP(F14,'LISTE REFERENCE STOCKABLE'!$B$2:$J$98,9,FALSE)),"") | W14: =IFERROR(VLOOKUP(F14,'LISTE REFERENCE STOCKABLE'!$B$10:$K$98,10,FALSE),"") | X14: =VLOOKUP(E14,Inventaire!$C$2:$E$36,3,FALSE) -> #N/A
B15: 1.98 | C15: =IFERROR(VLOOKUP(F15,'LISTE REFERENCE STOCKABLE'!$B$11:$G$88,6,FALSE),"") | D15: A T2-1 | E15: =IFERROR(IF(F15="","",INDEX('LISTE REFERENCE STOCKABLE'!A:A,MATCH('SYSTEME CLASSIFICATION'!F15,'LISTE REFERENCE STOCKABLE'!B:B,0),1)),"") | F15: EMPLACEMENT INEXISTANT | L15: =IFERROR(VLOOKUP('SYSTEME CLASSIFICATION'!$F15,'LISTE REFERENCE STOCKABLE'!$B$2:$C$98,2,FALSE),"DISPONIBLE") -> INEXISTANT | N15: =IFERROR(VLOOKUP('SYSTEME CLASSIFICATION'!$F15,'LISTE REFERENCE STOCKABLE'!$B$11:$D$88,3,FALSE),"") | Q15: =IFERROR(VLOOKUP('SYSTEME CLASSIFICATION'!$F15,'LISTE REFERENCE STOCKABLE'!$B$11:$E$88,4,FALSE),"") | R15: =IFERROR(VLOOKUP('SYSTEME CLASSIFICATION'!$F15,'LISTE REFERENCE STOCKABLE'!$B$11:$F$88,5,FALSE),"") | U15: =IFERROR(IF(VLOOKUP(F15,'LISTE REFERENCE STOCKABLE'!$B$2:$J$98,8,FALSE)=0,"",VLOOKUP(F15,'LISTE REFERENCE STOCKABLE'!$B$2:$J$98,8,FALSE)),"") | V15: =IFERROR(IF(VLOOKUP(F15,'LISTE REFERENCE STOCKABLE'!$B$2:$J$98,9,FALSE)=0,"",VLOOKUP(F15,'LISTE REFERENCE STOCKABLE'!$B$2:$J$98,9,FALSE)),"") | W15: =IFERROR(VLOOKUP(F15,'LISTE REFERENCE STOCKABLE'!$B$10:$K$98,10,FALSE),"") | X15: =VLOOKUP(E15,Inventaire!$C$2:$E$36,3,FALSE) -> #N/A
B16: 1.98 | C16: =IFERROR(VLOOKUP(F16,'LISTE REFERENCE STOCKABLE'!$B$11:$G$88,6,FALSE),"") | D16: A T2-1 | E16: =IFERROR(IF(F16="","",INDEX('LISTE REFERENCE STOCKABLE'!A:A,MATCH('SYSTEME CLASSIFICATION'!F16,'LISTE REFERENCE STOCKABLE'!B:B,0),1)),"") | F16: EMPLACEMENT INEXISTANT | L16: =IFERROR(VLOOKUP('SYSTEME CLASSIFICATION'!$F16,'LISTE REFERENCE STOCKABLE'!$B$2:$C$98,2,FALSE),"DISPONIBLE") -> INEXISTANT | N16: =IFERROR(VLOOKUP('SYSTEME CLASSIFICATION'!$F16,'LISTE REFERENCE STOCKABLE'!$B$11:$D$88,3,FALSE),"") | Q16: =IFERROR(VLOOKUP('SYSTEME CLASSIFICATION'!$F16,'LISTE REFERENCE STOCKABLE'!$B$11:$E$88,4,FALSE),"") | R16: =IFERROR(VLOOKUP('SYSTEME CLASSIFICATION'!$F16,'LISTE REFERENCE STOCKABLE'!$B$11:$F$88,5,FALSE),"") | U16: =IFERROR(IF(VLOOKUP(F16,'LISTE REFERENCE STOCKABLE'!$B$2:$J$98,8,FALSE)=0,"",VLOOKUP(F16,'LISTE REFERENCE STOCKABLE'!$B$2:$J$98,8,FALSE)),"") | V16: =IFERROR(IF(VLOOKUP(F16,'LISTE REFERENCE STOCKABLE'!$B$2:$J$98,9,FALSE)=0,"",VLOOKUP(F16,'LISTE REFERENCE STOCKABLE'!$B$2:$J$98,9,FALSE)),"") | W16: =IFERROR(VLOOKUP(F16,'LISTE REFERENCE STOCKABLE'!$B$10:$K$98,10,FALSE),"") | X16: =VLOOKUP(E16,Inventaire!$C$2:$E$36,3,FALSE) -> #N/A
B17: 1.98 | C17: =IFERROR(VLOOKUP(F17,'LISTE REFERENCE STOCKABLE'!$B$11:$G$88,6,FALSE),"") | D17: A T2-1 | E17: =IFERROR(IF(F17="","",INDEX('LISTE REFERENCE STOCKABLE'!A:A,MATCH('SYSTEME CLASSIFICATION'!F17,'LISTE REFERENCE STOCKABLE'!B:B,0),1)),"") | F17: EMPLACEMENT INEXISTANT | L17: =IFERROR(VLOOKUP('SYSTEME CLASSIFICATION'!$F17,'LISTE REFERENCE STOCKABLE'!$B$2:$C$98,2,FALSE),"DISPONIBLE") -> INEXISTANT | N17: =IFERROR(VLOOKUP('SYSTEME CLASSIFICATION'!$F17,'LISTE REFERENCE STOCKABLE'!$B$11:$D$88,3,FALSE),"") | Q17: =IFERROR(VLOOKUP('SYSTEME CLASSIFICATION'!$F17,'LISTE REFERENCE STOCKABLE'!$B$11:$E$88,4,FALSE),"") | R17: =IFERROR(VLOOKUP('SYSTEME CLASSIFICATION'!$F17,'LISTE REFERENCE STOCKABLE'!$B$11:$F$88,5,FALSE),"") | U17: =IFERROR(IF(VLOOKUP(F17,'LISTE REFERENCE STOCKABLE'!$B$2:$J$98,8,FALSE)=0,"",VLOOKUP(F17,'LISTE REFERENCE STOCKABLE'!$B$2:$J$98,8,FALSE)),"") | V17: =IFERROR(IF(VLOOKUP(F17,'LISTE REFERENCE STOCKABLE'!$B$2:$J$98,9,FALSE)=0,"",VLOOKUP(F17,'LISTE REFERENCE STOCKABLE'!$B$2:$J$98,9,FALSE)),"") | W17: =IFERROR(VLOOKUP(F17,'LISTE REFERENCE STOCKABLE'!$B$10:$K$98,10,FALSE),"") | X17: =VLOOKUP(E17,Inventaire!$C$2:$E$36,3,FALSE) -> #N/A
B18: 1.09 | C18: =IFERROR(VLOOKUP(F18,'LISTE REFERENCE STOCKABLE'!$B$11:$G$88,6,FALSE),"") -> Exten Packaging | D18: A T2-2 | E18: =IFERROR(IF(F18="","",INDEX('LISTE REFERENCE STOCKABLE'!A:A,MATCH('SYSTEME CLASSIFICATION'!F18,'LISTE REFERENCE STOCKABLE'!B:B,0),1)),"") -> EMP0042 | F18: Fond 195 | L18: =IFERROR(VLOOKUP('SYSTEME CLASSIFICATION'!$F18,'LISTE REFERENCE STOCKABLE'!$B$2:$C$98,2,FALSE),"DISPONIBLE") -> INDISPONIBLE | N18: =IFERROR(VLOOKUP('SYSTEME CLASSIFICATION'!$F18,'LISTE REFERENCE STOCKABLE'!$B$11:$D$88,3,FALSE),"") -> 1 palettex2700c.=2700 | Q18: =IFERROR(VLOOKUP('SYSTEME CLASSIFICATION'!$F18,'LISTE REFERENCE STOCKABLE'!$B$11:$E$88,4,FALSE),"") -> 20000 | R18: =IFERROR(VLOOKUP('SYSTEME CLASSIFICATION'!$F18,'LISTE REFERENCE STOCKABLE'!$B$11:$F$88,5,FALSE),"") -> 0 | U18: =IFERROR(IF(VLOOKUP(F18,'LISTE REFERENCE STOCKABLE'!$B$2:$J$98,8,FALSE)=0,"",VLOOKUP(F18,'LISTE REFERENCE STOCKABLE'!$B$2:$J$98,8,FALSE)),"") | V18: =IFERROR(IF(VLOOKUP(F18,'LISTE REFERENCE STOCKABLE'!$B$2:$J$98,9,FALSE)=0,"",VLOOKUP(F18,'LISTE REFERENCE STOCKABLE'!$B$2:$J$98,9,FALSE)),"") | W18: =IFERROR(VLOOKUP(F18,'LISTE REFERENCE STOCKABLE'!$B$10:$K$98,10,FALSE),"") -> c | X18: =VLOOKUP(E18,Inventaire!$C$2:$E$36,3,FALSE) -> #N/A
B19: 1.09 | C19: =IFERROR(VLOOKUP(F19,'LISTE REFERENCE STOCKABLE'!$B$11:$G$88,6,FALSE),"") -> Exten Packaging | D19: A T2-2 | E19: =IFERROR(IF(F19="","",INDEX('LISTE REFERENCE STOCKABLE'!A:A,MATCH('SYSTEME CLASSIFICATION'!F19,'LISTE REFERENCE STOCKABLE'!B:B,0),1)),"") -> EMP0042 | F19: Fond 195 | H19: Fond 240 Joyeuses fêtes | L19: =IFERROR(VLOOKUP('SYSTEME CLASSIFICATION'!$F19,'LISTE REFERENCE STOCKABLE'!$B$2:$C$98,2,FALSE),"DISPONIBLE") -> INDISPONIBLE | N19: =IFERROR(VLOOKUP('SYSTEME CLASSIFICATION'!$F19,'LISTE REFERENCE STOCKABLE'!$B$11:$D$88,3,FALSE),"") -> 1 palettex2700c.=2700 | Q19: =IFERROR(VLOOKUP('SYSTEME CLASSIFICATION'!$F19,'LISTE REFERENCE STOCKABLE'!$B$11:$E$88,4,FALSE),"") -> 20000 | R19: =IFERROR(VLOOKUP('SYSTEME CLASSIFICATION'!$F19,'LISTE REFERENCE STOCKABLE'!$B$11:$F$88,5,FALSE),"") -> 0 | U19: =IFERROR(IF(VLOOKUP(F19,'LISTE REFERENCE STOCKABLE'!$B$2:$J$98,8,FALSE)=0,"",VLOOKUP(F19,'LISTE REFERENCE STOCKABLE'!$B$2:$J$98,8,FALSE)),"") | V19: =IFERROR(IF(VLOOKUP(F19,'LISTE REFERENCE STOCKABLE'!$B$2:$J$98,9,FALSE)=0,"",VLOOKUP(F19,'LISTE REFERENCE STOCKABLE'!$B$2:$J$98,9,FALSE)),"") | W19: =IFERROR(VLOOKUP(F19,'LISTE REFERENCE STOCKABLE'!$B$10:$K$98,10,FALSE),"") -> c | X19: =VLOOKUP(E19,Inventaire!$C$2:$E$36,3,FALSE) -> #N/A
B20: 1.09 | C20: =IFERROR(VLOOKUP(F20,'LISTE REFERENCE STOCKABLE'!$B$11:$G$88,6,FALSE),"") | D20: A T2-2 | E20: =IFERROR(IF(F20="","",INDEX('LISTE REFERENCE STOCKABLE'!A:A,MATCH('SYSTEME CLASSIFICATION'!F20,'LISTE REFERENCE STOCKABLE'!B:B,0),1)),"") | F20: EMPLACEMENT INEXISTANT | L20: =IFERROR(VLOOKUP('SYSTEME CLASSIFICATION'!$F20,'LISTE REFERENCE STOCKABLE'!$B$2:$C$98,2,FALSE),"DISPONIBLE") -> INEXISTANT | N20: =IFERROR(VLOOKUP('SYSTEME CLASSIFICATION'!$F20,'LISTE REFERENCE STOCKABLE'!$B$11:$D$88,3,FALSE),"") | Q20: =IFERROR(VLOOKUP('SYSTEME CLASSIFICATION'!$F20,'LISTE REFERENCE STOCKABLE'!$B$11:$E$88,4,FALSE),"") | R20: =IFERROR(VLOOKUP('SYSTEME CLASSIFICATION'!$F20,'LISTE REFERENCE STOCKABLE'!$B$11:$F$88,5,FALSE),"") | U20: =IFERROR(IF(VLOOKUP(F20,'LISTE REFERENCE STOCKABLE'!$B$2:$J$98,8,FALSE)=0,"",VLOOKUP(F20,'LISTE REFERENCE STOCKABLE'!$B$2:$J$98,8,FALSE)),"") | V20: =IFERROR(IF(VLOOKUP(F20,'LISTE REFERENCE STOCKABLE'!$B$2:$J$98,9,FALSE)=0,"",VLOOKUP(F20,'LISTE REFERENCE STOCKABLE'!$B$2:$J$98,9,FALSE)),"") | W20: =IFERROR(VLOOKUP(F20,'LISTE REFERENCE STOCKABLE'!$B$10:$K$98,10,FALSE),"") | X20: =VLOOKUP(E20,Inventaire!$C$2:$E$36,3,FALSE) -> #N/A
B21: 1.09 | C21: =IFERROR(VLOOKUP(F21,'LISTE REFERENCE STOCKABLE'!$B$11:$G$88,6,FALSE),"") | D21: A T2-2 | E21: =IFERROR(IF(F21="","",INDEX('LISTE REFERENCE STOCKABLE'!A:A,MATCH('SYSTEME CLASSIFICATION'!F21,'LISTE REFERENCE STOCKABLE'!B:B,0),1)),"") | L21: =IFERROR(VLOOKUP('SYSTEME CLASSIFICATION'!$F21,'LISTE REFERENCE STOCKABLE'!$B$2:$C$98,2,FALSE),"DISPONIBLE") -> DISPONIBLE | N21: =IFERROR(VLOOKUP('SYSTEME CLASSIFICATION'!$F21,'LISTE REFERENCE STOCKABLE'!$B$11:$D$88,3,FALSE),"") | Q21: =IFERROR(VLOOKUP('SYSTEME CLASSIFICATION'!$F21,'LISTE REFERENCE STOCKABLE'!$B$11:$E$88,4,FALSE),"") | R21: =IFERROR(VLOOKUP('SYSTEME CLASSIFICATION'!$F21,'LISTE REFERENCE STOCKABLE'!$B$11:$F$88,5,FALSE),"") | U21: =IFERROR(IF(VLOOKUP(F21,'LISTE REFERENCE STOCKABLE'!$B$2:$J$98,8,FALSE)=0,"",VLOOKUP(F21,'LISTE REFERENCE STOCKABLE'!$B$2:$J$98,8,FALSE)),"") | V21: =IFERROR(IF(VLOOKUP(F21,'LISTE REFERENCE STOCKABLE'!$B$2:$J$98,9,FALSE)=0,"",VLOOKUP(F21,'LISTE REFERENCE STOCKABLE'!$B$2:$J$98,9,FALSE)),"") | W21: =IFERROR(VLOOKUP(F21,'LISTE REFERENCE STOCKABLE'!$B$10:$K$98,10,FALSE),"") | X21: =VLOOKUP(E21,Inventaire!$C$2:$E$36,3,FALSE) -> #N/A
C22: =IFERROR(VLOOKUP(F22,'LISTE REFERENCE STOCKABLE'!$B$11:$G$88,6,FALSE),"") | D22: A T2-3 | E22: =IFERROR(IF(F22="","",INDEX('LISTE REFERENCE STOCKABLE'!A:A,MATCH('SYSTEME CLASSIFICATION'!F22,'LISTE REFERENCE STOCKABLE'!B:B,0),1)),"") | F22: DÉSIGNATION NON REFERENCÉ DANS LA LISTE | L22: =IFERROR(VLOOKUP('SYSTEME CLASSIFICATION'!$F22,'LISTE REFERENCE STOCKABLE'!$B$2:$C$98,2,FALSE),"DISPONIBLE") -> INDISPONIBLE (Veuillez noter la désignation du produit dans "COMMENTAIRE MAGASINIER") | M22: AMORTISSEUR TUILES NOIR | N22: =IFERROR(VLOOKUP('SYSTEME CLASSIFICATION'!$F22,'LISTE REFERENCE STOCKABLE'!$B$11:$D$88,3,FALSE),"") | Q22: =IFERROR(VLOOKUP('SYSTEME CLASSIFICATION'!$F22,'LISTE REFERENCE STOCKABLE'!$B$11:$E$88,4,FALSE),"") | R22: =IFERROR(VLOOKUP('SYSTEME CLASSIFICATION'!$F22,'LISTE REFERENCE STOCKABLE'!$B$11:$F$88,5,FALSE),"") | U22: =IFERROR(IF(VLOOKUP(F22,'LISTE REFERENCE STOCKABLE'!$B$2:$J$98,8,FALSE)=0,"",VLOOKUP(F22,'LISTE REFERENCE STOCKABLE'!$B$2:$J$98,8,FALSE)),"") | V22: =IFERROR(IF(VLOOKUP(F22,'LISTE REFERENCE STOCKABLE'!$B$2:$J$98,9,FALSE)=0,"",VLOOKUP(F22,'LISTE REFERENCE STOCKABLE'!$B$2:$J$98,9,FALSE)),"") | W22: =IFERROR(VLOOKUP(F22,'LISTE REFERENCE STOCKABLE'!$B$10:$K$98,10,FALSE),"") | X22: =VLOOKUP(E22,Inventaire!$C$2:$E$36,3,FALSE) -> #N/A
C23: =IFERROR(VLOOKUP(F23,'LISTE REFERENCE STOCKABLE'!$B$11:$G$88,6,FALSE),"") | D23: A T2-3 | E23: =IFERROR(IF(F23="","",INDEX('LISTE REFERENCE STOCKABLE'!A:A,MATCH('SYSTEME CLASSIFICATION'!F23,'LISTE REFERENCE STOCKABLE'!B:B,0),1)),"") | F23: DÉSIGNATION NON REFERENCÉ DANS LA LISTE | L23: =IFERROR(VLOOKUP('SYSTEME CLASSIFICATION'!$F23,'LISTE REFERENCE STOCKABLE'!$B$2:$C$98,2,FALSE),"DISPONIBLE") -> INDISPONIBLE (Veuillez noter la désignation du produit dans "COMMENTAIRE MAGASINIER") | M23: AMORTISSEUR TUILES NOIR | N23: =IFERROR(VLOOKUP('SYSTEME CLASSIFICATION'!$F23,'LISTE REFERENCE STOCKABLE'!$B$11:$D$88,3,FALSE),"") | Q23: =IFERROR(VLOOKUP('SYSTEME CLASSIFICATION'!$F23,'LISTE REFERENCE STOCKABLE'!$B$11:$E$88,4,FALSE),"") | R23: =IFERROR(VLOOKUP('SYSTEME CLASSIFICATION'!$F23,'LISTE REFERENCE STOCKABLE'!$B$11:$F$88,5,FALSE),"") | U23: =IFERROR(IF(VLOOKUP(F23,'LISTE REFERENCE STOCKABLE'!$B$2:$J$98,8,FALSE)=0,"",VLOOKUP(F23,'LISTE REFERENCE STOCKABLE'!$B$2:$J$98,8,FALSE)),"") | V23: =IFERROR(IF(VLOOKUP(F23,'LISTE REFERENCE STOCKABLE'!$B$2:$J$98,9,FALSE)=0,"",VLOOKUP(F23,'LISTE REFERENCE STOCKABLE'!$B$2:$J$98,9,FALSE)),"") | W23: =IFERROR(VLOOKUP(F23,'LISTE REFERENCE STOCKABLE'!$B$10:$K$98,10,FALSE),"") | X23: =VLOOKUP(E23,Inventaire!$C$2:$E$36,3,FALSE) -> #N/A
C24: =IFERROR(VLOOKUP(F24,'LISTE REFERENCE STOCKABLE'!$B$11:$G$88,6,FALSE),"") | D24: A T2-3 | E24: =IFERROR(IF(F24="","",INDEX('LISTE REFERENCE STOCKABLE'!A:A,MATCH('SYSTEME CLASSIFICATION'!F24,'LISTE REFERENCE STOCKABLE'!B:B,0),1)),"") | F24: DÉSIGNATION NON REFERENCÉ DANS LA LISTE | L24: =IFERROR(VLOOKUP('SYSTEME CLASSIFICATION'!$F24,'LISTE REFERENCE STOCKABLE'!$B$2:$C$98,2,FALSE),"DISPONIBLE") -> INDISPONIBLE (Veuillez noter la désignation du produit dans "COMMENTAIRE MAGASINIER") | M24: AMORTISSEUR TUILES NOIR | N24: =IFERROR(VLOOKUP('SYSTEME CLASSIFICATION'!$F24,'LISTE REFERENCE STOCKABLE'!$B$11:$D$88,3,FALSE),"") | Q24: =IFERROR(VLOOKUP('SYSTEME CLASSIFICATION'!$F24,'LISTE REFERENCE STOCKABLE'!$B$11:$E$88,4,FALSE),"") | R24: =IFERROR(VLOOKUP('SYSTEME CLASSIFICATION'!$F24,'LISTE REFERENCE STOCKABLE'!$B$11:$F$88,5,FALSE),"") | U24: =IFERROR(IF(VLOOKUP(F24,'LISTE REFERENCE STOCKABLE'!$B$2:$J$98,8,FALSE)=0,"",VLOOKUP(F24,'LISTE REFERENCE STOCKABLE'!$B$2:$J$98,8,FALSE)),"") | V24: =IFERROR(IF(VLOOKUP(F24,'LISTE REFERENCE STOCKABLE'!$B$2:$J$98,9,FALSE)=0,"",VLOOKUP(F24,'LISTE REFERENCE STOCKABLE'!$B$2:$J$98,9,FALSE)),"") | W24: =IFERROR(VLOOKUP(F24,'LISTE REFERENCE STOCKABLE'!$B$10:$K$98,10,FALSE),"") | X24: =VLOOKUP(E24,Inventaire!$C$2:$E$36,3,FALSE) -> #N/A
B25: 1.98 | C25: =IFERROR(VLOOKUP(F25,'LISTE REFERENCE STOCKABLE'!$B$11:$G$88,6,FALSE),"") | D25: A T3-1 | E25: =IFERROR(IF(F25="","",INDEX('LISTE REFERENCE STOCKABLE'!A:A,MATCH('SYSTEME CLASSIFICATION'!F25,'LISTE REFERENCE STOCKABLE'!B:B,0),1)),"") -> 0 | F25: Denrée alimentaire | L25: =IFERROR(VLOOKUP('SYSTEME CLASSIFICATION'!$F25,'LISTE REFERENCE STOCKABLE'!$B$2:$C$98,2,FALSE),"DISPONIBLE") -> INDISPONIBLE | N25: =IFERROR(VLOOKUP('SYSTEME CLASSIFICATION'!$F25,'LISTE REFERENCE STOCKABLE'!$B$11:$D$88,3,FALSE),"") | Q25: =IFERROR(VLOOKUP('SYSTEME CLASSIFICATION'!$F25,'LISTE REFERENCE STOCKABLE'!$B$11:$E$88,4,FALSE),"") | R25: =IFERROR(VLOOKUP('SYSTEME CLASSIFICATION'!$F25,'LISTE REFERENCE STOCKABLE'!$B$11:$F$88,5,FALSE),"") | U25: =IFERROR(IF(VLOOKUP(F25,'LISTE REFERENCE STOCKABLE'!$B$2:$J$98,8,FALSE)=0,"",VLOOKUP(F25,'LISTE REFERENCE STOCKABLE'!$B$2:$J$98,8,FALSE)),"") | V25: =IFERROR(IF(VLOOKUP(F25,'LISTE REFERENCE STOCKABLE'!$B$2:$J$98,9,FALSE)=0,"",VLOOKUP(F25,'LISTE REFERENCE STOCKABLE'!$B$2:$J$98,9,FALSE)),"") | W25: =IFERROR(VLOOKUP(F25,'LISTE REFERENCE STOCKABLE'!$B$10:$K$98,10,FALSE),"") | X25: =VLOOKUP(E25,Inventaire!$C$2:$E$36,3,FALSE) -> #N/A
B26: 1.98 | C26: =IFERROR(VLOOKUP(F26,'LISTE REFERENCE STOCKABLE'!$B$11:$G$88,6,FALSE),"") | D26: A T3-1 | E26: =IFERROR(IF(F26="","",INDEX('LISTE REFERENCE STOCKABLE'!A:A,MATCH('SYSTEME CLASSIFICATION'!F26,'LISTE REFERENCE STOCKABLE'!B:B,0),1)),"") -> 0 | F26: Denrée alimentaire | L26: =IFERROR(VLOOKUP('SYSTEME CLASSIFICATION'!$F26,'LISTE REFERENCE STOCKABLE'!$B$2:$C$98,2,FALSE),"DISPONIBLE") -> INDISPONIBLE | N26: =IFERROR(VLOOKUP('SYSTEME CLASSIFICATION'!$F26,'LISTE REFERENCE STOCKABLE'!$B$11:$D$88,3,FALSE),"") | Q26: =IFERROR(VLOOKUP('SYSTEME CLASSIFICATION'!$F26,'LISTE REFERENCE STOCKABLE'!$B$11:$E$88,4,FALSE),"") | R26: =IFERROR(VLOOKUP('SYSTEME CLASSIFICATION'!$F26,'LISTE REFERENCE STOCKABLE'!$B$11:$F$88,5,FALSE),"") | U26: =IFERROR(IF(VLOOKUP(F26,'LISTE REFERENCE STOCKABLE'!$B$2:$J$98,8,FALSE)=0,"",VLOOKUP(F26,'LISTE REFERENCE STOCKABLE'!$B$2:$J$98,8,FALSE)),"") | V26: =IFERROR(IF(VLOOKUP(F26,'LISTE REFERENCE STOCKABLE'!$B$2:$J$98,9,FALSE)=0,"",VLOOKUP(F26,'LISTE REFERENCE STOCKABLE'!$B$2:$J$98,9,FALSE)),"") | W26: =IFERROR(VLOOKUP(F26,'LISTE REFERENCE STOCKABLE'!$B$10:$K$98,10,FALSE),"") | X26: =VLOOKUP(E26,Inventaire!$C$2:$E$36,3,FALSE) -> #N/A
B27: 1.98 | C27: =IFERROR(VLOOKUP(F27,'LISTE REFERENCE STOCKABLE'!$B$11:$G$88,6,FALSE),"") | D27: A T3-1 | E27: =IFERROR(IF(F27="","",INDEX('LISTE REFERENCE STOCKABLE'!A:A,MATCH('SYSTEME CLASSIFICATION'!F27,'LISTE REFERENCE STOCKABLE'!B:B,0),1)),"") -> 0 | F27: Denrée alimentaire | L27: =IFERROR(VLOOKUP('SYSTEME CLASSIFICATION'!$F27,'LISTE REFERENCE STOCKABLE'!$B$2:$C$98,2,FALSE),"DISPONIBLE") -> INDISPONIBLE | N27: =IFERROR(VLOOKUP('SYSTEME CLASSIFICATION'!$F27,'LISTE REFERENCE STOCKABLE'!$B$11:$D$88,3,FALSE),"") | Q27: =IFERROR(VLOOKUP('SYSTEME CLASSIFICATION'!$F27,'LISTE REFERENCE STOCKABLE'!$B$11:$E$88,4,FALSE),"") | R27: =IFERROR(VLOOKUP('SYSTEME CLASSIFICATION'!$F27,'LISTE REFERENCE STOCKABLE'!$B$11:$F$88,5,FALSE),"") | U27: =IFERROR(IF(VLOOKUP(F27,'LISTE REFERENCE STOCKABLE'!$B$2:$J$98,8,FALSE)=0,"",VLOOKUP(F27,'LISTE REFERENCE STOCKABLE'!$B$2:$J$98,8,FALSE)),"") | V27: =IFERROR(IF(VLOOKUP(F27,'LISTE REFERENCE STOCKABLE'!$B$2:$J$98,9,FALSE)=0,"",VLOOKUP(F27,'LISTE REFERENCE STOCKABLE'!$B$2:$J$98,9,FALSE)),"") | W27: =IFERROR(VLOOKUP(F27,'LISTE REFERENCE STOCKABLE'!$B$10:$K$98,10,FALSE),"") | X27: =VLOOKUP(E27,Inventaire!$C$2:$E$36,3,FALSE) -> #N/A
B28: 1.08 | C28: =IFERROR(VLOOKUP(F28,'LISTE REFERENCE STOCKABLE'!$B$11:$G$88,6,FALSE),"") -> Exten Packaging | D28: A T3-2 | E28: =IFERROR(IF(F28="","",INDEX('LISTE REFERENCE STOCKABLE'!A:A,MATCH('SYSTEME CLASSIFICATION'!F28,'LISTE REFERENCE STOCKABLE'!B:B,0),1)),"") -> EMP0042 | F28: Fond 195 | L28: =IFERROR(VLOOKUP('SYSTEME CLASSIFICATION'!$F28,'LISTE REFERENCE STOCKABLE'!$B$2:$C$98,2,FALSE),"DISPONIBLE") -> INDISPONIBLE | N28: =IFERROR(VLOOKUP('SYSTEME CLASSIFICATION'!$F28,'LISTE REFERENCE STOCKABLE'!$B$11:$D$88,3,FALSE),"") -> 1 palettex2700c.=2700 | Q28: =IFERROR(VLOOKUP('SYSTEME CLASSIFICATION'!$F28,'LISTE REFERENCE STOCKABLE'!$B$11:$E$88,4,FALSE),"") -> 20000 | R28: =IFERROR(VLOOKUP('SYSTEME CLASSIFICATION'!$F28,'LISTE REFERENCE STOCKABLE'!$B$11:$F$88,5,FALSE),"") -> 0 | U28: =IFERROR(IF(VLOOKUP(F28,'LISTE REFERENCE STOCKABLE'!$B$2:$J$98,8,FALSE)=0,"",VLOOKUP(F28,'LISTE REFERENCE STOCKABLE'!$B$2:$J$98,8,FALSE)),"") | V28: =IFERROR(IF(VLOOKUP(F28,'LISTE REFERENCE STOCKABLE'!$B$2:$J$98,9,FALSE)=0,"",VLOOKUP(F28,'LISTE REFERENCE STOCKABLE'!$B$2:$J$98,9,FALSE)),"") | W28: =IFERROR(VLOOKUP(F28,'LISTE REFERENCE STOCKABLE'!$B$10:$K$98,10,FALSE),"") -> c | X28: =VLOOKUP(E28,Inventaire!$C$2:$E$36,3,FALSE) -> #N/A
B29: 1.08 | C29: =IFERROR(VLOOKUP(F29,'LISTE REFERENCE STOCKABLE'!$B$11:$G$88,6,FALSE),"") | D29: A T3-2 | E29: =IFERROR(IF(F29="","",INDEX('LISTE REFERENCE STOCKABLE'!A:A,MATCH('SYSTEME CLASSIFICATION'!F29,'LISTE REFERENCE STOCKABLE'!B:B,0),1)),"") | L29: =IFERROR(VLOOKUP('SYSTEME CLASSIFICATION'!$F29,'LISTE REFERENCE STOCKABLE'!$B$2:$C$98,2,FALSE),"DISPONIBLE") -> DISPONIBLE | N29: =IFERROR(VLOOKUP('SYSTEME CLASSIFICATION'!$F29,'LISTE REFERENCE STOCKABLE'!$B$11:$D$88,3,FALSE),"") | Q29: =IFERROR(VLOOKUP('SYSTEME CLASSIFICATION'!$F29,'LISTE REFERENCE STOCKABLE'!$B$11:$E$88,4,FALSE),"") | R29: =IFERROR(VLOOKUP('SYSTEME CLASSIFICATION'!$F29,'LISTE REFERENCE STOCKABLE'!$B$11:$F$88,5,FALSE),"") | U29: =IFERROR(IF(VLOOKUP(F29,'LISTE REFERENCE STOCKABLE'!$B$2:$J$98,8,FALSE)=0,"",VLOOKUP(F29,'LISTE REFERENCE STOCKABLE'!$B$2:$J$98,8,FALSE)),"") | V29: =IFERROR(IF(VLOOKUP(F29,'LISTE REFERENCE STOCKABLE'!$B$2:$J$98,9,FALSE)=0,"",VLOOKUP(F29,'LISTE REFERENCE STOCKABLE'!$B$2:$J$98,9,FALSE)),"") | W29: =IFERROR(VLOOKUP(F29,'LISTE REFERENCE STOCKABLE'!$B$10:$K$98,10,FALSE),"") | X29: =VLOOKUP(E29,Inventaire!$C$2:$E$36,3,FALSE) -> #N/A
B30: 1.08 | C30: =IFERROR(VLOOKUP(F30,'LISTE REFERENCE STOCKABLE'!$B$11:$G$88,6,FALSE),"") | D30: A T3-2 | E30: =IFERROR(IF(F30="","",INDEX('LISTE REFERENCE STOCKABLE'!A:A,MATCH('SYSTEME CLASSIFICATION'!F30,'LISTE REFERENCE STOCKABLE'!B:B,0),1)),"") | L30: =IFERROR(VLOOKUP('SYSTEME CLASSIFICATION'!$F30,'LISTE REFERENCE STOCKABLE'!$B$2:$C$98,2,FALSE),"DISPONIBLE") -> DISPONIBLE | N30: =IFERROR(VLOOKUP('SYSTEME CLASSIFICATION'!$F30,'LISTE REFERENCE STOCKABLE'!$B$11:$D$88,3,FALSE),"") | Q30: =IFERROR(VLOOKUP('SYSTEME CLASSIFICATION'!$F30,'LISTE REFERENCE STOCKABLE'!$B$11:$E$88,4,FALSE),"") | R30: =IFERROR(VLOOKUP('SYSTEME CLASSIFICATION'!$F30,'LISTE REFERENCE STOCKABLE'!$B$11:$F$88,5,FALSE),"") | U30: =IFERROR(IF(VLOOKUP(F30,'LISTE REFERENCE STOCKABLE'!$B$2:$J$98,8,FALSE)=0,"",VLOOKUP(F30,'LISTE REFERENCE STOCKABLE'!$B$2:$J$98,8,FALSE)),"") | V30: =IFERROR(IF(VLOOKUP(F30,'LISTE REFERENCE STOCKABLE'!$B$2:$J$98,9,FALSE)=0,"",VLOOKUP(F30,'LISTE REFERENCE STOCKABLE'!$B$2:$J$98,9,FALSE)),"") | W30: =IFERROR(VLOOKUP(F30,'LISTE REFERENCE STOCKABLE'!$B$10:$K$98,10,FALSE),"") | X30: =VLOOKUP(E30,Inventaire!$C$2:$E$36,3,FALSE) -> #N/A
C31: =IFERROR(VLOOKUP(F31,'LISTE REFERENCE STOCKABLE'!$B$11:$G$88,6,FALSE),"") -> Air Forme | D31: A T3-3 | E31: =IFERROR(IF(F31="","",INDEX('LISTE REFERENCE STOCKABLE'!A:A,MATCH('SYSTEME CLASSIFICATION'!F31,'LISTE REFERENCE STOCKABLE'!B:B,0),1)),"") -> EMP0006 | F31: Amortisseurs tuiles | L31: =IFERROR(VLOOKUP('SYSTEME CLASSIFICATION'!$F31,'LISTE REFERENCE STOCKABLE'!$B$2:$C$98,2,FALSE),"DISPONIBLE") -> INDISPONIBLE | N31: =IFERROR(VLOOKUP('SYSTEME CLASSIFICATION'!$F31,'LISTE REFERENCE STOCKABLE'!$B$11:$D$88,3,FALSE),"") -> 30 cartonsx2250=67500 | Q31: =IFERROR(VLOOKUP('SYSTEME CLASSIFICATION'!$F31,'LISTE REFERENCE STOCKABLE'!$B$11:$E$88,4,FALSE),"") -> 252000 | R31: =IFERROR(VLOOKUP('SYSTEME CLASSIFICATION'!$F31,'LISTE REFERENCE STOCKABLE'!$B$11:$F$88,5,FALSE),"") -> 0 | U31: =IFERROR(IF(VLOOKUP(F31,'LISTE REFERENCE STOCKABLE'!$B$2:$J$98,8,FALSE)=0,"",VLOOKUP(F31,'LISTE REFERENCE STOCKABLE'!$B$2:$J$98,8,FALSE)),"") | V31: =IFERROR(IF(VLOOKUP(F31,'LISTE REFERENCE STOCKABLE'!$B$2:$J$98,9,FALSE)=0,"",VLOOKUP(F31,'LISTE REFERENCE STOCKABLE'!$B$2:$J$98,9,FALSE)),"") | W31: =IFERROR(VLOOKUP(F31,'LISTE REFERENCE STOCKABLE'!$B$10:$K$98,10,FALSE),"") -> a | X31: =VLOOKUP(E31,Inventaire!$C$2:$E$36,3,FALSE) -> jeudi
C32: =IFERROR(VLOOKUP(F32,'LISTE REFERENCE STOCKABLE'!$B$11:$G$88,6,FALSE),"") -> Air Forme | D32: A T3-3 | E32: =IFERROR(IF(F32="","",INDEX('LISTE REFERENCE STOCKABLE'!A:A,MATCH('SYSTEME CLASSIFICATION'!F32,'LISTE REFERENCE STOCKABLE'!B:B,0),1)),"") -> EMP0006 | F32: Amortisseurs tuiles | L32: =IFERROR(VLOOKUP('SYSTEME CLASSIFICATION'!$F32,'LISTE REFERENCE STOCKABLE'!$B$2:$C$98,2,FALSE),"DISPONIBLE") -> INDISPONIBLE | N32: =IFERROR(VLOOKUP('SYSTEME CLASSIFICATION'!$F32,'LISTE REFERENCE STOCKABLE'!$B$11:$D$88,3,FALSE),"") -> 30 cartonsx2250=67500 | Q32: =IFERROR(VLOOKUP('SYSTEME CLASSIFICATION'!$F32,'LISTE REFERENCE STOCKABLE'!$B$11:$E$88,4,FALSE),"") -> 252000 | R32: =IFERROR(VLOOKUP('SYSTEME CLASSIFICATION'!$F32,'LISTE REFERENCE STOCKABLE'!$B$11:$F$88,5,FALSE),"") -> 0 | U32: =IFERROR(IF(VLOOKUP(F32,'LISTE REFERENCE STOCKABLE'!$B$2:$J$98,8,FALSE)=0,"",VLOOKUP(F32,'LISTE REFERENCE STOCKABLE'!$B$2:$J$98,8,FALSE)),"") | V32: =IFERROR(IF(VLOOKUP(F32,'LISTE REFERENCE STOCKABLE'!$B$2:$J$98,9,FALSE)=0,"",VLOOKUP(F32,'LISTE REFERENCE STOCKABLE'!$B$2:$J$98,9,FALSE)),"") | W32: =IFERROR(VLOOKUP(F32,'LISTE REFERENCE STOCKABLE'!$B$10:$K$98,10,FALSE),"") -> a | X32: =VLOOKUP(E32,Inventaire!$C$2:$E$36,3,FALSE) -> jeudi
C33: =IFERROR(VLOOKUP(F33,'LISTE REFERENCE STOCKABLE'!$B$11:$G$88,6,FALSE),"") -> Air Forme | D33: A T3-3 | E33: =IFERROR(IF(F33="","",INDEX('LISTE REFERENCE STOCKABLE'!A:A,MATCH('SYSTEME CLASSIFICATION'!F33,'LISTE REFERENCE STOCKABLE'!B:B,0),1)),"") -> EMP0006 | F33: Amortisseurs tuiles | L33: =IFERROR(VLOOKUP('SYSTEME CLASSIFICATION'!$F33,'LISTE REFERENCE STOCKABLE'!$B$2:$C$98,2,FALSE),"DISPONIBLE") -> INDISPONIBLE | N33: =IFERROR(VLOOKUP('SYSTEME CLASSIFICATION'!$F33,'LISTE REFERENCE STOCKABLE'!$B$11:$D$88,3,FALSE),"") -> 30 cartonsx2250=67500 | Q33: =IFERROR(VLOOKUP('SYSTEME CLASSIFICATION'!$F33,'LISTE REFERENCE STOCKABLE'!$B$11:$E$88,4,FALSE),"") -> 252000 | R33: =IFERROR(VLOOKUP('SYSTEME CLASSIFICATION'!$F33,'LISTE REFERENCE STOCKABLE'!$B$11:$F$88,5,FALSE),"") -> 0 | U33: =IFERROR(IF(VLOOKUP(F33,'LISTE REFERENCE STOCKABLE'!$B$2:$J$98,8,FALSE)=0,"",VLOOKUP(F33,'LISTE REFERENCE STOCKABLE'!$B$2:$J$98,8,FALSE)),"") | V33: =IFERROR(IF(VLOOKUP(F33,'LISTE REFERENCE STOCKABLE'!$B$2:$J$98,9,FALSE)=0,"",VLOOKUP(F33,'LISTE REFERENCE STOCKABLE'!$B$2:$J$98,9,FALSE)),"") | W33: =IFERROR(VLOOKUP(F33,'LISTE REFERENCE STOCKABLE'!$B$10:$K$98,10,FALSE),"") -> a | X33: =VLOOKUP(E33,Inventaire!$C$2:$E$36,3,FALSE) -> jeudi
B34: 1.98 | C34: =IFERROR(VLOOKUP(F34,'LISTE REFERENCE STOCKABLE'!$B$11:$G$88,6,FALSE),"") | D34: A T4-1 | E34: =IFERROR(IF(F34="","",INDEX('LISTE REFERENCE STOCKABLE'!A:A,MATCH('SYSTEME CLASSIFICATION'!F34,'LISTE REFERENCE STOCKABLE'!B:B,0),1)),"") -> 0 | F34: Denrée alimentaire | L34: =IFERROR(VLOOKUP('SYSTEME CLASSIFICATION'!$F34,'LISTE REFERENCE STOCKABLE'!$B$2:$C$98,2,FALSE),"DISPONIBLE") -> INDISPONIBLE | N34: =IFERROR(VLOOKUP('SYSTEME CLASSIFICATION'!$F34,'LISTE REFERENCE STOCKABLE'!$B$11:$D$88,3,FALSE),"") | Q34: =IFERROR(VLOOKUP('SYSTEME CLASSIFICATION'!$F34,'LISTE REFERENCE STOCKABLE'!$B$11:$E$88,4,FALSE),"") | R34: =IFERROR(VLOOKUP('SYSTEME CLASSIFICATION'!$F34,'LISTE REFERENCE STOCKABLE'!$B$11:$F$88,5,FALSE),"") | U34: =IFERROR(IF(VLOOKUP(F34,'LISTE REFERENCE STOCKABLE'!$B$2:$J$98,8,FALSE)=0,"",VLOOKUP(F34,'LISTE REFERENCE STOCKABLE'!$B$2:$J$98,8,FALSE)),"") | V34: =IFERROR(IF(VLOOKUP(F34,'LISTE REFERENCE STOCKABLE'!$B$2:$J$98,9,FALSE)=0,"",VLOOKUP(F34,'LISTE REFERENCE STOCKABLE'!$B$2:$J$98,9,FALSE)),"") | W34: =IFERROR(VLOOKUP(F34,'LISTE REFERENCE STOCKABLE'!$B$10:$K$98,10,FALSE),"") | X34: =VLOOKUP(E34,Inventaire!$C$2:$E$36,3,FALSE) -> #N/A
B35: 1.98 | C35: =IFERROR(VLOOKUP(F35,'LISTE REFERENCE STOCKABLE'!$B$11:$G$88,6,FALSE),"") | D35: A T4-1 | E35: =IFERROR(IF(F35="","",INDEX('LISTE REFERENCE STOCKABLE'!A:A,MATCH('SYSTEME CLASSIFICATION'!F35,'LISTE REFERENCE STOCKABLE'!B:B,0),1)),"") -> 0 | F35: Denrée alimentaire | L35: =IFERROR(VLOOKUP('SYSTEME CLASSIFICATION'!$F35,'LISTE REFERENCE STOCKABLE'!$B$2:$C$98,2,FALSE),"DISPONIBLE") -> INDISPONIBLE | N35: =IFERROR(VLOOKUP('SYSTEME CLASSIFICATION'!$F35,'LISTE REFERENCE STOCKABLE'!$B$11:$D$88,3,FALSE),"") | Q35: =IFERROR(VLOOKUP('SYSTEME CLASSIFICATION'!$F35,'LISTE REFERENCE STOCKABLE'!$B$11:$E$88,4,FALSE),"") | R35: =IFERROR(VLOOKUP('SYSTEME CLASSIFICATION'!$F35,'LISTE REFERENCE STOCKABLE'!$B$11:$F$88,5,FALSE),"") | U35: =IFERROR(IF(VLOOKUP(F35,'LISTE REFERENCE STOCKABLE'!$B$2:$J$98,8,FALSE)=0,"",VLOOKUP(F35,'LISTE REFERENCE STOCKABLE'!$B$2:$J$98,8,FALSE)),"") | V35: =IFERROR(IF(VLOOKUP(F35,'LISTE REFERENCE STOCKABLE'!$B$2:$J$98,9,FALSE)=0,"",VLOOKUP(F35,'LISTE REFERENCE STOCKABLE'!$B$2:$J$98,9,FALSE)),"") | W35: =IFERROR(VLOOKUP(F35,'LISTE REFERENCE STOCKABLE'!$B$10:$K$98,10,FALSE),"") | X35: =VLOOKUP(E35,Inventaire!$C$2:$E$36,3,FALSE) -> #N/A
B36: 1.98 | C36: =IFERROR(VLOOKUP(F36,'LISTE REFERENCE STOCKABLE'!$B$11:$G$88,6,FALSE),"") | D36: A T4-1 | E36: =IFERROR(IF(F36="","",INDEX('LISTE REFERENCE STOCKABLE'!A:A,MATCH('SYSTEME CLASSIFICATION'!F36,'LISTE REFERENCE STOCKABLE'!B:B,0),1)),"") -> 0 | F36: Denrée alimentaire | L36: =IFERROR(VLOOKUP('SYSTEME CLASSIFICATION'!$F36,'LISTE REFERENCE STOCKABLE'!$B$2:$C$98,2,FALSE),"DISPONIBLE") -> INDISPONIBLE | N36: =IFERROR(VLOOKUP('SYSTEME CLASSIFICATION'!$F36,'LISTE REFERENCE STOCKABLE'!$B$11:$D$88,3,FALSE),"") | Q36: =IFERROR(VLOOKUP('SYSTEME CLASSIFICATION'!$F36,'LISTE REFERENCE STOCKABLE'!$B$11:$E$88,4,FALSE),"") | R36: =IFERROR(VLOOKUP('SYSTEME CLASSIFICATION'!$F36,'LISTE REFERENCE STOCKABLE'!$B$11:$F$88,5,FALSE),"") | U36: =IFERROR(IF(VLOOKUP(F36,'LISTE REFERENCE STOCKABLE'!$B$2:$J$98,8,FALSE)=0,"",VLOOKUP(F36,'LISTE REFERENCE STOCKABLE'!$B$2:$J$98,8,FALSE)),"") | V36: =IFERROR(IF(VLOOKUP(F36,'LISTE REFERENCE STOCKABLE'!$B$2:$J$98,9,FALSE)=0,"",VLOOKUP(F36,'LISTE REFERENCE STOCKABLE'!$B$2:$J$98,9,FALSE)),"") | W36: =IFERROR(VLOOKUP(F36,'LISTE REFERENCE STOCKABLE'!$B$10:$K$98,10,FALSE),"") | X36: =VLOOKUP(E36,Inventaire!$C$2:$E$36,3,FALSE) -> #N/A
B37: 1.07 | C37: =IFERROR(VLOOKUP(F37,'LISTE REFERENCE STOCKABLE'!$B$11:$G$88,6,FALSE),"") -> Exten Packaging | D37: A T4-2 | E37: =IFERROR(IF(F37="","",INDEX('LISTE REFERENCE STOCKABLE'!A:A,MATCH('SYSTEME CLASSIFICATION'!F37,'LISTE REFERENCE STOCKABLE'!B:B,0),1)),"") -> EMP0045 | F37: Carton TP or | L37: =IFERROR(VLOOKUP('SYSTEME CLASSIFICATION'!$F37,'LISTE REFERENCE STOCKABLE'!$B$2:$C$98,2,FALSE),"DISPONIBLE") -> INDISPONIBLE | N37: =IFERROR(VLOOKUP('SYSTEME CLASSIFICATION'!$F37,'LISTE REFERENCE STOCKABLE'!$B$11:$D$88,3,FALSE),"") -> 50 paquetsx200c.=10000 c | Q37: =IFERROR(VLOOKUP('SYSTEME CLASSIFICATION'!$F37,'LISTE REFERENCE STOCKABLE'!$B$11:$E$88,4,FALSE),"") -> 20000 | R37: =IFERROR(VLOOKUP('SYSTEME CLASSIFICATION'!$F37,'LISTE REFERENCE STOCKABLE'!$B$11:$F$88,5,FALSE),"") -> 0 | U37: =IFERROR(IF(VLOOKUP(F37,'LISTE REFERENCE STOCKABLE'!$B$2:$J$98,8,FALSE)=0,"",VLOOKUP(F37,'LISTE REFERENCE STOCKABLE'!$B$2:$J$98,8,FALSE)),"") | V37: =IFERROR(IF(VLOOKUP(F37,'LISTE REFERENCE STOCKABLE'!$B$2:$J$98,9,FALSE)=0,"",VLOOKUP(F37,'LISTE REFERENCE STOCKABLE'!$B$2:$J$98,9,FALSE)),"") | W37: =IFERROR(VLOOKUP(F37,'LISTE REFERENCE STOCKABLE'!$B$10:$K$98,10,FALSE),"") -> b | X37: =VLOOKUP(E37,Inventaire!$C$2:$E$36,3,FALSE) -> jeudi
B38: 1.07 | C38: =IFERROR(VLOOKUP(F38,'LISTE REFERENCE STOCKABLE'!$B$11:$G$88,6,FALSE),"") | D38: A T4-2 | E38: =IFERROR(IF(F38="","",INDEX('LISTE REFERENCE STOCKABLE'!A:A,MATCH('SYSTEME CLASSIFICATION'!F38,'LISTE REFERENCE STOCKABLE'!B:B,0),1)),"") | F38: DÉSIGNATION NON REFERENCÉ DANS LA LISTE | L38: =IFERROR(VLOOKUP('SYSTEME CLASSIFICATION'!$F38,'LISTE REFERENCE STOCKABLE'!$B$2:$C$98,2,FALSE),"DISPONIBLE") -> INDISPONIBLE (Veuillez noter la désignation du produit dans "COMMENTAIRE MAGASINIER") | M38: BOÎTE PM | N38: =IFERROR(VLOOKUP('SYSTEME CLASSIFICATION'!$F38,'LISTE REFERENCE STOCKABLE'!$B$11:$D$88,3,FALSE),"") | Q38: =IFERROR(VLOOKUP('SYSTEME CLASSIFICATION'!$F38,'LISTE REFERENCE STOCKABLE'!$B$11:$E$88,4,FALSE),"") | R38: =IFERROR(VLOOKUP('SYSTEME CLASSIFICATION'!$F38,'LISTE REFERENCE STOCKABLE'!$B$11:$F$88,5,FALSE),"") | U38: =IFERROR(IF(VLOOKUP(F38,'LISTE REFERENCE STOCKABLE'!$B$2:$J$98,8,FALSE)=0,"",VLOOKUP(F38,'LISTE REFERENCE STOCKABLE'!$B$2:$J$98,8,FALSE)),"") | V38: =IFERROR(IF(VLOOKUP(F38,'LISTE REFERENCE STOCKABLE'!$B$2:$J$98,9,FALSE)=0,"",VLOOKUP(F38,'LISTE REFERENCE STOCKABLE'!$B$2:$J$98,9,FALSE)),"") | W38: =IFERROR(VLOOKUP(F38,'LISTE REFERENCE STOCKABLE'!$B$10:$K$98,10,FALSE),"") | X38: =VLOOKUP(E38,Inventaire!$C$2:$E$36,3,FALSE) -> #N/A
B39: 1.07 | C39: =IFERROR(VLOOKUP(F39,'LISTE REFERENCE STOCKABLE'!$B$11:$G$88,6,FALSE),"") | D39: A T4-2 | E39: =IFERROR(IF(F39="","",INDEX('LISTE REFERENCE STOCKABLE'!A:A,MATCH('SYSTEME CLASSIFICATION'!F39,'LISTE REFERENCE STOCKABLE'!B:B,0),1)),"") | L39: =IFERROR(VLOOKUP('SYSTEME CLASSIFICATION'!$F39,'LISTE REFERENCE STOCKABLE'!$B$2:$C$98,2,FALSE),"DISPONIBLE") -> DISPONIBLE | N39: =IFERROR(VLOOKUP('SYSTEME CLASSIFICATION'!$F39,'LISTE REFERENCE STOCKABLE'!$B$11:$D$88,3,FALSE),"") | Q39: =IFERROR(VLOOKUP('SYSTEME CLASSIFICATION'!$F39,'LISTE REFERENCE STOCKABLE'!$B$11:$E$88,4,FALSE),"") | R39: =IFERROR(VLOOKUP('SYSTEME CLASSIFICATION'!$F39,'LISTE REFERENCE STOCKABLE'!$B$11:$F$88,5,FALSE),"") | U39: =IFERROR(IF(VLOOKUP(F39,'LISTE REFERENCE STOCKABLE'!$B$2:$J$98,8,FALSE)=0,"",VLOOKUP(F39,'LISTE REFERENCE STOCKABLE'!$B$2:$J$98,8,FALSE)),"") | V39: =IFERROR(IF(VLOOKUP(F39,'LISTE REFERENCE STOCKABLE'!$B$2:$J$98,9,FALSE)=0,"",VLOOKUP(F39,'LISTE REFERENCE STOCKABLE'!$B$2:$J$98,9,FALSE)),"") | W39: =IFERROR(VLOOKUP(F39,'LISTE REFERENCE STOCKABLE'!$B$10:$K$98,10,FALSE),"") | X39: =VLOOKUP(E39,Inventaire!$C$2:$E$36,3,FALSE) -> #N/A
C40: =IFERROR(VLOOKUP(F40,'LISTE REFERENCE STOCKABLE'!$B$11:$G$88,6,FALSE),"") -> Guillin Emballage | D40: A T4-3 | E40: =IFERROR(IF(F40="","",INDEX('LISTE REFERENCE STOCKABLE'!A:A,MATCH('SYSTEME CLASSIFICATION'!F40,'LISTE REFERENCE STOCKABLE'!B:B,0),1)),"") -> EMP0001 | F40: X10H66 | L40: =IFERROR(VLOOKUP('SYSTEME CLASSIFICATION'!$F40,'LISTE REFERENCE STOCKABLE'!$B$2:$C$98,2,FALSE),"DISPONIBLE") -> INDISPONIBLE | N40: =IFERROR(VLOOKUP('SYSTEME CLASSIFICATION'!$F40,'LISTE REFERENCE STOCKABLE'!$B$11:$D$88,3,FALSE),"") -> 120 cartonsx336e=40320 emballages | Q40: =IFERROR(VLOOKUP('SYSTEME CLASSIFICATION'!$F40,'LISTE REFERENCE STOCKABLE'!$B$11:$E$88,4,FALSE),"") -> 132 cart | R40: =IFERROR(VLOOKUP('SYSTEME CLASSIFICATION'!$F40,'LISTE REFERENCE STOCKABLE'!$B$11:$F$88,5,FALSE),"") -> 0 | U40: =IFERROR(IF(VLOOKUP(F40,'LISTE REFERENCE STOCKABLE'!$B$2:$J$98,8,FALSE)=0,"",VLOOKUP(F40,'LISTE REFERENCE STOCKABLE'!$B$2:$J$98,8,FALSE)),"") | V40: =IFERROR(IF(VLOOKUP(F40,'LISTE REFERENCE STOCKABLE'!$B$2:$J$98,9,FALSE)=0,"",VLOOKUP(F40,'LISTE REFERENCE STOCKABLE'!$B$2:$J$98,9,FALSE)),"") | W40: =IFERROR(VLOOKUP(F40,'LISTE REFERENCE STOCKABLE'!$B$10:$K$98,10,FALSE),"") -> a | X40: =VLOOKUP(E40,Inventaire!$C$2:$E$36,3,FALSE) -> #N/A
C41: =IFERROR(VLOOKUP(F41,'LISTE REFERENCE STOCKABLE'!$B$11:$G$88,6,FALSE),"") -> Guillin Emballage | D41: A T4-3 | E41: =IFERROR(IF(F41="","",INDEX('LISTE REFERENCE STOCKABLE'!A:A,MATCH('SYSTEME CLASSIFICATION'!F41,'LISTE REFERENCE STOCKABLE'!B:B,0),1)),"") -> EMP0015 | F41: X10H40ALP | L41: =IFERROR(VLOOKUP('SYSTEME CLASSIFICATION'!$F41,'LISTE REFERENCE STOCKABLE'!$B$2:$C$98,2,FALSE),"DISPONIBLE") -> INDISPONIBLE | N41: =IFERROR(VLOOKUP('SYSTEME CLASSIFICATION'!$F41,'LISTE REFERENCE STOCKABLE'!$B$11:$D$88,3,FALSE),"") -> 36 cartonsx240e=1200 emballages | Q41: =IFERROR(VLOOKUP('SYSTEME CLASSIFICATION'!$F41,'LISTE REFERENCE STOCKABLE'!$B$11:$E$88,4,FALSE),"") -> Pal x 12 cart = | R41: =IFERROR(VLOOKUP('SYSTEME CLASSIFICATION'!$F41,'LISTE REFERENCE STOCKABLE'!$B$11:$F$88,5,FALSE),"") -> 0 | U41: =IFERROR(IF(VLOOKUP(F41,'LISTE REFERENCE STOCKABLE'!$B$2:$J$98,8,FALSE)=0,"",VLOOKUP(F41,'LISTE REFERENCE STOCKABLE'!$B$2:$J$98,8,FALSE)),"") -> 1.74 | V41: =IFERROR(IF(VLOOKUP(F41,'LISTE REFERENCE STOCKABLE'!$B$2:$J$98,9,FALSE)=0,"",VLOOKUP(F41,'LISTE REFERENCE STOCKABLE'!$B$2:$J$98,9,FALSE)),"") -> 800*1200 | W41: =IFERROR(VLOOKUP(F41,'LISTE REFERENCE STOCKABLE'!$B$10:$K$98,10,FALSE),"") -> a | X41: =VLOOKUP(E41,Inventaire!$C$2:$E$36,3,FALSE) -> #N/A
...

Sheet RAQUETTE EXTERIEUR
B1: Raquette extérieure
C3: Réception / Expédition | J3: ALLEE | K3: NIVEAU | L3: DESIGNATION | O3: ALLEE | P3: NIVEAU | Q3: DESIGNATION | T3: ALLEE | U3: NIVEAU | V3: DESIGNATION | Y3: ALLEE | Z3: NIVEAU | AA3: DESIGNATION
J4: J | K4: T1-1 | L4: Balle carton ou plastique | M4: =IFERROR((VLOOKUP(L4,'LISTE REFERENCE STOCKABLE'!$B$11:$H$88,7,FALSE)),"") | O4: K | P4: T1-1 | Q4: Balle carton ou plastique | R4: =IFERROR((VLOOKUP(Q4,'LISTE REFERENCE STOCKABLE'!$B$11:$H$88,7,FALSE)),"") | T4: L | U4: T1-1 | V4: Balle carton ou plastique | W4: =IFERROR((VLOOKUP(V4,'LISTE REFERENCE STOCKABLE'!$B$11:$H$88,7,FALSE)),"") | Y4: I | Z4: T1-1 | AA4: Balle carton ou plastique | AB4: =IFERROR((VLOOKUP(AA4,'LISTE REFERENCE STOCKABLE'!$B$11:$H$88,7,FALSE)),"")
J5: J | K5: T1-1 | L5: Balle carton ou plastique | M5: =IFERROR((VLOOKUP(L5,'LISTE REFERENCE STOCKABLE'!$B$11:$H$88,7,FALSE)),"") | O5: K | P5: T1-1 | Q5: Balle carton ou plastique | R5: =IFERROR((VLOOKUP(Q5,'LISTE REFERENCE STOCKABLE'!$B$11:$H$88,7,FALSE)),"") | T5: L | U5: T1-1 | V5: Balle carton ou plastique | W5: =IFERROR((VLOOKUP(V5,'LISTE REFERENCE STOCKABLE'!$B$11:$H$88,7,FALSE)),"") | Y5: I | Z5: T1-1 | AA5: Balle carton ou plastique | AB5: =IFERROR((VLOOKUP(AA5,'LISTE REFERENCE STOCKABLE'!$B$11:$H$88,7,FALSE)),"")
C6: ALLEE I | F6: ALLEE J | J6: J | K6: T1-2 | M6: =IFERROR((VLOOKUP(L6,'LISTE REFERENCE STOCKABLE'!$B$11:$H$88,7,FALSE)),"") | O6: K | P6: T1-2 | Q6: Carton ½ tines | R6: =IFERROR((VLOOKUP(Q6,'LISTE REFERENCE STOCKABLE'!$B$11:$H$88,7,FALSE)),"") -> 3 | T6: L | U6: T1-2 | W6: =IFERROR((VLOOKUP(V6,'LISTE REFERENCE STOCKABLE'!$B$11:$H$88,7,FALSE)),"") | Y6: I | Z6: T1-2 | AA6: DÉSIGNATION NON REFERENCÉ DANS LA LISTE | AB6: =IFERROR((VLOOKUP(AA6,'LISTE REFERENCE STOCKABLE'!$B$11:$H$88,7,FALSE)),"")
J7: J | K7: T1-2 | M7: =IFERROR((VLOOKUP(L7,'LISTE REFERENCE STOCKABLE'!$B$11:$H$88,7,FALSE)),"") | O7: K | P7: T1-2 | R7: =IFERROR((VLOOKUP(Q7,'LISTE REFERENCE STOCKABLE'!$B$11:$H$88,7,FALSE)),"") | T7: L | U7: T1-2 | V7: DÉSIGNATION NON REFERENCÉ DANS LA LISTE | W7: =IFERROR((VLOOKUP(V7,'LISTE REFERENCE STOCKABLE'!$B$11:$H$88,7,FALSE)),"") | Y7: I | Z7: T1-2 | AB7: =IFERROR((VLOOKUP(AA7,'LISTE REFERENCE STOCKABLE'!$B$11:$H$88,7,FALSE)),"")
J8: J | K8: T1-3 | M8: =IFERROR((VLOOKUP(L8,'LISTE REFERENCE STOCKABLE'!$B$11:$H$88,7,FALSE)),"") | O8: K | P8: T1-3 | Q8: carton rouge | R8: =IFERROR((VLOOKUP(Q8,'LISTE REFERENCE STOCKABLE'!$B$11:$H$88,7,FALSE)),"") -> 3 | T8: L | U8: T1-3 | W8: =IFERROR((VLOOKUP(V8,'LISTE REFERENCE STOCKABLE'!$B$11:$H$88,7,FALSE)),"") | Y8: I | Z8: T1-3 | AA8: CARTON VERT | AB8: =IFERROR((VLOOKUP(AA8,'LISTE REFERENCE STOCKABLE'!$B$11:$H$88,7,FALSE)),"") -> 3
J9: J | K9: T1-3 | M9: =IFERROR((VLOOKUP(L9,'LISTE REFERENCE STOCKABLE'!$B$11:$H$88,7,FALSE)),"") | O9: K | P9: T1-3 | Q9: carton rouge | R9: =IFERROR((VLOOKUP(Q9,'LISTE REFERENCE STOCKABLE'!$B$11:$H$88,7,FALSE)),"") -> 3 | T9: L | U9: T1-3 | W9: =IFERROR((VLOOKUP(V9,'LISTE REFERENCE STOCKABLE'!$B$11:$H$88,7,FALSE)),"") | Y9: I | Z9: T1-3 | AA9: CARTON VERT | AB9: =IFERROR((VLOOKUP(AA9,'LISTE REFERENCE STOCKABLE'!$B$11:$H$88,7,FALSE)),"") -> 3
J10: J | K10: T2-1 | L10: Balle carton ou plastique | M10: =IFERROR((VLOOKUP(L10,'LISTE REFERENCE STOCKABLE'!$B$11:$H$88,7,FALSE)),"") | O10: K | P10: T2-1 | Q10: Balle carton ou plastique | R10: =IFERROR((VLOOKUP(Q10,'LISTE REFERENCE STOCKABLE'!$B$11:$H$88,7,FALSE)),"") | T10: L | U10: T2-1 | V10: Balle carton ou plastique | W10: =IFERROR((VLOOKUP(V10,'LISTE REFERENCE STOCKABLE'!$B$11:$H$88,7,FALSE)),"") | Y10: I | Z10: T2-1 | AA10: Balle carton ou plastique | AB10: =IFERROR((VLOOKUP(AA10,'LISTE REFERENCE STOCKABLE'!$B$11:$H$88,7,FALSE)),"")
J11: J | K11: T2-1 | L11: Balle carton ou plastique | M11: =IFERROR((VLOOKUP(L11,'LISTE REFERENCE STOCKABLE'!$B$11:$H$88,7,FALSE)),"") | O11: K | P11: T2-1 | Q11: Balle carton ou plastique | R11: =IFERROR((VLOOKUP(Q11,'LISTE REFERENCE STOCKABLE'!$B$11:$H$88,7,FALSE)),"") | T11: L | U11: T2-1 | V11: Balle carton ou plastique | W11: =IFERROR((VLOOKUP(V11,'LISTE REFERENCE STOCKABLE'!$B$11:$H$88,7,FALSE)),"") | Y11: I | Z11: T2-1 | AA11: Balle carton ou plastique | AB11: =IFERROR((VLOOKUP(AA11,'LISTE REFERENCE STOCKABLE'!$B$11:$H$88,7,FALSE)),"")
C12: QUAI | E12: ALLEE L | J12: J | K12: T2-2 | M12: =IFERROR((VLOOKUP(L12,'LISTE REFERENCE STOCKABLE'!$B$11:$H$88,7,FALSE)),"") | O12: K | P12: T2-2 | Q12: carton violet | R12: =IFERROR((VLOOKUP(Q12,'LISTE REFERENCE STOCKABLE'!$B$11:$H$88,7,FALSE)),"") -> 3 | T12: L | U12: T2-2 | W12: =IFERROR((VLOOKUP(V12,'LISTE REFERENCE STOCKABLE'!$B$11:$H$88,7,FALSE)),"") | Y12: I | Z12: T2-2 | AB12: =IFERROR((VLOOKUP(AA12,'LISTE REFERENCE STOCKABLE'!$B$11:$H$88,7,FALSE)),"")
J13: J | K13: T2-2 | M13: =IFERROR((VLOOKUP(L13,'LISTE REFERENCE STOCKABLE'!$B$11:$H$88,7,FALSE)),"") | O13: K | P13: T2-2 | Q13: carton violet | R13: =IFERROR((VLOOKUP(Q13,'LISTE REFERENCE STOCKABLE'!$B$11:$H$88,7,FALSE)),"") -> 3 | T13: L | U13: T2-2 | W13: =IFERROR((VLOOKUP(V13,'LISTE REFERENCE STOCKABLE'!$B$11:$H$88,7,FALSE)),"") | Y13: I | Z13: T2-2 | AB13: =IFERROR((VLOOKUP(AA13,'LISTE REFERENCE STOCKABLE'!$B$11:$H$88,7,FALSE)),"")
J14: J | K14: T2-3 | M14: =IFERROR((VLOOKUP(L14,'LISTE REFERENCE STOCKABLE'!$B$11:$H$88,7,FALSE)),"") | O14: K | P14: T2-3 | Q14: Carton ½ tines | R14: =IFERROR((VLOOKUP(Q14,'LISTE REFERENCE STOCKABLE'!$B$11:$H$88,7,FALSE)),"") -> 3 | T14: L | U14: T2-3 | W14: =IFERROR((VLOOKUP(V14,'LISTE REFERENCE STOCKABLE'!$B$11:$H$88,7,FALSE)),"") | Y14: I | Z14: T2-3 | AA14: CARTON VERT | AB14: =IFERROR((VLOOKUP(AA14,'LISTE REFERENCE STOCKABLE'!$B$11:$H$88,7,FALSE)),"") -> 3
J15: J | K15: T2-3 | L15: Croisillons box | M15: =IFERROR((VLOOKUP(L15,'LISTE REFERENCE STOCKABLE'!$B$11:$H$88,7,FALSE)),"") -> 3 | O15: K | P15: T2-3 | Q15: Carton ½ tines | R15: =IFERROR((VLOOKUP(Q15,'LISTE REFERENCE STOCKABLE'!$B$11:$H$88,7,FALSE)),"") -> 3 | T15: L | U15: T2-3 | W15: =IFERROR((VLOOKUP(V15,'LISTE REFERENCE STOCKABLE'!$B$11:$H$88,7,FALSE)),"") | Y15: I | Z15: T2-3 | AB15: =IFERROR((VLOOKUP(AA15,'LISTE REFERENCE STOCKABLE'!$B$11:$H$88,7,FALSE)),"")
F16: ALLEE K | J16: J | K16: T3-1 | L16: Balle carton ou plastique | M16: =IFERROR((VLOOKUP(L16,'LISTE REFERENCE STOCKABLE'!$B$11:$H$88,7,FALSE)),"") | O16: K | P16: T3-1 | Q16: Balle carton ou plastique | R16: =IFERROR((VLOOKUP(Q16,'LISTE REFERENCE STOCKABLE'!$B$11:$H$88,7,FALSE)),"") | T16: L | U16: T3-1 | V16: Balle carton ou plastique | W16: =IFERROR((VLOOKUP(V16,'LISTE REFERENCE STOCKABLE'!$B$11:$H$88,7,FALSE)),"")
J17: J | K17: T3-1 | L17: Balle carton ou plastique | M17: =IFERROR((VLOOKUP(L17,'LISTE REFERENCE STOCKABLE'!$B$11:$H$88,7,FALSE)),"") | O17: K | P17: T3-1 | Q17: Balle carton ou plastique | R17: =IFERROR((VLOOKUP(Q17,'LISTE REFERENCE STOCKABLE'!$B$11:$H$88,7,FALSE)),"") | T17: L | U17: T3-1 | V17: Balle carton ou plastique | W17: =IFERROR((VLOOKUP(V17,'LISTE REFERENCE STOCKABLE'!$B$11:$H$88,7,FALSE)),"")
J18: J | K18: T3-2 | L18: carton rouge | M18: =IFERROR((VLOOKUP(L18,'LISTE REFERENCE STOCKABLE'!$B$11:$H$88,7,FALSE)),"") -> 3 | O18: K | P18: T3-2 | R18: =IFERROR((VLOOKUP(Q18,'LISTE REFERENCE STOCKABLE'!$B$11:$H$88,7,FALSE)),"") | T18: L | U18: T3-2 | W18: =IFERROR((VLOOKUP(V18,'LISTE REFERENCE STOCKABLE'!$B$11:$H$88,7,FALSE)),"")
J19: J | K19: T3-2 | L19: carton violet | M19: =IFERROR((VLOOKUP(L19,'LISTE REFERENCE STOCKABLE'!$B$11:$H$88,7,FALSE)),"") -> 3 | O19: K | P19: T3-2 | R19: =IFERROR((VLOOKUP(Q19,'LISTE REFERENCE STOCKABLE'!$B$11:$H$88,7,FALSE)),"") | T19: L | U19: T3-2 | W19: =IFERROR((VLOOKUP(V19,'LISTE REFERENCE STOCKABLE'!$B$11:$H$88,7,FALSE)),"")
J20: J | K20: T3-3 | M20: =IFERROR((VLOOKUP(L20,'LISTE REFERENCE STOCKABLE'!$B$11:$H$88,7,FALSE)),"") | O20: K | P20: T3-3 | Q20: Carton ½ tines | R20: =IFERROR((VLOOKUP(Q20,'LISTE REFERENCE STOCKABLE'!$B$11:$H$88,7,FALSE)),"") -> 3 | T20: L | U20: T3-3 | V20: carton rouge | W20: =IFERROR((VLOOKUP(V20,'LISTE REFERENCE STOCKABLE'!$B$11:$H$88,7,FALSE)),"") -> 3
J21: J | K21: T3-3 | M21: =IFERROR((VLOOKUP(L21,'LISTE REFERENCE STOCKABLE'!$B$11:$H$88,7,FALSE)),"") | O21: K | P21: T3-3 | R21: =IFERROR((VLOOKUP(Q21,'LISTE REFERENCE STOCKABLE'!$B$11:$H$88,7,FALSE)),"") | T21: L | U21: T3-3 | V21: carton rouge | W21: =IFERROR((VLOOKUP(V21,'LISTE REFERENCE STOCKABLE'!$B$11:$H$88,7,FALSE)),"") -> 3
J22: J | K22: T4-1 | L22: Balle carton ou plastique | M22: =IFERROR((VLOOKUP(L22,'LISTE REFERENCE STOCKABLE'!$B$11:$H$88,7,FALSE)),"") | O22: K | P22: T4-1 | Q22: Balle carton ou plastique | R22: =IFERROR((VLOOKUP(Q22,'LISTE REFERENCE STOCKABLE'!$B$11:$H$88,7,FALSE)),"") | T22: L | U22: T4-1 | V22: Balle carton ou plastique | W22: =IFERROR((VLOOKUP(V22,'LISTE REFERENCE STOCKABLE'!$B$11:$H$88,7,FALSE)),"")
J23: J | K23: T4-1 | L23: Balle carton ou plastique | M23: =IFERROR((VLOOKUP(L23,'LISTE REFERENCE STOCKABLE'!$B$11:$H$88,7,FALSE)),"") | O23: K | P23: T4-1 | Q23: Balle carton ou plastique | R23: =IFERROR((VLOOKUP(Q23,'LISTE REFERENCE STOCKABLE'!$B$11:$H$88,7,FALSE)),"") | T23: L | U23: T4-1 | V23: DÉSIGNATION NON REFERENCÉ DANS LA LISTE | W23: =IFERROR((VLOOKUP(V23,'LISTE REFERENCE STOCKABLE'!$B$11:$H$88,7,FALSE)),"")
