Workbook
Name A_T1_1: 'SYSTEME CLASSIFICATION'!$D$3:$D$5
Name A_T1_2: 'SYSTEME CLASSIFICATION'!$D$6:$D$8
Name A_T1_3: 'SYSTEME CLASSIFICATION'!$D$9:$D$11
Name A_T1_4: 'SYSTEME CLASSIFICATION'!$D$12:$D$14
Name A_T2_1: 'SYSTEME CLASSIFICATION'!$D$15:$D$17
Name A_T2_2: 'SYSTEME CLASSIFICATION'!$D$18:$D$21
Name A_T2_3: 'SYSTEME CLASSIFICATION'!$D$22:$D$24
Name A_T3_1: 'SYSTEME CLASSIFICATION'!$D$25:$D$27
Name A_T3_2: 'SYSTEME CLASSIFICATION'!$D$28:$D$30
Name A_T3_3: 'SYSTEME CLASSIFICATION'!$D$31:$D$33
Name A_T4_1: 'SYSTEME CLASSIFICATION'!$D$34:$D$36
Name A_T4_2: 'SYSTEME CLASSIFICATION'!$D$37:$D$39
Name A_T4_3: 'SYSTEME CLASSIFICATION'!$D$40:$D$42
Name A_T5_1: 'SYSTEME CLASSIFICATION'!$D$43:$D$45
Name A_T5_2: 'SYSTEME CLASSIFICATION'!$D$46:$D$48
Name A_T5_3: 'SYSTEME CLASSIFICATION'!$D$49:$D$51
Name B_T1_1: 'SYSTEME CLASSIFICATION'!#REF!
Name B_T1_2: 'SYSTEME CLASSIFICATION'!$D$52:$D$54
Name B_T1_3: 'SYSTEME CLASSIFICATION'!$D$55:$D$57
Name B_T10_1: 'SYSTEME CLASSIFICATION'!$D$130:$D$131
Name B_T10_2: 'SYSTEME CLASSIFICATION'!$D$133:$D$134
Name B_T10_3: 'SYSTEME CLASSIFICATION'!$D$136:$D$137
Name B_T2_1: 'SYSTEME CLASSIFICATION'!$D$58:$D$60
Name B_T2_2: 'SYSTEME CLASSIFICATION'!$D$61:$D$63
Name B_T2_3: 'SYSTEME CLASSIFICATION'!$D$64:$D$66
Name B_T3_1: 'SYSTEME CLASSIFICATION'!$D$67:$D$69
Name B_T3_2: 'SYSTEME CLASSIFICATION'!$D$70:$D$72
Name B_T3_3: 'SYSTEME CLASSIFICATION'!$D$73:$D$75
Name B_T4_1: 'SYSTEME CLASSIFICATION'!$D$76:$D$78
Name B_T4_2: 'SYSTEME CLASSIFICATION'!$D$79:$D$81
Name B_T4_3: 'SYSTEME CLASSIFICATION'!$D$83:$D$84
Name B_T5_1: 'SYSTEME CLASSIFICATION'!$D$85:$D$87
Name B_T5_2: 'SYSTEME CLASSIFICATION'!$D$88:$D$90
Name B_T5_3: 'SYSTEME CLASSIFICATION'!$D$92:$D$93
Name B_T6_1: 'SYSTEME CLASSIFICATION'!$D$95:$D$96
Name B_T6_2: 'SYSTEME CLASSIFICATION'!$D$98:$D$99
Name B_T6_3: 'SYSTEME CLASSIFICATION'!$D$101:$D$102
Name B_T7_1: 'SYSTEME CLASSIFICATION'!$D$104:$D$104
Name B_T7_2: 'SYSTEME CLASSIFICATION'!$D$106:$D$107
Name B_T7_3: 'SYSTEME CLASSIFICATION'!$D$109:$D$110
Name B_T8_1: 'SYSTEME CLASSIFICATION'!$D$112:$D$113
Name B_T8_2: 'SYSTEME CLASSIFICATION'!$D$115:$D$116
Name B_T8_3: 'SYSTEME CLASSIFICATION'!$D$118:$D$119
Name B_T9_1: 'SYSTEME CLASSIFICATION'!$D$121:$D$122
Name B_T9_2: 'SYSTEME CLASSIFICATION'!$D$124:$D$125
Name B_T9_3: 'SYSTEME CLASSIFICATION'!$D$127:$D$128
Name c_noms: 'LISTE REFERENCE STOCKABLE'!$B:$B
Name C_T1_1: 'SYSTEME CLASSIFICATION'!$D$139:$D$140
Name C_T1_2: 'SYSTEME CLASSIFICATION'!$D$142:$D$143
Name C_T1_3: 'SYSTEME CLASSIFICATION'!$D$145:$D$146
Name C_T2_1: 'SYSTEME CLASSIFICATION'!$D$148:$D$149
Name C_T2_2: 'SYSTEME CLASSIFICATION'!$D$151:$D$152
Name C_T2_3: 'SYSTEME CLASSIFICATION'!$D$154:$D$155
Name C_T3_1: 'SYSTEME CLASSIFICATION'!$D$157:$D$158
Name C_T3_2: 'SYSTEME CLASSIFICATION'!$D$160:$D$161
Name C_T3_3: 'SYSTEME CLASSIFICATION'!$D$163:$D$164
Name C_T4_1: 'SYSTEME CLASSIFICATION'!$D$166:$D$167
Name C_T4_2: 'SYSTEME CLASSIFICATION'!$D$169:$D$170
Name C_T4_3: 'SYSTEME CLASSIFICATION'!$D$172:$D$173
Name C_T5_1: 'SYSTEME CLASSIFICATION'!$D$175:$D$176

Sheet SITE N°3

Sheet QUAI

Sheet SYSTEME CLASSIFICATION
B2: Hauteur max de palette (En Métre) | C2: FOURNISEUR | D2: ALLEE / TRAVEE | E2: CODE | F2: DESIGNATION | G2: Q1 | H2: Désignation 2nd réf | I2: Q2 | J2: Désignation 3ème réf | K2: Q3 | L2: DISPONIBILITE DE L'EMPLACEMENT | M2: COMMENTAIRE MAGASINIER | N2: COMMENTAIRE MAGASINIER | O2: COMMENTAIRE MAGASINIER | P2: COMMENTAIRE MAGASINIER | Q2: COMMENTAIRE MAGASINIER | R2: COMMENTAIRE MAGASINIER | S2: COMMENTAIRE MAGASINIER | T2: COMMENTAIRE MAGASINIER | U2: COMMENTAIRE MAGASINIER | V2: COMMENTAIRE MAGASINIER | W2: abc | X2: Inventaire
B3: 0.88 | C3: =IFERROR(VLOOKUP(F3,'LISTE REFERENCE STOCKABLE'!$B$11:$G$88,6,FALSE),"") | D3: A T1-1 | E3: =IFERROR(IF(F3="","",INDEX('LISTE REFERENCE STOCKABLE'!A:A,MATCH('SYSTEME CLASSIFICATION'!F3,'LISTE REFERENCE STOCKABLE'!B:B,0),1)),"") | F3: EMPLACEMENT INEXISTANT | L3: =IFERROR(VLOOKUP('SYSTEME CLASSIFICATION'!$F3,'LISTE REFERENCE STOCKABLE'!$B$2:$C$98,2,FALSE),"DISPONIBLE") -> INEXISTANT | N3: =IFERROR(VLOOKUP('SYSTEME CLASSIFICATION'!$F3,'LISTE REFERENCE STOCKABLE'!$B$11:$D$88,3,FALSE),"") | Q3: =IFERROR(VLOOKUP('SYSTEME CLASSIFICATION'!$F3,'LISTE REFERENCE STOCKABLE'!$B$11:$E$88,4,FALSE),"") | R3: =IFERROR(VLOOKUP('SYSTEME CLASSIFICATION'!$F3,'LISTE REFERENCE STOCKABLE'!$B$11:$F$88,5,FALSE),"") | U3: =IFERROR(IF(VLOOKUP(F3,'LISTE REFERENCE STOCKABLE'!$B$2:$J$98,8,FALSE)=0,"",VLOOKUP(F3,'LISTE REFERENCE STOCKABLE'!$B$2:$J$98,8,FALSE)),"") | V3: =IFERROR(IF(VLOOKUP(F3,'LISTE REFERENCE STOCKABLE'!$B$2:$J$98,9,FALSE)=0,"",VLOOKUP(F3,'LISTE REFERENCE STOCKABLE'!$B$2:$J$98,9,FALSE)),"") | W3: =IFERROR(VLOOKUP(F3,'LISTE REFERENCE STOCKABLE'!$B$10:$K$98,10,FALSE),"") | X3: =VLOOKUP(E3,Inventaire!$C$2:$E$36,3,FALSE) -> #N/A
B4: 0.88 | C4: =IFERROR(VLOOKUP(F4,'LISTE REFERENCE STOCKABLE'!$B$11:$G$88,6,FALSE),"") | D4: A T1-1 | E4: =IFERROR(IF(F4="","",INDEX('LISTE REFERENCE STOCKABLE'!A:A,MATCH('SYSTEME CLASSIFICATION'!F4,'LISTE REFERENCE STOCKABLE'!B:B,0),1)),"") | F4: EMPLACEMENT INEXISTANT | L4: =IFERROR(VLOOKUP('SYSTEME CLASSIFICATION'!$F4,'LISTE REFERENCE STOCKABLE'!$B$2:$C$98,2,FALSE),"DISPONIBLE") -> INEXISTANT | N4: =IFERROR(VLOOKUP('SYSTEME CLASSIFICATION'!$F4,'LISTE REFERENCE STOCKABLE'!$B$11:$D$88,3,FALSE),"") | Q4: =IFERROR(VLOOKUP('SYSTEME CLASSIFICATION'!$F4,'LISTE REFERENCE STOCKABLE'!$B$11:$E$88,4,FALSE),"") | R4: =IFERROR(VLOOKUP('SYSTEME CLASSIFICATION'!$F4,'LISTE REFERENCE STOCKABLE'!$B$11:$F$88,5,FALSE),"") | U4: =IFERROR(IF(VLOOKUP(F4,'LISTE REFERENCE STOCKABLE'!$B$2:$J$98,8,FALSE)=0,"",VLOOKUP(F4,'LISTE REFERENCE STOCKABLE'!$B$2:$J$98,8,FALSE)),"") | V4: =IFERROR(IF(VLOOKUP(F4,'LISTE REFERENCE STOCKABLE'!$B$2:$J$98,9,FALSE)=0,"",VLOOKUP(F4,'LISTE REFERENCE STOCKABLE'!$B$2:$J$98,9,FALSE)),"") | W4: =IFERROR(VLOOKUP(F4,'LISTE REFERENCE STOCKABLE'!$B$10:$K$98,10,FALSE),"") | X4: =VLOOKUP(E4,Inventaire!$C$2:$E$36,3,FALSE) -> #N/A
B5: 0.88 | C5: =IFERROR(VLOOKUP(F5,'LISTE REFERENCE STOCKABLE'!$B$11:$G$88,6,FALSE),"") -> CENPAC | D5: A T1-1 | E5: =IFERROR(IF(F5="","",INDEX('LISTE REFERENCE STOCKABLE'!A:A,MATCH('SYSTEME CLASSIFICATION'!F5,'LISTE REFERENCE STOCKABLE'!B:B,0),1)),"") -> EMS0006 | F5: Film cp Astruc pour B81 | L5: =IFERROR(VLOOKUP('SYSTEME CLASSIFICATION'!$F5,'LISTE REFERENCE STOCKABLE'!$B$2:$C$98,2,FALSE),"DISPONIBLE") -> INDISPONIBLE | N5: =IFERROR(VLOOKUP('SYSTEME CLASSIFICATION'!$F5,'LISTE REFERENCE STOCKABLE'!$B$11:$D$88,3,FALSE),"") -> 30 rouleaux | Q5: =IFERROR(VLOOKUP('SYSTEME CLASSIFICATION'!$F5,'LISTE REFERENCE STOCKABLE'!$B$11:$E$88,4,FALSE),"") -> 40 | R5: =IFERROR(VLOOKUP('SYSTEME CLASSIFICATION'!$F5,'LISTE REFERENCE STOCKABLE'!$B$11:$F$88,5,FALSE),"") -> 0 | U5: =IFERROR(IF(VLOOKUP(F5,'LISTE REFERENCE STOCKABLE'!$B$2:$J$98,8,FALSE)=0,"",VLOOKUP(F5,'LISTE REFERENCE STOCKABLE'!$B$2:$J$98,8,FALSE)),"") | V5: =IFERROR(IF(VLOOKUP(F5,'LISTE REFERENCE STOCKABLE'!$B$2:$J$98,9,FALSE)=0,"",VLOOKUP(F5,'LISTE REFERENCE STOCKABLE'!$B$2:$J$98,9,FALSE)),"") | W5: =IFERROR(VLOOKUP(F5,'LISTE REFERENCE STOCKABLE'!$B$10:$K$98,10,FALSE),"") -> c | X5: =VLOOKUP(E5,Inventaire!$C$2:$E$36,3,FALSE) -> jeudi
B6: 0.88 | C6: =IFERROR(VLOOKUP(F6,'LISTE REFERENCE STOCKABLE'!$B$11:$G$88,6,FALSE),"") -> SIPEC | D6: A T1-2 | E6: =IFERROR(IF(F6="","",INDEX('LISTE REFERENCE STOCKABLE'!A:A,MATCH('SYSTEME CLASSIFICATION'!F6,'LISTE REFERENCE STOCKABLE'!B:B,0),1)),"") -> EMP0050 | F6: Papier fond cagettes 45 x 65 | L6: =IFERROR(VLOOKUP('SYSTEME CLASSIFICATION'!$F6,'LISTE REFERENCE STOCKABLE'!$B$2:$C$98,2,FALSE),"DISPONIBLE") -> INDISPONIBLE | N6: =IFERROR(VLOOKUP('SYSTEME CLASSIFICATION'!$F6,'LISTE REFERENCE STOCKABLE'!$B$11:$D$88,3,FALSE),"") -> 0 | Q6: =IFERROR(VLOOKUP('SYSTEME CLASSIFICATION'!$F6,'LISTE REFERENCE STOCKABLE'!$B$11:$E$88,4,FALSE),"") -> 500 kgs | R6: =IFERROR(VLOOKUP('SYSTEME CLASSIFICATION'!$F6,'LISTE REFERENCE STOCKABLE'!$B$11:$F$88,5,FALSE),"") -> 0 | U6: =IFERROR(IF(VLOOKUP(F6,'LISTE REFERENCE STOCKABLE'!$B$2:$J$98,8,FALSE)=0,"",VLOOKUP(F6,'LISTE REFERENCE STOCKABLE'!$B$2:$J$98,8,FALSE)),"") | V6: =IFERROR(IF(VLOOKUP(F6,'LISTE REFERENCE STOCKABLE'!$B$2:$J$98,9,FALSE)=0,"",VLOOKUP(F6,'LISTE REFERENCE STOCKABLE'!$B$2:$J$98,9,FALSE)),"") | W6: =IFERROR(VLOOKUP(F6,'LISTE REFERENCE STOCKABLE'!$B$10:$K$98,10,FALSE),"") -> a | X6: =VLOOKUP(E6,Inventaire!$C$2:$E$36,3,FALSE) -> jeudi
B7: 0.88 | C7: =IFERROR(VLOOKUP(F7,'LISTE REFERENCE STOCKABLE'!$B$11:$G$88,6,FALSE),"") -> Conservor | D7: A T1-2 | E7: =IFERROR(IF(F7="","",INDEX('LISTE REFERENCE STOCKABLE'!A:A,MATCH('SYSTEME CLASSIFICATION'!F7,'LISTE REFERENCE STOCKABLE'!B:B,0),1)),"") -> EMP0037 | F7: Boîte fer Intercontinent. | G7: 18 | L7: =IFERROR(VLOOKUP('SYSTEME CLASSIFICATION'!$F7,'LISTE REFERENCE STOCKABLE'!$B$2:$C$98,2,FALSE),"DISPONIBLE") -> INDISPONIBLE | N7: =IFERROR(VLOOKUP('SYSTEME CLASSIFICATION'!$F7,'LISTE REFERENCE STOCKABLE'!$B$11:$D$88,3,FALSE),"") -> 40 cartons X 18 = 720 emb | Q7: =IFERROR(VLOOKUP('SYSTEME CLASSIFICATION'!$F7,'LISTE REFERENCE STOCKABLE'!$B$11:$E$88,4,FALSE),"") -> 5000 | R7: =IFERROR(VLOOKUP('SYSTEME CLASSIFICATION'!$F7,'LISTE REFERENCE STOCKABLE'!$B$11:$F$88,5,FALSE),"") -> 0 | U7: =IFERROR(IF(VLOOKUP(F7,'LISTE REFERENCE STOCKABLE'!$B$2:$J$98,8,FALSE)=0,"",VLOOKUP(F7,'LISTE REFERENCE STOCKABLE'!$B$2:$J$98,8,FALSE)),"") -> 1.82 | V7: =IFERROR(IF(VLOOKUP(F7,'LISTE REFERENCE STOCKABLE'!$B$2:$J$98,9,FALSE)=0,"",VLOOKUP(F7,'LISTE REFERENCE STOCKABLE'!$B$2:$J$98,9,FALSE)),"") -> 800*1200 | W7: =IFERROR(VLOOKUP(F7,'LISTE REFERENCE STOCKABLE'!$B$10:$K$98,10,FALSE),"") -> c | X7: =VLOOKUP(E7,Inventaire!$C$2:$E$36,3,FALSE) -> #N/A
B8: 0.88 | C8: =IFERROR(VLOOKUP(F8,'LISTE REFERENCE STOCKABLE'!$B$11:$G$88,6,FALSE),"") | D8: A T1-2 | E8: =IFERROR(IF(F8="","",INDEX('LISTE REFERENCE STOCKABLE'!A:A,MATCH('SYSTEME CLASSIFICATION'!F8,'LISTE REFERENCE STOCKABLE'!B:B,0),1)),"") | F8: DÉSIGNATION NON REFERENCÉ DANS LA LISTE | L8: =IFERROR(VLOOKUP('SYSTEME CLASSIFICATION'!$F8,'LISTE REFERENCE STOCKABLE'!$B$2:$C$98,2,FALSE),"DISPONIBLE") -> INDISPONIBLE (Veuillez noter la désignation du produit dans "COMMENTAIRE MAGASINIER") | M8: PALETTE CARTONS MERINGUES | N8: =IFERROR(VLOOKUP('SYSTEME CLASSIFICATION'!$F8,'LISTE REFERENCE STOCKABLE'!$B$11:$D$88,3,FALSE),"") | Q8: =IFERROR(VLOOKUP('SYSTEME CLASSIFICATION'!$F8,'LISTE REFERENCE STOCKABLE'!$B$11:$E$88,4,FALSE),"") | R8: =IFERROR(VLOOKUP('SYSTEME CLASSIFICATION'!$F8,'LISTE REFERENCE STOCKABLE'!$B$11:$F$88,5,FALSE),"") | U8: =IFERROR(IF(VLOOKUP(F8,'LISTE REFERENCE STOCKABLE'!$B$2:$J$98,8,FALSE)=0,"",VLOOKUP(F8,'LISTE REFERENCE STOCKABLE'!$B$2:$J$98,8,FALSE)),"") | V8: =IFERROR(IF(VLOOKUP(F8,'LISTE REFERENCE STOCKABLE'!$B$2:$J$98,9,FALSE)=0,"",VLOOKUP(F8,'LISTE REFERENCE STOCKABLE'!$B$2:$J$98,9,FALSE)),"") | W8: =IFERROR(VLOOKUP(F8,'LISTE REFERENCE STOCKABLE'!$B$10:$K$98,10,FALSE),"") | X8: =VLOOKUP(E8,Inventaire!$C$2:$E$36,3,FALSE) -> #N/A
C9: =IFERROR(VLOOKUP(F9,'LISTE REFERENCE STOCKABLE'!$B$11:$G$88,6,FALSE),"") -> CENPAC | D9: A T1-3 | E9: =IFERROR(IF(F9="","",INDEX('LISTE REFERENCE STOCKABLE'!A:A,MATCH('SYSTEME CLASSIFICATION'!F9,'LISTE REFERENCE STOCKABLE'!B:B,0),1)),"") -> EMS0006 | F9: Film cp Astruc pour B81 | G9: 60 | L9: =IFERROR(VLOOKUP('SYSTEME CLASSIFICATION'!$F9,'LISTE REFERENCE STOCKABLE'!$B$2:$C$98,2,FALSE),"DISPONIBLE") -> INDISPONIBLE | N9: =IFERROR(VLOOKUP('SYSTEME CLASSIFICATION'!$F9,'LISTE REFERENCE STOCKABLE'!$B$11:$D$88,3,FALSE),"") -> 30 rouleaux | Q9: =IFERROR(VLOOKUP('SYSTEME CLASSIFICATION'!$F9,'LISTE REFERENCE STOCKABLE'!$B$11:$E$88,4,FALSE),"") -> 40 | R9: =IFERROR(VLOOKUP('SYSTEME CLASSIFICATION'!$F9,'LISTE REFERENCE STOCKABLE'!$B$11:$F$88,5,FALSE),"") -> 0 | U9: =IFERROR(IF(VLOOKUP(F9,'LISTE REFERENCE STOCKABLE'!$B$2:$J$98,8,FALSE)=0,"",VLOOKUP(F9,'LISTE REFERENCE STOCKABLE'!$B$2:$J$98,8,FALSE)),"") | V9: =IFERROR(IF(VLOOKUP(F9,'LISTE REFERENCE STOCKABLE'!$B$2:$J$98,9,FALSE)=0,"",VLOOKUP(F9,'LISTE REFERENCE STOCKABLE'!$B$2:$J$98,9,FALSE)),"") | W9: =IFERROR(VLOOKUP(F9,'LISTE REFERENCE STOCKABLE'!$B$10:$K$98,10,FALSE),"") -> c | X9: =VLOOKUP(E9,Inventaire!$C$2:$E$36,3,FALSE) -> jeudi
C10: =IFERROR(VLOOKUP(F10,'LISTE REFERENCE STOCKABLE'!$B$11:$G$88,6,FALSE),"") | D10: A T1-3 | E10: =IFERROR(IF(F10="","",INDEX('LISTE REFERENCE STOCKABLE'!A:A,MATCH('SYSTEME CLASSIFICATION'!F10,'LISTE REFERENCE STOCKABLE'!B:B,0),1)),"") | F10: EMPLACEMENT INEXISTANT | L10: =IFERROR(VLOOKUP('SYSTEME CLASSIFICATION'!$F10,'LISTE REFERENCE STOCKABLE'!$B$2:$C$98,2,FALSE),"DISPONIBLE") -> INEXISTANT | N10: =IFERROR(VLOOKUP('SYSTEME CLASSIFICATION'!$F10,'LISTE REFERENCE STOCKABLE'!$B$11:$D$88,3,FALSE),"") | Q10: =IFERROR(VLOOKUP('SYSTEME CLASSIFICATION'!$F10,'LISTE REFERENCE STOCKABLE'!$B$11:$E$88,4,FALSE),"") | R10: =IFERROR(VLOOKUP('SYSTEME CLASSIFICATION'!$F10,'LISTE REFERENCE STOCKABLE'!$B$11:$F$88,5,FALSE),"") | U10: =IFERROR(IF(VLOOKUP(F10,'LISTE REFERENCE STOCKABLE'!$B$2:$J$98,8,FALSE)=0,"",VLOOKUP(F10,'LISTE REFERENCE STOCKABLE'!$B$2:$J$98,8,FALSE)),"") | V10: =IFERROR(IF(VLOOKUP(F10,'LISTE REFERENCE STOCKABLE'!$B$2:$J$98,9,FALSE)=0,"",VLOOKUP(F10,'LISTE REFERENCE STOCKABLE'!$B$2:$J$98,9,FALSE)),"") | W10: =IFERROR(VLOOKUP(F10,'LISTE REFERENCE STOCKABLE'!$B$10:$K$98,10,FALSE),"") | X10: =VLOOKUP(E10,Inventaire!$C$2:$E$36,3,FALSE) -> #N/A
C11: =IFERROR(VLOOKUP(F11,'LISTE REFERENCE STOCKABLE'!$B$11:$G$88,6,FALSE),"") -> CENPAC | D11: A T1-3 | E11: =IFERROR(IF(F11="","",INDEX('LISTE REFERENCE STOCKABLE'!A:A,MATCH('SYSTEME CLASSIFICATION'!F11,'LISTE REFERENCE STOCKABLE'!B:B,0),1)),"") -> EMS0006 | F11: Film cp Astruc pour B81 | G11: 60 | L11: =IFERROR(VLOOKUP('SYSTEME CLASSIFICATION'!$F11,'LISTE REFERENCE STOCKABLE'!$B$2:$C$98,2,FALSE),"DISPONIBLE") -> INDISPONIBLE | N11: =IFERROR(VLOOKUP('SYSTEME CLASSIFICATION'!$F11,'LISTE REFERENCE STOCKABLE'!$B$11:$D$88,3,FALSE),"") -> 30 rouleaux | Q11: =IFERROR(VLOOKUP('SYSTEME CLASSIFICATION'!$F11,'LISTE REFERENCE STOCKABLE'!$B$11:$E$88,4,FALSE),"") -> 40 | R11: =IFERROR(VLOOKUP('SYSTEME CLASSIFICATION'!$F11,'LISTE REFERENCE STOCKABLE'!$B$11:$F$88,5,FALSE),"") -> 0 | U11: =IFERROR(IF(VLOOKUP(F11,'LISTE REFERENCE STOCKABLE'!$B$2:$J$98,8,FALSE)=0,"",VLOOKUP(F11,'LISTE REFERENCE STOCKABLE'!$B$2:$J$98,8,FALSE)),"") | V11: =IFERROR(IF(VLOOKUP(F11,'LISTE REFERENCE STOCKABLE'!$B$2:$J$98,9,FALSE)=0,"",VLOOKUP(F11,'LISTE REFERENCE STOCKABLE'!$B$2:$J$98,9,FALSE)),"") | W11: =IFERROR(VLOOKUP(F11,'LISTE REFERENCE STOCKABLE'!$B$10:$K$98,10,FALSE),"") -> c | X11: =VLOOKUP(E11,Inventaire!$C$2:$E$36,3,FALSE) -> jeudi
C12: =IFERROR(VLOOKUP(F12,'LISTE REFERENCE STOCKABLE'!$B$11:$G$88,6,FALSE),"") -> CENPAC | D12: A T1-4 | E12: =IFERROR(IF(F12="","",INDEX('LISTE REFERENCE STOCKABLE'!A:A,MATCH('SYSTEME CLASSIFICATION'!F12,'LISTE REFERENCE STOCKABLE'!B:B,0),1)),"") -> EMS0006 | F12: Film cp Astruc pour B81 | L12: =IFERROR(VLOOKUP('SYSTEME CLASSIFICATION'!$F12,'LISTE REFERENCE STOCKABLE'!$B$2:$C$98,2,FALSE),"DISPONIBLE") -> INDISPONIBLE | M12: plateau reine | N12: =IFERROR(VLOOKUP('SYSTEME CLASSIFICATION'!$F12,'LISTE REFERENCE STOCKABLE'!$B$11:$D$88,3,FALSE),"") -> 30 rouleaux | Q12: =IFERROR(VLOOKUP('SYSTEME CLASSIFICATION'!$F12,'LISTE REFERENCE STOCKABLE'!$B$11:$E$88,4,FALSE),"") -> 40 | R12: =IFERROR(VLOOKUP('SYSTEME CLASSIFICATION'!$F12,'LISTE REFERENCE STOCKABLE'!$B$11:$F$88,5,FALSE),"") -> 0 | U12: =IFERROR(IF(VLOOKUP(F12,'LISTE REFERENCE STOCKABLE'!$B$2:$J$98,8,FALSE)=0,"",VLOOKUP(F12,'LISTE REFERENCE STOCKABLE'!$B$2:$J$98,8,FALSE)),"") | V12: =IFERROR(IF(VLOOKUP(F12,'LISTE REFERENCE STOCKABLE'!$B$2:$J$98,9,FALSE)=0,"",VLOOKUP(F12,'LISTE REFERENCE STOCKABLE'!$B$2:$J$98,9,FALSE)),"") | W12: =IFERROR(VLOOKUP(F12,'LISTE REFERENCE STOCKABLE'!$B$10:$K$98,10,FALSE),"") -> c | X12: =VLOOKUP(E12,Inventaire!$C$2:$E$36,3,FALSE) -> jeudi
C13: =IFERROR(VLOOKUP(F13,'LISTE REFERENCE STOCKABLE'!$B$11:$G$88,6,FALSE),"") | D13: A T1-4 | E13: =IFERROR(IF(F13="","",INDEX('LISTE REFERENCE STOCKABLE'!A:A,MATCH('SYSTEME CLASSIFICATION'!F13,'LISTE REFERENCE STOCKABLE'!B:B,0),1)),"") | F13: DÉSIGNATION NON REFERENCÉ DANS LA LISTE | L13: =IFERROR(VLOOKUP('SYSTEME CLASSIFICATION'!$F13,'LISTE REFERENCE STOCKABLE'!$B$2:$C$98,2,FALSE),"DISPONIBLE") -> INDISPONIBLE (Veuillez noter la désignation du produit dans "COMMENTAIRE MAGASINIER") | M13: boîte patiserie + 7 boîte de ??? | N13: =IFERROR(VLOOKUP('SYSTEME CLASSIFICATION'!$F13,'LISTE REFERENCE STOCKABLE'!$B$11:$D$88,3,FALSE),"") | Q13: =IFERROR(VLOOKUP('SYSTEME CLASSIFICATION'!$F13,'LISTE REFERENCE STOCKABLE'!$B$11:$E$88,4,FALSE),"") | R13: =IFERROR(VLOOKUP('SYSTEME CLASSIFICATION'!$F13,'LISTE REFERENCE STOCKABLE'!$B$11:$F$88,5,FALSE),"") | U13: =IFERROR(IF(VLOOKUP(F13,'LISTE REFERENCE STOCKABLE'!$B$2:$J$98,8,FALSE)=0,"",VLOOKUP(F13,'LISTE REFERENCE STOCKABLE'!$B$2:$J$98,8,FALSE)),"") | V13: =IFERROR(IF(VLOOKUP(F13,'LISTE REFERENCE STOCKABLE'!$B$2:$J$98,9,FALSE)=0,"",VLOOKUP(F13,'LISTE REFERENCE STOCKABLE'!$B$2:$J$98,9,FALSE)),"") | W13: =IFERROR(VLOOKUP(F13,'LISTE REFERENCE STOCKABLE'!$B$10:$K$98,10,FALSE),"") | X13: =VLOOKUP(E13,Inventaire!$C$2:$E$36,3,FALSE) -> #N/A
C14: =IFERROR(VLOOKUP(F14,'LISTE REFERENCE STOCKABLE'!$B$11:$G$88,6,FALSE),"") | D14: A T1-4 | E14: =IFERROR(IF(F14="","",INDEX('LISTE REFERENCE STOCKABLE'!A:A,MATCH('SYSTEME CLASSIFICATION'!F14,'LISTE REFERENCE STOCKABLE'!B:B,0),1)),"") | F14: DÉSIGNATION NON REFERENCÉ DANS LA LISTE | L14: =IFERROR(VLOOKUP('SYSTEME CLASSIFICATION'!$F14,'LISTE REFERENCE STOCKABLE'!$B$2:$C$98,2,FALSE),"DISPONIBLE") -> INDISPONIBLE (Veuillez noter la désignation du produit dans "COMMENTAIRE MAGASINIER") | M14: BOÎTE 1/4 ET 1/2 TINES | N14: =IFERROR(VLOOKUP('SYSTEME CLASSIFICATION'!$F14,'LISTE REFERENCE STOCKABLE'!$B$11:$D$88,3,FALSE),"") | Q14: =IFERROR(VLOOKUP('SYSTEME CLASSIFICATION'!$F14,'LISTE REFERENCE STOCKABLE'!$B$11:$E$88,4,FALSE),"") | R14: =IFERROR(VLOOKUP('SYSTEME CLASSIFICATION'!$F14,'LISTE REFERENCE STOCKABLE'!$B$11:$F$88,5,FALSE),"") | U14: =IFERROR(IF(VLOOKUP(F14,'LISTE REFERENCE STOCKABLE'!$B$2:$J$98,8,FALSE)=0,"",VLOOKUP(F14,'LISTE REFERENCE STOCKABLE'!$B$2:$J$98,8,FALSE)),"") | V14: =IFERROR(IF(VLOOKUP(F14,'LISTE REFERENCE STOCKABLE'!$B$2:$J$98,9,FALSE)=0,"",VLOOKUP(F14,'LISTE REFERENCE STOCKABLE'!$B$2:$J$98,9,FALSE)),"") | W14: =IFERROR(VLOOKUP(F14,'LISTE REFERENCE STOCKABLE'!$B$10:$K$98,10,FALSE),"") | X14: =VLOOKUP(E14,Inventaire!$C$2:$E$36,3,FALSE) -> #N/A
B15: 1.98 | C15: =IFERROR(VLOOKUP(F15,'LISTE REFERENCE STOCKABLE'!$B$11:$G$88,6,FALSE),"") | D15: A T2-1 | E15: =IFERROR(IF(F15="","",INDEX('LISTE REFERENCE STOCKABLE'!A:A,MATCH('SYSTEME CLASSIFICATION'!F15,'LISTE REFERENCE STOCKABLE'!B:B,0),1)),"") | F15: EMPLACEMENT INEXISTANT | L15: =IFERROR(VLOOKUP('SYSTEME CLASSIFICATION'!$F15,'LISTE REFERENCE STOCKABLE'!$B$2:$C$98,2,FALSE),"DISPONIBLE") -> INEXISTANT | N15: =IFERROR(VLOOKUP('SYSTEME CLASSIFICATION'!$F15,'LISTE REFERENCE STOCKABLE'!$B$11:$D$88,3,FALSE),"") | Q15: =IFERROR(VLOOKUP('SYSTEME CLASSIFICATION'!$F15,'LISTE REFERENCE STOCKABLE'!$B$11:$E$88,4,FALSE),"") | R15: =IFERROR(VLOOKUP('SYSTEME CLASSIFICATION'!$F15,'LISTE REFERENCE STOCKABLE'!$B$11:$F$88,5,FALSE),"") | U15: =IFERROR(IF(VLOOKUP(F15,'LISTE REFERENCE STOCKABLE'!$B$2:$J$98,8,FALSE)=0,"",VLOOKUP(F15,'LISTE REFERENCE STOCKABLE'!$B$2:$J$98,8,FALSE)),"") | V15: =IFERROR(IF(VLOOKUP(F15,'LISTE REFERENCE STOCKABLE'!$B$2:$J$98,9,FALSE)=0,"",VLOOKUP(F15,'LISTE REFERENCE STOCKABLE'!$B$2:$J$98,9,FALSE)),"") | W15: =IFERROR(VLOOKUP(F15,'LISTE REFERENCE STOCKABLE'!$B$10:$K$98,10,FALSE),"") | X15: =VLOOKUP(E15,Inventaire!$C$2:$E$36,3,FALSE) -> #N/A
B16: 1.98 | C16: =IFERROR(VLOOKUP(F16,'LISTE REFERENCE STOCKABLE'!$B$11:$G$88,6,FALSE),"") | D16: A T2-1 | E16: =IFERROR(IF(F16="","",INDEX('LISTE REFERENCE STOCKABLE'!A:A,MATCH('SYSTEME CLASSIFICATION'!F16,'LISTE REFERENCE STOCKABLE'!B:B,0),1)),"") | F16: EMPLACEMENT INEXISTANT | L16: =IFERROR(VLOOKUP('SYSTEME CLASSIFICATION'!$F16,'LISTE REFERENCE STOCKABLE'!$B$2:$C$98,2,FALSE),"DISPONIBLE") -> INEXISTANT | N16: =IFERROR(VLOOKUP('SYSTEME CLASSIFICATION'!$F16,'LISTE REFERENCE STOCKABLE'!$B$11:$D$88,3,FALSE),"") | Q16: =IFERROR(VLOOKUP('SYSTEME CLASSIFICATION'!$F16,'LISTE REFERENCE STOCKABLE'!$B$11:$E$88,4,FALSE),"") | R16: =IFERROR(VLOOKUP('SYSTEME CLASSIFICATION'!$F16,'LISTE REFERENCE STOCKABLE'!$B$11:$F$88,5,FALSE),"") | U16: =IFERROR(IF(VLOOKUP(F16,'LISTE REFERENCE STOCKABLE'!$B$2:$J$98,8,FALSE)=0,"",VLOOKUP(F16,'LISTE REFERENCE STOCKABLE'!$B$2:$J$98,8,FALSE)),"") | V16: =IFERROR(IF(VLOOKUP(F16,'LISTE REFERENCE STOCKABLE'!$B$2:$J$98,9,FALSE)=0,"",VLOOKUP(F16,'LISTE REFERENCE STOCKABLE'!$B$2:$J$98,9,FALSE)),"") | W16: =IFERROR(VLOOKUP(F16,'LISTE REFERENCE STOCKABLE'!$B$10:$K$98,10,FALSE),"") | X16: =VLOOKUP(E16,Inventaire!$C$2:$E$36,3,FALSE) -> #N/A
B17: 1.98 | C17: =IFERROR(VLOOKUP(F17,'LISTE REFERENCE STOCKABLE'!$B$11:$G$88,6,FALSE),"") | D17: A T2-1 | E17: =IFERROR(IF(F17="","",INDEX('LISTE REFERENCE STOCKABLE'!A:A,MATCH('SYSTEME CLASSIFICATION'!F17,'LISTE REFERENCE STOCKABLE'!B:B,0),1)),"") | F17: EMPLACEMENT INEXISTANT | L17: =IFERROR(VLOOKUP('SYSTEME CLASSIFICATION'!$F17,'LISTE REFERENCE STOCKABLE'!$B$2:$C$98,2,FALSE),"DISPONIBLE") -> INEXISTANT | N17: =IFERROR(VLOOKUP('SYSTEME CLASSIFICATION'!$F17,'LISTE REFERENCE STOCKABLE'!$B$11:$D$88,3,FALSE),"") | Q17: =IFERROR(VLOOKUP('SYSTEME CLASSIFICATION'!$F17,'LISTE REFERENCE STOCKABLE'!$B$11:$E$88,4,FALSE),"") | R17: =IFERROR(VLOOKUP('SYSTEME CLASSIFICATION'!$F17,'LISTE REFERENCE STOCKABLE'!$B$11:$F$88,5,FALSE),"") | U17: =IFERROR(IF(VLOOKUP(F17,'LISTE REFERENCE STOCKABLE'!$B$2:$J$98,8,FALSE)=0,"",VLOOKUP(F17,'LISTE REFERENCE STOCKABLE'!$B$2:$J$98,8,FALSE)),"") | V17: =IFERROR(IF(VLOOKUP(F17,'LISTE REFERENCE STOCKABLE'!$B$2:$J$98,9,FALSE)=0,"",VLOOKUP(F17,'LISTE REFERENCE STOCKABLE'!$B$2:$J$98,9,FALSE)),"") | W17: =IFERROR(VLOOKUP(F17,'LISTE REFERENCE STOCKABLE'!$B$10:$K$98,10,FALSE),"") | X17: =VLOOKUP(E17,Inventaire!$C$2:$E$36,3,FALSE) -> #N/A
B18: 1.09 | C18: =IFERROR(VLOOKUP(F18,'LISTE REFERENCE STOCKABLE'!$B$11:$G$88,6,FALSE),"") -> Exten Packaging | D18: A T2-2 | E18: =IFERROR(IF(F18="","",INDEX('LISTE REFERENCE STOCKABLE'!A:A,MATCH('SYSTEME CLASSIFICATION'!F18,'LISTE REFERENCE STOCKABLE'!B:B,0),1)),"") -> EMP0042 | F18: Fond 195 | L18: =IFERROR(VLOOKUP('SYSTEME CLASSIFICATION'!$F18,'LISTE REFERENCE STOCKABLE'!$B$2:$C$98,2,FALSE),"DISPONIBLE") -> INDISPONIBLE | N18: =IFERROR(VLOOKUP('SYSTEME CLASSIFICATION'!$F18,'LISTE REFERENCE STOCKABLE'!$B$11:$D$88,3,FALSE),"") -> 1 palettex2700c.=2700 | Q18: =IFERROR(VLOOKUP('SYSTEME CLASSIFICATION'!$F18,'LISTE REFERENCE STOCKABLE'!$B$11:$E$88,4,FALSE),"") -> 20000 | R18: =IFERROR(VLOOKUP('SYSTEME CLASSIFICATION'!$F18,'LISTE REFERENCE STOCKABLE'!$B$11:$F$88,5,FALSE),"") -> 0 | U18: =IFERROR(IF(VLOOKUP(F18,'LISTE REFERENCE STOCKABLE'!$B$2:$J$98,8,FALSE)=0,"",VLOOKUP(F18,'LISTE REFERENCE STOCKABLE'!$B$2:$J$98,8,FALSE)),"") | V18: =IFERROR(IF(VLOOKUP(F18,'LISTE REFERENCE STOCKABLE'!$B$2:$J$98,9,FALSE)=0,"",VLOOKUP(F18,'LISTE REFERENCE STOCKABLE'!$B$2:$J$98,9,FALSE)),"") | W18: =IFERROR(VLOOKUP(F18,'LISTE REFERENCE STOCKABLE'!$B$10:$K$98,10,FALSE),"") -> c | X18: =VLOOKUP(E18,Inventaire!$C$2:$E$36,3,FALSE) -> #N/A
B19: 1.09 | C19: =IFERROR(VLOOKUP(F19,'LISTE REFERENCE STOCKABLE'!$B$11:$G$88,6,FALSE),"") -> Exten Packaging | D19: A T2-2 | E19: =IFERROR(IF(F19="","",INDEX('LISTE REFERENCE STOCKABLE'!A:A,MATCH('SYSTEME CLASSIFICATION'!F19,'LISTE REFERENCE STOCKABLE'!B:B,0),1)),"") -> EMP0042 | F19: Fond 195 | H19: Fond 240 Joyeuses fêtes | L19: =IFERROR(VLOOKUP('SYSTEME CLASSIFICATION'!$F19,'LISTE REFERENCE STOCKABLE'!$B$2:$C$98,2,FALSE),"DISPONIBLE") -> INDISPONIBLE | N19: =IFERROR(VLOOKUP('SYSTEME CLASSIFICATION'!$F19,'LISTE REFERENCE STOCKABLE'!$B$11:$D$88,3,FALSE),"") -> 1 palettex2700c.=2700 | Q19: =IFERROR(VLOOKUP('SYSTEME CLASSIFICATION'!$F19,'LISTE REFERENCE STOCKABLE'!$B$11:$E$88,4,FALSE),"") -> 20000 | R19: =IFERROR(VLOOKUP('SYSTEME CLASSIFICATION'!$F19,'LISTE REFERENCE STOCKABLE'!$B$11:$F$88,5,FALSE),"") -> 0 | U19: =IFERROR(IF(VLOOKUP(F19,'LISTE REFERENCE STOCKABLE'!$B$2:$J$98,8,FALSE)=0,"",VLOOKUP(F19,'LISTE REFERENCE STOCKABLE'!$B$2:$J$98,8,FALSE)),"") | V19: =IFERROR(IF(VLOOKUP(F19,'LISTE REFERENCE STOCKABLE'!$B$2:$J$98,9,FALSE)=0,"",VLOOKUP(F19,'LISTE REFERENCE STOCKABLE'!$B$2:$J$98,9,FALSE)),"") | W19: =IFERROR(VLOOKUP(F19,'LISTE REFERENCE STOCKABLE'!$B$10:$K$98,10,FALSE),"") -> c | X19: =VLOOKUP(E19,Inventaire!$C$2:$E$36,3,FALSE) -> #N/A
B20: 1.09 | C20: =IFERROR(VLOOKUP(F20,'LISTE REFERENCE STOCKABLE'!$B$11:$G$88,6,FALSE),"") | D20: A T2-2 | E20: =IFERROR(IF(F20="","",INDEX('LISTE REFERENCE STOCKABLE'!A:A,MATCH('SYSTEME CLASSIFICATION'!F20,'LISTE REFERENCE STOCKABLE'!B:B,0),1)),"") | F20: EMPLACEMENT INEXISTANT | L20: =IFERROR(VLOOKUP('SYSTEME CLASSIFICATION'!$F20,'LISTE REFERENCE STOCKABLE'!$B$2:$C$98,2,FALSE),"DISPONIBLE") -> INEXISTANT | N20: =IFERROR(VLOOKUP('SYSTEME CLASSIFICATION'!$F20,'LISTE REFERENCE STOCKABLE'!$B$11:$D$88,3,FALSE),"") | Q20: =IFERROR(VLOOKUP('SYSTEME CLASSIFICATION'!$F20,'LISTE REFERENCE STOCKABLE'!$B$11:$E$88,4,FALSE),"") | R20: =IFERROR(VLOOKUP('SYSTEME CLASSIFICATION'!$F20,'LISTE REFERENCE STOCKABLE'!$B$11:$F$88,5,FALSE),"") | U20: =IFERROR(IF(VLOOKUP(F20,'LISTE REFERENCE STOCKABLE'!$B$2:$J$98,8,FALSE)=0,"",VLOOKUP(F20,'LISTE REFERENCE STOCKABLE'!$B$2:$J$98,8,FALSE)),"") | V20: =IFERROR(IF(VLOOKUP(F20,'LISTE REFERENCE STOCKABLE'!$B$2:$J$98,9,FALSE)=0,"",VLOOKUP(F20,'LISTE REFERENCE STOCKABLE'!$B$2:$J$98,9,FALSE)),"") | W20: =IFERROR(VLOOKUP(F20,'LISTE REFERENCE STOCKABLE'!$B$10:$K$98,10,FALSE),"") | X20: =VLOOKUP(E20,Inventaire!$C$2:$E$36,3,FALSE) -> #N/A
B21: 1.09 | C21: =IFERROR(VLOOKUP(F21,'LISTE REFERENCE STOCKABLE'!$B$11:$G$88,6,FALSE),"") | D21: A T2-2 | E21: =IFERROR(IF(F21="","",INDEX('LISTE REFERENCE STOCKABLE'!A:A,MATCH('SYSTEME CLASSIFICATION'!F21,'LISTE REFERENCE STOCKABLE'!B:B,0),1)),"") | L21: =IFERROR(VLOOKUP('SYSTEME CLASSIFICATION'!$F21,'LISTE REFERENCE STOCKABLE'!$B$2:$C$98,2,FALSE),"DISPONIBLE") -> DISPONIBLE | N21: =IFERROR(VLOOKUP('SYSTEME CLASSIFICATION'!$F21,'LISTE REFERENCE STOCKABLE'!$B$11:$D$88,3,FALSE),"") | Q21: =IFERROR(VLOOKUP('SYSTEME CLASSIFICATION'!$F21,'LISTE REFERENCE STOCKABLE'!$B$11:$E$88,4,FALSE),"") | R21: =IFERROR(VLOOKUP('SYSTEME CLASSIFICATION'!$F21,'LISTE REFERENCE STOCKABLE'!$B$11:$F$88,5,FALSE),"") | U21: =IFERROR(IF(VLOOKUP(F21,'LISTE REFERENCE STOCKABLE'!$B$2:$J$98,8,FALSE)=0,"",VLOOKUP(F21,'LISTE REFERENCE STOCKABLE'!$B$2:$J$98,8,FALSE)),"") | V21: =IFERROR(IF(VLOOKUP(F21,'LISTE REFERENCE STOCKABLE'!$B$2:$J$98,9,FALSE)=0,"",VLOOKUP(F21,'LISTE REFERENCE STOCKABLE'!$B$2:$J$98,9,FALSE)),"") | W21: =IFERROR(VLOOKUP(F21,'LISTE REFERENCE STOCKABLE'!$B$10:$K$98,10,FALSE),"") | X21: =VLOOKUP(E21,Inventaire!$C$2:$E$36,3,FALSE) -> #N/A
C22: =IFERROR(VLOOKUP(F22,'LISTE REFERENCE STOCKABLE'!$B$11:$G$88,6,FALSE),"") | D22: A T2-3 | E22: =IFERROR(IF(F22="","",INDEX('LISTE REFERENCE STOCKABLE'!A:A,MATCH('SYSTEME CLASSIFICATION'!F22,'LISTE REFERENCE STOCKABLE'!B:B,0),1)),"") | F22: DÉSIGNATION NON REFERENCÉ DANS LA LISTE | L22: =IFERROR(VLOOKUP('SYSTEME CLASSIFICATION'!$F22,'LISTE REFERENCE STOCKABLE'!$B$2:$C$98,2,FALSE),"DISPONIBLE") -> INDISPONIBLE (Veuillez noter la désignation du produit dans "COMMENTAIRE MAGASINIER") | M22: AMORTISSEUR TUILES NOIR | N22: =IFERROR(VLOOKUP('SYSTEME CLASSIFICATION'!$F22,'LISTE REFERENCE STOCKABLE'!$B$11:$D$88,3,FALSE),"") | Q22: =IFERROR(VLOOKUP('SYSTEME CLASSIFICATION'!$F22,'LISTE REFERENCE STOCKABLE'!$B$11:$E$88,4,FALSE),"") | R22: =IFERROR(VLOOKUP('SYSTEME CLASSIFICATION'!$F22,'LISTE REFERENCE STOCKABLE'!$B$11:$F$88,5,FALSE),"") | U22: =IFERROR(IF(VLOOKUP(F22,'LISTE REFERENCE STOCKABLE'!$B$2:$J$98,8,FALSE)=0,"",VLOOKUP(F22,'LISTE REFERENCE STOCKABLE'!$B$2:$J$98,8,FALSE)),"") | V22: =IFERROR(IF(VLOOKUP(F22,'LISTE REFERENCE STOCKABLE'!$B$2:$J$98,9,FALSE)=0,"",VLOOKUP(F22,'LISTE REFERENCE STOCKABLE'!$B$2:$J$98,9,FALSE)),"") | W22: =IFERROR(VLOOKUP(F22,'LISTE REFERENCE STOCKABLE'!$B$10:$K$98,10,FALSE),"") | X22: =VLOOKUP(E22,Inventaire!$C$2:$E$36,3,FALSE) -> #N/A
C23: =IFERROR(VLOOKUP(F23,'LISTE REFERENCE STOCKABLE'!$B$11:$G$88,6,FALSE),"") | D23: A T2-3 | E23: =IFERROR(IF(F23="","",INDEX('LISTE REFERENCE STOCKABLE'!A:A,MATCH('SYSTEME CLASSIFICATION'!F23,'LISTE REFERENCE STOCKABLE'!B:B,0),1)),"") | F23: DÉSIGNATION NON REFERENCÉ DANS LA LISTE | L23: =IFERROR(VLOOKUP('SYSTEME CLASSIFICATION'!$F23,'LISTE REFERENCE STOCKABLE'!$B$2:$C$98,2,FALSE),"DISPONIBLE") -> INDISPONIBLE (Veuillez noter la désignation du produit dans "COMMENTAIRE MAGASINIER") | M23: AMORTISSEUR TUILES NOIR | N23: =IFERROR(VLOOKUP('SYSTEME CLASSIFICATION'!$F23,'LISTE REFERENCE STOCKABLE'!$B$11:$D$88,3,FALSE),"") | Q23: =IFERROR(VLOOKUP('SYSTEME CLASSIFICATION'!$F23,'LISTE REFERENCE STOCKABLE'!$B$11:$E$88,4,FALSE),"") | R23: =IFERROR(VLOOKUP('SYSTEME CLASSIFICATION'!$F23,'LISTE REFERENCE STOCKABLE'!$B$11:$F$88,5,FALSE),"") | U23: =IFERROR(IF(VLOOKUP(F23,'LISTE REFERENCE STOCKABLE'!$B$2:$J$98,8,FALSE)=0,"",VLOOKUP(F23,'LISTE REFERENCE STOCKABLE'!$B$2:$J$98,8,FALSE)),"") | V23: =IFERROR(IF(VLOOKUP(F23,'LISTE REFERENCE STOCKABLE'!$B$2:$J$98,9,FALSE)=0,"",VLOOKUP(F23,'LISTE REFERENCE STOCKABLE'!$B$2:$J$98,9,FALSE)),"") | W23: =IFERROR(VLOOKUP(F23,'LISTE REFERENCE STOCKABLE'!$B$10:$K$98,10,FALSE),"") | X23: =VLOOKUP(E23,Inventaire!$C$2:$E$36,3,FALSE) -> #N/A
C24: =IFERROR(VLOOKUP(F24,'LISTE REFERENCE STOCKABLE'!$B$11:$G$88,6,FALSE),"") | D24: A T2-3 | E24: =IFERROR(IF(F24="","",INDEX('LISTE REFERENCE STOCKABLE'!A:A,MATCH('SYSTEME CLASSIFICATION'!F24,'LISTE REFERENCE STOCKABLE'!B:B,0),1)),"") | F24: DÉSIGNATION NON REFERENCÉ DANS LA LISTE | L24: =IFERROR(VLOOKUP('SYSTEME CLASSIFICATION'!$F24,'LISTE REFERENCE STOCKABLE'!$B$2:$C$98,2,FALSE),"DISPONIBLE") -> INDISPONIBLE (Veuillez noter la désignation du produit dans "COMMENTAIRE MAGASINIER") | M24: AMORTISSEUR TUILES NOIR | N24: =IFERROR(VLOOKUP('SYSTEME CLASSIFICATION'!$F24,'LISTE REFERENCE STOCKABLE'!$B$11:$D$88,3,FALSE),"") | Q24: =IFERROR(VLOOKUP('SYSTEME CLASSIFICATION'!$F24,'LISTE REFERENCE STOCKABLE'!$B$11:$E$88,4,FALSE),"") | R24: =IFERROR(VLOOKUP('SYSTEME CLASSIFICATION'!$F24,'LISTE REFERENCE STOCKABLE'!$B$11:$F$88,5,FALSE),"") | U24: =IFERROR(IF(VLOOKUP(F24,'LISTE REFERENCE STOCKABLE'!$B$2:$J$98,8,FALSE)=0,"",VLOOKUP(F24,'LISTE REFERENCE STOCKABLE'!$B$2:$J$98,8,FALSE)),"") | V24: =IFERROR(IF(VLOOKUP(F24,'LISTE REFERENCE STOCKABLE'!$B$2:$J$98,9,FALSE)=0,"",VLOOKUP(F24,'LISTE REFERENCE STOCKABLE'!$B$2:$J$98,9,FALSE)),"") | W24: =IFERROR(VLOOKUP(F24,'LISTE REFERENCE STOCKABLE'!$B$10:$K$98,10,FALSE),"") | X24: =VLOOKUP(E24,Inventaire!$C$2:$E$36,3,FALSE) -> #N/A
B25: 1.98 | C25: =IFERROR(VLOOKUP(F25,'LISTE REFERENCE STOCKABLE'!$B$11:$G$88,6,FALSE),"") | D25: A T3-1 | E25: =IFERROR(IF(F25="","",INDEX('LISTE REFERENCE STOCKABLE'!A:A,MATCH('SYSTEME CLASSIFICATION'!F25,'LISTE REFERENCE STOCKABLE'!B:B,0),1)),"") -> 0 | F25: Denrée alimentaire | L25: =IFERROR(VLOOKUP('SYSTEME CLASSIFICATION'!$F25,'LISTE REFERENCE STOCKABLE'!$B$2:$C$98,2,FALSE),"DISPONIBLE") -> INDISPONIBLE | N25: =IFERROR(VLOOKUP('SYSTEME CLASSIFICATION'!$F25,'LISTE REFERENCE STOCKABLE'!$B$11:$D$88,3,FALSE),"") | Q25: =IFERROR(VLOOKUP('SYSTEME CLASSIFICATION'!$F25,'LISTE REFERENCE STOCKABLE'!$B$11:$E$88,4,FALSE),"") | R25: =IFERROR(VLOOKUP('SYSTEME CLASSIFICATION'!$F25,'LISTE REFERENCE STOCKABLE'!$B$11:$F$88,5,FALSE),"") | U25: =IFERROR(IF(VLOOKUP(F25,'LISTE REFERENCE STOCKABLE'!$B$2:$J$98,8,FALSE)=0,"",VLOOKUP(F25,'LISTE REFERENCE STOCKABLE'!$B$2:$J$98,8,FALSE)),"") | V25: =IFERROR(IF(VLOOKUP(F25,'LISTE REFERENCE STOCKABLE'!$B$2:$J$98,9,FALSE)=0,"",VLOOKUP(F25,'LISTE REFERENCE STOCKABLE'!$B$2:$J$98,9,FALSE)),"") | W25: =IFERROR(VLOOKUP(F25,'LISTE REFERENCE STOCKABLE'!$B$10:$K$98,10,FALSE),"") | X25: =VLOOKUP(E25,Inventaire!$C$2:$E$36,3,FALSE) -> #N/A
B26: 1.98 | C26: =IFERROR(VLOOKUP(F26,'LISTE REFERENCE STOCKABLE'!$B$11:$G$88,6,FALSE),"") | D26: A T3-1 | E26: =IFERROR(IF(F26="","",INDEX('LISTE REFERENCE STOCKABLE'!A:A,MATCH('SYSTEME CLASSIFICATION'!F26,'LISTE REFERENCE STOCKABLE'!B:B,0),1)),"") -> 0 | F26: Denrée alimentaire | L26: =IFERROR(VLOOKUP('SYSTEME CLASSIFICATION'!$F26,'LISTE REFERENCE STOCKABLE'!$B$2:$C$98,2,FALSE),"DISPONIBLE") -> INDISPONIBLE | N26: =IFERROR(VLOOKUP('SYSTEME CLASSIFICATION'!$F26,'LISTE REFERENCE STOCKABLE'!$B$11:$D$88,3,FALSE),"") | Q26: =IFERROR(VLOOKUP('SYSTEME CLASSIFICATION'!$F26,'LISTE REFERENCE STOCKABLE'!$B$11:$E$88,4,FALSE),"") | R26: =IFERROR(VLOOKUP('SYSTEME CLASSIFICATION'!$F26,'LISTE REFERENCE STOCKABLE'!$B$11:$F$88,5,FALSE),"") | U26: =IFERROR(IF(VLOOKUP(F26,'LISTE REFERENCE STOCKABLE'!$B$2:$J$98,8,FALSE)=0,"",VLOOKUP(F26,'LISTE REFERENCE STOCKABLE'!$B$2:$J$98,8,FALSE)),"") | V26: =IFERROR(IF(VLOOKUP(F26,'LISTE REFERENCE STOCKABLE'!$B$2:$J$98,9,FALSE)=0,"",VLOOKUP(F26,'LISTE REFERENCE STOCKABLE'!$B$2:$J$98,9,FALSE)),"") | W26: =IFERROR(VLOOKUP(F26,'LISTE REFERENCE STOCKABLE'!$B$10:$K$98,10,FALSE),"") | X26: =VLOOKUP(E26,Inventaire!$C$2:$E$36,3,FALSE) -> #N/A
B27: 1.98 | C27: =IFERROR(VLOOKUP(F27,'LISTE REFERENCE STOCKABLE'!$B$11:$G$88,6,FALSE),"") | D27: A T3-1 | E27: =IFERROR(IF(F27="","",INDEX('LISTE REFERENCE STOCKABLE'!A:A,MATCH('SYSTEME CLASSIFICATION'!F27,'LISTE REFERENCE STOCKABLE'!B:B,0),1)),"") -> 0 | F27: Denrée alimentaire | L27: =IFERROR(VLOOKUP('SYSTEME CLASSIFICATION'!$F27,'LISTE REFERENCE STOCKABLE'!$B$2:$C$98,2,FALSE),"DISPONIBLE") -> INDISPONIBLE | N27: =IFERROR(VLOOKUP('SYSTEME CLASSIFICATION'!$F27,'LISTE REFERENCE STOCKABLE'!$B$11:$D$88,3,FALSE),"") | Q27: =IFERROR(VLOOKUP('SYSTEME CLASSIFICATION'!$F27,'LISTE REFERENCE STOCKABLE'!$B$11:$E$88,4,FALSE),"") | R27: =IFERROR(VLOOKUP('SYSTEME CLASSIFICATION'!$F27,'LISTE REFERENCE STOCKABLE'!$B$11:$F$88,5,FALSE),"") | U27: =IFERROR(IF(VLOOKUP(F27,'LISTE REFERENCE STOCKABLE'!$B$2:$J$98,8,FALSE)=0,"",VLOOKUP(F27,'LISTE REFERENCE STOCKABLE'!$B$2:$J$98,8,FALSE)),"") | V27: =IFERROR(IF(VLOOKUP(F27,'LISTE REFERENCE STOCKABLE'!$B$2:$J$98,9,FALSE)=0,"",VLOOKUP(F27,'LISTE REFERENCE STOCKABLE'!$B$2:$J$98,9,FALSE)),"") | W27: =IFERROR(VLOOKUP(F27,'LISTE REFERENCE STOCKABLE'!$B$10:$K$98,10,FALSE),"") | X27: =VLOOKUP(E27,Inventaire!$C$2:$E$36,3,FALSE) -> #N/A
B28: 1.08 | C28: =IFERROR(VLOOKUP(F28,'LISTE REFERENCE STOCKABLE'!$B$11:$G$88,6,FALSE),"") -> Exten Packaging | D28: A T3-2 | E28: =IFERROR(IF(F28="","",INDEX('LISTE REFERENCE STOCKABLE'!A:A,MATCH('SYSTEME CLASSIFICATION'!F28,'LISTE REFERENCE STOCKABLE'!B:B,0),1)),"") -> EMP0042 | F28: Fond 195 | L28: =IFERROR(VLOOKUP('SYSTEME CLASSIFICATION'!$F28,'LISTE REFERENCE STOCKABLE'!$B$2:$C$98,2,FALSE),"DISPONIBLE") -> INDISPONIBLE | N28: =IFERROR(VLOOKUP('SYSTEME CLASSIFICATION'!$F28,'LISTE REFERENCE STOCKABLE'!$B$11:$D$88,3,FALSE),"") -> 1 palettex2700c.=2700 | Q28: =IFERROR(VLOOKUP('SYSTEME CLASSIFICATION'!$F28,'LISTE REFERENCE STOCKABLE'!$B$11:$E$88,4,FALSE),"") -> 20000 | R28: =IFERROR(VLOOKUP('SYSTEME CLASSIFICATION'!$F28,'LISTE REFERENCE STOCKABLE'!$B$11:$F$88,5,FALSE),"") -> 0 | U28: =IFERROR(IF(VLOOKUP(F28,'LISTE REFERENCE STOCKABLE'!$B$2:$J$98,8,FALSE)=0,"",VLOOKUP(F28,'LISTE REFERENCE STOCKABLE'!$B$2:$J$98,8,FALSE)),"") | V28: =IFERROR(IF(VLOOKUP(F28,'LISTE REFERENCE STOCKABLE'!$B$2:$J$98,9,FALSE)=0,"",VLOOKUP(F28,'LISTE REFERENCE STOCKABLE'!$B$2:$J$98,9,FALSE)),"") | W28: =IFERROR(VLOOKUP(F28,'LISTE REFERENCE STOCKABLE'!$B$10:$K$98,10,FALSE),"") -> c | X28: =VLOOKUP(E28,Inventaire!$C$2:$E$36,3,FALSE) -> #N/A
B29: 1.08 | C29: =IFERROR(VLOOKUP(F29,'LISTE REFERENCE STOCKABLE'!$B$11:$G$88,6,FALSE),"") | D29: A T3-2 | E29: =IFERROR(IF(F29="","",INDEX('LISTE REFERENCE STOCKABLE'!A:A,MATCH('SYSTEME CLASSIFICATION'!F29,'LISTE REFERENCE STOCKABLE'!B:B,0),1)),"") | L29: =IFERROR(VLOOKUP('SYSTEME CLASSIFICATION'!$F29,'LISTE REFERENCE STOCKABLE'!$B$2:$C$98,2,FALSE),"DISPONIBLE") -> DISPONIBLE | N29: =IFERROR(VLOOKUP('SYSTEME CLASSIFICATION'!$F29,'LISTE REFERENCE STOCKABLE'!$B$11:$D$88,3,FALSE),"") | Q29: =IFERROR(VLOOKUP('SYSTEME CLASSIFICATION'!$F29,'LISTE REFERENCE STOCKABLE'!$B$11:$E$88,4,FALSE),"") | R29: =IFERROR(VLOOKUP('SYSTEME CLASSIFICATION'!$F29,'LISTE REFERENCE STOCKABLE'!$B$11:$F$88,5,FALSE),"") | U29: =IFERROR(IF(VLOOKUP(F29,'LISTE REFERENCE STOCKABLE'!$B$2:$J$98,8,FALSE)=0,"",VLOOKUP(F29,'LISTE REFERENCE STOCKABLE'!$B$2:$J$98,8,FALSE)),"") | V29: =IFERROR(IF(VLOOKUP(F29,'LISTE REFERENCE STOCKABLE'!$B$2:$J$98,9,FALSE)=0,"",VLOOKUP(F29,'LISTE REFERENCE STOCKABLE'!$B$2:$J$98,9,FALSE)),"") | W29: =IFERROR(VLOOKUP(F29,'LISTE REFERENCE STOCKABLE'!$B$10:$K$98,10,FALSE),"") | X29: =VLOOKUP(E29,Inventaire!$C$2:$E$36,3,FALSE) -> #N/A
B30: 1.08 | C30: =IFERROR(VLOOKUP(F30,'LISTE REFERENCE STOCKABLE'!$B$11:$G$88,6,FALSE),"") | D30: A T3-2 | E30: =IFERROR(IF(F30="","",INDEX('LISTE REFERENCE STOCKABLE'!A:A,MATCH('SYSTEME CLASSIFICATION'!F30,'LISTE REFERENCE STOCKABLE'!B:B,0),1)),"") | L30: =IFERROR(VLOOKUP('SYSTEME CLASSIFICATION'!$F30,'LISTE REFERENCE STOCKABLE'!$B$2:$C$98,2,FALSE),"DISPONIBLE") -> DISPONIBLE | N30: =IFERROR(VLOOKUP('SYSTEME CLASSIFICATION'!$F30,'LISTE REFERENCE STOCKABLE'!$B$11:$D$88,3,FALSE),"") | Q30: =IFERROR(VLOOKUP('SYSTEME CLASSIFICATION'!$F30,'LISTE REFERENCE STOCKABLE'!$B$11:$E$88,4,FALSE),"") | R30: =IFERROR(VLOOKUP('SYSTEME CLASSIFICATION'!$F30,'LISTE REFERENCE STOCKABLE'!$B$11:$F$88,5,FALSE),"") | U30: =IFERROR(IF(VLOOKUP(F30,'LISTE REFERENCE STOCKABLE'!$B$2:$J$98,8,FALSE)=0,"",VLOOKUP(F30,'LISTE REFERENCE STOCKABLE'!$B$2:$J$98,8,FALSE)),"") | V30: =IFERROR(IF(VLOOKUP(F30,'LISTE REFERENCE STOCKABLE'!$B$2:$J$98,9,FALSE)=0,"",VLOOKUP(F30,'LISTE REFERENCE STOCKABLE'!$B$2:$J$98,9,FALSE)),"") | W30: =IFERROR(VLOOKUP(F30,'LISTE REFERENCE STOCKABLE'!$B$10:$K$98,10,FALSE),"") | X30: =VLOOKUP(E30,Inventaire!$C$2:$E$36,3,FALSE) -> #N/A
C31: =IFERROR(VLOOKUP(F31,'LISTE REFERENCE STOCKABLE'!$B$11:$G$88,6,FALSE),"") -> Air Forme | D31: A T3-3 | E31: =IFERROR(IF(F31="","",INDEX('LISTE REFERENCE STOCKABLE'!A:A,MATCH('SYSTEME CLASSIFICATION'!F31,'LISTE REFERENCE STOCKABLE'!B:B,0),1)),"") -> EMP0006 | F31: Amortisseurs tuiles | L31: =IFERROR(VLOOKUP('SYSTEME CLASSIFICATION'!$F31,'LISTE REFERENCE STOCKABLE'!$B$2:$C$98,2,FALSE),"DISPONIBLE") -> INDISPONIBLE | N31: =IFERROR(VLOOKUP('SYSTEME CLASSIFICATION'!$F31,'LISTE REFERENCE STOCKABLE'!$B$11:$D$88,3,FALSE),"") -> 30 cartonsx2250=67500 | Q31: =IFERROR(VLOOKUP('SYSTEME CLASSIFICATION'!$F31,'LISTE REFERENCE STOCKABLE'!$B$11:$E$88,4,FALSE),"") -> 252000 | R31: =IFERROR(VLOOKUP('SYSTEME CLASSIFICATION'!$F31,'LISTE REFERENCE STOCKABLE'!$B$11:$F$88,5,FALSE),"") -> 0 | U31: =IFERROR(IF(VLOOKUP(F31,'LISTE REFERENCE STOCKABLE'!$B$2:$J$98,8,FALSE)=0,"",VLOOKUP(F31,'LISTE REFERENCE STOCKABLE'!$B$2:$J$98,8,FALSE)),"") | V31: =IFERROR(IF(VLOOKUP(F31,'LISTE REFERENCE STOCKABLE'!$B$2:$J$98,9,FALSE)=0,"",VLOOKUP(F31,'LISTE REFERENCE STOCKABLE'!$B$2:$J$98,9,FALSE)),"") | W31: =IFERROR(VLOOKUP(F31,'LISTE REFERENCE STOCKABLE'!$B$10:$K$98,10,FALSE),"") -> a | X31: =VLOOKUP(E31,Inventaire!$C$2:$E$36,3,FALSE) -> jeudi
C32: =IFERROR(VLOOKUP(F32,'LISTE REFERENCE STOCKABLE'!$B$11:$G$88,6,FALSE),"") -> Air Forme | D32: A T3-3 | E32: =IFERROR(IF(F32="","",INDEX('LISTE REFERENCE STOCKABLE'!A:A,MATCH('SYSTEME CLASSIFICATION'!F32,'LISTE REFERENCE STOCKABLE'!B:B,0),1)),"") -> EMP0006 | F32: Amortisseurs tuiles | L32: =IFERROR(VLOOKUP('SYSTEME CLASSIFICATION'!$F32,'LISTE REFERENCE STOCKABLE'!$B$2:$C$98,2,FALSE),"DISPONIBLE") -> INDISPONIBLE | N32: =IFERROR(VLOOKUP('SYSTEME CLASSIFICATION'!$F32,'LISTE REFERENCE STOCKABLE'!$B$11:$D$88,3,FALSE),"") -> 30 cartonsx2250=67500 | Q32: =IFERROR(VLOOKUP('SYSTEME CLASSIFICATION'!$F32,'LISTE REFERENCE STOCKABLE'!$B$11:$E$88,4,FALSE),"") -> 252000 | R32: =IFERROR(VLOOKUP('SYSTEME CLASSIFICATION'!$F32,'LISTE REFERENCE STOCKABLE'!$B$11:$F$88,5,FALSE),"") -> 0 | U32: =IFERROR(IF(VLOOKUP(F32,'LISTE REFERENCE STOCKABLE'!$B$2:$J$98,8,FALSE)=0,"",VLOOKUP(F32,'LISTE REFERENCE STOCKABLE'!$B$2:$J$98,8,FALSE)),"") | V32: =IFERROR(IF(VLOOKUP(F32,'LISTE REFERENCE STOCKABLE'!$B$2:$J$98,9,FALSE)=0,"",VLOOKUP(F32,'LISTE REFERENCE STOCKABLE'!$B$2:$J$98,9,FALSE)),"") | W32: =IFERROR(VLOOKUP(F32,'LISTE REFERENCE STOCKABLE'!$B$10:$K$98,10,FALSE),"") -> a | X32: =VLOOKUP(E32,Inventaire!$C$2:$E$36,3,FALSE) -> jeudi
C33: =IFERROR(VLOOKUP(F33,'LISTE REFERENCE STOCKABLE'!$B$11:$G$88,6,FALSE),"") -> Air Forme | D33: A T3-3 | E33: =IFERROR(IF(F33="","",INDEX('LISTE REFERENCE STOCKABLE'!A:A,MATCH('SYSTEME CLASSIFICATION'!F33,'LISTE REFERENCE STOCKABLE'!B:B,0),1)),"") -> EMP0006 | F33: Amortisseurs tuiles | L33: =IFERROR(VLOOKUP('SYSTEME CLASSIFICATION'!$F33,'LISTE REFERENCE STOCKABLE'!$B$2:$C$98,2,FALSE),"DISPONIBLE") -> INDISPONIBLE | N33: =IFERROR(VLOOKUP('SYSTEME CLASSIFICATION'!$F33,'LISTE REFERENCE STOCKABLE'!$B$11:$D$88,3,FALSE),"") -> 30 cartonsx2250=67500 | Q33: =IFERROR(VLOOKUP('SYSTEME CLASSIFICATION'!$F33,'LISTE REFERENCE STOCKABLE'!$B$11:$E$88,4,FALSE),"") -> 252000 | R33: =IFERROR(VLOOKUP('SYSTEME CLASSIFICATION'!$F33,'LISTE REFERENCE STOCKABLE'!$B$11:$F$88,5,FALSE),"") -> 0 | U33: =IFERROR(IF(VLOOKUP(F33,'LISTE REFERENCE STOCKABLE'!$B$2:$J$98,8,FALSE)=0,"",VLOOKUP(F33,'LISTE REFERENCE STOCKABLE'!$B$2:$J$98,8,FALSE)),"") | V33: =IFERROR(IF(VLOOKUP(F33,'LISTE REFERENCE STOCKABLE'!$B$2:$J$98,9,FALSE)=0,"",VLOOKUP(F33,'LISTE REFERENCE STOCKABLE'!$B$2:$J$98,9,FALSE)),"") | W33: =IFERROR(VLOOKUP(F33,'LISTE REFERENCE STOCKABLE'!$B$10:$K$98,10,FALSE),"") -> a | X33: =VLOOKUP(E33,Inventaire!$C$2:$E$36,3,FALSE) -> jeudi
B34: 1.98 | C34: =IFERROR(VLOOKUP(F34,'LISTE REFERENCE STOCKABLE'!$B$11:$G$88,6,FALSE),"") | D34: A T4-1 | E34: =IFERROR(IF(F34="","",INDEX('LISTE REFERENCE STOCKABLE'!A:A,MATCH('SYSTEME CLASSIFICATION'!F34,'LISTE REFERENCE STOCKABLE'!B:B,0),1)),"") -> 0 | F34: Denrée alimentaire | L34: =IFERROR(VLOOKUP('SYSTEME CLASSIFICATION'!$F34,'LISTE REFERENCE STOCKABLE'!$B$2:$C$98,2,FALSE),"DISPONIBLE") -> INDISPONIBLE | N34: =IFERROR(VLOOKUP('SYSTEME CLASSIFICATION'!$F34,'LISTE REFERENCE STOCKABLE'!$B$11:$D$88,3,FALSE),"") | Q34: =IFERROR(VLOOKUP('SYSTEME CLASSIFICATION'!$F34,'LISTE REFERENCE STOCKABLE'!$B$11:$E$88,4,FALSE),"") | R34: =IFERROR(VLOOKUP('SYSTEME CLASSIFICATION'!$F34,'LISTE REFERENCE STOCKABLE'!$B$11:$F$88,5,FALSE),"") | U34: =IFERROR(IF(VLOOKUP(F34,'LISTE REFERENCE STOCKABLE'!$B$2:$J$98,8,FALSE)=0,"",VLOOKUP(F34,'LISTE REFERENCE STOCKABLE'!$B$2:$J$98,8,FALSE)),"") | V34: =IFERROR(IF(VLOOKUP(F34,'LISTE REFERENCE STOCKABLE'!$B$2:$J$98,9,FALSE)=0,"",VLOOKUP(F34,'LISTE REFERENCE STOCKABLE'!$B$2:$J$98,9,FALSE)),"") | W34: =IFERROR(VLOOKUP(F34,'LISTE REFERENCE STOCKABLE'!$B$10:$K$98,10,FALSE),"") | X34: =VLOOKUP(E34,Inventaire!$C$2:$E$36,3,FALSE) -> #N/A
B35: 1.98 | C35: =IFERROR(VLOOKUP(F35,'LISTE REFERENCE STOCKABLE'!$B$11:$G$88,6,FALSE),"") | D35: A T4-1 | E35: =IFERROR(IF(F35="","",INDEX('LISTE REFERENCE STOCKABLE'!A:A,MATCH('SYSTEME CLASSIFICATION'!F35,'LISTE REFERENCE STOCKABLE'!B:B,0),1)),"") -> 0 | F35: Denrée alimentaire | L35: =IFERROR(VLOOKUP('SYSTEME CLASSIFICATION'!$F35,'LISTE REFERENCE STOCKABLE'!$B$2:$C$98,2,FALSE),"DISPONIBLE") -> INDISPONIBLE | N35: =IFERROR(VLOOKUP('SYSTEME CLASSIFICATION'!$F35,'LISTE REFERENCE STOCKABLE'!$B$11:$D$88,3,FALSE),"") | Q35: =IFERROR(VLOOKUP('SYSTEME CLASSIFICATION'!$F35,'LISTE REFERENCE STOCKABLE'!$B$11:$E$88,4,FALSE),"") | R35: =IFERROR(VLOOKUP('SYSTEME CLASSIFICATION'!$F35,'LISTE REFERENCE STOCKABLE'!$B$11:$F$88,5,FALSE),"") | U35: =IFERROR(IF(VLOOKUP(F35,'LISTE REFERENCE STOCKABLE'!$B$2:$J$98,8,FALSE)=0,"",VLOOKUP(F35,'LISTE REFERENCE STOCKABLE'!$B$2:$J$98,8,FALSE)),"") | V35: =IFERROR(IF(VLOOKUP(F35,'LISTE REFERENCE STOCKABLE'!$B$2:$J$98,9,FALSE)=0,"",VLOOKUP(F35,'LISTE REFERENCE STOCKABLE'!$B$2:$J$98,9,FALSE)),"") | W35: =IFERROR(VLOOKUP(F35,'LISTE REFERENCE STOCKABLE'!$B$10:$K$98,10,FALSE),"") | X35: =VLOOKUP(E35,Inventaire!$C$2:$E$36,3,FALSE) -> #N/A
B36: 1.98 | C36: =IFERROR(VLOOKUP(F36,'LISTE REFERENCE STOCKABLE'!$B$11:$G$88,6,FALSE),"") | D36: A T4-1 | E36: =IFERROR(IF(F36="","",INDEX('LISTE REFERENCE STOCKABLE'!A:A,MATCH('SYSTEME CLASSIFICATION'!F36,'LISTE REFERENCE STOCKABLE'!B:B,0),1)),"") -> 0 | F36: Denrée alimentaire | L36: =IFERROR(VLOOKUP('SYSTEME CLASSIFICATION'!$F36,'LISTE REFERENCE STOCKABLE'!$B$2:$C$98,2,FALSE),"DISPONIBLE") -> INDISPONIBLE | N36: =IFERROR(VLOOKUP('SYSTEME CLASSIFICATION'!$F36,'LISTE REFERENCE STOCKABLE'!$B$11:$D$88,3,FALSE),"") | Q36: =IFERROR(VLOOKUP('SYSTEME CLASSIFICATION'!$F36,'LISTE REFERENCE STOCKABLE'!$B$11:$E$88,4,FALSE),"") | R36: =IFERROR(VLOOKUP('SYSTEME CLASSIFICATION'!$F36,'LISTE REFERENCE STOCKABLE'!$B$11:$F$88,5,FALSE),"") | U36: =IFERROR(IF(VLOOKUP(F36,'LISTE REFERENCE STOCKABLE'!$B$2:$J$98,8,FALSE)=0,"",VLOOKUP(F36,'LISTE REFERENCE STOCKABLE'!$B$2:$J$98,8,FALSE)),"") | V36: =IFERROR(IF(VLOOKUP(F36,'LISTE REFERENCE STOCKABLE'!$B$2:$J$98,9,FALSE)=0,"",VLOOKUP(F36,'LISTE REFERENCE STOCKABLE'!$B$2:$J$98,9,FALSE)),"") | W36: =IFERROR(VLOOKUP(F36,'LISTE REFERENCE STOCKABLE'!$B$10:$K$98,10,FALSE),"") | X36: =VLOOKUP(E36,Inventaire!$C$2:$E$36,3,FALSE) -> #N/A
B37: 1.07 | C37: =IFERROR(VLOOKUP(F37,'LISTE REFERENCE STOCKABLE'!$B$11:$G$88,6,FALSE),"") -> Exten Packaging | D37: A T4-2 | E37: =IFERROR(IF(F37="","",INDEX('LISTE REFERENCE STOCKABLE'!A:A,MATCH('SYSTEME CLASSIFICATION'!F37,'LISTE REFERENCE STOCKABLE'!B:B,0),1)),"") -> EMP0045 | F37: Carton TP or | L37: =IFERROR(VLOOKUP('SYSTEME CLASSIFICATION'!$F37,'LISTE REFERENCE STOCKABLE'!$B$2:$C$98,2,FALSE),"DISPONIBLE") -> INDISPONIBLE | N37: =IFERROR(VLOOKUP('SYSTEME CLASSIFICATION'!$F37,'LISTE REFERENCE STOCKABLE'!$B$11:$D$88,3,FALSE),"") -> 50 paquetsx200c.=10000 c | Q37: =IFERROR(VLOOKUP('SYSTEME CLASSIFICATION'!$F37,'LISTE REFERENCE STOCKABLE'!$B$11:$E$88,4,FALSE),"") -> 20000 | R37: =IFERROR(VLOOKUP('SYSTEME CLASSIFICATION'!$F37,'LISTE REFERENCE STOCKABLE'!$B$11:$F$88,5,FALSE),"") -> 0 | U37: =IFERROR(IF(VLOOKUP(F37,'LISTE REFERENCE STOCKABLE'!$B$2:$J$98,8,FALSE)=0,"",VLOOKUP(F37,'LISTE REFERENCE STOCKABLE'!$B$2:$J$98,8,FALSE)),"") | V37: =IFERROR(IF(VLOOKUP(F37,'LISTE REFERENCE STOCKABLE'!$B$2:$J$98,9,FALSE)=0,"",VLOOKUP(F37,'LISTE REFERENCE STOCKABLE'!$B$2:$J$98,9,FALSE)),"") | W37: =IFERROR(VLOOKUP(F37,'LISTE REFERENCE STOCKABLE'!$B$10:$K$98,10,FALSE),"") -> b | X37: =VLOOKUP(E37,Inventaire!$C$2:$E$36,3,FALSE) -> jeudi
B38: 1.07 | C38: =IFERROR(VLOOKUP(F38,'LISTE REFERENCE STOCKABLE'!$B$11:$G$88,6,FALSE),"") | D38: A T4-2 | E38: =IFERROR(IF(F38="","",INDEX('LISTE REFERENCE STOCKABLE'!A:A,MATCH('SYSTEME CLASSIFICATION'!F38,'LISTE REFERENCE STOCKABLE'!B:B,0),1)),"") | F38: DÉSIGNATION NON REFERENCÉ DANS LA LISTE | L38: =IFERROR(VLOOKUP('SYSTEME CLASSIFICATION'!$F38,'LISTE REFERENCE STOCKABLE'!$B$2:$C$98,2,FALSE),"DISPONIBLE") -> INDISPONIBLE (Veuillez noter la désignation du produit dans "COMMENTAIRE MAGASINIER") | M38: BOÎTE PM | N38: =IFERROR(VLOOKUP('SYSTEME CLASSIFICATION'!$F38,'LISTE REFERENCE STOCKABLE'!$B$11:$D$88,3,FALSE),"") | Q38: =IFERROR(VLOOKUP('SYSTEME CLASSIFICATION'!$F38,'LISTE REFERENCE STOCKABLE'!$B$11:$E$88,4,FALSE),"") | R38: =IFERROR(VLOOKUP('SYSTEME CLASSIFICATION'!$F38,'LISTE REFERENCE STOCKABLE'!$B$11:$F$88,5,FALSE),"") | U38: =IFERROR(IF(VLOOKUP(F38,'LISTE REFERENCE STOCKABLE'!$B$2:$J$98,8,FALSE)=0,"",VLOOKUP(F38,'LISTE REFERENCE STOCKABLE'!$B$2:$J$98,8,FALSE)),"") | V38: =IFERROR(IF(VLOOKUP(F38,'LISTE REFERENCE STOCKABLE'!$B$2:$J$98,9,FALSE)=0,"",VLOOKUP(F38,'LISTE REFERENCE STOCKABLE'!$B$2:$J$98,9,FALSE)),"") | W38: =IFERROR(VLOOKUP(F38,'LISTE REFERENCE STOCKABLE'!$B$10:$K$98,10,FALSE),"") | X38: =VLOOKUP(E38,Inventaire!$C$2:$E$36,3,FALSE) -> #N/A
B39: 1.07 | C39: =IFERROR(VLOOKUP(F39,'LISTE REFERENCE STOCKABLE'!$B$11:$G$88,6,FALSE),"") | D39: A T4-2 | E39: =IFERROR(IF(F39="","",INDEX('LISTE REFERENCE STOCKABLE'!A:A,MATCH('SYSTEME CLASSIFICATION'!F39,'LISTE REFERENCE STOCKABLE'!B:B,0),1)),"") | L39: =IFERROR(VLOOKUP('SYSTEME CLASSIFICATION'!$F39,'LISTE REFERENCE STOCKABLE'!$B$2:$C$98,2,FALSE),"DISPONIBLE") -> DISPONIBLE | N39: =IFERROR(VLOOKUP('SYSTEME CLASSIFICATION'!$F39,'LISTE REFERENCE STOCKABLE'!$B$11:$D$88,3,FALSE),"") | Q39: =IFERROR(VLOOKUP('SYSTEME CLASSIFICATION'!$F39,'LISTE REFERENCE STOCKABLE'!$B$11:$E$88,4,FALSE),"") | R39: =IFERROR(VLOOKUP('SYSTEME CLASSIFICATION'!$F39,'LISTE REFERENCE STOCKABLE'!$B$11:$F$88,5,FALSE),"") | U39: =IFERROR(IF(VLOOKUP(F39,'LISTE REFERENCE STOCKABLE'!$B$2:$J$98,8,FALSE)=0,"",VLOOKUP(F39,'LISTE REFERENCE STOCKABLE'!$B$2:$J$98,8,FALSE)),"") | V39: =IFERROR(IF(VLOOKUP(F39,'LISTE REFERENCE STOCKABLE'!$B$2:$J$98,9,FALSE)=0,"",VLOOKUP(F39,'LISTE REFERENCE STOCKABLE'!$B$2:$J$98,9,FALSE)),"") | W39: =IFERROR(VLOOKUP(F39,'LISTE REFERENCE STOCKABLE'!$B$10:$K$98,10,FALSE),"") | X39: =VLOOKUP(E39,Inventaire!$C$2:$E$36,3,FALSE) -> #N/A
C40: =IFERROR(VLOOKUP(F40,'LISTE REFERENCE STOCKABLE'!$B$11:$G$88,6,FALSE),"") -> Guillin Emballage | D40: A T4-3 | E40: =IFERROR(IF(F40="","",INDEX('LISTE REFERENCE STOCKABLE'!A:A,MATCH('SYSTEME CLASSIFICATION'!F40,'LISTE REFERENCE STOCKABLE'!B:B,0),1)),"") -> EMP0001 | F40: X10H66 | L40: =IFERROR(VLOOKUP('SYSTEME CLASSIFICATION'!$F40,'LISTE REFERENCE STOCKABLE'!$B$2:$C$98,2,FALSE),"DISPONIBLE") -> INDISPONIBLE | N40: =IFERROR(VLOOKUP('SYSTEME CLASSIFICATION'!$F40,'LISTE REFERENCE STOCKABLE'!$B$11:$D$88,3,FALSE),"") -> 120 cartonsx336e=40320 emballages | Q40: =IFERROR(VLOOKUP('SYSTEME CLASSIFICATION'!$F40,'LISTE REFERENCE STOCKABLE'!$B$11:$E$88,4,FALSE),"") -> 132 cart | R40: =IFERROR(VLOOKUP('SYSTEME CLASSIFICATION'!$F40,'LISTE REFERENCE STOCKABLE'!$B$11:$F$88,5,FALSE),"") -> 0 | U40: =IFERROR(IF(VLOOKUP(F40,'LISTE REFERENCE STOCKABLE'!$B$2:$J$98,8,FALSE)=0,"",VLOOKUP(F40,'LISTE REFERENCE STOCKABLE'!$B$2:$J$98,8,FALSE)),"") | V40: =IFERROR(IF(VLOOKUP(F40,'LISTE REFERENCE STOCKABLE'!$B$2:$J$98,9,FALSE)=0,"",VLOOKUP(F40,'LISTE REFERENCE STOCKABLE'!$B$2:$J$98,9,FALSE)),"") | W40: =IFERROR(VLOOKUP(F40,'LISTE REFERENCE STOCKABLE'!$B$10:$K$98,10,FALSE),"") -> a | X40: =VLOOKUP(E40,Inventaire!$C$2:$E$36,3,FALSE) -> #N/A
C41: =IFERROR(VLOOKUP(F41,'LISTE REFERENCE STOCKABLE'!$B$11:$G$88,6,FALSE),"") -> Guillin Emballage | D41: A T4-3 | E41: =IFERROR(IF(F41="","",INDEX('LISTE REFERENCE STOCKABLE'!A:A,MATCH('SYSTEME CLASSIFICATION'!F41,'LISTE REFERENCE STOCKABLE'!B:B,0),1)),"") -> EMP0015 | F41: X10H40ALP | L41: =IFERROR(VLOOKUP('SYSTEME CLASSIFICATION'!$F41,'LISTE REFERENCE STOCKABLE'!$B$2:$C$98,2,FALSE),"DISPONIBLE") -> INDISPONIBLE | N41: =IFERROR(VLOOKUP('SYSTEME CLASSIFICATION'!$F41,'LISTE REFERENCE STOCKABLE'!$B$11:$D$88,3,FALSE),"") -> 36 cartonsx240e=1200 emballages | Q41: =IFERROR(VLOOKUP('SYSTEME CLASSIFICATION'!$F41,'LISTE REFERENCE STOCKABLE'!$B$11:$E$88,4,FALSE),"") -> Pal x 12 cart = | R41: =IFERROR(VLOOKUP('SYSTEME CLASSIFICATION'!$F41,'LISTE REFERENCE STOCKABLE'!$B$11:$F$88,5,FALSE),"") -> 0 | U41: =IFERROR(IF(VLOOKUP(F41,'LISTE REFERENCE STOCKABLE'!$B$2:$J$98,8,FALSE)=0,"",VLOOKUP(F41,'LISTE REFERENCE STOCKABLE'!$B$2:$J$98,8,FALSE)),"") -> 1.74 | V41: =IFERROR(IF(VLOOKUP(F41,'LISTE REFERENCE STOCKABLE'!$B$2:$J$98,9,FALSE)=0,"",VLOOKUP(F41,'LISTE REFERENCE STOCKABLE'!$B$2:$J$98,9,FALSE)),"") -> 800*1200 | W41: =IFERROR(VLOOKUP(F41,'LISTE REFERENCE STOCKABLE'!$B$10:$K$98,10,FALSE),"") -> a | X41: =VLOOKUP(E41,Inventaire!$C$2:$E$36,3,FALSE) -> #N/A
C42: =IFERROR(VLOOKUP(F42,'LISTE REFERENCE STOCKABLE'!$B$11:$G$88,6,FALSE),"") -> Guillin Emballage | D42: A T4-3 | E42: =IFERROR(IF(F42="","",INDEX('LISTE REFERENCE STOCKABLE'!A:A,MATCH('SYSTEME CLASSIFICATION'!F42,'LISTE REFERENCE STOCKABLE'!B:B,0),1)),"") -> EMP0015 | F42: X10H40ALP | L42: =IFERROR(VLOOKUP('SYSTEME CLASSIFICATION'!$F42,'LISTE REFERENCE STOCKABLE'!$B$2:$C$98,2,FALSE),"DISPONIBLE") -> INDISPONIBLE | N42: =IFERROR(VLOOKUP('SYSTEME CLASSIFICATION'!$F42,'LISTE REFERENCE STOCKABLE'!$B$11:$D$88,3,FALSE),"") -> 36 cartonsx240e=1200 emballages | Q42: =IFERROR(VLOOKUP('SYSTEME CLASSIFICATION'!$F42,'LISTE REFERENCE STOCKABLE'!$B$11:$E$88,4,FALSE),"") -> Pal x 12 cart = | R42: =IFERROR(VLOOKUP('SYSTEME CLASSIFICATION'!$F42,'LISTE REFERENCE STOCKABLE'!$B$11:$F$88,5,FALSE),"") -> 0 | U42: =IFERROR(IF(VLOOKUP(F42,'LISTE REFERENCE STOCKABLE'!$B$2:$J$98,8,FALSE)=0,"",VLOOKUP(F42,'LISTE REFERENCE STOCKABLE'!$B$2:$J$98,8,FALSE)),"") -> 1.74 | V42: =IFERROR(IF(VLOOKUP(F42,'LISTE REFERENCE STOCKABLE'!$B$2:$J$98,9,FALSE)=0,"",VLOOKUP(F42,'LISTE REFERENCE STOCKABLE'!$B$2:$J$98,9,FALSE)),"") -> 800*1200 | W42: =IFERROR(VLOOKUP(F42,'LISTE REFERENCE STOCKABLE'!$B$10:$K$98,10,FALSE),"") -> a | X42: =VLOOKUP(E42,Inventaire!$C$2:$E$36,3,FALSE) -> #N/A
B43: 1.98 | C43: =IFERROR(VLOOKUP(F43,'LISTE REFERENCE STOCKABLE'!$B$11:$G$88,6,FALSE),"") | D43: A T5-1 | E43: =IFERROR(IF(F43="","",INDEX('LISTE REFERENCE STOCKABLE'!A:A,MATCH('SYSTEME CLASSIFICATION'!F43,'LISTE REFERENCE STOCKABLE'!B:B,0),1)),"") | F43: EMPLACEMENT INEXISTANT | L43: =IFERROR(VLOOKUP('SYSTEME CLASSIFICATION'!$F43,'LISTE REFERENCE STOCKABLE'!$B$2:$C$98,2,FALSE),"DISPONIBLE") -> INEXISTANT | N43: =IFERROR(VLOOKUP('SYSTEME CLASSIFICATION'!$F43,'LISTE REFERENCE STOCKABLE'!$B$11:$D$88,3,FALSE),"") | Q43: =IFERROR(VLOOKUP('SYSTEME CLASSIFICATION'!$F43,'LISTE REFERENCE STOCKABLE'!$B$11:$E$88,4,FALSE),"") | R43: =IFERROR(VLOOKUP('SYSTEME CLASSIFICATION'!$F43,'LISTE REFERENCE STOCKABLE'!$B$11:$F$88,5,FALSE),"") | U43: =IFERROR(IF(VLOOKUP(F43,'LISTE REFERENCE STOCKABLE'!$B$2:$J$98,8,FALSE)=0,"",VLOOKUP(F43,'LISTE REFERENCE STOCKABLE'!$B$2:$J$98,8,FALSE)),"") | V43: =IFERROR(IF(VLOOKUP(F43,'LISTE REFERENCE STOCKABLE'!$B$2:$J$98,9,FALSE)=0,"",VLOOKUP(F43,'LISTE REFERENCE STOCKABLE'!$B$2:$J$98,9,FALSE)),"") | W43: =IFERROR(VLOOKUP(F43,'LISTE REFERENCE STOCKABLE'!$B$10:$K$98,10,FALSE),"") | X43: =VLOOKUP(E43,Inventaire!$C$2:$E$36,3,FALSE) -> #N/A
B44: 1.98 | C44: =IFERROR(VLOOKUP(F44,'LISTE REFERENCE STOCKABLE'!$B$11:$G$88,6,FALSE),"") | D44: A T5-1 | E44: =IFERROR(IF(F44="","",INDEX('LISTE REFERENCE STOCKABLE'!A:A,MATCH('SYSTEME CLASSIFICATION'!F44,'LISTE REFERENCE STOCKABLE'!B:B,0),1)),"") -> 0 | F44: Denrée alimentaire | L44: =IFERROR(VLOOKUP('SYSTEME CLASSIFICATION'!$F44,'LISTE REFERENCE STOCKABLE'!$B$2:$C$98,2,FALSE),"DISPONIBLE") -> INDISPONIBLE | M44: oreillette | N44: =IFERROR(VLOOKUP('SYSTEME CLASSIFICATION'!$F44,'LISTE REFERENCE STOCKABLE'!$B$11:$D$88,3,FALSE),"") | Q44: =IFERROR(VLOOKUP('SYSTEME CLASSIFICATION'!$F44,'LISTE REFERENCE STOCKABLE'!$B$11:$E$88,4,FALSE),"") | R44: =IFERROR(VLOOKUP('SYSTEME CLASSIFICATION'!$F44,'LISTE REFERENCE STOCKABLE'!$B$11:$F$88,5,FALSE),"") | U44: =IFERROR(IF(VLOOKUP(F44,'LISTE REFERENCE STOCKABLE'!$B$2:$J$98,8,FALSE)=0,"",VLOOKUP(F44,'LISTE REFERENCE STOCKABLE'!$B$2:$J$98,8,FALSE)),"") | V44: =IFERROR(IF(VLOOKUP(F44,'LISTE REFERENCE STOCKABLE'!$B$2:$J$98,9,FALSE)=0,"",VLOOKUP(F44,'LISTE REFERENCE STOCKABLE'!$B$2:$J$98,9,FALSE)),"") | W44: =IFERROR(VLOOKUP(F44,'LISTE REFERENCE STOCKABLE'!$B$10:$K$98,10,FALSE),"") | X44: =VLOOKUP(E44,Inventaire!$C$2:$E$36,3,FALSE) -> #N/A
B45: 1.98 | C45: =IFERROR(VLOOKUP(F45,'LISTE REFERENCE STOCKABLE'!$B$11:$G$88,6,FALSE),"") | D45: A T5-1 | E45: =IFERROR(IF(F45="","",INDEX('LISTE REFERENCE STOCKABLE'!A:A,MATCH('SYSTEME CLASSIFICATION'!F45,'LISTE REFERENCE STOCKABLE'!B:B,0),1)),"") | F45: DÉSIGNATION NON REFERENCÉ DANS LA LISTE | L45: =IFERROR(VLOOKUP('SYSTEME CLASSIFICATION'!$F45,'LISTE REFERENCE STOCKABLE'!$B$2:$C$98,2,FALSE),"DISPONIBLE") -> INDISPONIBLE (Veuillez noter la désignation du produit dans "COMMENTAIRE MAGASINIER") | M45: CARTON | N45: =IFERROR(VLOOKUP('SYSTEME CLASSIFICATION'!$F45,'LISTE REFERENCE STOCKABLE'!$B$11:$D$88,3,FALSE),"") | Q45: =IFERROR(VLOOKUP('SYSTEME CLASSIFICATION'!$F45,'LISTE REFERENCE STOCKABLE'!$B$11:$E$88,4,FALSE),"") | R45: =IFERROR(VLOOKUP('SYSTEME CLASSIFICATION'!$F45,'LISTE REFERENCE STOCKABLE'!$B$11:$F$88,5,FALSE),"") | U45: =IFERROR(IF(VLOOKUP(F45,'LISTE REFERENCE STOCKABLE'!$B$2:$J$98,8,FALSE)=0,"",VLOOKUP(F45,'LISTE REFERENCE STOCKABLE'!$B$2:$J$98,8,FALSE)),"") | V45: =IFERROR(IF(VLOOKUP(F45,'LISTE REFERENCE STOCKABLE'!$B$2:$J$98,9,FALSE)=0,"",VLOOKUP(F45,'LISTE REFERENCE STOCKABLE'!$B$2:$J$98,9,FALSE)),"") | W45: =IFERROR(VLOOKUP(F45,'LISTE REFERENCE STOCKABLE'!$B$10:$K$98,10,FALSE),"") | X45: =VLOOKUP(E45,Inventaire!$C$2:$E$36,3,FALSE) -> #N/A
B46: 1.07 | C46: =IFERROR(VLOOKUP(F46,'LISTE REFERENCE STOCKABLE'!$B$11:$G$88,6,FALSE),"") -> Guillin Emballage | D46: A T5-2 | E46: =IFERROR(IF(F46="","",INDEX('LISTE REFERENCE STOCKABLE'!A:A,MATCH('SYSTEME CLASSIFICATION'!F46,'LISTE REFERENCE STOCKABLE'!B:B,0),1)),"") -> EMP0009 | F46: Plat alu 500gr | L46: =IFERROR(VLOOKUP('SYSTEME CLASSIFICATION'!$F46,'LISTE REFERENCE STOCKABLE'!$B$2:$C$98,2,FALSE),"DISPONIBLE") -> INDISPONIBLE | N46: =IFERROR(VLOOKUP('SYSTEME CLASSIFICATION'!$F46,'LISTE REFERENCE STOCKABLE'!$B$11:$D$88,3,FALSE),"") -> 1 cartonx100e=100 emballages | Q46: =IFERROR(VLOOKUP('SYSTEME CLASSIFICATION'!$F46,'LISTE REFERENCE STOCKABLE'!$B$11:$E$88,4,FALSE),"") -> 0 | R46: =IFERROR(VLOOKUP('SYSTEME CLASSIFICATION'!$F46,'LISTE REFERENCE STOCKABLE'!$B$11:$F$88,5,FALSE),"") -> 0 | U46: =IFERROR(IF(VLOOKUP(F46,'LISTE REFERENCE STOCKABLE'!$B$2:$J$98,8,FALSE)=0,"",VLOOKUP(F46,'LISTE REFERENCE STOCKABLE'!$B$2:$J$98,8,FALSE)),"") | V46: =IFERROR(IF(VLOOKUP(F46,'LISTE REFERENCE STOCKABLE'!$B$2:$J$98,9,FALSE)=0,"",VLOOKUP(F46,'LISTE REFERENCE STOCKABLE'!$B$2:$J$98,9,FALSE)),"") | W46: =IFERROR(VLOOKUP(F46,'LISTE REFERENCE STOCKABLE'!$B$10:$K$98,10,FALSE),"") -> 0 | X46: =VLOOKUP(E46,Inventaire!$C$2:$E$36,3,FALSE) -> #N/A
B47: 1.07 | C47: =IFERROR(VLOOKUP(F47,'LISTE REFERENCE STOCKABLE'!$B$11:$G$88,6,FALSE),"") | D47: A T5-2 | E47: =IFERROR(IF(F47="","",INDEX('LISTE REFERENCE STOCKABLE'!A:A,MATCH('SYSTEME CLASSIFICATION'!F47,'LISTE REFERENCE STOCKABLE'!B:B,0),1)),"") | L47: =IFERROR(VLOOKUP('SYSTEME CLASSIFICATION'!$F47,'LISTE REFERENCE STOCKABLE'!$B$2:$C$98,2,FALSE),"DISPONIBLE") -> DISPONIBLE | N47: =IFERROR(VLOOKUP('SYSTEME CLASSIFICATION'!$F47,'LISTE REFERENCE STOCKABLE'!$B$11:$D$88,3,FALSE),"") | Q47: =IFERROR(VLOOKUP('SYSTEME CLASSIFICATION'!$F47,'LISTE REFERENCE STOCKABLE'!$B$11:$E$88,4,FALSE),"") | R47: =IFERROR(VLOOKUP('SYSTEME CLASSIFICATION'!$F47,'LISTE REFERENCE STOCKABLE'!$B$11:$F$88,5,FALSE),"") | U47: =IFERROR(IF(VLOOKUP(F47,'LISTE REFERENCE STOCKABLE'!$B$2:$J$98,8,FALSE)=0,"",VLOOKUP(F47,'LISTE REFERENCE STOCKABLE'!$B$2:$J$98,8,FALSE)),"") | V47: =IFERROR(IF(VLOOKUP(F47,'LISTE REFERENCE STOCKABLE'!$B$2:$J$98,9,FALSE)=0,"",VLOOKUP(F47,'LISTE REFERENCE STOCKABLE'!$B$2:$J$98,9,FALSE)),"") | W47: =IFERROR(VLOOKUP(F47,'LISTE REFERENCE STOCKABLE'!$B$10:$K$98,10,FALSE),"") | X47: =VLOOKUP(E47,Inventaire!$C$2:$E$36,3,FALSE) -> #N/A
B48: 1.07 | C48: =IFERROR(VLOOKUP(F48,'LISTE REFERENCE STOCKABLE'!$B$11:$G$88,6,FALSE),"") | D48: A T5-2 | E48: =IFERROR(IF(F48="","",INDEX('LISTE REFERENCE STOCKABLE'!A:A,MATCH('SYSTEME CLASSIFICATION'!F48,'LISTE REFERENCE STOCKABLE'!B:B,0),1)),"") | L48: =IFERROR(VLOOKUP('SYSTEME CLASSIFICATION'!$F48,'LISTE REFERENCE STOCKABLE'!$B$2:$C$98,2,FALSE),"DISPONIBLE") -> DISPONIBLE | N48: =IFERROR(VLOOKUP('SYSTEME CLASSIFICATION'!$F48,'LISTE REFERENCE STOCKABLE'!$B$11:$D$88,3,FALSE),"") | Q48: =IFERROR(VLOOKUP('SYSTEME CLASSIFICATION'!$F48,'LISTE REFERENCE STOCKABLE'!$B$11:$E$88,4,FALSE),"") | R48: =IFERROR(VLOOKUP('SYSTEME CLASSIFICATION'!$F48,'LISTE REFERENCE STOCKABLE'!$B$11:$F$88,5,FALSE),"") | U48: =IFERROR(IF(VLOOKUP(F48,'LISTE REFERENCE STOCKABLE'!$B$2:$J$98,8,FALSE)=0,"",VLOOKUP(F48,'LISTE REFERENCE STOCKABLE'!$B$2:$J$98,8,FALSE)),"") | V48: =IFERROR(IF(VLOOKUP(F48,'LISTE REFERENCE STOCKABLE'!$B$2:$J$98,9,FALSE)=0,"",VLOOKUP(F48,'LISTE REFERENCE STOCKABLE'!$B$2:$J$98,9,FALSE)),"") | W48: =IFERROR(VLOOKUP(F48,'LISTE REFERENCE STOCKABLE'!$B$10:$K$98,10,FALSE),"") | X48: =VLOOKUP(E48,Inventaire!$C$2:$E$36,3,FALSE) -> #N/A
C49: =IFERROR(VLOOKUP(F49,'LISTE REFERENCE STOCKABLE'!$B$11:$G$88,6,FALSE),"") | D49: A T5-3 | E49: =IFERROR(IF(F49="","",INDEX('LISTE REFERENCE STOCKABLE'!A:A,MATCH('SYSTEME CLASSIFICATION'!F49,'LISTE REFERENCE STOCKABLE'!B:B,0),1)),"") | F49: DÉSIGNATION NON REFERENCÉ DANS LA LISTE | L49: =IFERROR(VLOOKUP('SYSTEME CLASSIFICATION'!$F49,'LISTE REFERENCE STOCKABLE'!$B$2:$C$98,2,FALSE),"DISPONIBLE") -> INDISPONIBLE (Veuillez noter la désignation du produit dans "COMMENTAIRE MAGASINIER") | M49: AMORTISSEUR TUILE NOIR | N49: =IFERROR(VLOOKUP('SYSTEME CLASSIFICATION'!$F49,'LISTE REFERENCE STOCKABLE'!$B$11:$D$88,3,FALSE),"") | Q49: =IFERROR(VLOOKUP('SYSTEME CLASSIFICATION'!$F49,'LISTE REFERENCE STOCKABLE'!$B$11:$E$88,4,FALSE),"") | R49: =IFERROR(VLOOKUP('SYSTEME CLASSIFICATION'!$F49,'LISTE REFERENCE STOCKABLE'!$B$11:$F$88,5,FALSE),"") | U49: =IFERROR(IF(VLOOKUP(F49,'LISTE REFERENCE STOCKABLE'!$B$2:$J$98,8,FALSE)=0,"",VLOOKUP(F49,'LISTE REFERENCE STOCKABLE'!$B$2:$J$98,8,FALSE)),"") | V49: =IFERROR(IF(VLOOKUP(F49,'LISTE REFERENCE STOCKABLE'!$B$2:$J$98,9,FALSE)=0,"",VLOOKUP(F49,'LISTE REFERENCE STOCKABLE'!$B$2:$J$98,9,FALSE)),"") | W49: =IFERROR(VLOOKUP(F49,'LISTE REFERENCE STOCKABLE'!$B$10:$K$98,10,FALSE),"") | X49: =VLOOKUP(E49,Inventaire!$C$2:$E$36,3,FALSE) -> #N/A
C50: =IFERROR(VLOOKUP(F50,'LISTE REFERENCE STOCKABLE'!$B$11:$G$88,6,FALSE),"") | D50: A T5-3 | E50: =IFERROR(IF(F50="","",INDEX('LISTE REFERENCE STOCKABLE'!A:A,MATCH('SYSTEME CLASSIFICATION'!F50,'LISTE REFERENCE STOCKABLE'!B:B,0),1)),"") | F50: EMPLACEMENT INEXISTANT | L50: =IFERROR(VLOOKUP('SYSTEME CLASSIFICATION'!$F50,'LISTE REFERENCE STOCKABLE'!$B$2:$C$98,2,FALSE),"DISPONIBLE") -> INEXISTANT | N50: =IFERROR(VLOOKUP('SYSTEME CLASSIFICATION'!$F50,'LISTE REFERENCE STOCKABLE'!$B$11:$D$88,3,FALSE),"") | Q50: =IFERROR(VLOOKUP('SYSTEME CLASSIFICATION'!$F50,'LISTE REFERENCE STOCKABLE'!$B$11:$E$88,4,FALSE),"") | R50: =IFERROR(VLOOKUP('SYSTEME CLASSIFICATION'!$F50,'LISTE REFERENCE STOCKABLE'!$B$11:$F$88,5,FALSE),"") | U50: =IFERROR(IF(VLOOKUP(F50,'LISTE REFERENCE STOCKABLE'!$B$2:$J$98,8,FALSE)=0,"",VLOOKUP(F50,'LISTE REFERENCE STOCKABLE'!$B$2:$J$98,8,FALSE)),"") | V50: =IFERROR(IF(VLOOKUP(F50,'LISTE REFERENCE STOCKABLE'!$B$2:$J$98,9,FALSE)=0,"",VLOOKUP(F50,'LISTE REFERENCE STOCKABLE'!$B$2:$J$98,9,FALSE)),"") | W50: =IFERROR(VLOOKUP(F50,'LISTE REFERENCE STOCKABLE'!$B$10:$K$98,10,FALSE),"") | X50: =VLOOKUP(E50,Inventaire!$C$2:$E$36,3,FALSE) -> #N/A
C51: =IFERROR(VLOOKUP(F51,'LISTE REFERENCE STOCKABLE'!$B$11:$G$88,6,FALSE),"") | D51: A T5-3 | E51: =IFERROR(IF(F51="","",INDEX('LISTE REFERENCE STOCKABLE'!A:A,MATCH('SYSTEME CLASSIFICATION'!F51,'LISTE REFERENCE STOCKABLE'!B:B,0),1)),"") | F51: DÉSIGNATION NON REFERENCÉ DANS LA LISTE | L51: =IFERROR(VLOOKUP('SYSTEME CLASSIFICATION'!$F51,'LISTE REFERENCE STOCKABLE'!$B$2:$C$98,2,FALSE),"DISPONIBLE") -> INDISPONIBLE (Veuillez noter la désignation du produit dans "COMMENTAIRE MAGASINIER") | M51: AMORTISSEUR TUILE NOIR | N51: =IFERROR(VLOOKUP('SYSTEME CLASSIFICATION'!$F51,'LISTE REFERENCE STOCKABLE'!$B$11:$D$88,3,FALSE),"") | Q51: =IFERROR(VLOOKUP('SYSTEME CLASSIFICATION'!$F51,'LISTE REFERENCE STOCKABLE'!$B$11:$E$88,4,FALSE),"") | R51: =IFERROR(VLOOKUP('SYSTEME CLASSIFICATION'!$F51,'LISTE REFERENCE STOCKABLE'!$B$11:$F$88,5,FALSE),"") | U51: =IFERROR(IF(VLOOKUP(F51,'LISTE REFERENCE STOCKABLE'!$B$2:$J$98,8,FALSE)=0,"",VLOOKUP(F51,'LISTE REFERENCE STOCKABLE'!$B$2:$J$98,8,FALSE)),"") | V51: =IFERROR(IF(VLOOKUP(F51,'LISTE REFERENCE STOCKABLE'!$B$2:$J$98,9,FALSE)=0,"",VLOOKUP(F51,'LISTE REFERENCE STOCKABLE'!$B$2:$J$98,9,FALSE)),"") | W51: =IFERROR(VLOOKUP(F51,'LISTE REFERENCE STOCKABLE'!$B$10:$K$98,10,FALSE),"") | X51: =VLOOKUP(E51,Inventaire!$C$2:$E$36,3,FALSE) -> #N/A
C52: =IFERROR(VLOOKUP(F52,'LISTE REFERENCE STOCKABLE'!$B$11:$G$88,6,FALSE),"") -> Guillin Emballage | D52: B T1-2 | E52: =IFERROR(IF(F52="","",INDEX('LISTE REFERENCE STOCKABLE'!A:A,MATCH('SYSTEME CLASSIFICATION'!F52,'LISTE REFERENCE STOCKABLE'!B:B,0),1)),"") -> EMP0013 | F52: BJAH50 | L52: =IFERROR(VLOOKUP('SYSTEME CLASSIFICATION'!$F52,'LISTE REFERENCE STOCKABLE'!$B$2:$C$98,2,FALSE),"DISPONIBLE") -> INDISPONIBLE | N52: =IFERROR(VLOOKUP('SYSTEME CLASSIFICATION'!$F52,'LISTE REFERENCE STOCKABLE'!$B$11:$D$88,3,FALSE),"") -> 12 cartonsx250e=750 emballages | Q52: =IFERROR(VLOOKUP('SYSTEME CLASSIFICATION'!$F52,'LISTE REFERENCE STOCKABLE'!$B$11:$E$88,4,FALSE),"") -> Pal x 12 cart = | R52: =IFERROR(VLOOKUP('SYSTEME CLASSIFICATION'!$F52,'LISTE REFERENCE STOCKABLE'!$B$11:$F$88,5,FALSE),"") -> 0 | U52: =IFERROR(IF(VLOOKUP(F52,'LISTE REFERENCE STOCKABLE'!$B$2:$J$98,8,FALSE)=0,"",VLOOKUP(F52,'LISTE REFERENCE STOCKABLE'!$B$2:$J$98,8,FALSE)),"") | V52: =IFERROR(IF(VLOOKUP(F52,'LISTE REFERENCE STOCKABLE'!$B$2:$J$98,9,FALSE)=0,"",VLOOKUP(F52,'LISTE REFERENCE STOCKABLE'!$B$2:$J$98,9,FALSE)),"") | W52: =IFERROR(VLOOKUP(F52,'LISTE REFERENCE STOCKABLE'!$B$10:$K$98,10,FALSE),"") -> a | X52: =VLOOKUP(E52,Inventaire!$C$2:$E$36,3,FALSE) -> #N/A
C53: =IFERROR(VLOOKUP(F53,'LISTE REFERENCE STOCKABLE'!$B$11:$G$88,6,FALSE),"") -> Davoise | D53: B T1-2 | E53: =IFERROR(IF(F53="","",INDEX('LISTE REFERENCE STOCKABLE'!A:A,MATCH('SYSTEME CLASSIFICATION'!F53,'LISTE REFERENCE STOCKABLE'!B:B,0),1)),"") -> EMP0039 | F53: Boîte PVC fond 172x123x36/35 | L53: =IFERROR(VLOOKUP('SYSTEME CLASSIFICATION'!$F53,'LISTE REFERENCE STOCKABLE'!$B$2:$C$98,2,FALSE),"DISPONIBLE") -> INDISPONIBLE | N53: =IFERROR(VLOOKUP('SYSTEME CLASSIFICATION'!$F53,'LISTE REFERENCE STOCKABLE'!$B$11:$D$88,3,FALSE),"") -> 10 cartonsx258e=2580e | Q53: =IFERROR(VLOOKUP('SYSTEME CLASSIFICATION'!$F53,'LISTE REFERENCE STOCKABLE'!$B$11:$E$88,4,FALSE),"") -> 12500 | R53: =IFERROR(VLOOKUP('SYSTEME CLASSIFICATION'!$F53,'LISTE REFERENCE STOCKABLE'!$B$11:$F$88,5,FALSE),"") -> 0 | U53: =IFERROR(IF(VLOOKUP(F53,'LISTE REFERENCE STOCKABLE'!$B$2:$J$98,8,FALSE)=0,"",VLOOKUP(F53,'LISTE REFERENCE STOCKABLE'!$B$2:$J$98,8,FALSE)),"") -> 1.82 | V53: =IFERROR(IF(VLOOKUP(F53,'LISTE REFERENCE STOCKABLE'!$B$2:$J$98,9,FALSE)=0,"",VLOOKUP(F53,'LISTE REFERENCE STOCKABLE'!$B$2:$J$98,9,FALSE)),"") -> 800*1200 | W53: =IFERROR(VLOOKUP(F53,'LISTE REFERENCE STOCKABLE'!$B$10:$K$98,10,FALSE),"") -> b | X53: =VLOOKUP(E53,Inventaire!$C$2:$E$36,3,FALSE) -> jeudi
C54: =IFERROR(VLOOKUP(F54,'LISTE REFERENCE STOCKABLE'!$B$11:$G$88,6,FALSE),"") -> Davoise | D54: B T1-2 | E54: =IFERROR(IF(F54="","",INDEX('LISTE REFERENCE STOCKABLE'!A:A,MATCH('SYSTEME CLASSIFICATION'!F54,'LISTE REFERENCE STOCKABLE'!B:B,0),1)),"") -> EMP0039 | F54: Boîte PVC couv.172x123x36/35 | L54: =IFERROR(VLOOKUP('SYSTEME CLASSIFICATION'!$F54,'LISTE REFERENCE STOCKABLE'!$B$2:$C$98,2,FALSE),"DISPONIBLE") -> INDISPONIBLE | N54: =IFERROR(VLOOKUP('SYSTEME CLASSIFICATION'!$F54,'LISTE REFERENCE STOCKABLE'!$B$11:$D$88,3,FALSE),"") -> 10 cartonsx258e=2580e | Q54: =IFERROR(VLOOKUP('SYSTEME CLASSIFICATION'!$F54,'LISTE REFERENCE STOCKABLE'!$B$11:$E$88,4,FALSE),"") -> 12500 | R54: =IFERROR(VLOOKUP('SYSTEME CLASSIFICATION'!$F54,'LISTE REFERENCE STOCKABLE'!$B$11:$F$88,5,FALSE),"") -> 0 | U54: =IFERROR(IF(VLOOKUP(F54,'LISTE REFERENCE STOCKABLE'!$B$2:$J$98,8,FALSE)=0,"",VLOOKUP(F54,'LISTE REFERENCE STOCKABLE'!$B$2:$J$98,8,FALSE)),"") -> 1.8 | V54: =IFERROR(IF(VLOOKUP(F54,'LISTE REFERENCE STOCKABLE'!$B$2:$J$98,9,FALSE)=0,"",VLOOKUP(F54,'LISTE REFERENCE STOCKABLE'!$B$2:$J$98,9,FALSE)),"") -> 800*1200 | W54: =IFERROR(VLOOKUP(F54,'LISTE REFERENCE STOCKABLE'!$B$10:$K$98,10,FALSE),"") -> c | X54: =VLOOKUP(E54,Inventaire!$C$2:$E$36,3,FALSE) -> jeudi
C55: =IFERROR(VLOOKUP(F55,'LISTE REFERENCE STOCKABLE'!$B$11:$G$88,6,FALSE),"") | D55: B T1-3 | E55: =IFERROR(IF(F55="","",INDEX('LISTE REFERENCE STOCKABLE'!A:A,MATCH('SYSTEME CLASSIFICATION'!F55,'LISTE REFERENCE STOCKABLE'!B:B,0),1)),"") | F55: DÉSIGNATION NON REFERENCÉ DANS LA LISTE | L55: =IFERROR(VLOOKUP('SYSTEME CLASSIFICATION'!$F55,'LISTE REFERENCE STOCKABLE'!$B$2:$C$98,2,FALSE),"DISPONIBLE") -> INDISPONIBLE (Veuillez noter la désignation du produit dans "COMMENTAIRE MAGASINIER") | N55: =IFERROR(VLOOKUP('SYSTEME CLASSIFICATION'!$F55,'LISTE REFERENCE STOCKABLE'!$B$11:$D$88,3,FALSE),"") | Q55: =IFERROR(VLOOKUP('SYSTEME CLASSIFICATION'!$F55,'LISTE REFERENCE STOCKABLE'!$B$11:$E$88,4,FALSE),"") | R55: =IFERROR(VLOOKUP('SYSTEME CLASSIFICATION'!$F55,'LISTE REFERENCE STOCKABLE'!$B$11:$F$88,5,FALSE),"") | U55: =IFERROR(IF(VLOOKUP(F55,'LISTE REFERENCE STOCKABLE'!$B$2:$J$98,8,FALSE)=0,"",VLOOKUP(F55,'LISTE REFERENCE STOCKABLE'!$B$2:$J$98,8,FALSE)),"") | V55: =IFERROR(IF(VLOOKUP(F55,'LISTE REFERENCE STOCKABLE'!$B$2:$J$98,9,FALSE)=0,"",VLOOKUP(F55,'LISTE REFERENCE STOCKABLE'!$B$2:$J$98,9,FALSE)),"") | W55: =IFERROR(VLOOKUP(F55,'LISTE REFERENCE STOCKABLE'!$B$10:$K$98,10,FALSE),"") | X55: =VLOOKUP(E55,Inventaire!$C$2:$E$36,3,FALSE) -> #N/A
C56: =IFERROR(VLOOKUP(F56,'LISTE REFERENCE STOCKABLE'!$B$11:$G$88,6,FALSE),"") | D56: B T1-3 | E56: =IFERROR(IF(F56="","",INDEX('LISTE REFERENCE STOCKABLE'!A:A,MATCH('SYSTEME CLASSIFICATION'!F56,'LISTE REFERENCE STOCKABLE'!B:B,0),1)),"") | F56: DÉSIGNATION NON REFERENCÉ DANS LA LISTE | L56: =IFERROR(VLOOKUP('SYSTEME CLASSIFICATION'!$F56,'LISTE REFERENCE STOCKABLE'!$B$2:$C$98,2,FALSE),"DISPONIBLE") -> INDISPONIBLE (Veuillez noter la désignation du produit dans "COMMENTAIRE MAGASINIER") | N56: =IFERROR(VLOOKUP('SYSTEME CLASSIFICATION'!$F56,'LISTE REFERENCE STOCKABLE'!$B$11:$D$88,3,FALSE),"") | Q56: =IFERROR(VLOOKUP('SYSTEME CLASSIFICATION'!$F56,'LISTE REFERENCE STOCKABLE'!$B$11:$E$88,4,FALSE),"") | R56: =IFERROR(VLOOKUP('SYSTEME CLASSIFICATION'!$F56,'LISTE REFERENCE STOCKABLE'!$B$11:$F$88,5,FALSE),"") | U56: =IFERROR(IF(VLOOKUP(F56,'LISTE REFERENCE STOCKABLE'!$B$2:$J$98,8,FALSE)=0,"",VLOOKUP(F56,'LISTE REFERENCE STOCKABLE'!$B$2:$J$98,8,FALSE)),"") | V56: =IFERROR(IF(VLOOKUP(F56,'LISTE REFERENCE STOCKABLE'!$B$2:$J$98,9,FALSE)=0,"",VLOOKUP(F56,'LISTE REFERENCE STOCKABLE'!$B$2:$J$98,9,FALSE)),"") | W56: =IFERROR(VLOOKUP(F56,'LISTE REFERENCE STOCKABLE'!$B$10:$K$98,10,FALSE),"") | X56: =VLOOKUP(E56,Inventaire!$C$2:$E$36,3,FALSE) -> #N/A
C57: =IFERROR(VLOOKUP(F57,'LISTE REFERENCE STOCKABLE'!$B$11:$G$88,6,FALSE),"") | D57: B T1-3 | E57: =IFERROR(IF(F57="","",INDEX('LISTE REFERENCE STOCKABLE'!A:A,MATCH('SYSTEME CLASSIFICATION'!F57,'LISTE REFERENCE STOCKABLE'!B:B,0),1)),"") | F57: DÉSIGNATION NON REFERENCÉ DANS LA LISTE | L57: =IFERROR(VLOOKUP('SYSTEME CLASSIFICATION'!$F57,'LISTE REFERENCE STOCKABLE'!$B$2:$C$98,2,FALSE),"DISPONIBLE") -> INDISPONIBLE (Veuillez noter la désignation du produit dans "COMMENTAIRE MAGASINIER") | N57: =IFERROR(VLOOKUP('SYSTEME CLASSIFICATION'!$F57,'LISTE REFERENCE STOCKABLE'!$B$11:$D$88,3,FALSE),"") | Q57: =IFERROR(VLOOKUP('SYSTEME CLASSIFICATION'!$F57,'LISTE REFERENCE STOCKABLE'!$B$11:$E$88,4,FALSE),"") | R57: =IFERROR(VLOOKUP('SYSTEME CLASSIFICATION'!$F57,'LISTE REFERENCE STOCKABLE'!$B$11:$F$88,5,FALSE),"") | U57: =IFERROR(IF(VLOOKUP(F57,'LISTE REFERENCE STOCKABLE'!$B$2:$J$98,8,FALSE)=0,"",VLOOKUP(F57,'LISTE REFERENCE STOCKABLE'!$B$2:$J$98,8,FALSE)),"") | V57: =IFERROR(IF(VLOOKUP(F57,'LISTE REFERENCE STOCKABLE'!$B$2:$J$98,9,FALSE)=0,"",VLOOKUP(F57,'LISTE REFERENCE STOCKABLE'!$B$2:$J$98,9,FALSE)),"") | W57: =IFERROR(VLOOKUP(F57,'LISTE REFERENCE STOCKABLE'!$B$10:$K$98,10,FALSE),"") | X57: =VLOOKUP(E57,Inventaire!$C$2:$E$36,3,FALSE) -> #N/A
B58: 1.89 | C58: =IFERROR(VLOOKUP(F58,'LISTE REFERENCE STOCKABLE'!$B$11:$G$88,6,FALSE),"") | D58: B T2-1 | E58: =IFERROR(IF(F58="","",INDEX('LISTE REFERENCE STOCKABLE'!A:A,MATCH('SYSTEME CLASSIFICATION'!F58,'LISTE REFERENCE STOCKABLE'!B:B,0),1)),"") -> 0 | F58: Denrée alimentaire | L58: =IFERROR(VLOOKUP('SYSTEME CLASSIFICATION'!$F58,'LISTE REFERENCE STOCKABLE'!$B$2:$C$98,2,FALSE),"DISPONIBLE") -> INDISPONIBLE | N58: =IFERROR(VLOOKUP('SYSTEME CLASSIFICATION'!$F58,'LISTE REFERENCE STOCKABLE'!$B$11:$D$88,3,FALSE),"") | Q58: =IFERROR(VLOOKUP('SYSTEME CLASSIFICATION'!$F58,'LISTE REFERENCE STOCKABLE'!$B$11:$E$88,4,FALSE),"") | R58: =IFERROR(VLOOKUP('SYSTEME CLASSIFICATION'!$F58,'LISTE REFERENCE STOCKABLE'!$B$11:$F$88,5,FALSE),"") | U58: =IFERROR(IF(VLOOKUP(F58,'LISTE REFERENCE STOCKABLE'!$B$2:$J$98,8,FALSE)=0,"",VLOOKUP(F58,'LISTE REFERENCE STOCKABLE'!$B$2:$J$98,8,FALSE)),"") | V58: =IFERROR(IF(VLOOKUP(F58,'LISTE REFERENCE STOCKABLE'!$B$2:$J$98,9,FALSE)=0,"",VLOOKUP(F58,'LISTE REFERENCE STOCKABLE'!$B$2:$J$98,9,FALSE)),"") | W58: =IFERROR(VLOOKUP(F58,'LISTE REFERENCE STOCKABLE'!$B$10:$K$98,10,FALSE),"") | X58: =VLOOKUP(E58,Inventaire!$C$2:$E$36,3,FALSE) -> #N/A
B59: 1.89 | C59: =IFERROR(VLOOKUP(F59,'LISTE REFERENCE STOCKABLE'!$B$11:$G$88,6,FALSE),"") | D59: B T2-1 | E59: =IFERROR(IF(F59="","",INDEX('LISTE REFERENCE STOCKABLE'!A:A,MATCH('SYSTEME CLASSIFICATION'!F59,'LISTE REFERENCE STOCKABLE'!B:B,0),1)),"") -> 0 | F59: Denrée alimentaire | L59: =IFERROR(VLOOKUP('SYSTEME CLASSIFICATION'!$F59,'LISTE REFERENCE STOCKABLE'!$B$2:$C$98,2,FALSE),"DISPONIBLE") -> INDISPONIBLE | N59: =IFERROR(VLOOKUP('SYSTEME CLASSIFICATION'!$F59,'LISTE REFERENCE STOCKABLE'!$B$11:$D$88,3,FALSE),"") | Q59: =IFERROR(VLOOKUP('SYSTEME CLASSIFICATION'!$F59,'LISTE REFERENCE STOCKABLE'!$B$11:$E$88,4,FALSE),"") | R59: =IFERROR(VLOOKUP('SYSTEME CLASSIFICATION'!$F59,'LISTE REFERENCE STOCKABLE'!$B$11:$F$88,5,FALSE),"") | U59: =IFERROR(IF(VLOOKUP(F59,'LISTE REFERENCE STOCKABLE'!$B$2:$J$98,8,FALSE)=0,"",VLOOKUP(F59,'LISTE REFERENCE STOCKABLE'!$B$2:$J$98,8,FALSE)),"") | V59: =IFERROR(IF(VLOOKUP(F59,'LISTE REFERENCE STOCKABLE'!$B$2:$J$98,9,FALSE)=0,"",VLOOKUP(F59,'LISTE REFERENCE STOCKABLE'!$B$2:$J$98,9,FALSE)),"") | W59: =IFERROR(VLOOKUP(F59,'LISTE REFERENCE STOCKABLE'!$B$10:$K$98,10,FALSE),"") | X59: =VLOOKUP(E59,Inventaire!$C$2:$E$36,3,FALSE) -> #N/A
B60: 1.89 | C60: =IFERROR(VLOOKUP(F60,'LISTE REFERENCE STOCKABLE'!$B$11:$G$88,6,FALSE),"") | D60: B T2-1 | E60: =IFERROR(IF(F60="","",INDEX('LISTE REFERENCE STOCKABLE'!A:A,MATCH('SYSTEME CLASSIFICATION'!F60,'LISTE REFERENCE STOCKABLE'!B:B,0),1)),"") -> 0 | F60: Denrée alimentaire | L60: =IFERROR(VLOOKUP('SYSTEME CLASSIFICATION'!$F60,'LISTE REFERENCE STOCKABLE'!$B$2:$C$98,2,FALSE),"DISPONIBLE") -> INDISPONIBLE | N60: =IFERROR(VLOOKUP('SYSTEME CLASSIFICATION'!$F60,'LISTE REFERENCE STOCKABLE'!$B$11:$D$88,3,FALSE),"") | Q60: =IFERROR(VLOOKUP('SYSTEME CLASSIFICATION'!$F60,'LISTE REFERENCE STOCKABLE'!$B$11:$E$88,4,FALSE),"") | R60: =IFERROR(VLOOKUP('SYSTEME CLASSIFICATION'!$F60,'LISTE REFERENCE STOCKABLE'!$B$11:$F$88,5,FALSE),"") | U60: =IFERROR(IF(VLOOKUP(F60,'LISTE REFERENCE STOCKABLE'!$B$2:$J$98,8,FALSE)=0,"",VLOOKUP(F60,'LISTE REFERENCE STOCKABLE'!$B$2:$J$98,8,FALSE)),"") | V60: =IFERROR(IF(VLOOKUP(F60,'LISTE REFERENCE STOCKABLE'!$B$2:$J$98,9,FALSE)=0,"",VLOOKUP(F60,'LISTE REFERENCE STOCKABLE'!$B$2:$J$98,9,FALSE)),"") | W60: =IFERROR(VLOOKUP(F60,'LISTE REFERENCE STOCKABLE'!$B$10:$K$98,10,FALSE),"") | X60: =VLOOKUP(E60,Inventaire!$C$2:$E$36,3,FALSE) -> #N/A
B61: 1.89 | C61: =IFERROR(VLOOKUP(F61,'LISTE REFERENCE STOCKABLE'!$B$11:$G$88,6,FALSE),"") -> Davoise | D61: B T2-2 | E61: =IFERROR(IF(F61="","",INDEX('LISTE REFERENCE STOCKABLE'!A:A,MATCH('SYSTEME CLASSIFICATION'!F61,'LISTE REFERENCE STOCKABLE'!B:B,0),1)),"") -> EMP0038 | F61: Boîte PVC fond 240x172x35/34 | L61: =IFERROR(VLOOKUP('SYSTEME CLASSIFICATION'!$F61,'LISTE REFERENCE STOCKABLE'!$B$2:$C$98,2,FALSE),"DISPONIBLE") -> INDISPONIBLE | N61: =IFERROR(VLOOKUP('SYSTEME CLASSIFICATION'!$F61,'LISTE REFERENCE STOCKABLE'!$B$11:$D$88,3,FALSE),"") -> 35 X 124 emballages = 4340e | Q61: =IFERROR(VLOOKUP('SYSTEME CLASSIFICATION'!$F61,'LISTE REFERENCE STOCKABLE'!$B$11:$E$88,4,FALSE),"") -> 17500 | R61: =IFERROR(VLOOKUP('SYSTEME CLASSIFICATION'!$F61,'LISTE REFERENCE STOCKABLE'!$B$11:$F$88,5,FALSE),"") -> 0 | U61: =IFERROR(IF(VLOOKUP(F61,'LISTE REFERENCE STOCKABLE'!$B$2:$J$98,8,FALSE)=0,"",VLOOKUP(F61,'LISTE REFERENCE STOCKABLE'!$B$2:$J$98,8,FALSE)),"") | V61: =IFERROR(IF(VLOOKUP(F61,'LISTE REFERENCE STOCKABLE'!$B$2:$J$98,9,FALSE)=0,"",VLOOKUP(F61,'LISTE REFERENCE STOCKABLE'!$B$2:$J$98,9,FALSE)),"") | W61: =IFERROR(VLOOKUP(F61,'LISTE REFERENCE STOCKABLE'!$B$10:$K$98,10,FALSE),"") -> c | X61: =VLOOKUP(E61,Inventaire!$C$2:$E$36,3,FALSE) -> jeudi
B62: 1.89 | C62: =IFERROR(VLOOKUP(F62,'LISTE REFERENCE STOCKABLE'!$B$11:$G$88,6,FALSE),"") -> Davoise | D62: B T2-2 | E62: =IFERROR(IF(F62="","",INDEX('LISTE REFERENCE STOCKABLE'!A:A,MATCH('SYSTEME CLASSIFICATION'!F62,'LISTE REFERENCE STOCKABLE'!B:B,0),1)),"") -> EMP0038 | F62: Boîte PVC fond 240x172x35/34 | L62: =IFERROR(VLOOKUP('SYSTEME CLASSIFICATION'!$F62,'LISTE REFERENCE STOCKABLE'!$B$2:$C$98,2,FALSE),"DISPONIBLE") -> INDISPONIBLE | N62: =IFERROR(VLOOKUP('SYSTEME CLASSIFICATION'!$F62,'LISTE REFERENCE STOCKABLE'!$B$11:$D$88,3,FALSE),"") -> 35 X 124 emballages = 4340e | Q62: =IFERROR(VLOOKUP('SYSTEME CLASSIFICATION'!$F62,'LISTE REFERENCE STOCKABLE'!$B$11:$E$88,4,FALSE),"") -> 17500 | R62: =IFERROR(VLOOKUP('SYSTEME CLASSIFICATION'!$F62,'LISTE REFERENCE STOCKABLE'!$B$11:$F$88,5,FALSE),"") -> 0 | U62: =IFERROR(IF(VLOOKUP(F62,'LISTE REFERENCE STOCKABLE'!$B$2:$J$98,8,FALSE)=0,"",VLOOKUP(F62,'LISTE REFERENCE STOCKABLE'!$B$2:$J$98,8,FALSE)),"") | V62: =IFERROR(IF(VLOOKUP(F62,'LISTE REFERENCE STOCKABLE'!$B$2:$J$98,9,FALSE)=0,"",VLOOKUP(F62,'LISTE REFERENCE STOCKABLE'!$B$2:$J$98,9,FALSE)),"") | W62: =IFERROR(VLOOKUP(F62,'LISTE REFERENCE STOCKABLE'!$B$10:$K$98,10,FALSE),"") -> c | X62: =VLOOKUP(E62,Inventaire!$C$2:$E$36,3,FALSE) -> jeudi
B63: 1.89 | C63: =IFERROR(VLOOKUP(F63,'LISTE REFERENCE STOCKABLE'!$B$11:$G$88,6,FALSE),"") | D63: B T2-2 | E63: =IFERROR(IF(F63="","",INDEX('LISTE REFERENCE STOCKABLE'!A:A,MATCH('SYSTEME CLASSIFICATION'!F63,'LISTE REFERENCE STOCKABLE'!B:B,0),1)),"") | L63: =IFERROR(VLOOKUP('SYSTEME CLASSIFICATION'!$F63,'LISTE REFERENCE STOCKABLE'!$B$2:$C$98,2,FALSE),"DISPONIBLE") -> DISPONIBLE | N63: =IFERROR(VLOOKUP('SYSTEME CLASSIFICATION'!$F63,'LISTE REFERENCE STOCKABLE'!$B$11:$D$88,3,FALSE),"") | Q63: =IFERROR(VLOOKUP('SYSTEME CLASSIFICATION'!$F63,'LISTE REFERENCE STOCKABLE'!$B$11:$E$88,4,FALSE),"") | R63: =IFERROR(VLOOKUP('SYSTEME CLASSIFICATION'!$F63,'LISTE REFERENCE STOCKABLE'!$B$11:$F$88,5,FALSE),"") | U63: =IFERROR(IF(VLOOKUP(F63,'LISTE REFERENCE STOCKABLE'!$B$2:$J$98,8,FALSE)=0,"",VLOOKUP(F63,'LISTE REFERENCE STOCKABLE'!$B$2:$J$98,8,FALSE)),"") | V63: =IFERROR(IF(VLOOKUP(F63,'LISTE REFERENCE STOCKABLE'!$B$2:$J$98,9,FALSE)=0,"",VLOOKUP(F63,'LISTE REFERENCE STOCKABLE'!$B$2:$J$98,9,FALSE)),"") | W63: =IFERROR(VLOOKUP(F63,'LISTE REFERENCE STOCKABLE'!$B$10:$K$98,10,FALSE),"") | X63: =VLOOKUP(E63,Inventaire!$C$2:$E$36,3,FALSE) -> #N/A
C64: =IFERROR(VLOOKUP(F64,'LISTE REFERENCE STOCKABLE'!$B$11:$G$88,6,FALSE),"") -> Davoise | D64: B T2-3 | E64: =IFERROR(IF(F64="","",INDEX('LISTE REFERENCE STOCKABLE'!A:A,MATCH('SYSTEME CLASSIFICATION'!F64,'LISTE REFERENCE STOCKABLE'!B:B,0),1)),"") -> EMP0038 | F64: Boîte PVC fond 240x172x35/34 | L64: =IFERROR(VLOOKUP('SYSTEME CLASSIFICATION'!$F64,'LISTE REFERENCE STOCKABLE'!$B$2:$C$98,2,FALSE),"DISPONIBLE") -> INDISPONIBLE | N64: =IFERROR(VLOOKUP('SYSTEME CLASSIFICATION'!$F64,'LISTE REFERENCE STOCKABLE'!$B$11:$D$88,3,FALSE),"") -> 35 X 124 emballages = 4340e | Q64: =IFERROR(VLOOKUP('SYSTEME CLASSIFICATION'!$F64,'LISTE REFERENCE STOCKABLE'!$B$11:$E$88,4,FALSE),"") -> 17500 | R64: =IFERROR(VLOOKUP('SYSTEME CLASSIFICATION'!$F64,'LISTE REFERENCE STOCKABLE'!$B$11:$F$88,5,FALSE),"") -> 0 | U64: =IFERROR(IF(VLOOKUP(F64,'LISTE REFERENCE STOCKABLE'!$B$2:$J$98,8,FALSE)=0,"",VLOOKUP(F64,'LISTE REFERENCE STOCKABLE'!$B$2:$J$98,8,FALSE)),"") | V64: =IFERROR(IF(VLOOKUP(F64,'LISTE REFERENCE STOCKABLE'!$B$2:$J$98,9,FALSE)=0,"",VLOOKUP(F64,'LISTE REFERENCE STOCKABLE'!$B$2:$J$98,9,FALSE)),"") | W64: =IFERROR(VLOOKUP(F64,'LISTE REFERENCE STOCKABLE'!$B$10:$K$98,10,FALSE),"") -> c | X64: =VLOOKUP(E64,Inventaire!$C$2:$E$36,3,FALSE) -> jeudi
C65: =IFERROR(VLOOKUP(F65,'LISTE REFERENCE STOCKABLE'!$B$11:$G$88,6,FALSE),"") -> Davoise | D65: B T2-3 | E65: =IFERROR(IF(F65="","",INDEX('LISTE REFERENCE STOCKABLE'!A:A,MATCH('SYSTEME CLASSIFICATION'!F65,'LISTE REFERENCE STOCKABLE'!B:B,0),1)),"") -> EMP0038 | F65: Boîte PVC fond 240x172x35/34 | L65: =IFERROR(VLOOKUP('SYSTEME CLASSIFICATION'!$F65,'LISTE REFERENCE STOCKABLE'!$B$2:$C$98,2,FALSE),"DISPONIBLE") -> INDISPONIBLE | N65: =IFERROR(VLOOKUP('SYSTEME CLASSIFICATION'!$F65,'LISTE REFERENCE STOCKABLE'!$B$11:$D$88,3,FALSE),"") -> 35 X 124 emballages = 4340e | Q65: =IFERROR(VLOOKUP('SYSTEME CLASSIFICATION'!$F65,'LISTE REFERENCE STOCKABLE'!$B$11:$E$88,4,FALSE),"") -> 17500 | R65: =IFERROR(VLOOKUP('SYSTEME CLASSIFICATION'!$F65,'LISTE REFERENCE STOCKABLE'!$B$11:$F$88,5,FALSE),"") -> 0 | U65: =IFERROR(IF(VLOOKUP(F65,'LISTE REFERENCE STOCKABLE'!$B$2:$J$98,8,FALSE)=0,"",VLOOKUP(F65,'LISTE REFERENCE STOCKABLE'!$B$2:$J$98,8,FALSE)),"") | V65: =IFERROR(IF(VLOOKUP(F65,'LISTE REFERENCE STOCKABLE'!$B$2:$J$98,9,FALSE)=0,"",VLOOKUP(F65,'LISTE REFERENCE STOCKABLE'!$B$2:$J$98,9,FALSE)),"") | W65: =IFERROR(VLOOKUP(F65,'LISTE REFERENCE STOCKABLE'!$B$10:$K$98,10,FALSE),"") -> c | X65: =VLOOKUP(E65,Inventaire!$C$2:$E$36,3,FALSE) -> jeudi
C66: =IFERROR(VLOOKUP(F66,'LISTE REFERENCE STOCKABLE'!$B$11:$G$88,6,FALSE),"") | D66: B T2-3 | E66: =IFERROR(IF(F66="","",INDEX('LISTE REFERENCE STOCKABLE'!A:A,MATCH('SYSTEME CLASSIFICATION'!F66,'LISTE REFERENCE STOCKABLE'!B:B,0),1)),"") | L66: =IFERROR(VLOOKUP('SYSTEME CLASSIFICATION'!$F66,'LISTE REFERENCE STOCKABLE'!$B$2:$C$98,2,FALSE),"DISPONIBLE") -> DISPONIBLE | N66: =IFERROR(VLOOKUP('SYSTEME CLASSIFICATION'!$F66,'LISTE REFERENCE STOCKABLE'!$B$11:$D$88,3,FALSE),"") | Q66: =IFERROR(VLOOKUP('SYSTEME CLASSIFICATION'!$F66,'LISTE REFERENCE STOCKABLE'!$B$11:$E$88,4,FALSE),"") | R66: =IFERROR(VLOOKUP('SYSTEME CLASSIFICATION'!$F66,'LISTE REFERENCE STOCKABLE'!$B$11:$F$88,5,FALSE),"") | U66: =IFERROR(IF(VLOOKUP(F66,'LISTE REFERENCE STOCKABLE'!$B$2:$J$98,8,FALSE)=0,"",VLOOKUP(F66,'LISTE REFERENCE STOCKABLE'!$B$2:$J$98,8,FALSE)),"") | V66: =IFERROR(IF(VLOOKUP(F66,'LISTE REFERENCE STOCKABLE'!$B$2:$J$98,9,FALSE)=0,"",VLOOKUP(F66,'LISTE REFERENCE STOCKABLE'!$B$2:$J$98,9,FALSE)),"") | W66: =IFERROR(VLOOKUP(F66,'LISTE REFERENCE STOCKABLE'!$B$10:$K$98,10,FALSE),"") | X66: =VLOOKUP(E66,Inventaire!$C$2:$E$36,3,FALSE) -> #N/A
B67: 1.89 | C67: =IFERROR(VLOOKUP(F67,'LISTE REFERENCE STOCKABLE'!$B$11:$G$88,6,FALSE),"") | D67: B T3-1 | E67: =IFERROR(IF(F67="","",INDEX('LISTE REFERENCE STOCKABLE'!A:A,MATCH('SYSTEME CLASSIFICATION'!F67,'LISTE REFERENCE STOCKABLE'!B:B,0),1)),"") -> 0 | F67: Denrée alimentaire | L67: =IFERROR(VLOOKUP('SYSTEME CLASSIFICATION'!$F67,'LISTE REFERENCE STOCKABLE'!$B$2:$C$98,2,FALSE),"DISPONIBLE") -> INDISPONIBLE | N67: =IFERROR(VLOOKUP('SYSTEME CLASSIFICATION'!$F67,'LISTE REFERENCE STOCKABLE'!$B$11:$D$88,3,FALSE),"") | Q67: =IFERROR(VLOOKUP('SYSTEME CLASSIFICATION'!$F67,'LISTE REFERENCE STOCKABLE'!$B$11:$E$88,4,FALSE),"") | R67: =IFERROR(VLOOKUP('SYSTEME CLASSIFICATION'!$F67,'LISTE REFERENCE STOCKABLE'!$B$11:$F$88,5,FALSE),"") | U67: =IFERROR(IF(VLOOKUP(F67,'LISTE REFERENCE STOCKABLE'!$B$2:$J$98,8,FALSE)=0,"",VLOOKUP(F67,'LISTE REFERENCE STOCKABLE'!$B$2:$J$98,8,FALSE)),"") | V67: =IFERROR(IF(VLOOKUP(F67,'LISTE REFERENCE STOCKABLE'!$B$2:$J$98,9,FALSE)=0,"",VLOOKUP(F67,'LISTE REFERENCE STOCKABLE'!$B$2:$J$98,9,FALSE)),"") | W67: =IFERROR(VLOOKUP(F67,'LISTE REFERENCE STOCKABLE'!$B$10:$K$98,10,FALSE),"") | X67: =VLOOKUP(E67,Inventaire!$C$2:$E$36,3,FALSE) -> #N/A
B68: 1.89 | C68: =IFERROR(VLOOKUP(F68,'LISTE REFERENCE STOCKABLE'!$B$11:$G$88,6,FALSE),"") | D68: B T3-1 | E68: =IFERROR(IF(F68="","",INDEX('LISTE REFERENCE STOCKABLE'!A:A,MATCH('SYSTEME CLASSIFICATION'!F68,'LISTE REFERENCE STOCKABLE'!B:B,0),1)),"") -> 0 | F68: Denrée alimentaire | L68: =IFERROR(VLOOKUP('SYSTEME CLASSIFICATION'!$F68,'LISTE REFERENCE STOCKABLE'!$B$2:$C$98,2,FALSE),"DISPONIBLE") -> INDISPONIBLE | N68: =IFERROR(VLOOKUP('SYSTEME CLASSIFICATION'!$F68,'LISTE REFERENCE STOCKABLE'!$B$11:$D$88,3,FALSE),"") | Q68: =IFERROR(VLOOKUP('SYSTEME CLASSIFICATION'!$F68,'LISTE REFERENCE STOCKABLE'!$B$11:$E$88,4,FALSE),"") | R68: =IFERROR(VLOOKUP('SYSTEME CLASSIFICATION'!$F68,'LISTE REFERENCE STOCKABLE'!$B$11:$F$88,5,FALSE),"") | U68: =IFERROR(IF(VLOOKUP(F68,'LISTE REFERENCE STOCKABLE'!$B$2:$J$98,8,FALSE)=0,"",VLOOKUP(F68,'LISTE REFERENCE STOCKABLE'!$B$2:$J$98,8,FALSE)),"") | V68: =IFERROR(IF(VLOOKUP(F68,'LISTE REFERENCE STOCKABLE'!$B$2:$J$98,9,FALSE)=0,"",VLOOKUP(F68,'LISTE REFERENCE STOCKABLE'!$B$2:$J$98,9,FALSE)),"") | W68: =IFERROR(VLOOKUP(F68,'LISTE REFERENCE STOCKABLE'!$B$10:$K$98,10,FALSE),"") | X68: =VLOOKUP(E68,Inventaire!$C$2:$E$36,3,FALSE) -> #N/A
B69: 1.89 | C69: =IFERROR(VLOOKUP(F69,'LISTE REFERENCE STOCKABLE'!$B$11:$G$88,6,FALSE),"") | D69: B T3-1 | E69: =IFERROR(IF(F69="","",INDEX('LISTE REFERENCE STOCKABLE'!A:A,MATCH('SYSTEME CLASSIFICATION'!F69,'LISTE REFERENCE STOCKABLE'!B:B,0),1)),"") -> 0 | F69: Denrée alimentaire | L69: =IFERROR(VLOOKUP('SYSTEME CLASSIFICATION'!$F69,'LISTE REFERENCE STOCKABLE'!$B$2:$C$98,2,FALSE),"DISPONIBLE") -> INDISPONIBLE | N69: =IFERROR(VLOOKUP('SYSTEME CLASSIFICATION'!$F69,'LISTE REFERENCE STOCKABLE'!$B$11:$D$88,3,FALSE),"") | Q69: =IFERROR(VLOOKUP('SYSTEME CLASSIFICATION'!$F69,'LISTE REFERENCE STOCKABLE'!$B$11:$E$88,4,FALSE),"") | R69: =IFERROR(VLOOKUP('SYSTEME CLASSIFICATION'!$F69,'LISTE REFERENCE STOCKABLE'!$B$11:$F$88,5,FALSE),"") | U69: =IFERROR(IF(VLOOKUP(F69,'LISTE REFERENCE STOCKABLE'!$B$2:$J$98,8,FALSE)=0,"",VLOOKUP(F69,'LISTE REFERENCE STOCKABLE'!$B$2:$J$98,8,FALSE)),"") | V69: =IFERROR(IF(VLOOKUP(F69,'LISTE REFERENCE STOCKABLE'!$B$2:$J$98,9,FALSE)=0,"",VLOOKUP(F69,'LISTE REFERENCE STOCKABLE'!$B$2:$J$98,9,FALSE)),"") | W69: =IFERROR(VLOOKUP(F69,'LISTE REFERENCE STOCKABLE'!$B$10:$K$98,10,FALSE),"") | X69: =VLOOKUP(E69,Inventaire!$C$2:$E$36,3,FALSE) -> #N/A
B70: 1.89 | C70: =IFERROR(VLOOKUP(F70,'LISTE REFERENCE STOCKABLE'!$B$11:$G$88,6,FALSE),"") | D70: B T3-2 | E70: =IFERROR(IF(F70="","",INDEX('LISTE REFERENCE STOCKABLE'!A:A,MATCH('SYSTEME CLASSIFICATION'!F70,'LISTE REFERENCE STOCKABLE'!B:B,0),1)),"") | L70: =IFERROR(VLOOKUP('SYSTEME CLASSIFICATION'!$F70,'LISTE REFERENCE STOCKABLE'!$B$2:$C$98,2,FALSE),"DISPONIBLE") -> DISPONIBLE | N70: =IFERROR(VLOOKUP('SYSTEME CLASSIFICATION'!$F70,'LISTE REFERENCE STOCKABLE'!$B$11:$D$88,3,FALSE),"") | Q70: =IFERROR(VLOOKUP('SYSTEME CLASSIFICATION'!$F70,'LISTE REFERENCE STOCKABLE'!$B$11:$E$88,4,FALSE),"") | R70: =IFERROR(VLOOKUP('SYSTEME CLASSIFICATION'!$F70,'LISTE REFERENCE STOCKABLE'!$B$11:$F$88,5,FALSE),"") | U70: =IFERROR(IF(VLOOKUP(F70,'LISTE REFERENCE STOCKABLE'!$B$2:$J$98,8,FALSE)=0,"",VLOOKUP(F70,'LISTE REFERENCE STOCKABLE'!$B$2:$J$98,8,FALSE)),"") | V70: =IFERROR(IF(VLOOKUP(F70,'LISTE REFERENCE STOCKABLE'!$B$2:$J$98,9,FALSE)=0,"",VLOOKUP(F70,'LISTE REFERENCE STOCKABLE'!$B$2:$J$98,9,FALSE)),"") | W70: =IFERROR(VLOOKUP(F70,'LISTE REFERENCE STOCKABLE'!$B$10:$K$98,10,FALSE),"") | X70: =VLOOKUP(E70,Inventaire!$C$2:$E$36,3,FALSE) -> #N/A
B71: 1.89 | C71: =IFERROR(VLOOKUP(F71,'LISTE REFERENCE STOCKABLE'!$B$11:$G$88,6,FALSE),"") | D71: B T3-2 | E71: =IFERROR(IF(F71="","",INDEX('LISTE REFERENCE STOCKABLE'!A:A,MATCH('SYSTEME CLASSIFICATION'!F71,'LISTE REFERENCE STOCKABLE'!B:B,0),1)),"") -> 0 | F71: Denrée alimentaire | L71: =IFERROR(VLOOKUP('SYSTEME CLASSIFICATION'!$F71,'LISTE REFERENCE STOCKABLE'!$B$2:$C$98,2,FALSE),"DISPONIBLE") -> INDISPONIBLE | N71: =IFERROR(VLOOKUP('SYSTEME CLASSIFICATION'!$F71,'LISTE REFERENCE STOCKABLE'!$B$11:$D$88,3,FALSE),"") | Q71: =IFERROR(VLOOKUP('SYSTEME CLASSIFICATION'!$F71,'LISTE REFERENCE STOCKABLE'!$B$11:$E$88,4,FALSE),"") | R71: =IFERROR(VLOOKUP('SYSTEME CLASSIFICATION'!$F71,'LISTE REFERENCE STOCKABLE'!$B$11:$F$88,5,FALSE),"") | U71: =IFERROR(IF(VLOOKUP(F71,'LISTE REFERENCE STOCKABLE'!$B$2:$J$98,8,FALSE)=0,"",VLOOKUP(F71,'LISTE REFERENCE STOCKABLE'!$B$2:$J$98,8,FALSE)),"") | V71: =IFERROR(IF(VLOOKUP(F71,'LISTE REFERENCE STOCKABLE'!$B$2:$J$98,9,FALSE)=0,"",VLOOKUP(F71,'LISTE REFERENCE STOCKABLE'!$B$2:$J$98,9,FALSE)),"") | W71: =IFERROR(VLOOKUP(F71,'LISTE REFERENCE STOCKABLE'!$B$10:$K$98,10,FALSE),"") | X71: =VLOOKUP(E71,Inventaire!$C$2:$E$36,3,FALSE) -> #N/A
B72: 1.89 | C72: =IFERROR(VLOOKUP(F72,'LISTE REFERENCE STOCKABLE'!$B$11:$G$88,6,FALSE),"") | D72: B T3-2 | E72: =IFERROR(IF(F72="","",INDEX('LISTE REFERENCE STOCKABLE'!A:A,MATCH('SYSTEME CLASSIFICATION'!F72,'LISTE REFERENCE STOCKABLE'!B:B,0),1)),"") -> 0 | F72: Denrée alimentaire | L72: =IFERROR(VLOOKUP('SYSTEME CLASSIFICATION'!$F72,'LISTE REFERENCE STOCKABLE'!$B$2:$C$98,2,FALSE),"DISPONIBLE") -> INDISPONIBLE | N72: =IFERROR(VLOOKUP('SYSTEME CLASSIFICATION'!$F72,'LISTE REFERENCE STOCKABLE'!$B$11:$D$88,3,FALSE),"") | Q72: =IFERROR(VLOOKUP('SYSTEME CLASSIFICATION'!$F72,'LISTE REFERENCE STOCKABLE'!$B$11:$E$88,4,FALSE),"") | R72: =IFERROR(VLOOKUP('SYSTEME CLASSIFICATION'!$F72,'LISTE REFERENCE STOCKABLE'!$B$11:$F$88,5,FALSE),"") | U72: =IFERROR(IF(VLOOKUP(F72,'LISTE REFERENCE STOCKABLE'!$B$2:$J$98,8,FALSE)=0,"",VLOOKUP(F72,'LISTE REFERENCE STOCKABLE'!$B$2:$J$98,8,FALSE)),"") | V72: =IFERROR(IF(VLOOKUP(F72,'LISTE REFERENCE STOCKABLE'!$B$2:$J$98,9,FALSE)=0,"",VLOOKUP(F72,'LISTE REFERENCE STOCKABLE'!$B$2:$J$98,9,FALSE)),"") | W72: =IFERROR(VLOOKUP(F72,'LISTE REFERENCE STOCKABLE'!$B$10:$K$98,10,FALSE),"") | X72: =VLOOKUP(E72,Inventaire!$C$2:$E$36,3,FALSE) -> #N/A
C73: =IFERROR(VLOOKUP(F73,'LISTE REFERENCE STOCKABLE'!$B$11:$G$88,6,FALSE),"") | D73: B T3-3 | E73: =IFERROR(IF(F73="","",INDEX('LISTE REFERENCE STOCKABLE'!A:A,MATCH('SYSTEME CLASSIFICATION'!F73,'LISTE REFERENCE STOCKABLE'!B:B,0),1)),"") -> 0 | F73: Denrée alimentaire | L73: =IFERROR(VLOOKUP('SYSTEME CLASSIFICATION'!$F73,'LISTE REFERENCE STOCKABLE'!$B$2:$C$98,2,FALSE),"DISPONIBLE") -> INDISPONIBLE | N73: =IFERROR(VLOOKUP('SYSTEME CLASSIFICATION'!$F73,'LISTE REFERENCE STOCKABLE'!$B$11:$D$88,3,FALSE),"") | Q73: =IFERROR(VLOOKUP('SYSTEME CLASSIFICATION'!$F73,'LISTE REFERENCE STOCKABLE'!$B$11:$E$88,4,FALSE),"") | R73: =IFERROR(VLOOKUP('SYSTEME CLASSIFICATION'!$F73,'LISTE REFERENCE STOCKABLE'!$B$11:$F$88,5,FALSE),"") | U73: =IFERROR(IF(VLOOKUP(F73,'LISTE REFERENCE STOCKABLE'!$B$2:$J$98,8,FALSE)=0,"",VLOOKUP(F73,'LISTE REFERENCE STOCKABLE'!$B$2:$J$98,8,FALSE)),"") | V73: =IFERROR(IF(VLOOKUP(F73,'LISTE REFERENCE STOCKABLE'!$B$2:$J$98,9,FALSE)=0,"",VLOOKUP(F73,'LISTE REFERENCE STOCKABLE'!$B$2:$J$98,9,FALSE)),"") | W73: =IFERROR(VLOOKUP(F73,'LISTE REFERENCE STOCKABLE'!$B$10:$K$98,10,FALSE),"") | X73: =VLOOKUP(E73,Inventaire!$C$2:$E$36,3,FALSE) -> #N/A
C74: =IFERROR(VLOOKUP(F74,'LISTE REFERENCE STOCKABLE'!$B$11:$G$88,6,FALSE),"") | D74: B T3-3 | E74: =IFERROR(IF(F74="","",INDEX('LISTE REFERENCE STOCKABLE'!A:A,MATCH('SYSTEME CLASSIFICATION'!F74,'LISTE REFERENCE STOCKABLE'!B:B,0),1)),"") | L74: =IFERROR(VLOOKUP('SYSTEME CLASSIFICATION'!$F74,'LISTE REFERENCE STOCKABLE'!$B$2:$C$98,2,FALSE),"DISPONIBLE") -> DISPONIBLE | N74: =IFERROR(VLOOKUP('SYSTEME CLASSIFICATION'!$F74,'LISTE REFERENCE STOCKABLE'!$B$11:$D$88,3,FALSE),"") | Q74: =IFERROR(VLOOKUP('SYSTEME CLASSIFICATION'!$F74,'LISTE REFERENCE STOCKABLE'!$B$11:$E$88,4,FALSE),"") | R74: =IFERROR(VLOOKUP('SYSTEME CLASSIFICATION'!$F74,'LISTE REFERENCE STOCKABLE'!$B$11:$F$88,5,FALSE),"") | U74: =IFERROR(IF(VLOOKUP(F74,'LISTE REFERENCE STOCKABLE'!$B$2:$J$98,8,FALSE)=0,"",VLOOKUP(F74,'LISTE REFERENCE STOCKABLE'!$B$2:$J$98,8,FALSE)),"") | V74: =IFERROR(IF(VLOOKUP(F74,'LISTE REFERENCE STOCKABLE'!$B$2:$J$98,9,FALSE)=0,"",VLOOKUP(F74,'LISTE REFERENCE STOCKABLE'!$B$2:$J$98,9,FALSE)),"") | W74: =IFERROR(VLOOKUP(F74,'LISTE REFERENCE STOCKABLE'!$B$10:$K$98,10,FALSE),"") | X74: =VLOOKUP(E74,Inventaire!$C$2:$E$36,3,FALSE) -> #N/A
C75: =IFERROR(VLOOKUP(F75,'LISTE REFERENCE STOCKABLE'!$B$11:$G$88,6,FALSE),"") | D75: B T3-3 | E75: =IFERROR(IF(F75="","",INDEX('LISTE REFERENCE STOCKABLE'!A:A,MATCH('SYSTEME CLASSIFICATION'!F75,'LISTE REFERENCE STOCKABLE'!B:B,0),1)),"") | L75: =IFERROR(VLOOKUP('SYSTEME CLASSIFICATION'!$F75,'LISTE REFERENCE STOCKABLE'!$B$2:$C$98,2,FALSE),"DISPONIBLE") -> DISPONIBLE | N75: =IFERROR(VLOOKUP('SYSTEME CLASSIFICATION'!$F75,'LISTE REFERENCE STOCKABLE'!$B$11:$D$88,3,FALSE),"") | Q75: =IFERROR(VLOOKUP('SYSTEME CLASSIFICATION'!$F75,'LISTE REFERENCE STOCKABLE'!$B$11:$E$88,4,FALSE),"") | R75: =IFERROR(VLOOKUP('SYSTEME CLASSIFICATION'!$F75,'LISTE REFERENCE STOCKABLE'!$B$11:$F$88,5,FALSE),"") | U75: =IFERROR(IF(VLOOKUP(F75,'LISTE REFERENCE STOCKABLE'!$B$2:$J$98,8,FALSE)=0,"",VLOOKUP(F75,'LISTE REFERENCE STOCKABLE'!$B$2:$J$98,8,FALSE)),"") | V75: =IFERROR(IF(VLOOKUP(F75,'LISTE REFERENCE STOCKABLE'!$B$2:$J$98,9,FALSE)=0,"",VLOOKUP(F75,'LISTE REFERENCE STOCKABLE'!$B$2:$J$98,9,FALSE)),"") | W75: =IFERROR(VLOOKUP(F75,'LISTE REFERENCE STOCKABLE'!$B$10:$K$98,10,FALSE),"") | X75: =VLOOKUP(E75,Inventaire!$C$2:$E$36,3,FALSE) -> #N/A
B76: 2.08 | C76: =IFERROR(VLOOKUP(F76,'LISTE REFERENCE STOCKABLE'!$B$11:$G$88,6,FALSE),"") | D76: B T4-1 | E76: =IFERROR(IF(F76="","",INDEX('LISTE REFERENCE STOCKABLE'!A:A,MATCH('SYSTEME CLASSIFICATION'!F76,'LISTE REFERENCE STOCKABLE'!B:B,0),1)),"") | F76: DÉSIGNATION NON REFERENCÉ DANS LA LISTE | L76: =IFERROR(VLOOKUP('SYSTEME CLASSIFICATION'!$F76,'LISTE REFERENCE STOCKABLE'!$B$2:$C$98,2,FALSE),"DISPONIBLE") -> INDISPONIBLE (Veuillez noter la désignation du produit dans "COMMENTAIRE MAGASINIER") | M76: AMORTISSEUR TUILE NOIR | N76: =IFERROR(VLOOKUP('SYSTEME CLASSIFICATION'!$F76,'LISTE REFERENCE STOCKABLE'!$B$11:$D$88,3,FALSE),"") | Q76: =IFERROR(VLOOKUP('SYSTEME CLASSIFICATION'!$F76,'LISTE REFERENCE STOCKABLE'!$B$11:$E$88,4,FALSE),"") | R76: =IFERROR(VLOOKUP('SYSTEME CLASSIFICATION'!$F76,'LISTE REFERENCE STOCKABLE'!$B$11:$F$88,5,FALSE),"") | U76: =IFERROR(IF(VLOOKUP(F76,'LISTE REFERENCE STOCKABLE'!$B$2:$J$98,8,FALSE)=0,"",VLOOKUP(F76,'LISTE REFERENCE STOCKABLE'!$B$2:$J$98,8,FALSE)),"") | V76: =IFERROR(IF(VLOOKUP(F76,'LISTE REFERENCE STOCKABLE'!$B$2:$J$98,9,FALSE)=0,"",VLOOKUP(F76,'LISTE REFERENCE STOCKABLE'!$B$2:$J$98,9,FALSE)),"") | W76: =IFERROR(VLOOKUP(F76,'LISTE REFERENCE STOCKABLE'!$B$10:$K$98,10,FALSE),"") | X76: =VLOOKUP(E76,Inventaire!$C$2:$E$36,3,FALSE) -> #N/A
B77: 2.08 | C77: =IFERROR(VLOOKUP(F77,'LISTE REFERENCE STOCKABLE'!$B$11:$G$88,6,FALSE),"") | D77: B T4-1 | E77: =IFERROR(IF(F77="","",INDEX('LISTE REFERENCE STOCKABLE'!A:A,MATCH('SYSTEME CLASSIFICATION'!F77,'LISTE REFERENCE STOCKABLE'!B:B,0),1)),"") | F77: EMPLACEMENT INEXISTANT | L77: =IFERROR(VLOOKUP('SYSTEME CLASSIFICATION'!$F77,'LISTE REFERENCE STOCKABLE'!$B$2:$C$98,2,FALSE),"DISPONIBLE") -> INEXISTANT | N77: =IFERROR(VLOOKUP('SYSTEME CLASSIFICATION'!$F77,'LISTE REFERENCE STOCKABLE'!$B$11:$D$88,3,FALSE),"") | Q77: =IFERROR(VLOOKUP('SYSTEME CLASSIFICATION'!$F77,'LISTE REFERENCE STOCKABLE'!$B$11:$E$88,4,FALSE),"") | R77: =IFERROR(VLOOKUP('SYSTEME CLASSIFICATION'!$F77,'LISTE REFERENCE STOCKABLE'!$B$11:$F$88,5,FALSE),"") | U77: =IFERROR(IF(VLOOKUP(F77,'LISTE REFERENCE STOCKABLE'!$B$2:$J$98,8,FALSE)=0,"",VLOOKUP(F77,'LISTE REFERENCE STOCKABLE'!$B$2:$J$98,8,FALSE)),"") | V77: =IFERROR(IF(VLOOKUP(F77,'LISTE REFERENCE STOCKABLE'!$B$2:$J$98,9,FALSE)=0,"",VLOOKUP(F77,'LISTE REFERENCE STOCKABLE'!$B$2:$J$98,9,FALSE)),"") | W77: =IFERROR(VLOOKUP(F77,'LISTE REFERENCE STOCKABLE'!$B$10:$K$98,10,FALSE),"") | X77: =VLOOKUP(E77,Inventaire!$C$2:$E$36,3,FALSE) -> #N/A
B78: 2.08 | C78: =IFERROR(VLOOKUP(F78,'LISTE REFERENCE STOCKABLE'!$B$11:$G$88,6,FALSE),"") | D78: B T4-1 | E78: =IFERROR(IF(F78="","",INDEX('LISTE REFERENCE STOCKABLE'!A:A,MATCH('SYSTEME CLASSIFICATION'!F78,'LISTE REFERENCE STOCKABLE'!B:B,0),1)),"") | F78: DÉSIGNATION NON REFERENCÉ DANS LA LISTE | L78: =IFERROR(VLOOKUP('SYSTEME CLASSIFICATION'!$F78,'LISTE REFERENCE STOCKABLE'!$B$2:$C$98,2,FALSE),"DISPONIBLE") -> INDISPONIBLE (Veuillez noter la désignation du produit dans "COMMENTAIRE MAGASINIER") | M78: CALAGE MINI FINANCIER NOIR | N78: =IFERROR(VLOOKUP('SYSTEME CLASSIFICATION'!$F78,'LISTE REFERENCE STOCKABLE'!$B$11:$D$88,3,FALSE),"") | Q78: =IFERROR(VLOOKUP('SYSTEME CLASSIFICATION'!$F78,'LISTE REFERENCE STOCKABLE'!$B$11:$E$88,4,FALSE),"") | R78: =IFERROR(VLOOKUP('SYSTEME CLASSIFICATION'!$F78,'LISTE REFERENCE STOCKABLE'!$B$11:$F$88,5,FALSE),"") | U78: =IFERROR(IF(VLOOKUP(F78,'LISTE REFERENCE STOCKABLE'!$B$2:$J$98,8,FALSE)=0,"",VLOOKUP(F78,'LISTE REFERENCE STOCKABLE'!$B$2:$J$98,8,FALSE)),"") | V78: =IFERROR(IF(VLOOKUP(F78,'LISTE REFERENCE STOCKABLE'!$B$2:$J$98,9,FALSE)=0,"",VLOOKUP(F78,'LISTE REFERENCE STOCKABLE'!$B$2:$J$98,9,FALSE)),"") | W78: =IFERROR(VLOOKUP(F78,'LISTE REFERENCE STOCKABLE'!$B$10:$K$98,10,FALSE),"") | X78: =VLOOKUP(E78,Inventaire!$C$2:$E$36,3,FALSE) -> #N/A
B79: 2.31 | C79: =IFERROR(VLOOKUP(F79,'LISTE REFERENCE STOCKABLE'!$B$11:$G$88,6,FALSE),"") -> Davoise | D79: B T4-2 | E79: =IFERROR(IF(F79="","",INDEX('LISTE REFERENCE STOCKABLE'!A:A,MATCH('SYSTEME CLASSIFICATION'!F79,'LISTE REFERENCE STOCKABLE'!B:B,0),1)),"") -> EMP0038 | F79: Boîte PVC fond 240x172x35/34 | L79: =IFERROR(VLOOKUP('SYSTEME CLASSIFICATION'!$F79,'LISTE REFERENCE STOCKABLE'!$B$2:$C$98,2,FALSE),"DISPONIBLE") -> INDISPONIBLE | N79: =IFERROR(VLOOKUP('SYSTEME CLASSIFICATION'!$F79,'LISTE REFERENCE STOCKABLE'!$B$11:$D$88,3,FALSE),"") -> 35 X 124 emballages = 4340e | Q79: =IFERROR(VLOOKUP('SYSTEME CLASSIFICATION'!$F79,'LISTE REFERENCE STOCKABLE'!$B$11:$E$88,4,FALSE),"") -> 17500 | R79: =IFERROR(VLOOKUP('SYSTEME CLASSIFICATION'!$F79,'LISTE REFERENCE STOCKABLE'!$B$11:$F$88,5,FALSE),"") -> 0 | U79: =IFERROR(IF(VLOOKUP(F79,'LISTE REFERENCE STOCKABLE'!$B$2:$J$98,8,FALSE)=0,"",VLOOKUP(F79,'LISTE REFERENCE STOCKABLE'!$B$2:$J$98,8,FALSE)),"") | V79: =IFERROR(IF(VLOOKUP(F79,'LISTE REFERENCE STOCKABLE'!$B$2:$J$98,9,FALSE)=0,"",VLOOKUP(F79,'LISTE REFERENCE STOCKABLE'!$B$2:$J$98,9,FALSE)),"") | W79: =IFERROR(VLOOKUP(F79,'LISTE REFERENCE STOCKABLE'!$B$10:$K$98,10,FALSE),"") -> c | X79: =VLOOKUP(E79,Inventaire!$C$2:$E$36,3,FALSE) -> jeudi
B80: 2.31 | C80: =IFERROR(VLOOKUP(F80,'LISTE REFERENCE STOCKABLE'!$B$11:$G$88,6,FALSE),"") -> Davoise | D80: B T4-2 | E80: =IFERROR(IF(F80="","",INDEX('LISTE REFERENCE STOCKABLE'!A:A,MATCH('SYSTEME CLASSIFICATION'!F80,'LISTE REFERENCE STOCKABLE'!B:B,0),1)),"") -> EMP0038 | F80: Boîte PVC couv. 240x172x35/34 | L80: =IFERROR(VLOOKUP('SYSTEME CLASSIFICATION'!$F80,'LISTE REFERENCE STOCKABLE'!$B$2:$C$98,2,FALSE),"DISPONIBLE") -> INDISPONIBLE | N80: =IFERROR(VLOOKUP('SYSTEME CLASSIFICATION'!$F80,'LISTE REFERENCE STOCKABLE'!$B$11:$D$88,3,FALSE),"") -> 35 X 124 emballages = 4340e | Q80: =IFERROR(VLOOKUP('SYSTEME CLASSIFICATION'!$F80,'LISTE REFERENCE STOCKABLE'!$B$11:$E$88,4,FALSE),"") -> 17500 | R80: =IFERROR(VLOOKUP('SYSTEME CLASSIFICATION'!$F80,'LISTE REFERENCE STOCKABLE'!$B$11:$F$88,5,FALSE),"") -> 0 | U80: =IFERROR(IF(VLOOKUP(F80,'LISTE REFERENCE STOCKABLE'!$B$2:$J$98,8,FALSE)=0,"",VLOOKUP(F80,'LISTE REFERENCE STOCKABLE'!$B$2:$J$98,8,FALSE)),"") -> 1.8 | V80: =IFERROR(IF(VLOOKUP(F80,'LISTE REFERENCE STOCKABLE'!$B$2:$J$98,9,FALSE)=0,"",VLOOKUP(F80,'LISTE REFERENCE STOCKABLE'!$B$2:$J$98,9,FALSE)),"") -> 800*1200 | W80: =IFERROR(VLOOKUP(F80,'LISTE REFERENCE STOCKABLE'!$B$10:$K$98,10,FALSE),"") -> c | X80: =VLOOKUP(E80,Inventaire!$C$2:$E$36,3,FALSE) -> jeudi
B81: 2.31 | C81: =IFERROR(VLOOKUP(F81,'LISTE REFERENCE STOCKABLE'!$B$11:$G$88,6,FALSE),"") | D81: B T4-2 | E81: =IFERROR(IF(F81="","",INDEX('LISTE REFERENCE STOCKABLE'!A:A,MATCH('SYSTEME CLASSIFICATION'!F81,'LISTE REFERENCE STOCKABLE'!B:B,0),1)),"") | L81: =IFERROR(VLOOKUP('SYSTEME CLASSIFICATION'!$F81,'LISTE REFERENCE STOCKABLE'!$B$2:$C$98,2,FALSE),"DISPONIBLE") -> DISPONIBLE | N81: =IFERROR(VLOOKUP('SYSTEME CLASSIFICATION'!$F81,'LISTE REFERENCE STOCKABLE'!$B$11:$D$88,3,FALSE),"") | Q81: =IFERROR(VLOOKUP('SYSTEME CLASSIFICATION'!$F81,'LISTE REFERENCE STOCKABLE'!$B$11:$E$88,4,FALSE),"") | R81: =IFERROR(VLOOKUP('SYSTEME CLASSIFICATION'!$F81,'LISTE REFERENCE STOCKABLE'!$B$11:$F$88,5,FALSE),"") | U81: =IFERROR(IF(VLOOKUP(F81,'LISTE REFERENCE STOCKABLE'!$B$2:$J$98,8,FALSE)=0,"",VLOOKUP(F81,'LISTE REFERENCE STOCKABLE'!$B$2:$J$98,8,FALSE)),"") | V81: =IFERROR(IF(VLOOKUP(F81,'LISTE REFERENCE STOCKABLE'!$B$2:$J$98,9,FALSE)=0,"",VLOOKUP(F81,'LISTE REFERENCE STOCKABLE'!$B$2:$J$98,9,FALSE)),"") | W81: =IFERROR(VLOOKUP(F81,'LISTE REFERENCE STOCKABLE'!$B$10:$K$98,10,FALSE),"") | X81: =VLOOKUP(E81,Inventaire!$C$2:$E$36,3,FALSE) -> #N/A
C82: =IFERROR(VLOOKUP(F82,'LISTE REFERENCE STOCKABLE'!$B$11:$G$88,6,FALSE),"") | D82: B T4-3 | E82: =IFERROR(IF(F82="","",INDEX('LISTE REFERENCE STOCKABLE'!A:A,MATCH('SYSTEME CLASSIFICATION'!F82,'LISTE REFERENCE STOCKABLE'!B:B,0),1)),"") | F82: DÉSIGNATION NON REFERENCÉ DANS LA LISTE | L82: =IFERROR(VLOOKUP('SYSTEME CLASSIFICATION'!$F82,'LISTE REFERENCE STOCKABLE'!$B$2:$C$98,2,FALSE),"DISPONIBLE") -> INDISPONIBLE (Veuillez noter la désignation du produit dans "COMMENTAIRE MAGASINIER") | N82: =IFERROR(VLOOKUP('SYSTEME CLASSIFICATION'!$F82,'LISTE REFERENCE STOCKABLE'!$B$11:$D$88,3,FALSE),"") | Q82: =IFERROR(VLOOKUP('SYSTEME CLASSIFICATION'!$F82,'LISTE REFERENCE STOCKABLE'!$B$11:$E$88,4,FALSE),"") | R82: =IFERROR(VLOOKUP('SYSTEME CLASSIFICATION'!$F82,'LISTE REFERENCE STOCKABLE'!$B$11:$F$88,5,FALSE),"") | U82: =IFERROR(IF(VLOOKUP(F82,'LISTE REFERENCE STOCKABLE'!$B$2:$J$98,8,FALSE)=0,"",VLOOKUP(F82,'LISTE REFERENCE STOCKABLE'!$B$2:$J$98,8,FALSE)),"") | V82: =IFERROR(IF(VLOOKUP(F82,'LISTE REFERENCE STOCKABLE'!$B$2:$J$98,9,FALSE)=0,"",VLOOKUP(F82,'LISTE REFERENCE STOCKABLE'!$B$2:$J$98,9,FALSE)),"") | W82: =IFERROR(VLOOKUP(F82,'LISTE REFERENCE STOCKABLE'!$B$10:$K$98,10,FALSE),"") | X82: =VLOOKUP(E82,Inventaire!$C$2:$E$36,3,FALSE) -> #N/A
C83: =IFERROR(VLOOKUP(F83,'LISTE REFERENCE STOCKABLE'!$B$11:$G$88,6,FALSE),"") | D83: B T4-3 | E83: =IFERROR(IF(F83="","",INDEX('LISTE REFERENCE STOCKABLE'!A:A,MATCH('SYSTEME CLASSIFICATION'!F83,'LISTE REFERENCE STOCKABLE'!B:B,0),1)),"") | F83: DÉSIGNATION NON REFERENCÉ DANS LA LISTE | L83: =IFERROR(VLOOKUP('SYSTEME CLASSIFICATION'!$F83,'LISTE REFERENCE STOCKABLE'!$B$2:$C$98,2,FALSE),"DISPONIBLE") -> INDISPONIBLE (Veuillez noter la désignation du produit dans "COMMENTAIRE MAGASINIER") | N83: =IFERROR(VLOOKUP('SYSTEME CLASSIFICATION'!$F83,'LISTE REFERENCE STOCKABLE'!$B$11:$D$88,3,FALSE),"") | Q83: =IFERROR(VLOOKUP('SYSTEME CLASSIFICATION'!$F83,'LISTE REFERENCE STOCKABLE'!$B$11:$E$88,4,FALSE),"") | R83: =IFERROR(VLOOKUP('SYSTEME CLASSIFICATION'!$F83,'LISTE REFERENCE STOCKABLE'!$B$11:$F$88,5,FALSE),"") | U83: =IFERROR(IF(VLOOKUP(F83,'LISTE REFERENCE STOCKABLE'!$B$2:$J$98,8,FALSE)=0,"",VLOOKUP(F83,'LISTE REFERENCE STOCKABLE'!$B$2:$J$98,8,FALSE)),"") | V83: =IFERROR(IF(VLOOKUP(F83,'LISTE REFERENCE STOCKABLE'!$B$2:$J$98,9,FALSE)=0,"",VLOOKUP(F83,'LISTE REFERENCE STOCKABLE'!$B$2:$J$98,9,FALSE)),"") | W83: =IFERROR(VLOOKUP(F83,'LISTE REFERENCE STOCKABLE'!$B$10:$K$98,10,FALSE),"") | X83: =VLOOKUP(E83,Inventaire!$C$2:$E$36,3,FALSE) -> #N/A
C84: =IFERROR(VLOOKUP(F84,'LISTE REFERENCE STOCKABLE'!$B$11:$G$88,6,FALSE),"") | D84: B T4-3 | E84: =IFERROR(IF(F84="","",INDEX('LISTE REFERENCE STOCKABLE'!A:A,MATCH('SYSTEME CLASSIFICATION'!F84,'LISTE REFERENCE STOCKABLE'!B:B,0),1)),"") | F84: DÉSIGNATION NON REFERENCÉ DANS LA LISTE | L84: =IFERROR(VLOOKUP('SYSTEME CLASSIFICATION'!$F84,'LISTE REFERENCE STOCKABLE'!$B$2:$C$98,2,FALSE),"DISPONIBLE") -> INDISPONIBLE (Veuillez noter la désignation du produit dans "COMMENTAIRE MAGASINIER") | N84: =IFERROR(VLOOKUP('SYSTEME CLASSIFICATION'!$F84,'LISTE REFERENCE STOCKABLE'!$B$11:$D$88,3,FALSE),"") | Q84: =IFERROR(VLOOKUP('SYSTEME CLASSIFICATION'!$F84,'LISTE REFERENCE STOCKABLE'!$B$11:$E$88,4,FALSE),"") | R84: =IFERROR(VLOOKUP('SYSTEME CLASSIFICATION'!$F84,'LISTE REFERENCE STOCKABLE'!$B$11:$F$88,5,FALSE),"") | U84: =IFERROR(IF(VLOOKUP(F84,'LISTE REFERENCE STOCKABLE'!$B$2:$J$98,8,FALSE)=0,"",VLOOKUP(F84,'LISTE REFERENCE STOCKABLE'!$B$2:$J$98,8,FALSE)),"") | V84: =IFERROR(IF(VLOOKUP(F84,'LISTE REFERENCE STOCKABLE'!$B$2:$J$98,9,FALSE)=0,"",VLOOKUP(F84,'LISTE REFERENCE STOCKABLE'!$B$2:$J$98,9,FALSE)),"") | W84: =IFERROR(VLOOKUP(F84,'LISTE REFERENCE STOCKABLE'!$B$10:$K$98,10,FALSE),"") | X84: =VLOOKUP(E84,Inventaire!$C$2:$E$36,3,FALSE) -> #N/A
B85: 2.08 | C85: =IFERROR(VLOOKUP(F85,'LISTE REFERENCE STOCKABLE'!$B$11:$G$88,6,FALSE),"") -> DS Smith Packaging | D85: B T5-1 | E85: =IFERROR(IF(F85="","",INDEX('LISTE REFERENCE STOCKABLE'!A:A,MATCH('SYSTEME CLASSIFICATION'!F85,'LISTE REFERENCE STOCKABLE'!B:B,0),1)),"") -> EMS0024 | F85: Carton bleu | H85: Carton vert | L85: =IFERROR(VLOOKUP('SYSTEME CLASSIFICATION'!$F85,'LISTE REFERENCE STOCKABLE'!$B$2:$C$98,2,FALSE),"DISPONIBLE") -> INDISPONIBLE | N85: =IFERROR(VLOOKUP('SYSTEME CLASSIFICATION'!$F85,'LISTE REFERENCE STOCKABLE'!$B$11:$D$88,3,FALSE),"") -> 1 palettex1200c.=1200 c | Q85: =IFERROR(VLOOKUP('SYSTEME CLASSIFICATION'!$F85,'LISTE REFERENCE STOCKABLE'!$B$11:$E$88,4,FALSE),"") -> 8000 | R85: =IFERROR(VLOOKUP('SYSTEME CLASSIFICATION'!$F85,'LISTE REFERENCE STOCKABLE'!$B$11:$F$88,5,FALSE),"") -> 0 | U85: =IFERROR(IF(VLOOKUP(F85,'LISTE REFERENCE STOCKABLE'!$B$2:$J$98,8,FALSE)=0,"",VLOOKUP(F85,'LISTE REFERENCE STOCKABLE'!$B$2:$J$98,8,FALSE)),"") | V85: =IFERROR(IF(VLOOKUP(F85,'LISTE REFERENCE STOCKABLE'!$B$2:$J$98,9,FALSE)=0,"",VLOOKUP(F85,'LISTE REFERENCE STOCKABLE'!$B$2:$J$98,9,FALSE)),"") | W85: =IFERROR(VLOOKUP(F85,'LISTE REFERENCE STOCKABLE'!$B$10:$K$98,10,FALSE),"") -> b | X85: =VLOOKUP(E85,Inventaire!$C$2:$E$36,3,FALSE) -> #N/A
B86: 2.08 | C86: =IFERROR(VLOOKUP(F86,'LISTE REFERENCE STOCKABLE'!$B$11:$G$88,6,FALSE),"") | D86: B T5-1 | E86: =IFERROR(IF(F86="","",INDEX('LISTE REFERENCE STOCKABLE'!A:A,MATCH('SYSTEME CLASSIFICATION'!F86,'LISTE REFERENCE STOCKABLE'!B:B,0),1)),"") | F86: EMPLACEMENT INEXISTANT | L86: =IFERROR(VLOOKUP('SYSTEME CLASSIFICATION'!$F86,'LISTE REFERENCE STOCKABLE'!$B$2:$C$98,2,FALSE),"DISPONIBLE") -> INEXISTANT | N86: =IFERROR(VLOOKUP('SYSTEME CLASSIFICATION'!$F86,'LISTE REFERENCE STOCKABLE'!$B$11:$D$88,3,FALSE),"") | Q86: =IFERROR(VLOOKUP('SYSTEME CLASSIFICATION'!$F86,'LISTE REFERENCE STOCKABLE'!$B$11:$E$88,4,FALSE),"") | R86: =IFERROR(VLOOKUP('SYSTEME CLASSIFICATION'!$F86,'LISTE REFERENCE STOCKABLE'!$B$11:$F$88,5,FALSE),"") | U86: =IFERROR(IF(VLOOKUP(F86,'LISTE REFERENCE STOCKABLE'!$B$2:$J$98,8,FALSE)=0,"",VLOOKUP(F86,'LISTE REFERENCE STOCKABLE'!$B$2:$J$98,8,FALSE)),"") | V86: =IFERROR(IF(VLOOKUP(F86,'LISTE REFERENCE STOCKABLE'!$B$2:$J$98,9,FALSE)=0,"",VLOOKUP(F86,'LISTE REFERENCE STOCKABLE'!$B$2:$J$98,9,FALSE)),"") | W86: =IFERROR(VLOOKUP(F86,'LISTE REFERENCE STOCKABLE'!$B$10:$K$98,10,FALSE),"") | X86: =VLOOKUP(E86,Inventaire!$C$2:$E$36,3,FALSE) -> #N/A
B87: 2.08 | C87: =IFERROR(VLOOKUP(F87,'LISTE REFERENCE STOCKABLE'!$B$11:$G$88,6,FALSE),"") | D87: B T5-1 | E87: =IFERROR(IF(F87="","",INDEX('LISTE REFERENCE STOCKABLE'!A:A,MATCH('SYSTEME CLASSIFICATION'!F87,'LISTE REFERENCE STOCKABLE'!B:B,0),1)),"") -> EMP0023 | F87: X9H40P | L87: =IFERROR(VLOOKUP('SYSTEME CLASSIFICATION'!$F87,'LISTE REFERENCE STOCKABLE'!$B$2:$C$98,2,FALSE),"DISPONIBLE") -> INDISPONIBLE | N87: =IFERROR(VLOOKUP('SYSTEME CLASSIFICATION'!$F87,'LISTE REFERENCE STOCKABLE'!$B$11:$D$88,3,FALSE),"") | Q87: =IFERROR(VLOOKUP('SYSTEME CLASSIFICATION'!$F87,'LISTE REFERENCE STOCKABLE'!$B$11:$E$88,4,FALSE),"") | R87: =IFERROR(VLOOKUP('SYSTEME CLASSIFICATION'!$F87,'LISTE REFERENCE STOCKABLE'!$B$11:$F$88,5,FALSE),"") | U87: =IFERROR(IF(VLOOKUP(F87,'LISTE REFERENCE STOCKABLE'!$B$2:$J$98,8,FALSE)=0,"",VLOOKUP(F87,'LISTE REFERENCE STOCKABLE'!$B$2:$J$98,8,FALSE)),"") | V87: =IFERROR(IF(VLOOKUP(F87,'LISTE REFERENCE STOCKABLE'!$B$2:$J$98,9,FALSE)=0,"",VLOOKUP(F87,'LISTE REFERENCE STOCKABLE'!$B$2:$J$98,9,FALSE)),"") | W87: =IFERROR(VLOOKUP(F87,'LISTE REFERENCE STOCKABLE'!$B$10:$K$98,10,FALSE),"") -> a | X87: =VLOOKUP(E87,Inventaire!$C$2:$E$36,3,FALSE) -> #N/A
B88: 2.31 | C88: =IFERROR(VLOOKUP(F88,'LISTE REFERENCE STOCKABLE'!$B$11:$G$88,6,FALSE),"") -> Davoise | D88: B T5-2 | E88: =IFERROR(IF(F88="","",INDEX('LISTE REFERENCE STOCKABLE'!A:A,MATCH('SYSTEME CLASSIFICATION'!F88,'LISTE REFERENCE STOCKABLE'!B:B,0),1)),"") -> EMP0038 | F88: Boîte PVC couv. 240x172x35/34 | L88: =IFERROR(VLOOKUP('SYSTEME CLASSIFICATION'!$F88,'LISTE REFERENCE STOCKABLE'!$B$2:$C$98,2,FALSE),"DISPONIBLE") -> INDISPONIBLE | N88: =IFERROR(VLOOKUP('SYSTEME CLASSIFICATION'!$F88,'LISTE REFERENCE STOCKABLE'!$B$11:$D$88,3,FALSE),"") -> 35 X 124 emballages = 4340e | Q88: =IFERROR(VLOOKUP('SYSTEME CLASSIFICATION'!$F88,'LISTE REFERENCE STOCKABLE'!$B$11:$E$88,4,FALSE),"") -> 17500 | R88: =IFERROR(VLOOKUP('SYSTEME CLASSIFICATION'!$F88,'LISTE REFERENCE STOCKABLE'!$B$11:$F$88,5,FALSE),"") -> 0 | U88: =IFERROR(IF(VLOOKUP(F88,'LISTE REFERENCE STOCKABLE'!$B$2:$J$98,8,FALSE)=0,"",VLOOKUP(F88,'LISTE REFERENCE STOCKABLE'!$B$2:$J$98,8,FALSE)),"") -> 1.8 | V88: =IFERROR(IF(VLOOKUP(F88,'LISTE REFERENCE STOCKABLE'!$B$2:$J$98,9,FALSE)=0,"",VLOOKUP(F88,'LISTE REFERENCE STOCKABLE'!$B$2:$J$98,9,FALSE)),"") -> 800*1200 | W88: =IFERROR(VLOOKUP(F88,'LISTE REFERENCE STOCKABLE'!$B$10:$K$98,10,FALSE),"") -> c | X88: =VLOOKUP(E88,Inventaire!$C$2:$E$36,3,FALSE) -> jeudi
B89: 2.31 | C89: =IFERROR(VLOOKUP(F89,'LISTE REFERENCE STOCKABLE'!$B$11:$G$88,6,FALSE),"") -> Davoise | D89: B T5-2 | E89: =IFERROR(IF(F89="","",INDEX('LISTE REFERENCE STOCKABLE'!A:A,MATCH('SYSTEME CLASSIFICATION'!F89,'LISTE REFERENCE STOCKABLE'!B:B,0),1)),"") -> EMP0038 | F89: Boîte PVC couv. 240x172x35/34 | L89: =IFERROR(VLOOKUP('SYSTEME CLASSIFICATION'!$F89,'LISTE REFERENCE STOCKABLE'!$B$2:$C$98,2,FALSE),"DISPONIBLE") -> INDISPONIBLE | N89: =IFERROR(VLOOKUP('SYSTEME CLASSIFICATION'!$F89,'LISTE REFERENCE STOCKABLE'!$B$11:$D$88,3,FALSE),"") -> 35 X 124 emballages = 4340e | Q89: =IFERROR(VLOOKUP('SYSTEME CLASSIFICATION'!$F89,'LISTE REFERENCE STOCKABLE'!$B$11:$E$88,4,FALSE),"") -> 17500 | R89: =IFERROR(VLOOKUP('SYSTEME CLASSIFICATION'!$F89,'LISTE REFERENCE STOCKABLE'!$B$11:$F$88,5,FALSE),"") -> 0 | U89: =IFERROR(IF(VLOOKUP(F89,'LISTE REFERENCE STOCKABLE'!$B$2:$J$98,8,FALSE)=0,"",VLOOKUP(F89,'LISTE REFERENCE STOCKABLE'!$B$2:$J$98,8,FALSE)),"") -> 1.8 | V89: =IFERROR(IF(VLOOKUP(F89,'LISTE REFERENCE STOCKABLE'!$B$2:$J$98,9,FALSE)=0,"",VLOOKUP(F89,'LISTE REFERENCE STOCKABLE'!$B$2:$J$98,9,FALSE)),"") -> 800*1200 | W89: =IFERROR(VLOOKUP(F89,'LISTE REFERENCE STOCKABLE'!$B$10:$K$98,10,FALSE),"") -> c | X89: =VLOOKUP(E89,Inventaire!$C$2:$E$36,3,FALSE) -> jeudi
B90: 2.31 | C90: =IFERROR(VLOOKUP(F90,'LISTE REFERENCE STOCKABLE'!$B$11:$G$88,6,FALSE),"") -> Davoise | D90: B T5-2 | E90: =IFERROR(IF(F90="","",INDEX('LISTE REFERENCE STOCKABLE'!A:A,MATCH('SYSTEME CLASSIFICATION'!F90,'LISTE REFERENCE STOCKABLE'!B:B,0),1)),"") -> EMP0038 | F90: Boîte PVC couv. 240x172x35/34 | L90: =IFERROR(VLOOKUP('SYSTEME CLASSIFICATION'!$F90,'LISTE REFERENCE STOCKABLE'!$B$2:$C$98,2,FALSE),"DISPONIBLE") -> INDISPONIBLE | N90: =IFERROR(VLOOKUP('SYSTEME CLASSIFICATION'!$F90,'LISTE REFERENCE STOCKABLE'!$B$11:$D$88,3,FALSE),"") -> 35 X 124 emballages = 4340e | Q90: =IFERROR(VLOOKUP('SYSTEME CLASSIFICATION'!$F90,'LISTE REFERENCE STOCKABLE'!$B$11:$E$88,4,FALSE),"") -> 17500 | R90: =IFERROR(VLOOKUP('SYSTEME CLASSIFICATION'!$F90,'LISTE REFERENCE STOCKABLE'!$B$11:$F$88,5,FALSE),"") -> 0 | U90: =IFERROR(IF(VLOOKUP(F90,'LISTE REFERENCE STOCKABLE'!$B$2:$J$98,8,FALSE)=0,"",VLOOKUP(F90,'LISTE REFERENCE STOCKABLE'!$B$2:$J$98,8,FALSE)),"") -> 1.8 | V90: =IFERROR(IF(VLOOKUP(F90,'LISTE REFERENCE STOCKABLE'!$B$2:$J$98,9,FALSE)=0,"",VLOOKUP(F90,'LISTE REFERENCE STOCKABLE'!$B$2:$J$98,9,FALSE)),"") -> 800*1200 | W90: =IFERROR(VLOOKUP(F90,'LISTE REFERENCE STOCKABLE'!$B$10:$K$98,10,FALSE),"") -> c | X90: =VLOOKUP(E90,Inventaire!$C$2:$E$36,3,FALSE) -> jeudi
C91: =IFERROR(VLOOKUP(F91,'LISTE REFERENCE STOCKABLE'!$B$11:$G$88,6,FALSE),"") | D91: B T5-3 | E91: =IFERROR(IF(F91="","",INDEX('LISTE REFERENCE STOCKABLE'!A:A,MATCH('SYSTEME CLASSIFICATION'!F91,'LISTE REFERENCE STOCKABLE'!B:B,0),1)),"") | F91: DÉSIGNATION NON REFERENCÉ DANS LA LISTE | L91: =IFERROR(VLOOKUP('SYSTEME CLASSIFICATION'!$F91,'LISTE REFERENCE STOCKABLE'!$B$2:$C$98,2,FALSE),"DISPONIBLE") -> INDISPONIBLE (Veuillez noter la désignation du produit dans "COMMENTAIRE MAGASINIER") | N91: =IFERROR(VLOOKUP('SYSTEME CLASSIFICATION'!$F91,'LISTE REFERENCE STOCKABLE'!$B$11:$D$88,3,FALSE),"") | Q91: =IFERROR(VLOOKUP('SYSTEME CLASSIFICATION'!$F91,'LISTE REFERENCE STOCKABLE'!$B$11:$E$88,4,FALSE),"") | R91: =IFERROR(VLOOKUP('SYSTEME CLASSIFICATION'!$F91,'LISTE REFERENCE STOCKABLE'!$B$11:$F$88,5,FALSE),"") | U91: =IFERROR(IF(VLOOKUP(F91,'LISTE REFERENCE STOCKABLE'!$B$2:$J$98,8,FALSE)=0,"",VLOOKUP(F91,'LISTE REFERENCE STOCKABLE'!$B$2:$J$98,8,FALSE)),"") | V91: =IFERROR(IF(VLOOKUP(F91,'LISTE REFERENCE STOCKABLE'!$B$2:$J$98,9,FALSE)=0,"",VLOOKUP(F91,'LISTE REFERENCE STOCKABLE'!$B$2:$J$98,9,FALSE)),"") | W91: =IFERROR(VLOOKUP(F91,'LISTE REFERENCE STOCKABLE'!$B$10:$K$98,10,FALSE),"") | X91: =VLOOKUP(E91,Inventaire!$C$2:$E$36,3,FALSE) -> #N/A
C92: =IFERROR(VLOOKUP(F92,'LISTE REFERENCE STOCKABLE'!$B$11:$G$88,6,FALSE),"") | D92: B T5-3 | E92: =IFERROR(IF(F92="","",INDEX('LISTE REFERENCE STOCKABLE'!A:A,MATCH('SYSTEME CLASSIFICATION'!F92,'LISTE REFERENCE STOCKABLE'!B:B,0),1)),"") | F92: DÉSIGNATION NON REFERENCÉ DANS LA LISTE | L92: =IFERROR(VLOOKUP('SYSTEME CLASSIFICATION'!$F92,'LISTE REFERENCE STOCKABLE'!$B$2:$C$98,2,FALSE),"DISPONIBLE") -> INDISPONIBLE (Veuillez noter la désignation du produit dans "COMMENTAIRE MAGASINIER") | N92: =IFERROR(VLOOKUP('SYSTEME CLASSIFICATION'!$F92,'LISTE REFERENCE STOCKABLE'!$B$11:$D$88,3,FALSE),"") | Q92: =IFERROR(VLOOKUP('SYSTEME CLASSIFICATION'!$F92,'LISTE REFERENCE STOCKABLE'!$B$11:$E$88,4,FALSE),"") | R92: =IFERROR(VLOOKUP('SYSTEME CLASSIFICATION'!$F92,'LISTE REFERENCE STOCKABLE'!$B$11:$F$88,5,FALSE),"") | U92: =IFERROR(IF(VLOOKUP(F92,'LISTE REFERENCE STOCKABLE'!$B$2:$J$98,8,FALSE)=0,"",VLOOKUP(F92,'LISTE REFERENCE STOCKABLE'!$B$2:$J$98,8,FALSE)),"") | V92: =IFERROR(IF(VLOOKUP(F92,'LISTE REFERENCE STOCKABLE'!$B$2:$J$98,9,FALSE)=0,"",VLOOKUP(F92,'LISTE REFERENCE STOCKABLE'!$B$2:$J$98,9,FALSE)),"") | W92: =IFERROR(VLOOKUP(F92,'LISTE REFERENCE STOCKABLE'!$B$10:$K$98,10,FALSE),"") | X92: =VLOOKUP(E92,Inventaire!$C$2:$E$36,3,FALSE) -> #N/A
C93: =IFERROR(VLOOKUP(F93,'LISTE REFERENCE STOCKABLE'!$B$11:$G$88,6,FALSE),"") | D93: B T5-3 | E93: =IFERROR(IF(F93="","",INDEX('LISTE REFERENCE STOCKABLE'!A:A,MATCH('SYSTEME CLASSIFICATION'!F93,'LISTE REFERENCE STOCKABLE'!B:B,0),1)),"") | F93: DÉSIGNATION NON REFERENCÉ DANS LA LISTE | L93: =IFERROR(VLOOKUP('SYSTEME CLASSIFICATION'!$F93,'LISTE REFERENCE STOCKABLE'!$B$2:$C$98,2,FALSE),"DISPONIBLE") -> INDISPONIBLE (Veuillez noter la désignation du produit dans "COMMENTAIRE MAGASINIER") | N93: =IFERROR(VLOOKUP('SYSTEME CLASSIFICATION'!$F93,'LISTE REFERENCE STOCKABLE'!$B$11:$D$88,3,FALSE),"") | Q93: =IFERROR(VLOOKUP('SYSTEME CLASSIFICATION'!$F93,'LISTE REFERENCE STOCKABLE'!$B$11:$E$88,4,FALSE),"") | R93: =IFERROR(VLOOKUP('SYSTEME CLASSIFICATION'!$F93,'LISTE REFERENCE STOCKABLE'!$B$11:$F$88,5,FALSE),"") | U93: =IFERROR(IF(VLOOKUP(F93,'LISTE REFERENCE STOCKABLE'!$B$2:$J$98,8,FALSE)=0,"",VLOOKUP(F93,'LISTE REFERENCE STOCKABLE'!$B$2:$J$98,8,FALSE)),"") | V93: =IFERROR(IF(VLOOKUP(F93,'LISTE REFERENCE STOCKABLE'!$B$2:$J$98,9,FALSE)=0,"",VLOOKUP(F93,'LISTE REFERENCE STOCKABLE'!$B$2:$J$98,9,FALSE)),"") | W93: =IFERROR(VLOOKUP(F93,'LISTE REFERENCE STOCKABLE'!$B$10:$K$98,10,FALSE),"") | X93: =VLOOKUP(E93,Inventaire!$C$2:$E$36,3,FALSE) -> #N/A
B94: 1.89 | C94: =IFERROR(VLOOKUP(F94,'LISTE REFERENCE STOCKABLE'!$B$11:$G$88,6,FALSE),"") -> Guillin Emballage | D94: B T6-1 | E94: =IFERROR(IF(F94="","",INDEX('LISTE REFERENCE STOCKABLE'!A:A,MATCH('SYSTEME CLASSIFICATION'!F94,'LISTE REFERENCE STOCKABLE'!B:B,0),1)),"") -> EMP0014 | F94: M3C2000 | L94: =IFERROR(VLOOKUP('SYSTEME CLASSIFICATION'!$F94,'LISTE REFERENCE STOCKABLE'!$B$2:$C$98,2,FALSE),"DISPONIBLE") -> INDISPONIBLE | N94: =IFERROR(VLOOKUP('SYSTEME CLASSIFICATION'!$F94,'LISTE REFERENCE STOCKABLE'!$B$11:$D$88,3,FALSE),"") -> 27 cartonsx200e=2400 emballages | Q94: =IFERROR(VLOOKUP('SYSTEME CLASSIFICATION'!$F94,'LISTE REFERENCE STOCKABLE'!$B$11:$E$88,4,FALSE),"") -> Pal x 9 cart = | R94: =IFERROR(VLOOKUP('SYSTEME CLASSIFICATION'!$F94,'LISTE REFERENCE STOCKABLE'!$B$11:$F$88,5,FALSE),"") -> 0 | U94: =IFERROR(IF(VLOOKUP(F94,'LISTE REFERENCE STOCKABLE'!$B$2:$J$98,8,FALSE)=0,"",VLOOKUP(F94,'LISTE REFERENCE STOCKABLE'!$B$2:$J$98,8,FALSE)),"") -> 1.75 | V94: =IFERROR(IF(VLOOKUP(F94,'LISTE REFERENCE STOCKABLE'!$B$2:$J$98,9,FALSE)=0,"",VLOOKUP(F94,'LISTE REFERENCE STOCKABLE'!$B$2:$J$98,9,FALSE)),"") -> 800*1200 | W94: =IFERROR(VLOOKUP(F94,'LISTE REFERENCE STOCKABLE'!$B$10:$K$98,10,FALSE),"") -> a | X94: =VLOOKUP(E94,Inventaire!$C$2:$E$36,3,FALSE) -> #N/A
B95: 1.89 | C95: =IFERROR(VLOOKUP(F95,'LISTE REFERENCE STOCKABLE'!$B$11:$G$88,6,FALSE),"") -> Davoise | D95: B T6-1 | E95: =IFERROR(IF(F95="","",INDEX('LISTE REFERENCE STOCKABLE'!A:A,MATCH('SYSTEME CLASSIFICATION'!F95,'LISTE REFERENCE STOCKABLE'!B:B,0),1)),"") -> EMP0039 | F95: Boîte PVC fond 172x123x36/35 | L95: =IFERROR(VLOOKUP('SYSTEME CLASSIFICATION'!$F95,'LISTE REFERENCE STOCKABLE'!$B$2:$C$98,2,FALSE),"DISPONIBLE") -> INDISPONIBLE | N95: =IFERROR(VLOOKUP('SYSTEME CLASSIFICATION'!$F95,'LISTE REFERENCE STOCKABLE'!$B$11:$D$88,3,FALSE),"") -> 10 cartonsx258e=2580e | Q95: =IFERROR(VLOOKUP('SYSTEME CLASSIFICATION'!$F95,'LISTE REFERENCE STOCKABLE'!$B$11:$E$88,4,FALSE),"") -> 12500 | R95: =IFERROR(VLOOKUP('SYSTEME CLASSIFICATION'!$F95,'LISTE REFERENCE STOCKABLE'!$B$11:$F$88,5,FALSE),"") -> 0 | U95: =IFERROR(IF(VLOOKUP(F95,'LISTE REFERENCE STOCKABLE'!$B$2:$J$98,8,FALSE)=0,"",VLOOKUP(F95,'LISTE REFERENCE STOCKABLE'!$B$2:$J$98,8,FALSE)),"") -> 1.82 | V95: =IFERROR(IF(VLOOKUP(F95,'LISTE REFERENCE STOCKABLE'!$B$2:$J$98,9,FALSE)=0,"",VLOOKUP(F95,'LISTE REFERENCE STOCKABLE'!$B$2:$J$98,9,FALSE)),"") -> 800*1200 | W95: =IFERROR(VLOOKUP(F95,'LISTE REFERENCE STOCKABLE'!$B$10:$K$98,10,FALSE),"") -> b | X95: =VLOOKUP(E95,Inventaire!$C$2:$E$36,3,FALSE) -> jeudi
B96: 1.89 | C96: =IFERROR(VLOOKUP(F96,'LISTE REFERENCE STOCKABLE'!$B$11:$G$88,6,FALSE),"") -> Davoise | D96: B T6-1 | E96: =IFERROR(IF(F96="","",INDEX('LISTE REFERENCE STOCKABLE'!A:A,MATCH('SYSTEME CLASSIFICATION'!F96,'LISTE REFERENCE STOCKABLE'!B:B,0),1)),"") -> EMP0039 | F96: Boîte PVC couv.172x123x36/35 | L96: =IFERROR(VLOOKUP('SYSTEME CLASSIFICATION'!$F96,'LISTE REFERENCE STOCKABLE'!$B$2:$C$98,2,FALSE),"DISPONIBLE") -> INDISPONIBLE | N96: =IFERROR(VLOOKUP('SYSTEME CLASSIFICATION'!$F96,'LISTE REFERENCE STOCKABLE'!$B$11:$D$88,3,FALSE),"") -> 10 cartonsx258e=2580e | Q96: =IFERROR(VLOOKUP('SYSTEME CLASSIFICATION'!$F96,'LISTE REFERENCE STOCKABLE'!$B$11:$E$88,4,FALSE),"") -> 12500 | R96: =IFERROR(VLOOKUP('SYSTEME CLASSIFICATION'!$F96,'LISTE REFERENCE STOCKABLE'!$B$11:$F$88,5,FALSE),"") -> 0 | U96: =IFERROR(IF(VLOOKUP(F96,'LISTE REFERENCE STOCKABLE'!$B$2:$J$98,8,FALSE)=0,"",VLOOKUP(F96,'LISTE REFERENCE STOCKABLE'!$B$2:$J$98,8,FALSE)),"") -> 1.8 | V96: =IFERROR(IF(VLOOKUP(F96,'LISTE REFERENCE STOCKABLE'!$B$2:$J$98,9,FALSE)=0,"",VLOOKUP(F96,'LISTE REFERENCE STOCKABLE'!$B$2:$J$98,9,FALSE)),"") -> 800*1200 | W96: =IFERROR(VLOOKUP(F96,'LISTE REFERENCE STOCKABLE'!$B$10:$K$98,10,FALSE),"") -> c | X96: =VLOOKUP(E96,Inventaire!$C$2:$E$36,3,FALSE) -> jeudi
B97: 1.78 | C97: =IFERROR(VLOOKUP(F97,'LISTE REFERENCE STOCKABLE'!$B$11:$G$88,6,FALSE),"") -> Conservor | D97: B T6-2 | E97: =IFERROR(IF(F97="","",INDEX('LISTE REFERENCE STOCKABLE'!A:A,MATCH('SYSTEME CLASSIFICATION'!F97,'LISTE REFERENCE STOCKABLE'!B:B,0),1)),"") -> EMP0037 | F97: Boîte fer Intercontinent. | L97: =IFERROR(VLOOKUP('SYSTEME CLASSIFICATION'!$F97,'LISTE REFERENCE STOCKABLE'!$B$2:$C$98,2,FALSE),"DISPONIBLE") -> INDISPONIBLE | N97: =IFERROR(VLOOKUP('SYSTEME CLASSIFICATION'!$F97,'LISTE REFERENCE STOCKABLE'!$B$11:$D$88,3,FALSE),"") -> 40 cartons X 18 = 720 emb | Q97: =IFERROR(VLOOKUP('SYSTEME CLASSIFICATION'!$F97,'LISTE REFERENCE STOCKABLE'!$B$11:$E$88,4,FALSE),"") -> 5000 | R97: =IFERROR(VLOOKUP('SYSTEME CLASSIFICATION'!$F97,'LISTE REFERENCE STOCKABLE'!$B$11:$F$88,5,FALSE),"") -> 0 | U97: =IFERROR(IF(VLOOKUP(F97,'LISTE REFERENCE STOCKABLE'!$B$2:$J$98,8,FALSE)=0,"",VLOOKUP(F97,'LISTE REFERENCE STOCKABLE'!$B$2:$J$98,8,FALSE)),"") -> 1.82 | V97: =IFERROR(IF(VLOOKUP(F97,'LISTE REFERENCE STOCKABLE'!$B$2:$J$98,9,FALSE)=0,"",VLOOKUP(F97,'LISTE REFERENCE STOCKABLE'!$B$2:$J$98,9,FALSE)),"") -> 800*1200 | W97: =IFERROR(VLOOKUP(F97,'LISTE REFERENCE STOCKABLE'!$B$10:$K$98,10,FALSE),"") -> c | X97: =VLOOKUP(E97,Inventaire!$C$2:$E$36,3,FALSE) -> #N/A
B98: 1.78 | C98: =IFERROR(VLOOKUP(F98,'LISTE REFERENCE STOCKABLE'!$B$11:$G$88,6,FALSE),"") | D98: B T6-2 | E98: =IFERROR(IF(F98="","",INDEX('LISTE REFERENCE STOCKABLE'!A:A,MATCH('SYSTEME CLASSIFICATION'!F98,'LISTE REFERENCE STOCKABLE'!B:B,0),1)),"") | F98: EMPLACEMENT INEXISTANT | L98: =IFERROR(VLOOKUP('SYSTEME CLASSIFICATION'!$F98,'LISTE REFERENCE STOCKABLE'!$B$2:$C$98,2,FALSE),"DISPONIBLE") -> INEXISTANT | N98: =IFERROR(VLOOKUP('SYSTEME CLASSIFICATION'!$F98,'LISTE REFERENCE STOCKABLE'!$B$11:$D$88,3,FALSE),"") | Q98: =IFERROR(VLOOKUP('SYSTEME CLASSIFICATION'!$F98,'LISTE REFERENCE STOCKABLE'!$B$11:$E$88,4,FALSE),"") | R98: =IFERROR(VLOOKUP('SYSTEME CLASSIFICATION'!$F98,'LISTE REFERENCE STOCKABLE'!$B$11:$F$88,5,FALSE),"") | U98: =IFERROR(IF(VLOOKUP(F98,'LISTE REFERENCE STOCKABLE'!$B$2:$J$98,8,FALSE)=0,"",VLOOKUP(F98,'LISTE REFERENCE STOCKABLE'!$B$2:$J$98,8,FALSE)),"") | V98: =IFERROR(IF(VLOOKUP(F98,'LISTE REFERENCE STOCKABLE'!$B$2:$J$98,9,FALSE)=0,"",VLOOKUP(F98,'LISTE REFERENCE STOCKABLE'!$B$2:$J$98,9,FALSE)),"") | W98: =IFERROR(VLOOKUP(F98,'LISTE REFERENCE STOCKABLE'!$B$10:$K$98,10,FALSE),"") | X98: =VLOOKUP(E98,Inventaire!$C$2:$E$36,3,FALSE) -> #N/A
B99: 1.78 | C99: =IFERROR(VLOOKUP(F99,'LISTE REFERENCE STOCKABLE'!$B$11:$G$88,6,FALSE),"") | D99: B T6-2 | E99: =IFERROR(IF(F99="","",INDEX('LISTE REFERENCE STOCKABLE'!A:A,MATCH('SYSTEME CLASSIFICATION'!F99,'LISTE REFERENCE STOCKABLE'!B:B,0),1)),"") | F99: DÉSIGNATION NON REFERENCÉ DANS LA LISTE | L99: =IFERROR(VLOOKUP('SYSTEME CLASSIFICATION'!$F99,'LISTE REFERENCE STOCKABLE'!$B$2:$C$98,2,FALSE),"DISPONIBLE") -> INDISPONIBLE (Veuillez noter la désignation du produit dans "COMMENTAIRE MAGASINIER") | M99: FDS BARQUETTES COEUR | N99: =IFERROR(VLOOKUP('SYSTEME CLASSIFICATION'!$F99,'LISTE REFERENCE STOCKABLE'!$B$11:$D$88,3,FALSE),"") | Q99: =IFERROR(VLOOKUP('SYSTEME CLASSIFICATION'!$F99,'LISTE REFERENCE STOCKABLE'!$B$11:$E$88,4,FALSE),"") | R99: =IFERROR(VLOOKUP('SYSTEME CLASSIFICATION'!$F99,'LISTE REFERENCE STOCKABLE'!$B$11:$F$88,5,FALSE),"") | U99: =IFERROR(IF(VLOOKUP(F99,'LISTE REFERENCE STOCKABLE'!$B$2:$J$98,8,FALSE)=0,"",VLOOKUP(F99,'LISTE REFERENCE STOCKABLE'!$B$2:$J$98,8,FALSE)),"") | V99: =IFERROR(IF(VLOOKUP(F99,'LISTE REFERENCE STOCKABLE'!$B$2:$J$98,9,FALSE)=0,"",VLOOKUP(F99,'LISTE REFERENCE STOCKABLE'!$B$2:$J$98,9,FALSE)),"") | W99: =IFERROR(VLOOKUP(F99,'LISTE REFERENCE STOCKABLE'!$B$10:$K$98,10,FALSE),"") | X99: =VLOOKUP(E99,Inventaire!$C$2:$E$36,3,FALSE) -> #N/A
C100: =IFERROR(VLOOKUP(F100,'LISTE REFERENCE STOCKABLE'!$B$11:$G$88,6,FALSE),"") | D100: B T6-3 | E100: =IFERROR(IF(F100="","",INDEX('LISTE REFERENCE STOCKABLE'!A:A,MATCH('SYSTEME CLASSIFICATION'!F100,'LISTE REFERENCE STOCKABLE'!B:B,0),1)),"") | F100: DÉSIGNATION NON REFERENCÉ DANS LA LISTE | L100: =IFERROR(VLOOKUP('SYSTEME CLASSIFICATION'!$F100,'LISTE REFERENCE STOCKABLE'!$B$2:$C$98,2,FALSE),"DISPONIBLE") -> INDISPONIBLE (Veuillez noter la désignation du produit dans "COMMENTAIRE MAGASINIER") | M100: FDS ET CVC BARQUETTES COEUR | N100: =IFERROR(VLOOKUP('SYSTEME CLASSIFICATION'!$F100,'LISTE REFERENCE STOCKABLE'!$B$11:$D$88,3,FALSE),"") | Q100: =IFERROR(VLOOKUP('SYSTEME CLASSIFICATION'!$F100,'LISTE REFERENCE STOCKABLE'!$B$11:$E$88,4,FALSE),"") | R100: =IFERROR(VLOOKUP('SYSTEME CLASSIFICATION'!$F100,'LISTE REFERENCE STOCKABLE'!$B$11:$F$88,5,FALSE),"") | U100: =IFERROR(IF(VLOOKUP(F100,'LISTE REFERENCE STOCKABLE'!$B$2:$J$98,8,FALSE)=0,"",VLOOKUP(F100,'LISTE REFERENCE STOCKABLE'!$B$2:$J$98,8,FALSE)),"") | V100: =IFERROR(IF(VLOOKUP(F100,'LISTE REFERENCE STOCKABLE'!$B$2:$J$98,9,FALSE)=0,"",VLOOKUP(F100,'LISTE REFERENCE STOCKABLE'!$B$2:$J$98,9,FALSE)),"") | W100: =IFERROR(VLOOKUP(F100,'LISTE REFERENCE STOCKABLE'!$B$10:$K$98,10,FALSE),"") | X100: =VLOOKUP(E100,Inventaire!$C$2:$E$36,3,FALSE) -> #N/A
C101: =IFERROR(VLOOKUP(F101,'LISTE REFERENCE STOCKABLE'!$B$11:$G$88,6,FALSE),"") | D101: B T6-3 | E101: =IFERROR(IF(F101="","",INDEX('LISTE REFERENCE STOCKABLE'!A:A,MATCH('SYSTEME CLASSIFICATION'!F101,'LISTE REFERENCE STOCKABLE'!B:B,0),1)),"") | L101: =IFERROR(VLOOKUP('SYSTEME CLASSIFICATION'!$F101,'LISTE REFERENCE STOCKABLE'!$B$2:$C$98,2,FALSE),"DISPONIBLE") -> DISPONIBLE | N101: =IFERROR(VLOOKUP('SYSTEME CLASSIFICATION'!$F101,'LISTE REFERENCE STOCKABLE'!$B$11:$D$88,3,FALSE),"") | Q101: =IFERROR(VLOOKUP('SYSTEME CLASSIFICATION'!$F101,'LISTE REFERENCE STOCKABLE'!$B$11:$E$88,4,FALSE),"") | R101: =IFERROR(VLOOKUP('SYSTEME CLASSIFICATION'!$F101,'LISTE REFERENCE STOCKABLE'!$B$11:$F$88,5,FALSE),"") | U101: =IFERROR(IF(VLOOKUP(F101,'LISTE REFERENCE STOCKABLE'!$B$2:$J$98,8,FALSE)=0,"",VLOOKUP(F101,'LISTE REFERENCE STOCKABLE'!$B$2:$J$98,8,FALSE)),"") | V101: =IFERROR(IF(VLOOKUP(F101,'LISTE REFERENCE STOCKABLE'!$B$2:$J$98,9,FALSE)=0,"",VLOOKUP(F101,'LISTE REFERENCE STOCKABLE'!$B$2:$J$98,9,FALSE)),"") | W101: =IFERROR(VLOOKUP(F101,'LISTE REFERENCE STOCKABLE'!$B$10:$K$98,10,FALSE),"") | X101: =VLOOKUP(E101,Inventaire!$C$2:$E$36,3,FALSE) -> #N/A
...

Sheet RAQUETTE EXTERIEUR
B1: Raquette extérieure
C3: Réception / Expédition | J3: ALLEE | K3: NIVEAU | L3: DESIGNATION | O3: ALLEE | P3: NIVEAU | Q3: DESIGNATION | T3: ALLEE | U3: NIVEAU | V3: DESIGNATION | Y3: ALLEE | Z3: NIVEAU | AA3: DESIGNATION
J4: J | K4: T1-1 | L4: Balle carton ou plastique | M4: =IFERROR((VLOOKUP(L4,'LISTE REFERENCE STOCKABLE'!$B$11:$H$88,7,FALSE)),"") | O4: K | P4: T1-1 | Q4: Balle carton ou plastique | R4: =IFERROR((VLOOKUP(Q4,'LISTE REFERENCE STOCKABLE'!$B$11:$H$88,7,FALSE)),"") | T4: L | U4: T1-1 | V4: Balle carton ou plastique | W4: =IFERROR((VLOOKUP(V4,'LISTE REFERENCE STOCKABLE'!$B$11:$H$88,7,FALSE)),"") | Y4: I | Z4: T1-1 | AA4: Balle carton ou plastique | AB4: =IFERROR((VLOOKUP(AA4,'LISTE REFERENCE STOCKABLE'!$B$11:$H$88,7,FALSE)),"")
J5: J | K5: T1-1 | L5: Balle carton ou plastique | M5: =IFERROR((VLOOKUP(L5,'LISTE REFERENCE STOCKABLE'!$B$11:$H$88,7,FALSE)),"") | O5: K | P5: T1-1 | Q5: Balle carton ou plastique | R5: =IFERROR((VLOOKUP(Q5,'LISTE REFERENCE STOCKABLE'!$B$11:$H$88,7,FALSE)),"") | T5: L | U5: T1-1 | V5: Balle carton ou plastique | W5: =IFERROR((VLOOKUP(V5,'LISTE REFERENCE STOCKABLE'!$B$11:$H$88,7,FALSE)),"") | Y5: I | Z5: T1-1 | AA5: Balle carton ou plastique | AB5: =IFERROR((VLOOKUP(AA5,'LISTE REFERENCE STOCKABLE'!$B$11:$H$88,7,FALSE)),"")
C6: ALLEE I | F6: ALLEE J | J6: J | K6: T1-2 | M6: =IFERROR((VLOOKUP(L6,'LISTE REFERENCE STOCKABLE'!$B$11:$H$88,7,FALSE)),"") | O6: K | P6: T1-2 | Q6: Carton ½ tines | R6: =IFERROR((VLOOKUP(Q6,'LISTE REFERENCE STOCKABLE'!$B$11:$H$88,7,FALSE)),"") -> 3 | T6: L | U6: T1-2 | W6: =IFERROR((VLOOKUP(V6,'LISTE REFERENCE STOCKABLE'!$B$11:$H$88,7,FALSE)),"") | Y6: I | Z6: T1-2 | AA6: DÉSIGNATION NON REFERENCÉ DANS LA LISTE | AB6: =IFERROR((VLOOKUP(AA6,'LISTE REFERENCE STOCKABLE'!$B$11:$H$88,7,FALSE)),"")
J7: J | K7: T1-2 | M7: =IFERROR((VLOOKUP(L7,'LISTE REFERENCE STOCKABLE'!$B$11:$H$88,7,FALSE)),"") | O7: K | P7: T1-2 | R7: =IFERROR((VLOOKUP(Q7,'LISTE REFERENCE STOCKABLE'!$B$11:$H$88,7,FALSE)),"") | T7: L | U7: T1-2 | V7: DÉSIGNATION NON REFERENCÉ DANS LA LISTE | W7: =IFERROR((VLOOKUP(V7,'LISTE REFERENCE STOCKABLE'!$B$11:$H$88,7,FALSE)),"") | Y7: I | Z7: T1-2 | AB7: =IFERROR((VLOOKUP(AA7,'LISTE REFERENCE STOCKABLE'!$B$11:$H$88,7,FALSE)),"")
J8: J | K8: T1-3 | M8: =IFERROR((VLOOKUP(L8,'LISTE REFERENCE STOCKABLE'!$B$11:$H$88,7,FALSE)),"") | O8: K | P8: T1-3 | Q8: carton rouge | R8: =IFERROR((VLOOKUP(Q8,'LISTE REFERENCE STOCKABLE'!$B$11:$H$88,7,FALSE)),"") -> 3 | T8: L | U8: T1-3 | W8: =IFERROR((VLOOKUP(V8,'LISTE REFERENCE STOCKABLE'!$B$11:$H$88,7,FALSE)),"") | Y8: I | Z8: T1-3 | AA8: CARTON VERT | AB8: =IFERROR((VLOOKUP(AA8,'LISTE REFERENCE STOCKABLE'!$B$11:$H$88,7,FALSE)),"") -> 3
J9: J | K9: T1-3 | M9: =IFERROR((VLOOKUP(L9,'LISTE REFERENCE STOCKABLE'!$B$11:$H$88,7,FALSE)),"") | O9: K | P9: T1-3 | Q9: carton rouge | R9: =IFERROR((VLOOKUP(Q9,'LISTE REFERENCE STOCKABLE'!$B$11:$H$88,7,FALSE)),"") -> 3 | T9: L | U9: T1-3 | W9: =IFERROR((VLOOKUP(V9,'LISTE REFERENCE STOCKABLE'!$B$11:$H$88,7,FALSE)),"") | Y9: I | Z9: T1-3 | AA9: CARTON VERT | AB9: =IFERROR((VLOOKUP(AA9,'LISTE REFERENCE STOCKABLE'!$B$11:$H$88,7,FALSE)),"") -> 3
J10: J | K10: T2-1 | L10: Balle carton ou plastique | M10: =IFERROR((VLOOKUP(L10,'LISTE REFERENCE STOCKABLE'!$B$11:$H$88,7,FALSE)),"") | O10: K | P10: T2-1 | Q10: Balle carton ou plastique | R10: =IFERROR((VLOOKUP(Q10,'LISTE REFERENCE STOCKABLE'!$B$11:$H$88,7,FALSE)),"") | T10: L | U10: T2-1 | V10: Balle carton ou plastique | W10: =IFERROR((VLOOKUP(V10,'LISTE REFERENCE STOCKABLE'!$B$11:$H$88,7,FALSE)),"") | Y10: I | Z10: T2-1 | AA10: Balle carton ou plastique | AB10: =IFERROR((VLOOKUP(AA10,'LISTE REFERENCE STOCKABLE'!$B$11:$H$88,7,FALSE)),"")
J11: J | K11: T2-1 | L11: Balle carton ou plastique | M11: =IFERROR((VLOOKUP(L11,'LISTE REFERENCE STOCKABLE'!$B$11:$H$88,7,FALSE)),"") | O11: K | P11: T2-1 | Q11: Balle carton ou plastique | R11: =IFERROR((VLOOKUP(Q11,'LISTE REFERENCE STOCKABLE'!$B$11:$H$88,7,FALSE)),"") | T11: L | U11: T2-1 | V11: Balle carton ou plastique | W11: =IFERROR((VLOOKUP(V11,'LISTE REFERENCE STOCKABLE'!$B$11:$H$88,7,FALSE)),"") | Y11: I | Z11: T2-1 | AA11: Balle carton ou plastique | AB11: =IFERROR((VLOOKUP(AA11,'LISTE REFERENCE STOCKABLE'!$B$11:$H$88,7,FALSE)),"")
C12: QUAI | E12: ALLEE L | J12: J | K12: T2-2 | M12: =IFERROR((VLOOKUP(L12,'LISTE REFERENCE STOCKABLE'!$B$11:$H$88,7,FALSE)),"") | O12: K | P12: T2-2 | Q12: carton violet | R12: =IFERROR((VLOOKUP(Q12,'LISTE REFERENCE STOCKABLE'!$B$11:$H$88,7,FALSE)),"") -> 3 | T12: L | U12: T2-2 | W12: =IFERROR((VLOOKUP(V12,'LISTE REFERENCE STOCKABLE'!$B$11:$H$88,7,FALSE)),"") | Y12: I | Z12: T2-2 | AB12: =IFERROR((VLOOKUP(AA12,'LISTE REFERENCE STOCKABLE'!$B$11:$H$88,7,FALSE)),"")
J13: J | K13: T2-2 | M13: =IFERROR((VLOOKUP(L13,'LISTE REFERENCE STOCKABLE'!$B$11:$H$88,7,FALSE)),"") | O13: K | P13: T2-2 | Q13: carton violet | R13: =IFERROR((VLOOKUP(Q13,'LISTE REFERENCE STOCKABLE'!$B$11:$H$88,7,FALSE)),"") -> 3 | T13: L | U13: T2-2 | W13: =IFERROR((VLOOKUP(V13,'LISTE REFERENCE STOCKABLE'!$B$11:$H$88,7,FALSE)),"") | Y13: I | Z13: T2-2 | AB13: =IFERROR((VLOOKUP(AA13,'LISTE REFERENCE STOCKABLE'!$B$11:$H$88,7,FALSE)),"")
J14: J | K14: T2-3 | M14: =IFERROR((VLOOKUP(L14,'LISTE REFERENCE STOCKABLE'!$B$11:$H$88,7,FALSE)),"") | O14: K | P14: T2-3 | Q14: Carton ½ tines | R14: =IFERROR((VLOOKUP(Q14,'LISTE REFERENCE STOCKABLE'!$B$11:$H$88,7,FALSE)),"") -> 3 | T14: L | U14: T2-3 | W14: =IFERROR((VLOOKUP(V14,'LISTE REFERENCE STOCKABLE'!$B$11:$H$88,7,FALSE)),"") | Y14: I | Z14: T2-3 | AA14: CARTON VERT | AB14: =IFERROR((VLOOKUP(AA14,'LISTE REFERENCE STOCKABLE'!$B$11:$H$88,7,FALSE)),"") -> 3
J15: J | K15: T2-3 | L15: Croisillons box | M15: =IFERROR((VLOOKUP(L15,'LISTE REFERENCE STOCKABLE'!$B$11:$H$88,7,FALSE)),"") -> 3 | O15: K | P15: T2-3 | Q15: Carton ½ tines | R15: =IFERROR((VLOOKUP(Q15,'LISTE REFERENCE STOCKABLE'!$B$11:$H$88,7,FALSE)),"") -> 3 | T15: L | U15: T2-3 | W15: =IFERROR((VLOOKUP(V15,'LISTE REFERENCE STOCKABLE'!$B$11:$H$88,7,FALSE)),"") | Y15: I | Z15: T2-3 | AB15: =IFERROR((VLOOKUP(AA15,'LISTE REFERENCE STOCKABLE'!$B$11:$H$88,7,FALSE)),"")
F16: ALLEE K | J16: J | K16: T3-1 | L16: Balle carton ou plastique | M16: =IFERROR((VLOOKUP(L16,'LISTE REFERENCE STOCKABLE'!$B$11:$H$88,7,FALSE)),"") | O16: K | P16: T3-1 | Q16: Balle carton ou plastique | R16: =IFERROR((VLOOKUP(Q16,'LISTE REFERENCE STOCKABLE'!$B$11:$H$88,7,FALSE)),"") | T16: L | U16: T3-1 | V16: Balle carton ou plastique | W16: =IFERROR((VLOOKUP(V16,'LISTE REFERENCE STOCKABLE'!$B$11:$H$88,7,FALSE)),"")
J17: J | K17: T3-1 | L17: Balle carton ou plastique | M17: =IFERROR((VLOOKUP(L17,'LISTE REFERENCE STOCKABLE'!$B$11:$H$88,7,FALSE)),"") | O17: K | P17: T3-1 | Q17: Balle carton ou plastique | R17: =IFERROR((VLOOKUP(Q17,'LISTE REFERENCE STOCKABLE'!$B$11:$H$88,7,FALSE)),"") | T17: L | U17: T3-1 | V17: Balle carton ou plastique | W17: =IFERROR((VLOOKUP(V17,'LISTE REFERENCE STOCKABLE'!$B$11:$H$88,7,FALSE)),"")
J18: J | K18: T3-2 | L18: carton rouge | M18: =IFERROR((VLOOKUP(L18,'LISTE REFERENCE STOCKABLE'!$B$11:$H$88,7,FALSE)),"") -> 3 | O18: K | P18: T3-2 | R18: =IFERROR((VLOOKUP(Q18,'LISTE REFERENCE STOCKABLE'!$B$11:$H$88,7,FALSE)),"") | T18: L | U18: T3-2 | W18: =IFERROR((VLOOKUP(V18,'LISTE REFERENCE STOCKABLE'!$B$11:$H$88,7,FALSE)),"")
J19: J | K19: T3-2 | L19: carton violet | M19: =IFERROR((VLOOKUP(L19,'LISTE REFERENCE STOCKABLE'!$B$11:$H$88,7,FALSE)),"") -> 3 | O19: K | P19: T3-2 | R19: =IFERROR((VLOOKUP(Q19,'LISTE REFERENCE STOCKABLE'!$B$11:$H$88,7,FALSE)),"") | T19: L | U19: T3-2 | W19: =IFERROR((VLOOKUP(V19,'LISTE REFERENCE STOCKABLE'!$B$11:$H$88,7,FALSE)),"")
J20: J | K20: T3-3 | M20: =IFERROR((VLOOKUP(L20,'LISTE REFERENCE STOCKABLE'!$B$11:$H$88,7,FALSE)),"") | O20: K | P20: T3-3 | Q20: Carton ½ tines | R20: =IFERROR((VLOOKUP(Q20,'LISTE REFERENCE STOCKABLE'!$B$11:$H$88,7,FALSE)),"") -> 3 | T20: L | U20: T3-3 | V20: carton rouge | W20: =IFERROR((VLOOKUP(V20,'LISTE REFERENCE STOCKABLE'!$B$11:$H$88,7,FALSE)),"") -> 3
J21: J | K21: T3-3 | M21: =IFERROR((VLOOKUP(L21,'LISTE REFERENCE STOCKABLE'!$B$11:$H$88,7,FALSE)),"") | O21: K | P21: T3-3 | R21: =IFERROR((VLOOKUP(Q21,'LISTE REFERENCE STOCKABLE'!$B$11:$H$88,7,FALSE)),"") | T21: L | U21: T3-3 | V21: carton rouge | W21: =IFERROR((VLOOKUP(V21,'LISTE REFERENCE STOCKABLE'!$B$11:$H$88,7,FALSE)),"") -> 3
J22: J | K22: T4-1 | L22: Balle carton ou plastique | M22: =IFERROR((VLOOKUP(L22,'LISTE REFERENCE STOCKABLE'!$B$11:$H$88,7,FALSE)),"") | O22: K | P22: T4-1 | Q22: Balle carton ou plastique | R22: =IFERROR((VLOOKUP(Q22,'LISTE REFERENCE STOCKABLE'!$B$11:$H$88,7,FALSE)),"") | T22: L | U22: T4-1 | V22: Balle carton ou plastique | W22: =IFERROR((VLOOKUP(V22,'LISTE REFERENCE STOCKABLE'!$B$11:$H$88,7,FALSE)),"")
J23: J | K23: T4-1 | L23: Balle carton ou plastique | M23: =IFERROR((VLOOKUP(L23,'LISTE REFERENCE STOCKABLE'!$B$11:$H$88,7,FALSE)),"") | O23: K | P23: T4-1 | Q23: Balle carton ou plastique | R23: =IFERROR((VLOOKUP(Q23,'LISTE REFERENCE STOCKABLE'!$B$11:$H$88,7,FALSE)),"") | T23: L | U23: T4-1 | V23: DÉSIGNATION NON REFERENCÉ DANS LA LISTE | W23: =IFERROR((VLOOKUP(V23,'LISTE REFERENCE STOCKABLE'!$B$11:$H$88,7,FALSE)),"")
J24: J | K24: T4-2 | L24: Carton gris | M24: =IFERROR((VLOOKUP(L24,'LISTE REFERENCE STOCKABLE'!$B$11:$H$88,7,FALSE)),"") -> 3 | O24: K | P24: T4-2 | Q24: carton violet | R24: =IFERROR((VLOOKUP(Q24,'LISTE REFERENCE STOCKABLE'!$B$11:$H$88,7,FALSE)),"") -> 3 | T24: L | U24: T4-2 | W24: =IFERROR((VLOOKUP(V24,'LISTE REFERENCE STOCKABLE'!$B$11:$H$88,7,FALSE)),"")
K25: T4-2 | L25: Carton gris | M25: =IFERROR((VLOOKUP(L25,'LISTE REFERENCE STOCKABLE'!$B$11:$H$88,7,FALSE)),"") -> 3 | O25: K | P25: T4-2 | Q25: carton violet | R25: =IFERROR((VLOOKUP(Q25,'LISTE REFERENCE STOCKABLE'!$B$11:$H$88,7,FALSE)),"") -> 3 | T25: L | U25: T4-2 | W25: =IFERROR((VLOOKUP(V25,'LISTE REFERENCE STOCKABLE'!$B$11:$H$88,7,FALSE)),"")
J26: J | K26: T4-2 | L26: carton gris | M26: =IFERROR((VLOOKUP(L26,'LISTE REFERENCE STOCKABLE'!$B$11:$H$88,7,FALSE)),"") -> 3 | O26: K | P26: T4-3 | Q26: carton rouge | R26: =IFERROR((VLOOKUP(Q26,'LISTE REFERENCE STOCKABLE'!$B$11:$H$88,7,FALSE)),"") -> 3 | T26: L | U26: T4-3 | V26: carton rouge | W26: =IFERROR((VLOOKUP(V26,'LISTE REFERENCE STOCKABLE'!$B$11:$H$88,7,FALSE)),"") -> 3
J27: J | K27: T4-3 | M27: =IFERROR((VLOOKUP(L27,'LISTE REFERENCE STOCKABLE'!$B$11:$H$88,7,FALSE)),"") | O27: K | P27: T4-3 | Q27: carton rouge | R27: =IFERROR((VLOOKUP(Q27,'LISTE REFERENCE STOCKABLE'!$B$11:$H$88,7,FALSE)),"") -> 3 | T27: L | U27: T4-3 | W27: =IFERROR((VLOOKUP(V27,'LISTE REFERENCE STOCKABLE'!$B$11:$H$88,7,FALSE)),"")
J28: J | K28: T4-3 | M28: =IFERROR((VLOOKUP(L28,'LISTE REFERENCE STOCKABLE'!$B$11:$H$88,7,FALSE)),"") | O28: K | P28: T5-1 | Q28: Balle carton ou plastique | R28: =IFERROR((VLOOKUP(Q28,'LISTE REFERENCE STOCKABLE'!$B$11:$H$88,7,FALSE)),"")
O29: K | P29: T5-1 | Q29: Balle carton ou plastique | R29: =IFERROR((VLOOKUP(Q29,'LISTE REFERENCE STOCKABLE'!$B$11:$H$88,7,FALSE)),"")
O30: K | P30: T5-2 | R30: =IFERROR((VLOOKUP(Q30,'LISTE REFERENCE STOCKABLE'!$B$11:$H$88,7,FALSE)),"")
O31: K | P31: T5-3 | Q31: carton rouge | R31: =IFERROR((VLOOKUP(Q31,'LISTE REFERENCE STOCKABLE'!$B$11:$H$88,7,FALSE)),"") -> 3

Sheet LISTE REFERENCE STOCKABLE
A1: Désignations | B1: Emballage | C1: DISPONIBILITE | D1: Stock seuil d'alerte | E1: Paletisation | F1: Quantité à commander | G1: FOURNISEUR | H1: Colonne1 | I1: Hauteur de palette | J1: Dimension de palette | K1: Colonne2
A2: ="" | C2: DISPONIBLE | D2: ="" | E2: ="" | F2: ="" | G2: ="" | H2: 0
A3: ="" | B3: EMPLACEMENT INEXISTANT | C3: INEXISTANT | D3: ="" | E3: ="" | F3: ="" | G3: ="" | H3: 1
A4: ="" | B4: DÉSIGNATION NON REFERENCÉ DANS LA LISTE | C4: INDISPONIBLE (Veuillez noter la désignation du produit dans "COMMENTAIRE MAGASINIER") | D4: ="" | E4: ="" | F4: ="" | G4: ="" | H4: 3
B5: Denrée alimentaire | C5: INDISPONIBLE
B6: Balle carton ou plastique | C6: INDISPONIBLE | H6: 3 | I6: 1.84 | J6: 800*1200 | K6: =IFERROR(VLOOKUP(B6,$N$8:$P$61,3,FALSE),"c") -> c
A7: EMP0032 | B7: 23SK02 | C7: INDISPONIBLE | D7: 5 x300e=150 emballages | G7: Guillin Emballage | H7: 3 | I7: 1.06 | J7: 800*1200 | K7: =IFERROR(VLOOKUP(B7,$N$8:$P$61,3,FALSE),"c") -> b
A8: EMP0033 | B8: 23SKN | C8: INDISPONIBLE | D8: 5 x300e=150 emballages | G8: Guillin Emballage | H8: 3 | K8: =IFERROR(VLOOKUP(B8,$N$8:$P$61,3,FALSE),"c") -> b | N8: X9H40P | O8: 51 | P8: a
A9: EMP0031 | B9: 3121DX00 | C9: INDISPONIBLE | D9: 1/2 cartonx130e=65 emballages | E9: cart | G9: Guillin Emballage | H9: 3 | I9: 1.96 | J9: 800*1200 | K9: =IFERROR(VLOOKUP(B9,$N$8:$P$61,3,FALSE),"c") -> b | N9: X10H66 | O9: 48 | P9: a
A10: EMP0030 | B10: 3121DX30 | C10: INDISPONIBLE | D10: 1/2 cartonx130e=65 emballages | E10: cart | G10: Guillin Emballage | H10: 3 | K10: =IFERROR(VLOOKUP(B10,$N$8:$P$61,3,FALSE),"c") -> b | N10: X450J | O10: 48 | P10: a
A11: EMP0064 | B11: 33SK02 | C11: INDISPONIBLE | D11: 5 x450 | E11: Pal x 12 cart | G11: Guillin Emballage | H11: 3 | K11: =IFERROR(VLOOKUP(B11,$N$8:$P$61,3,FALSE),"c") -> c | N11: X10H40ALP | O11: 38 | P11: a
A12: EMP0063 | B12: 33SKN | C12: INDISPONIBLE | D12: 5 x450 | E12: Pal x 12 cart | G12: Guillin Emballage | H12: 3 | I12: 2 | J12: 800*1200 | K12: =IFERROR(VLOOKUP(B12,$N$8:$P$61,3,FALSE),"c") -> c | N12: M3C2000 | O12: 34 | P12: a
A13: EMP0027 | B13: 45SK02 | C13: INDISPONIBLE | D13: 5 cartonsx400e=2000 emballages | E13: Pal x 12 cart = | G13: Guillin Emballage | H13: 3 | K13: =IFERROR(VLOOKUP(B13,$N$8:$P$61,3,FALSE),"c") -> a | N13: X9H50 | O13: 31 | P13: a
A14: EMP0026 | B14: 45SKN | C14: INDISPONIBLE | D14: 5 cartonsx400e=2000 emballages | E14: Pal x 24 cart = | G14: Guillin Emballage | H14: 3 | K14: =IFERROR(VLOOKUP(B14,$N$8:$P$61,3,FALSE),"c") -> a | N14: X250G | O14: 21 | P14: a
A15: EMS0003 | B15: Adhésif Astruc | C15: INDISPONIBLE | D15: 10 cartonsx36r.=360 rouleaux | E15: 20 cartons | G15: CENPAC | H15: 3 | K15: =IFERROR(VLOOKUP(B15,$N$8:$P$61,3,FALSE),"c") -> a | N15: Carton rouge | O15: 20 | P15: a
A16: EMS0004 | B16: Adhésif Astruc GM | C16: INDISPONIBLE | D16: 3 cartonsx6r.=18 rouleaux | E16: 5 cartons | G16: CENPAC | H16: 3 | K16: =IFERROR(VLOOKUP(B16,$N$8:$P$61,3,FALSE),"c") -> c | N16: Coiffe à palette | O16: 15 | P16: a
A17: EMS0010 | B17: Adhésif PP transp. GM | C17: INDISPONIBLE | D17: 3 cartonsx6r.=18 rouleaux | E17: 5 cartons | G17: CENPAC | H17: 3 | K17: =IFERROR(VLOOKUP(B17,$N$8:$P$61,3,FALSE),"c") -> a | N17: 45SK02 | O17: 14 | P17: a
A18: EMS0005 | B18: Adhésif PP transparent | C18: INDISPONIBLE | D18: 2 cartonsx36r.=72 rouleaux | E18: 2 cartons | G18: CENPAC | H18: 3 | K18: =IFERROR(VLOOKUP(B18,$N$8:$P$61,3,FALSE),"c") -> c
A19: EMP0003 | B19: Alvéole 11 cases | C19: INDISPONIBLE | D19: 15 cartonsx1000a.=15 000 alvéoles | E19: 36000 | G19: Air Forme | H19: 3 | K19: =IFERROR(VLOOKUP(B19,$N$8:$P$61,3,FALSE),"c") -> b | N19: 45SKN | O19: 14 | P19: a
A20: EMP0006 | B20: Amortisseurs tuiles | C20: INDISPONIBLE | D20: 30 cartonsx2250=67500 | E20: 252000 | G20: Air Forme | H20: 3 | K20: =IFERROR(VLOOKUP(B20,$N$8:$P$61,3,FALSE),"c") -> a | N20: BJAH50 | O20: 14 | P20: a
A21: EMP0002 | B21: Assortiment 6 alvéoles | C21: INDISPONIBLE | D21: 15 cartonsx540a.=8100 alvéoles | E21: 40500 | G21: Air Forme | H21: 3 | K21: =IFERROR(VLOOKUP(B21,$N$8:$P$61,3,FALSE),"c") -> c | N21: X10,5B4E | O21: 13 | P21: a
A22: EMS0022 | B22: Barquettes box | C22: INDISPONIBLE | G22: DS Smith Packaging | H22: 3 | K22: =IFERROR(VLOOKUP(B22,$N$8:$P$61,3,FALSE),"c") -> c | N22: X10H80 | O22: 12 | P22: a
A23: EMS0022 | B23: Base box | C23: INDISPONIBLE | G23: DS Smith Packaging | H23: 3 | K23: =IFERROR(VLOOKUP(B23,$N$8:$P$61,3,FALSE),"c") -> c | N23: RUBAN ADHESIF PP HOT MELT BLANC MACHINE | O23: 11 | P23: a
A24: EMP0012 | B24: BJAH35 | C24: INDISPONIBLE | D24: 3 cartonsx250e=750 emballages | G24: Guillin Emballage | H24: 3 | K24: =IFERROR(VLOOKUP(B24,$N$8:$P$61,3,FALSE),"c") -> c | N24: X11, 5H40P | O24: 10 | P24: a
A25: EMP0013 | B25: BJAH50 | C25: INDISPONIBLE | D25: 12 cartonsx250e=750 emballages | E25: Pal x 12 cart = | G25: Guillin Emballage | H25: 3 | K25: =IFERROR(VLOOKUP(B25,$N$8:$P$61,3,FALSE),"c") -> a | N25: Fond 240 | O25: 9 | P25: a
A26: EMP0047 | B26: Boite à biscuit GM | C26: INDISPONIBLE | D26: 1 cartonx3000 | E26: 20000 | G26: LGR | H26: 3 | I26: 1.85 | J26: 800*1200 | K26: =IFERROR(VLOOKUP(B26,$N$8:$P$61,3,FALSE),"c") -> b | N26: Grand bol | O26: 9 | P26: a
B27: Boîte fer couvercle transparent | C27: INDISPONIBLE | D27: 10 cartons x 16 = 160 emb | E27: ? | G27: Conservor | H27: 3 | I27: 1.86 | J27: 800*1200 | K27: =IFERROR(VLOOKUP(B27,$N$8:$P$61,3,FALSE),"c") -> c | N27: Carton vert | O27: 8 | P27: a
A28: EMP0037 | B28: Boîte fer Intercontinent. | C28: INDISPONIBLE | D28: 40 cartons X 18 = 720 emb | E28: 5000 | G28: Conservor | H28: 3 | I28: 1.82 | J28: 800*1200 | K28: =IFERROR(VLOOKUP(B28,$N$8:$P$61,3,FALSE),"c") -> c | N28: Adhésif Astruc | O28: 8 | P28: a
A29: EMP0038 | B29: Boîte PVC couv. 240x172x35/34 | C29: INDISPONIBLE | D29: 35 X 124 emballages = 4340e | E29: 17500 | G29: Davoise | H29: 3 | I29: 1.8 | J29: 800*1200 | K29: =IFERROR(VLOOKUP(B29,$N$8:$P$61,3,FALSE),"c") -> c | N29: Couvercle de bol | O29: 8 | P29: a
A30: EMP0039 | B30: Boîte PVC couv.172x123x36/35 | C30: INDISPONIBLE | D30: 10 cartonsx258e=2580e | E30: 12500 | G30: Davoise | H30: 3 | I30: 1.8 | J30: 800*1200 | K30: =IFERROR(VLOOKUP(B30,$N$8:$P$61,3,FALSE),"c") -> c | N30: Film rétractable MR 405 | O30: 7 | P30: a
B31: Boîte PVC couv.247x123x35/34 | C31: INDISPONIBLE | D31: X 183 emballages | G31: Davoise | H31: 3 | K31: =IFERROR(VLOOKUP(B31,$N$8:$P$61,3,FALSE),"c") -> c | N31: Calage BAG | O31: 6 | P31: a
A32: EMP0039 | B32: Boîte PVC fond 172x123x36/35 | C32: INDISPONIBLE | D32: 10 cartonsx258e=2580e | E32: 12500 | G32: Davoise | H32: 3 | I32: 1.82 | J32: 800*1200 | K32: =IFERROR(VLOOKUP(B32,$N$8:$P$61,3,FALSE),"c") -> b | N32: Adhésif PP transp. GM | O32: 5 | P32: a
A33: EMP0038 | B33: Boîte PVC fond 240x172x35/34 | C33: INDISPONIBLE | D33: 35 X 124 emballages = 4340e | E33: 17500 | G33: Davoise | H33: 3 | K33: =IFERROR(VLOOKUP(B33,$N$8:$P$61,3,FALSE),"c") -> c | N33: Petit bol | O33: 5 | P33: a
B34: Boîte PVC fond 247x123x35/34 | C34: INDISPONIBLE | D34: X 183 emballages | G34: Davoise | H34: 3 | K34: =IFERROR(VLOOKUP(B34,$N$8:$P$61,3,FALSE),"c") -> c | N34: Carton gris | O34: 5 | P34: a
A35: EMP0005 | B35: Calage 24 mini financiers | C35: INDISPONIBLE | D35: 20 cartonsx2080 = 31200 | E35: 99840 | G35: Air Forme | H35: 3 | K35: =IFERROR(VLOOKUP(B35,$N$8:$P$61,3,FALSE),"c") -> a | N35: Calage 24 mini financiers | O35: 5 | P35: a
A36: EMP0065 | B36: Calage 32 mini financiers | C36: INDISPONIBLE | D36: Cartons x = 1600 | G36: Air Forme | H36: 3 | K36: =IFERROR(VLOOKUP(B36,$N$8:$P$61,3,FALSE),"c") -> c | N36: Amortisseurs tuiles | O36: 5 | P36: a
A37: EMP0004 | B37: Calage BAG | C37: INDISPONIBLE | D37: 30 cartonsx990=29700 | E37: 59400 | G37: Air Forme | H37: 3 | K37: =IFERROR(VLOOKUP(B37,$N$8:$P$61,3,FALSE),"c") -> a | N37: Film rétractable MR 355 | O37: 5 | P37: a
B38: Carton ¼ tines | C38: INDISPONIBLE | D38: / | G38: / | H38: 3 | K38: =IFERROR(VLOOKUP(B38,$N$8:$P$61,3,FALSE),"c") -> c | N38: Fond 240 | O38: 5 | P38: a
A39: EMS0025 | B39: Carton ½ tines | C39: INDISPONIBLE | D39: 1 palette=2100 cartons | E39: 12000 | G39: DS Smith Packaging | H39: 3 | I39: 1.65 | J39: 800*1200 | K39: =IFERROR(VLOOKUP(B39,$N$8:$P$61,3,FALSE),"c") -> c | N39: Papier fond cagettes 45 x 65 | O39: 5 | P39: a
B40: Carton blanc CDP | C40: INDISPONIBLE | D40: 1 palettex1200=1200 c | E40: 5000 | G40: DS Smith Packaging | H40: 3 | K40: =IFERROR(VLOOKUP(B40,$N$8:$P$61,3,FALSE),"c") -> c | N40: 3121DX00 | O40: 4 | P40: b
A41: EMS0024 | B41: Carton bleu | C41: INDISPONIBLE | D41: 1 palettex1200c.=1200 c | E41: 8000 | G41: DS Smith Packaging | H41: 3 | K41: =IFERROR(VLOOKUP(B41,$N$8:$P$61,3,FALSE),"c") -> b | N41: 3121DX30 | O41: 4 | P41: b
A42: EMP0048 | B42: Carton fond d’or | C42: INDISPONIBLE | D42: 2 palettesx6000c.=12000 c | E42: 15000 | G42: DS Smith Packaging | H42: 3 | I42: 1.82 | J42: 1200*1100 | K42: =IFERROR(VLOOKUP(B42,$N$8:$P$61,3,FALSE),"c") -> b | N42: Boîte PVC fond 172x123x36/35 | O42: 4 | P42: b
A43: EMS0002 | B43: Carton gris | C43: INDISPONIBLE | D43: 5 palettes | E43: 15000 | G43: DS Smith Packaging | H43: 3 | K43: =IFERROR(VLOOKUP(B43,$N$8:$P$61,3,FALSE),"c") -> a | N43: Carton noir | O43: 3 | P43: b
A44: EMS0043 | B44: Carton noir | C44: INDISPONIBLE | D44: 2 palettesx720c.=1440 c | E44: 4000 | G44: Turquet | H44: 3 | K44: =IFERROR(VLOOKUP(B44,$N$8:$P$61,3,FALSE),"c") -> b | N44: Amortisseurs tuiles | O44: 3 | P44: b
A45: EMS0001 | B45: Carton rouge | C45: INDISPONIBLE | D45: 6 palettes x 1200c= 7200 c | E45: 20000 | G45: DS Smith Packaging | H45: 3 | K45: =IFERROR(VLOOKUP(B45,$N$8:$P$61,3,FALSE),"c") -> a | N45: DS21H40 | O45: 3 | P45: b
A46: EMP0045 | B46: Carton TP or | C46: INDISPONIBLE | D46: 50 paquetsx200c.=10000 c | E46: 20000 | G46: Exten Packaging | H46: 3 | K46: =IFERROR(VLOOKUP(B46,$N$8:$P$61,3,FALSE),"c") -> b | N46: Film rétractable MR 405 | O46: 3 | P46: b
A47: EMS0021 | B47: Carton vert | C47: INDISPONIBLE | D47: 3 palettesx1200=3600 c | E47: 8 000 | G47: DS Smith Packaging | H47: 3 | K47: =IFERROR(VLOOKUP(B47,$N$8:$P$61,3,FALSE),"c") -> a | N47: LX21RNB | O47: 3 | P47: b
A48: EMS0044 | B48: Carton violet | C48: INDISPONIBLE | D48: 1 palette=750 cartons | E48: 5000 | H48: 3 | K48: =IFERROR(VLOOKUP(B48,$N$8:$P$61,3,FALSE),"c") -> b | N48: Papier fond cagette 45x65 | O48: 3 | P48: b
A49: EMS0011 | B49: Coiffe à palette | C49: INDISPONIBLE | D49: 1 | E49: 2 | G49: CENPAC | H49: 3 | K49: =IFERROR(VLOOKUP(B49,$N$8:$P$61,3,FALSE),"c") -> a | N49: Carton TP or | O49: 3 | P49: b
A50: EMS0022 | B50: Coiffes box | C50: INDISPONIBLE | G50: DS Smith Packaging | H50: 3 | K50: =IFERROR(VLOOKUP(B50,$N$8:$P$61,3,FALSE),"c") -> c | N50: X9H80 | O50: 3 | P50: b
A51: EMP0008 | B51: Couvercle 16 mini financi. | C51: INDISPONIBLE | D51: 50 cartonsx 640 = 32000 | E51: 64000 | G51: Air Forme | H51: 3 | K51: =IFERROR(VLOOKUP(B51,$N$8:$P$61,3,FALSE),"c") -> c | N51: 23SK02 | O51: 2 | P51: b
A52: EMP0053 | B52: Couvercle de bol | C52: INDISPONIBLE | D52: 10 cartonsx200= | G52: Solia | H52: 3 | I52: 1.81 | J52: 1200*1000 | K52: =IFERROR(VLOOKUP(B52,$N$8:$P$61,3,FALSE),"c") -> a | N52: 23SKN | O52: 2 | P52: b
A53: EMS0022 | B53: Croisillons box | C53: INDISPONIBLE | G53: DS Smith Packaging | H53: 3 | K53: =IFERROR(VLOOKUP(B53,$N$8:$P$61,3,FALSE),"c") -> c | N53: Alvéole 11 cases | O53: 2 | P53: b
A54: EMP0035 | B54: Cuvette PETITE (La Maison du Financier) | C54: INDISPONIBLE | D54: 1 carton x 750 = 750 | E54: 750 | G54: Bailly | H54: 3 | K54: =IFERROR(VLOOKUP(B54,$N$8:$P$61,3,FALSE),"c") -> c | N54: Carton fond d’or | O54: 2 | P54: b
A55: EMP0062 | B55: DS21RNB | C55: INDISPONIBLE | D55: 5 x210 | G55: Guillin Emballage | H55: 3 | K55: =IFERROR(VLOOKUP(B55,$N$8:$P$61,3,FALSE),"c") -> c | N55: Boîte pvc 24/100 fond 172x123x36/35 | O55: 2 | P55: b
A56: EMS0015 | B56: Feuillard presse à balle | C56: INDISPONIBLE | D56: 1 carton | E56: 2 cartons | G56: CENPAC | H56: 3 | K56: =IFERROR(VLOOKUP(B56,$N$8:$P$61,3,FALSE),"c") -> c | N56: Boite à biscuit GM | O56: 2 | P56: b
A57: EMS0006 | B57: Film cp Astruc pour B81 | C57: INDISPONIBLE | D57: 30 rouleaux | E57: 40 | G57: CENPAC | H57: 3 | K57: =IFERROR(VLOOKUP(B57,$N$8:$P$61,3,FALSE),"c") -> c | N57: Carton bleu | O57: 2 | P57: b
B58: Film pour Flowpack | C58: INDISPONIBLE | E58: / | G58: Ouest Pack | H58: 3 | I58: 1.96 | J58: 800*1200 | K58: =IFERROR(VLOOKUP(B58,$N$8:$P$61,3,FALSE),"c") -> c | N58: Carton violet | O58: 2 | P58: b
B59: Film pour Flowpack GM | C59: INDISPONIBLE | H59: 3 | I59: 1.96 | J59: 800*1200 | K59: =IFERROR(VLOOKUP(B59,$N$8:$P$61,3,FALSE),"c") -> c | N59: Calage 24 mini finaciers | O59: 2 | P59: b
A60: EMP0057 | B60: Film rétractable MR 355 | C60: INDISPONIBLE | D60: 2 rouleaux | E60: 15 rouleaux | G60: CENPAC | H60: 3 | K60: =IFERROR(VLOOKUP(B60,$N$8:$P$61,3,FALSE),"c") -> a | N60: Housses chariots | O60: 2 | P60: b
A61: EMP0056 | B61: Film rétractable MR 405 | C61: INDISPONIBLE | D61: 5 rouleaux | E61: 10 rouleaux | G61: CENPAC | H61: 3 | I61: 1.37 | J61: 1200*1000 | K61: =IFERROR(VLOOKUP(B61,$N$8:$P$61,3,FALSE),"c") -> a | N61: SSM15-B | O61: 2 | P61: b
A62: EMP0007 | B62: Fond 16 mini financiers | C62: INDISPONIBLE | D62: 50 cartonsx 640 = 32000 | E62: 64000 | G62: Air Forme | H62: 3 | K62: =IFERROR(VLOOKUP(B62,$N$8:$P$61,3,FALSE),"c") -> c
A63: EMP0042 | B63: Fond 195 | C63: INDISPONIBLE | D63: 1 palettex2700c.=2700 | E63: 20000 | G63: Exten Packaging | H63: 3 | K63: =IFERROR(VLOOKUP(B63,$N$8:$P$61,3,FALSE),"c") -> c
A64: EMP0044 | B64: Fond 240 | C64: INDISPONIBLE | D64: 4 palettesx2540c.=6160 c | E64: 18480 | G64: Exten Packaging | H64: 3 | K64: =IFERROR(VLOOKUP(B64,$N$8:$P$61,3,FALSE),"c") -> a
A65: EMP0043 | B65: Fond 240 Joyeuses fêtes | C65: INDISPONIBLE | D65: palettesx2540c.= | E65: 18480 | G65: Exten Packaging | H65: 3 | K65: =IFERROR(VLOOKUP(B65,$N$8:$P$61,3,FALSE),"c") -> c
A66: EMS0022 | B66: Frontons box | C66: INDISPONIBLE | G66: DS Smith Packaging | H66: 3 | K66: =IFERROR(VLOOKUP(B66,$N$8:$P$61,3,FALSE),"c") -> c
A67: EMP0052 | B67: Grand bol | C67: INDISPONIBLE | D67: 5 cartonsx200= | G67: Solia | H67: 3 | I67: 1.55 | J67: 1200*1000 | K67: =IFERROR(VLOOKUP(B67,$N$8:$P$61,3,FALSE),"c") -> a
A68: EMS0014 | B68: Housses chariots | C68: INDISPONIBLE | D68: 1 cartonx 100h. = 100 housses | E68: 5 cartons | G68: CENPAC | H68: 3 | I68: 2 | J68: 800*1200 | K68: =IFERROR(VLOOKUP(B68,$N$8:$P$61,3,FALSE),"c") -> b
A69: EMP0061 | B69: LX21KNB | C69: INDISPONIBLE | D69: 5 x210 | G69: Guillin Emballage | H69: 3 | K69: =IFERROR(VLOOKUP(B69,$N$8:$P$61,3,FALSE),"c") -> c
A70: EMP0014 | B70: M3C2000 | C70: INDISPONIBLE | D70: 27 cartonsx200e=2400 emballages | E70: Pal x 9 cart = | G70: Guillin Emballage | H70: 3 | I70: 1.75 | J70: 800*1200 | K70: =IFERROR(VLOOKUP(B70,$N$8:$P$61,3,FALSE),"c") -> a
B71: Nœuds rouges | C71: INDISPONIBLE | G71: Chaleyer | H71: 3 | K71: =IFERROR(VLOOKUP(B71,$N$8:$P$61,3,FALSE),"c") -> c
A72: EMS0023 | B72: Palettes box | C72: INDISPONIBLE | G72: DS Smith Packaging | H72: 3 | K72: =IFERROR(VLOOKUP(B72,$N$8:$P$61,3,FALSE),"c") -> c
B73: Panier rouges | C73: INDISPONIBLE | D73: Par 180. | G73: Deffrennes | H73: 3 | I73: 1.1 | J73: 800*1200 | K73: =IFERROR(VLOOKUP(B73,$N$8:$P$61,3,FALSE),"c") -> c
A74: EMP0050 | B74: Papier fond cagettes 45 x 65 | C74: INDISPONIBLE | E74: 500 kgs | G74: SIPEC | H74: 3 | K74: =IFERROR(VLOOKUP(B74,$N$8:$P$61,3,FALSE),"c") -> a
A75: EMP0051 | B75: Petit bol | C75: INDISPONIBLE | D75: 5 cartonsx200= | G75: Solia | H75: 3 | I75: 1.62 | J75: 800*1200 | K75: =IFERROR(VLOOKUP(B75,$N$8:$P$61,3,FALSE),"c") -> a
A76: EMP0017 | B76: Plat alu 1 kg | C76: INDISPONIBLE | D76: 1 cartonx100e=100 emballages | G76: Guillin Emballage | H76: 3 | K76: =IFERROR(VLOOKUP(B76,$N$8:$P$61,3,FALSE),"c") -> c
A77: EMP0009 | B77: Plat alu 500gr | C77: INDISPONIBLE | D77: 1 cartonx100e=100 emballages | G77: Guillin Emballage | H77: 3
A78: EMP0046 | B78: RAV171N | C78: INDISPONIBLE | D78: 30 cartonsx200e=6000 emballages | E78: Ne plus commander | G78: Guillin Emballage | H78: 3 | K78: =IFERROR(VLOOKUP(B78,$N$8:$P$61,3,FALSE),"c") -> c
A79: EMP0049 | B79: Sac fond Carton neutre | C79: INDISPONIBLE | D79: 2 cartonsx1000s. = 2000s | E79: 5000 | G79: Rythm | H79: 3 | I79: 1.96 | J79: 1200*1200 | K79: =IFERROR(VLOOKUP(B79,$N$8:$P$61,3,FALSE),"c") -> c
A80: EMP0054 | B80: Sac plastiq congél ½ tines | C80: INDISPONIBLE | D80: 10 cartonsx1000=10 000 c | E80: 50 000 s | G80: Sadem | H80: 3 | K80: =IFERROR(VLOOKUP(B80,$N$8:$P$61,3,FALSE),"c") -> c
A81: EMP0055 | B81: Sacs fermeture ZIP | C81: INDISPONIBLE | D81: 4 cartonsx1000s = 4000 sacs | E81: 10 cartons | G81: CENPAC | H81: 3 | I81: 1.84 | J81: 1000*1200 | K81: =IFERROR(VLOOKUP(B81,$N$8:$P$61,3,FALSE),"c") -> c
A82: EMP0029 | B82: SSM15-B | C82: INDISPONIBLE | D82: 1 cartonx50e=50 emballages | E82: cart | G82: Guillin Emballage | H82: 3 | K82: =IFERROR(VLOOKUP(B82,$N$8:$P$61,3,FALSE),"c") -> b
A83: EMP0020 | B83: X10,5B4E | C83: INDISPONIBLE | D83: 12 cartonsx220e=2640 emballages | E83: Pal x 12 cart = | G83: Guillin Emballage | H83: 3 | K83: =IFERROR(VLOOKUP(B83,$N$8:$P$61,3,FALSE),"c") -> a
A84: EMP0015 | B84: X10H40ALP | C84: INDISPONIBLE | D84: 36 cartonsx240e=1200 emballages | E84: Pal x 12 cart = | G84: Guillin Emballage | H84: 3 | I84: 1.74 | J84: 800*1200 | K84: =IFERROR(VLOOKUP(B84,$N$8:$P$61,3,FALSE),"c") -> a
A85: EMP0001 | B85: X10H66 | C85: INDISPONIBLE | D85: 120 cartonsx336e=40320 emballages | E85: 132 cart | G85: Guillin Emballage | H85: 3 | K85: =IFERROR(VLOOKUP(B85,$N$8:$P$61,3,FALSE),"c") -> a
A86: EMP0019 | B86: X10H80 | C86: INDISPONIBLE | D86: 5 cartonsx240e=1200 emballages | E86: Pal x 12 cart = | G86: Guillin Emballage | H86: 3 | K86: =IFERROR(VLOOKUP(B86,$N$8:$P$61,3,FALSE),"c") -> a
A87: EMP0010 | B87: X11, 5H40P | C87: INDISPONIBLE | D87: 5 cartonsx200e=1000 emballages | E87: Pal x 9 cart = | G87: Guillin Emballage | H87: 3 | K87: =IFERROR(VLOOKUP(B87,$N$8:$P$61,3,FALSE),"c") -> a
A88: EMP0011 | B88: X11H55 | C88: INDISPONIBLE | D88: 1 cartonx110e=110 emballages | E88: Pal x 21 cart = | G88: Guillin Emballage | H88: 3 | K88: =IFERROR(VLOOKUP(B88,$N$8:$P$61,3,FALSE),"c") -> c
A89: EMP0021 | B89: X250G | C89: INDISPONIBLE | D89: 30 cartonsx660e=6600 emballages | E89: Pal x 10 cart = | G89: Guillin Emballage | H89: 3 | K89: =IFERROR(VLOOKUP(B89,$N$8:$P$61,3,FALSE),"c") -> a
A90: EMP0022 | B90: X450J | C90: INDISPONIBLE | D90: 30 cartonsx660e=6600 emballages | E90: Pal x 10 cart = | G90: Guillin Emballage | H90: 3 | K90: =IFERROR(VLOOKUP(B90,$N$8:$P$61,3,FALSE),"c") -> a
A91: EMP0023 | B91: X9H40P | C91: INDISPONIBLE | D91: 48 cartonsx 36 e = 504 emballages | E91: Pal x 12 cart = | G91: Guillin Emballage | H91: 3 | K91: =IFERROR(VLOOKUP(B91,$N$8:$P$61,3,FALSE),"c") -> a
A92: EMP0024 | B92: X9H50 | C92: INDISPONIBLE | D92: 24 cartonsx360e=9000 emballages | E92: Pal x 12 cart = | G92: Guillin Emballage | H92: 3 | K92: =IFERROR(VLOOKUP(B92,$N$8:$P$61,3,FALSE),"c") -> a
A93: EMP0025 | B93: X9H80 | C93: INDISPONIBLE | D93: 2 cartonsx360e=720 emballages | G93: Guillin Emballage | H93: 3 | K93: =IFERROR(VLOOKUP(B93,$N$8:$P$61,3,FALSE),"c") -> b
A94: EMP0016 | B94: XG194P | C94: INDISPONIBLE | D94: 3 cartonsx210e=630 emballages | G94: Guillin Emballage | H94: 3 | K94: =IFERROR(VLOOKUP(B94,$N$8:$P$61,3,FALSE),"c") -> c

Sheet NOTE
B2: Notes

Sheet Feuil1

Sheet Inventaire
B2: Air Forme | C2: EMP0005 | D2: Calage 24 mini financiers | E2: jeudi
C3: EMP0004 | D3: Calage BAG | E3: jeudi
C4: EMP0006 | D4: Amortisseurs tuiles | E4: jeudi
B5: CENPAC | C5: EMS0011 | D5: Coiffe à palette | E5: jeudi
C6: EMS0005 | D6: Adhésif PP transparent | E6: jeudi
C7: EMP0056 | D7: Film rétractable MR 405 | E7: jeudi
C8: EMS0003 | D8: Adhésif Astruc | E8: jeudi
C9: EMS0004 | D9: Adhésif Astruc GM | E9: jeudi
C10: EMP0057 | D10: Film rétractable MR 355 | E10: jeudi
C11: EMS0014 | D11: Housses chariots | E11: jeudi
C12: EMS0006 | D12: Film cp Astruc pour B81 | E12: jeudi
B13: Davoise | C13: EMP0039 | D13: Boîte PVC fond 172x123x36/35 | E13: jeudi
C14: EMP0039 | D14: Boîte PVC couv.172x123x36/35 | E14: jeudi
C15: EMP0038 | D15: Boîte PVC fond 240x172x35/34 | E15: jeudi
C16: EMP0038 | D16: Boîte PVC couv. 240x172x35/34 | E16: jeudi
B17: DS Smith Packaging | C17: EMP0048 | D17: Carton fond d'or | E17: jeudi
C18: EMS0001 | D18: Carton rouge | E18: jeudi
C19: EMS0021 | D19: Carton vert | E19: jeudi
C20: EMS0002 | D20: Carton gris | E20: jeudi
C21: EMS0025 | D21: Carton ½ tines | E21: jeudi
C22: EMS0048 | D22: Carton fond d’or | E22: jeudi
C23: EMS0022 | D23: Base box | E23: jeudi
C24: EMS0022 | D24: Croisillons box | E24: jeudi
C25: EMS0022 | D25: Barquettes box | E25: jeudi
C26: EMS0022 | D26: Frontons box | E26: jeudi
C27: EMS0022 | D27: Coiffes box | E27: jeudi
C28: EMS0023 | D28: Palettes box | E28: jeudi
C29: EMP0044 | D29: Fond 240 | E29: jeudi
B30: Exten Packaging | C30: EMP0045 | D30: Carton TP or | E30: jeudi
D31: Fond 240 joyeuses fêtes | E31: jeudi
C32: EMP0050 | D32: Papier fond cagettes 45 x 65 | E32: jeudi
B33: SIPEC | C33: EMP0052 | D33: Grand bol | E33: jeudi
B34: Solia | C34: EMP0051 | D34: Petit bol | E34: jeudi
C35: EMP0053 | D35: Couvercle de bol | E35: jeudi
B36: Turquet | C36: EMS0043 | D36: Carton noir | E36: jeudi
