Workbook

Sheet A
A1: 100000 | B1: 325820 | C1: 350000 | D1: 400000 | E1: 463520 | F1: 468520 | G1: 500000 | H1: 600000 | I1: 652000 | J1: 700000 | K1: 800000 | L1: 900000 | M1: 1000000 | N1: 1100000 | O1: 1200000
A2: =IF(A1<=B!$C13,(A1*B!$C19),IF(AND(A1>B!$C13,A1<B!$C14),(B!$C13*B!$C19)+((A1-B!$C13)*B!$C20),IF(AND(A1>B!$C14,A1<B!$C15),B!$C13*B!$C19+(B!$C14-B!$C13)*B!$C20+(A1-B!$C14)*B!$C21,IF(AND(A1>B!$C15,A1<B!$C16),B!$C13*B!$C19+(B!$C14-B!$C13)*B!$C20+(B!$C15-B!$C14)*B!$C21+(A1-B!$C15)*B!$C22,IF(AND(A1>B!$C16,A1<B!$C17),B!$C13*B!$C19+(B!$C14-B!$C13)*B!$C20+(B!$C15-B!$C14)*B!$C21+(B!$C16-B!$C15)*B!$C22+(A1-B!$C16)*B!$C23,IF(A1>B!$C17,MIN(B!$C13*B!$C19+(B!$C14-B!$C13)*B!$C20+(B!$C15-B!$C14)*B!$C21+(B!$C16-B!$C15)*B!$C22+(B!$C17-B!$C16)*B!$C23+(A1-B!$C17)*B!$C24,B!$C25))))))) -> 73167.942 | B2: =IF(B1<=B!$C13,(B1*B!$C19),IF(AND(B1>B!$C13,B1<B!$C14),(B!$C13*B!$C19)+((B1-B!$C13)*B!$C20),IF(AND(B1>B!$C14,B1<B!$C15),B!$C13*B!$C19+(B!$C14-B!$C13)*B!$C20+(B1-B!$C14)*B!$C21,IF(AND(B1>B!$C15,B1<B!$C16),B!$C13*B!$C19+(B!$C14-B!$C13)*B!$C20+(B!$C15-B!$C14)*B!$C21+(B1-B!$C15)*B!$C22,IF(AND(B1>B!$C16,B1<B!$C17),B!$C13*B!$C19+(B!$C14-B!$C13)*B!$C20+(B!$C15-B!$C14)*B!$C21+(B!$C16-B!$C15)*B!$C22+(B1-B!$C16)*B!$C23,IF(B1>B!$C17,MIN(B!$C13*B!$C19+(B!$C14-B!$C13)*B!$C20+(B!$C15-B!$C14)*B!$C21+(B!$C16-B!$C15)*B!$C22+(B!$C17-B!$C16)*B!$C23+(B1-B!$C17)*B!$C24,B!$C25))))))) -> 63711.75 | C2: =IF(C1<=B!$C13,(C1*B!$C19),IF(AND(C1>B!$C13,C1<B!$C14),(B!$C13*B!$C19)+((C1-B!$C13)*B!$C20),IF(AND(C1>B!$C14,C1<B!$C15),B!$C13*B!$C19+(B!$C14-B!$C13)*B!$C20+(C1-B!$C14)*B!$C21,IF(AND(C1>B!$C15,C1<B!$C16),B!$C13*B!$C19+(B!$C14-B!$C13)*B!$C20+(B!$C15-B!$C14)*B!$C21+(C1-B!$C15)*B!$C22,IF(AND(C1>B!$C16,C1<B!$C17),B!$C13*B!$C19+(B!$C14-B!$C13)*B!$C20+(B!$C15-B!$C14)*B!$C21+(B!$C16-B!$C15)*B!$C22+(C1-B!$C16)*B!$C23,IF(C1>B!$C17,MIN(B!$C13*B!$C19+(B!$C14-B!$C13)*B!$C20+(B!$C15-B!$C14)*B!$C21+(B!$C16-B!$C15)*B!$C22+(B!$C17-B!$C16)*B!$C23+(C1-B!$C17)*B!$C24,B!$C25))))))) -> 65624.895 | D2: =IF(D1<=B!$C13,(D1*B!$C19),IF(AND(D1>B!$C13,D1<B!$C14),(B!$C13*B!$C19)+((D1-B!$C13)*B!$C20),IF(AND(D1>B!$C14,D1<B!$C15),B!$C13*B!$C19+(B!$C14-B!$C13)*B!$C20+(D1-B!$C14)*B!$C21,IF(AND(D1>B!$C15,D1<B!$C16),B!$C13*B!$C19+(B!$C14-B!$C13)*B!$C20+(B!$C15-B!$C14)*B!$C21+(D1-B!$C15)*B!$C22,IF(AND(D1>B!$C16,D1<B!$C17),B!$C13*B!$C19+(B!$C14-B!$C13)*B!$C20+(B!$C15-B!$C14)*B!$C21+(B!$C16-B!$C15)*B!$C22+(D1-B!$C16)*B!$C23,IF(D1>B!$C17,MIN(B!$C13*B!$C19+(B!$C14-B!$C13)*B!$C20+(B!$C15-B!$C14)*B!$C21+(B!$C16-B!$C15)*B!$C22+(B!$C17-B!$C16)*B!$C23+(D1-B!$C17)*B!$C24,B!$C25))))))) -> 69580.945 | E2: =IF(E1<=B!$C13,(E1*B!$C19),IF(AND(E1>B!$C13,E1<B!$C14),(B!$C13*B!$C19)+((E1-B!$C13)*B!$C20),IF(AND(E1>B!$C14,E1<B!$C15),B!$C13*B!$C19+(B!$C14-B!$C13)*B!$C20+(E1-B!$C14)*B!$C21,IF(AND(E1>B!$C15,E1<B!$C16),B!$C13*B!$C19+(B!$C14-B!$C13)*B!$C20+(B!$C15-B!$C14)*B!$C21+(E1-B!$C15)*B!$C22,IF(AND(E1>B!$C16,E1<B!$C17),B!$C13*B!$C19+(B!$C14-B!$C13)*B!$C20+(B!$C15-B!$C14)*B!$C21+(B!$C16-B!$C15)*B!$C22+(E1-B!$C16)*B!$C23,IF(E1>B!$C17,MIN(B!$C13*B!$C19+(B!$C14-B!$C13)*B!$C20+(B!$C15-B!$C14)*B!$C21+(B!$C16-B!$C15)*B!$C22+(B!$C17-B!$C16)*B!$C23+(E1-B!$C17)*B!$C24,B!$C25))))))) -> 74606.709 | F2: =IF(F1<=B!$C13,(F1*B!$C19),IF(AND(F1>B!$C13,F1<B!$C14),(B!$C13*B!$C19)+((F1-B!$C13)*B!$C20),IF(AND(F1>B!$C14,F1<B!$C15),B!$C13*B!$C19+(B!$C14-B!$C13)*B!$C20+(F1-B!$C14)*B!$C21,IF(AND(F1>B!$C15,F1<B!$C16),B!$C13*B!$C19+(B!$C14-B!$C13)*B!$C20+(B!$C15-B!$C14)*B!$C21+(F1-B!$C15)*B!$C22,IF(AND(F1>B!$C16,F1<B!$C17),B!$C13*B!$C19+(B!$C14-B!$C13)*B!$C20+(B!$C15-B!$C14)*B!$C21+(B!$C16-B!$C15)*B!$C22+(F1-B!$C16)*B!$C23,IF(F1>B!$C17,MIN(B!$C13*B!$C19+(B!$C14-B!$C13)*B!$C20+(B!$C15-B!$C14)*B!$C21+(B!$C16-B!$C15)*B!$C22+(B!$C17-B!$C16)*B!$C23+(F1-B!$C17)*B!$C24,B!$C25))))))) -> 75002.314 | G2: =IF(G1<=B!$C13,(G1*B!$C19),IF(AND(G1>B!$C13,G1<B!$C14),(B!$C13*B!$C19)+((G1-B!$C13)*B!$C20),IF(AND(G1>B!$C14,G1<B!$C15),B!$C13*B!$C19+(B!$C14-B!$C13)*B!$C20+(G1-B!$C14)*B!$C21,IF(AND(G1>B!$C15,G1<B!$C16),B!$C13*B!$C19+(B!$C14-B!$C13)*B!$C20+(B!$C15-B!$C14)*B!$C21+(G1-B!$C15)*B!$C22,IF(AND(G1>B!$C16,G1<B!$C17),B!$C13*B!$C19+(B!$C14-B!$C13)*B!$C20+(B!$C15-B!$C14)*B!$C21+(B!$C16-B!$C15)*B!$C22+(G1-B!$C16)*B!$C23,IF(G1>B!$C17,MIN(B!$C13*B!$C19+(B!$C14-B!$C13)*B!$C20+(B!$C15-B!$C14)*B!$C21+(B!$C16-B!$C15)*B!$C22+(B!$C17-B!$C16)*B!$C23+(G1-B!$C17)*B!$C24,B!$C25))))))) -> 77493.043 | H2: =IF(H1<=B!$C13,(H1*B!$C19),IF(AND(H1>B!$C13,H1<B!$C14),(B!$C13*B!$C19)+((H1-B!$C13)*B!$C20),IF(AND(H1>B!$C14,H1<B!$C15),B!$C13*B!$C19+(B!$C14-B!$C13)*B!$C20+(H1-B!$C14)*B!$C21,IF(AND(H1>B!$C15,H1<B!$C16),B!$C13*B!$C19+(B!$C14-B!$C13)*B!$C20+(B!$C15-B!$C14)*B!$C21+(H1-B!$C15)*B!$C22,IF(AND(H1>B!$C16,H1<B!$C17),B!$C13*B!$C19+(B!$C14-B!$C13)*B!$C20+(B!$C15-B!$C14)*B!$C21+(B!$C16-B!$C15)*B!$C22+(H1-B!$C16)*B!$C23,IF(H1>B!$C17,MIN(B!$C13*B!$C19+(B!$C14-B!$C13)*B!$C20+(B!$C15-B!$C14)*B!$C21+(B!$C16-B!$C15)*B!$C22+(B!$C17-B!$C16)*B!$C23+(H1-B!$C17)*B!$C24,B!$C25))))))) -> 84247.746 | ... O2: =IF(O1<=B!$C13,(O1*B!$C19),IF(AND(O1>B!$C13,O1<B!$C14),(B!$C13*B!$C19)+((O1-B!$C13)*B!$C20),IF(AND(O1>B!$C14,O1<B!$C15),B!$C13*B!$C19+(B!$C14-B!$C13)*B!$C20+(O1-B!$C14)*B!$C21,IF(AND(O1>B!$C15,O1<B!$C16),B!$C13*B!$C19+(B!$C14-B!$C13)*B!$C20+(B!$C15-B!$C14)*B!$C21+(O1-B!$C15)*B!$C22,IF(AND(O1>B!$C16,O1<B!$C17),B!$C13*B!$C19+(B!$C14-B!$C13)*B!$C20+(B!$C15-B!$C14)*B!$C21+(B!$C16-B!$C15)*B!$C22+(O1-B!$C16)*B!$C23,IF(O1>B!$C17,MIN(B!$C13*B!$C19+(B!$C14-B!$C13)*B!$C20+(B!$C15-B!$C14)*B!$C21+(B!$C16-B!$C15)*B!$C22+(B!$C17-B!$C16)*B!$C23+(O1-B!$C17)*B!$C24,B!$C25))))))) -> 102658.73

Sheet B
B3: 1000000 | C3: =IF(B3<=C13,(B3*C19),IF(AND(B3>C13,B3<C14),(C13*C19)+((B3-C13)*C20),IF(AND(B3>C14,B3<C15),C13*C19+(C14-C13)*C20+(B3-C14)*C21,IF(AND(B3>C15,B3<C16),C13*C19+(C14-C13)*C20+(C15-C14)*C21+(B3-C15)*C22,IF(AND(B3>C16,B3<C17),C13*C19+(C14-C13)*C20+(C15-C14)*C21+(C16-C15)*C22+(B3-C16)*C23,IF(B3>C17,MIN(C13*C19+(C14-C13)*C20+(C15-C14)*C21+(C16-C15)*C22+(C17-C16)*C23+(B3-C17)*C24,C25))))))) -> 98180.885
B10: xxxxxx | C10: 5.2563
B11: xxxxxx | C11: 7.5263
B12: xxxxxx | C12: =C10*C11/100 -> 0.39560491
A13: 300000 | B13: xxxxxx | C13: =$A$13/$C$10 -> 57074.368
A14: 600000 | B14: xxxxxx | C14: =$A$14/$C$10 -> 114148.74
A15: 120000 | B15: xxxxxx | C15: =$A$15/$C$10 -> 22829.747
A16: 3000000 | B16: xxxxxx | C16: =$A$16/$C$10 -> 570743.68
A17: 4000000 | B17: xxxxxx | C17: =$A$17/$C$10 -> 760991.57
A18: 6000000 | B18: xxxxxx | C18: =$A$18/$C$10 -> 1141487.4
A19: 2.15 | B19: xxxxxx | C19: =$C$12*$A$19 -> 0.85055055
A20: 1.45 | B20: xxxxxx | C20: =$C$12*$A$20 -> 0.57362712
A21: 1.15 | B21: xxxxxx | C21: =$C$12*$A$21 -> 0.45494564
A22: 0.2 | B22: xxxxxx | C22: =$C$12*$A$22 -> 0.079120981
A23: 0.1 | B23: xxxxxx | C23: =$C$12*$A$23 -> 0.039560491
A24: 0.08 | B24: xxxxxx | C24: =$C$12*$A$24 -> 0.031648393
B25: xxxxxx | C25: =C13*C19+(C14-C13)*C20+(C15-C14)*C21+(C16-C15)*C22+(C17-C16)*C23+(C18-C17)*C24 -> 102658.73
