Workbook

Sheet Feuil1
A1: Nom | B1: prenom | C1: service | D1: entrée | E1: plat | F1: dessert | G1: boisson | H1: Total points
D2: 5 | E2: 6 | F2: 5 | G2: 2 | H2: =TODAY() -> 43038
A3: test | B3: 1 | C3: info | H3: =IF($A3<>"",IF($D3="x",$D$2,0)+IF($E3="x",$E$2,0)+IF($F3="x",$F$2,0)+IF($G3="x",$G$2,0)) -> 0
A4: test | B4: 2 | C4: info | E4: x | G4: x | H4: =IF($A4<>"",IF($D4="x",$D$2,0)+IF($E4="x",E$2,0)+IF($F4="x",$F$2,0)+IF($G4="x",$G$2,0),"") -> 8
A5: test | B5: 3 | C5: com | E5: x | H5: =IF($A5<>"",IF($D5="x",$D$2,0)+IF($E5="x",E$2,0)+IF($F5="x",$F$2,0)+IF($G5="x",$G$2,0),"") -> 6
A6: test | B6: 4 | C6: info | H6: =IF($A6<>"",IF($D6="x",$D$2,0)+IF($E6="x",E$2,0)+IF($F6="x",$F$2,0)+IF($G6="x",$G$2,0),"") -> 0
A7: test | B7: 5 | C7: com | D7: x | H7: =IF($A7<>"",IF($D7="x",$D$2,0)+IF($E7="x",E$2,0)+IF($F7="x",$F$2,0)+IF($G7="x",$G$2,0),"") -> 5
A8: test | B8: 6 | C8: com | E8: x | F8: x | G8: x | H8: =IF($A8<>"",IF($D8="x",$D$2,0)+IF($E8="x",E$2,0)+IF($F8="x",$F$2,0)+IF($G8="x",$G$2,0),"") -> 13
A10: TOTAL | D10: =COUNTA(D3:D8) -> 1 | E10: =COUNTA(E3:E8) -> 3 | F10: =COUNTA(F3:F8) -> 1 | G10: =COUNTA(G3:G8) -> 2
H11: =CONCATENATE("Présents ",COUNTIF(H3:H8,">0")) -> Présents 4

Sheet Feuil2
C2: Tableu test
D3: =TODAY() -> 43038 | E3: 43035 | F3: 43036
A4: test | B4: 4 | D4: =IF(AND($A$4=Feuil1!$A3,$B$4=Feuil1!$B3,$D$3=TODAY()),Feuil1!$H3," A Vérifier") -> A Vérifier | E4: 5 | F4: 0
A5: test | B5: 2 | D5: =IF(AND(A5=Feuil1!A4,B5=Feuil1!B4,D$3=TODAY()),Feuil1!H4,"") -> 8 | E5: 8 | F5: 8
A6: test | B6: 3 | D6: =IF(AND(A6=Feuil1!A5,B6=Feuil1!B5,D$3=TODAY()),Feuil1!H5,"") -> 6 | E6: 6 | F6: 6
A7: test | B7: 4 | D7: =IF(AND(A7=Feuil1!A6,B7=Feuil1!B6,D$3=TODAY()),Feuil1!H6,"") -> 0 | E7: 10 | F7: 0
A8: test | B8: 5 | D8: =IF(AND(A8=Feuil1!A7,B8=Feuil1!B7,D$3=TODAY()),Feuil1!H7,"") -> 5 | E8: 5 | F8: 5
A9: test | B9: 6 | D9: =IF(AND(A9=Feuil1!A8,B9=Feuil1!B8,D$3=TODAY()),Feuil1!H8,"") -> 13 | E9: 0 | F9: 13
D11: =COUNTIF(D4:D9,">0") -> 4 | E11: =COUNTIF(E4:E9,">0") -> 5 | F11: 4
C13: Tableau final
A15: Nom | B15: prenom | C15: jour1 | D15: jour2 | E15: jour3 | F15: jour4 | G15: Total points
A17: test | B17: 1 | C17: 10 | D17: 9 | E17: 12 | F17: 9 | G17: =SUM(B17:F17) -> 41
A18: test | B18: 2 | C18: 0 | D18: 10 | E18: 12 | F18: 8 | G18: =SUM(B18:F18) -> 32
A19: test | B19: 3 | C19: 5 | D19: 0 | E19: 0 | F19: 9 | G19: =SUM(B19:F19) -> 17
A20: test | B20: 4 | C20: 12 | D20: 0 | E20: 5 | F20: 8 | G20: =SUM(B20:F20) -> 29
A21: test | B21: 5 | C21: 4 | D21: 12 | E21: 0 | F21: 10 | G21: =SUM(B21:F21) -> 31
A22: test | B22: 6 | C22: 9 | D22: 6 | E22: 0 | F22: 11 | G22: =SUM(B22:F22) -> 32
A24: TOTAL | C24: =COUNTIF(C17:C22,"<>0") -> 5 | D24: =COUNTIF(D17:D22,"<>0") -> 4 | E24: =COUNTIF(E17:E22,"<>0") -> 3 | F24: =COUNTIF(F17:F22,"<>0") -> 6
G25: =CONCATENATE("Présents ",COUNTIF(G17:G22,">0")) -> Présents 6
