Workbook

Sheet Candidats
A1: CANDIDATS
A3: NOM | B3: EPREUVE 1 | C3: EPREUVE 2
A4: A | B4: OUI | C4: OUI
A5: B | B5: OUI | C5: NON
A6: C | B6: OUI | C6: OUI
A7: D | B7: OUI | C7: OUI
A8: E | B8: NON | C8: OUI
A9: F | B9: OUI | C9: OUI
A10: G | B10: OUI | C10: OUI
A11: H | B11: OUI | C11: OUI
A12: I | B12: OUI | C12: NON
A13: J | B13: NON | C13: OUI
A14: K | B14: OUI | C14: OUI
... A29: Z | B29: OUI | C29: NON

Sheet Cobayes
A1: COBAYES
A3: NOM | B3: EPREUVE 1 | C3: EPREUVE 2
A4: A | B4: NON | C4: OUI
A5: B | B5: OUI | C5: OUI
A6: C | B6: OUI | C6: NON
A7: D | B7: NON | C7: NON
A8: E | B8: OUI | C8: OUI
A9: F | B9: NON | C9: OUI
A10: G | B10: OUI | C10: OUI
A11: H | B11: OUI | C11: NON
A12: I | B12: NON | C12: NON
A13: J | B13: OUI | C13: OUI
A14: K | B14: NON | C14: OUI
... A29: Z | B29: OUI | C29: NON

Sheet E1
A1: EPREUVE 1
A3: Nombre de candidat inscrit à l'épreuve 1
A4: =COUNTIF(Candidats!B:B,"OUI") -> 20
D5: JURY 1 | I5: JURY 2 | N5: JURY 3
A6: durée | B6: pause | D6: DEBUT | E6: FIN | F6: NOM CANDIDAT | G6: NOM COBAYES | I6: DEBUT | J6: FIN | K6: NOM CANDIDAT | L6: NOM COBAYES | N6: DEBUT | O6: FIN | P6: NOM CANDIDAT | Q6: NOM COBAYES
A7: 0.020833333 | B7: 0.0034722222 | D7: 0.375 | E7: =D7+$A$7 -> 0.39583333 | F7: A | G7: B | I7: 0.375 | J7: =I7+$A$7 -> 0.39583333 | K7: S | L7: Y | N7: 0.375 | O7: =N7+$A$7 -> 0.39583333
D8: =E7+$B$7 -> 0.39930556 | E8: =D8+$A$7 -> 0.42013889 | F8: H | G8: C | I8: =J7+$B$7 -> 0.39930556 | J8: =I8+$A$7 -> 0.42013889 | K8: M | L8: Z | N8: =O7+$B$7 -> 0.39930556 | O8: =N8+$A$7 -> 0.42013889
D9: =E8+$B$7 -> 0.42361111 | E9: =D9+$A$7 -> 0.44444444 | F9: D | G9: E | I9: =J8+$B$7 -> 0.42361111 | J9: =I9+$A$7 -> 0.44444444 | K9: Z | L9: G | N9: =O8+$B$7 -> 0.42361111 | O9: =N9+$A$7 -> 0.44444444
D10: =E9+$B$7 -> 0.44791667 | E10: =D10+$A$7 -> 0.46875 | F10: W | G10: G | I10: =J9+$B$7 -> 0.44791667 | J10: =I10+$A$7 -> 0.46875 | K10: Q | L10: L | N10: =O9+$B$7 -> 0.44791667 | O10: =N10+$A$7 -> 0.46875
D11: =E10+$B$7 -> 0.47222222 | E11: =D11+$A$7 -> 0.49305556 | F11: Y | G11: H | I11: =J10+$B$7 -> 0.47222222 | J11: =I11+$A$7 -> 0.49305556 | K11: V | L11: W | N11: =O10+$B$7 -> 0.47222222 | O11: =N11+$A$7 -> 0.49305556
D12: =E11+$B$7 -> 0.49652778 | E12: =D12+$A$7 -> 0.51736111 | F12: G | G12: J | I12: =J11+$B$7 -> 0.49652778 | J12: =I12+$A$7 -> 0.51736111 | K12: K | L12: Q | N12: =O11+$B$7 -> 0.49652778 | O12: =N12+$A$7 -> 0.51736111
D13: =E12+$B$7 -> 0.52083333 | E13: =D13+$A$7 -> 0.54166667 | F13: U | G13: L | I13: =J12+$B$7 -> 0.52083333 | J13: =I13+$A$7 -> 0.54166667 | N13: =O12+$B$7 -> 0.52083333 | O13: =N13+$A$7 -> 0.54166667
D14: =E13+$B$7 -> 0.54513889 | E14: =D14+$A$7 -> 0.56597222 | F14: B | G14: M | I14: =J13+$B$7 -> 0.54513889 | J14: =I14+$A$7 -> 0.56597222 | N14: =O13+$B$7 -> 0.54513889 | O14: =N14+$A$7 -> 0.56597222
D15: =E14+$B$7 -> 0.56944444 | E15: =D15+$A$7 -> 0.59027778 | F15: F | G15: O | I15: =J14+$B$7 -> 0.56944444 | J15: =I15+$A$7 -> 0.59027778 | N15: =O14+$B$7 -> 0.56944444 | O15: =N15+$A$7 -> 0.59027778
D16: =E15+$B$7 -> 0.59375 | E16: =D16+$A$7 -> 0.61458333 | F16: C | G16: Q | I16: =J15+$B$7 -> 0.59375 | J16: =I16+$A$7 -> 0.61458333 | N16: =O15+$B$7 -> 0.59375 | O16: =N16+$A$7 -> 0.61458333
D17: =E16+$B$7 -> 0.61805556 | E17: =D17+$A$7 -> 0.63888889 | F17: I | G17: R | I17: =J16+$B$7 -> 0.61805556 | J17: =I17+$A$7 -> 0.63888889 | N17: =O16+$B$7 -> 0.61805556 | O17: =N17+$A$7 -> 0.63888889
D18: =E17+$B$7 -> 0.64236111 | E18: =D18+$A$7 -> 0.66319444 | F18: P | G18: T | I18: =J17+$B$7 -> 0.64236111 | J18: =I18+$A$7 -> 0.66319444 | N18: =O17+$B$7 -> 0.64236111 | O18: =N18+$A$7 -> 0.66319444
D19: =E18+$B$7 -> 0.66666667 | E19: =D19+$A$7 -> 0.6875 | F19: R | G19: V | I19: =J18+$B$7 -> 0.66666667 | J19: =I19+$A$7 -> 0.6875 | N19: =O18+$B$7 -> 0.66666667 | O19: =N19+$A$7 -> 0.6875
D20: =E19+$B$7 -> 0.69097222 | E20: =D20+$A$7 -> 0.71180556 | F20: T | G20: W | I20: =J19+$B$7 -> 0.69097222 | J20: =I20+$A$7 -> 0.71180556 | N20: =O19+$B$7 -> 0.69097222 | O20: =N20+$A$7 -> 0.71180556

Sheet E2
A1: EPREUVE 2
A3: Nombre de candidat inscrit à l'épreuve 2
A4: =COUNTIF(Candidats!C:C,"OUI") -> 18
D5: JURY 1 | I5: JURY 2 | N5: JURY 3
A6: durée | B6: pause | D6: DEBUT | E6: FIN | F6: NOM CANDIDAT | G6: NOM COBAYES | I6: DEBUT | J6: FIN | K6: NOM CANDIDAT | L6: NOM COBAYES | N6: DEBUT | O6: FIN | P6: NOM CANDIDAT | Q6: NOM COBAYES
A7: 0.013888889 | B7: 0.0034722222 | D7: 0.375 | E7: =D7+$A$7 -> 0.38888889 | I7: 0.375 | J7: =I7+$A$7 -> 0.38888889 | N7: 0.375 | O7: =N7+$A$7 -> 0.38888889
D8: =E7+$B$7 -> 0.39236111 | E8: =D8+$A$7 -> 0.40625 | I8: =J7+$B$7 -> 0.39236111 | J8: =I8+$A$7 -> 0.40625 | N8: =O7+$B$7 -> 0.39236111 | O8: =N8+$A$7 -> 0.40625
D9: =E8+$B$7 -> 0.40972222 | E9: =D9+$A$7 -> 0.42361111 | I9: =J8+$B$7 -> 0.40972222 | J9: =I9+$A$7 -> 0.42361111 | N9: =O8+$B$7 -> 0.40972222 | O9: =N9+$A$7 -> 0.42361111
D10: =E9+$B$7 -> 0.42708333 | E10: =D10+$A$7 -> 0.44097222 | I10: =J9+$B$7 -> 0.42708333 | J10: =I10+$A$7 -> 0.44097222 | N10: =O9+$B$7 -> 0.42708333 | O10: =N10+$A$7 -> 0.44097222
D11: =E10+$B$7 -> 0.44444444 | E11: =D11+$A$7 -> 0.45833333 | I11: =J10+$B$7 -> 0.44444444 | J11: =I11+$A$7 -> 0.45833333 | N11: =O10+$B$7 -> 0.44444444 | O11: =N11+$A$7 -> 0.45833333
D12: =E11+$B$7 -> 0.46180556 | E12: =D12+$A$7 -> 0.47569444 | I12: =J11+$B$7 -> 0.46180556 | J12: =I12+$A$7 -> 0.47569444 | N12: =O11+$B$7 -> 0.46180556 | O12: =N12+$A$7 -> 0.47569444
D13: =E12+$B$7 -> 0.47916667 | E13: =D13+$A$7 -> 0.49305556 | I13: =J12+$B$7 -> 0.47916667 | J13: =I13+$A$7 -> 0.49305556 | N13: =O12+$B$7 -> 0.47916667 | O13: =N13+$A$7 -> 0.49305556
D14: =E13+$B$7 -> 0.49652778 | E14: =D14+$A$7 -> 0.51041667 | I14: =J13+$B$7 -> 0.49652778 | J14: =I14+$A$7 -> 0.51041667 | N14: =O13+$B$7 -> 0.49652778 | O14: =N14+$A$7 -> 0.51041667
D15: =E14+$B$7 -> 0.51388889 | E15: =D15+$A$7 -> 0.52777778 | I15: =J14+$B$7 -> 0.51388889 | J15: =I15+$A$7 -> 0.52777778 | N15: =O14+$B$7 -> 0.51388889 | O15: =N15+$A$7 -> 0.52777778
D16: =E15+$B$7 -> 0.53125 | E16: =D16+$A$7 -> 0.54513889 | I16: =J15+$B$7 -> 0.53125 | J16: =I16+$A$7 -> 0.54513889 | N16: =O15+$B$7 -> 0.53125 | O16: =N16+$A$7 -> 0.54513889
D17: =E16+$B$7 -> 0.54861111 | E17: =D17+$A$7 -> 0.5625 | I17: =J16+$B$7 -> 0.54861111 | J17: =I17+$A$7 -> 0.5625 | N17: =O16+$B$7 -> 0.54861111 | O17: =N17+$A$7 -> 0.5625
D18: =E17+$B$7 -> 0.56597222 | E18: =D18+$A$7 -> 0.57986111 | I18: =J17+$B$7 -> 0.56597222 | J18: =I18+$A$7 -> 0.57986111 | N18: =O17+$B$7 -> 0.56597222 | O18: =N18+$A$7 -> 0.57986111
D19: =E18+$B$7 -> 0.58333333 | E19: =D19+$A$7 -> 0.59722222 | I19: =J18+$B$7 -> 0.58333333 | J19: =I19+$A$7 -> 0.59722222 | N19: =O18+$B$7 -> 0.58333333 | O19: =N19+$A$7 -> 0.59722222
D20: =E19+$B$7 -> 0.60069444 | E20: =D20+$A$7 -> 0.61458333 | I20: =J19+$B$7 -> 0.60069444 | J20: =I20+$A$7 -> 0.61458333 | N20: =O19+$B$7 -> 0.60069444 | O20: =N20+$A$7 -> 0.61458333

Sheet Convocation
A1: NOM | B1: Convocation 1 | D1: Convocation 2
B2: début | C2: fin | D2: début | E2: fin
A3: =Candidats!A4 -> A
A4: =Candidats!A5 -> B
A5: =Candidats!A6 -> C
A6: =Candidats!A7 -> D
A7: =Candidats!A8 -> E
A8: =Candidats!A9 -> F
A9: =Candidats!A10 -> G
A10: =Candidats!A11 -> H
A11: =Candidats!A12 -> I
A12: =Candidats!A13 -> J
A13: =Candidats!A14 -> K
A14: =Candidats!A15 -> L
... A28: =Candidats!A29 -> Z

Sheet Feuil7
