Workbook
Name JOURS_FERIES: 'JOURS FERIES'!$C$3:$E$12

Sheet CALENDRIER
A1: CP1 | B1: 1/2 CP1 | C1: période de référence (1er juin au 31 mai)
A2: CP2 | B2: 1/2 CP2 | C2: année civile (du 1er janvier au 31 décembre)
A3: CP3 | B3: 1/2 CP3 | C3: période de référence (1er septembre au 31 août)
A4: FRAC | C4: période de référence (1er novembre au 30 avril)
A5: ENF MAL | C5: année civile (du 1er janvier au 31 décembre)
A6: Mal | B6: Maladie
A7: CA
G8: =SOLDES!D1 -> Isabelle | H8: =SOLDES!E1 -> Stéphanie D. | I8: =SOLDES!F1 -> Elise | J8: =SOLDES!G1 -> Corine | K8: =SOLDES!H1 -> Stéphanie I. | L8: =SOLDES!I1 -> Véronique | M8: =SOLDES!J1 -> Julien | N8: =SOLDES!K1 -> Nicolas | ... BD8: =SOLDES!BA1 -> Maëva B.
A9: =B9 -> 42614 | B9: 42614
A10: =B10 -> 42615 | B10: 42615
A11: =B11 -> 42616 | B11: 42616
A12: =B12 -> 42617 | B12: 42617
A13: =B13 -> 42618 | B13: 42618
A14: =B14 -> 42619 | B14: 42619
A15: =B15 -> 42620 | B15: 42620
A16: =B16 -> 42621 | B16: 42621
A17: =B17 -> 42622 | B17: 42622
A18: =B18 -> 42623 | B18: 42623
A19: =B19 -> 42624 | B19: 42624
A20: =B20 -> 42625 | B20: 42625
... A56: =B56 -> 42661 | B56: 42661
A57: =B57 -> 42662 | B57: 42662 | P57: CP2
A58: =B58 -> 42663 | B58: 42663 | I58: CP1 | J58: 1/2 CP1 | P58: CP2
A59: =B59 -> 42664 | B59: 42664 | I59: CP1 | P59: CP2
A60: =B60 -> 42665 | B60: 42665
A61: =B61 -> 42666 | B61: 42666
A62: =B62 -> 42667 | B62: 42667 | H62: CP1 | I62: CP1 | P62: CP2
A63: =B63 -> 42668 | B63: 42668 | H63: CP1 | I63: CP1 | P63: CP2
A64: =B64 -> 42669 | B64: 42669 | H64: CP1 | I64: CP1 | P64: CP2
A65: =B65 -> 42670 | B65: 42670 | H65: CP1 | I65: CP1 | P65: CP2
A66: =B66 -> 42671 | B66: 42671 | H66: CP1 | I66: CP1 | P66: CP2
A67: =B67 -> 42672 | B67: 42672
A68: =B68 -> 42673 | B68: 42673
A69: =B69 -> 42674 | B69: 42674 | I69: CP1 | J69: CP1 | P69: CP2
A70: =B70 -> 42675 | B70: 42675
A71: =B71 -> 42676 | B71: 42676 | P71: CP2
A72: =B72 -> 42677 | B72: 42677 | P72: CP2
A73: =B73 -> 42678 | B73: 42678 | P73: CP2
A74: =B74 -> 42679 | B74: 42679
A75: =B75 -> 42680 | B75: 42680
A76: =B76 -> 42681 | B76: 42681 | P76: CP2
A77: =B77 -> 42682 | B77: 42682 | P77: CP2
A78: =B78 -> 42683 | B78: 42683 | P78: CP2
A79: =B79 -> 42684 | B79: 42684 | P79: CP2
A80: =B80 -> 42685 | B80: 42685
A81: =B81 -> 42686 | B81: 42686
A82: =B82 -> 42687 | B82: 42687
A83: =B83 -> 42688 | B83: 42688
A84: =B84 -> 42689 | B84: 42689
A85: =B85 -> 42690 | B85: 42690
A86: =B86 -> 42691 | B86: 42691
A87: =B87 -> 42692 | B87: 42692
A88: =B88 -> 42693 | B88: 42693
A89: =B89 -> 42694 | B89: 42694
A90: =B90 -> 42695 | B90: 42695
A91: =B91 -> 42696 | B91: 42696
... A117: =B117 -> 42722 | B117: 42722
A118: =B118 -> 42723 | B118: 42723 | P118: CP2 | AC118: CP2 | AI118: CP3 | AJ118: CP3 | AL118: CP3 | AM118: CP3 | AO118: CP3 | AP118: CP3 | AQ118: CP3 | AR118: CP3 | AS118: CP3 | AU118: CP3 | AX118: CP3 | AY118: CP3 | AZ118: CP3 | BB118: CP3
A119: =B119 -> 42724 | B119: 42724 | P119: CP2 | AC119: CP2 | AI119: CP3 | AJ119: CP3 | AL119: CP3 | AM119: CP3 | AO119: CP3 | AP119: CP3 | AQ119: CP3 | AR119: CP3 | AS119: CP3 | AU119: CP3 | AX119: CP3 | AY119: CP3 | AZ119: CP3 | BB119: CP3
A120: =B120 -> 42725 | B120: 42725 | P120: CP2 | AC120: CP2 | AI120: CP3 | AJ120: CP3 | AL120: CP3 | AM120: CP3 | AO120: CP3 | AP120: CP3 | AQ120: CP3 | AR120: CP3 | AS120: CP3 | AU120: CP3 | AX120: CP3 | AY120: CP3 | AZ120: CP3 | BB120: CP3
A121: =B121 -> 42726 | B121: 42726 | P121: CP2 | AC121: CP2 | AI121: CP3 | AJ121: CP3 | AL121: CP3 | AM121: CP3 | AO121: CP3 | AP121: CP3 | AQ121: CP3 | AR121: CP3 | AS121: CP3 | AU121: CP3 | AX121: CP3 | AY121: CP3 | AZ121: CP3 | BB121: CP3
A122: =B122 -> 42727 | B122: 42727 | P122: CP2 | AC122: CP2 | AI122: CP3 | AJ122: CP3 | AL122: CP3 | AM122: CP3 | AO122: CP3 | AP122: CP3 | AQ122: CP3 | AR122: CP3 | AS122: CP3 | AU122: CP3 | AX122: CP3 | AY122: CP3 | AZ122: CP3 | BB122: CP3
A123: =B123 -> 42728 | B123: 42728
A124: =B124 -> 42729 | B124: 42729
A125: =B125 -> 42730 | B125: 42730 | G125: CP1 | H125: CP1 | I125: CP1 | J125: CP1 | L125: CP2 | M125: CP2 | N125: CP2 | O125: CP2 | P125: CP2 | Q125: CP2 | R125: CP2 | S125: CP2 | T125: CP2 | U125: CP2 | V125: CP2 | W125: CP2 | X125: CP2 | Y125: CP2 | Z125: CP2 | AA125: CP2 | AB125: CP2 | AC125: CP2 | AD125: CP2 | AE125: CP2 | AF125: CP2 | AH125: CP2 | AI125: CP3 | AJ125: CP3 | AL125: CP3 | AM125: CP3 | AO125: CP3 | AP125: CP3 | AQ125: CP3 | AR125: CP3 | AS125: CP3 | AU125: CP3 | AX125: CP3 | AY125: CP3 | AZ125: CP3 | BB125: CP3
A126: =B126 -> 42731 | B126: 42731 | G126: CP1 | H126: CP1 | I126: CP1 | J126: CP1 | L126: CP2 | M126: CP2 | N126: CP2 | O126: CP2 | P126: CP2 | Q126: CP2 | R126: CP2 | S126: CP2 | T126: CP2 | U126: CP2 | V126: CP2 | W126: CP2 | X126: CP2 | Y126: CP2 | Z126: CP2 | AA126: CP2 | AB126: CP2 | AC126: CP2 | AD126: CP2 | AE126: CP2 | AF126: CP2 | AH126: CP2 | AI126: CP3 | AJ126: CP3 | AL126: CP3 | AM126: CP3 | AO126: CP3 | AP126: CP3 | AQ126: CP3 | AR126: CP3 | AS126: CP3 | AU126: CP3 | AX126: CP3 | AY126: CP3 | AZ126: CP3 | BB126: CP3
A127: =B127 -> 42732 | B127: 42732 | G127: CP1 | H127: CP1 | I127: CP1 | J127: CP1 | L127: CP2 | M127: CP2 | N127: CP2 | O127: CP2 | P127: CP2 | Q127: CP2 | R127: CP2 | S127: CP2 | T127: CP2 | U127: CP2 | V127: CP2 | W127: CP2 | X127: CP2 | Y127: CP2 | Z127: CP2 | AA127: CP2 | AB127: CP2 | AC127: CP2 | AD127: CP2 | AE127: CP2 | AF127: CP2 | AH127: CP2 | AI127: CP3 | AJ127: CP3 | AL127: CP3 | AM127: CP3 | AO127: CP3 | AP127: CP3 | AQ127: CP3 | AR127: CP3 | AS127: CP3 | AU127: CP3 | AX127: CP3 | AY127: CP3 | AZ127: CP3 | BB127: CP3
A128: =B128 -> 42733 | B128: 42733 | G128: CP1 | H128: CP1 | I128: CP1 | J128: CP1 | L128: CP2 | M128: CP2 | N128: CP2 | O128: CP2 | P128: CP2 | Q128: CP2 | R128: CP2 | S128: CP2 | T128: CP2 | U128: CP2 | V128: CP2 | W128: CP2 | X128: CP2 | Y128: CP2 | Z128: CP2 | AA128: CP2 | AB128: CP2 | AC128: CP2 | AD128: CP2 | AE128: CP2 | AF128: CP2 | AH128: CP2 | AI128: CP3 | AJ128: CP3 | AL128: CP3 | AM128: CP3 | AO128: CP3 | AP128: CP3 | AQ128: CP3 | AR128: CP3 | AS128: CP3 | AU128: CP3 | AX128: CP3 | AY128: CP3 | AZ128: CP3 | BB128: CP3
A129: =B129 -> 42734 | B129: 42734 | G129: CP1 | H129: CP1 | I129: CP1 | J129: CP1 | L129: CP2 | M129: CP2 | N129: CP2 | O129: CP2 | P129: CP2 | Q129: CP2 | R129: CP2 | S129: CP2 | T129: CP2 | U129: CP2 | V129: CP2 | W129: CP2 | X129: CP2 | Y129: CP2 | Z129: CP2 | AA129: CP2 | AB129: CP2 | AC129: CP2 | AD129: CP2 | AE129: CP2 | AF129: CP2 | AH129: CP2 | AI129: CP3 | AJ129: CP3 | AL129: CP3 | AM129: CP3 | AO129: CP3 | AP129: CP3 | AQ129: CP3 | AR129: CP3 | AS129: CP3 | AU129: CP3 | AX129: CP3 | AY129: CP3 | AZ129: CP3 | BB129: CP3
A130: =B130 -> 42735 | B130: 42735
A131: =B131 -> 42736 | B131: 42736
A132: =B132 -> 42737 | B132: 42737 | G132: CP1 | H132: CP1 | I132: CP1 | J132: CP1 | L132: CP2 | M132: CP2 | N132: CP2 | O132: CP2 | P132: CP2 | Q132: CP2 | R132: CP2 | S132: CP2 | T132: CP2 | U132: CP2 | V132: CP2 | W132: CP2 | X132: CP2 | Y132: CP2 | Z132: CP2 | AA132: CP2 | AB132: CP2 | AC132: CP2 | AD132: CP2 | AE132: CP2 | AF132: CP2 | AH132: CP2
A133: =B133 -> 42738 | B133: 42738
A134: =B134 -> 42739 | B134: 42739
A135: =B135 -> 42740 | B135: 42740 | AP135: ENF MAL
A136: =B136 -> 42741 | B136: 42741
A137: =B137 -> 42742 | B137: 42742
A138: =B138 -> 42743 | B138: 42743
A139: =B139 -> 42744 | B139: 42744 | W139: ENF MAL | AU139: ENF MAL
A140: =B140 -> 42745 | B140: 42745 | S140: ENF MAL | AU140: ENF MAL
A141: =B141 -> 42746 | B141: 42746 | J141: ENF MAL | AU141: ENF MAL
A142: =B142 -> 42747 | B142: 42747 | I142: ENF MAL | AP142: ENF MAL | AU142: ENF MAL
A143: =B143 -> 42748 | B143: 42748 | AU143: ENF MAL
A144: =B144 -> 42749 | B144: 42749
A145: =B145 -> 42750 | B145: 42750
A146: =B146 -> 42751 | B146: 42751
A147: =B147 -> 42752 | B147: 42752
A148: =B148 -> 42753 | B148: 42753
A149: =B149 -> 42754 | B149: 42754
A150: =B150 -> 42755 | B150: 42755
A151: =B151 -> 42756 | B151: 42756
A152: =B152 -> 42757 | B152: 42757
A153: =B153 -> 42758 | B153: 42758
A154: =B154 -> 42759 | B154: 42759
A155: =B155 -> 42760 | B155: 42760 | S155: ENF MAL
A156: =B156 -> 42761 | B156: 42761 | S156: ENF MAL
A157: =B157 -> 42762 | B157: 42762
A158: =B158 -> 42763 | B158: 42763
A159: =B159 -> 42764 | B159: 42764
A160: =B160 -> 42765 | B160: 42765 | V160: ENF MAL
...

Sheet JOURS FERIES
C2: 2016 | D2: 2017 | E2: 2018
B3: Jour de l'An | C3: 42370 | D3: 42736 | E3: 43101
B4: Lundi de Pâques | C4: 42457 | D4: 42842 | E4: 43192
B5: Jeudi de l'Ascension | C5: 42495 | D5: 42880 | E5: 43230
B6: 1er Mai | C6: 42491 | D6: 42856 | E6: 43221
B7: 8 Mai | C7: 42498 | D7: 42863 | E7: 43228
B8: 14 Juillet | C8: 42565 | D8: 42930 | E8: 43295
B9: 15 Aôut | C9: 42597 | D9: 42962 | E9: 43327
B10: Toussaint | C10: 42675 | D10: 43040 | E10: 43405
B11: 11 Novembre | C11: 42685 | D11: 43050 | E11: 43415
B12: Noël | C12: 42729 | D12: 43094 | E12: 43459

Sheet SOLDES
D1: Isabelle | E1: Stéphanie D. | F1: Elise | G1: Corine | H1: Stéphanie I. | I1: Véronique | J1: Julien | K1: Nicolas | L1: Carole | M1: Laetitia D. | N1: Alexandre | O1: Anthony | P1: Céline | Q1: Mathieu M. | R1: Raphaël | S1: Christelle | T1: Delphine W. | U1: Jonathan | V1: Akym | W1: Francis | X1: Fabienne | Y1: Michelle | Z1: Isabelle B. | AA1: Aurélie | AB1: Nathalie | AC1: Frédérique | AD1: Sylvain | AE1: Laetitia L. | AF1: Sophie | AG1: Emilie | AH1: Justine | AI1: Eve | AJ1: Marine | AK1: Stéphane | AL1: Mathieu P. | AM1: Didier | AN1: Patrice | AO1: Delphine V. | AP1: Karine | AQ1: Cindy | AR1: Lydia | AS1: Kelly | AT1: Audrey | AU1: Younès | AV1: Xavier | AW1: Brigitte | AX1: Maëva T. | AY1: Béatrice | AZ1: Tiphaine | BA1: Maëva B. | BS1: 1 | BT1: 2 | BU1: 3 | BV1: 4 | BW1: 5 | BX1: 6
A2: 2017 | B2: =CALENDRIER!A1 -> CP1 | D2: Pris du 1er janvier 2017 au 31 décembre 2017 | AF2: Pris du 1er septembre 2016 au 31 août 2017
B3: SOLDE DEPART | D3: 25 | E3: 27 | F3: 25 | G3: 27 | H3: 20 | I3: 25 | J3: 25 | K3: 25 | L3: 25 | M3: 25 | N3: 25 | O3: 25 | P3: 25 | Q3: 25 | R3: 25 | S3: 25 | T3: 25 | U3: 25 | V3: 25 | W3: 25 | X3: 25 | Y3: 25 | Z3: 25 | AA3: 25 | AB3: 25 | AC3: 25 | AD3: 25 | AE3: 25 | AF3: 25 | AG3: 25 | AH3: 18 | AI3: 25 | AJ3: 25 | AK3: 18 | AL3: 25 | AM3: 25 | AN3: 25 | AO3: 25 | AP3: 25 | AQ3: 13 | AR3: 25 | AS3: 13 | AT3: 18 | AU3: 25 | AV3: 20 | AW3: 25 | AX3: 12 | AY3: 25 | AZ3: 0 | BA3: 0
B4: CP1 pris | D4: =(COUNTIF(CALENDRIER!G$131:G$495,CALENDRIER!$A$1))+((COUNTIF(CALENDRIER!G$131:G$495,CALENDRIER!$B$1))/2) -> 11 | E4: =(COUNTIF(CALENDRIER!H$131:H$495,CALENDRIER!$A$1))+((COUNTIF(CALENDRIER!H$131:H$495,CALENDRIER!$B$1))/2) -> 25 | F4: =(COUNTIF(CALENDRIER!I$131:I$495,CALENDRIER!$A$1))+((COUNTIF(CALENDRIER!I$131:I$495,CALENDRIER!$B$1))/2) -> 25 | G4: =(COUNTIF(CALENDRIER!J$131:J$495,CALENDRIER!$A$1))+((COUNTIF(CALENDRIER!J$131:J$495,CALENDRIER!$B$1))/2) -> 27 | H4: =(COUNTIF(CALENDRIER!K$131:K$495,CALENDRIER!$A$1))+((COUNTIF(CALENDRIER!K$131:K$495,CALENDRIER!$B$1))/2) -> 18.5 | I4: =(COUNTIF(CALENDRIER!L$131:L$495,CALENDRIER!$A$2))+((COUNTIF(CALENDRIER!L$131:L$495,CALENDRIER!$B$2))/2) -> 25 | J4: =(COUNTIF(CALENDRIER!M$131:M$495,CALENDRIER!$A$2))+((COUNTIF(CALENDRIER!M$131:M$495,CALENDRIER!$B$2))/2) -> 25 | K4: =(COUNTIF(CALENDRIER!N$131:N$495,CALENDRIER!$A$2))+((COUNTIF(CALENDRIER!N$131:N$495,CALENDRIER!$B$2))/2) -> 25 | L4: =(COUNTIF(CALENDRIER!O$131:O$495,CALENDRIER!$A$2))+((COUNTIF(CALENDRIER!O$131:O$495,CALENDRIER!$B$2))/2) -> 25 | M4: =(COUNTIF(CALENDRIER!P$131:P$495,CALENDRIER!$A$2))+((COUNTIF(CALENDRIER!P$131:P$495,CALENDRIER!$B$2))/2) -> 25 | N4: =(COUNTIF(CALENDRIER!Q$131:Q$495,CALENDRIER!$A$2))+((COUNTIF(CALENDRIER!Q$131:Q$495,CALENDRIER!$B$2))/2) -> 25 | O4: =(COUNTIF(CALENDRIER!R$131:R$495,CALENDRIER!$A$2))+((COUNTIF(CALENDRIER!R$131:R$495,CALENDRIER!$B$2))/2) -> 25 | P4: =(COUNTIF(CALENDRIER!S$131:S$495,CALENDRIER!$A$2))+((COUNTIF(CALENDRIER!S$131:S$495,CALENDRIER!$B$2))/2) -> 25 | ... AE4: =(COUNTIF(CALENDRIER!AH$131:AH$495,CALENDRIER!$A$2))+((COUNTIF(CALENDRIER!AH$131:AH$495,CALENDRIER!$B$2))/2) -> 25 | AF4: =(COUNTIF(CALENDRIER!AI$9:AI$373,CALENDRIER!$A$3))+((COUNTIF(CALENDRIER!AI$9:AI$373,CALENDRIER!$B$3))/2) -> 25 | AG4: =(COUNTIF(CALENDRIER!AJ$9:AJ$373,CALENDRIER!$A$3))+((COUNTIF(CALENDRIER!AJ$9:AJ$373,CALENDRIER!$B$3))/2) -> 25 | AH4: =(COUNTIF(CALENDRIER!AK$9:AK$373,CALENDRIER!$A$3))+((COUNTIF(CALENDRIER!AK$9:AK$373,CALENDRIER!$B$3))/2) -> 18 | AI4: =(COUNTIF(CALENDRIER!AL$9:AL$373,CALENDRIER!$A$3))+((COUNTIF(CALENDRIER!AL$9:AL$373,CALENDRIER!$B$3))/2) -> 25 | AJ4: =(COUNTIF(CALENDRIER!AM$9:AM$373,CALENDRIER!$A$3))+((COUNTIF(CALENDRIER!AM$9:AM$373,CALENDRIER!$B$3))/2) -> 25 | AK4: =(COUNTIF(CALENDRIER!AN$9:AN$373,CALENDRIER!$A$3))+((COUNTIF(CALENDRIER!AN$9:AN$373,CALENDRIER!$B$3))/2) -> 18 | AL4: =(COUNTIF(CALENDRIER!AO$9:AO$373,CALENDRIER!$A$3))+((COUNTIF(CALENDRIER!AO$9:AO$373,CALENDRIER!$B$3))/2) -> 25 | AM4: =(COUNTIF(CALENDRIER!AP$9:AP$373,CALENDRIER!$A$3))+((COUNTIF(CALENDRIER!AP$9:AP$373,CALENDRIER!$B$3))/2) -> 25 | ... BA4: =(COUNTIF(CALENDRIER!BD$9:BD$373,CALENDRIER!$A$3))+((COUNTIF(CALENDRIER!BD$9:BD$373,CALENDRIER!$B$3))/2) -> 0
B5: Solde CP1 | D5: =D3-D4 -> 14 | E5: =E3-E4 -> 2 | F5: =F3-F4 -> 0 | G5: =G3-G4 -> 0 | H5: =H3-H4 -> 1.5 | I5: =I3-I4 -> 0 | J5: =J3-J4 -> 0 | K5: =K3-K4 -> 0 | ... AY5: =AY3-AY4 -> 0
A7: 2017-2018 | B7: FRAC
B8: CP pris du 31/05/17 au 31/10/17 | D8: =(COUNTIF(CALENDRIER!G$251:G$434,CALENDRIER!$A$1))+((COUNTIF(CALENDRIER!G$251:G$434,CALENDRIER!$B$1))/2) -> 2 | E8: =(COUNTIF(CALENDRIER!H$251:H$434,CALENDRIER!$A$1))+((COUNTIF(CALENDRIER!H$251:H$434,CALENDRIER!$B$1))/2) -> 12 | F8: =(COUNTIF(CALENDRIER!I$251:I$434,CALENDRIER!$A$1))+((COUNTIF(CALENDRIER!I$251:I$434,CALENDRIER!$B$1))/2) -> 20 | G8: =(COUNTIF(CALENDRIER!J$251:J$434,CALENDRIER!$A$1))+((COUNTIF(CALENDRIER!J$251:J$434,CALENDRIER!$B$1))/2) -> 17.5 | H8: =(COUNTIF(CALENDRIER!K$251:K$434,CALENDRIER!$A$1))+((COUNTIF(CALENDRIER!K$251:K$434,CALENDRIER!$B$1))/2) -> 14.5 | I8: =(COUNTIF(CALENDRIER!L$251:L$434,CALENDRIER!$A$2))+((COUNTIF(CALENDRIER!L$251:L$434,CALENDRIER!$B$2))/2) -> 20 | J8: =(COUNTIF(CALENDRIER!M$251:M$434,CALENDRIER!$A$2))+((COUNTIF(CALENDRIER!M$251:M$434,CALENDRIER!$B$2))/2) -> 20 | K8: =(COUNTIF(CALENDRIER!N$251:N$434,CALENDRIER!$A$2))+((COUNTIF(CALENDRIER!N$251:N$434,CALENDRIER!$B$2))/2) -> 18 | L8: =(COUNTIF(CALENDRIER!O$251:O$434,CALENDRIER!$A$2))+((COUNTIF(CALENDRIER!O$251:O$434,CALENDRIER!$B$2))/2) -> 16 | M8: =(COUNTIF(CALENDRIER!P$251:P$434,CALENDRIER!$A$2))+((COUNTIF(CALENDRIER!P$251:P$434,CALENDRIER!$B$2))/2) -> 20 | N8: =(COUNTIF(CALENDRIER!Q$251:Q$434,CALENDRIER!$A$2))+((COUNTIF(CALENDRIER!Q$251:Q$434,CALENDRIER!$B$2))/2) -> 18 | O8: =(COUNTIF(CALENDRIER!R$251:R$434,CALENDRIER!$A$2))+((COUNTIF(CALENDRIER!R$251:R$434,CALENDRIER!$B$2))/2) -> 18 | P8: =(COUNTIF(CALENDRIER!S$251:S$434,CALENDRIER!$A$2))+((COUNTIF(CALENDRIER!S$251:S$434,CALENDRIER!$B$2))/2) -> 20 | ... AE8: =(COUNTIF(CALENDRIER!AH$251:AH$434,CALENDRIER!$A$2))+((COUNTIF(CALENDRIER!AH$251:AH$434,CALENDRIER!$B$2))/2) -> 20 | AF8: =(COUNTIF(CALENDRIER!AI$251:AI$434,CALENDRIER!$A$3))+((COUNTIF(CALENDRIER!AI$251:AI$434,CALENDRIER!$B$3))/2) -> 15 | AG8: =(COUNTIF(CALENDRIER!AJ$251:AJ$434,CALENDRIER!$A$3))+((COUNTIF(CALENDRIER!AJ$251:AJ$434,CALENDRIER!$B$3))/2) -> 15 | AH8: =(COUNTIF(CALENDRIER!AK$251:AK$434,CALENDRIER!$A$3))+((COUNTIF(CALENDRIER!AK$251:AK$434,CALENDRIER!$B$3))/2) -> 18 | AI8: =(COUNTIF(CALENDRIER!AL$251:AL$434,CALENDRIER!$A$3))+((COUNTIF(CALENDRIER!AL$251:AL$434,CALENDRIER!$B$3))/2) -> 15 | AJ8: =(COUNTIF(CALENDRIER!AM$251:AM$434,CALENDRIER!$A$3))+((COUNTIF(CALENDRIER!AM$251:AM$434,CALENDRIER!$B$3))/2) -> 15 | AK8: =(COUNTIF(CALENDRIER!AN$251:AN$434,CALENDRIER!$A$3))+((COUNTIF(CALENDRIER!AN$251:AN$434,CALENDRIER!$B$3))/2) -> 18 | AL8: =(COUNTIF(CALENDRIER!AO$251:AO$434,CALENDRIER!$A$3))+((COUNTIF(CALENDRIER!AO$251:AO$434,CALENDRIER!$B$3))/2) -> 15 | AM8: =(COUNTIF(CALENDRIER!AP$251:AP$434,CALENDRIER!$A$3))+((COUNTIF(CALENDRIER!AP$251:AP$434,CALENDRIER!$B$3))/2) -> 15 | ... BA8: =(COUNTIF(CALENDRIER!BD$251:BD$434,CALENDRIER!$A$3))+((COUNTIF(CALENDRIER!BD$251:BD$434,CALENDRIER!$B$3))/2) -> 0
B9: SOLDE DEPART | D9: =IF((20-D8)>=6,2,IF((20-D8)>=3,1,0)) -> 2 | E9: =IF((20-E8)>5,2,IF((20-E8)>=3,1,0)) -> 2 | F9: =IF((20-F8)>5,2,IF((20-F8)>=3,1,0)) -> 0 | G9: =IF((20-G8)>5,2,IF((20-G8)>=3,1,0)) -> 0 | H9: =IF((20-H8)>5,2,IF((20-H8)>=3,1,0)) -> 2 | I9: =IF((20-I8)>5,2,IF((20-I8)>=3,1,0)) -> 0 | J9: =IF((20-J8)>5,2,IF((20-J8)>=3,1,0)) -> 0 | K9: =IF((20-K8)>5,2,IF((20-K8)>=3,1,0)) -> 0 | L9: =IF((20-L8)>5,2,IF((20-L8)>=3,1,0)) -> 1 | ... BA9: =IF((20-BA8)>5,2,IF((20-BA8)>=3,1,0)) -> 2
B10: CP3 pris
B11: Solde FRAC | D11: =D9-D10 -> 2 | E11: =E9-E10 -> 2 | F11: =F9-F10 -> 0 | G11: =G9-G10 -> 0 | H11: =H9-H10 -> 2 | I11: =I9-I10 -> 0 | J11: =J9-J10 -> 0 | K11: =K9-K10 -> 0 | ... BA11: =BA9-BA10 -> 2
A13: 2017 | B13: =CALENDRIER!A5 -> ENF MAL
B14: SOLDE DEPART | D14: 12 | E14: 12 | F14: 12 | G14: 12 | H14: 12 | I14: 12 | J14: 12 | K14: 12 | L14: 12 | M14: 12 | N14: 12 | O14: 12 | P14: 12 | Q14: 12 | R14: 12 | S14: 12 | T14: 12 | U14: 12 | V14: 12 | W14: 12 | X14: 12 | Y14: 12 | Z14: 12 | AA14: 12 | AB14: 12 | AC14: 12 | AD14: 12 | AE14: 12 | AF14: 12 | AG14: 12 | AH14: 12 | AI14: 12 | AJ14: 12 | AK14: 12 | AL14: 12 | AM14: 12 | AN14: 12 | AO14: 12 | AP14: 12 | AQ14: 12 | AR14: 12 | AS14: 12 | AT14: 12 | AU14: 12 | AV14: 12 | AW14: 12 | AX14: 12 | AY14: 12 | AZ14: 12 | BA14: 12
B15: CP2 pris | D15: =(COUNTIF(CALENDRIER!G$131:G510,CALENDRIER!$A$5)) -> 0 | E15: =(COUNTIF(CALENDRIER!H$131:H510,CALENDRIER!$A$5)) -> 1 | F15: =(COUNTIF(CALENDRIER!I$131:I510,CALENDRIER!$A$5)) -> 9 | G15: =(COUNTIF(CALENDRIER!J$131:J510,CALENDRIER!$A$5)) -> 1 | H15: =(COUNTIF(CALENDRIER!K$131:K510,CALENDRIER!$A$5)) -> 0 | I15: =(COUNTIF(CALENDRIER!L$131:L510,CALENDRIER!$A$5)) -> 0 | J15: =(COUNTIF(CALENDRIER!M$131:M510,CALENDRIER!$A$5)) -> 0 | K15: =(COUNTIF(CALENDRIER!N$131:N510,CALENDRIER!$A$5)) -> 0 | ... BA15: =(COUNTIF(CALENDRIER!BD$131:BD510,CALENDRIER!$A$5)) -> 0
B16: Solde ENF MAL | D16: =D14-D15 -> 12 | E16: =E14-E15 -> 11 | F16: =F14-F15 -> 3 | G16: =G14-G15 -> 11 | H16: =H14-H15 -> 12 | I16: =I14-I15 -> 12 | J16: =J14-J15 -> 12 | K16: =K14-K15 -> 12 | ... BA16: =BA14-BA15 -> 12

Sheet ACQUISITION DES CONGES
C3: SIMULATION ACQUISITION CP
C5: DATE D'ENTREE | E5: 42800
C7: DATE DE SORTIE / FIN DE PERIODE | E7: 42978
C9: NB SEMAINE COMPLETE | E9: =INT((E7-E5)/7) -> 25
C11: NB CONGÉS ACQUIS | E11: =IF(ROUNDUP(E9/4*2.08,0)>25,25,ROUNDUP(E9/4*2.08,0)) -> 13

Sheet INFOS
A2: fractionnement
