Workbook
Name JOURS_FERIES: 'JOURS FERIES'!$C$3:$E$12

Sheet CALENDRIER
A1: CP1 | B1: 1/2 CP1 | C1: période de référence (1er juin au 31 mai)
A2: CP2 | B2: 1/2 CP2 | C2: année civile (du 1er janvier au 31 décembre)
A3: CP3 | B3: 1/2 CP3 | C3: période de référence (1er septembre au 31 août)
A4: FRAC | C4: période de référence (1er novembre au 30 avril)
A5: ENF MAL | C5: année civile (du 1er janvier au 31 décembre)
A6: Mal | B6: Maladie
A7: CA
G8: =SOLDES!D1 -> Isabelle | H8: =SOLDES!E1 -> Stéphanie D. | I8: =SOLDES!F1 -> Elise | J8: =SOLDES!G1 -> Corine | K8: =SOLDES!H1 -> Stéphanie I. | L8: =SOLDES!I1 -> Véronique | M8: =SOLDES!J1 -> Julien | N8: =SOLDES!K1 -> Nicolas | ... BD8: =SOLDES!BA1 -> Maëva B.
A9: =B9 -> 42614 | B9: 42614
A10: =B10 -> 42615 | B10: 42615
A11: =B11 -> 42616 | B11: 42616
A12: =B12 -> 42617 | B12: 42617
A13: =B13 -> 42618 | B13: 42618
A14: =B14 -> 42619 | B14: 42619
A15: =B15 -> 42620 | B15: 42620
A16: =B16 -> 42621 | B16: 42621
A17: =B17 -> 42622 | B17: 42622
A18: =B18 -> 42623 | B18: 42623
A19: =B19 -> 42624 | B19: 42624
A20: =B20 -> 42625 | B20: 42625
... A56: =B56 -> 42661 | B56: 42661
A57: =B57 -> 42662 | B57: 42662 | P57: CP2
A58: =B58 -> 42663 | B58: 42663 | I58: CP1 | J58: 1/2 CP1 | P58: CP2
A59: =B59 -> 42664 | B59: 42664 | I59: CP1 | P59: CP2
A60: =B60 -> 42665 | B60: 42665
A61: =B61 -> 42666 | B61: 42666
A62: =B62 -> 42667 | B62: 42667 | H62: CP1 | I62: CP1 | P62: CP2
A63: =B63 -> 42668 | B63: 42668 | H63: CP1 | I63: CP1 | P63: CP2
A64: =B64 -> 42669 | B64: 42669 | H64: CP1 | I64: CP1 | P64: CP2
A65: =B65 -> 42670 | B65: 42670 | H65: CP1 | I65: CP1 | P65: CP2
A66: =B66 -> 42671 | B66: 42671 | H66: CP1 | I66: CP1 | P66: CP2
A67: =B67 -> 42672 | B67: 42672
A68: =B68 -> 42673 | B68: 42673
A69: =B69 -> 42674 | B69: 42674 | I69: CP1 | J69: CP1 | P69: CP2
A70: =B70 -> 42675 | B70: 42675
A71: =B71 -> 42676 | B71: 42676 | P71: CP2
A72: =B72 -> 42677 | B72: 42677 | P72: CP2
A73: =B73 -> 42678 | B73: 42678 | P73: CP2
A74: =B74 -> 42679 | B74: 42679
A75: =B75 -> 42680 | B75: 42680
...

Sheet JOURS FERIES
C2: 2016 | D2: 2017 | E2: 2018
B3: Jour de l'An | C3: 42370 | D3: 42736 | E3: 43101
B4: Lundi de Pâques | C4: 42457 | D4: 42842 | E4: 43192
B5: Jeudi de l'Ascension | C5: 42495 | D5: 42880 | E5: 43230
B6: 1er Mai | C6: 42491 | D6: 42856 | E6: 43221
B7: 8 Mai | C7: 42498 | D7: 42863 | E7: 43228
B8: 14 Juillet | C8: 42565 | D8: 42930 | E8: 43295
B9: 15 Aôut | C9: 42597 | D9: 42962 | E9: 43327
B10: Toussaint | C10: 42675 | D10: 43040 | E10: 43405
B11: 11 Novembre | C11: 42685 | D11: 43050 | E11: 43415
B12: Noël | C12: 42729 | D12: 43094 | E12: 43459

Sheet SOLDES
D1: Isabelle | E1: Stéphanie D. | F1: Elise | G1: Corine | H1: Stéphanie I. | I1: Véronique | J1: Julien | K1: Nicolas | L1: Carole | M1: Laetitia D. | N1: Alexandre | O1: Anthony | P1: Céline | Q1: Mathieu M. | R1: Raphaël | S1: Christelle | T1: Delphine W. | U1: Jonathan | V1: Akym | W1: Francis | X1: Fabienne | Y1: Michelle | Z1: Isabelle B. | AA1: Aurélie | AB1: Nathalie | AC1: Frédérique | AD1: Sylvain | AE1: Laetitia L. | AF1: Sophie | AG1: Emilie | AH1: Justine | AI1: Eve | AJ1: Marine | AK1: Stéphane | AL1: Mathieu P. | AM1: Didier | AN1: Patrice | AO1: Delphine V. | AP1: Karine | AQ1: Cindy | AR1: Lydia | AS1: Kelly | AT1: Audrey | AU1: Younès | AV1: Xavier | AW1: Brigitte | AX1: Maëva T. | AY1: Béatrice | AZ1: Tiphaine | BA1: Maëva B. | BS1: 1 | BT1: 2 | BU1: 3 | BV1: 4 | BW1: 5 | BX1: 6
A2: 2017 | B2: =CALENDRIER!A1 -> CP1 | D2: Pris du 1er janvier 2017 au 31 décembre 2017 | AF2: Pris du 1er septembre 2016 au 31 août 2017
B3: SOLDE DEPART | D3: 25 | E3: 27 | F3: 25 | G3: 27 | H3: 20 | I3: 25 | J3: 25 | K3: 25 | L3: 25 | M3: 25 | N3: 25 | O3: 25 | P3: 25 | Q3: 25 | R3: 25 | S3: 25 | T3: 25 | U3: 25 | V3: 25 | W3: 25 | X3: 25 | Y3: 25 | Z3: 25 | AA3: 25 | AB3: 25 | AC3: 25 | AD3: 25 | AE3: 25 | AF3: 25 | AG3: 25 | AH3: 18 | AI3: 25 | AJ3: 25 | AK3: 18 | AL3: 25 | AM3: 25 | AN3: 25 | AO3: 25 | AP3: 25 | AQ3: 13 | AR3: 25 | AS3: 13 | AT3: 18 | AU3: 25 | AV3: 20 | AW3: 25 | AX3: 12 | AY3: 25 | AZ3: 0 | BA3: 0
B4: CP1 pris | D4: =(COUNTIF(CALENDRIER!G$131:G$495,CALENDRIER!$A$1))+((COUNTIF(CALENDRIER!G$131:G$495,CALENDRIER!$B$1))/2) -> 11 | E4: =(COUNTIF(CALENDRIER!H$131:H$495,CALENDRIER!$A$1))+((COUNTIF(CALENDRIER!H$131:H$495,CALENDRIER!$B$1))/2) -> 25 | F4: =(COUNTIF(CALENDRIER!I$131:I$495,CALENDRIER!$A$1))+((COUNTIF(CALENDRIER!I$131:I$495,CALENDRIER!$B$1))/2) -> 25 | G4: =(COUNTIF(CALENDRIER!J$131:J$495,CALENDRIER!$A$1))+((COUNTIF(CALENDRIER!J$131:J$495,CALENDRIER!$B$1))/2) -> 27 | H4: =(COUNTIF(CALENDRIER!K$131:K$495,CALENDRIER!$A$1))+((COUNTIF(CALENDRIER!K$131:K$495,CALENDRIER!$B$1))/2) -> 18.5 | I4: =(COUNTIF(CALENDRIER!L$131:L$495,CALENDRIER!$A$2))+((COUNTIF(CALENDRIER!L$131:L$495,CALENDRIER!$B$2))/2) -> 25 | J4: =(COUNTIF(CALENDRIER!M$131:M$495,CALENDRIER!$A$2))+((COUNTIF(CALENDRIER!M$131:M$495,CALENDRIER!$B$2))/2) -> 25 | K4: =(COUNTIF(CALENDRIER!N$131:N$495,CALENDRIER!$A$2))+((COUNTIF(CALENDRIER!N$131:N$495,CALENDRIER!$B$2))/2) -> 25 | L4: =(COUNTIF(CALENDRIER!O$131:O$495,CALENDRIER!$A$2))+((COUNTIF(CALENDRIER!O$131:O$495,CALENDRIER!$B$2))/2) -> 25 | M4: =(COUNTIF(CALENDRIER!P$131:P$495,CALENDRIER!$A$2))+((COUNTIF(CALENDRIER!P$131:P$495,CALENDRIER!$B$2))/2) -> 25 | N4: =(COUNTIF(CALENDRIER!Q$131:Q$495,CALENDRIER!$A$2))+((COUNTIF(CALENDRIER!Q$131:Q$495,CALENDRIER!$B$2))/2) -> 25 | O4: =(COUNTIF(CALENDRIER!R$131:R$495,CALENDRIER!$A$2))+((COUNTIF(CALENDRIER!R$131:R$495,CALENDRIER!$B$2))/2) -> 25 | P4: =(COUNTIF(CALENDRIER!S$131:S$495,CALENDRIER!$A$2))+((COUNTIF(CALENDRIER!S$131:S$495,CALENDRIER!$B$2))/2) -> 25 | ... AE4: =(COUNTIF(CALENDRIER!AH$131:AH$495,CALENDRIER!$A$2))+((COUNTIF(CALENDRIER!AH$131:AH$495,CALENDRIER!$B$2))/2) -> 25 | AF4: =(COUNTIF(CALENDRIER!AI$9:AI$373,CALENDRIER!$A$3))+((COUNTIF(CALENDRIER!AI$9:AI$373,CALENDRIER!$B$3))/2) -> 25 | AG4: =(COUNTIF(CALENDRIER!AJ$9:AJ$373,CALENDRIER!$A$3))+((COUNTIF(CALENDRIER!AJ$9:AJ$373,CALENDRIER!$B$3))/2) -> 25 | AH4: =(COUNTIF(CALENDRIER!AK$9:AK$373,CALENDRIER!$A$3))+((COUNTIF(CALENDRIER!AK$9:AK$373,CALENDRIER!$B$3))/2) -> 18 | AI4: =(COUNTIF(CALENDRIER!AL$9:AL$373,CALENDRIER!$A$3))+((COUNTIF(CALENDRIER!AL$9:AL$373,CALENDRIER!$B$3))/2) -> 25 | AJ4: =(COUNTIF(CALENDRIER!AM$9:AM$373,CALENDRIER!$A$3))+((COUNTIF(CALENDRIER!AM$9:AM$373,CALENDRIER!$B$3))/2) -> 25 | AK4: =(COUNTIF(CALENDRIER!AN$9:AN$373,CALENDRIER!$A$3))+((COUNTIF(CALENDRIER!AN$9:AN$373,CALENDRIER!$B$3))/2) -> 18 | AL4: =(COUNTIF(CALENDRIER!AO$9:AO$373,CALENDRIER!$A$3))+((COUNTIF(CALENDRIER!AO$9:AO$373,CALENDRIER!$B$3))/2) -> 25 | AM4: =(COUNTIF(CALENDRIER!AP$9:AP$373,CALENDRIER!$A$3))+((COUNTIF(CALENDRIER!AP$9:AP$373,CALENDRIER!$B$3))/2) -> 25 | ... BA4: =(COUNTIF(CALENDRIER!BD$9:BD$373,CALENDRIER!$A$3))+((COUNTIF(CALENDRIER!BD$9:BD$373,CALENDRIER!$B$3))/2) -> 0
B5: Solde CP1 | D5: =D3-D4 -> 14 | E5: =E3-E4 -> 2 | F5: =F3-F4 -> 0 | G5: =G3-G4 -> 0 | H5: =H3-H4 -> 1.5 | I5: =I3-I4 -> 0 | J5: =J3-J4 -> 0 | K5: =K3-K4 -> 0 | ... AY5: =AY3-AY4 -> 0
A7: 2017-2018 | B7: FRAC
B8: CP pris du 31/05/17 au 31/10/17 | D8: =(COUNTIF(CALENDRIER!G$251:G$434,CALENDRIER!$A$1))+((COUNTIF(CALENDRIER!G$251:G$434,CALENDRIER!$B$1))/2) -> 2 | E8: =(COUNTIF(CALENDRIER!H$251:H$434,CALENDRIER!$A$1))+((COUNTIF(CALENDRIER!H$251:H$434,CALENDRIER!$B$1))/2) -> 12 | F8: =(COUNTIF(CALENDRIER!I$251:I$434,CALENDRIER!$A$1))+((COUNTIF(CALENDRIER!I$251:I$434,CALENDRIER!$B$1))/2) -> 20 | G8: =(COUNTIF(CALENDRIER!J$251:J$434,CALENDRIER!$A$1))+((COUNTIF(CALENDRIER!J$251:J$434,CALENDRIER!$B$1))/2) -> 17.5 | H8: =(COUNTIF(CALENDRIER!K$251:K$434,CALENDRIER!$A$1))+((COUNTIF(CALENDRIER!K$251:K$434,CALENDRIER!$B$1))/2) -> 14.5 | I8: =(COUNTIF(CALENDRIER!L$251:L$434,CALENDRIER!$A$2))+((COUNTIF(CALENDRIER!L$251:L$434,CALENDRIER!$B$2))/2) -> 20 | J8: =(COUNTIF(CALENDRIER!M$251:M$434,CALENDRIER!$A$2))+((COUNTIF(CALENDRIER!M$251:M$434,CALENDRIER!$B$2))/2) -> 20 | K8: =(COUNTIF(CALENDRIER!N$251:N$434,CALENDRIER!$A$2))+((COUNTIF(CALENDRIER!N$251:N$434,CALENDRIER!$B$2))/2) -> 18 | L8: =(COUNTIF(CALENDRIER!O$251:O$434,CALENDRIER!$A$2))+((COUNTIF(CALENDRIER!O$251:O$434,CALENDRIER!$B$2))/2) -> 16 | M8: =(COUNTIF(CALENDRIER!P$251:P$434,CALENDRIER!$A$2))+((COUNTIF(CALENDRIER!P$251:P$434,CALENDRIER!$B$2))/2) -> 20 | N8: =(COUNTIF(CALENDRIER!Q$251:Q$434,CALENDRIER!$A$2))+((COUNTIF(CALENDRIER!Q$251:Q$434,CALENDRIER!$B$2))/2) -> 18 | O8: =(COUNTIF(CALENDRIER!R$251:R$434,CALENDRIER!$A$2))+((COUNTIF(CALENDRIER!R$251:R$434,CALENDRIER!$B$2))/2) -> 18 | P8: =(COUNTIF(CALENDRIER!S$251:S$434,CALENDRIER!$A$2))+((COUNTIF(CALENDRIER!S$251:S$434,CALENDRIER!$B$2))/2) -> 20 | ... AE8: =(COUNTIF(CALENDRIER!AH$251:AH$434,CALENDRIER!$A$2))+((COUNTIF(CALENDRIER!AH$251:AH$434,CALENDRIER!$B$2))/2) -> 20 | AF8: =(COUNTIF(CALENDRIER!AI$251:AI$434,CALENDRIER!$A$3))+((COUNTIF(CALENDRIER!AI$251:AI$434,CALENDRIER!$B$3))/2) -> 15 | AG8: =(COUNTIF(CALENDRIER!AJ$251:AJ$434,CALENDRIER!$A$3))+((COUNTIF(CALENDRIER!AJ$251:AJ$434,CALENDRIER!$B$3))/2) -> 15 | AH8: =(COUNTIF(CALENDRIER!AK$251:AK$434,CALENDRIER!$A$3))+((COUNTIF(CALENDRIER!AK$251:AK$434,CALENDRIER!$B$3))/2) -> 18 | AI8: =(COUNTIF(CALENDRIER!AL$251:AL$434,CALENDRIER!$A$3))+((COUNTIF(CALENDRIER!AL$251:AL$434,CALENDRIER!$B$3))/2) -> 15 | AJ8: =(COUNTIF(CALENDRIER!AM$251:AM$434,CALENDRIER!$A$3))+((COUNTIF(CALENDRIER!AM$251:AM$434,CALENDRIER!$B$3))/2) -> 15 | AK8: =(COUNTIF(CALENDRIER!AN$251:AN$434,CALENDRIER!$A$3))+((COUNTIF(CALENDRIER!AN$251:AN$434,CALENDRIER!$B$3))/2) -> 18 | AL8: =(COUNTIF(CALENDRIER!AO$251:AO$434,CALENDRIER!$A$3))+((COUNTIF(CALENDRIER!AO$251:AO$434,CALENDRIER!$B$3))/2) -> 15 | AM8: =(COUNTIF(CALENDRIER!AP$251:AP$434,CALENDRIER!$A$3))+((COUNTIF(CALENDRIER!AP$251:AP$434,CALENDRIER!$B$3))/2) -> 15 | ... BA8: =(COUNTIF(CALENDRIER!BD$251:BD$434,CALENDRIER!$A$3))+((COUNTIF(CALENDRIER!BD$251:BD$434,CALENDRIER!$B$3))/2) -> 0
B9: SOLDE DEPART | D9: =IF((20-D8)>=6,2,IF((20-D8)>=3,1,0)) -> 2 | E9: =IF((20-E8)>5,2,IF((20-E8)>=3,1,0)) -> 2 | F9: =IF((20-F8)>5,2,IF((20-F8)>=3,1,0)) -> 0 | G9: =IF((20-G8)>5,2,IF((20-G8)>=3,1,0)) -> 0 | H9: =IF((20-H8)>5,2,IF((20-H8)>=3,1,0)) -> 2 | I9: =IF((20-I8)>5,2,IF((20-I8)>=3,1,0)) -> 0 | J9: =IF((20-J8)>5,2,IF((20-J8)>=3,1,0)) -> 0 | K9: =IF((20-K8)>5,2,IF((20-K8)>=3,1,0)) -> 0 | L9: =IF((20-L8)>5,2,IF((20-L8)>=3,1,0)) -> 1 | ... BA9: =IF((20-BA8)>5,2,IF((20-BA8)>=3,1,0)) -> 2
B10: CP3 pris
B11: Solde FRAC | D11: =D9-D10 -> 2 | E11: =E9-E10 -> 2 | F11: =F9-F10 -> 0 | G11: =G9-G10 -> 0 | H11: =H9-H10 -> 2 | I11: =I9-I10 -> 0 | J11: =J9-J10 -> 0 | K11: =K9-K10 -> 0 | ... BA11: =BA9-BA10 -> 2
A13: 2017 | B13: =CALENDRIER!A5 -> ENF MAL
B14: SOLDE DEPART | D14: 12 | E14: 12 | F14: 12 | G14: 12 | H14: 12 | I14: 12 | J14: 12 | K14: 12 | L14: 12 | M14: 12 | N14: 12 | O14: 12 | P14: 12 | Q14: 12 | R14: 12 | S14: 12 | T14: 12 | U14: 12 | V14: 12 | W14: 12 | X14: 12 | Y14: 12 | Z14: 12 | AA14: 12 | AB14: 12 | AC14: 12 | AD14: 12 | AE14: 12 | AF14: 12 | AG14: 12 | AH14: 12 | AI14: 12 | AJ14: 12 | AK14: 12 | AL14: 12 | AM14: 12 | AN14: 12 | AO14: 12 | AP14: 12 | AQ14: 12 | AR14: 12 | AS14: 12 | AT14: 12 | AU14: 12 | AV14: 12 | AW14: 12 | AX14: 12 | AY14: 12 | AZ14: 12 | BA14: 12
B15: CP2 pris | D15: =(COUNTIF(CALENDRIER!G$131:G510,CALENDRIER!$A$5)) -> 0 | E15: =(COUNTIF(CALENDRIER!H$131:H510,CALENDRIER!$A$5)) -> 1 | F15: =(COUNTIF(CALENDRIER!I$131:I510,CALENDRIER!$A$5)) -> 9 | G15: =(COUNTIF(CALENDRIER!J$131:J510,CALENDRIER!$A$5)) -> 1 | H15: =(COUNTIF(CALENDRIER!K$131:K510,CALENDRIER!$A$5)) -> 0 | I15: =(COUNTIF(CALENDRIER!L$131:L510,CALENDRIER!$A$5)) -> 0 | J15: =(COUNTIF(CALENDRIER!M$131:M510,CALENDRIER!$A$5)) -> 0 | K15: =(COUNTIF(CALENDRIER!N$131:N510,CALENDRIER!$A$5)) -> 0 | ... BA15: =(COUNTIF(CALENDRIER!BD$131:BD510,CALENDRIER!$A$5)) -> 0
B16: Solde ENF MAL | D16: =D14-D15 -> 12 | E16: =E14-E15 -> 11 | F16: =F14-F15 -> 3 | G16: =G14-G15 -> 11 | H16: =H14-H15 -> 12 | I16: =I14-I15 -> 12 | J16: =J14-J15 -> 12 | K16: =K14-K15 -> 12 | ... BA16: =BA14-BA15 -> 12

Sheet ACQUISITION DES CONGES
C3: SIMULATION ACQUISITION CP
C5: DATE D'ENTREE | E5: 42800
C7: DATE DE SORTIE / FIN DE PERIODE | E7: 42978
C9: NB SEMAINE COMPLETE | E9: =INT((E7-E5)/7) -> 25
C11: NB CONGÉS ACQUIS | E11: =IF(ROUNDUP(E9/4*2.08,0)>25,25,ROUNDUP(E9/4*2.08,0)) -> 13

Sheet INFOS
A2: fractionnement
