Workbook

Sheet MENU

Sheet Constat
A8: CONSTAT D'ANOMALIE
C9: ="N° "&Saisie!B7 -> N° JES2222
A11: Délivré à : | B11: =Saisie!B8 -> TEST
B12: =Saisie!B9 -> 575 rout
B13: =Saisie!B10 -> bp 78555
B14: =Saisie!B11 -> 95450
A16: Designation | B16: =Saisie!B15 -> Detecteur de fuite
A17: Constructeur | B17: =Saisie!B16 -> CFC
A18: Type | B18: =Saisie!B17 -> Cool
A19: N° de série | B19: =Saisie!B18 -> 4555 | E19: N° Inventaire | F19: =Saisie!B19 -> TAP785
A24: =IF(Saisie!G22=1,Saisie!I21,Saisie!I22) -> Lors de la vérification de votre équipement, celui-ci a été déclaré NON CONFORME aux spécifications donnés dans le constat de vérification.

Sheet Saisie
A7: N° Constat | B7: JES2222
A8: Nom Client | B8: TEST
A9: Adresse client 1 | B9: 575 rout
A10: Adresse client 2 | B10: bp 78555
A11: Code postale | B11: 95450
A12: Ville | B12: Paris
A15: Designation | B15: Detecteur de fuite
A16: Marque | B16: CFC
A17: Type | B17: Cool
A18: N° de série | B18: 4555
A19: N° d'inventaire | B19: TAP785
A21: Appareil détécté NON Conforme | D21: TRUE | E21: =IF(D21=TRUE,1,0) -> 1 | G21: Choix | I21: Lors de la vérification de votre équipement, celui-ci a été déclaré NON CONFORME aux spécifications donnés dans le constat de vérification.
A22: Appareil cassé/ non fonctionnel | D22: FALSE | E22: =IF(D22=TRUE,1,0) -> 0 | G22: =IF(E21=1,1,0) -> 1 | I22: Lors de la récéption de votre matériel, notre équipe à détécté que celui-ci présentait un défault fonctionnel et/ou une casse.
A24: APPAREIL NON CONFORME
A25: Ajustage de l'équipement sur site | D25: TRUE | E25: =IF(D25=TRUE,1,0) -> 1 | F25: Facturation en plus | H25: TRUE | I25: Nous pouvons ajuster votre équipement sur site, ceci entrainera une sur facturation.
A26: Ajustage de l'équipement en laboratoire | D26: FALSE | E26: =IF(D26=TRUE,1,0) -> 0 | H26: =IF(H25=TRUE,1,0) -> 1 | I26: Nous pouvons ajuster votre équipement uniquement en laboratoire.
A27: Devis à faire au client OUI/NON | D27: TRUE | E27: =IF(D27=TRUE,1,0) -> 1 | I27: Souhaitez-vous que nous vous transmetions un devis pour l'ajustage de votre équipement?
A28: Commentaire libre | D28: fdgdfjklghsdjfglgsd
A32: APPAREIL CASSE/ NON FONCTIONNEL
A33: Répération de l'équipement sur site / changement de piece | D33: FALSE | E33: =IF(D33=TRUE,1,0) -> 0 | I33: Nous pouvons effectuer la répération/changement de piece de votre équipement sur site
A34: Répération de l'équipement en laboratoire / changement de piece | D34: FALSE | E34: =IF(D34=TRUE,1,0) -> 0 | I34: Nous pouvons effectuer la répération/changement de piece de votre équipement en laboratoire
A35: Devis à faire au client OUI/NON | D35: FALSE | E35: =IF(D35=TRUE,1,0) -> 0 | I35: Souhaitez-vous que nous vous transmetions un devis pour la répération de votre équipement?
A36: Commentaire libre

Sheet Fiche de vie
