Workbook

Sheet 192262-12 (2)
R1: 13
C2: Validation des déclarations
B3: Mise à jr racks | C3: Correction racks | D3: racks | E3: qte | F3: article | G3: nature | H3: ligne | I3: N° de lot | J3: N° déclaration | K3: N° déclaration | L3: N° de lot | M3: ligne | N3: nature | O3: article | P3: qte | Q3: racks | R3: Correction racks | S3: Mise à jr racks
C4: =IF(ISBLANK(I4)," ","Quantité "&" "&INDEX(INDIRECT(R$1&"!$F$7:$F$300"),MATCH(I4,INDIRECT(R$1&"!$B$7:$B$300"),0)))&" "&"Rebuts "&" "&INDEX(INDIRECT(R$1&"!$G$7:$G$300"),MATCH(I4,INDIRECT(R$1&"!$B$7:$B$300"),0)) -> Quantité 27140 Rebuts 259 | D4: {=IFERROR(INDEX(INDIRECT(R$1&"!L7:L300"),SMALL(IF(INDIRECT(R$1&"!B7:B300")=OFFSET(I$3,INT((ROWS($4:4)-1)/5)*5+1,),ROW(INDIRECT("1:"&ROWS(INDIRECT(R$1&"!B7:B300"))))),MOD(ROWS($4:4)-1,5)+1)),"")} -> A37 | E4: {=IFERROR(INDEX(INDIRECT(R$1&"!K7:K300"),SMALL(IF(INDIRECT(R$1&"!B7:B300")=OFFSET(I$3,INT((ROWS($4:4)-1)/5)*5+1,),ROW(INDIRECT("1:"&ROWS(INDIRECT(R$1&"!B7:B300"))))),MOD(ROWS($4:4)-1,5)+1)),"")} -> 62 | F4: =IF(OR(ISBLANK(I4),ISERROR(I4))," ",INDEX(INDIRECT(R$1&"!$I$6:$I$300"),MATCH(I4,INDIRECT(R$1&"!$B$6:$B$300"),0))) -> 201022 | G4: =IF(F4=(" ")," ",F4&" "&INDEX(articles!C$1:C$186&" "&articles!B$1:B$186,MATCH(F4,articles!A$1:A$186,0))) -> 201022 DEMI ECREME | H4: =IF(ISBLANK(I4)," ",INDEX(INDIRECT(R$1&"!$M$7:$M$300"),MATCH(I4,INDIRECT(R$1&"!$B$7:$B$300"),0))) -> L3 | I4: 192490 | J4: =IF(ISBLANK(I4)," ",INDEX(INDIRECT(R$1&"!$D$7:$D$300"),MATCH(I4,INDIRECT(R$1&"!$B$7:$B$300"),0))) -> 1905163 | K4: =IF(ISBLANK(L4)," ",INDEX(INDIRECT(R$1&"!$D$7:$D$300"),MATCH(L4,INDIRECT(R$1&"!$B$7:$B$300"),0))) -> 1905201 | L4: =IF(ISBLANK(I89)=" "," ",INDEX(INDIRECT(R$1&"!$B$7:$B$300"),MATCH((I89+1),INDIRECT(R$1&"!$B$7:$B$300"),0))) -> 192508 | M4: =IF(ISBLANK(L4)," ",INDEX(INDIRECT(R$1&"!$M$7:$M$300"),MATCH(L4,INDIRECT(R$1&"!$B$7:$B$300"),0))) -> L4 | N4: =IF(O4=(" ")," ",O4&" "&INDEX(articles!C$1:C$186&" "&articles!B$1:B$186,MATCH(O4,articles!A$1:A$186,0))) -> 200200 ENTIER | O4: =IF(OR(ISBLANK(L4),ISERROR(L4))," ",INDEX(INDIRECT(R$1&"!$I$7:$I$300"),MATCH(L4,INDIRECT(R$1&"!$B$7:$B$300"),0))) -> 200200 | P4: {=IFERROR(INDEX(INDIRECT(R$1&"!K7:K300"),SMALL(IF(INDIRECT(R$1&"!B7:B300")=OFFSET(L$3,INT((ROWS($4:4)-1)/5)*5+1,),ROW(INDIRECT("1:"&ROWS(INDIRECT(R$1&"!B7:B300"))))),MOD(ROWS($4:4)-1,5)+1)),"")} -> 32 | Q4: {=IFERROR(INDEX(INDIRECT(R$1&"!L7:L300"),SMALL(IF(INDIRECT(R$1&"!B7:B300")=OFFSET(L$3,INT((ROWS($4:4)-1)/5)*5+1,),ROW(INDIRECT("1:"&ROWS(INDIRECT(R$1&"!B7:B300"))))),MOD(ROWS($4:4)-1,5)+1)),"")} -> F28 | R4: =IF(ISBLANK(L4)," ","Quantité "&" "&INDEX(INDIRECT(R$1&"!$F$7:$F$300"),MATCH(L4,INDIRECT(R$1&"!$B$7:$B$300"),0)))&" "&"Rebuts "&" "&INDEX(INDIRECT(R$1&"!$G$7:$G$300"),MATCH(L4,INDIRECT(R$1&"!$B$7:$B$300"),0)) -> Quantité 32713 Rebuts 338
D5: {=IFERROR(INDEX(INDIRECT(R$1&"!L7:L300"),SMALL(IF(INDIRECT(R$1&"!B7:B300")=OFFSET(I$3,INT((ROWS($4:5)-1)/5)*5+1,),ROW(INDIRECT("1:"&ROWS(INDIRECT(R$1&"!B7:B300"))))),MOD(ROWS($4:5)-1,5)+1)),"")} -> MURECOMP | E5: {=IFERROR(INDEX(INDIRECT(R$1&"!K7:K300"),SMALL(IF(INDIRECT(R$1&"!B7:B300")=OFFSET(I$3,INT((ROWS($4:5)-1)/5)*5+1,),ROW(INDIRECT("1:"&ROWS(INDIRECT(R$1&"!B7:B300"))))),MOD(ROWS($4:5)-1,5)+1)),"")} -> 2 | P5: {=IFERROR(INDEX(INDIRECT(R$1&"!K7:K300"),SMALL(IF(INDIRECT(R$1&"!B7:B300")=OFFSET(L$3,INT((ROWS($4:5)-1)/5)*5+1,),ROW(INDIRECT("1:"&ROWS(INDIRECT(R$1&"!B7:B300"))))),MOD(ROWS($4:5)-1,5)+1)),"")} -> 4 | Q5: {=IFERROR(INDEX(INDIRECT(R$1&"!L7:L300"),SMALL(IF(INDIRECT(R$1&"!B7:B300")=OFFSET(L$3,INT((ROWS($4:5)-1)/5)*5+1,),ROW(INDIRECT("1:"&ROWS(INDIRECT(R$1&"!B7:B300"))))),MOD(ROWS($4:5)-1,5)+1)),"")} -> G08
D6: {=IFERROR(INDEX(INDIRECT(R$1&"!L7:L300"),SMALL(IF(INDIRECT(R$1&"!B7:B300")=OFFSET(I$3,INT((ROWS($4:6)-1)/5)*5+1,),ROW(INDIRECT("1:"&ROWS(INDIRECT(R$1&"!B7:B300"))))),MOD(ROWS($4:6)-1,5)+1)),"")} | E6: {=IFERROR(INDEX(INDIRECT(R$1&"!K7:K300"),SMALL(IF(INDIRECT(R$1&"!B7:B300")=OFFSET(I$3,INT((ROWS($4:6)-1)/5)*5+1,),ROW(INDIRECT("1:"&ROWS(INDIRECT(R$1&"!B7:B300"))))),MOD(ROWS($4:6)-1,5)+1)),"")} | P6: {=IFERROR(INDEX(INDIRECT(R$1&"!K7:K300"),SMALL(IF(INDIRECT(R$1&"!B7:B300")=OFFSET(L$3,INT((ROWS($4:6)-1)/5)*5+1,),ROW(INDIRECT("1:"&ROWS(INDIRECT(R$1&"!B7:B300"))))),MOD(ROWS($4:6)-1,5)+1)),"")} -> 1 | Q6: {=IFERROR(INDEX(INDIRECT(R$1&"!L7:L300"),SMALL(IF(INDIRECT(R$1&"!B7:B300")=OFFSET(L$3,INT((ROWS($4:6)-1)/5)*5+1,),ROW(INDIRECT("1:"&ROWS(INDIRECT(R$1&"!B7:B300"))))),MOD(ROWS($4:6)-1,5)+1)),"")} -> MURECOMP
D7: {=IFERROR(INDEX(INDIRECT(R$1&"!L7:L300"),SMALL(IF(INDIRECT(R$1&"!B7:B300")=OFFSET(I$3,INT((ROWS($4:7)-1)/5)*5+1,),ROW(INDIRECT("1:"&ROWS(INDIRECT(R$1&"!B7:B300"))))),MOD(ROWS($4:7)-1,5)+1)),"")} | E7: {=IFERROR(INDEX(INDIRECT(R$1&"!K7:K300"),SMALL(IF(INDIRECT(R$1&"!B7:B300")=OFFSET(I$3,INT((ROWS($4:7)-1)/5)*5+1,),ROW(INDIRECT("1:"&ROWS(INDIRECT(R$1&"!B7:B300"))))),MOD(ROWS($4:7)-1,5)+1)),"")} | P7: {=IFERROR(INDEX(INDIRECT(R$1&"!K7:K300"),SMALL(IF(INDIRECT(R$1&"!B7:B300")=OFFSET(L$3,INT((ROWS($4:7)-1)/5)*5+1,),ROW(INDIRECT("1:"&ROWS(INDIRECT(R$1&"!B7:B300"))))),MOD(ROWS($4:7)-1,5)+1)),"")} | Q7: {=IFERROR(INDEX(INDIRECT(R$1&"!L7:L300"),SMALL(IF(INDIRECT(R$1&"!B7:B300")=OFFSET(L$3,INT((ROWS($4:7)-1)/5)*5+1,),ROW(INDIRECT("1:"&ROWS(INDIRECT(R$1&"!B7:B300"))))),MOD(ROWS($4:7)-1,5)+1)),"")}
D8: {=IFERROR(INDEX(INDIRECT(R$1&"!L7:L300"),SMALL(IF(INDIRECT(R$1&"!B7:B300")=OFFSET(I$3,INT((ROWS($4:8)-1)/5)*5+1,),ROW(INDIRECT("1:"&ROWS(INDIRECT(R$1&"!B7:B300"))))),MOD(ROWS($4:8)-1,5)+1)),"")} | E8: {=IFERROR(INDEX(INDIRECT(R$1&"!K7:K300"),SMALL(IF(INDIRECT(R$1&"!B7:B300")=OFFSET(I$3,INT((ROWS($4:8)-1)/5)*5+1,),ROW(INDIRECT("1:"&ROWS(INDIRECT(R$1&"!B7:B300"))))),MOD(ROWS($4:8)-1,5)+1)),"")} | P8: {=IFERROR(INDEX(INDIRECT(R$1&"!K7:K300"),SMALL(IF(INDIRECT(R$1&"!B7:B300")=OFFSET(L$3,INT((ROWS($4:8)-1)/5)*5+1,),ROW(INDIRECT("1:"&ROWS(INDIRECT(R$1&"!B7:B300"))))),MOD(ROWS($4:8)-1,5)+1)),"")} | Q8: {=IFERROR(INDEX(INDIRECT(R$1&"!L7:L300"),SMALL(IF(INDIRECT(R$1&"!B7:B300")=OFFSET(L$3,INT((ROWS($4:8)-1)/5)*5+1,),ROW(INDIRECT("1:"&ROWS(INDIRECT(R$1&"!B7:B300"))))),MOD(ROWS($4:8)-1,5)+1)),"")}
C9: =IF(ISBLANK(I9)," ","Quantité "&" "&INDEX(INDIRECT(R$1&"!$F$7:$F$300"),MATCH(I9,INDIRECT(R$1&"!$B$7:$B$300"),0)))&" "&"Rebuts "&" "&INDEX(INDIRECT(R$1&"!$G$7:$G$300"),MATCH(I9,INDIRECT(R$1&"!$B$7:$B$300"),0)) -> Quantité 54008 Rebuts 226 | D9: {=IFERROR(INDEX(INDIRECT(R$1&"!L7:L300"),SMALL(IF(INDIRECT(R$1&"!B7:B300")=OFFSET(I$3,INT((ROWS($4:9)-1)/5)*5+1,),ROW(INDIRECT("1:"&ROWS(INDIRECT(R$1&"!B7:B300"))))),MOD(ROWS($4:9)-1,5)+1)),"")} -> B40 | E9: {=IFERROR(INDEX(INDIRECT(R$1&"!K7:K300"),SMALL(IF(INDIRECT(R$1&"!B7:B300")=OFFSET(I$3,INT((ROWS($4:9)-1)/5)*5+1,),ROW(INDIRECT("1:"&ROWS(INDIRECT(R$1&"!B7:B300"))))),MOD(ROWS($4:9)-1,5)+1)),"")} -> 32 | F9: =IF(OR(ISBLANK(I9),ISERROR(I9))," ",INDEX(INDIRECT(R$1&"!$I$6:$I$300"),MATCH(I9,INDIRECT(R$1&"!$B$6:$B$300"),0))) -> 201472 | G9: =IF(F9=(" ")," ",F9&" "&INDEX(articles!C$1:C$186&" "&articles!B$1:B$186,MATCH(F9,articles!A$1:A$186,0))) -> 201472 DEMI ECREME | H9: =IF(ISBLANK(I9)," ",INDEX(INDIRECT(R$1&"!$M$7:$M$300"),MATCH(I9,INDIRECT(R$1&"!$B$7:$B$300"),0))) -> L1 | I9: =IF(ISBLANK(I4)," ",INDEX(INDIRECT(R$1&"!$B$7:$B$300"),MATCH((I4+1),INDIRECT(R$1&"!$B$7:$B$300"),0))) -> 192491 | J9: =IF(ISBLANK(I9)," ",INDEX(INDIRECT(R$1&"!$D$2:$D$300"),MATCH(I9,INDIRECT(R$1&"!$B$2:$B$300"),0))) -> 1905164 | K9: =IF(ISBLANK(L9)," ",INDEX(INDIRECT(R$1&"!$D$7:$D$300"),MATCH(L9,INDIRECT(R$1&"!$B$7:$B$300"),0))) -> 1905202 | L9: =IF(L4=" "," ",INDEX(INDIRECT(R$1&"!$B$7:$B$300"),MATCH((L4+1),INDIRECT(R$1&"!$B$7:$B$300"),0))) -> 192509 | M9: =IF(ISBLANK(L9)," ",INDEX(INDIRECT(R$1&"!$M$7:$M$300"),MATCH(L9,INDIRECT(R$1&"!$B$7:$B$300"),0))) -> L3 | N9: =IF(O9=(" ")," ",O9&" "&INDEX(articles!C$1:C$186&" "&articles!B$1:B$186,MATCH(O9,articles!A$1:A$186,0))) -> 201190 DEMI ECREME | O9: =IF(OR(ISBLANK(L9),ISERROR(L9))," ",INDEX(INDIRECT(R$1&"!$I$7:$I$300"),MATCH(L9,INDIRECT(R$1&"!$B$7:$B$300"),0))) -> 201190 | P9: {=IFERROR(INDEX(INDIRECT(R$1&"!K7:K300"),SMALL(IF(INDIRECT(R$1&"!B7:B300")=OFFSET(L$3,INT((ROWS($4:9)-1)/5)*5+1,),ROW(INDIRECT("1:"&ROWS(INDIRECT(R$1&"!B7:B300"))))),MOD(ROWS($4:9)-1,5)+1)),"")} -> 24 | Q9: {=IFERROR(INDEX(INDIRECT(R$1&"!L7:L300"),SMALL(IF(INDIRECT(R$1&"!B7:B300")=OFFSET(L$3,INT((ROWS($4:9)-1)/5)*5+1,),ROW(INDIRECT("1:"&ROWS(INDIRECT(R$1&"!B7:B300"))))),MOD(ROWS($4:9)-1,5)+1)),"")} -> F42 | R9: =IF(ISBLANK(L9)," ","Quantité "&" "&INDEX(INDIRECT(R$1&"!$F$7:$F$300"),MATCH(L9,INDIRECT(R$1&"!$B$7:$B$300"),0)))&" "&"Rebuts "&" "&INDEX(INDIRECT(R$1&"!$G$7:$G$300"),MATCH(L9,INDIRECT(R$1&"!$B$7:$B$300"),0)) -> Quantité 21544 Rebuts 178
D10: {=IFERROR(INDEX(INDIRECT(R$1&"!L7:L300"),SMALL(IF(INDIRECT(R$1&"!B7:B300")=OFFSET(I$3,INT((ROWS($4:10)-1)/5)*5+1,),ROW(INDIRECT("1:"&ROWS(INDIRECT(R$1&"!B7:B300"))))),MOD(ROWS($4:10)-1,5)+1)),"")} -> B41 | E10: {=IFERROR(INDEX(INDIRECT(R$1&"!K7:K300"),SMALL(IF(INDIRECT(R$1&"!B7:B300")=OFFSET(I$3,INT((ROWS($4:10)-1)/5)*5+1,),ROW(INDIRECT("1:"&ROWS(INDIRECT(R$1&"!B7:B300"))))),MOD(ROWS($4:10)-1,5)+1)),"")} -> 30 | P10: {=IFERROR(INDEX(INDIRECT(R$1&"!K7:K300"),SMALL(IF(INDIRECT(R$1&"!B7:B300")=OFFSET(L$3,INT((ROWS($4:10)-1)/5)*5+1,),ROW(INDIRECT("1:"&ROWS(INDIRECT(R$1&"!B7:B300"))))),MOD(ROWS($4:10)-1,5)+1)),"")} -> 1 | Q10: {=IFERROR(INDEX(INDIRECT(R$1&"!L7:L300"),SMALL(IF(INDIRECT(R$1&"!B7:B300")=OFFSET(L$3,INT((ROWS($4:10)-1)/5)*5+1,),ROW(INDIRECT("1:"&ROWS(INDIRECT(R$1&"!B7:B300"))))),MOD(ROWS($4:10)-1,5)+1)),"")} -> MURECOMP
D11: {=IFERROR(INDEX(INDIRECT(R$1&"!L7:L300"),SMALL(IF(INDIRECT(R$1&"!B7:B300")=OFFSET(I$3,INT((ROWS($4:11)-1)/5)*5+1,),ROW(INDIRECT("1:"&ROWS(INDIRECT(R$1&"!B7:B300"))))),MOD(ROWS($4:11)-1,5)+1)),"")} | E11: {=IFERROR(INDEX(INDIRECT(R$1&"!K7:K300"),SMALL(IF(INDIRECT(R$1&"!B7:B300")=OFFSET(I$3,INT((ROWS($4:11)-1)/5)*5+1,),ROW(INDIRECT("1:"&ROWS(INDIRECT(R$1&"!B7:B300"))))),MOD(ROWS($4:11)-1,5)+1)),"")} | P11: {=IFERROR(INDEX(INDIRECT(R$1&"!K7:K300"),SMALL(IF(INDIRECT(R$1&"!B7:B300")=OFFSET(L$3,INT((ROWS($4:11)-1)/5)*5+1,),ROW(INDIRECT("1:"&ROWS(INDIRECT(R$1&"!B7:B300"))))),MOD(ROWS($4:11)-1,5)+1)),"")} | Q11: {=IFERROR(INDEX(INDIRECT(R$1&"!L7:L300"),SMALL(IF(INDIRECT(R$1&"!B7:B300")=OFFSET(L$3,INT((ROWS($4:11)-1)/5)*5+1,),ROW(INDIRECT("1:"&ROWS(INDIRECT(R$1&"!B7:B300"))))),MOD(ROWS($4:11)-1,5)+1)),"")}
D12: {=IFERROR(INDEX(INDIRECT(R$1&"!L7:L300"),SMALL(IF(INDIRECT(R$1&"!B7:B300")=OFFSET(I$3,INT((ROWS($4:12)-1)/5)*5+1,),ROW(INDIRECT("1:"&ROWS(INDIRECT(R$1&"!B7:B300"))))),MOD(ROWS($4:12)-1,5)+1)),"")} | E12: {=IFERROR(INDEX(INDIRECT(R$1&"!K7:K300"),SMALL(IF(INDIRECT(R$1&"!B7:B300")=OFFSET(I$3,INT((ROWS($4:12)-1)/5)*5+1,),ROW(INDIRECT("1:"&ROWS(INDIRECT(R$1&"!B7:B300"))))),MOD(ROWS($4:12)-1,5)+1)),"")} | P12: {=IFERROR(INDEX(INDIRECT(R$1&"!K7:K300"),SMALL(IF(INDIRECT(R$1&"!B7:B300")=OFFSET(L$3,INT((ROWS($4:12)-1)/5)*5+1,),ROW(INDIRECT("1:"&ROWS(INDIRECT(R$1&"!B7:B300"))))),MOD(ROWS($4:12)-1,5)+1)),"")} | Q12: {=IFERROR(INDEX(INDIRECT(R$1&"!L7:L300"),SMALL(IF(INDIRECT(R$1&"!B7:B300")=OFFSET(L$3,INT((ROWS($4:12)-1)/5)*5+1,),ROW(INDIRECT("1:"&ROWS(INDIRECT(R$1&"!B7:B300"))))),MOD(ROWS($4:12)-1,5)+1)),"")}
D13: {=IFERROR(INDEX(INDIRECT(R$1&"!L7:L300"),SMALL(IF(INDIRECT(R$1&"!B7:B300")=OFFSET(I$3,INT((ROWS($4:13)-1)/5)*5+1,),ROW(INDIRECT("1:"&ROWS(INDIRECT(R$1&"!B7:B300"))))),MOD(ROWS($4:13)-1,5)+1)),"")} | E13: {=IFERROR(INDEX(INDIRECT(R$1&"!K7:K300"),SMALL(IF(INDIRECT(R$1&"!B7:B300")=OFFSET(I$3,INT((ROWS($4:13)-1)/5)*5+1,),ROW(INDIRECT("1:"&ROWS(INDIRECT(R$1&"!B7:B300"))))),MOD(ROWS($4:13)-1,5)+1)),"")} | P13: {=IFERROR(INDEX(INDIRECT(R$1&"!K7:K300"),SMALL(IF(INDIRECT(R$1&"!B7:B300")=OFFSET(L$3,INT((ROWS($4:13)-1)/5)*5+1,),ROW(INDIRECT("1:"&ROWS(INDIRECT(R$1&"!B7:B300"))))),MOD(ROWS($4:13)-1,5)+1)),"")} | Q13: {=IFERROR(INDEX(INDIRECT(R$1&"!L7:L300"),SMALL(IF(INDIRECT(R$1&"!B7:B300")=OFFSET(L$3,INT((ROWS($4:13)-1)/5)*5+1,),ROW(INDIRECT("1:"&ROWS(INDIRECT(R$1&"!B7:B300"))))),MOD(ROWS($4:13)-1,5)+1)),"")}
C14: =IF(ISBLANK(I14)," ","Quantité "&" "&INDEX(INDIRECT(R$1&"!$F$7:$F$300"),MATCH(I14,INDIRECT(R$1&"!$B$7:$B$300"),0)))&" "&"Rebuts "&" "&INDEX(INDIRECT(R$1&"!$G$7:$G$300"),MATCH(I14,INDIRECT(R$1&"!$B$7:$B$300"),0)) -> Quantité 8434 Rebuts 104 | D14: {=IFERROR(INDEX(INDIRECT(R$1&"!L7:L300"),SMALL(IF(INDIRECT(R$1&"!B7:B300")=OFFSET(I$3,INT((ROWS($4:14)-1)/5)*5+1,),ROW(INDIRECT("1:"&ROWS(INDIRECT(R$1&"!B7:B300"))))),MOD(ROWS($4:14)-1,5)+1)),"")} -> C01 | E14: {=IFERROR(INDEX(INDIRECT(R$1&"!K7:K300"),SMALL(IF(INDIRECT(R$1&"!B7:B300")=OFFSET(I$3,INT((ROWS($4:14)-1)/5)*5+1,),ROW(INDIRECT("1:"&ROWS(INDIRECT(R$1&"!B7:B300"))))),MOD(ROWS($4:14)-1,5)+1)),"")} -> 20 | F14: =IF(OR(ISBLANK(I14),ISERROR(I14))," ",INDEX(INDIRECT(R$1&"!$I$6:$I$300"),MATCH(I14,INDIRECT(R$1&"!$B$6:$B$300"),0))) -> 221372 | G14: =IF(F14=(" ")," ",F14&" "&INDEX(articles!C$1:C$186&" "&articles!B$1:B$186,MATCH(F14,articles!A$1:A$186,0))) -> 221372 DEMI ECREME | H14: =IF(ISBLANK(I14)," ",INDEX(INDIRECT(R$1&"!$M$7:$M$300"),MATCH(I14,INDIRECT(R$1&"!$B$7:$B$300"),0))) -> L5 | I14: =IF(ISBLANK(I9)," ",INDEX(INDIRECT(R$1&"!$B$7:$B$300"),MATCH((I9+1),INDIRECT(R$1&"!$B$7:$B$300"),0))) -> 192492 | J14: =IF(ISBLANK(I14)," ",INDEX(INDIRECT(R$1&"!$D$2:$D$300"),MATCH(I14,INDIRECT(R$1&"!$B$2:$B$300"),0))) -> 1905165 | K14: =IF(ISBLANK(L14)," ",INDEX(INDIRECT(R$1&"!$D$7:$D$300"),MATCH(L14,INDIRECT(R$1&"!$B$7:$B$300"),0))) -> 1905203 | L14: =IF(L9=" "," ",INDEX(INDIRECT(R$1&"!$B$7:$B$300"),MATCH((L9+1),INDIRECT(R$1&"!$B$7:$B$300"),0))) -> 192510 | M14: =IF(ISBLANK(L14)," ",INDEX(INDIRECT(R$1&"!$M$7:$M$300"),MATCH(L14,INDIRECT(R$1&"!$B$7:$B$300"),0))) -> L4 | N14: =IF(O14=(" ")," ",O14&" "&INDEX(articles!C$1:C$186&" "&articles!B$1:B$186,MATCH(O14,articles!A$1:A$186,0))) -> 200200 ENTIER | O14: =IF(OR(ISBLANK(L14),ISERROR(L14))," ",INDEX(INDIRECT(R$1&"!$I$7:$I$300"),MATCH(L14,INDIRECT(R$1&"!$B$7:$B$300"),0))) -> 200200 | P14: {=IFERROR(INDEX(INDIRECT(R$1&"!K7:K300"),SMALL(IF(INDIRECT(R$1&"!B7:B300")=OFFSET(L$3,INT((ROWS($4:14)-1)/5)*5+1,),ROW(INDIRECT("1:"&ROWS(INDIRECT(R$1&"!B7:B300"))))),MOD(ROWS($4:14)-1,5)+1)),"")} -> 20 | Q14: {=IFERROR(INDEX(INDIRECT(R$1&"!L7:L300"),SMALL(IF(INDIRECT(R$1&"!B7:B300")=OFFSET(L$3,INT((ROWS($4:14)-1)/5)*5+1,),ROW(INDIRECT("1:"&ROWS(INDIRECT(R$1&"!B7:B300"))))),MOD(ROWS($4:14)-1,5)+1)),"")} -> E35 | R14: =IF(ISBLANK(L14)," ","Quantité "&" "&INDEX(INDIRECT(R$1&"!$F$7:$F$300"),MATCH(L14,INDIRECT(R$1&"!$B$7:$B$300"),0)))&" "&"Rebuts "&" "&INDEX(INDIRECT(R$1&"!$G$7:$G$300"),MATCH(L14,INDIRECT(R$1&"!$B$7:$B$300"),0)) -> Quantité 18369 Rebuts 145
D15: {=IFERROR(INDEX(INDIRECT(R$1&"!L7:L300"),SMALL(IF(INDIRECT(R$1&"!B7:B300")=OFFSET(I$3,INT((ROWS($4:15)-1)/5)*5+1,),ROW(INDIRECT("1:"&ROWS(INDIRECT(R$1&"!B7:B300"))))),MOD(ROWS($4:15)-1,5)+1)),"")} | E15: {=IFERROR(INDEX(INDIRECT(R$1&"!K7:K300"),SMALL(IF(INDIRECT(R$1&"!B7:B300")=OFFSET(I$3,INT((ROWS($4:15)-1)/5)*5+1,),ROW(INDIRECT("1:"&ROWS(INDIRECT(R$1&"!B7:B300"))))),MOD(ROWS($4:15)-1,5)+1)),"")} | P15: {=IFERROR(INDEX(INDIRECT(R$1&"!K7:K300"),SMALL(IF(INDIRECT(R$1&"!B7:B300")=OFFSET(L$3,INT((ROWS($4:15)-1)/5)*5+1,),ROW(INDIRECT("1:"&ROWS(INDIRECT(R$1&"!B7:B300"))))),MOD(ROWS($4:15)-1,5)+1)),"")} -> 1 | Q15: {=IFERROR(INDEX(INDIRECT(R$1&"!L7:L300"),SMALL(IF(INDIRECT(R$1&"!B7:B300")=OFFSET(L$3,INT((ROWS($4:15)-1)/5)*5+1,),ROW(INDIRECT("1:"&ROWS(INDIRECT(R$1&"!B7:B300"))))),MOD(ROWS($4:15)-1,5)+1)),"")} -> MURECOMP
D16: {=IFERROR(INDEX(INDIRECT(R$1&"!L7:L300"),SMALL(IF(INDIRECT(R$1&"!B7:B300")=OFFSET(I$3,INT((ROWS($4:16)-1)/5)*5+1,),ROW(INDIRECT("1:"&ROWS(INDIRECT(R$1&"!B7:B300"))))),MOD(ROWS($4:16)-1,5)+1)),"")} | E16: {=IFERROR(INDEX(INDIRECT(R$1&"!K7:K300"),SMALL(IF(INDIRECT(R$1&"!B7:B300")=OFFSET(I$3,INT((ROWS($4:16)-1)/5)*5+1,),ROW(INDIRECT("1:"&ROWS(INDIRECT(R$1&"!B7:B300"))))),MOD(ROWS($4:16)-1,5)+1)),"")} | P16: {=IFERROR(INDEX(INDIRECT(R$1&"!K7:K300"),SMALL(IF(INDIRECT(R$1&"!B7:B300")=OFFSET(L$3,INT((ROWS($4:16)-1)/5)*5+1,),ROW(INDIRECT("1:"&ROWS(INDIRECT(R$1&"!B7:B300"))))),MOD(ROWS($4:16)-1,5)+1)),"")} | Q16: {=IFERROR(INDEX(INDIRECT(R$1&"!L7:L300"),SMALL(IF(INDIRECT(R$1&"!B7:B300")=OFFSET(L$3,INT((ROWS($4:16)-1)/5)*5+1,),ROW(INDIRECT("1:"&ROWS(INDIRECT(R$1&"!B7:B300"))))),MOD(ROWS($4:16)-1,5)+1)),"")}
D17: {=IFERROR(INDEX(INDIRECT(R$1&"!L7:L300"),SMALL(IF(INDIRECT(R$1&"!B7:B300")=OFFSET(I$3,INT((ROWS($4:17)-1)/5)*5+1,),ROW(INDIRECT("1:"&ROWS(INDIRECT(R$1&"!B7:B300"))))),MOD(ROWS($4:17)-1,5)+1)),"")} | E17: {=IFERROR(INDEX(INDIRECT(R$1&"!K7:K300"),SMALL(IF(INDIRECT(R$1&"!B7:B300")=OFFSET(I$3,INT((ROWS($4:17)-1)/5)*5+1,),ROW(INDIRECT("1:"&ROWS(INDIRECT(R$1&"!B7:B300"))))),MOD(ROWS($4:17)-1,5)+1)),"")} | P17: {=IFERROR(INDEX(INDIRECT(R$1&"!K7:K300"),SMALL(IF(INDIRECT(R$1&"!B7:B300")=OFFSET(L$3,INT((ROWS($4:17)-1)/5)*5+1,),ROW(INDIRECT("1:"&ROWS(INDIRECT(R$1&"!B7:B300"))))),MOD(ROWS($4:17)-1,5)+1)),"")} | Q17: {=IFERROR(INDEX(INDIRECT(R$1&"!L7:L300"),SMALL(IF(INDIRECT(R$1&"!B7:B300")=OFFSET(L$3,INT((ROWS($4:17)-1)/5)*5+1,),ROW(INDIRECT("1:"&ROWS(INDIRECT(R$1&"!B7:B300"))))),MOD(ROWS($4:17)-1,5)+1)),"")}
D18: {=IFERROR(INDEX(INDIRECT(R$1&"!L7:L300"),SMALL(IF(INDIRECT(R$1&"!B7:B300")=OFFSET(I$3,INT((ROWS($4:18)-1)/5)*5+1,),ROW(INDIRECT("1:"&ROWS(INDIRECT(R$1&"!B7:B300"))))),MOD(ROWS($4:18)-1,5)+1)),"")} | E18: {=IFERROR(INDEX(INDIRECT(R$1&"!K7:K300"),SMALL(IF(INDIRECT(R$1&"!B7:B300")=OFFSET(I$3,INT((ROWS($4:18)-1)/5)*5+1,),ROW(INDIRECT("1:"&ROWS(INDIRECT(R$1&"!B7:B300"))))),MOD(ROWS($4:18)-1,5)+1)),"")} | P18: {=IFERROR(INDEX(INDIRECT(R$1&"!K7:K300"),SMALL(IF(INDIRECT(R$1&"!B7:B300")=OFFSET(L$3,INT((ROWS($4:18)-1)/5)*5+1,),ROW(INDIRECT("1:"&ROWS(INDIRECT(R$1&"!B7:B300"))))),MOD(ROWS($4:18)-1,5)+1)),"")} | Q18: {=IFERROR(INDEX(INDIRECT(R$1&"!L7:L300"),SMALL(IF(INDIRECT(R$1&"!B7:B300")=OFFSET(L$3,INT((ROWS($4:18)-1)/5)*5+1,),ROW(INDIRECT("1:"&ROWS(INDIRECT(R$1&"!B7:B300"))))),MOD(ROWS($4:18)-1,5)+1)),"")}
C19: =IF(ISBLANK(I19)," ","Quantité "&" "&INDEX(INDIRECT(R$1&"!$F$7:$F$300"),MATCH(I19,INDIRECT(R$1&"!$B$7:$B$300"),0)))&" "&"Rebuts "&" "&INDEX(INDIRECT(R$1&"!$G$7:$G$300"),MATCH(I19,INDIRECT(R$1&"!$B$7:$B$300"),0)) -> Quantité 54152 Rebuts 376 | D19: {=IFERROR(INDEX(INDIRECT(R$1&"!L7:L300"),SMALL(IF(INDIRECT(R$1&"!B7:B300")=OFFSET(I$3,INT((ROWS($4:19)-1)/5)*5+1,),ROW(INDIRECT("1:"&ROWS(INDIRECT(R$1&"!B7:B300"))))),MOD(ROWS($4:19)-1,5)+1)),"")} -> F19 | E19: {=IFERROR(INDEX(INDIRECT(R$1&"!K7:K300"),SMALL(IF(INDIRECT(R$1&"!B7:B300")=OFFSET(I$3,INT((ROWS($4:19)-1)/5)*5+1,),ROW(INDIRECT("1:"&ROWS(INDIRECT(R$1&"!B7:B300"))))),MOD(ROWS($4:19)-1,5)+1)),"")} -> 30 | F19: =IF(OR(ISBLANK(I19),ISERROR(I19))," ",INDEX(INDIRECT(R$1&"!$I$6:$I$300"),MATCH(I19,INDIRECT(R$1&"!$B$6:$B$300"),0))) -> 200190 | G19: =IF(F19=(" ")," ",F19&" "&INDEX(articles!C$1:C$186&" "&articles!B$1:B$186,MATCH(F19,articles!A$1:A$186,0))) -> 200190 ENTIER | H19: =IF(ISBLANK(I19)," ",INDEX(INDIRECT(R$1&"!$M$7:$M$300"),MATCH(I19,INDIRECT(R$1&"!$B$7:$B$300"),0))) -> L4 | I19: =IF(ISBLANK(I14)," ",INDEX(INDIRECT(R$1&"!$B$7:$B$300"),MATCH((I14+1),INDIRECT(R$1&"!$B$7:$B$300"),0))) -> 192493 | J19: =IF(ISBLANK(I19)," ",INDEX(INDIRECT(R$1&"!$D$2:$D$300"),MATCH(I19,INDIRECT(R$1&"!$B$2:$B$300"),0))) -> 1905166 | K19: =IF(ISBLANK(L19)," ",INDEX(INDIRECT(R$1&"!$D$7:$D$300"),MATCH(L19,INDIRECT(R$1&"!$B$7:$B$300"),0))) -> 1905204 | L19: =IF(L14=" "," ",INDEX(INDIRECT(R$1&"!$B$7:$B$300"),MATCH((L14+1),INDIRECT(R$1&"!$B$7:$B$300"),0))) -> 192511 | M19: =IF(ISBLANK(L19)," ",INDEX(INDIRECT(R$1&"!$M$7:$M$300"),MATCH(L19,INDIRECT(R$1&"!$B$7:$B$300"),0))) -> L5 | N19: =IF(O19=(" ")," ",O19&" "&INDEX(articles!C$1:C$186&" "&articles!B$1:B$186,MATCH(O19,articles!A$1:A$186,0))) -> 221173 DEMI ECREME | O19: =IF(OR(ISBLANK(L19),ISERROR(L19))," ",INDEX(INDIRECT(R$1&"!$I$7:$I$300"),MATCH(L19,INDIRECT(R$1&"!$B$7:$B$300"),0))) -> 221173 | P19: {=IFERROR(INDEX(INDIRECT(R$1&"!K7:K300"),SMALL(IF(INDIRECT(R$1&"!B7:B300")=OFFSET(L$3,INT((ROWS($4:19)-1)/5)*5+1,),ROW(INDIRECT("1:"&ROWS(INDIRECT(R$1&"!B7:B300"))))),MOD(ROWS($4:19)-1,5)+1)),"")} -> 62 | Q19: {=IFERROR(INDEX(INDIRECT(R$1&"!L7:L300"),SMALL(IF(INDIRECT(R$1&"!B7:B300")=OFFSET(L$3,INT((ROWS($4:19)-1)/5)*5+1,),ROW(INDIRECT("1:"&ROWS(INDIRECT(R$1&"!B7:B300"))))),MOD(ROWS($4:19)-1,5)+1)),"")} -> F40 | R19: =IF(ISBLANK(L19)," ","Quantité "&" "&INDEX(INDIRECT(R$1&"!$F$7:$F$300"),MATCH(L19,INDIRECT(R$1&"!$B$7:$B$300"),0)))&" "&"Rebuts "&" "&INDEX(INDIRECT(R$1&"!$G$7:$G$300"),MATCH(L19,INDIRECT(R$1&"!$B$7:$B$300"),0)) -> Quantité 46036 Rebuts 286
D20: {=IFERROR(INDEX(INDIRECT(R$1&"!L7:L300"),SMALL(IF(INDIRECT(R$1&"!B7:B300")=OFFSET(I$3,INT((ROWS($4:20)-1)/5)*5+1,),ROW(INDIRECT("1:"&ROWS(INDIRECT(R$1&"!B7:B300"))))),MOD(ROWS($4:20)-1,5)+1)),"")} -> F24 | E20: {=IFERROR(INDEX(INDIRECT(R$1&"!K7:K300"),SMALL(IF(INDIRECT(R$1&"!B7:B300")=OFFSET(I$3,INT((ROWS($4:20)-1)/5)*5+1,),ROW(INDIRECT("1:"&ROWS(INDIRECT(R$1&"!B7:B300"))))),MOD(ROWS($4:20)-1,5)+1)),"")} -> 32 | P20: {=IFERROR(INDEX(INDIRECT(R$1&"!K7:K300"),SMALL(IF(INDIRECT(R$1&"!B7:B300")=OFFSET(L$3,INT((ROWS($4:20)-1)/5)*5+1,),ROW(INDIRECT("1:"&ROWS(INDIRECT(R$1&"!B7:B300"))))),MOD(ROWS($4:20)-1,5)+1)),"")} -> 64 | Q20: {=IFERROR(INDEX(INDIRECT(R$1&"!L7:L300"),SMALL(IF(INDIRECT(R$1&"!B7:B300")=OFFSET(L$3,INT((ROWS($4:20)-1)/5)*5+1,),ROW(INDIRECT("1:"&ROWS(INDIRECT(R$1&"!B7:B300"))))),MOD(ROWS($4:20)-1,5)+1)),"")} -> D35
D21: {=IFERROR(INDEX(INDIRECT(R$1&"!L7:L300"),SMALL(IF(INDIRECT(R$1&"!B7:B300")=OFFSET(I$3,INT((ROWS($4:21)-1)/5)*5+1,),ROW(INDIRECT("1:"&ROWS(INDIRECT(R$1&"!B7:B300"))))),MOD(ROWS($4:21)-1,5)+1)),"")} -> MURECOMP | E21: {=IFERROR(INDEX(INDIRECT(R$1&"!K7:K300"),SMALL(IF(INDIRECT(R$1&"!B7:B300")=OFFSET(I$3,INT((ROWS($4:21)-1)/5)*5+1,),ROW(INDIRECT("1:"&ROWS(INDIRECT(R$1&"!B7:B300"))))),MOD(ROWS($4:21)-1,5)+1)),"")} -> 1 | P21: {=IFERROR(INDEX(INDIRECT(R$1&"!K7:K300"),SMALL(IF(INDIRECT(R$1&"!B7:B300")=OFFSET(L$3,INT((ROWS($4:21)-1)/5)*5+1,),ROW(INDIRECT("1:"&ROWS(INDIRECT(R$1&"!B7:B300"))))),MOD(ROWS($4:21)-1,5)+1)),"")} -> 2 | Q21: {=IFERROR(INDEX(INDIRECT(R$1&"!L7:L300"),SMALL(IF(INDIRECT(R$1&"!B7:B300")=OFFSET(L$3,INT((ROWS($4:21)-1)/5)*5+1,),ROW(INDIRECT("1:"&ROWS(INDIRECT(R$1&"!B7:B300"))))),MOD(ROWS($4:21)-1,5)+1)),"")} -> MURECOMP
D22: {=IFERROR(INDEX(INDIRECT(R$1&"!L7:L300"),SMALL(IF(INDIRECT(R$1&"!B7:B300")=OFFSET(I$3,INT((ROWS($4:22)-1)/5)*5+1,),ROW(INDIRECT("1:"&ROWS(INDIRECT(R$1&"!B7:B300"))))),MOD(ROWS($4:22)-1,5)+1)),"")} | E22: {=IFERROR(INDEX(INDIRECT(R$1&"!K7:K300"),SMALL(IF(INDIRECT(R$1&"!B7:B300")=OFFSET(I$3,INT((ROWS($4:22)-1)/5)*5+1,),ROW(INDIRECT("1:"&ROWS(INDIRECT(R$1&"!B7:B300"))))),MOD(ROWS($4:22)-1,5)+1)),"")} | P22: {=IFERROR(INDEX(INDIRECT(R$1&"!K7:K300"),SMALL(IF(INDIRECT(R$1&"!B7:B300")=OFFSET(L$3,INT((ROWS($4:22)-1)/5)*5+1,),ROW(INDIRECT("1:"&ROWS(INDIRECT(R$1&"!B7:B300"))))),MOD(ROWS($4:22)-1,5)+1)),"")} | Q22: {=IFERROR(INDEX(INDIRECT(R$1&"!L7:L300"),SMALL(IF(INDIRECT(R$1&"!B7:B300")=OFFSET(L$3,INT((ROWS($4:22)-1)/5)*5+1,),ROW(INDIRECT("1:"&ROWS(INDIRECT(R$1&"!B7:B300"))))),MOD(ROWS($4:22)-1,5)+1)),"")}
D23: {=IFERROR(INDEX(INDIRECT(R$1&"!L7:L300"),SMALL(IF(INDIRECT(R$1&"!B7:B300")=OFFSET(I$3,INT((ROWS($4:23)-1)/5)*5+1,),ROW(INDIRECT("1:"&ROWS(INDIRECT(R$1&"!B7:B300"))))),MOD(ROWS($4:23)-1,5)+1)),"")} | E23: {=IFERROR(INDEX(INDIRECT(R$1&"!K7:K300"),SMALL(IF(INDIRECT(R$1&"!B7:B300")=OFFSET(I$3,INT((ROWS($4:23)-1)/5)*5+1,),ROW(INDIRECT("1:"&ROWS(INDIRECT(R$1&"!B7:B300"))))),MOD(ROWS($4:23)-1,5)+1)),"")} | P23: {=IFERROR(INDEX(INDIRECT(R$1&"!K7:K300"),SMALL(IF(INDIRECT(R$1&"!B7:B300")=OFFSET(L$3,INT((ROWS($4:23)-1)/5)*5+1,),ROW(INDIRECT("1:"&ROWS(INDIRECT(R$1&"!B7:B300"))))),MOD(ROWS($4:23)-1,5)+1)),"")} | Q23: {=IFERROR(INDEX(INDIRECT(R$1&"!L7:L300"),SMALL(IF(INDIRECT(R$1&"!B7:B300")=OFFSET(L$3,INT((ROWS($4:23)-1)/5)*5+1,),ROW(INDIRECT("1:"&ROWS(INDIRECT(R$1&"!B7:B300"))))),MOD(ROWS($4:23)-1,5)+1)),"")}
C24: =IF(ISBLANK(I24)," ","Quantité "&" "&INDEX(INDIRECT(R$1&"!$F$7:$F$300"),MATCH(I24,INDIRECT(R$1&"!$B$7:$B$300"),0)))&" "&"Rebuts "&" "&INDEX(INDIRECT(R$1&"!$G$7:$G$300"),MATCH(I24,INDIRECT(R$1&"!$B$7:$B$300"),0)) -> Quantité 49148 Rebuts 198 | D24: {=IFERROR(INDEX(INDIRECT(R$1&"!L7:L300"),SMALL(IF(INDIRECT(R$1&"!B7:B300")=OFFSET(I$3,INT((ROWS($4:24)-1)/5)*5+1,),ROW(INDIRECT("1:"&ROWS(INDIRECT(R$1&"!B7:B300"))))),MOD(ROWS($4:24)-1,5)+1)),"")} -> B02 | E24: {=IFERROR(INDEX(INDIRECT(R$1&"!K7:K300"),SMALL(IF(INDIRECT(R$1&"!B7:B300")=OFFSET(I$3,INT((ROWS($4:24)-1)/5)*5+1,),ROW(INDIRECT("1:"&ROWS(INDIRECT(R$1&"!B7:B300"))))),MOD(ROWS($4:24)-1,5)+1)),"")} -> 32 | F24: =IF(OR(ISBLANK(I24),ISERROR(I24))," ",INDEX(INDIRECT(R$1&"!$I$6:$I$300"),MATCH(I24,INDIRECT(R$1&"!$B$6:$B$300"),0))) -> 221066 | G24: =IF(F24=(" ")," ",F24&" "&INDEX(articles!C$1:C$186&" "&articles!B$1:B$186,MATCH(F24,articles!A$1:A$186,0))) -> 221066 DEMI ECREME | H24: =IF(ISBLANK(I24)," ",INDEX(INDIRECT(R$1&"!$M$7:$M$300"),MATCH(I24,INDIRECT(R$1&"!$B$7:$B$300"),0))) -> L5 | I24: =IF(ISBLANK(I19)," ",INDEX(INDIRECT(R$1&"!$B$7:$B$300"),MATCH((I19+1),INDIRECT(R$1&"!$B$7:$B$300"),0))) -> 192494 | J24: =IF(ISBLANK(I24)," ",INDEX(INDIRECT(R$1&"!$D$2:$D$300"),MATCH(I24,INDIRECT(R$1&"!$B$2:$B$300"),0))) -> 1905167 | K24: =IF(ISBLANK(L24)," ",INDEX(INDIRECT(R$1&"!$D$7:$D$300"),MATCH(L24,INDIRECT(R$1&"!$B$7:$B$300"),0))) -> 1905205 | L24: =IF(L19=" "," ",INDEX(INDIRECT(R$1&"!$B$7:$B$300"),MATCH((L19+1),INDIRECT(R$1&"!$B$7:$B$300"),0))) -> 192512 | M24: =IF(ISBLANK(L24)," ",INDEX(INDIRECT(R$1&"!$M$7:$M$300"),MATCH(L24,INDIRECT(R$1&"!$B$7:$B$300"),0))) -> L3 | N24: =IF(O24=(" ")," ",O24&" "&INDEX(articles!C$1:C$186&" "&articles!B$1:B$186,MATCH(O24,articles!A$1:A$186,0))) -> 200021 ENTIER | O24: =IF(OR(ISBLANK(L24),ISERROR(L24))," ",INDEX(INDIRECT(R$1&"!$I$7:$I$300"),MATCH(L24,INDIRECT(R$1&"!$B$7:$B$300"),0))) -> 200021 | P24: {=IFERROR(INDEX(INDIRECT(R$1&"!K7:K300"),SMALL(IF(INDIRECT(R$1&"!B7:B300")=OFFSET(L$3,INT((ROWS($4:24)-1)/5)*5+1,),ROW(INDIRECT("1:"&ROWS(INDIRECT(R$1&"!B7:B300"))))),MOD(ROWS($4:24)-1,5)+1)),"")} -> 32 | Q24: {=IFERROR(INDEX(INDIRECT(R$1&"!L7:L300"),SMALL(IF(INDIRECT(R$1&"!B7:B300")=OFFSET(L$3,INT((ROWS($4:24)-1)/5)*5+1,),ROW(INDIRECT("1:"&ROWS(INDIRECT(R$1&"!B7:B300"))))),MOD(ROWS($4:24)-1,5)+1)),"")} -> C44 | R24: =IF(ISBLANK(L24)," ","Quantité "&" "&INDEX(INDIRECT(R$1&"!$F$7:$F$300"),MATCH(L24,INDIRECT(R$1&"!$B$7:$B$300"),0)))&" "&"Rebuts "&" "&INDEX(INDIRECT(R$1&"!$G$7:$G$300"),MATCH(L24,INDIRECT(R$1&"!$B$7:$B$300"),0)) -> Quantité 54137 Rebuts 229
D25: {=IFERROR(INDEX(INDIRECT(R$1&"!L7:L300"),SMALL(IF(INDIRECT(R$1&"!B7:B300")=OFFSET(I$3,INT((ROWS($4:25)-1)/5)*5+1,),ROW(INDIRECT("1:"&ROWS(INDIRECT(R$1&"!B7:B300"))))),MOD(ROWS($4:25)-1,5)+1)),"")} -> G20 | E25: {=IFERROR(INDEX(INDIRECT(R$1&"!K7:K300"),SMALL(IF(INDIRECT(R$1&"!B7:B300")=OFFSET(I$3,INT((ROWS($4:25)-1)/5)*5+1,),ROW(INDIRECT("1:"&ROWS(INDIRECT(R$1&"!B7:B300"))))),MOD(ROWS($4:25)-1,5)+1)),"")} -> 29 | P25: {=IFERROR(INDEX(INDIRECT(R$1&"!K7:K300"),SMALL(IF(INDIRECT(R$1&"!B7:B300")=OFFSET(L$3,INT((ROWS($4:25)-1)/5)*5+1,),ROW(INDIRECT("1:"&ROWS(INDIRECT(R$1&"!B7:B300"))))),MOD(ROWS($4:25)-1,5)+1)),"")} -> 32 | Q25: {=IFERROR(INDEX(INDIRECT(R$1&"!L7:L300"),SMALL(IF(INDIRECT(R$1&"!B7:B300")=OFFSET(L$3,INT((ROWS($4:25)-1)/5)*5+1,),ROW(INDIRECT("1:"&ROWS(INDIRECT(R$1&"!B7:B300"))))),MOD(ROWS($4:25)-1,5)+1)),"")} -> A35
D26: {=IFERROR(INDEX(INDIRECT(R$1&"!L7:L300"),SMALL(IF(INDIRECT(R$1&"!B7:B300")=OFFSET(I$3,INT((ROWS($4:26)-1)/5)*5+1,),ROW(INDIRECT("1:"&ROWS(INDIRECT(R$1&"!B7:B300"))))),MOD(ROWS($4:26)-1,5)+1)),"")} -> MURECOMP | E26: {=IFERROR(INDEX(INDIRECT(R$1&"!K7:K300"),SMALL(IF(INDIRECT(R$1&"!B7:B300")=OFFSET(I$3,INT((ROWS($4:26)-1)/5)*5+1,),ROW(INDIRECT("1:"&ROWS(INDIRECT(R$1&"!B7:B300"))))),MOD(ROWS($4:26)-1,5)+1)),"")} -> 2 | P26: {=IFERROR(INDEX(INDIRECT(R$1&"!K7:K300"),SMALL(IF(INDIRECT(R$1&"!B7:B300")=OFFSET(L$3,INT((ROWS($4:26)-1)/5)*5+1,),ROW(INDIRECT("1:"&ROWS(INDIRECT(R$1&"!B7:B300"))))),MOD(ROWS($4:26)-1,5)+1)),"")} | Q26: {=IFERROR(INDEX(INDIRECT(R$1&"!L7:L300"),SMALL(IF(INDIRECT(R$1&"!B7:B300")=OFFSET(L$3,INT((ROWS($4:26)-1)/5)*5+1,),ROW(INDIRECT("1:"&ROWS(INDIRECT(R$1&"!B7:B300"))))),MOD(ROWS($4:26)-1,5)+1)),"")}
D27: {=IFERROR(INDEX(INDIRECT(R$1&"!L7:L300"),SMALL(IF(INDIRECT(R$1&"!B7:B300")=OFFSET(I$3,INT((ROWS($4:27)-1)/5)*5+1,),ROW(INDIRECT("1:"&ROWS(INDIRECT(R$1&"!B7:B300"))))),MOD(ROWS($4:27)-1,5)+1)),"")} | E27: {=IFERROR(INDEX(INDIRECT(R$1&"!K7:K300"),SMALL(IF(INDIRECT(R$1&"!B7:B300")=OFFSET(I$3,INT((ROWS($4:27)-1)/5)*5+1,),ROW(INDIRECT("1:"&ROWS(INDIRECT(R$1&"!B7:B300"))))),MOD(ROWS($4:27)-1,5)+1)),"")} | P27: {=IFERROR(INDEX(INDIRECT(R$1&"!K7:K300"),SMALL(IF(INDIRECT(R$1&"!B7:B300")=OFFSET(L$3,INT((ROWS($4:27)-1)/5)*5+1,),ROW(INDIRECT("1:"&ROWS(INDIRECT(R$1&"!B7:B300"))))),MOD(ROWS($4:27)-1,5)+1)),"")} | Q27: {=IFERROR(INDEX(INDIRECT(R$1&"!L7:L300"),SMALL(IF(INDIRECT(R$1&"!B7:B300")=OFFSET(L$3,INT((ROWS($4:27)-1)/5)*5+1,),ROW(INDIRECT("1:"&ROWS(INDIRECT(R$1&"!B7:B300"))))),MOD(ROWS($4:27)-1,5)+1)),"")}
D28: {=IFERROR(INDEX(INDIRECT(R$1&"!L7:L300"),SMALL(IF(INDIRECT(R$1&"!B7:B300")=OFFSET(I$3,INT((ROWS($4:28)-1)/5)*5+1,),ROW(INDIRECT("1:"&ROWS(INDIRECT(R$1&"!B7:B300"))))),MOD(ROWS($4:28)-1,5)+1)),"")} | E28: {=IFERROR(INDEX(INDIRECT(R$1&"!K7:K300"),SMALL(IF(INDIRECT(R$1&"!B7:B300")=OFFSET(I$3,INT((ROWS($4:28)-1)/5)*5+1,),ROW(INDIRECT("1:"&ROWS(INDIRECT(R$1&"!B7:B300"))))),MOD(ROWS($4:28)-1,5)+1)),"")} | P28: {=IFERROR(INDEX(INDIRECT(R$1&"!K7:K300"),SMALL(IF(INDIRECT(R$1&"!B7:B300")=OFFSET(L$3,INT((ROWS($4:28)-1)/5)*5+1,),ROW(INDIRECT("1:"&ROWS(INDIRECT(R$1&"!B7:B300"))))),MOD(ROWS($4:28)-1,5)+1)),"")} | Q28: {=IFERROR(INDEX(INDIRECT(R$1&"!L7:L300"),SMALL(IF(INDIRECT(R$1&"!B7:B300")=OFFSET(L$3,INT((ROWS($4:28)-1)/5)*5+1,),ROW(INDIRECT("1:"&ROWS(INDIRECT(R$1&"!B7:B300"))))),MOD(ROWS($4:28)-1,5)+1)),"")}
C29: =IF(ISBLANK(I29)," ","Quantité "&" "&INDEX(INDIRECT(R$1&"!$F$7:$F$300"),MATCH(I29,INDIRECT(R$1&"!$B$7:$B$300"),0)))&" "&"Rebuts "&" "&INDEX(INDIRECT(R$1&"!$G$7:$G$300"),MATCH(I29,INDIRECT(R$1&"!$B$7:$B$300"),0)) -> Quantité 54143 Rebuts 215 | D29: {=IFERROR(INDEX(INDIRECT(R$1&"!L7:L300"),SMALL(IF(INDIRECT(R$1&"!B7:B300")=OFFSET(I$3,INT((ROWS($4:29)-1)/5)*5+1,),ROW(INDIRECT("1:"&ROWS(INDIRECT(R$1&"!B7:B300"))))),MOD(ROWS($4:29)-1,5)+1)),"")} -> G19 | E29: {=IFERROR(INDEX(INDIRECT(R$1&"!K7:K300"),SMALL(IF(INDIRECT(R$1&"!B7:B300")=OFFSET(I$3,INT((ROWS($4:29)-1)/5)*5+1,),ROW(INDIRECT("1:"&ROWS(INDIRECT(R$1&"!B7:B300"))))),MOD(ROWS($4:29)-1,5)+1)),"")} -> 32 | F29: =IF(OR(ISBLANK(I29),ISERROR(I29))," ",INDEX(INDIRECT(R$1&"!$I$6:$I$300"),MATCH(I29,INDIRECT(R$1&"!$B$6:$B$300"),0))) -> 201190 | G29: =IF(F29=(" ")," ",F29&" "&INDEX(articles!C$1:C$186&" "&articles!B$1:B$186,MATCH(F29,articles!A$1:A$186,0))) -> 201190 DEMI ECREME | H29: =IF(ISBLANK(I29)," ",INDEX(INDIRECT(R$1&"!$M$7:$M$300"),MATCH(I29,INDIRECT(R$1&"!$B$7:$B$300"),0))) -> L3 | I29: =IF(ISBLANK(I24)," ",INDEX(INDIRECT(R$1&"!$B$7:$B$300"),MATCH((I24+1),INDIRECT(R$1&"!$B$7:$B$300"),0))) -> 192495 | J29: =IF(ISBLANK(I29)," ",INDEX(INDIRECT(R$1&"!$D$2:$D$300"),MATCH(I29,INDIRECT(R$1&"!$B$2:$B$300"),0))) -> 1905189 | K29: =IF(ISBLANK(L29)," ",INDEX(INDIRECT(R$1&"!$D$7:$D$300"),MATCH(L29,INDIRECT(R$1&"!$B$7:$B$300"),0))) -> 1905206 | L29: =IF(L24=" "," ",INDEX(INDIRECT(R$1&"!$B$7:$B$300"),MATCH((L24+1),INDIRECT(R$1&"!$B$7:$B$300"),0))) -> 192513 | M29: =IF(ISBLANK(L29)," ",INDEX(INDIRECT(R$1&"!$M$7:$M$300"),MATCH(L29,INDIRECT(R$1&"!$B$7:$B$300"),0))) -> L1 | N29: =IF(O29=(" ")," ",O29&" "&INDEX(articles!C$1:C$186&" "&articles!B$1:B$186,MATCH(O29,articles!A$1:A$186,0))) -> 200320 ENTIER | O29: =IF(OR(ISBLANK(L29),ISERROR(L29))," ",INDEX(INDIRECT(R$1&"!$I$7:$I$300"),MATCH(L29,INDIRECT(R$1&"!$B$7:$B$300"),0))) -> 200320 | P29: {=IFERROR(INDEX(INDIRECT(R$1&"!K7:K300"),SMALL(IF(INDIRECT(R$1&"!B7:B300")=OFFSET(L$3,INT((ROWS($4:29)-1)/5)*5+1,),ROW(INDIRECT("1:"&ROWS(INDIRECT(R$1&"!B7:B300"))))),MOD(ROWS($4:29)-1,5)+1)),"")} -> 32 | Q29: {=IFERROR(INDEX(INDIRECT(R$1&"!L7:L300"),SMALL(IF(INDIRECT(R$1&"!B7:B300")=OFFSET(L$3,INT((ROWS($4:29)-1)/5)*5+1,),ROW(INDIRECT("1:"&ROWS(INDIRECT(R$1&"!B7:B300"))))),MOD(ROWS($4:29)-1,5)+1)),"")} -> B17 | R29: =IF(ISBLANK(L29)," ","Quantité "&" "&INDEX(INDIRECT(R$1&"!$F$7:$F$300"),MATCH(L29,INDIRECT(R$1&"!$B$7:$B$300"),0)))&" "&"Rebuts "&" "&INDEX(INDIRECT(R$1&"!$G$7:$G$300"),MATCH(L29,INDIRECT(R$1&"!$B$7:$B$300"),0)) -> Quantité 54371 Rebuts 263
D30: {=IFERROR(INDEX(INDIRECT(R$1&"!L7:L300"),SMALL(IF(INDIRECT(R$1&"!B7:B300")=OFFSET(I$3,INT((ROWS($4:30)-1)/5)*5+1,),ROW(INDIRECT("1:"&ROWS(INDIRECT(R$1&"!B7:B300"))))),MOD(ROWS($4:30)-1,5)+1)),"")} -> G23 | E30: {=IFERROR(INDEX(INDIRECT(R$1&"!K7:K300"),SMALL(IF(INDIRECT(R$1&"!B7:B300")=OFFSET(I$3,INT((ROWS($4:30)-1)/5)*5+1,),ROW(INDIRECT("1:"&ROWS(INDIRECT(R$1&"!B7:B300"))))),MOD(ROWS($4:30)-1,5)+1)),"")} -> 29 | P30: {=IFERROR(INDEX(INDIRECT(R$1&"!K7:K300"),SMALL(IF(INDIRECT(R$1&"!B7:B300")=OFFSET(L$3,INT((ROWS($4:30)-1)/5)*5+1,),ROW(INDIRECT("1:"&ROWS(INDIRECT(R$1&"!B7:B300"))))),MOD(ROWS($4:30)-1,5)+1)),"")} -> 29 | Q30: {=IFERROR(INDEX(INDIRECT(R$1&"!L7:L300"),SMALL(IF(INDIRECT(R$1&"!B7:B300")=OFFSET(L$3,INT((ROWS($4:30)-1)/5)*5+1,),ROW(INDIRECT("1:"&ROWS(INDIRECT(R$1&"!B7:B300"))))),MOD(ROWS($4:30)-1,5)+1)),"")} -> H21
D31: {=IFERROR(INDEX(INDIRECT(R$1&"!L7:L300"),SMALL(IF(INDIRECT(R$1&"!B7:B300")=OFFSET(I$3,INT((ROWS($4:31)-1)/5)*5+1,),ROW(INDIRECT("1:"&ROWS(INDIRECT(R$1&"!B7:B300"))))),MOD(ROWS($4:31)-1,5)+1)),"")} -> MURECOMP | E31: {=IFERROR(INDEX(INDIRECT(R$1&"!K7:K300"),SMALL(IF(INDIRECT(R$1&"!B7:B300")=OFFSET(I$3,INT((ROWS($4:31)-1)/5)*5+1,),ROW(INDIRECT("1:"&ROWS(INDIRECT(R$1&"!B7:B300"))))),MOD(ROWS($4:31)-1,5)+1)),"")} -> 1 | P31: {=IFERROR(INDEX(INDIRECT(R$1&"!K7:K300"),SMALL(IF(INDIRECT(R$1&"!B7:B300")=OFFSET(L$3,INT((ROWS($4:31)-1)/5)*5+1,),ROW(INDIRECT("1:"&ROWS(INDIRECT(R$1&"!B7:B300"))))),MOD(ROWS($4:31)-1,5)+1)),"")} -> 1 | Q31: {=IFERROR(INDEX(INDIRECT(R$1&"!L7:L300"),SMALL(IF(INDIRECT(R$1&"!B7:B300")=OFFSET(L$3,INT((ROWS($4:31)-1)/5)*5+1,),ROW(INDIRECT("1:"&ROWS(INDIRECT(R$1&"!B7:B300"))))),MOD(ROWS($4:31)-1,5)+1)),"")} -> MURECOMP
D32: {=IFERROR(INDEX(INDIRECT(R$1&"!L7:L300"),SMALL(IF(INDIRECT(R$1&"!B7:B300")=OFFSET(I$3,INT((ROWS($4:32)-1)/5)*5+1,),ROW(INDIRECT("1:"&ROWS(INDIRECT(R$1&"!B7:B300"))))),MOD(ROWS($4:32)-1,5)+1)),"")} | E32: {=IFERROR(INDEX(INDIRECT(R$1&"!K7:K300"),SMALL(IF(INDIRECT(R$1&"!B7:B300")=OFFSET(I$3,INT((ROWS($4:32)-1)/5)*5+1,),ROW(INDIRECT("1:"&ROWS(INDIRECT(R$1&"!B7:B300"))))),MOD(ROWS($4:32)-1,5)+1)),"")} | P32: {=IFERROR(INDEX(INDIRECT(R$1&"!K7:K300"),SMALL(IF(INDIRECT(R$1&"!B7:B300")=OFFSET(L$3,INT((ROWS($4:32)-1)/5)*5+1,),ROW(INDIRECT("1:"&ROWS(INDIRECT(R$1&"!B7:B300"))))),MOD(ROWS($4:32)-1,5)+1)),"")} | Q32: {=IFERROR(INDEX(INDIRECT(R$1&"!L7:L300"),SMALL(IF(INDIRECT(R$1&"!B7:B300")=OFFSET(L$3,INT((ROWS($4:32)-1)/5)*5+1,),ROW(INDIRECT("1:"&ROWS(INDIRECT(R$1&"!B7:B300"))))),MOD(ROWS($4:32)-1,5)+1)),"")}
D33: {=IFERROR(INDEX(INDIRECT(R$1&"!L7:L300"),SMALL(IF(INDIRECT(R$1&"!B7:B300")=OFFSET(I$3,INT((ROWS($4:33)-1)/5)*5+1,),ROW(INDIRECT("1:"&ROWS(INDIRECT(R$1&"!B7:B300"))))),MOD(ROWS($4:33)-1,5)+1)),"")} | E33: {=IFERROR(INDEX(INDIRECT(R$1&"!K7:K300"),SMALL(IF(INDIRECT(R$1&"!B7:B300")=OFFSET(I$3,INT((ROWS($4:33)-1)/5)*5+1,),ROW(INDIRECT("1:"&ROWS(INDIRECT(R$1&"!B7:B300"))))),MOD(ROWS($4:33)-1,5)+1)),"")} | P33: {=IFERROR(INDEX(INDIRECT(R$1&"!K7:K300"),SMALL(IF(INDIRECT(R$1&"!B7:B300")=OFFSET(L$3,INT((ROWS($4:33)-1)/5)*5+1,),ROW(INDIRECT("1:"&ROWS(INDIRECT(R$1&"!B7:B300"))))),MOD(ROWS($4:33)-1,5)+1)),"")} | Q33: {=IFERROR(INDEX(INDIRECT(R$1&"!L7:L300"),SMALL(IF(INDIRECT(R$1&"!B7:B300")=OFFSET(L$3,INT((ROWS($4:33)-1)/5)*5+1,),ROW(INDIRECT("1:"&ROWS(INDIRECT(R$1&"!B7:B300"))))),MOD(ROWS($4:33)-1,5)+1)),"")}
C34: =IF(ISBLANK(I34)," ","Quantité "&" "&INDEX(INDIRECT(R$1&"!$F$7:$F$300"),MATCH(I34,INDIRECT(R$1&"!$B$7:$B$300"),0)))&" "&"Rebuts "&" "&INDEX(INDIRECT(R$1&"!$G$7:$G$300"),MATCH(I34,INDIRECT(R$1&"!$B$7:$B$300"),0)) -> Quantité 35920 Rebuts 89 | D34: {=IFERROR(INDEX(INDIRECT(R$1&"!L7:L300"),SMALL(IF(INDIRECT(R$1&"!B7:B300")=OFFSET(I$3,INT((ROWS($4:34)-1)/5)*5+1,),ROW(INDIRECT("1:"&ROWS(INDIRECT(R$1&"!B7:B300"))))),MOD(ROWS($4:34)-1,5)+1)),"")} -> E38 | E34: {=IFERROR(INDEX(INDIRECT(R$1&"!K7:K300"),SMALL(IF(INDIRECT(R$1&"!B7:B300")=OFFSET(I$3,INT((ROWS($4:34)-1)/5)*5+1,),ROW(INDIRECT("1:"&ROWS(INDIRECT(R$1&"!B7:B300"))))),MOD(ROWS($4:34)-1,5)+1)),"")} -> 8 | F34: =IF(OR(ISBLANK(I34),ISERROR(I34))," ",INDEX(INDIRECT(R$1&"!$I$6:$I$300"),MATCH(I34,INDIRECT(R$1&"!$B$6:$B$300"),0))) -> 201472 | G34: =IF(F34=(" ")," ",F34&" "&INDEX(articles!C$1:C$186&" "&articles!B$1:B$186,MATCH(F34,articles!A$1:A$186,0))) -> 201472 DEMI ECREME | H34: =IF(ISBLANK(I34)," ",INDEX(INDIRECT(R$1&"!$M$7:$M$300"),MATCH(I34,INDIRECT(R$1&"!$B$7:$B$300"),0))) -> L1 | I34: =IF(ISBLANK(I29)," ",INDEX(INDIRECT(R$1&"!$B$7:$B$300"),MATCH((I29+1),INDIRECT(R$1&"!$B$7:$B$300"),0))) -> 192496 | J34: =IF(ISBLANK(I34)," ",INDEX(INDIRECT(R$1&"!$D$2:$D$300"),MATCH(I34,INDIRECT(R$1&"!$B$2:$B$300"),0))) -> 1905190 | K34: =IF(ISBLANK(L34)," ",INDEX(INDIRECT(R$1&"!$D$7:$D$300"),MATCH(L34,INDIRECT(R$1&"!$B$7:$B$300"),0))) -> 1905207 | L34: =IF(L29=" "," ",INDEX(INDIRECT(R$1&"!$B$7:$B$300"),MATCH((L29+1),INDIRECT(R$1&"!$B$7:$B$300"),0))) -> 192514 | M34: =IF(ISBLANK(L34)," ",INDEX(INDIRECT(R$1&"!$M$7:$M$300"),MATCH(L34,INDIRECT(R$1&"!$B$7:$B$300"),0))) -> L4 | N34: =IF(O34=(" ")," ",O34&" "&INDEX(articles!C$1:C$186&" "&articles!B$1:B$186,MATCH(O34,articles!A$1:A$186,0))) -> 202190 ECREME | O34: =IF(OR(ISBLANK(L34),ISERROR(L34))," ",INDEX(INDIRECT(R$1&"!$I$7:$I$300"),MATCH(L34,INDIRECT(R$1&"!$B$7:$B$300"),0))) -> 202190 | P34: {=IFERROR(INDEX(INDIRECT(R$1&"!K7:K300"),SMALL(IF(INDIRECT(R$1&"!B7:B300")=OFFSET(L$3,INT((ROWS($4:34)-1)/5)*5+1,),ROW(INDIRECT("1:"&ROWS(INDIRECT(R$1&"!B7:B300"))))),MOD(ROWS($4:34)-1,5)+1)),"")} -> 16 | Q34: {=IFERROR(INDEX(INDIRECT(R$1&"!L7:L300"),SMALL(IF(INDIRECT(R$1&"!B7:B300")=OFFSET(L$3,INT((ROWS($4:34)-1)/5)*5+1,),ROW(INDIRECT("1:"&ROWS(INDIRECT(R$1&"!B7:B300"))))),MOD(ROWS($4:34)-1,5)+1)),"")} -> E25 | R34: =IF(ISBLANK(L34)," ","Quantité "&" "&INDEX(INDIRECT(R$1&"!$F$7:$F$300"),MATCH(L34,INDIRECT(R$1&"!$B$7:$B$300"),0)))&" "&"Rebuts "&" "&INDEX(INDIRECT(R$1&"!$G$7:$G$300"),MATCH(L34,INDIRECT(R$1&"!$B$7:$B$300"),0)) -> Quantité 14707 Rebuts 200
D35: {=IFERROR(INDEX(INDIRECT(R$1&"!L7:L300"),SMALL(IF(INDIRECT(R$1&"!B7:B300")=OFFSET(I$3,INT((ROWS($4:35)-1)/5)*5+1,),ROW(INDIRECT("1:"&ROWS(INDIRECT(R$1&"!B7:B300"))))),MOD(ROWS($4:35)-1,5)+1)),"")} -> E28 | E35: {=IFERROR(INDEX(INDIRECT(R$1&"!K7:K300"),SMALL(IF(INDIRECT(R$1&"!B7:B300")=OFFSET(I$3,INT((ROWS($4:35)-1)/5)*5+1,),ROW(INDIRECT("1:"&ROWS(INDIRECT(R$1&"!B7:B300"))))),MOD(ROWS($4:35)-1,5)+1)),"")} -> 32 | P35: {=IFERROR(INDEX(INDIRECT(R$1&"!K7:K300"),SMALL(IF(INDIRECT(R$1&"!B7:B300")=OFFSET(L$3,INT((ROWS($4:35)-1)/5)*5+1,),ROW(INDIRECT("1:"&ROWS(INDIRECT(R$1&"!B7:B300"))))),MOD(ROWS($4:35)-1,5)+1)),"")} -> 1 | Q35: {=IFERROR(INDEX(INDIRECT(R$1&"!L7:L300"),SMALL(IF(INDIRECT(R$1&"!B7:B300")=OFFSET(L$3,INT((ROWS($4:35)-1)/5)*5+1,),ROW(INDIRECT("1:"&ROWS(INDIRECT(R$1&"!B7:B300"))))),MOD(ROWS($4:35)-1,5)+1)),"")} -> MURECOMP
D36: {=IFERROR(INDEX(INDIRECT(R$1&"!L7:L300"),SMALL(IF(INDIRECT(R$1&"!B7:B300")=OFFSET(I$3,INT((ROWS($4:36)-1)/5)*5+1,),ROW(INDIRECT("1:"&ROWS(INDIRECT(R$1&"!B7:B300"))))),MOD(ROWS($4:36)-1,5)+1)),"")} -> MURECOMP | E36: {=IFERROR(INDEX(INDIRECT(R$1&"!K7:K300"),SMALL(IF(INDIRECT(R$1&"!B7:B300")=OFFSET(I$3,INT((ROWS($4:36)-1)/5)*5+1,),ROW(INDIRECT("1:"&ROWS(INDIRECT(R$1&"!B7:B300"))))),MOD(ROWS($4:36)-1,5)+1)),"")} -> 1 | P36: {=IFERROR(INDEX(INDIRECT(R$1&"!K7:K300"),SMALL(IF(INDIRECT(R$1&"!B7:B300")=OFFSET(L$3,INT((ROWS($4:36)-1)/5)*5+1,),ROW(INDIRECT("1:"&ROWS(INDIRECT(R$1&"!B7:B300"))))),MOD(ROWS($4:36)-1,5)+1)),"")} | Q36: {=IFERROR(INDEX(INDIRECT(R$1&"!L7:L300"),SMALL(IF(INDIRECT(R$1&"!B7:B300")=OFFSET(L$3,INT((ROWS($4:36)-1)/5)*5+1,),ROW(INDIRECT("1:"&ROWS(INDIRECT(R$1&"!B7:B300"))))),MOD(ROWS($4:36)-1,5)+1)),"")}
D37: {=IFERROR(INDEX(INDIRECT(R$1&"!L7:L300"),SMALL(IF(INDIRECT(R$1&"!B7:B300")=OFFSET(I$3,INT((ROWS($4:37)-1)/5)*5+1,),ROW(INDIRECT("1:"&ROWS(INDIRECT(R$1&"!B7:B300"))))),MOD(ROWS($4:37)-1,5)+1)),"")} | E37: {=IFERROR(INDEX(INDIRECT(R$1&"!K7:K300"),SMALL(IF(INDIRECT(R$1&"!B7:B300")=OFFSET(I$3,INT((ROWS($4:37)-1)/5)*5+1,),ROW(INDIRECT("1:"&ROWS(INDIRECT(R$1&"!B7:B300"))))),MOD(ROWS($4:37)-1,5)+1)),"")} | P37: {=IFERROR(INDEX(INDIRECT(R$1&"!K7:K300"),SMALL(IF(INDIRECT(R$1&"!B7:B300")=OFFSET(L$3,INT((ROWS($4:37)-1)/5)*5+1,),ROW(INDIRECT("1:"&ROWS(INDIRECT(R$1&"!B7:B300"))))),MOD(ROWS($4:37)-1,5)+1)),"")} | Q37: {=IFERROR(INDEX(INDIRECT(R$1&"!L7:L300"),SMALL(IF(INDIRECT(R$1&"!B7:B300")=OFFSET(L$3,INT((ROWS($4:37)-1)/5)*5+1,),ROW(INDIRECT("1:"&ROWS(INDIRECT(R$1&"!B7:B300"))))),MOD(ROWS($4:37)-1,5)+1)),"")}
D38: {=IFERROR(INDEX(INDIRECT(R$1&"!L7:L300"),SMALL(IF(INDIRECT(R$1&"!B7:B300")=OFFSET(I$3,INT((ROWS($4:38)-1)/5)*5+1,),ROW(INDIRECT("1:"&ROWS(INDIRECT(R$1&"!B7:B300"))))),MOD(ROWS($4:38)-1,5)+1)),"")} | E38: {=IFERROR(INDEX(INDIRECT(R$1&"!K7:K300"),SMALL(IF(INDIRECT(R$1&"!B7:B300")=OFFSET(I$3,INT((ROWS($4:38)-1)/5)*5+1,),ROW(INDIRECT("1:"&ROWS(INDIRECT(R$1&"!B7:B300"))))),MOD(ROWS($4:38)-1,5)+1)),"")} | P38: {=IFERROR(INDEX(INDIRECT(R$1&"!K7:K300"),SMALL(IF(INDIRECT(R$1&"!B7:B300")=OFFSET(L$3,INT((ROWS($4:38)-1)/5)*5+1,),ROW(INDIRECT("1:"&ROWS(INDIRECT(R$1&"!B7:B300"))))),MOD(ROWS($4:38)-1,5)+1)),"")} | Q38: {=IFERROR(INDEX(INDIRECT(R$1&"!L7:L300"),SMALL(IF(INDIRECT(R$1&"!B7:B300")=OFFSET(L$3,INT((ROWS($4:38)-1)/5)*5+1,),ROW(INDIRECT("1:"&ROWS(INDIRECT(R$1&"!B7:B300"))))),MOD(ROWS($4:38)-1,5)+1)),"")}
C39: =IF(ISBLANK(I39)," ","Quantité "&" "&INDEX(INDIRECT(R$1&"!$F$7:$F$300"),MATCH(I39,INDIRECT(R$1&"!$B$7:$B$300"),0)))&" "&"Rebuts "&" "&INDEX(INDIRECT(R$1&"!$G$7:$G$300"),MATCH(I39,INDIRECT(R$1&"!$B$7:$B$300"),0)) -> Quantité 6426 Rebuts 48 | D39: {=IFERROR(INDEX(INDIRECT(R$1&"!L7:L300"),SMALL(IF(INDIRECT(R$1&"!B7:B300")=OFFSET(I$3,INT((ROWS($4:39)-1)/5)*5+1,),ROW(INDIRECT("1:"&ROWS(INDIRECT(R$1&"!B7:B300"))))),MOD(ROWS($4:39)-1,5)+1)),"")} -> E36 | E39: {=IFERROR(INDEX(INDIRECT(R$1&"!K7:K300"),SMALL(IF(INDIRECT(R$1&"!B7:B300")=OFFSET(I$3,INT((ROWS($4:39)-1)/5)*5+1,),ROW(INDIRECT("1:"&ROWS(INDIRECT(R$1&"!B7:B300"))))),MOD(ROWS($4:39)-1,5)+1)),"")} -> 6 | F39: =IF(OR(ISBLANK(I39),ISERROR(I39))," ",INDEX(INDIRECT(R$1&"!$I$6:$I$300"),MATCH(I39,INDIRECT(R$1&"!$B$6:$B$300"),0))) -> 200190 | G39: =IF(F39=(" ")," ",F39&" "&INDEX(articles!C$1:C$186&" "&articles!B$1:B$186,MATCH(F39,articles!A$1:A$186,0))) -> 200190 ENTIER | H39: =IF(ISBLANK(I39)," ",INDEX(INDIRECT(R$1&"!$M$7:$M$300"),MATCH(I39,INDIRECT(R$1&"!$B$7:$B$300"),0))) -> L4 | I39: =IF(ISBLANK(I34)," ",INDEX(INDIRECT(R$1&"!$B$7:$B$300"),MATCH((I34+1),INDIRECT(R$1&"!$B$7:$B$300"),0))) -> 192497 | J39: =IF(ISBLANK(I39)," ",INDEX(INDIRECT(R$1&"!$D$2:$D$300"),MATCH(I39,INDIRECT(R$1&"!$B$2:$B$300"),0))) -> 1905168 | K39: =IF(ISBLANK(L39)," ",INDEX(INDIRECT(R$1&"!$D$7:$D$300"),MATCH(L39,INDIRECT(R$1&"!$B$7:$B$300"),0))) -> 1905208 | L39: =IF(L34=" "," ",INDEX(INDIRECT(R$1&"!$B$7:$B$300"),MATCH((L34+1),INDIRECT(R$1&"!$B$7:$B$300"),0))) -> 192515 | M39: =IF(ISBLANK(L39)," ",INDEX(INDIRECT(R$1&"!$M$7:$M$300"),MATCH(L39,INDIRECT(R$1&"!$B$7:$B$300"),0))) -> L4 | N39: =IF(O39=(" ")," ",O39&" "&INDEX(articles!C$1:C$186&" "&articles!B$1:B$186,MATCH(O39,articles!A$1:A$186,0))) -> 202190 ECREME | O39: =IF(OR(ISBLANK(L39),ISERROR(L39))," ",INDEX(INDIRECT(R$1&"!$I$7:$I$300"),MATCH(L39,INDIRECT(R$1&"!$B$7:$B$300"),0))) -> 202190 | P39: {=IFERROR(INDEX(INDIRECT(R$1&"!K7:K300"),SMALL(IF(INDIRECT(R$1&"!B7:B300")=OFFSET(L$3,INT((ROWS($4:39)-1)/5)*5+1,),ROW(INDIRECT("1:"&ROWS(INDIRECT(R$1&"!B7:B300"))))),MOD(ROWS($4:39)-1,5)+1)),"")} -> 18 | Q39: {=IFERROR(INDEX(INDIRECT(R$1&"!L7:L300"),SMALL(IF(INDIRECT(R$1&"!B7:B300")=OFFSET(L$3,INT((ROWS($4:39)-1)/5)*5+1,),ROW(INDIRECT("1:"&ROWS(INDIRECT(R$1&"!B7:B300"))))),MOD(ROWS($4:39)-1,5)+1)),"")} -> H30 | R39: =IF(ISBLANK(L39)," ","Quantité "&" "&INDEX(INDIRECT(R$1&"!$F$7:$F$300"),MATCH(L39,INDIRECT(R$1&"!$B$7:$B$300"),0)))&" "&"Rebuts "&" "&INDEX(INDIRECT(R$1&"!$G$7:$G$300"),MATCH(L39,INDIRECT(R$1&"!$B$7:$B$300"),0)) -> Quantité 16061 Rebuts 74
D40: {=IFERROR(INDEX(INDIRECT(R$1&"!L7:L300"),SMALL(IF(INDIRECT(R$1&"!B7:B300")=OFFSET(I$3,INT((ROWS($4:40)-1)/5)*5+1,),ROW(INDIRECT("1:"&ROWS(INDIRECT(R$1&"!B7:B300"))))),MOD(ROWS($4:40)-1,5)+1)),"")} -> MURECOMP | E40: {=IFERROR(INDEX(INDIRECT(R$1&"!K7:K300"),SMALL(IF(INDIRECT(R$1&"!B7:B300")=OFFSET(I$3,INT((ROWS($4:40)-1)/5)*5+1,),ROW(INDIRECT("1:"&ROWS(INDIRECT(R$1&"!B7:B300"))))),MOD(ROWS($4:40)-1,5)+1)),"")} -> 1 | P40: {=IFERROR(INDEX(INDIRECT(R$1&"!K7:K300"),SMALL(IF(INDIRECT(R$1&"!B7:B300")=OFFSET(L$3,INT((ROWS($4:40)-1)/5)*5+1,),ROW(INDIRECT("1:"&ROWS(INDIRECT(R$1&"!B7:B300"))))),MOD(ROWS($4:40)-1,5)+1)),"")} -> 1 | Q40: {=IFERROR(INDEX(INDIRECT(R$1&"!L7:L300"),SMALL(IF(INDIRECT(R$1&"!B7:B300")=OFFSET(L$3,INT((ROWS($4:40)-1)/5)*5+1,),ROW(INDIRECT("1:"&ROWS(INDIRECT(R$1&"!B7:B300"))))),MOD(ROWS($4:40)-1,5)+1)),"")} -> MURECOMP
...

Sheet articles
A1: Code article | B1: Nature | D1: Parcking | E1: DLC | F1: Palette | G1: L/PAL | H1: LOT
A2: 200002 | B2: ENTIER | D2: 6X | E2: 200 JOURS | F2: demi-palettes CHEP | G2: 420 | H2: 128 | I2: DPS Chep | J2: Arnould Thibaut | K2: Gaume
A3: 201002 | B3: DEMI ECREME | D3: 6X | E3: 200 JOURS | F3: demi-palettes CHEP | G3: 420 | H3: 128 | I3: DPS Chep | J3: Bationo Francis | K3: Gaume
A4: 202022 | B4: ECREME | D4: 6X | E4: 200 JOURS | F4: demi-palettes CHEP | G4: 420 | H4: 128 | I4: DPS Chep | J4: Becheroul Saber | K4: Gaume
A5: 202021 | B5: ECREME | D5: 6X | E5: 200 JOURS | F5: EURO CHEP | G5: 840 | H5: 64 | I5: PT Chep | J5: Bernard Jean Sébastien | K5: Ardennes
A6: 201022 | B6: DEMI ECREME | D6: 6X | E6: 200 JOURS | F6: demi-palettes CHEP | G6: 420 | H6: 128 | I6: DPS Chep | J6: Carlier Nicolas | K6: Polyvalent
A7: 201021 | B7: DEMI ECREME | D7: 6X | E7: 200 JOURS | F7: EURO CHEP | G7: 840 | H7: 64 | I7: PT Chep | J7: Chaspierre Claude | K7: Gaume
A8: 200022 | B8: ENTIER | D8: 6X | E8: 200 JOURS | F8: demi-palettes CHEP | G8: 420 | H8: 128 | I8: DPS Chep | J8: Chipon André | K8: Ardennes
A9: 200021 | B9: ENTIER | D9: 6X | E9: 200 JOURS | F9: EURO CHEP | G9: 840 | H9: 64 | I9: PT Chep | J9: Collin Jordan | K9: Ardennes
A10: 202023 | B10: ECREME | D10: 12X | E10: 200 JOURS | F10: demi-palettes CHEP | G10: 360 | H10: 128 | I10: DPS Chep | J10: Collin Jullien | K10: Ardennes
A11: 202020 | B11: ECREME | D11: 12X | E11: 200 JOURS | F11: EURO CHEP | G11: 864 | H11: 64 | I11: DPS Chep | J11: Debrigode Jordan | K11: France
A12: 201023 | B12: DEMI ECREME | D12: 12X | E12: 200 JOURS | F12: demi-palettes CHEP | G12: 360 | H12: 128 | I12: DPS Chep | J12: De Schoenmakers Thomas | K12: Gaume
A13: 201020 | B13: DEMI ECREME | D13: 12X | E13: 200 JOURS | F13: EURO CHEP | G13: 864 | H13: 64 | I13: PT Chep | J13: Dupont Jean Marc | K13: Gaume
... A43: 202173 | B43: ECREME | D43: 12X | E43: 200 JOURS | F43: demi-palettes CHEP | G43: 360 | H43: 128 | I43: DPS Chep | J43: Zai Fatima | K43: France
A44: 200320 | B44: ENTIER | D44: 12X | E44: 200 JOURS | F44: EURO CHEP | G44: 864 | H44: 64 | I44: PS Chep
A45: 202320 | B45: ECREME | D45: 12X | E45: 200 JOURS | F45: EURO CHEP | G45: 864 | H45: 64 | I45: DPS Chep
A46: 201320 | B46: DEMI ECREME | D46: 12X | E46: 200 JOURS | F46: EURO CHEP | G46: 864 | H46: 64 | I46: DPS Chep
A47: 202334 | B47: ECREME | D47: 6X | E47: 200 JOURS | F47: demi-palettes CHEP | G47: 420 | H47: 128 | I47: DPS Chep
A48: 201334 | B48: DEMI ECREME | D48: 6X | E48: 200 JOURS | F48: demi-palettes CHEP | G48: 420 | H48: 128 | I48: PS Blanche
A49: 200334 | B49: ENTIER | D49: 6X | E49: 200 JOURS | F49: demi-palettes CHEP | G49: 420 | H49: 128 | I49: DPS Chep
A50: 201341 | B50: DEMI ECREME | D50: 6X | E50: 200 JOURS | F50: EURO CHEP | G50: 840 | H50: 64 | I50: DPS Blanche
A51: 201342 | B51: DEMI ECREME | D51: 6X | E51: 200 JOURS | F51: demi-palettes CHEP | G51: 420 | H51: 128 | I51: PT Blanche
A52: 201272 | B52: DEMI ECREME | D52: 6X | E52: 200 JOURS | F52: demi-palettes CHEP | G52: 420 | H52: 128 | I52: DPS Chep
A53: 200272 | B53: ENTIER | D53: 6X | E53: 200 JOURS | F53: demi-palettes CHEP | G53: 420 | H53: 128 | I53: DPS Chep
A54: 201339 | B54: DEMI ECREME | D54: 6X | E54: 210 JOURS | F54: Euro Blanche | G54: 840 | H54: 64 | I54: DPS Chep
A55: 201282 | B55: DEMI ECREME | D55: 6X | E55: 210 JOURS | F55: demi-palettes CHEP | G55: 420 | H55: 128 | I55: PT Blanche
... A57: 200336 | B57: ENTIER | D57: 12X | E57: 365 JOURS | F57: Euro Blanche | G57: 864 | H57: 64 | I57: PT Chep
A58: 200 | B58: ENTIER | D58: 0 | E58: 200 JOURS | F58: demi-palettes CHEP | G58: 420 | H58: 0 | I58: PT Chep
A59: 201 | B59: DEMI ECREME | D59: 0 | E59: 200 JOURS | F59: demi-palettes CHEP | G59: 420 | H59: 0 | I59: PT Blanche
A60: 202 | B60: ECREME | D60: 0 | E60: 200 JOURS | F60: demi-palettes CHEP | G60: 420 | H60: 0 | I60: PT Blanche
A61: 201350 | B61: DEMI ECREME | D61: 12X | E61: 210 JOURS | F61: Euro Blanche | G61: 864 | H61: 64 | I61: PT Blanche
A62: 200350 | B62: ENTIER | D62: 12X | E62: 210 JOURS | F62: Euro Blanche | G62: 864 | H62: 64 | I62: PT Blanche
A63: 200321 | B63: ENTIER | D63: 12X | E63: 200 JOURS | F63: EURO CHEP | G63: 864 | H63: 64 | I63: PT Blanche
A64: 201321 | B64: DEMI ECREME | D64: 12X | E64: 200 JOURS | F64: EURO CHEP | G64: 864 | H64: 64 | I64: PT Blanche
A65: 201351 | B65: DEMI ECREME | D65: 6X | E65: 210 JOURS | F65: Euro Blanche | G65: 840 | H65: 64 | I65: PS Chep
A66: 200351 | B66: ENTIER | D66: 6X | E66: 210 JOURS | F66: Euro Blanche | G66: 840 | H66: 64 | I66: DPS Chep
A67: 202332 | B67: ECREME | D67: 12X | E67: 365 JOURS | F67: Euro Blanche | G67: 864 | H67: 64 | I67: PS Chep
A68: 201355 | B68: DEMI ECREME | D68: 12X | E68: 210 JOURS | F68: Euro Blanche | G68: 864 | H68: 64 | I68: PT Chep
A69: 200355 | B69: ENTIER 3,8% | D69: 12X | E69: 210 JOURS | F69: Euro Blanche | G69: 864 | H69: 64 | I69: PT Chep
A70: 200337 | B70: ENTIER | D70: 12X | E70: 365 JOURS | F70: Euro Blanche | G70: 864 | H70: 64 | I70: PT Chep
...

Sheet 13
A6: Rack | B6: Lot | C6: Lot | D6: Unité | E6: Quantité | F6: Date de fabrication | G6: Date de clôture | H6: Etat
A7: 27 | B7: 192490 | C7: 43648.002 | D7: 1905163 | E7: MUSOLA | F7: 27140 | G7: 259 | I7: 201022 | J7: DPS | K7: 62 | L7: A37 | M7: L3
A8: 27 | B8: 192490 | C8: 43648.002 | D8: 1905163 | E8: MURECOMP | F8: 27140 | G8: 259 | I8: 201022 | J8: DPS | K8: 2 | L8: MURECOMP | M8: L3
A9: 27 | B9: 192491 | C9: 43648.002 | D9: 1905164 | E9: MUSOLA | F9: 54008 | G9: 226 | I9: 201472 | J9: PT | K9: 32 | L9: B40 | M9: L1
A10: 27 | B10: 192491 | C10: 43648.002 | D10: 1905164 | E10: MUSOLA | F10: 54008 | G10: 226 | I10: 201472 | J10: PT | K10: 30 | L10: B41 | M10: L1
A11: 27 | B11: 192492 | C11: 43648.003 | D11: 1905165 | E11: MUSOLA | F11: 8434 | G11: 104 | I11: 221372 | J11: DS3 | K11: 20 | L11: C01 | M11: L5
A12: 27 | B12: 192493 | C12: 43648.005 | D12: 1905166 | E12: MUSOLA | F12: 54152 | G12: 376 | I12: 200190 | J12: PT | K12: 30 | L12: F19 | M12: L4
A13: 27 | B13: 192493 | C13: 43648.005 | D13: 1905166 | E13: MUSOLA | F13: 54152 | G13: 376 | I13: 200190 | J13: PT | K13: 32 | L13: F24 | M13: L4
A14: 27 | B14: 192493 | C14: 43648.005 | D14: 1905166 | E14: MURECOMP | F14: 54152 | G14: 376 | I14: 200190 | J14: PT | K14: 1 | L14: MURECOMP | M14: L4
A15: 27 | B15: 192494 | C15: 43648.056 | D15: 1905167 | E15: MUSOLA | F15: 49148 | G15: 198 | I15: 221066 | J15: PS1 | K15: 32 | L15: B02 | M15: L5
A16: 27 | B16: 192494 | C16: 43648.056 | D16: 1905167 | E16: MUSOLA | F16: 49148 | G16: 198 | I16: 221066 | J16: PS1 | K16: 29 | L16: G20 | M16: L5
A17: 27 | B17: 192494 | C17: 43648.056 | D17: 1905167 | E17: MURECOMP | F17: 49148 | G17: 198 | I17: 221066 | J17: PS1 | K17: 2 | L17: MURECOMP | M17: L5
A18: 27 | B18: 192495 | C18: 43648.149 | D18: 1905189 | E18: MUSOLA | F18: 54143 | G18: 215 | I18: 201190 | J18: PT | K18: 32 | L18: G19 | M18: L3
... A74: 27 | B74: 192518 | C74: 43649.249 | D74: 1905209 | E74: MURECOMP | F74: 27520 | G74: 158 | I74: 200320 | J74: PT | K74: 1 | L74: MURECOMP | M74: L1
