Workbook

Sheet 192262-12 (2)
R1: 13
C2: Validation des déclarations
B3: Mise à jr racks | C3: Correction racks | D3: racks | E3: qte | F3: article | G3: nature | H3: ligne | I3: N° de lot | J3: N° déclaration | K3: N° déclaration | L3: N° de lot | M3: ligne | N3: nature | O3: article | P3: qte | Q3: racks | R3: Correction racks | S3: Mise à jr racks
C4: =IF(ISBLANK(I4)," ","Quantité "&" "&INDEX(INDIRECT(R$1&"!$F$7:$F$300"),MATCH(I4,INDIRECT(R$1&"!$B$7:$B$300"),0)))&" "&"Rebuts "&" "&INDEX(INDIRECT(R$1&"!$G$7:$G$300"),MATCH(I4,INDIRECT(R$1&"!$B$7:$B$300"),0)) -> Quantité 27140 Rebuts 259 | D4: {=IFERROR(INDEX(INDIRECT(R$1&"!L7:L300"),SMALL(IF(INDIRECT(R$1&"!B7:B300")=OFFSET(I$3,INT((ROWS($4:4)-1)/5)*5+1,),ROW(INDIRECT("1:"&ROWS(INDIRECT(R$1&"!B7:B300"))))),MOD(ROWS($4:4)-1,5)+1)),"")} -> A37 | E4: {=IFERROR(INDEX(INDIRECT(R$1&"!K7:K300"),SMALL(IF(INDIRECT(R$1&"!B7:B300")=OFFSET(I$3,INT((ROWS($4:4)-1)/5)*5+1,),ROW(INDIRECT("1:"&ROWS(INDIRECT(R$1&"!B7:B300"))))),MOD(ROWS($4:4)-1,5)+1)),"")} -> 62 | F4: =IF(OR(ISBLANK(I4),ISERROR(I4))," ",INDEX(INDIRECT(R$1&"!$I$6:$I$300"),MATCH(I4,INDIRECT(R$1&"!$B$6:$B$300"),0))) -> 201022 | G4: =IF(F4=(" ")," ",F4&" "&INDEX(articles!C$1:C$186&" "&articles!B$1:B$186,MATCH(F4,articles!A$1:A$186,0))) -> 201022 DEMI ECREME | H4: =IF(ISBLANK(I4)," ",INDEX(INDIRECT(R$1&"!$M$7:$M$300"),MATCH(I4,INDIRECT(R$1&"!$B$7:$B$300"),0))) -> L3 | I4: 192490 | J4: =IF(ISBLANK(I4)," ",INDEX(INDIRECT(R$1&"!$D$7:$D$300"),MATCH(I4,INDIRECT(R$1&"!$B$7:$B$300"),0))) -> 1905163 | K4: =IF(ISBLANK(L4)," ",INDEX(INDIRECT(R$1&"!$D$7:$D$300"),MATCH(L4,INDIRECT(R$1&"!$B$7:$B$300"),0))) -> 1905201 | L4: =IF(ISBLANK(I89)=" "," ",INDEX(INDIRECT(R$1&"!$B$7:$B$300"),MATCH((I89+1),INDIRECT(R$1&"!$B$7:$B$300"),0))) -> 192508 | M4: =IF(ISBLANK(L4)," ",INDEX(INDIRECT(R$1&"!$M$7:$M$300"),MATCH(L4,INDIRECT(R$1&"!$B$7:$B$300"),0))) -> L4 | N4: =IF(O4=(" ")," ",O4&" "&INDEX(articles!C$1:C$186&" "&articles!B$1:B$186,MATCH(O4,articles!A$1:A$186,0))) -> 200200 ENTIER | O4: =IF(OR(ISBLANK(L4),ISERROR(L4))," ",INDEX(INDIRECT(R$1&"!$I$7:$I$300"),MATCH(L4,INDIRECT(R$1&"!$B$7:$B$300"),0))) -> 200200 | P4: {=IFERROR(INDEX(INDIRECT(R$1&"!K7:K300"),SMALL(IF(INDIRECT(R$1&"!B7:B300")=OFFSET(L$3,INT((ROWS($4:4)-1)/5)*5+1,),ROW(INDIRECT("1:"&ROWS(INDIRECT(R$1&"!B7:B300"))))),MOD(ROWS($4:4)-1,5)+1)),"")} -> 32 | Q4: {=IFERROR(INDEX(INDIRECT(R$1&"!L7:L300"),SMALL(IF(INDIRECT(R$1&"!B7:B300")=OFFSET(L$3,INT((ROWS($4:4)-1)/5)*5+1,),ROW(INDIRECT("1:"&ROWS(INDIRECT(R$1&"!B7:B300"))))),MOD(ROWS($4:4)-1,5)+1)),"")} -> F28 | R4: =IF(ISBLANK(L4)," ","Quantité "&" "&INDEX(INDIRECT(R$1&"!$F$7:$F$300"),MATCH(L4,INDIRECT(R$1&"!$B$7:$B$300"),0)))&" "&"Rebuts "&" "&INDEX(INDIRECT(R$1&"!$G$7:$G$300"),MATCH(L4,INDIRECT(R$1&"!$B$7:$B$300"),0)) -> Quantité 32713 Rebuts 338
D5: {=IFERROR(INDEX(INDIRECT(R$1&"!L7:L300"),SMALL(IF(INDIRECT(R$1&"!B7:B300")=OFFSET(I$3,INT((ROWS($4:5)-1)/5)*5+1,),ROW(INDIRECT("1:"&ROWS(INDIRECT(R$1&"!B7:B300"))))),MOD(ROWS($4:5)-1,5)+1)),"")} -> MURECOMP | E5: {=IFERROR(INDEX(INDIRECT(R$1&"!K7:K300"),SMALL(IF(INDIRECT(R$1&"!B7:B300")=OFFSET(I$3,INT((ROWS($4:5)-1)/5)*5+1,),ROW(INDIRECT("1:"&ROWS(INDIRECT(R$1&"!B7:B300"))))),MOD(ROWS($4:5)-1,5)+1)),"")} -> 2 | P5: {=IFERROR(INDEX(INDIRECT(R$1&"!K7:K300"),SMALL(IF(INDIRECT(R$1&"!B7:B300")=OFFSET(L$3,INT((ROWS($4:5)-1)/5)*5+1,),ROW(INDIRECT("1:"&ROWS(INDIRECT(R$1&"!B7:B300"))))),MOD(ROWS($4:5)-1,5)+1)),"")} -> 4 | Q5: {=IFERROR(INDEX(INDIRECT(R$1&"!L7:L300"),SMALL(IF(INDIRECT(R$1&"!B7:B300")=OFFSET(L$3,INT((ROWS($4:5)-1)/5)*5+1,),ROW(INDIRECT("1:"&ROWS(INDIRECT(R$1&"!B7:B300"))))),MOD(ROWS($4:5)-1,5)+1)),"")} -> G08
D6: {=IFERROR(INDEX(INDIRECT(R$1&"!L7:L300"),SMALL(IF(INDIRECT(R$1&"!B7:B300")=OFFSET(I$3,INT((ROWS($4:6)-1)/5)*5+1,),ROW(INDIRECT("1:"&ROWS(INDIRECT(R$1&"!B7:B300"))))),MOD(ROWS($4:6)-1,5)+1)),"")} | E6: {=IFERROR(INDEX(INDIRECT(R$1&"!K7:K300"),SMALL(IF(INDIRECT(R$1&"!B7:B300")=OFFSET(I$3,INT((ROWS($4:6)-1)/5)*5+1,),ROW(INDIRECT("1:"&ROWS(INDIRECT(R$1&"!B7:B300"))))),MOD(ROWS($4:6)-1,5)+1)),"")} | P6: {=IFERROR(INDEX(INDIRECT(R$1&"!K7:K300"),SMALL(IF(INDIRECT(R$1&"!B7:B300")=OFFSET(L$3,INT((ROWS($4:6)-1)/5)*5+1,),ROW(INDIRECT("1:"&ROWS(INDIRECT(R$1&"!B7:B300"))))),MOD(ROWS($4:6)-1,5)+1)),"")} -> 1 | Q6: {=IFERROR(INDEX(INDIRECT(R$1&"!L7:L300"),SMALL(IF(INDIRECT(R$1&"!B7:B300")=OFFSET(L$3,INT((ROWS($4:6)-1)/5)*5+1,),ROW(INDIRECT("1:"&ROWS(INDIRECT(R$1&"!B7:B300"))))),MOD(ROWS($4:6)-1,5)+1)),"")} -> MURECOMP
D7: {=IFERROR(INDEX(INDIRECT(R$1&"!L7:L300"),SMALL(IF(INDIRECT(R$1&"!B7:B300")=OFFSET(I$3,INT((ROWS($4:7)-1)/5)*5+1,),ROW(INDIRECT("1:"&ROWS(INDIRECT(R$1&"!B7:B300"))))),MOD(ROWS($4:7)-1,5)+1)),"")} | E7: {=IFERROR(INDEX(INDIRECT(R$1&"!K7:K300"),SMALL(IF(INDIRECT(R$1&"!B7:B300")=OFFSET(I$3,INT((ROWS($4:7)-1)/5)*5+1,),ROW(INDIRECT("1:"&ROWS(INDIRECT(R$1&"!B7:B300"))))),MOD(ROWS($4:7)-1,5)+1)),"")} | P7: {=IFERROR(INDEX(INDIRECT(R$1&"!K7:K300"),SMALL(IF(INDIRECT(R$1&"!B7:B300")=OFFSET(L$3,INT((ROWS($4:7)-1)/5)*5+1,),ROW(INDIRECT("1:"&ROWS(INDIRECT(R$1&"!B7:B300"))))),MOD(ROWS($4:7)-1,5)+1)),"")} | Q7: {=IFERROR(INDEX(INDIRECT(R$1&"!L7:L300"),SMALL(IF(INDIRECT(R$1&"!B7:B300")=OFFSET(L$3,INT((ROWS($4:7)-1)/5)*5+1,),ROW(INDIRECT("1:"&ROWS(INDIRECT(R$1&"!B7:B300"))))),MOD(ROWS($4:7)-1,5)+1)),"")}
D8: {=IFERROR(INDEX(INDIRECT(R$1&"!L7:L300"),SMALL(IF(INDIRECT(R$1&"!B7:B300")=OFFSET(I$3,INT((ROWS($4:8)-1)/5)*5+1,),ROW(INDIRECT("1:"&ROWS(INDIRECT(R$1&"!B7:B300"))))),MOD(ROWS($4:8)-1,5)+1)),"")} | E8: {=IFERROR(INDEX(INDIRECT(R$1&"!K7:K300"),SMALL(IF(INDIRECT(R$1&"!B7:B300")=OFFSET(I$3,INT((ROWS($4:8)-1)/5)*5+1,),ROW(INDIRECT("1:"&ROWS(INDIRECT(R$1&"!B7:B300"))))),MOD(ROWS($4:8)-1,5)+1)),"")} | P8: {=IFERROR(INDEX(INDIRECT(R$1&"!K7:K300"),SMALL(IF(INDIRECT(R$1&"!B7:B300")=OFFSET(L$3,INT((ROWS($4:8)-1)/5)*5+1,),ROW(INDIRECT("1:"&ROWS(INDIRECT(R$1&"!B7:B300"))))),MOD(ROWS($4:8)-1,5)+1)),"")} | Q8: {=IFERROR(INDEX(INDIRECT(R$1&"!L7:L300"),SMALL(IF(INDIRECT(R$1&"!B7:B300")=OFFSET(L$3,INT((ROWS($4:8)-1)/5)*5+1,),ROW(INDIRECT("1:"&ROWS(INDIRECT(R$1&"!B7:B300"))))),MOD(ROWS($4:8)-1,5)+1)),"")}
C9: =IF(ISBLANK(I9)," ","Quantité "&" "&INDEX(INDIRECT(R$1&"!$F$7:$F$300"),MATCH(I9,INDIRECT(R$1&"!$B$7:$B$300"),0)))&" "&"Rebuts "&" "&INDEX(INDIRECT(R$1&"!$G$7:$G$300"),MATCH(I9,INDIRECT(R$1&"!$B$7:$B$300"),0)) -> Quantité 54008 Rebuts 226 | D9: {=IFERROR(INDEX(INDIRECT(R$1&"!L7:L300"),SMALL(IF(INDIRECT(R$1&"!B7:B300")=OFFSET(I$3,INT((ROWS($4:9)-1)/5)*5+1,),ROW(INDIRECT("1:"&ROWS(INDIRECT(R$1&"!B7:B300"))))),MOD(ROWS($4:9)-1,5)+1)),"")} -> B40 | E9: {=IFERROR(INDEX(INDIRECT(R$1&"!K7:K300"),SMALL(IF(INDIRECT(R$1&"!B7:B300")=OFFSET(I$3,INT((ROWS($4:9)-1)/5)*5+1,),ROW(INDIRECT("1:"&ROWS(INDIRECT(R$1&"!B7:B300"))))),MOD(ROWS($4:9)-1,5)+1)),"")} -> 32 | F9: =IF(OR(ISBLANK(I9),ISERROR(I9))," ",INDEX(INDIRECT(R$1&"!$I$6:$I$300"),MATCH(I9,INDIRECT(R$1&"!$B$6:$B$300"),0))) -> 201472 | G9: =IF(F9=(" ")," ",F9&" "&INDEX(articles!C$1:C$186&" "&articles!B$1:B$186,MATCH(F9,articles!A$1:A$186,0))) -> 201472 DEMI ECREME | H9: =IF(ISBLANK(I9)," ",INDEX(INDIRECT(R$1&"!$M$7:$M$300"),MATCH(I9,INDIRECT(R$1&"!$B$7:$B$300"),0))) -> L1 | I9: =IF(ISBLANK(I4)," ",INDEX(INDIRECT(R$1&"!$B$7:$B$300"),MATCH((I4+1),INDIRECT(R$1&"!$B$7:$B$300"),0))) -> 192491 | J9: =IF(ISBLANK(I9)," ",INDEX(INDIRECT(R$1&"!$D$2:$D$300"),MATCH(I9,INDIRECT(R$1&"!$B$2:$B$300"),0))) -> 1905164 | K9: =IF(ISBLANK(L9)," ",INDEX(INDIRECT(R$1&"!$D$7:$D$300"),MATCH(L9,INDIRECT(R$1&"!$B$7:$B$300"),0))) -> 1905202 | L9: =IF(L4=" "," ",INDEX(INDIRECT(R$1&"!$B$7:$B$300"),MATCH((L4+1),INDIRECT(R$1&"!$B$7:$B$300"),0))) -> 192509 | M9: =IF(ISBLANK(L9)," ",INDEX(INDIRECT(R$1&"!$M$7:$M$300"),MATCH(L9,INDIRECT(R$1&"!$B$7:$B$300"),0))) -> L3 | N9: =IF(O9=(" ")," ",O9&" "&INDEX(articles!C$1:C$186&" "&articles!B$1:B$186,MATCH(O9,articles!A$1:A$186,0))) -> 201190 DEMI ECREME | O9: =IF(OR(ISBLANK(L9),ISERROR(L9))," ",INDEX(INDIRECT(R$1&"!$I$7:$I$300"),MATCH(L9,INDIRECT(R$1&"!$B$7:$B$300"),0))) -> 201190 | P9: {=IFERROR(INDEX(INDIRECT(R$1&"!K7:K300"),SMALL(IF(INDIRECT(R$1&"!B7:B300")=OFFSET(L$3,INT((ROWS($4:9)-1)/5)*5+1,),ROW(INDIRECT("1:"&ROWS(INDIRECT(R$1&"!B7:B300"))))),MOD(ROWS($4:9)-1,5)+1)),"")} -> 24 | Q9: {=IFERROR(INDEX(INDIRECT(R$1&"!L7:L300"),SMALL(IF(INDIRECT(R$1&"!B7:B300")=OFFSET(L$3,INT((ROWS($4:9)-1)/5)*5+1,),ROW(INDIRECT("1:"&ROWS(INDIRECT(R$1&"!B7:B300"))))),MOD(ROWS($4:9)-1,5)+1)),"")} -> F42 | R9: =IF(ISBLANK(L9)," ","Quantité "&" "&INDEX(INDIRECT(R$1&"!$F$7:$F$300"),MATCH(L9,INDIRECT(R$1&"!$B$7:$B$300"),0)))&" "&"Rebuts "&" "&INDEX(INDIRECT(R$1&"!$G$7:$G$300"),MATCH(L9,INDIRECT(R$1&"!$B$7:$B$300"),0)) -> Quantité 21544 Rebuts 178
D10: {=IFERROR(INDEX(INDIRECT(R$1&"!L7:L300"),SMALL(IF(INDIRECT(R$1&"!B7:B300")=OFFSET(I$3,INT((ROWS($4:10)-1)/5)*5+1,),ROW(INDIRECT("1:"&ROWS(INDIRECT(R$1&"!B7:B300"))))),MOD(ROWS($4:10)-1,5)+1)),"")} -> B41 | E10: {=IFERROR(INDEX(INDIRECT(R$1&"!K7:K300"),SMALL(IF(INDIRECT(R$1&"!B7:B300")=OFFSET(I$3,INT((ROWS($4:10)-1)/5)*5+1,),ROW(INDIRECT("1:"&ROWS(INDIRECT(R$1&"!B7:B300"))))),MOD(ROWS($4:10)-1,5)+1)),"")} -> 30 | P10: {=IFERROR(INDEX(INDIRECT(R$1&"!K7:K300"),SMALL(IF(INDIRECT(R$1&"!B7:B300")=OFFSET(L$3,INT((ROWS($4:10)-1)/5)*5+1,),ROW(INDIRECT("1:"&ROWS(INDIRECT(R$1&"!B7:B300"))))),MOD(ROWS($4:10)-1,5)+1)),"")} -> 1 | Q10: {=IFERROR(INDEX(INDIRECT(R$1&"!L7:L300"),SMALL(IF(INDIRECT(R$1&"!B7:B300")=OFFSET(L$3,INT((ROWS($4:10)-1)/5)*5+1,),ROW(INDIRECT("1:"&ROWS(INDIRECT(R$1&"!B7:B300"))))),MOD(ROWS($4:10)-1,5)+1)),"")} -> MURECOMP
D11: {=IFERROR(INDEX(INDIRECT(R$1&"!L7:L300"),SMALL(IF(INDIRECT(R$1&"!B7:B300")=OFFSET(I$3,INT((ROWS($4:11)-1)/5)*5+1,),ROW(INDIRECT("1:"&ROWS(INDIRECT(R$1&"!B7:B300"))))),MOD(ROWS($4:11)-1,5)+1)),"")} | E11: {=IFERROR(INDEX(INDIRECT(R$1&"!K7:K300"),SMALL(IF(INDIRECT(R$1&"!B7:B300")=OFFSET(I$3,INT((ROWS($4:11)-1)/5)*5+1,),ROW(INDIRECT("1:"&ROWS(INDIRECT(R$1&"!B7:B300"))))),MOD(ROWS($4:11)-1,5)+1)),"")} | P11: {=IFERROR(INDEX(INDIRECT(R$1&"!K7:K300"),SMALL(IF(INDIRECT(R$1&"!B7:B300")=OFFSET(L$3,INT((ROWS($4:11)-1)/5)*5+1,),ROW(INDIRECT("1:"&ROWS(INDIRECT(R$1&"!B7:B300"))))),MOD(ROWS($4:11)-1,5)+1)),"")} | Q11: {=IFERROR(INDEX(INDIRECT(R$1&"!L7:L300"),SMALL(IF(INDIRECT(R$1&"!B7:B300")=OFFSET(L$3,INT((ROWS($4:11)-1)/5)*5+1,),ROW(INDIRECT("1:"&ROWS(INDIRECT(R$1&"!B7:B300"))))),MOD(ROWS($4:11)-1,5)+1)),"")}
D12: {=IFERROR(INDEX(INDIRECT(R$1&"!L7:L300"),SMALL(IF(INDIRECT(R$1&"!B7:B300")=OFFSET(I$3,INT((ROWS($4:12)-1)/5)*5+1,),ROW(INDIRECT("1:"&ROWS(INDIRECT(R$1&"!B7:B300"))))),MOD(ROWS($4:12)-1,5)+1)),"")} | E12: {=IFERROR(INDEX(INDIRECT(R$1&"!K7:K300"),SMALL(IF(INDIRECT(R$1&"!B7:B300")=OFFSET(I$3,INT((ROWS($4:12)-1)/5)*5+1,),ROW(INDIRECT("1:"&ROWS(INDIRECT(R$1&"!B7:B300"))))),MOD(ROWS($4:12)-1,5)+1)),"")} | P12: {=IFERROR(INDEX(INDIRECT(R$1&"!K7:K300"),SMALL(IF(INDIRECT(R$1&"!B7:B300")=OFFSET(L$3,INT((ROWS($4:12)-1)/5)*5+1,),ROW(INDIRECT("1:"&ROWS(INDIRECT(R$1&"!B7:B300"))))),MOD(ROWS($4:12)-1,5)+1)),"")} | Q12: {=IFERROR(INDEX(INDIRECT(R$1&"!L7:L300"),SMALL(IF(INDIRECT(R$1&"!B7:B300")=OFFSET(L$3,INT((ROWS($4:12)-1)/5)*5+1,),ROW(INDIRECT("1:"&ROWS(INDIRECT(R$1&"!B7:B300"))))),MOD(ROWS($4:12)-1,5)+1)),"")}
D13: {=IFERROR(INDEX(INDIRECT(R$1&"!L7:L300"),SMALL(IF(INDIRECT(R$1&"!B7:B300")=OFFSET(I$3,INT((ROWS($4:13)-1)/5)*5+1,),ROW(INDIRECT("1:"&ROWS(INDIRECT(R$1&"!B7:B300"))))),MOD(ROWS($4:13)-1,5)+1)),"")} | E13: {=IFERROR(INDEX(INDIRECT(R$1&"!K7:K300"),SMALL(IF(INDIRECT(R$1&"!B7:B300")=OFFSET(I$3,INT((ROWS($4:13)-1)/5)*5+1,),ROW(INDIRECT("1:"&ROWS(INDIRECT(R$1&"!B7:B300"))))),MOD(ROWS($4:13)-1,5)+1)),"")} | P13: {=IFERROR(INDEX(INDIRECT(R$1&"!K7:K300"),SMALL(IF(INDIRECT(R$1&"!B7:B300")=OFFSET(L$3,INT((ROWS($4:13)-1)/5)*5+1,),ROW(INDIRECT("1:"&ROWS(INDIRECT(R$1&"!B7:B300"))))),MOD(ROWS($4:13)-1,5)+1)),"")} | Q13: {=IFERROR(INDEX(INDIRECT(R$1&"!L7:L300"),SMALL(IF(INDIRECT(R$1&"!B7:B300")=OFFSET(L$3,INT((ROWS($4:13)-1)/5)*5+1,),ROW(INDIRECT("1:"&ROWS(INDIRECT(R$1&"!B7:B300"))))),MOD(ROWS($4:13)-1,5)+1)),"")}
C14: =IF(ISBLANK(I14)," ","Quantité "&" "&INDEX(INDIRECT(R$1&"!$F$7:$F$300"),MATCH(I14,INDIRECT(R$1&"!$B$7:$B$300"),0)))&" "&"Rebuts "&" "&INDEX(INDIRECT(R$1&"!$G$7:$G$300"),MATCH(I14,INDIRECT(R$1&"!$B$7:$B$300"),0)) -> Quantité 8434 Rebuts 104 | D14: {=IFERROR(INDEX(INDIRECT(R$1&"!L7:L300"),SMALL(IF(INDIRECT(R$1&"!B7:B300")=OFFSET(I$3,INT((ROWS($4:14)-1)/5)*5+1,),ROW(INDIRECT("1:"&ROWS(INDIRECT(R$1&"!B7:B300"))))),MOD(ROWS($4:14)-1,5)+1)),"")} -> C01 | E14: {=IFERROR(INDEX(INDIRECT(R$1&"!K7:K300"),SMALL(IF(INDIRECT(R$1&"!B7:B300")=OFFSET(I$3,INT((ROWS($4:14)-1)/5)*5+1,),ROW(INDIRECT("1:"&ROWS(INDIRECT(R$1&"!B7:B300"))))),MOD(ROWS($4:14)-1,5)+1)),"")} -> 20 | F14: =IF(OR(ISBLANK(I14),ISERROR(I14))," ",INDEX(INDIRECT(R$1&"!$I$6:$I$300"),MATCH(I14,INDIRECT(R$1&"!$B$6:$B$300"),0))) -> 221372 | G14: =IF(F14=(" ")," ",F14&" "&INDEX(articles!C$1:C$186&" "&articles!B$1:B$186,MATCH(F14,articles!A$1:A$186,0))) -> 221372 DEMI ECREME | H14: =IF(ISBLANK(I14)," ",INDEX(INDIRECT(R$1&"!$M$7:$M$300"),MATCH(I14,INDIRECT(R$1&"!$B$7:$B$300"),0))) -> L5 | I14: =IF(ISBLANK(I9)," ",INDEX(INDIRECT(R$1&"!$B$7:$B$300"),MATCH((I9+1),INDIRECT(R$1&"!$B$7:$B$300"),0))) -> 192492 | J14: =IF(ISBLANK(I14)," ",INDEX(INDIRECT(R$1&"!$D$2:$D$300"),MATCH(I14,INDIRECT(R$1&"!$B$2:$B$300"),0))) -> 1905165 | K14: =IF(ISBLANK(L14)," ",INDEX(INDIRECT(R$1&"!$D$7:$D$300"),MATCH(L14,INDIRECT(R$1&"!$B$7:$B$300"),0))) -> 1905203 | L14: =IF(L9=" "," ",INDEX(INDIRECT(R$1&"!$B$7:$B$300"),MATCH((L9+1),INDIRECT(R$1&"!$B$7:$B$300"),0))) -> 192510 | M14: =IF(ISBLANK(L14)," ",INDEX(INDIRECT(R$1&"!$M$7:$M$300"),MATCH(L14,INDIRECT(R$1&"!$B$7:$B$300"),0))) -> L4 | N14: =IF(O14=(" ")," ",O14&" "&INDEX(articles!C$1:C$186&" "&articles!B$1:B$186,MATCH(O14,articles!A$1:A$186,0))) -> 200200 ENTIER | O14: =IF(OR(ISBLANK(L14),ISERROR(L14))," ",INDEX(INDIRECT(R$1&"!$I$7:$I$300"),MATCH(L14,INDIRECT(R$1&"!$B$7:$B$300"),0))) -> 200200 | P14: {=IFERROR(INDEX(INDIRECT(R$1&"!K7:K300"),SMALL(IF(INDIRECT(R$1&"!B7:B300")=OFFSET(L$3,INT((ROWS($4:14)-1)/5)*5+1,),ROW(INDIRECT("1:"&ROWS(INDIRECT(R$1&"!B7:B300"))))),MOD(ROWS($4:14)-1,5)+1)),"")} -> 20 | Q14: {=IFERROR(INDEX(INDIRECT(R$1&"!L7:L300"),SMALL(IF(INDIRECT(R$1&"!B7:B300")=OFFSET(L$3,INT((ROWS($4:14)-1)/5)*5+1,),ROW(INDIRECT("1:"&ROWS(INDIRECT(R$1&"!B7:B300"))))),MOD(ROWS($4:14)-1,5)+1)),"")} -> E35 | R14: =IF(ISBLANK(L14)," ","Quantité "&" "&INDEX(INDIRECT(R$1&"!$F$7:$F$300"),MATCH(L14,INDIRECT(R$1&"!$B$7:$B$300"),0)))&" "&"Rebuts "&" "&INDEX(INDIRECT(R$1&"!$G$7:$G$300"),MATCH(L14,INDIRECT(R$1&"!$B$7:$B$300"),0)) -> Quantité 18369 Rebuts 145
D15: {=IFERROR(INDEX(INDIRECT(R$1&"!L7:L300"),SMALL(IF(INDIRECT(R$1&"!B7:B300")=OFFSET(I$3,INT((ROWS($4:15)-1)/5)*5+1,),ROW(INDIRECT("1:"&ROWS(INDIRECT(R$1&"!B7:B300"))))),MOD(ROWS($4:15)-1,5)+1)),"")} | E15: {=IFERROR(INDEX(INDIRECT(R$1&"!K7:K300"),SMALL(IF(INDIRECT(R$1&"!B7:B300")=OFFSET(I$3,INT((ROWS($4:15)-1)/5)*5+1,),ROW(INDIRECT("1:"&ROWS(INDIRECT(R$1&"!B7:B300"))))),MOD(ROWS($4:15)-1,5)+1)),"")} | P15: {=IFERROR(INDEX(INDIRECT(R$1&"!K7:K300"),SMALL(IF(INDIRECT(R$1&"!B7:B300")=OFFSET(L$3,INT((ROWS($4:15)-1)/5)*5+1,),ROW(INDIRECT("1:"&ROWS(INDIRECT(R$1&"!B7:B300"))))),MOD(ROWS($4:15)-1,5)+1)),"")} -> 1 | Q15: {=IFERROR(INDEX(INDIRECT(R$1&"!L7:L300"),SMALL(IF(INDIRECT(R$1&"!B7:B300")=OFFSET(L$3,INT((ROWS($4:15)-1)/5)*5+1,),ROW(INDIRECT("1:"&ROWS(INDIRECT(R$1&"!B7:B300"))))),MOD(ROWS($4:15)-1,5)+1)),"")} -> MURECOMP
D16: {=IFERROR(INDEX(INDIRECT(R$1&"!L7:L300"),SMALL(IF(INDIRECT(R$1&"!B7:B300")=OFFSET(I$3,INT((ROWS($4:16)-1)/5)*5+1,),ROW(INDIRECT("1:"&ROWS(INDIRECT(R$1&"!B7:B300"))))),MOD(ROWS($4:16)-1,5)+1)),"")} | E16: {=IFERROR(INDEX(INDIRECT(R$1&"!K7:K300"),SMALL(IF(INDIRECT(R$1&"!B7:B300")=OFFSET(I$3,INT((ROWS($4:16)-1)/5)*5+1,),ROW(INDIRECT("1:"&ROWS(INDIRECT(R$1&"!B7:B300"))))),MOD(ROWS($4:16)-1,5)+1)),"")} | P16: {=IFERROR(INDEX(INDIRECT(R$1&"!K7:K300"),SMALL(IF(INDIRECT(R$1&"!B7:B300")=OFFSET(L$3,INT((ROWS($4:16)-1)/5)*5+1,),ROW(INDIRECT("1:"&ROWS(INDIRECT(R$1&"!B7:B300"))))),MOD(ROWS($4:16)-1,5)+1)),"")} | Q16: {=IFERROR(INDEX(INDIRECT(R$1&"!L7:L300"),SMALL(IF(INDIRECT(R$1&"!B7:B300")=OFFSET(L$3,INT((ROWS($4:16)-1)/5)*5+1,),ROW(INDIRECT("1:"&ROWS(INDIRECT(R$1&"!B7:B300"))))),MOD(ROWS($4:16)-1,5)+1)),"")}
D17: {=IFERROR(INDEX(INDIRECT(R$1&"!L7:L300"),SMALL(IF(INDIRECT(R$1&"!B7:B300")=OFFSET(I$3,INT((ROWS($4:17)-1)/5)*5+1,),ROW(INDIRECT("1:"&ROWS(INDIRECT(R$1&"!B7:B300"))))),MOD(ROWS($4:17)-1,5)+1)),"")} | E17: {=IFERROR(INDEX(INDIRECT(R$1&"!K7:K300"),SMALL(IF(INDIRECT(R$1&"!B7:B300")=OFFSET(I$3,INT((ROWS($4:17)-1)/5)*5+1,),ROW(INDIRECT("1:"&ROWS(INDIRECT(R$1&"!B7:B300"))))),MOD(ROWS($4:17)-1,5)+1)),"")} | P17: {=IFERROR(INDEX(INDIRECT(R$1&"!K7:K300"),SMALL(IF(INDIRECT(R$1&"!B7:B300")=OFFSET(L$3,INT((ROWS($4:17)-1)/5)*5+1,),ROW(INDIRECT("1:"&ROWS(INDIRECT(R$1&"!B7:B300"))))),MOD(ROWS($4:17)-1,5)+1)),"")} | Q17: {=IFERROR(INDEX(INDIRECT(R$1&"!L7:L300"),SMALL(IF(INDIRECT(R$1&"!B7:B300")=OFFSET(L$3,INT((ROWS($4:17)-1)/5)*5+1,),ROW(INDIRECT("1:"&ROWS(INDIRECT(R$1&"!B7:B300"))))),MOD(ROWS($4:17)-1,5)+1)),"")}
D18: {=IFERROR(INDEX(INDIRECT(R$1&"!L7:L300"),SMALL(IF(INDIRECT(R$1&"!B7:B300")=OFFSET(I$3,INT((ROWS($4:18)-1)/5)*5+1,),ROW(INDIRECT("1:"&ROWS(INDIRECT(R$1&"!B7:B300"))))),MOD(ROWS($4:18)-1,5)+1)),"")} | E18: {=IFERROR(INDEX(INDIRECT(R$1&"!K7:K300"),SMALL(IF(INDIRECT(R$1&"!B7:B300")=OFFSET(I$3,INT((ROWS($4:18)-1)/5)*5+1,),ROW(INDIRECT("1:"&ROWS(INDIRECT(R$1&"!B7:B300"))))),MOD(ROWS($4:18)-1,5)+1)),"")} | P18: {=IFERROR(INDEX(INDIRECT(R$1&"!K7:K300"),SMALL(IF(INDIRECT(R$1&"!B7:B300")=OFFSET(L$3,INT((ROWS($4:18)-1)/5)*5+1,),ROW(INDIRECT("1:"&ROWS(INDIRECT(R$1&"!B7:B300"))))),MOD(ROWS($4:18)-1,5)+1)),"")} | Q18: {=IFERROR(INDEX(INDIRECT(R$1&"!L7:L300"),SMALL(IF(INDIRECT(R$1&"!B7:B300")=OFFSET(L$3,INT((ROWS($4:18)-1)/5)*5+1,),ROW(INDIRECT("1:"&ROWS(INDIRECT(R$1&"!B7:B300"))))),MOD(ROWS($4:18)-1,5)+1)),"")}
C19: =IF(ISBLANK(I19)," ","Quantité "&" "&INDEX(INDIRECT(R$1&"!$F$7:$F$300"),MATCH(I19,INDIRECT(R$1&"!$B$7:$B$300"),0)))&" "&"Rebuts "&" "&INDEX(INDIRECT(R$1&"!$G$7:$G$300"),MATCH(I19,INDIRECT(R$1&"!$B$7:$B$300"),0)) -> Quantité 54152 Rebuts 376 | D19: {=IFERROR(INDEX(INDIRECT(R$1&"!L7:L300"),SMALL(IF(INDIRECT(R$1&"!B7:B300")=OFFSET(I$3,INT((ROWS($4:19)-1)/5)*5+1,),ROW(INDIRECT("1:"&ROWS(INDIRECT(R$1&"!B7:B300"))))),MOD(ROWS($4:19)-1,5)+1)),"")} -> F19 | E19: {=IFERROR(INDEX(INDIRECT(R$1&"!K7:K300"),SMALL(IF(INDIRECT(R$1&"!B7:B300")=OFFSET(I$3,INT((ROWS($4:19)-1)/5)*5+1,),ROW(INDIRECT("1:"&ROWS(INDIRECT(R$1&"!B7:B300"))))),MOD(ROWS($4:19)-1,5)+1)),"")} -> 30 | F19: =IF(OR(ISBLANK(I19),ISERROR(I19))," ",INDEX(INDIRECT(R$1&"!$I$6:$I$300"),MATCH(I19,INDIRECT(R$1&"!$B$6:$B$300"),0))) -> 200190 | G19: =IF(F19=(" ")," ",F19&" "&INDEX(articles!C$1:C$186&" "&articles!B$1:B$186,MATCH(F19,articles!A$1:A$186,0))) -> 200190 ENTIER | H19: =IF(ISBLANK(I19)," ",INDEX(INDIRECT(R$1&"!$M$7:$M$300"),MATCH(I19,INDIRECT(R$1&"!$B$7:$B$300"),0))) -> L4 | I19: =IF(ISBLANK(I14)," ",INDEX(INDIRECT(R$1&"!$B$7:$B$300"),MATCH((I14+1),INDIRECT(R$1&"!$B$7:$B$300"),0))) -> 192493 | J19: =IF(ISBLANK(I19)," ",INDEX(INDIRECT(R$1&"!$D$2:$D$300"),MATCH(I19,INDIRECT(R$1&"!$B$2:$B$300"),0))) -> 1905166 | K19: =IF(ISBLANK(L19)," ",INDEX(INDIRECT(R$1&"!$D$7:$D$300"),MATCH(L19,INDIRECT(R$1&"!$B$7:$B$300"),0))) -> 1905204 | L19: =IF(L14=" "," ",INDEX(INDIRECT(R$1&"!$B$7:$B$300"),MATCH((L14+1),INDIRECT(R$1&"!$B$7:$B$300"),0))) -> 192511 | M19: =IF(ISBLANK(L19)," ",INDEX(INDIRECT(R$1&"!$M$7:$M$300"),MATCH(L19,INDIRECT(R$1&"!$B$7:$B$300"),0))) -> L5 | N19: =IF(O19=(" ")," ",O19&" "&INDEX(articles!C$1:C$186&" "&articles!B$1:B$186,MATCH(O19,articles!A$1:A$186,0))) -> 221173 DEMI ECREME | O19: =IF(OR(ISBLANK(L19),ISERROR(L19))," ",INDEX(INDIRECT(R$1&"!$I$7:$I$300"),MATCH(L19,INDIRECT(R$1&"!$B$7:$B$300"),0))) -> 221173 | P19: {=IFERROR(INDEX(INDIRECT(R$1&"!K7:K300"),SMALL(IF(INDIRECT(R$1&"!B7:B300")=OFFSET(L$3,INT((ROWS($4:19)-1)/5)*5+1,),ROW(INDIRECT("1:"&ROWS(INDIRECT(R$1&"!B7:B300"))))),MOD(ROWS($4:19)-1,5)+1)),"")} -> 62 | Q19: {=IFERROR(INDEX(INDIRECT(R$1&"!L7:L300"),SMALL(IF(INDIRECT(R$1&"!B7:B300")=OFFSET(L$3,INT((ROWS($4:19)-1)/5)*5+1,),ROW(INDIRECT("1:"&ROWS(INDIRECT(R$1&"!B7:B300"))))),MOD(ROWS($4:19)-1,5)+1)),"")} -> F40 | R19: =IF(ISBLANK(L19)," ","Quantité "&" "&INDEX(INDIRECT(R$1&"!$F$7:$F$300"),MATCH(L19,INDIRECT(R$1&"!$B$7:$B$300"),0)))&" "&"Rebuts "&" "&INDEX(INDIRECT(R$1&"!$G$7:$G$300"),MATCH(L19,INDIRECT(R$1&"!$B$7:$B$300"),0)) -> Quantité 46036 Rebuts 286
D20: {=IFERROR(INDEX(INDIRECT(R$1&"!L7:L300"),SMALL(IF(INDIRECT(R$1&"!B7:B300")=OFFSET(I$3,INT((ROWS($4:20)-1)/5)*5+1,),ROW(INDIRECT("1:"&ROWS(INDIRECT(R$1&"!B7:B300"))))),MOD(ROWS($4:20)-1,5)+1)),"")} -> F24 | E20: {=IFERROR(INDEX(INDIRECT(R$1&"!K7:K300"),SMALL(IF(INDIRECT(R$1&"!B7:B300")=OFFSET(I$3,INT((ROWS($4:20)-1)/5)*5+1,),ROW(INDIRECT("1:"&ROWS(INDIRECT(R$1&"!B7:B300"))))),MOD(ROWS($4:20)-1,5)+1)),"")} -> 32 | P20: {=IFERROR(INDEX(INDIRECT(R$1&"!K7:K300"),SMALL(IF(INDIRECT(R$1&"!B7:B300")=OFFSET(L$3,INT((ROWS($4:20)-1)/5)*5+1,),ROW(INDIRECT("1:"&ROWS(INDIRECT(R$1&"!B7:B300"))))),MOD(ROWS($4:20)-1,5)+1)),"")} -> 64 | Q20: {=IFERROR(INDEX(INDIRECT(R$1&"!L7:L300"),SMALL(IF(INDIRECT(R$1&"!B7:B300")=OFFSET(L$3,INT((ROWS($4:20)-1)/5)*5+1,),ROW(INDIRECT("1:"&ROWS(INDIRECT(R$1&"!B7:B300"))))),MOD(ROWS($4:20)-1,5)+1)),"")} -> D35
D21: {=IFERROR(INDEX(INDIRECT(R$1&"!L7:L300"),SMALL(IF(INDIRECT(R$1&"!B7:B300")=OFFSET(I$3,INT((ROWS($4:21)-1)/5)*5+1,),ROW(INDIRECT("1:"&ROWS(INDIRECT(R$1&"!B7:B300"))))),MOD(ROWS($4:21)-1,5)+1)),"")} -> MURECOMP | E21: {=IFERROR(INDEX(INDIRECT(R$1&"!K7:K300"),SMALL(IF(INDIRECT(R$1&"!B7:B300")=OFFSET(I$3,INT((ROWS($4:21)-1)/5)*5+1,),ROW(INDIRECT("1:"&ROWS(INDIRECT(R$1&"!B7:B300"))))),MOD(ROWS($4:21)-1,5)+1)),"")} -> 1 | P21: {=IFERROR(INDEX(INDIRECT(R$1&"!K7:K300"),SMALL(IF(INDIRECT(R$1&"!B7:B300")=OFFSET(L$3,INT((ROWS($4:21)-1)/5)*5+1,),ROW(INDIRECT("1:"&ROWS(INDIRECT(R$1&"!B7:B300"))))),MOD(ROWS($4:21)-1,5)+1)),"")} -> 2 | Q21: {=IFERROR(INDEX(INDIRECT(R$1&"!L7:L300"),SMALL(IF(INDIRECT(R$1&"!B7:B300")=OFFSET(L$3,INT((ROWS($4:21)-1)/5)*5+1,),ROW(INDIRECT("1:"&ROWS(INDIRECT(R$1&"!B7:B300"))))),MOD(ROWS($4:21)-1,5)+1)),"")} -> MURECOMP
D22: {=IFERROR(INDEX(INDIRECT(R$1&"!L7:L300"),SMALL(IF(INDIRECT(R$1&"!B7:B300")=OFFSET(I$3,INT((ROWS($4:22)-1)/5)*5+1,),ROW(INDIRECT("1:"&ROWS(INDIRECT(R$1&"!B7:B300"))))),MOD(ROWS($4:22)-1,5)+1)),"")} | E22: {=IFERROR(INDEX(INDIRECT(R$1&"!K7:K300"),SMALL(IF(INDIRECT(R$1&"!B7:B300")=OFFSET(I$3,INT((ROWS($4:22)-1)/5)*5+1,),ROW(INDIRECT("1:"&ROWS(INDIRECT(R$1&"!B7:B300"))))),MOD(ROWS($4:22)-1,5)+1)),"")} | P22: {=IFERROR(INDEX(INDIRECT(R$1&"!K7:K300"),SMALL(IF(INDIRECT(R$1&"!B7:B300")=OFFSET(L$3,INT((ROWS($4:22)-1)/5)*5+1,),ROW(INDIRECT("1:"&ROWS(INDIRECT(R$1&"!B7:B300"))))),MOD(ROWS($4:22)-1,5)+1)),"")} | Q22: {=IFERROR(INDEX(INDIRECT(R$1&"!L7:L300"),SMALL(IF(INDIRECT(R$1&"!B7:B300")=OFFSET(L$3,INT((ROWS($4:22)-1)/5)*5+1,),ROW(INDIRECT("1:"&ROWS(INDIRECT(R$1&"!B7:B300"))))),MOD(ROWS($4:22)-1,5)+1)),"")}
D23: {=IFERROR(INDEX(INDIRECT(R$1&"!L7:L300"),SMALL(IF(INDIRECT(R$1&"!B7:B300")=OFFSET(I$3,INT((ROWS($4:23)-1)/5)*5+1,),ROW(INDIRECT("1:"&ROWS(INDIRECT(R$1&"!B7:B300"))))),MOD(ROWS($4:23)-1,5)+1)),"")} | E23: {=IFERROR(INDEX(INDIRECT(R$1&"!K7:K300"),SMALL(IF(INDIRECT(R$1&"!B7:B300")=OFFSET(I$3,INT((ROWS($4:23)-1)/5)*5+1,),ROW(INDIRECT("1:"&ROWS(INDIRECT(R$1&"!B7:B300"))))),MOD(ROWS($4:23)-1,5)+1)),"")} | P23: {=IFERROR(INDEX(INDIRECT(R$1&"!K7:K300"),SMALL(IF(INDIRECT(R$1&"!B7:B300")=OFFSET(L$3,INT((ROWS($4:23)-1)/5)*5+1,),ROW(INDIRECT("1:"&ROWS(INDIRECT(R$1&"!B7:B300"))))),MOD(ROWS($4:23)-1,5)+1)),"")} | Q23: {=IFERROR(INDEX(INDIRECT(R$1&"!L7:L300"),SMALL(IF(INDIRECT(R$1&"!B7:B300")=OFFSET(L$3,INT((ROWS($4:23)-1)/5)*5+1,),ROW(INDIRECT("1:"&ROWS(INDIRECT(R$1&"!B7:B300"))))),MOD(ROWS($4:23)-1,5)+1)),"")}
C24: =IF(ISBLANK(I24)," ","Quantité "&" "&INDEX(INDIRECT(R$1&"!$F$7:$F$300"),MATCH(I24,INDIRECT(R$1&"!$B$7:$B$300"),0)))&" "&"Rebuts "&" "&INDEX(INDIRECT(R$1&"!$G$7:$G$300"),MATCH(I24,INDIRECT(R$1&"!$B$7:$B$300"),0)) -> Quantité 49148 Rebuts 198 | D24: {=IFERROR(INDEX(INDIRECT(R$1&"!L7:L300"),SMALL(IF(INDIRECT(R$1&"!B7:B300")=OFFSET(I$3,INT((ROWS($4:24)-1)/5)*5+1,),ROW(INDIRECT("1:"&ROWS(INDIRECT(R$1&"!B7:B300"))))),MOD(ROWS($4:24)-1,5)+1)),"")} -> B02 | E24: {=IFERROR(INDEX(INDIRECT(R$1&"!K7:K300"),SMALL(IF(INDIRECT(R$1&"!B7:B300")=OFFSET(I$3,INT((ROWS($4:24)-1)/5)*5+1,),ROW(INDIRECT("1:"&ROWS(INDIRECT(R$1&"!B7:B300"))))),MOD(ROWS($4:24)-1,5)+1)),"")} -> 32 | F24: =IF(OR(ISBLANK(I24),ISERROR(I24))," ",INDEX(INDIRECT(R$1&"!$I$6:$I$300"),MATCH(I24,INDIRECT(R$1&"!$B$6:$B$300"),0))) -> 221066 | G24: =IF(F24=(" ")," ",F24&" "&INDEX(articles!C$1:C$186&" "&articles!B$1:B$186,MATCH(F24,articles!A$1:A$186,0))) -> 221066 DEMI ECREME | H24: =IF(ISBLANK(I24)," ",INDEX(INDIRECT(R$1&"!$M$7:$M$300"),MATCH(I24,INDIRECT(R$1&"!$B$7:$B$300"),0))) -> L5 | I24: =IF(ISBLANK(I19)," ",INDEX(INDIRECT(R$1&"!$B$7:$B$300"),MATCH((I19+1),INDIRECT(R$1&"!$B$7:$B$300"),0))) -> 192494 | J24: =IF(ISBLANK(I24)," ",INDEX(INDIRECT(R$1&"!$D$2:$D$300"),MATCH(I24,INDIRECT(R$1&"!$B$2:$B$300"),0))) -> 1905167 | K24: =IF(ISBLANK(L24)," ",INDEX(INDIRECT(R$1&"!$D$7:$D$300"),MATCH(L24,INDIRECT(R$1&"!$B$7:$B$300"),0))) -> 1905205 | L24: =IF(L19=" "," ",INDEX(INDIRECT(R$1&"!$B$7:$B$300"),MATCH((L19+1),INDIRECT(R$1&"!$B$7:$B$300"),0))) -> 192512 | M24: =IF(ISBLANK(L24)," ",INDEX(INDIRECT(R$1&"!$M$7:$M$300"),MATCH(L24,INDIRECT(R$1&"!$B$7:$B$300"),0))) -> L3 | N24: =IF(O24=(" ")," ",O24&" "&INDEX(articles!C$1:C$186&" "&articles!B$1:B$186,MATCH(O24,articles!A$1:A$186,0))) -> 200021 ENTIER | O24: =IF(OR(ISBLANK(L24),ISERROR(L24))," ",INDEX(INDIRECT(R$1&"!$I$7:$I$300"),MATCH(L24,INDIRECT(R$1&"!$B$7:$B$300"),0))) -> 200021 | P24: {=IFERROR(INDEX(INDIRECT(R$1&"!K7:K300"),SMALL(IF(INDIRECT(R$1&"!B7:B300")=OFFSET(L$3,INT((ROWS($4:24)-1)/5)*5+1,),ROW(INDIRECT("1:"&ROWS(INDIRECT(R$1&"!B7:B300"))))),MOD(ROWS($4:24)-1,5)+1)),"")} -> 32 | Q24: {=IFERROR(INDEX(INDIRECT(R$1&"!L7:L300"),SMALL(IF(INDIRECT(R$1&"!B7:B300")=OFFSET(L$3,INT((ROWS($4:24)-1)/5)*5+1,),ROW(INDIRECT("1:"&ROWS(INDIRECT(R$1&"!B7:B300"))))),MOD(ROWS($4:24)-1,5)+1)),"")} -> C44 | R24: =IF(ISBLANK(L24)," ","Quantité "&" "&INDEX(INDIRECT(R$1&"!$F$7:$F$300"),MATCH(L24,INDIRECT(R$1&"!$B$7:$B$300"),0)))&" "&"Rebuts "&" "&INDEX(INDIRECT(R$1&"!$G$7:$G$300"),MATCH(L24,INDIRECT(R$1&"!$B$7:$B$300"),0)) -> Quantité 54137 Rebuts 229
D25: {=IFERROR(INDEX(INDIRECT(R$1&"!L7:L300"),SMALL(IF(INDIRECT(R$1&"!B7:B300")=OFFSET(I$3,INT((ROWS($4:25)-1)/5)*5+1,),ROW(INDIRECT("1:"&ROWS(INDIRECT(R$1&"!B7:B300"))))),MOD(ROWS($4:25)-1,5)+1)),"")} -> G20 | E25: {=IFERROR(INDEX(INDIRECT(R$1&"!K7:K300"),SMALL(IF(INDIRECT(R$1&"!B7:B300")=OFFSET(I$3,INT((ROWS($4:25)-1)/5)*5+1,),ROW(INDIRECT("1:"&ROWS(INDIRECT(R$1&"!B7:B300"))))),MOD(ROWS($4:25)-1,5)+1)),"")} -> 29 | P25: {=IFERROR(INDEX(INDIRECT(R$1&"!K7:K300"),SMALL(IF(INDIRECT(R$1&"!B7:B300")=OFFSET(L$3,INT((ROWS($4:25)-1)/5)*5+1,),ROW(INDIRECT("1:"&ROWS(INDIRECT(R$1&"!B7:B300"))))),MOD(ROWS($4:25)-1,5)+1)),"")} -> 32 | Q25: {=IFERROR(INDEX(INDIRECT(R$1&"!L7:L300"),SMALL(IF(INDIRECT(R$1&"!B7:B300")=OFFSET(L$3,INT((ROWS($4:25)-1)/5)*5+1,),ROW(INDIRECT("1:"&ROWS(INDIRECT(R$1&"!B7:B300"))))),MOD(ROWS($4:25)-1,5)+1)),"")} -> A35
D26: {=IFERROR(INDEX(INDIRECT(R$1&"!L7:L300"),SMALL(IF(INDIRECT(R$1&"!B7:B300")=OFFSET(I$3,INT((ROWS($4:26)-1)/5)*5+1,),ROW(INDIRECT("1:"&ROWS(INDIRECT(R$1&"!B7:B300"))))),MOD(ROWS($4:26)-1,5)+1)),"")} -> MURECOMP | E26: {=IFERROR(INDEX(INDIRECT(R$1&"!K7:K300"),SMALL(IF(INDIRECT(R$1&"!B7:B300")=OFFSET(I$3,INT((ROWS($4:26)-1)/5)*5+1,),ROW(INDIRECT("1:"&ROWS(INDIRECT(R$1&"!B7:B300"))))),MOD(ROWS($4:26)-1,5)+1)),"")} -> 2 | P26: {=IFERROR(INDEX(INDIRECT(R$1&"!K7:K300"),SMALL(IF(INDIRECT(R$1&"!B7:B300")=OFFSET(L$3,INT((ROWS($4:26)-1)/5)*5+1,),ROW(INDIRECT("1:"&ROWS(INDIRECT(R$1&"!B7:B300"))))),MOD(ROWS($4:26)-1,5)+1)),"")} | Q26: {=IFERROR(INDEX(INDIRECT(R$1&"!L7:L300"),SMALL(IF(INDIRECT(R$1&"!B7:B300")=OFFSET(L$3,INT((ROWS($4:26)-1)/5)*5+1,),ROW(INDIRECT("1:"&ROWS(INDIRECT(R$1&"!B7:B300"))))),MOD(ROWS($4:26)-1,5)+1)),"")}
D27: {=IFERROR(INDEX(INDIRECT(R$1&"!L7:L300"),SMALL(IF(INDIRECT(R$1&"!B7:B300")=OFFSET(I$3,INT((ROWS($4:27)-1)/5)*5+1,),ROW(INDIRECT("1:"&ROWS(INDIRECT(R$1&"!B7:B300"))))),MOD(ROWS($4:27)-1,5)+1)),"")} | E27: {=IFERROR(INDEX(INDIRECT(R$1&"!K7:K300"),SMALL(IF(INDIRECT(R$1&"!B7:B300")=OFFSET(I$3,INT((ROWS($4:27)-1)/5)*5+1,),ROW(INDIRECT("1:"&ROWS(INDIRECT(R$1&"!B7:B300"))))),MOD(ROWS($4:27)-1,5)+1)),"")} | P27: {=IFERROR(INDEX(INDIRECT(R$1&"!K7:K300"),SMALL(IF(INDIRECT(R$1&"!B7:B300")=OFFSET(L$3,INT((ROWS($4:27)-1)/5)*5+1,),ROW(INDIRECT("1:"&ROWS(INDIRECT(R$1&"!B7:B300"))))),MOD(ROWS($4:27)-1,5)+1)),"")} | Q27: {=IFERROR(INDEX(INDIRECT(R$1&"!L7:L300"),SMALL(IF(INDIRECT(R$1&"!B7:B300")=OFFSET(L$3,INT((ROWS($4:27)-1)/5)*5+1,),ROW(INDIRECT("1:"&ROWS(INDIRECT(R$1&"!B7:B300"))))),MOD(ROWS($4:27)-1,5)+1)),"")}
D28: {=IFERROR(INDEX(INDIRECT(R$1&"!L7:L300"),SMALL(IF(INDIRECT(R$1&"!B7:B300")=OFFSET(I$3,INT((ROWS($4:28)-1)/5)*5+1,),ROW(INDIRECT("1:"&ROWS(INDIRECT(R$1&"!B7:B300"))))),MOD(ROWS($4:28)-1,5)+1)),"")} | E28: {=IFERROR(INDEX(INDIRECT(R$1&"!K7:K300"),SMALL(IF(INDIRECT(R$1&"!B7:B300")=OFFSET(I$3,INT((ROWS($4:28)-1)/5)*5+1,),ROW(INDIRECT("1:"&ROWS(INDIRECT(R$1&"!B7:B300"))))),MOD(ROWS($4:28)-1,5)+1)),"")} | P28: {=IFERROR(INDEX(INDIRECT(R$1&"!K7:K300"),SMALL(IF(INDIRECT(R$1&"!B7:B300")=OFFSET(L$3,INT((ROWS($4:28)-1)/5)*5+1,),ROW(INDIRECT("1:"&ROWS(INDIRECT(R$1&"!B7:B300"))))),MOD(ROWS($4:28)-1,5)+1)),"")} | Q28: {=IFERROR(INDEX(INDIRECT(R$1&"!L7:L300"),SMALL(IF(INDIRECT(R$1&"!B7:B300")=OFFSET(L$3,INT((ROWS($4:28)-1)/5)*5+1,),ROW(INDIRECT("1:"&ROWS(INDIRECT(R$1&"!B7:B300"))))),MOD(ROWS($4:28)-1,5)+1)),"")}
C29: =IF(ISBLANK(I29)," ","Quantité "&" "&INDEX(INDIRECT(R$1&"!$F$7:$F$300"),MATCH(I29,INDIRECT(R$1&"!$B$7:$B$300"),0)))&" "&"Rebuts "&" "&INDEX(INDIRECT(R$1&"!$G$7:$G$300"),MATCH(I29,INDIRECT(R$1&"!$B$7:$B$300"),0)) -> Quantité 54143 Rebuts 215 | D29: {=IFERROR(INDEX(INDIRECT(R$1&"!L7:L300"),SMALL(IF(INDIRECT(R$1&"!B7:B300")=OFFSET(I$3,INT((ROWS($4:29)-1)/5)*5+1,),ROW(INDIRECT("1:"&ROWS(INDIRECT(R$1&"!B7:B300"))))),MOD(ROWS($4:29)-1,5)+1)),"")} -> G19 | E29: {=IFERROR(INDEX(INDIRECT(R$1&"!K7:K300"),SMALL(IF(INDIRECT(R$1&"!B7:B300")=OFFSET(I$3,INT((ROWS($4:29)-1)/5)*5+1,),ROW(INDIRECT("1:"&ROWS(INDIRECT(R$1&"!B7:B300"))))),MOD(ROWS($4:29)-1,5)+1)),"")} -> 32 | F29: =IF(OR(ISBLANK(I29),ISERROR(I29))," ",INDEX(INDIRECT(R$1&"!$I$6:$I$300"),MATCH(I29,INDIRECT(R$1&"!$B$6:$B$300"),0))) -> 201190 | G29: =IF(F29=(" ")," ",F29&" "&INDEX(articles!C$1:C$186&" "&articles!B$1:B$186,MATCH(F29,articles!A$1:A$186,0))) -> 201190 DEMI ECREME | H29: =IF(ISBLANK(I29)," ",INDEX(INDIRECT(R$1&"!$M$7:$M$300"),MATCH(I29,INDIRECT(R$1&"!$B$7:$B$300"),0))) -> L3 | I29: =IF(ISBLANK(I24)," ",INDEX(INDIRECT(R$1&"!$B$7:$B$300"),MATCH((I24+1),INDIRECT(R$1&"!$B$7:$B$300"),0))) -> 192495 | J29: =IF(ISBLANK(I29)," ",INDEX(INDIRECT(R$1&"!$D$2:$D$300"),MATCH(I29,INDIRECT(R$1&"!$B$2:$B$300"),0))) -> 1905189 | K29: =IF(ISBLANK(L29)," ",INDEX(INDIRECT(R$1&"!$D$7:$D$300"),MATCH(L29,INDIRECT(R$1&"!$B$7:$B$300"),0))) -> 1905206 | L29: =IF(L24=" "," ",INDEX(INDIRECT(R$1&"!$B$7:$B$300"),MATCH((L24+1),INDIRECT(R$1&"!$B$7:$B$300"),0))) -> 192513 | M29: =IF(ISBLANK(L29)," ",INDEX(INDIRECT(R$1&"!$M$7:$M$300"),MATCH(L29,INDIRECT(R$1&"!$B$7:$B$300"),0))) -> L1 | N29: =IF(O29=(" ")," ",O29&" "&INDEX(articles!C$1:C$186&" "&articles!B$1:B$186,MATCH(O29,articles!A$1:A$186,0))) -> 200320 ENTIER | O29: =IF(OR(ISBLANK(L29),ISERROR(L29))," ",INDEX(INDIRECT(R$1&"!$I$7:$I$300"),MATCH(L29,INDIRECT(R$1&"!$B$7:$B$300"),0))) -> 200320 | P29: {=IFERROR(INDEX(INDIRECT(R$1&"!K7:K300"),SMALL(IF(INDIRECT(R$1&"!B7:B300")=OFFSET(L$3,INT((ROWS($4:29)-1)/5)*5+1,),ROW(INDIRECT("1:"&ROWS(INDIRECT(R$1&"!B7:B300"))))),MOD(ROWS($4:29)-1,5)+1)),"")} -> 32 | Q29: {=IFERROR(INDEX(INDIRECT(R$1&"!L7:L300"),SMALL(IF(INDIRECT(R$1&"!B7:B300")=OFFSET(L$3,INT((ROWS($4:29)-1)/5)*5+1,),ROW(INDIRECT("1:"&ROWS(INDIRECT(R$1&"!B7:B300"))))),MOD(ROWS($4:29)-1,5)+1)),"")} -> B17 | R29: =IF(ISBLANK(L29)," ","Quantité "&" "&INDEX(INDIRECT(R$1&"!$F$7:$F$300"),MATCH(L29,INDIRECT(R$1&"!$B$7:$B$300"),0)))&" "&"Rebuts "&" "&INDEX(INDIRECT(R$1&"!$G$7:$G$300"),MATCH(L29,INDIRECT(R$1&"!$B$7:$B$300"),0)) -> Quantité 54371 Rebuts 263
D30: {=IFERROR(INDEX(INDIRECT(R$1&"!L7:L300"),SMALL(IF(INDIRECT(R$1&"!B7:B300")=OFFSET(I$3,INT((ROWS($4:30)-1)/5)*5+1,),ROW(INDIRECT("1:"&ROWS(INDIRECT(R$1&"!B7:B300"))))),MOD(ROWS($4:30)-1,5)+1)),"")} -> G23 | E30: {=IFERROR(INDEX(INDIRECT(R$1&"!K7:K300"),SMALL(IF(INDIRECT(R$1&"!B7:B300")=OFFSET(I$3,INT((ROWS($4:30)-1)/5)*5+1,),ROW(INDIRECT("1:"&ROWS(INDIRECT(R$1&"!B7:B300"))))),MOD(ROWS($4:30)-1,5)+1)),"")} -> 29 | P30: {=IFERROR(INDEX(INDIRECT(R$1&"!K7:K300"),SMALL(IF(INDIRECT(R$1&"!B7:B300")=OFFSET(L$3,INT((ROWS($4:30)-1)/5)*5+1,),ROW(INDIRECT("1:"&ROWS(INDIRECT(R$1&"!B7:B300"))))),MOD(ROWS($4:30)-1,5)+1)),"")} -> 29 | Q30: {=IFERROR(INDEX(INDIRECT(R$1&"!L7:L300"),SMALL(IF(INDIRECT(R$1&"!B7:B300")=OFFSET(L$3,INT((ROWS($4:30)-1)/5)*5+1,),ROW(INDIRECT("1:"&ROWS(INDIRECT(R$1&"!B7:B300"))))),MOD(ROWS($4:30)-1,5)+1)),"")} -> H21
D31: {=IFERROR(INDEX(INDIRECT(R$1&"!L7:L300"),SMALL(IF(INDIRECT(R$1&"!B7:B300")=OFFSET(I$3,INT((ROWS($4:31)-1)/5)*5+1,),ROW(INDIRECT("1:"&ROWS(INDIRECT(R$1&"!B7:B300"))))),MOD(ROWS($4:31)-1,5)+1)),"")} -> MURECOMP | E31: {=IFERROR(INDEX(INDIRECT(R$1&"!K7:K300"),SMALL(IF(INDIRECT(R$1&"!B7:B300")=OFFSET(I$3,INT((ROWS($4:31)-1)/5)*5+1,),ROW(INDIRECT("1:"&ROWS(INDIRECT(R$1&"!B7:B300"))))),MOD(ROWS($4:31)-1,5)+1)),"")} -> 1 | P31: {=IFERROR(INDEX(INDIRECT(R$1&"!K7:K300"),SMALL(IF(INDIRECT(R$1&"!B7:B300")=OFFSET(L$3,INT((ROWS($4:31)-1)/5)*5+1,),ROW(INDIRECT("1:"&ROWS(INDIRECT(R$1&"!B7:B300"))))),MOD(ROWS($4:31)-1,5)+1)),"")} -> 1 | Q31: {=IFERROR(INDEX(INDIRECT(R$1&"!L7:L300"),SMALL(IF(INDIRECT(R$1&"!B7:B300")=OFFSET(L$3,INT((ROWS($4:31)-1)/5)*5+1,),ROW(INDIRECT("1:"&ROWS(INDIRECT(R$1&"!B7:B300"))))),MOD(ROWS($4:31)-1,5)+1)),"")} -> MURECOMP
D32: {=IFERROR(INDEX(INDIRECT(R$1&"!L7:L300"),SMALL(IF(INDIRECT(R$1&"!B7:B300")=OFFSET(I$3,INT((ROWS($4:32)-1)/5)*5+1,),ROW(INDIRECT("1:"&ROWS(INDIRECT(R$1&"!B7:B300"))))),MOD(ROWS($4:32)-1,5)+1)),"")} | E32: {=IFERROR(INDEX(INDIRECT(R$1&"!K7:K300"),SMALL(IF(INDIRECT(R$1&"!B7:B300")=OFFSET(I$3,INT((ROWS($4:32)-1)/5)*5+1,),ROW(INDIRECT("1:"&ROWS(INDIRECT(R$1&"!B7:B300"))))),MOD(ROWS($4:32)-1,5)+1)),"")} | P32: {=IFERROR(INDEX(INDIRECT(R$1&"!K7:K300"),SMALL(IF(INDIRECT(R$1&"!B7:B300")=OFFSET(L$3,INT((ROWS($4:32)-1)/5)*5+1,),ROW(INDIRECT("1:"&ROWS(INDIRECT(R$1&"!B7:B300"))))),MOD(ROWS($4:32)-1,5)+1)),"")} | Q32: {=IFERROR(INDEX(INDIRECT(R$1&"!L7:L300"),SMALL(IF(INDIRECT(R$1&"!B7:B300")=OFFSET(L$3,INT((ROWS($4:32)-1)/5)*5+1,),ROW(INDIRECT("1:"&ROWS(INDIRECT(R$1&"!B7:B300"))))),MOD(ROWS($4:32)-1,5)+1)),"")}
D33: {=IFERROR(INDEX(INDIRECT(R$1&"!L7:L300"),SMALL(IF(INDIRECT(R$1&"!B7:B300")=OFFSET(I$3,INT((ROWS($4:33)-1)/5)*5+1,),ROW(INDIRECT("1:"&ROWS(INDIRECT(R$1&"!B7:B300"))))),MOD(ROWS($4:33)-1,5)+1)),"")} | E33: {=IFERROR(INDEX(INDIRECT(R$1&"!K7:K300"),SMALL(IF(INDIRECT(R$1&"!B7:B300")=OFFSET(I$3,INT((ROWS($4:33)-1)/5)*5+1,),ROW(INDIRECT("1:"&ROWS(INDIRECT(R$1&"!B7:B300"))))),MOD(ROWS($4:33)-1,5)+1)),"")} | P33: {=IFERROR(INDEX(INDIRECT(R$1&"!K7:K300"),SMALL(IF(INDIRECT(R$1&"!B7:B300")=OFFSET(L$3,INT((ROWS($4:33)-1)/5)*5+1,),ROW(INDIRECT("1:"&ROWS(INDIRECT(R$1&"!B7:B300"))))),MOD(ROWS($4:33)-1,5)+1)),"")} | Q33: {=IFERROR(INDEX(INDIRECT(R$1&"!L7:L300"),SMALL(IF(INDIRECT(R$1&"!B7:B300")=OFFSET(L$3,INT((ROWS($4:33)-1)/5)*5+1,),ROW(INDIRECT("1:"&ROWS(INDIRECT(R$1&"!B7:B300"))))),MOD(ROWS($4:33)-1,5)+1)),"")}
C34: =IF(ISBLANK(I34)," ","Quantité "&" "&INDEX(INDIRECT(R$1&"!$F$7:$F$300"),MATCH(I34,INDIRECT(R$1&"!$B$7:$B$300"),0)))&" "&"Rebuts "&" "&INDEX(INDIRECT(R$1&"!$G$7:$G$300"),MATCH(I34,INDIRECT(R$1&"!$B$7:$B$300"),0)) -> Quantité 35920 Rebuts 89 | D34: {=IFERROR(INDEX(INDIRECT(R$1&"!L7:L300"),SMALL(IF(INDIRECT(R$1&"!B7:B300")=OFFSET(I$3,INT((ROWS($4:34)-1)/5)*5+1,),ROW(INDIRECT("1:"&ROWS(INDIRECT(R$1&"!B7:B300"))))),MOD(ROWS($4:34)-1,5)+1)),"")} -> E38 | E34: {=IFERROR(INDEX(INDIRECT(R$1&"!K7:K300"),SMALL(IF(INDIRECT(R$1&"!B7:B300")=OFFSET(I$3,INT((ROWS($4:34)-1)/5)*5+1,),ROW(INDIRECT("1:"&ROWS(INDIRECT(R$1&"!B7:B300"))))),MOD(ROWS($4:34)-1,5)+1)),"")} -> 8 | F34: =IF(OR(ISBLANK(I34),ISERROR(I34))," ",INDEX(INDIRECT(R$1&"!$I$6:$I$300"),MATCH(I34,INDIRECT(R$1&"!$B$6:$B$300"),0))) -> 201472 | G34: =IF(F34=(" ")," ",F34&" "&INDEX(articles!C$1:C$186&" "&articles!B$1:B$186,MATCH(F34,articles!A$1:A$186,0))) -> 201472 DEMI ECREME | H34: =IF(ISBLANK(I34)," ",INDEX(INDIRECT(R$1&"!$M$7:$M$300"),MATCH(I34,INDIRECT(R$1&"!$B$7:$B$300"),0))) -> L1 | I34: =IF(ISBLANK(I29)," ",INDEX(INDIRECT(R$1&"!$B$7:$B$300"),MATCH((I29+1),INDIRECT(R$1&"!$B$7:$B$300"),0))) -> 192496 | J34: =IF(ISBLANK(I34)," ",INDEX(INDIRECT(R$1&"!$D$2:$D$300"),MATCH(I34,INDIRECT(R$1&"!$B$2:$B$300"),0))) -> 1905190 | K34: =IF(ISBLANK(L34)," ",INDEX(INDIRECT(R$1&"!$D$7:$D$300"),MATCH(L34,INDIRECT(R$1&"!$B$7:$B$300"),0))) -> 1905207 | L34: =IF(L29=" "," ",INDEX(INDIRECT(R$1&"!$B$7:$B$300"),MATCH((L29+1),INDIRECT(R$1&"!$B$7:$B$300"),0))) -> 192514 | M34: =IF(ISBLANK(L34)," ",INDEX(INDIRECT(R$1&"!$M$7:$M$300"),MATCH(L34,INDIRECT(R$1&"!$B$7:$B$300"),0))) -> L4 | N34: =IF(O34=(" ")," ",O34&" "&INDEX(articles!C$1:C$186&" "&articles!B$1:B$186,MATCH(O34,articles!A$1:A$186,0))) -> 202190 ECREME | O34: =IF(OR(ISBLANK(L34),ISERROR(L34))," ",INDEX(INDIRECT(R$1&"!$I$7:$I$300"),MATCH(L34,INDIRECT(R$1&"!$B$7:$B$300"),0))) -> 202190 | P34: {=IFERROR(INDEX(INDIRECT(R$1&"!K7:K300"),SMALL(IF(INDIRECT(R$1&"!B7:B300")=OFFSET(L$3,INT((ROWS($4:34)-1)/5)*5+1,),ROW(INDIRECT("1:"&ROWS(INDIRECT(R$1&"!B7:B300"))))),MOD(ROWS($4:34)-1,5)+1)),"")} -> 16 | Q34: {=IFERROR(INDEX(INDIRECT(R$1&"!L7:L300"),SMALL(IF(INDIRECT(R$1&"!B7:B300")=OFFSET(L$3,INT((ROWS($4:34)-1)/5)*5+1,),ROW(INDIRECT("1:"&ROWS(INDIRECT(R$1&"!B7:B300"))))),MOD(ROWS($4:34)-1,5)+1)),"")} -> E25 | R34: =IF(ISBLANK(L34)," ","Quantité "&" "&INDEX(INDIRECT(R$1&"!$F$7:$F$300"),MATCH(L34,INDIRECT(R$1&"!$B$7:$B$300"),0)))&" "&"Rebuts "&" "&INDEX(INDIRECT(R$1&"!$G$7:$G$300"),MATCH(L34,INDIRECT(R$1&"!$B$7:$B$300"),0)) -> Quantité 14707 Rebuts 200
D35: {=IFERROR(INDEX(INDIRECT(R$1&"!L7:L300"),SMALL(IF(INDIRECT(R$1&"!B7:B300")=OFFSET(I$3,INT((ROWS($4:35)-1)/5)*5+1,),ROW(INDIRECT("1:"&ROWS(INDIRECT(R$1&"!B7:B300"))))),MOD(ROWS($4:35)-1,5)+1)),"")} -> E28 | E35: {=IFERROR(INDEX(INDIRECT(R$1&"!K7:K300"),SMALL(IF(INDIRECT(R$1&"!B7:B300")=OFFSET(I$3,INT((ROWS($4:35)-1)/5)*5+1,),ROW(INDIRECT("1:"&ROWS(INDIRECT(R$1&"!B7:B300"))))),MOD(ROWS($4:35)-1,5)+1)),"")} -> 32 | P35: {=IFERROR(INDEX(INDIRECT(R$1&"!K7:K300"),SMALL(IF(INDIRECT(R$1&"!B7:B300")=OFFSET(L$3,INT((ROWS($4:35)-1)/5)*5+1,),ROW(INDIRECT("1:"&ROWS(INDIRECT(R$1&"!B7:B300"))))),MOD(ROWS($4:35)-1,5)+1)),"")} -> 1 | Q35: {=IFERROR(INDEX(INDIRECT(R$1&"!L7:L300"),SMALL(IF(INDIRECT(R$1&"!B7:B300")=OFFSET(L$3,INT((ROWS($4:35)-1)/5)*5+1,),ROW(INDIRECT("1:"&ROWS(INDIRECT(R$1&"!B7:B300"))))),MOD(ROWS($4:35)-1,5)+1)),"")} -> MURECOMP
D36: {=IFERROR(INDEX(INDIRECT(R$1&"!L7:L300"),SMALL(IF(INDIRECT(R$1&"!B7:B300")=OFFSET(I$3,INT((ROWS($4:36)-1)/5)*5+1,),ROW(INDIRECT("1:"&ROWS(INDIRECT(R$1&"!B7:B300"))))),MOD(ROWS($4:36)-1,5)+1)),"")} -> MURECOMP | E36: {=IFERROR(INDEX(INDIRECT(R$1&"!K7:K300"),SMALL(IF(INDIRECT(R$1&"!B7:B300")=OFFSET(I$3,INT((ROWS($4:36)-1)/5)*5+1,),ROW(INDIRECT("1:"&ROWS(INDIRECT(R$1&"!B7:B300"))))),MOD(ROWS($4:36)-1,5)+1)),"")} -> 1 | P36: {=IFERROR(INDEX(INDIRECT(R$1&"!K7:K300"),SMALL(IF(INDIRECT(R$1&"!B7:B300")=OFFSET(L$3,INT((ROWS($4:36)-1)/5)*5+1,),ROW(INDIRECT("1:"&ROWS(INDIRECT(R$1&"!B7:B300"))))),MOD(ROWS($4:36)-1,5)+1)),"")} | Q36: {=IFERROR(INDEX(INDIRECT(R$1&"!L7:L300"),SMALL(IF(INDIRECT(R$1&"!B7:B300")=OFFSET(L$3,INT((ROWS($4:36)-1)/5)*5+1,),ROW(INDIRECT("1:"&ROWS(INDIRECT(R$1&"!B7:B300"))))),MOD(ROWS($4:36)-1,5)+1)),"")}
D37: {=IFERROR(INDEX(INDIRECT(R$1&"!L7:L300"),SMALL(IF(INDIRECT(R$1&"!B7:B300")=OFFSET(I$3,INT((ROWS($4:37)-1)/5)*5+1,),ROW(INDIRECT("1:"&ROWS(INDIRECT(R$1&"!B7:B300"))))),MOD(ROWS($4:37)-1,5)+1)),"")} | E37: {=IFERROR(INDEX(INDIRECT(R$1&"!K7:K300"),SMALL(IF(INDIRECT(R$1&"!B7:B300")=OFFSET(I$3,INT((ROWS($4:37)-1)/5)*5+1,),ROW(INDIRECT("1:"&ROWS(INDIRECT(R$1&"!B7:B300"))))),MOD(ROWS($4:37)-1,5)+1)),"")} | P37: {=IFERROR(INDEX(INDIRECT(R$1&"!K7:K300"),SMALL(IF(INDIRECT(R$1&"!B7:B300")=OFFSET(L$3,INT((ROWS($4:37)-1)/5)*5+1,),ROW(INDIRECT("1:"&ROWS(INDIRECT(R$1&"!B7:B300"))))),MOD(ROWS($4:37)-1,5)+1)),"")} | Q37: {=IFERROR(INDEX(INDIRECT(R$1&"!L7:L300"),SMALL(IF(INDIRECT(R$1&"!B7:B300")=OFFSET(L$3,INT((ROWS($4:37)-1)/5)*5+1,),ROW(INDIRECT("1:"&ROWS(INDIRECT(R$1&"!B7:B300"))))),MOD(ROWS($4:37)-1,5)+1)),"")}
D38: {=IFERROR(INDEX(INDIRECT(R$1&"!L7:L300"),SMALL(IF(INDIRECT(R$1&"!B7:B300")=OFFSET(I$3,INT((ROWS($4:38)-1)/5)*5+1,),ROW(INDIRECT("1:"&ROWS(INDIRECT(R$1&"!B7:B300"))))),MOD(ROWS($4:38)-1,5)+1)),"")} | E38: {=IFERROR(INDEX(INDIRECT(R$1&"!K7:K300"),SMALL(IF(INDIRECT(R$1&"!B7:B300")=OFFSET(I$3,INT((ROWS($4:38)-1)/5)*5+1,),ROW(INDIRECT("1:"&ROWS(INDIRECT(R$1&"!B7:B300"))))),MOD(ROWS($4:38)-1,5)+1)),"")} | P38: {=IFERROR(INDEX(INDIRECT(R$1&"!K7:K300"),SMALL(IF(INDIRECT(R$1&"!B7:B300")=OFFSET(L$3,INT((ROWS($4:38)-1)/5)*5+1,),ROW(INDIRECT("1:"&ROWS(INDIRECT(R$1&"!B7:B300"))))),MOD(ROWS($4:38)-1,5)+1)),"")} | Q38: {=IFERROR(INDEX(INDIRECT(R$1&"!L7:L300"),SMALL(IF(INDIRECT(R$1&"!B7:B300")=OFFSET(L$3,INT((ROWS($4:38)-1)/5)*5+1,),ROW(INDIRECT("1:"&ROWS(INDIRECT(R$1&"!B7:B300"))))),MOD(ROWS($4:38)-1,5)+1)),"")}
C39: =IF(ISBLANK(I39)," ","Quantité "&" "&INDEX(INDIRECT(R$1&"!$F$7:$F$300"),MATCH(I39,INDIRECT(R$1&"!$B$7:$B$300"),0)))&" "&"Rebuts "&" "&INDEX(INDIRECT(R$1&"!$G$7:$G$300"),MATCH(I39,INDIRECT(R$1&"!$B$7:$B$300"),0)) -> Quantité 6426 Rebuts 48 | D39: {=IFERROR(INDEX(INDIRECT(R$1&"!L7:L300"),SMALL(IF(INDIRECT(R$1&"!B7:B300")=OFFSET(I$3,INT((ROWS($4:39)-1)/5)*5+1,),ROW(INDIRECT("1:"&ROWS(INDIRECT(R$1&"!B7:B300"))))),MOD(ROWS($4:39)-1,5)+1)),"")} -> E36 | E39: {=IFERROR(INDEX(INDIRECT(R$1&"!K7:K300"),SMALL(IF(INDIRECT(R$1&"!B7:B300")=OFFSET(I$3,INT((ROWS($4:39)-1)/5)*5+1,),ROW(INDIRECT("1:"&ROWS(INDIRECT(R$1&"!B7:B300"))))),MOD(ROWS($4:39)-1,5)+1)),"")} -> 6 | F39: =IF(OR(ISBLANK(I39),ISERROR(I39))," ",INDEX(INDIRECT(R$1&"!$I$6:$I$300"),MATCH(I39,INDIRECT(R$1&"!$B$6:$B$300"),0))) -> 200190 | G39: =IF(F39=(" ")," ",F39&" "&INDEX(articles!C$1:C$186&" "&articles!B$1:B$186,MATCH(F39,articles!A$1:A$186,0))) -> 200190 ENTIER | H39: =IF(ISBLANK(I39)," ",INDEX(INDIRECT(R$1&"!$M$7:$M$300"),MATCH(I39,INDIRECT(R$1&"!$B$7:$B$300"),0))) -> L4 | I39: =IF(ISBLANK(I34)," ",INDEX(INDIRECT(R$1&"!$B$7:$B$300"),MATCH((I34+1),INDIRECT(R$1&"!$B$7:$B$300"),0))) -> 192497 | J39: =IF(ISBLANK(I39)," ",INDEX(INDIRECT(R$1&"!$D$2:$D$300"),MATCH(I39,INDIRECT(R$1&"!$B$2:$B$300"),0))) -> 1905168 | K39: =IF(ISBLANK(L39)," ",INDEX(INDIRECT(R$1&"!$D$7:$D$300"),MATCH(L39,INDIRECT(R$1&"!$B$7:$B$300"),0))) -> 1905208 | L39: =IF(L34=" "," ",INDEX(INDIRECT(R$1&"!$B$7:$B$300"),MATCH((L34+1),INDIRECT(R$1&"!$B$7:$B$300"),0))) -> 192515 | M39: =IF(ISBLANK(L39)," ",INDEX(INDIRECT(R$1&"!$M$7:$M$300"),MATCH(L39,INDIRECT(R$1&"!$B$7:$B$300"),0))) -> L4 | N39: =IF(O39=(" ")," ",O39&" "&INDEX(articles!C$1:C$186&" "&articles!B$1:B$186,MATCH(O39,articles!A$1:A$186,0))) -> 202190 ECREME | O39: =IF(OR(ISBLANK(L39),ISERROR(L39))," ",INDEX(INDIRECT(R$1&"!$I$7:$I$300"),MATCH(L39,INDIRECT(R$1&"!$B$7:$B$300"),0))) -> 202190 | P39: {=IFERROR(INDEX(INDIRECT(R$1&"!K7:K300"),SMALL(IF(INDIRECT(R$1&"!B7:B300")=OFFSET(L$3,INT((ROWS($4:39)-1)/5)*5+1,),ROW(INDIRECT("1:"&ROWS(INDIRECT(R$1&"!B7:B300"))))),MOD(ROWS($4:39)-1,5)+1)),"")} -> 18 | Q39: {=IFERROR(INDEX(INDIRECT(R$1&"!L7:L300"),SMALL(IF(INDIRECT(R$1&"!B7:B300")=OFFSET(L$3,INT((ROWS($4:39)-1)/5)*5+1,),ROW(INDIRECT("1:"&ROWS(INDIRECT(R$1&"!B7:B300"))))),MOD(ROWS($4:39)-1,5)+1)),"")} -> H30 | R39: =IF(ISBLANK(L39)," ","Quantité "&" "&INDEX(INDIRECT(R$1&"!$F$7:$F$300"),MATCH(L39,INDIRECT(R$1&"!$B$7:$B$300"),0)))&" "&"Rebuts "&" "&INDEX(INDIRECT(R$1&"!$G$7:$G$300"),MATCH(L39,INDIRECT(R$1&"!$B$7:$B$300"),0)) -> Quantité 16061 Rebuts 74
D40: {=IFERROR(INDEX(INDIRECT(R$1&"!L7:L300"),SMALL(IF(INDIRECT(R$1&"!B7:B300")=OFFSET(I$3,INT((ROWS($4:40)-1)/5)*5+1,),ROW(INDIRECT("1:"&ROWS(INDIRECT(R$1&"!B7:B300"))))),MOD(ROWS($4:40)-1,5)+1)),"")} -> MURECOMP | E40: {=IFERROR(INDEX(INDIRECT(R$1&"!K7:K300"),SMALL(IF(INDIRECT(R$1&"!B7:B300")=OFFSET(I$3,INT((ROWS($4:40)-1)/5)*5+1,),ROW(INDIRECT("1:"&ROWS(INDIRECT(R$1&"!B7:B300"))))),MOD(ROWS($4:40)-1,5)+1)),"")} -> 1 | P40: {=IFERROR(INDEX(INDIRECT(R$1&"!K7:K300"),SMALL(IF(INDIRECT(R$1&"!B7:B300")=OFFSET(L$3,INT((ROWS($4:40)-1)/5)*5+1,),ROW(INDIRECT("1:"&ROWS(INDIRECT(R$1&"!B7:B300"))))),MOD(ROWS($4:40)-1,5)+1)),"")} -> 1 | Q40: {=IFERROR(INDEX(INDIRECT(R$1&"!L7:L300"),SMALL(IF(INDIRECT(R$1&"!B7:B300")=OFFSET(L$3,INT((ROWS($4:40)-1)/5)*5+1,),ROW(INDIRECT("1:"&ROWS(INDIRECT(R$1&"!B7:B300"))))),MOD(ROWS($4:40)-1,5)+1)),"")} -> MURECOMP
D41: {=IFERROR(INDEX(INDIRECT(R$1&"!L7:L300"),SMALL(IF(INDIRECT(R$1&"!B7:B300")=OFFSET(I$3,INT((ROWS($4:41)-1)/5)*5+1,),ROW(INDIRECT("1:"&ROWS(INDIRECT(R$1&"!B7:B300"))))),MOD(ROWS($4:41)-1,5)+1)),"")} | E41: {=IFERROR(INDEX(INDIRECT(R$1&"!K7:K300"),SMALL(IF(INDIRECT(R$1&"!B7:B300")=OFFSET(I$3,INT((ROWS($4:41)-1)/5)*5+1,),ROW(INDIRECT("1:"&ROWS(INDIRECT(R$1&"!B7:B300"))))),MOD(ROWS($4:41)-1,5)+1)),"")} | P41: {=IFERROR(INDEX(INDIRECT(R$1&"!K7:K300"),SMALL(IF(INDIRECT(R$1&"!B7:B300")=OFFSET(L$3,INT((ROWS($4:41)-1)/5)*5+1,),ROW(INDIRECT("1:"&ROWS(INDIRECT(R$1&"!B7:B300"))))),MOD(ROWS($4:41)-1,5)+1)),"")} | Q41: {=IFERROR(INDEX(INDIRECT(R$1&"!L7:L300"),SMALL(IF(INDIRECT(R$1&"!B7:B300")=OFFSET(L$3,INT((ROWS($4:41)-1)/5)*5+1,),ROW(INDIRECT("1:"&ROWS(INDIRECT(R$1&"!B7:B300"))))),MOD(ROWS($4:41)-1,5)+1)),"")}
D42: {=IFERROR(INDEX(INDIRECT(R$1&"!L7:L300"),SMALL(IF(INDIRECT(R$1&"!B7:B300")=OFFSET(I$3,INT((ROWS($4:42)-1)/5)*5+1,),ROW(INDIRECT("1:"&ROWS(INDIRECT(R$1&"!B7:B300"))))),MOD(ROWS($4:42)-1,5)+1)),"")} | E42: {=IFERROR(INDEX(INDIRECT(R$1&"!K7:K300"),SMALL(IF(INDIRECT(R$1&"!B7:B300")=OFFSET(I$3,INT((ROWS($4:42)-1)/5)*5+1,),ROW(INDIRECT("1:"&ROWS(INDIRECT(R$1&"!B7:B300"))))),MOD(ROWS($4:42)-1,5)+1)),"")} | P42: {=IFERROR(INDEX(INDIRECT(R$1&"!K7:K300"),SMALL(IF(INDIRECT(R$1&"!B7:B300")=OFFSET(L$3,INT((ROWS($4:42)-1)/5)*5+1,),ROW(INDIRECT("1:"&ROWS(INDIRECT(R$1&"!B7:B300"))))),MOD(ROWS($4:42)-1,5)+1)),"")} | Q42: {=IFERROR(INDEX(INDIRECT(R$1&"!L7:L300"),SMALL(IF(INDIRECT(R$1&"!B7:B300")=OFFSET(L$3,INT((ROWS($4:42)-1)/5)*5+1,),ROW(INDIRECT("1:"&ROWS(INDIRECT(R$1&"!B7:B300"))))),MOD(ROWS($4:42)-1,5)+1)),"")}
D43: {=IFERROR(INDEX(INDIRECT(R$1&"!L7:L300"),SMALL(IF(INDIRECT(R$1&"!B7:B300")=OFFSET(I$3,INT((ROWS($4:43)-1)/5)*5+1,),ROW(INDIRECT("1:"&ROWS(INDIRECT(R$1&"!B7:B300"))))),MOD(ROWS($4:43)-1,5)+1)),"")} | E43: {=IFERROR(INDEX(INDIRECT(R$1&"!K7:K300"),SMALL(IF(INDIRECT(R$1&"!B7:B300")=OFFSET(I$3,INT((ROWS($4:43)-1)/5)*5+1,),ROW(INDIRECT("1:"&ROWS(INDIRECT(R$1&"!B7:B300"))))),MOD(ROWS($4:43)-1,5)+1)),"")} | P43: {=IFERROR(INDEX(INDIRECT(R$1&"!K7:K300"),SMALL(IF(INDIRECT(R$1&"!B7:B300")=OFFSET(L$3,INT((ROWS($4:43)-1)/5)*5+1,),ROW(INDIRECT("1:"&ROWS(INDIRECT(R$1&"!B7:B300"))))),MOD(ROWS($4:43)-1,5)+1)),"")} | Q43: {=IFERROR(INDEX(INDIRECT(R$1&"!L7:L300"),SMALL(IF(INDIRECT(R$1&"!B7:B300")=OFFSET(L$3,INT((ROWS($4:43)-1)/5)*5+1,),ROW(INDIRECT("1:"&ROWS(INDIRECT(R$1&"!B7:B300"))))),MOD(ROWS($4:43)-1,5)+1)),"")}
C44: =IF(ISBLANK(I44)," ","Quantité "&" "&INDEX(INDIRECT(R$1&"!$F$7:$F$300"),MATCH(I44,INDIRECT(R$1&"!$B$7:$B$300"),0)))&" "&"Rebuts "&" "&INDEX(INDIRECT(R$1&"!$G$7:$G$300"),MATCH(I44,INDIRECT(R$1&"!$B$7:$B$300"),0)) -> Quantité 27017 Rebuts 311 | D44: {=IFERROR(INDEX(INDIRECT(R$1&"!L7:L300"),SMALL(IF(INDIRECT(R$1&"!B7:B300")=OFFSET(I$3,INT((ROWS($4:44)-1)/5)*5+1,),ROW(INDIRECT("1:"&ROWS(INDIRECT(R$1&"!B7:B300"))))),MOD(ROWS($4:44)-1,5)+1)),"")} -> A18 | E44: {=IFERROR(INDEX(INDIRECT(R$1&"!K7:K300"),SMALL(IF(INDIRECT(R$1&"!B7:B300")=OFFSET(I$3,INT((ROWS($4:44)-1)/5)*5+1,),ROW(INDIRECT("1:"&ROWS(INDIRECT(R$1&"!B7:B300"))))),MOD(ROWS($4:44)-1,5)+1)),"")} -> 32 | F44: =IF(OR(ISBLANK(I44),ISERROR(I44))," ",INDEX(INDIRECT(R$1&"!$I$6:$I$300"),MATCH(I44,INDIRECT(R$1&"!$B$6:$B$300"),0))) -> 221066 | G44: =IF(F44=(" ")," ",F44&" "&INDEX(articles!C$1:C$186&" "&articles!B$1:B$186,MATCH(F44,articles!A$1:A$186,0))) -> 221066 DEMI ECREME | H44: =IF(ISBLANK(I44)," ",INDEX(INDIRECT(R$1&"!$M$7:$M$300"),MATCH(I44,INDIRECT(R$1&"!$B$7:$B$300"),0))) -> L5 | I44: =IF(ISBLANK(I39)," ",INDEX(INDIRECT(R$1&"!$B$7:$B$300"),MATCH((I39+1),INDIRECT(R$1&"!$B$7:$B$300"),0))) -> 192498 | J44: =IF(ISBLANK(I44)," ",INDEX(INDIRECT(R$1&"!$D$2:$D$300"),MATCH(I44,INDIRECT(R$1&"!$B$2:$B$300"),0))) -> 1905191 | K44: =IF(ISBLANK(L44)," ",INDEX(INDIRECT(R$1&"!$D$7:$D$300"),MATCH(L44,INDIRECT(R$1&"!$B$7:$B$300"),0))) -> #N/A | L44: =IF(L39=" "," ",INDEX(INDIRECT(R$1&"!$B$7:$B$300"),MATCH((L39+1),INDIRECT(R$1&"!$B$7:$B$300"),0))) -> #N/A | M44: =IF(ISBLANK(L44)," ",INDEX(INDIRECT(R$1&"!$M$7:$M$300"),MATCH(L44,INDIRECT(R$1&"!$B$7:$B$300"),0))) -> #N/A | N44: =IF(O44=(" ")," ",O44&" "&INDEX(articles!C$1:C$186&" "&articles!B$1:B$186,MATCH(O44,articles!A$1:A$186,0))) | O44: =IF(OR(ISBLANK(L44),ISERROR(L44))," ",INDEX(INDIRECT(R$1&"!$I$7:$I$300"),MATCH(L44,INDIRECT(R$1&"!$B$7:$B$300"),0))) | P44: {=IFERROR(INDEX(INDIRECT(R$1&"!K7:K300"),SMALL(IF(INDIRECT(R$1&"!B7:B300")=OFFSET(L$3,INT((ROWS($4:44)-1)/5)*5+1,),ROW(INDIRECT("1:"&ROWS(INDIRECT(R$1&"!B7:B300"))))),MOD(ROWS($4:44)-1,5)+1)),"")} | Q44: {=IFERROR(INDEX(INDIRECT(R$1&"!L7:L300"),SMALL(IF(INDIRECT(R$1&"!B7:B300")=OFFSET(L$3,INT((ROWS($4:44)-1)/5)*5+1,),ROW(INDIRECT("1:"&ROWS(INDIRECT(R$1&"!B7:B300"))))),MOD(ROWS($4:44)-1,5)+1)),"")} | R44: =IF(ISBLANK(L44)," ","Quantité "&" "&INDEX(INDIRECT(R$1&"!$F$7:$F$300"),MATCH(L44,INDIRECT(R$1&"!$B$7:$B$300"),0)))&" "&"Rebuts "&" "&INDEX(INDIRECT(R$1&"!$G$7:$G$300"),MATCH(L44,INDIRECT(R$1&"!$B$7:$B$300"),0)) -> #N/A
D45: {=IFERROR(INDEX(INDIRECT(R$1&"!L7:L300"),SMALL(IF(INDIRECT(R$1&"!B7:B300")=OFFSET(I$3,INT((ROWS($4:45)-1)/5)*5+1,),ROW(INDIRECT("1:"&ROWS(INDIRECT(R$1&"!B7:B300"))))),MOD(ROWS($4:45)-1,5)+1)),"")} -> B37 | E45: {=IFERROR(INDEX(INDIRECT(R$1&"!K7:K300"),SMALL(IF(INDIRECT(R$1&"!B7:B300")=OFFSET(I$3,INT((ROWS($4:45)-1)/5)*5+1,),ROW(INDIRECT("1:"&ROWS(INDIRECT(R$1&"!B7:B300"))))),MOD(ROWS($4:45)-1,5)+1)),"")} -> 2 | P45: {=IFERROR(INDEX(INDIRECT(R$1&"!K7:K300"),SMALL(IF(INDIRECT(R$1&"!B7:B300")=OFFSET(L$3,INT((ROWS($4:45)-1)/5)*5+1,),ROW(INDIRECT("1:"&ROWS(INDIRECT(R$1&"!B7:B300"))))),MOD(ROWS($4:45)-1,5)+1)),"")} | Q45: {=IFERROR(INDEX(INDIRECT(R$1&"!L7:L300"),SMALL(IF(INDIRECT(R$1&"!B7:B300")=OFFSET(L$3,INT((ROWS($4:45)-1)/5)*5+1,),ROW(INDIRECT("1:"&ROWS(INDIRECT(R$1&"!B7:B300"))))),MOD(ROWS($4:45)-1,5)+1)),"")}
D46: {=IFERROR(INDEX(INDIRECT(R$1&"!L7:L300"),SMALL(IF(INDIRECT(R$1&"!B7:B300")=OFFSET(I$3,INT((ROWS($4:46)-1)/5)*5+1,),ROW(INDIRECT("1:"&ROWS(INDIRECT(R$1&"!B7:B300"))))),MOD(ROWS($4:46)-1,5)+1)),"")} -> MURECOMP | E46: {=IFERROR(INDEX(INDIRECT(R$1&"!K7:K300"),SMALL(IF(INDIRECT(R$1&"!B7:B300")=OFFSET(I$3,INT((ROWS($4:46)-1)/5)*5+1,),ROW(INDIRECT("1:"&ROWS(INDIRECT(R$1&"!B7:B300"))))),MOD(ROWS($4:46)-1,5)+1)),"")} -> 1 | P46: {=IFERROR(INDEX(INDIRECT(R$1&"!K7:K300"),SMALL(IF(INDIRECT(R$1&"!B7:B300")=OFFSET(L$3,INT((ROWS($4:46)-1)/5)*5+1,),ROW(INDIRECT("1:"&ROWS(INDIRECT(R$1&"!B7:B300"))))),MOD(ROWS($4:46)-1,5)+1)),"")} | Q46: {=IFERROR(INDEX(INDIRECT(R$1&"!L7:L300"),SMALL(IF(INDIRECT(R$1&"!B7:B300")=OFFSET(L$3,INT((ROWS($4:46)-1)/5)*5+1,),ROW(INDIRECT("1:"&ROWS(INDIRECT(R$1&"!B7:B300"))))),MOD(ROWS($4:46)-1,5)+1)),"")}
D47: {=IFERROR(INDEX(INDIRECT(R$1&"!L7:L300"),SMALL(IF(INDIRECT(R$1&"!B7:B300")=OFFSET(I$3,INT((ROWS($4:47)-1)/5)*5+1,),ROW(INDIRECT("1:"&ROWS(INDIRECT(R$1&"!B7:B300"))))),MOD(ROWS($4:47)-1,5)+1)),"")} | E47: {=IFERROR(INDEX(INDIRECT(R$1&"!K7:K300"),SMALL(IF(INDIRECT(R$1&"!B7:B300")=OFFSET(I$3,INT((ROWS($4:47)-1)/5)*5+1,),ROW(INDIRECT("1:"&ROWS(INDIRECT(R$1&"!B7:B300"))))),MOD(ROWS($4:47)-1,5)+1)),"")} | P47: {=IFERROR(INDEX(INDIRECT(R$1&"!K7:K300"),SMALL(IF(INDIRECT(R$1&"!B7:B300")=OFFSET(L$3,INT((ROWS($4:47)-1)/5)*5+1,),ROW(INDIRECT("1:"&ROWS(INDIRECT(R$1&"!B7:B300"))))),MOD(ROWS($4:47)-1,5)+1)),"")} | Q47: {=IFERROR(INDEX(INDIRECT(R$1&"!L7:L300"),SMALL(IF(INDIRECT(R$1&"!B7:B300")=OFFSET(L$3,INT((ROWS($4:47)-1)/5)*5+1,),ROW(INDIRECT("1:"&ROWS(INDIRECT(R$1&"!B7:B300"))))),MOD(ROWS($4:47)-1,5)+1)),"")}
D48: {=IFERROR(INDEX(INDIRECT(R$1&"!L7:L300"),SMALL(IF(INDIRECT(R$1&"!B7:B300")=OFFSET(I$3,INT((ROWS($4:48)-1)/5)*5+1,),ROW(INDIRECT("1:"&ROWS(INDIRECT(R$1&"!B7:B300"))))),MOD(ROWS($4:48)-1,5)+1)),"")} | E48: {=IFERROR(INDEX(INDIRECT(R$1&"!K7:K300"),SMALL(IF(INDIRECT(R$1&"!B7:B300")=OFFSET(I$3,INT((ROWS($4:48)-1)/5)*5+1,),ROW(INDIRECT("1:"&ROWS(INDIRECT(R$1&"!B7:B300"))))),MOD(ROWS($4:48)-1,5)+1)),"")} | P48: {=IFERROR(INDEX(INDIRECT(R$1&"!K7:K300"),SMALL(IF(INDIRECT(R$1&"!B7:B300")=OFFSET(L$3,INT((ROWS($4:48)-1)/5)*5+1,),ROW(INDIRECT("1:"&ROWS(INDIRECT(R$1&"!B7:B300"))))),MOD(ROWS($4:48)-1,5)+1)),"")} | Q48: {=IFERROR(INDEX(INDIRECT(R$1&"!L7:L300"),SMALL(IF(INDIRECT(R$1&"!B7:B300")=OFFSET(L$3,INT((ROWS($4:48)-1)/5)*5+1,),ROW(INDIRECT("1:"&ROWS(INDIRECT(R$1&"!B7:B300"))))),MOD(ROWS($4:48)-1,5)+1)),"")}
C49: =IF(ISBLANK(I49)," ","Quantité "&" "&INDEX(INDIRECT(R$1&"!$F$7:$F$300"),MATCH(I49,INDIRECT(R$1&"!$B$7:$B$300"),0)))&" "&"Rebuts "&" "&INDEX(INDIRECT(R$1&"!$G$7:$G$300"),MATCH(I49,INDIRECT(R$1&"!$B$7:$B$300"),0)) -> Quantité 54225 Rebuts 872 | D49: {=IFERROR(INDEX(INDIRECT(R$1&"!L7:L300"),SMALL(IF(INDIRECT(R$1&"!B7:B300")=OFFSET(I$3,INT((ROWS($4:49)-1)/5)*5+1,),ROW(INDIRECT("1:"&ROWS(INDIRECT(R$1&"!B7:B300"))))),MOD(ROWS($4:49)-1,5)+1)),"")} -> F26 | E49: {=IFERROR(INDEX(INDIRECT(R$1&"!K7:K300"),SMALL(IF(INDIRECT(R$1&"!B7:B300")=OFFSET(I$3,INT((ROWS($4:49)-1)/5)*5+1,),ROW(INDIRECT("1:"&ROWS(INDIRECT(R$1&"!B7:B300"))))),MOD(ROWS($4:49)-1,5)+1)),"")} -> 32 | F49: =IF(OR(ISBLANK(I49),ISERROR(I49))," ",INDEX(INDIRECT(R$1&"!$I$6:$I$300"),MATCH(I49,INDIRECT(R$1&"!$B$6:$B$300"),0))) -> 201320 | G49: =IF(F49=(" ")," ",F49&" "&INDEX(articles!C$1:C$186&" "&articles!B$1:B$186,MATCH(F49,articles!A$1:A$186,0))) -> 201320 DEMI ECREME | H49: =IF(ISBLANK(I49)," ",INDEX(INDIRECT(R$1&"!$M$7:$M$300"),MATCH(I49,INDIRECT(R$1&"!$B$7:$B$300"),0))) -> L1 | I49: =IF(ISBLANK(I44)," ",INDEX(INDIRECT(R$1&"!$B$7:$B$300"),MATCH((I44+1),INDIRECT(R$1&"!$B$7:$B$300"),0))) -> 192499 | J49: =IF(ISBLANK(I49)," ",INDEX(INDIRECT(R$1&"!$D$2:$D$300"),MATCH(I49,INDIRECT(R$1&"!$B$2:$B$300"),0))) -> 1905192 | K49: =IF(ISBLANK(L49)," ",INDEX(INDIRECT(R$1&"!$D$7:$D$300"),MATCH(L49,INDIRECT(R$1&"!$B$7:$B$300"),0))) -> #N/A | L49: =IF(L44=" "," ",INDEX(INDIRECT(R$1&"!$B$7:$B$300"),MATCH((L44+1),INDIRECT(R$1&"!$B$7:$B$300"),0))) -> #N/A | M49: =IF(ISBLANK(L49)," ",INDEX(INDIRECT(R$1&"!$M$7:$M$300"),MATCH(L49,INDIRECT(R$1&"!$B$7:$B$300"),0))) -> #N/A | N49: =IF(O49=(" ")," ",O49&" "&INDEX(articles!C$1:C$186&" "&articles!B$1:B$186,MATCH(O49,articles!A$1:A$186,0))) | O49: =IF(OR(ISBLANK(L49),ISERROR(L49))," ",INDEX(INDIRECT(R$1&"!$I$7:$I$300"),MATCH(L49,INDIRECT(R$1&"!$B$7:$B$300"),0))) | P49: {=IFERROR(INDEX(INDIRECT(R$1&"!K7:K300"),SMALL(IF(INDIRECT(R$1&"!B7:B300")=OFFSET(L$3,INT((ROWS($4:49)-1)/5)*5+1,),ROW(INDIRECT("1:"&ROWS(INDIRECT(R$1&"!B7:B300"))))),MOD(ROWS($4:49)-1,5)+1)),"")} | Q49: {=IFERROR(INDEX(INDIRECT(R$1&"!L7:L300"),SMALL(IF(INDIRECT(R$1&"!B7:B300")=OFFSET(L$3,INT((ROWS($4:49)-1)/5)*5+1,),ROW(INDIRECT("1:"&ROWS(INDIRECT(R$1&"!B7:B300"))))),MOD(ROWS($4:49)-1,5)+1)),"")} | R49: =IF(ISBLANK(L49)," ","Quantité "&" "&INDEX(INDIRECT(R$1&"!$F$7:$F$300"),MATCH(L49,INDIRECT(R$1&"!$B$7:$B$300"),0)))&" "&"Rebuts "&" "&INDEX(INDIRECT(R$1&"!$G$7:$G$300"),MATCH(L49,INDIRECT(R$1&"!$B$7:$B$300"),0)) -> #N/A
D50: {=IFERROR(INDEX(INDIRECT(R$1&"!L7:L300"),SMALL(IF(INDIRECT(R$1&"!B7:B300")=OFFSET(I$3,INT((ROWS($4:50)-1)/5)*5+1,),ROW(INDIRECT("1:"&ROWS(INDIRECT(R$1&"!B7:B300"))))),MOD(ROWS($4:50)-1,5)+1)),"")} -> E05 | E50: {=IFERROR(INDEX(INDIRECT(R$1&"!K7:K300"),SMALL(IF(INDIRECT(R$1&"!B7:B300")=OFFSET(I$3,INT((ROWS($4:50)-1)/5)*5+1,),ROW(INDIRECT("1:"&ROWS(INDIRECT(R$1&"!B7:B300"))))),MOD(ROWS($4:50)-1,5)+1)),"")} -> 29 | P50: {=IFERROR(INDEX(INDIRECT(R$1&"!K7:K300"),SMALL(IF(INDIRECT(R$1&"!B7:B300")=OFFSET(L$3,INT((ROWS($4:50)-1)/5)*5+1,),ROW(INDIRECT("1:"&ROWS(INDIRECT(R$1&"!B7:B300"))))),MOD(ROWS($4:50)-1,5)+1)),"")} | Q50: {=IFERROR(INDEX(INDIRECT(R$1&"!L7:L300"),SMALL(IF(INDIRECT(R$1&"!B7:B300")=OFFSET(L$3,INT((ROWS($4:50)-1)/5)*5+1,),ROW(INDIRECT("1:"&ROWS(INDIRECT(R$1&"!B7:B300"))))),MOD(ROWS($4:50)-1,5)+1)),"")}
D51: {=IFERROR(INDEX(INDIRECT(R$1&"!L7:L300"),SMALL(IF(INDIRECT(R$1&"!B7:B300")=OFFSET(I$3,INT((ROWS($4:51)-1)/5)*5+1,),ROW(INDIRECT("1:"&ROWS(INDIRECT(R$1&"!B7:B300"))))),MOD(ROWS($4:51)-1,5)+1)),"")} -> MURECOMP | E51: {=IFERROR(INDEX(INDIRECT(R$1&"!K7:K300"),SMALL(IF(INDIRECT(R$1&"!B7:B300")=OFFSET(I$3,INT((ROWS($4:51)-1)/5)*5+1,),ROW(INDIRECT("1:"&ROWS(INDIRECT(R$1&"!B7:B300"))))),MOD(ROWS($4:51)-1,5)+1)),"")} -> 1 | P51: {=IFERROR(INDEX(INDIRECT(R$1&"!K7:K300"),SMALL(IF(INDIRECT(R$1&"!B7:B300")=OFFSET(L$3,INT((ROWS($4:51)-1)/5)*5+1,),ROW(INDIRECT("1:"&ROWS(INDIRECT(R$1&"!B7:B300"))))),MOD(ROWS($4:51)-1,5)+1)),"")} | Q51: {=IFERROR(INDEX(INDIRECT(R$1&"!L7:L300"),SMALL(IF(INDIRECT(R$1&"!B7:B300")=OFFSET(L$3,INT((ROWS($4:51)-1)/5)*5+1,),ROW(INDIRECT("1:"&ROWS(INDIRECT(R$1&"!B7:B300"))))),MOD(ROWS($4:51)-1,5)+1)),"")}
D52: {=IFERROR(INDEX(INDIRECT(R$1&"!L7:L300"),SMALL(IF(INDIRECT(R$1&"!B7:B300")=OFFSET(I$3,INT((ROWS($4:52)-1)/5)*5+1,),ROW(INDIRECT("1:"&ROWS(INDIRECT(R$1&"!B7:B300"))))),MOD(ROWS($4:52)-1,5)+1)),"")} | E52: {=IFERROR(INDEX(INDIRECT(R$1&"!K7:K300"),SMALL(IF(INDIRECT(R$1&"!B7:B300")=OFFSET(I$3,INT((ROWS($4:52)-1)/5)*5+1,),ROW(INDIRECT("1:"&ROWS(INDIRECT(R$1&"!B7:B300"))))),MOD(ROWS($4:52)-1,5)+1)),"")} | P52: {=IFERROR(INDEX(INDIRECT(R$1&"!K7:K300"),SMALL(IF(INDIRECT(R$1&"!B7:B300")=OFFSET(L$3,INT((ROWS($4:52)-1)/5)*5+1,),ROW(INDIRECT("1:"&ROWS(INDIRECT(R$1&"!B7:B300"))))),MOD(ROWS($4:52)-1,5)+1)),"")} | Q52: {=IFERROR(INDEX(INDIRECT(R$1&"!L7:L300"),SMALL(IF(INDIRECT(R$1&"!B7:B300")=OFFSET(L$3,INT((ROWS($4:52)-1)/5)*5+1,),ROW(INDIRECT("1:"&ROWS(INDIRECT(R$1&"!B7:B300"))))),MOD(ROWS($4:52)-1,5)+1)),"")}
D53: {=IFERROR(INDEX(INDIRECT(R$1&"!L7:L300"),SMALL(IF(INDIRECT(R$1&"!B7:B300")=OFFSET(I$3,INT((ROWS($4:53)-1)/5)*5+1,),ROW(INDIRECT("1:"&ROWS(INDIRECT(R$1&"!B7:B300"))))),MOD(ROWS($4:53)-1,5)+1)),"")} | E53: {=IFERROR(INDEX(INDIRECT(R$1&"!K7:K300"),SMALL(IF(INDIRECT(R$1&"!B7:B300")=OFFSET(I$3,INT((ROWS($4:53)-1)/5)*5+1,),ROW(INDIRECT("1:"&ROWS(INDIRECT(R$1&"!B7:B300"))))),MOD(ROWS($4:53)-1,5)+1)),"")} | P53: {=IFERROR(INDEX(INDIRECT(R$1&"!K7:K300"),SMALL(IF(INDIRECT(R$1&"!B7:B300")=OFFSET(L$3,INT((ROWS($4:53)-1)/5)*5+1,),ROW(INDIRECT("1:"&ROWS(INDIRECT(R$1&"!B7:B300"))))),MOD(ROWS($4:53)-1,5)+1)),"")} | Q53: {=IFERROR(INDEX(INDIRECT(R$1&"!L7:L300"),SMALL(IF(INDIRECT(R$1&"!B7:B300")=OFFSET(L$3,INT((ROWS($4:53)-1)/5)*5+1,),ROW(INDIRECT("1:"&ROWS(INDIRECT(R$1&"!B7:B300"))))),MOD(ROWS($4:53)-1,5)+1)),"")}
C54: =IF(ISBLANK(I54)," ","Quantité "&" "&INDEX(INDIRECT(R$1&"!$F$7:$F$300"),MATCH(I54,INDIRECT(R$1&"!$B$7:$B$300"),0)))&" "&"Rebuts "&" "&INDEX(INDIRECT(R$1&"!$G$7:$G$300"),MATCH(I54,INDIRECT(R$1&"!$B$7:$B$300"),0)) -> Quantité 23689 Rebuts 506 | D54: {=IFERROR(INDEX(INDIRECT(R$1&"!L7:L300"),SMALL(IF(INDIRECT(R$1&"!B7:B300")=OFFSET(I$3,INT((ROWS($4:54)-1)/5)*5+1,),ROW(INDIRECT("1:"&ROWS(INDIRECT(R$1&"!B7:B300"))))),MOD(ROWS($4:54)-1,5)+1)),"")} -> G09 | E54: {=IFERROR(INDEX(INDIRECT(R$1&"!K7:K300"),SMALL(IF(INDIRECT(R$1&"!B7:B300")=OFFSET(I$3,INT((ROWS($4:54)-1)/5)*5+1,),ROW(INDIRECT("1:"&ROWS(INDIRECT(R$1&"!B7:B300"))))),MOD(ROWS($4:54)-1,5)+1)),"")} -> 21 | F54: =IF(OR(ISBLANK(I54),ISERROR(I54))," ",INDEX(INDIRECT(R$1&"!$I$6:$I$300"),MATCH(I54,INDIRECT(R$1&"!$B$6:$B$300"),0))) -> 200349 | G54: =IF(F54=(" ")," ",F54&" "&INDEX(articles!C$1:C$186&" "&articles!B$1:B$186,MATCH(F54,articles!A$1:A$186,0))) -> 200349 ENTIER | H54: =IF(ISBLANK(I54)," ",INDEX(INDIRECT(R$1&"!$M$7:$M$300"),MATCH(I54,INDIRECT(R$1&"!$B$7:$B$300"),0))) -> L4 | I54: =IF(ISBLANK(I49)," ",INDEX(INDIRECT(R$1&"!$B$7:$B$300"),MATCH((I49+1),INDIRECT(R$1&"!$B$7:$B$300"),0))) -> 192500 | J54: =IF(ISBLANK(I54)," ",INDEX(INDIRECT(R$1&"!$D$2:$D$300"),MATCH(I54,INDIRECT(R$1&"!$B$2:$B$300"),0))) -> 1905193 | K54: =IF(ISBLANK(L54)," ",INDEX(INDIRECT(R$1&"!$D$7:$D$300"),MATCH(L54,INDIRECT(R$1&"!$B$7:$B$300"),0))) -> #N/A | L54: =IF(L49=" "," ",INDEX(INDIRECT(R$1&"!$B$7:$B$300"),MATCH((L49+1),INDIRECT(R$1&"!$B$7:$B$300"),0))) -> #N/A | M54: =IF(ISBLANK(L54)," ",INDEX(INDIRECT(R$1&"!$M$7:$M$300"),MATCH(L54,INDIRECT(R$1&"!$B$7:$B$300"),0))) -> #N/A | N54: =IF(O54=(" ")," ",O54&" "&INDEX(articles!C$1:C$186&" "&articles!B$1:B$186,MATCH(O54,articles!A$1:A$186,0))) | O54: =IF(OR(ISBLANK(L54),ISERROR(L54))," ",INDEX(INDIRECT(R$1&"!$I$7:$I$300"),MATCH(L54,INDIRECT(R$1&"!$B$7:$B$300"),0))) | P54: {=IFERROR(INDEX(INDIRECT(R$1&"!K7:K300"),SMALL(IF(INDIRECT(R$1&"!B7:B300")=OFFSET(L$3,INT((ROWS($4:54)-1)/5)*5+1,),ROW(INDIRECT("1:"&ROWS(INDIRECT(R$1&"!B7:B300"))))),MOD(ROWS($4:54)-1,5)+1)),"")} | Q54: {=IFERROR(INDEX(INDIRECT(R$1&"!L7:L300"),SMALL(IF(INDIRECT(R$1&"!B7:B300")=OFFSET(L$3,INT((ROWS($4:54)-1)/5)*5+1,),ROW(INDIRECT("1:"&ROWS(INDIRECT(R$1&"!B7:B300"))))),MOD(ROWS($4:54)-1,5)+1)),"")} | R54: =IF(ISBLANK(L54)," ","Quantité "&" "&INDEX(INDIRECT(R$1&"!$F$7:$F$300"),MATCH(L54,INDIRECT(R$1&"!$B$7:$B$300"),0)))&" "&"Rebuts "&" "&INDEX(INDIRECT(R$1&"!$G$7:$G$300"),MATCH(L54,INDIRECT(R$1&"!$B$7:$B$300"),0)) -> #N/A
D55: {=IFERROR(INDEX(INDIRECT(R$1&"!L7:L300"),SMALL(IF(INDIRECT(R$1&"!B7:B300")=OFFSET(I$3,INT((ROWS($4:55)-1)/5)*5+1,),ROW(INDIRECT("1:"&ROWS(INDIRECT(R$1&"!B7:B300"))))),MOD(ROWS($4:55)-1,5)+1)),"")} -> MURECOMP | E55: {=IFERROR(INDEX(INDIRECT(R$1&"!K7:K300"),SMALL(IF(INDIRECT(R$1&"!B7:B300")=OFFSET(I$3,INT((ROWS($4:55)-1)/5)*5+1,),ROW(INDIRECT("1:"&ROWS(INDIRECT(R$1&"!B7:B300"))))),MOD(ROWS($4:55)-1,5)+1)),"")} -> 1 | P55: {=IFERROR(INDEX(INDIRECT(R$1&"!K7:K300"),SMALL(IF(INDIRECT(R$1&"!B7:B300")=OFFSET(L$3,INT((ROWS($4:55)-1)/5)*5+1,),ROW(INDIRECT("1:"&ROWS(INDIRECT(R$1&"!B7:B300"))))),MOD(ROWS($4:55)-1,5)+1)),"")} | Q55: {=IFERROR(INDEX(INDIRECT(R$1&"!L7:L300"),SMALL(IF(INDIRECT(R$1&"!B7:B300")=OFFSET(L$3,INT((ROWS($4:55)-1)/5)*5+1,),ROW(INDIRECT("1:"&ROWS(INDIRECT(R$1&"!B7:B300"))))),MOD(ROWS($4:55)-1,5)+1)),"")}
D56: {=IFERROR(INDEX(INDIRECT(R$1&"!L7:L300"),SMALL(IF(INDIRECT(R$1&"!B7:B300")=OFFSET(I$3,INT((ROWS($4:56)-1)/5)*5+1,),ROW(INDIRECT("1:"&ROWS(INDIRECT(R$1&"!B7:B300"))))),MOD(ROWS($4:56)-1,5)+1)),"")} | E56: {=IFERROR(INDEX(INDIRECT(R$1&"!K7:K300"),SMALL(IF(INDIRECT(R$1&"!B7:B300")=OFFSET(I$3,INT((ROWS($4:56)-1)/5)*5+1,),ROW(INDIRECT("1:"&ROWS(INDIRECT(R$1&"!B7:B300"))))),MOD(ROWS($4:56)-1,5)+1)),"")} | P56: {=IFERROR(INDEX(INDIRECT(R$1&"!K7:K300"),SMALL(IF(INDIRECT(R$1&"!B7:B300")=OFFSET(L$3,INT((ROWS($4:56)-1)/5)*5+1,),ROW(INDIRECT("1:"&ROWS(INDIRECT(R$1&"!B7:B300"))))),MOD(ROWS($4:56)-1,5)+1)),"")} | Q56: {=IFERROR(INDEX(INDIRECT(R$1&"!L7:L300"),SMALL(IF(INDIRECT(R$1&"!B7:B300")=OFFSET(L$3,INT((ROWS($4:56)-1)/5)*5+1,),ROW(INDIRECT("1:"&ROWS(INDIRECT(R$1&"!B7:B300"))))),MOD(ROWS($4:56)-1,5)+1)),"")}
D57: {=IFERROR(INDEX(INDIRECT(R$1&"!L7:L300"),SMALL(IF(INDIRECT(R$1&"!B7:B300")=OFFSET(I$3,INT((ROWS($4:57)-1)/5)*5+1,),ROW(INDIRECT("1:"&ROWS(INDIRECT(R$1&"!B7:B300"))))),MOD(ROWS($4:57)-1,5)+1)),"")} | E57: {=IFERROR(INDEX(INDIRECT(R$1&"!K7:K300"),SMALL(IF(INDIRECT(R$1&"!B7:B300")=OFFSET(I$3,INT((ROWS($4:57)-1)/5)*5+1,),ROW(INDIRECT("1:"&ROWS(INDIRECT(R$1&"!B7:B300"))))),MOD(ROWS($4:57)-1,5)+1)),"")} | P57: {=IFERROR(INDEX(INDIRECT(R$1&"!K7:K300"),SMALL(IF(INDIRECT(R$1&"!B7:B300")=OFFSET(L$3,INT((ROWS($4:57)-1)/5)*5+1,),ROW(INDIRECT("1:"&ROWS(INDIRECT(R$1&"!B7:B300"))))),MOD(ROWS($4:57)-1,5)+1)),"")} | Q57: {=IFERROR(INDEX(INDIRECT(R$1&"!L7:L300"),SMALL(IF(INDIRECT(R$1&"!B7:B300")=OFFSET(L$3,INT((ROWS($4:57)-1)/5)*5+1,),ROW(INDIRECT("1:"&ROWS(INDIRECT(R$1&"!B7:B300"))))),MOD(ROWS($4:57)-1,5)+1)),"")}
D58: {=IFERROR(INDEX(INDIRECT(R$1&"!L7:L300"),SMALL(IF(INDIRECT(R$1&"!B7:B300")=OFFSET(I$3,INT((ROWS($4:58)-1)/5)*5+1,),ROW(INDIRECT("1:"&ROWS(INDIRECT(R$1&"!B7:B300"))))),MOD(ROWS($4:58)-1,5)+1)),"")} | E58: {=IFERROR(INDEX(INDIRECT(R$1&"!K7:K300"),SMALL(IF(INDIRECT(R$1&"!B7:B300")=OFFSET(I$3,INT((ROWS($4:58)-1)/5)*5+1,),ROW(INDIRECT("1:"&ROWS(INDIRECT(R$1&"!B7:B300"))))),MOD(ROWS($4:58)-1,5)+1)),"")} | P58: {=IFERROR(INDEX(INDIRECT(R$1&"!K7:K300"),SMALL(IF(INDIRECT(R$1&"!B7:B300")=OFFSET(L$3,INT((ROWS($4:58)-1)/5)*5+1,),ROW(INDIRECT("1:"&ROWS(INDIRECT(R$1&"!B7:B300"))))),MOD(ROWS($4:58)-1,5)+1)),"")} | Q58: {=IFERROR(INDEX(INDIRECT(R$1&"!L7:L300"),SMALL(IF(INDIRECT(R$1&"!B7:B300")=OFFSET(L$3,INT((ROWS($4:58)-1)/5)*5+1,),ROW(INDIRECT("1:"&ROWS(INDIRECT(R$1&"!B7:B300"))))),MOD(ROWS($4:58)-1,5)+1)),"")}
C59: =IF(ISBLANK(I59)," ","Quantité "&" "&INDEX(INDIRECT(R$1&"!$F$7:$F$300"),MATCH(I59,INDIRECT(R$1&"!$B$7:$B$300"),0)))&" "&"Rebuts "&" "&INDEX(INDIRECT(R$1&"!$G$7:$G$300"),MATCH(I59,INDIRECT(R$1&"!$B$7:$B$300"),0)) -> Quantité 28362 Rebuts 494 | D59: {=IFERROR(INDEX(INDIRECT(R$1&"!L7:L300"),SMALL(IF(INDIRECT(R$1&"!B7:B300")=OFFSET(I$3,INT((ROWS($4:59)-1)/5)*5+1,),ROW(INDIRECT("1:"&ROWS(INDIRECT(R$1&"!B7:B300"))))),MOD(ROWS($4:59)-1,5)+1)),"")} -> C02 | E59: {=IFERROR(INDEX(INDIRECT(R$1&"!K7:K300"),SMALL(IF(INDIRECT(R$1&"!B7:B300")=OFFSET(I$3,INT((ROWS($4:59)-1)/5)*5+1,),ROW(INDIRECT("1:"&ROWS(INDIRECT(R$1&"!B7:B300"))))),MOD(ROWS($4:59)-1,5)+1)),"")} -> 12 | F59: =IF(OR(ISBLANK(I59),ISERROR(I59))," ",INDEX(INDIRECT(R$1&"!$I$6:$I$300"),MATCH(I59,INDIRECT(R$1&"!$B$6:$B$300"),0))) -> 220173 | G59: =IF(F59=(" ")," ",F59&" "&INDEX(articles!C$1:C$186&" "&articles!B$1:B$186,MATCH(F59,articles!A$1:A$186,0))) -> 220173 ENTIER | H59: =IF(ISBLANK(I59)," ",INDEX(INDIRECT(R$1&"!$M$7:$M$300"),MATCH(I59,INDIRECT(R$1&"!$B$7:$B$300"),0))) -> L5 | I59: =IF(ISBLANK(I54)," ",INDEX(INDIRECT(R$1&"!$B$7:$B$300"),MATCH((I54+1),INDIRECT(R$1&"!$B$7:$B$300"),0))) -> 192501 | J59: =IF(ISBLANK(I59)," ",INDEX(INDIRECT(R$1&"!$D$2:$D$300"),MATCH(I59,INDIRECT(R$1&"!$B$2:$B$300"),0))) -> 1905194 | K59: =IF(ISBLANK(L59)," ",INDEX(INDIRECT(R$1&"!$D$7:$D$300"),MATCH(L59,INDIRECT(R$1&"!$B$7:$B$300"),0))) -> #N/A | L59: =IF(L54=" "," ",INDEX(INDIRECT(R$1&"!$B$7:$B$300"),MATCH((L54+1),INDIRECT(R$1&"!$B$7:$B$300"),0))) -> #N/A | M59: =IF(ISBLANK(L59)," ",INDEX(INDIRECT(R$1&"!$M$7:$M$300"),MATCH(L59,INDIRECT(R$1&"!$B$7:$B$300"),0))) -> #N/A | N59: =IF(O59=(" ")," ",O59&" "&INDEX(articles!C$1:C$186&" "&articles!B$1:B$186,MATCH(O59,articles!A$1:A$186,0))) | O59: =IF(OR(ISBLANK(L59),ISERROR(L59))," ",INDEX(INDIRECT(R$1&"!$I$7:$I$300"),MATCH(L59,INDIRECT(R$1&"!$B$7:$B$300"),0))) | P59: {=IFERROR(INDEX(INDIRECT(R$1&"!K7:K300"),SMALL(IF(INDIRECT(R$1&"!B7:B300")=OFFSET(L$3,INT((ROWS($4:59)-1)/5)*5+1,),ROW(INDIRECT("1:"&ROWS(INDIRECT(R$1&"!B7:B300"))))),MOD(ROWS($4:59)-1,5)+1)),"")} | Q59: {=IFERROR(INDEX(INDIRECT(R$1&"!L7:L300"),SMALL(IF(INDIRECT(R$1&"!B7:B300")=OFFSET(L$3,INT((ROWS($4:59)-1)/5)*5+1,),ROW(INDIRECT("1:"&ROWS(INDIRECT(R$1&"!B7:B300"))))),MOD(ROWS($4:59)-1,5)+1)),"")} | R59: =IF(ISBLANK(L59)," ","Quantité "&" "&INDEX(INDIRECT(R$1&"!$F$7:$F$300"),MATCH(L59,INDIRECT(R$1&"!$B$7:$B$300"),0)))&" "&"Rebuts "&" "&INDEX(INDIRECT(R$1&"!$G$7:$G$300"),MATCH(L59,INDIRECT(R$1&"!$B$7:$B$300"),0)) -> #N/A
D60: {=IFERROR(INDEX(INDIRECT(R$1&"!L7:L300"),SMALL(IF(INDIRECT(R$1&"!B7:B300")=OFFSET(I$3,INT((ROWS($4:60)-1)/5)*5+1,),ROW(INDIRECT("1:"&ROWS(INDIRECT(R$1&"!B7:B300"))))),MOD(ROWS($4:60)-1,5)+1)),"")} -> F11 | E60: {=IFERROR(INDEX(INDIRECT(R$1&"!K7:K300"),SMALL(IF(INDIRECT(R$1&"!B7:B300")=OFFSET(I$3,INT((ROWS($4:60)-1)/5)*5+1,),ROW(INDIRECT("1:"&ROWS(INDIRECT(R$1&"!B7:B300"))))),MOD(ROWS($4:60)-1,5)+1)),"")} -> 64 | P60: {=IFERROR(INDEX(INDIRECT(R$1&"!K7:K300"),SMALL(IF(INDIRECT(R$1&"!B7:B300")=OFFSET(L$3,INT((ROWS($4:60)-1)/5)*5+1,),ROW(INDIRECT("1:"&ROWS(INDIRECT(R$1&"!B7:B300"))))),MOD(ROWS($4:60)-1,5)+1)),"")} | Q60: {=IFERROR(INDEX(INDIRECT(R$1&"!L7:L300"),SMALL(IF(INDIRECT(R$1&"!B7:B300")=OFFSET(L$3,INT((ROWS($4:60)-1)/5)*5+1,),ROW(INDIRECT("1:"&ROWS(INDIRECT(R$1&"!B7:B300"))))),MOD(ROWS($4:60)-1,5)+1)),"")}
D61: {=IFERROR(INDEX(INDIRECT(R$1&"!L7:L300"),SMALL(IF(INDIRECT(R$1&"!B7:B300")=OFFSET(I$3,INT((ROWS($4:61)-1)/5)*5+1,),ROW(INDIRECT("1:"&ROWS(INDIRECT(R$1&"!B7:B300"))))),MOD(ROWS($4:61)-1,5)+1)),"")} -> MURECOMP | E61: {=IFERROR(INDEX(INDIRECT(R$1&"!K7:K300"),SMALL(IF(INDIRECT(R$1&"!B7:B300")=OFFSET(I$3,INT((ROWS($4:61)-1)/5)*5+1,),ROW(INDIRECT("1:"&ROWS(INDIRECT(R$1&"!B7:B300"))))),MOD(ROWS($4:61)-1,5)+1)),"")} -> 2 | P61: {=IFERROR(INDEX(INDIRECT(R$1&"!K7:K300"),SMALL(IF(INDIRECT(R$1&"!B7:B300")=OFFSET(L$3,INT((ROWS($4:61)-1)/5)*5+1,),ROW(INDIRECT("1:"&ROWS(INDIRECT(R$1&"!B7:B300"))))),MOD(ROWS($4:61)-1,5)+1)),"")} | Q61: {=IFERROR(INDEX(INDIRECT(R$1&"!L7:L300"),SMALL(IF(INDIRECT(R$1&"!B7:B300")=OFFSET(L$3,INT((ROWS($4:61)-1)/5)*5+1,),ROW(INDIRECT("1:"&ROWS(INDIRECT(R$1&"!B7:B300"))))),MOD(ROWS($4:61)-1,5)+1)),"")}
D62: {=IFERROR(INDEX(INDIRECT(R$1&"!L7:L300"),SMALL(IF(INDIRECT(R$1&"!B7:B300")=OFFSET(I$3,INT((ROWS($4:62)-1)/5)*5+1,),ROW(INDIRECT("1:"&ROWS(INDIRECT(R$1&"!B7:B300"))))),MOD(ROWS($4:62)-1,5)+1)),"")} | E62: {=IFERROR(INDEX(INDIRECT(R$1&"!K7:K300"),SMALL(IF(INDIRECT(R$1&"!B7:B300")=OFFSET(I$3,INT((ROWS($4:62)-1)/5)*5+1,),ROW(INDIRECT("1:"&ROWS(INDIRECT(R$1&"!B7:B300"))))),MOD(ROWS($4:62)-1,5)+1)),"")} | P62: {=IFERROR(INDEX(INDIRECT(R$1&"!K7:K300"),SMALL(IF(INDIRECT(R$1&"!B7:B300")=OFFSET(L$3,INT((ROWS($4:62)-1)/5)*5+1,),ROW(INDIRECT("1:"&ROWS(INDIRECT(R$1&"!B7:B300"))))),MOD(ROWS($4:62)-1,5)+1)),"")} | Q62: {=IFERROR(INDEX(INDIRECT(R$1&"!L7:L300"),SMALL(IF(INDIRECT(R$1&"!B7:B300")=OFFSET(L$3,INT((ROWS($4:62)-1)/5)*5+1,),ROW(INDIRECT("1:"&ROWS(INDIRECT(R$1&"!B7:B300"))))),MOD(ROWS($4:62)-1,5)+1)),"")}
D63: {=IFERROR(INDEX(INDIRECT(R$1&"!L7:L300"),SMALL(IF(INDIRECT(R$1&"!B7:B300")=OFFSET(I$3,INT((ROWS($4:63)-1)/5)*5+1,),ROW(INDIRECT("1:"&ROWS(INDIRECT(R$1&"!B7:B300"))))),MOD(ROWS($4:63)-1,5)+1)),"")} | E63: {=IFERROR(INDEX(INDIRECT(R$1&"!K7:K300"),SMALL(IF(INDIRECT(R$1&"!B7:B300")=OFFSET(I$3,INT((ROWS($4:63)-1)/5)*5+1,),ROW(INDIRECT("1:"&ROWS(INDIRECT(R$1&"!B7:B300"))))),MOD(ROWS($4:63)-1,5)+1)),"")} | P63: {=IFERROR(INDEX(INDIRECT(R$1&"!K7:K300"),SMALL(IF(INDIRECT(R$1&"!B7:B300")=OFFSET(L$3,INT((ROWS($4:63)-1)/5)*5+1,),ROW(INDIRECT("1:"&ROWS(INDIRECT(R$1&"!B7:B300"))))),MOD(ROWS($4:63)-1,5)+1)),"")} | Q63: {=IFERROR(INDEX(INDIRECT(R$1&"!L7:L300"),SMALL(IF(INDIRECT(R$1&"!B7:B300")=OFFSET(L$3,INT((ROWS($4:63)-1)/5)*5+1,),ROW(INDIRECT("1:"&ROWS(INDIRECT(R$1&"!B7:B300"))))),MOD(ROWS($4:63)-1,5)+1)),"")}
C64: =IF(ISBLANK(I64)," ","Quantité "&" "&INDEX(INDIRECT(R$1&"!$F$7:$F$300"),MATCH(I64,INDIRECT(R$1&"!$B$7:$B$300"),0)))&" "&"Rebuts "&" "&INDEX(INDIRECT(R$1&"!$G$7:$G$300"),MATCH(I64,INDIRECT(R$1&"!$B$7:$B$300"),0)) -> Quantité 55455 Rebuts 141 | D64: {=IFERROR(INDEX(INDIRECT(R$1&"!L7:L300"),SMALL(IF(INDIRECT(R$1&"!B7:B300")=OFFSET(I$3,INT((ROWS($4:64)-1)/5)*5+1,),ROW(INDIRECT("1:"&ROWS(INDIRECT(R$1&"!B7:B300"))))),MOD(ROWS($4:64)-1,5)+1)),"")} -> E39 | E64: {=IFERROR(INDEX(INDIRECT(R$1&"!K7:K300"),SMALL(IF(INDIRECT(R$1&"!B7:B300")=OFFSET(I$3,INT((ROWS($4:64)-1)/5)*5+1,),ROW(INDIRECT("1:"&ROWS(INDIRECT(R$1&"!B7:B300"))))),MOD(ROWS($4:64)-1,5)+1)),"")} -> 31 | F64: =IF(OR(ISBLANK(I64),ISERROR(I64))," ",INDEX(INDIRECT(R$1&"!$I$6:$I$300"),MATCH(I64,INDIRECT(R$1&"!$B$6:$B$300"),0))) -> 201190 | G64: =IF(F64=(" ")," ",F64&" "&INDEX(articles!C$1:C$186&" "&articles!B$1:B$186,MATCH(F64,articles!A$1:A$186,0))) -> 201190 DEMI ECREME | H64: =IF(ISBLANK(I64)," ",INDEX(INDIRECT(R$1&"!$M$7:$M$300"),MATCH(I64,INDIRECT(R$1&"!$B$7:$B$300"),0))) -> L3 | I64: =IF(ISBLANK(I59)," ",INDEX(INDIRECT(R$1&"!$B$7:$B$300"),MATCH((I59+1),INDIRECT(R$1&"!$B$7:$B$300"),0))) -> 192502 | J64: =IF(ISBLANK(I64)," ",INDEX(INDIRECT(R$1&"!$D$2:$D$300"),MATCH(I64,INDIRECT(R$1&"!$B$2:$B$300"),0))) -> 1905195 | K64: =IF(ISBLANK(L64)," ",INDEX(INDIRECT(R$1&"!$D$7:$D$300"),MATCH(L64,INDIRECT(R$1&"!$B$7:$B$300"),0))) -> #N/A | L64: =IF(L59=" "," ",INDEX(INDIRECT(R$1&"!$B$7:$B$300"),MATCH((L59+1),INDIRECT(R$1&"!$B$7:$B$300"),0))) -> #N/A | M64: =IF(ISBLANK(L64)," ",INDEX(INDIRECT(R$1&"!$M$7:$M$300"),MATCH(L64,INDIRECT(R$1&"!$B$7:$B$300"),0))) -> #N/A | N64: =IF(O64=(" ")," ",O64&" "&INDEX(articles!C$1:C$186&" "&articles!B$1:B$186,MATCH(O64,articles!A$1:A$186,0))) | O64: =IF(OR(ISBLANK(L64),ISERROR(L64))," ",INDEX(INDIRECT(R$1&"!$I$7:$I$300"),MATCH(L64,INDIRECT(R$1&"!$B$7:$B$300"),0))) | P64: {=IFERROR(INDEX(INDIRECT(R$1&"!K7:K300"),SMALL(IF(INDIRECT(R$1&"!B7:B300")=OFFSET(L$3,INT((ROWS($4:64)-1)/5)*5+1,),ROW(INDIRECT("1:"&ROWS(INDIRECT(R$1&"!B7:B300"))))),MOD(ROWS($4:64)-1,5)+1)),"")} | Q64: {=IFERROR(INDEX(INDIRECT(R$1&"!L7:L300"),SMALL(IF(INDIRECT(R$1&"!B7:B300")=OFFSET(L$3,INT((ROWS($4:64)-1)/5)*5+1,),ROW(INDIRECT("1:"&ROWS(INDIRECT(R$1&"!B7:B300"))))),MOD(ROWS($4:64)-1,5)+1)),"")} | R64: =IF(ISBLANK(L64)," ","Quantité "&" "&INDEX(INDIRECT(R$1&"!$F$7:$F$300"),MATCH(L64,INDIRECT(R$1&"!$B$7:$B$300"),0)))&" "&"Rebuts "&" "&INDEX(INDIRECT(R$1&"!$G$7:$G$300"),MATCH(L64,INDIRECT(R$1&"!$B$7:$B$300"),0)) -> #N/A
D65: {=IFERROR(INDEX(INDIRECT(R$1&"!L7:L300"),SMALL(IF(INDIRECT(R$1&"!B7:B300")=OFFSET(I$3,INT((ROWS($4:65)-1)/5)*5+1,),ROW(INDIRECT("1:"&ROWS(INDIRECT(R$1&"!B7:B300"))))),MOD(ROWS($4:65)-1,5)+1)),"")} -> G39 | E65: {=IFERROR(INDEX(INDIRECT(R$1&"!K7:K300"),SMALL(IF(INDIRECT(R$1&"!B7:B300")=OFFSET(I$3,INT((ROWS($4:65)-1)/5)*5+1,),ROW(INDIRECT("1:"&ROWS(INDIRECT(R$1&"!B7:B300"))))),MOD(ROWS($4:65)-1,5)+1)),"")} -> 32 | P65: {=IFERROR(INDEX(INDIRECT(R$1&"!K7:K300"),SMALL(IF(INDIRECT(R$1&"!B7:B300")=OFFSET(L$3,INT((ROWS($4:65)-1)/5)*5+1,),ROW(INDIRECT("1:"&ROWS(INDIRECT(R$1&"!B7:B300"))))),MOD(ROWS($4:65)-1,5)+1)),"")} | Q65: {=IFERROR(INDEX(INDIRECT(R$1&"!L7:L300"),SMALL(IF(INDIRECT(R$1&"!B7:B300")=OFFSET(L$3,INT((ROWS($4:65)-1)/5)*5+1,),ROW(INDIRECT("1:"&ROWS(INDIRECT(R$1&"!B7:B300"))))),MOD(ROWS($4:65)-1,5)+1)),"")}
D66: {=IFERROR(INDEX(INDIRECT(R$1&"!L7:L300"),SMALL(IF(INDIRECT(R$1&"!B7:B300")=OFFSET(I$3,INT((ROWS($4:66)-1)/5)*5+1,),ROW(INDIRECT("1:"&ROWS(INDIRECT(R$1&"!B7:B300"))))),MOD(ROWS($4:66)-1,5)+1)),"")} -> MURECOMP | E66: {=IFERROR(INDEX(INDIRECT(R$1&"!K7:K300"),SMALL(IF(INDIRECT(R$1&"!B7:B300")=OFFSET(I$3,INT((ROWS($4:66)-1)/5)*5+1,),ROW(INDIRECT("1:"&ROWS(INDIRECT(R$1&"!B7:B300"))))),MOD(ROWS($4:66)-1,5)+1)),"")} -> 1 | P66: {=IFERROR(INDEX(INDIRECT(R$1&"!K7:K300"),SMALL(IF(INDIRECT(R$1&"!B7:B300")=OFFSET(L$3,INT((ROWS($4:66)-1)/5)*5+1,),ROW(INDIRECT("1:"&ROWS(INDIRECT(R$1&"!B7:B300"))))),MOD(ROWS($4:66)-1,5)+1)),"")} | Q66: {=IFERROR(INDEX(INDIRECT(R$1&"!L7:L300"),SMALL(IF(INDIRECT(R$1&"!B7:B300")=OFFSET(L$3,INT((ROWS($4:66)-1)/5)*5+1,),ROW(INDIRECT("1:"&ROWS(INDIRECT(R$1&"!B7:B300"))))),MOD(ROWS($4:66)-1,5)+1)),"")}
D67: {=IFERROR(INDEX(INDIRECT(R$1&"!L7:L300"),SMALL(IF(INDIRECT(R$1&"!B7:B300")=OFFSET(I$3,INT((ROWS($4:67)-1)/5)*5+1,),ROW(INDIRECT("1:"&ROWS(INDIRECT(R$1&"!B7:B300"))))),MOD(ROWS($4:67)-1,5)+1)),"")} | E67: {=IFERROR(INDEX(INDIRECT(R$1&"!K7:K300"),SMALL(IF(INDIRECT(R$1&"!B7:B300")=OFFSET(I$3,INT((ROWS($4:67)-1)/5)*5+1,),ROW(INDIRECT("1:"&ROWS(INDIRECT(R$1&"!B7:B300"))))),MOD(ROWS($4:67)-1,5)+1)),"")} | P67: {=IFERROR(INDEX(INDIRECT(R$1&"!K7:K300"),SMALL(IF(INDIRECT(R$1&"!B7:B300")=OFFSET(L$3,INT((ROWS($4:67)-1)/5)*5+1,),ROW(INDIRECT("1:"&ROWS(INDIRECT(R$1&"!B7:B300"))))),MOD(ROWS($4:67)-1,5)+1)),"")} | Q67: {=IFERROR(INDEX(INDIRECT(R$1&"!L7:L300"),SMALL(IF(INDIRECT(R$1&"!B7:B300")=OFFSET(L$3,INT((ROWS($4:67)-1)/5)*5+1,),ROW(INDIRECT("1:"&ROWS(INDIRECT(R$1&"!B7:B300"))))),MOD(ROWS($4:67)-1,5)+1)),"")}
D68: {=IFERROR(INDEX(INDIRECT(R$1&"!L7:L300"),SMALL(IF(INDIRECT(R$1&"!B7:B300")=OFFSET(I$3,INT((ROWS($4:68)-1)/5)*5+1,),ROW(INDIRECT("1:"&ROWS(INDIRECT(R$1&"!B7:B300"))))),MOD(ROWS($4:68)-1,5)+1)),"")} | E68: {=IFERROR(INDEX(INDIRECT(R$1&"!K7:K300"),SMALL(IF(INDIRECT(R$1&"!B7:B300")=OFFSET(I$3,INT((ROWS($4:68)-1)/5)*5+1,),ROW(INDIRECT("1:"&ROWS(INDIRECT(R$1&"!B7:B300"))))),MOD(ROWS($4:68)-1,5)+1)),"")} | P68: {=IFERROR(INDEX(INDIRECT(R$1&"!K7:K300"),SMALL(IF(INDIRECT(R$1&"!B7:B300")=OFFSET(L$3,INT((ROWS($4:68)-1)/5)*5+1,),ROW(INDIRECT("1:"&ROWS(INDIRECT(R$1&"!B7:B300"))))),MOD(ROWS($4:68)-1,5)+1)),"")} | Q68: {=IFERROR(INDEX(INDIRECT(R$1&"!L7:L300"),SMALL(IF(INDIRECT(R$1&"!B7:B300")=OFFSET(L$3,INT((ROWS($4:68)-1)/5)*5+1,),ROW(INDIRECT("1:"&ROWS(INDIRECT(R$1&"!B7:B300"))))),MOD(ROWS($4:68)-1,5)+1)),"")}
C69: =IF(ISBLANK(I69)," ","Quantité "&" "&INDEX(INDIRECT(R$1&"!$F$7:$F$300"),MATCH(I69,INDIRECT(R$1&"!$B$7:$B$300"),0)))&" "&"Rebuts "&" "&INDEX(INDIRECT(R$1&"!$G$7:$G$300"),MATCH(I69,INDIRECT(R$1&"!$B$7:$B$300"),0)) -> Quantité 70484 Rebuts 267 | D69: {=IFERROR(INDEX(INDIRECT(R$1&"!L7:L300"),SMALL(IF(INDIRECT(R$1&"!B7:B300")=OFFSET(I$3,INT((ROWS($4:69)-1)/5)*5+1,),ROW(INDIRECT("1:"&ROWS(INDIRECT(R$1&"!B7:B300"))))),MOD(ROWS($4:69)-1,5)+1)),"")} -> G18 | E69: {=IFERROR(INDEX(INDIRECT(R$1&"!K7:K300"),SMALL(IF(INDIRECT(R$1&"!B7:B300")=OFFSET(I$3,INT((ROWS($4:69)-1)/5)*5+1,),ROW(INDIRECT("1:"&ROWS(INDIRECT(R$1&"!B7:B300"))))),MOD(ROWS($4:69)-1,5)+1)),"")} -> 2 | F69: =IF(OR(ISBLANK(I69),ISERROR(I69))," ",INDEX(INDIRECT(R$1&"!$I$6:$I$300"),MATCH(I69,INDIRECT(R$1&"!$B$6:$B$300"),0))) -> 200268 | G69: =IF(F69=(" ")," ",F69&" "&INDEX(articles!C$1:C$186&" "&articles!B$1:B$186,MATCH(F69,articles!A$1:A$186,0))) -> 200268 ENTIER | H69: =IF(ISBLANK(I69)," ",INDEX(INDIRECT(R$1&"!$M$7:$M$300"),MATCH(I69,INDIRECT(R$1&"!$B$7:$B$300"),0))) -> L4 | I69: =IF(ISBLANK(I64)," ",INDEX(INDIRECT(R$1&"!$B$7:$B$300"),MATCH((I64+1),INDIRECT(R$1&"!$B$7:$B$300"),0))) -> 192503 | J69: =IF(ISBLANK(I69)," ",INDEX(INDIRECT(R$1&"!$D$2:$D$300"),MATCH(I69,INDIRECT(R$1&"!$B$2:$B$300"),0))) -> 1905196 | K69: =IF(ISBLANK(L69)," ",INDEX(INDIRECT(R$1&"!$D$7:$D$300"),MATCH(L69,INDIRECT(R$1&"!$B$7:$B$300"),0))) -> #N/A | L69: =IF(L64=" "," ",INDEX(INDIRECT(R$1&"!$B$7:$B$300"),MATCH((L64+1),INDIRECT(R$1&"!$B$7:$B$300"),0))) -> #N/A | M69: =IF(ISBLANK(L69)," ",INDEX(INDIRECT(R$1&"!$M$7:$M$300"),MATCH(L69,INDIRECT(R$1&"!$B$7:$B$300"),0))) -> #N/A | N69: =IF(O69=(" ")," ",O69&" "&INDEX(articles!C$1:C$186&" "&articles!B$1:B$186,MATCH(O69,articles!A$1:A$186,0))) | O69: =IF(OR(ISBLANK(L69),ISERROR(L69))," ",INDEX(INDIRECT(R$1&"!$I$7:$I$300"),MATCH(L69,INDIRECT(R$1&"!$B$7:$B$300"),0))) | P69: {=IFERROR(INDEX(INDIRECT(R$1&"!K7:K300"),SMALL(IF(INDIRECT(R$1&"!B7:B300")=OFFSET(L$3,INT((ROWS($4:69)-1)/5)*5+1,),ROW(INDIRECT("1:"&ROWS(INDIRECT(R$1&"!B7:B300"))))),MOD(ROWS($4:69)-1,5)+1)),"")} | Q69: {=IFERROR(INDEX(INDIRECT(R$1&"!L7:L300"),SMALL(IF(INDIRECT(R$1&"!B7:B300")=OFFSET(L$3,INT((ROWS($4:69)-1)/5)*5+1,),ROW(INDIRECT("1:"&ROWS(INDIRECT(R$1&"!B7:B300"))))),MOD(ROWS($4:69)-1,5)+1)),"")} | R69: =IF(ISBLANK(L69)," ","Quantité "&" "&INDEX(INDIRECT(R$1&"!$F$7:$F$300"),MATCH(L69,INDIRECT(R$1&"!$B$7:$B$300"),0)))&" "&"Rebuts "&" "&INDEX(INDIRECT(R$1&"!$G$7:$G$300"),MATCH(L69,INDIRECT(R$1&"!$B$7:$B$300"),0)) -> #N/A
D70: {=IFERROR(INDEX(INDIRECT(R$1&"!L7:L300"),SMALL(IF(INDIRECT(R$1&"!B7:B300")=OFFSET(I$3,INT((ROWS($4:70)-1)/5)*5+1,),ROW(INDIRECT("1:"&ROWS(INDIRECT(R$1&"!B7:B300"))))),MOD(ROWS($4:70)-1,5)+1)),"")} -> I09 | E70: {=IFERROR(INDEX(INDIRECT(R$1&"!K7:K300"),SMALL(IF(INDIRECT(R$1&"!B7:B300")=OFFSET(I$3,INT((ROWS($4:70)-1)/5)*5+1,),ROW(INDIRECT("1:"&ROWS(INDIRECT(R$1&"!B7:B300"))))),MOD(ROWS($4:70)-1,5)+1)),"")} -> 80 | P70: {=IFERROR(INDEX(INDIRECT(R$1&"!K7:K300"),SMALL(IF(INDIRECT(R$1&"!B7:B300")=OFFSET(L$3,INT((ROWS($4:70)-1)/5)*5+1,),ROW(INDIRECT("1:"&ROWS(INDIRECT(R$1&"!B7:B300"))))),MOD(ROWS($4:70)-1,5)+1)),"")} | Q70: {=IFERROR(INDEX(INDIRECT(R$1&"!L7:L300"),SMALL(IF(INDIRECT(R$1&"!B7:B300")=OFFSET(L$3,INT((ROWS($4:70)-1)/5)*5+1,),ROW(INDIRECT("1:"&ROWS(INDIRECT(R$1&"!B7:B300"))))),MOD(ROWS($4:70)-1,5)+1)),"")}
D71: {=IFERROR(INDEX(INDIRECT(R$1&"!L7:L300"),SMALL(IF(INDIRECT(R$1&"!B7:B300")=OFFSET(I$3,INT((ROWS($4:71)-1)/5)*5+1,),ROW(INDIRECT("1:"&ROWS(INDIRECT(R$1&"!B7:B300"))))),MOD(ROWS($4:71)-1,5)+1)),"")} -> I26 | E71: {=IFERROR(INDEX(INDIRECT(R$1&"!K7:K300"),SMALL(IF(INDIRECT(R$1&"!B7:B300")=OFFSET(I$3,INT((ROWS($4:71)-1)/5)*5+1,),ROW(INDIRECT("1:"&ROWS(INDIRECT(R$1&"!B7:B300"))))),MOD(ROWS($4:71)-1,5)+1)),"")} -> 78 | P71: {=IFERROR(INDEX(INDIRECT(R$1&"!K7:K300"),SMALL(IF(INDIRECT(R$1&"!B7:B300")=OFFSET(L$3,INT((ROWS($4:71)-1)/5)*5+1,),ROW(INDIRECT("1:"&ROWS(INDIRECT(R$1&"!B7:B300"))))),MOD(ROWS($4:71)-1,5)+1)),"")} | Q71: {=IFERROR(INDEX(INDIRECT(R$1&"!L7:L300"),SMALL(IF(INDIRECT(R$1&"!B7:B300")=OFFSET(L$3,INT((ROWS($4:71)-1)/5)*5+1,),ROW(INDIRECT("1:"&ROWS(INDIRECT(R$1&"!B7:B300"))))),MOD(ROWS($4:71)-1,5)+1)),"")}
D72: {=IFERROR(INDEX(INDIRECT(R$1&"!L7:L300"),SMALL(IF(INDIRECT(R$1&"!B7:B300")=OFFSET(I$3,INT((ROWS($4:72)-1)/5)*5+1,),ROW(INDIRECT("1:"&ROWS(INDIRECT(R$1&"!B7:B300"))))),MOD(ROWS($4:72)-1,5)+1)),"")} -> MURECOMP | E72: {=IFERROR(INDEX(INDIRECT(R$1&"!K7:K300"),SMALL(IF(INDIRECT(R$1&"!B7:B300")=OFFSET(I$3,INT((ROWS($4:72)-1)/5)*5+1,),ROW(INDIRECT("1:"&ROWS(INDIRECT(R$1&"!B7:B300"))))),MOD(ROWS($4:72)-1,5)+1)),"")} -> 2 | P72: {=IFERROR(INDEX(INDIRECT(R$1&"!K7:K300"),SMALL(IF(INDIRECT(R$1&"!B7:B300")=OFFSET(L$3,INT((ROWS($4:72)-1)/5)*5+1,),ROW(INDIRECT("1:"&ROWS(INDIRECT(R$1&"!B7:B300"))))),MOD(ROWS($4:72)-1,5)+1)),"")} | Q72: {=IFERROR(INDEX(INDIRECT(R$1&"!L7:L300"),SMALL(IF(INDIRECT(R$1&"!B7:B300")=OFFSET(L$3,INT((ROWS($4:72)-1)/5)*5+1,),ROW(INDIRECT("1:"&ROWS(INDIRECT(R$1&"!B7:B300"))))),MOD(ROWS($4:72)-1,5)+1)),"")}
D73: {=IFERROR(INDEX(INDIRECT(R$1&"!L7:L300"),SMALL(IF(INDIRECT(R$1&"!B7:B300")=OFFSET(I$3,INT((ROWS($4:73)-1)/5)*5+1,),ROW(INDIRECT("1:"&ROWS(INDIRECT(R$1&"!B7:B300"))))),MOD(ROWS($4:73)-1,5)+1)),"")} | E73: {=IFERROR(INDEX(INDIRECT(R$1&"!K7:K300"),SMALL(IF(INDIRECT(R$1&"!B7:B300")=OFFSET(I$3,INT((ROWS($4:73)-1)/5)*5+1,),ROW(INDIRECT("1:"&ROWS(INDIRECT(R$1&"!B7:B300"))))),MOD(ROWS($4:73)-1,5)+1)),"")} | P73: {=IFERROR(INDEX(INDIRECT(R$1&"!K7:K300"),SMALL(IF(INDIRECT(R$1&"!B7:B300")=OFFSET(L$3,INT((ROWS($4:73)-1)/5)*5+1,),ROW(INDIRECT("1:"&ROWS(INDIRECT(R$1&"!B7:B300"))))),MOD(ROWS($4:73)-1,5)+1)),"")} | Q73: {=IFERROR(INDEX(INDIRECT(R$1&"!L7:L300"),SMALL(IF(INDIRECT(R$1&"!B7:B300")=OFFSET(L$3,INT((ROWS($4:73)-1)/5)*5+1,),ROW(INDIRECT("1:"&ROWS(INDIRECT(R$1&"!B7:B300"))))),MOD(ROWS($4:73)-1,5)+1)),"")}
C74: =IF(ISBLANK(I74)," ","Quantité "&" "&INDEX(INDIRECT(R$1&"!$F$7:$F$300"),MATCH(I74,INDIRECT(R$1&"!$B$7:$B$300"),0)))&" "&"Rebuts "&" "&INDEX(INDIRECT(R$1&"!$G$7:$G$300"),MATCH(I74,INDIRECT(R$1&"!$B$7:$B$300"),0)) -> Quantité 26991 Rebuts 190 | D74: {=IFERROR(INDEX(INDIRECT(R$1&"!L7:L300"),SMALL(IF(INDIRECT(R$1&"!B7:B300")=OFFSET(I$3,INT((ROWS($4:74)-1)/5)*5+1,),ROW(INDIRECT("1:"&ROWS(INDIRECT(R$1&"!B7:B300"))))),MOD(ROWS($4:74)-1,5)+1)),"")} -> F05 | E74: {=IFERROR(INDEX(INDIRECT(R$1&"!K7:K300"),SMALL(IF(INDIRECT(R$1&"!B7:B300")=OFFSET(I$3,INT((ROWS($4:74)-1)/5)*5+1,),ROW(INDIRECT("1:"&ROWS(INDIRECT(R$1&"!B7:B300"))))),MOD(ROWS($4:74)-1,5)+1)),"")} -> 30 | F74: =IF(OR(ISBLANK(I74),ISERROR(I74))," ",INDEX(INDIRECT(R$1&"!$I$6:$I$300"),MATCH(I74,INDIRECT(R$1&"!$B$6:$B$300"),0))) -> 201320 | G74: =IF(F74=(" ")," ",F74&" "&INDEX(articles!C$1:C$186&" "&articles!B$1:B$186,MATCH(F74,articles!A$1:A$186,0))) -> 201320 DEMI ECREME | H74: =IF(ISBLANK(I74)," ",INDEX(INDIRECT(R$1&"!$M$7:$M$300"),MATCH(I74,INDIRECT(R$1&"!$B$7:$B$300"),0))) -> L1 | I74: =IF(ISBLANK(I69)," ",INDEX(INDIRECT(R$1&"!$B$7:$B$300"),MATCH((I69+1),INDIRECT(R$1&"!$B$7:$B$300"),0))) -> 192504 | J74: =IF(ISBLANK(I74)," ",INDEX(INDIRECT(R$1&"!$D$2:$D$300"),MATCH(I74,INDIRECT(R$1&"!$B$2:$B$300"),0))) -> 1905197 | K74: =IF(ISBLANK(L74)," ",INDEX(INDIRECT(R$1&"!$D$7:$D$300"),MATCH(L74,INDIRECT(R$1&"!$B$7:$B$300"),0))) -> #N/A | L74: =IF(L69=" "," ",INDEX(INDIRECT(R$1&"!$B$7:$B$300"),MATCH((L69+1),INDIRECT(R$1&"!$B$7:$B$300"),0))) -> #N/A | M74: =IF(ISBLANK(L74)," ",INDEX(INDIRECT(R$1&"!$M$7:$M$300"),MATCH(L74,INDIRECT(R$1&"!$B$7:$B$300"),0))) -> #N/A | N74: =IF(O74=(" ")," ",O74&" "&INDEX(articles!C$1:C$186&" "&articles!B$1:B$186,MATCH(O74,articles!A$1:A$186,0))) | O74: =IF(OR(ISBLANK(L74),ISERROR(L74))," ",INDEX(INDIRECT(R$1&"!$I$7:$I$300"),MATCH(L74,INDIRECT(R$1&"!$B$7:$B$300"),0))) | P74: {=IFERROR(INDEX(INDIRECT(R$1&"!K7:K300"),SMALL(IF(INDIRECT(R$1&"!B7:B300")=OFFSET(L$3,INT((ROWS($4:74)-1)/5)*5+1,),ROW(INDIRECT("1:"&ROWS(INDIRECT(R$1&"!B7:B300"))))),MOD(ROWS($4:74)-1,5)+1)),"")} | Q74: {=IFERROR(INDEX(INDIRECT(R$1&"!L7:L300"),SMALL(IF(INDIRECT(R$1&"!B7:B300")=OFFSET(L$3,INT((ROWS($4:74)-1)/5)*5+1,),ROW(INDIRECT("1:"&ROWS(INDIRECT(R$1&"!B7:B300"))))),MOD(ROWS($4:74)-1,5)+1)),"")} | R74: =IF(ISBLANK(L74)," ","Quantité "&" "&INDEX(INDIRECT(R$1&"!$F$7:$F$300"),MATCH(L74,INDIRECT(R$1&"!$B$7:$B$300"),0)))&" "&"Rebuts "&" "&INDEX(INDIRECT(R$1&"!$G$7:$G$300"),MATCH(L74,INDIRECT(R$1&"!$B$7:$B$300"),0)) -> #N/A
D75: {=IFERROR(INDEX(INDIRECT(R$1&"!L7:L300"),SMALL(IF(INDIRECT(R$1&"!B7:B300")=OFFSET(I$3,INT((ROWS($4:75)-1)/5)*5+1,),ROW(INDIRECT("1:"&ROWS(INDIRECT(R$1&"!B7:B300"))))),MOD(ROWS($4:75)-1,5)+1)),"")} -> MURECOMP | E75: {=IFERROR(INDEX(INDIRECT(R$1&"!K7:K300"),SMALL(IF(INDIRECT(R$1&"!B7:B300")=OFFSET(I$3,INT((ROWS($4:75)-1)/5)*5+1,),ROW(INDIRECT("1:"&ROWS(INDIRECT(R$1&"!B7:B300"))))),MOD(ROWS($4:75)-1,5)+1)),"")} -> 1 | P75: {=IFERROR(INDEX(INDIRECT(R$1&"!K7:K300"),SMALL(IF(INDIRECT(R$1&"!B7:B300")=OFFSET(L$3,INT((ROWS($4:75)-1)/5)*5+1,),ROW(INDIRECT("1:"&ROWS(INDIRECT(R$1&"!B7:B300"))))),MOD(ROWS($4:75)-1,5)+1)),"")} | Q75: {=IFERROR(INDEX(INDIRECT(R$1&"!L7:L300"),SMALL(IF(INDIRECT(R$1&"!B7:B300")=OFFSET(L$3,INT((ROWS($4:75)-1)/5)*5+1,),ROW(INDIRECT("1:"&ROWS(INDIRECT(R$1&"!B7:B300"))))),MOD(ROWS($4:75)-1,5)+1)),"")}
D76: {=IFERROR(INDEX(INDIRECT(R$1&"!L7:L300"),SMALL(IF(INDIRECT(R$1&"!B7:B300")=OFFSET(I$3,INT((ROWS($4:76)-1)/5)*5+1,),ROW(INDIRECT("1:"&ROWS(INDIRECT(R$1&"!B7:B300"))))),MOD(ROWS($4:76)-1,5)+1)),"")} | E76: {=IFERROR(INDEX(INDIRECT(R$1&"!K7:K300"),SMALL(IF(INDIRECT(R$1&"!B7:B300")=OFFSET(I$3,INT((ROWS($4:76)-1)/5)*5+1,),ROW(INDIRECT("1:"&ROWS(INDIRECT(R$1&"!B7:B300"))))),MOD(ROWS($4:76)-1,5)+1)),"")} | P76: {=IFERROR(INDEX(INDIRECT(R$1&"!K7:K300"),SMALL(IF(INDIRECT(R$1&"!B7:B300")=OFFSET(L$3,INT((ROWS($4:76)-1)/5)*5+1,),ROW(INDIRECT("1:"&ROWS(INDIRECT(R$1&"!B7:B300"))))),MOD(ROWS($4:76)-1,5)+1)),"")} | Q76: {=IFERROR(INDEX(INDIRECT(R$1&"!L7:L300"),SMALL(IF(INDIRECT(R$1&"!B7:B300")=OFFSET(L$3,INT((ROWS($4:76)-1)/5)*5+1,),ROW(INDIRECT("1:"&ROWS(INDIRECT(R$1&"!B7:B300"))))),MOD(ROWS($4:76)-1,5)+1)),"")}
D77: {=IFERROR(INDEX(INDIRECT(R$1&"!L7:L300"),SMALL(IF(INDIRECT(R$1&"!B7:B300")=OFFSET(I$3,INT((ROWS($4:77)-1)/5)*5+1,),ROW(INDIRECT("1:"&ROWS(INDIRECT(R$1&"!B7:B300"))))),MOD(ROWS($4:77)-1,5)+1)),"")} | E77: {=IFERROR(INDEX(INDIRECT(R$1&"!K7:K300"),SMALL(IF(INDIRECT(R$1&"!B7:B300")=OFFSET(I$3,INT((ROWS($4:77)-1)/5)*5+1,),ROW(INDIRECT("1:"&ROWS(INDIRECT(R$1&"!B7:B300"))))),MOD(ROWS($4:77)-1,5)+1)),"")} | P77: {=IFERROR(INDEX(INDIRECT(R$1&"!K7:K300"),SMALL(IF(INDIRECT(R$1&"!B7:B300")=OFFSET(L$3,INT((ROWS($4:77)-1)/5)*5+1,),ROW(INDIRECT("1:"&ROWS(INDIRECT(R$1&"!B7:B300"))))),MOD(ROWS($4:77)-1,5)+1)),"")} | Q77: {=IFERROR(INDEX(INDIRECT(R$1&"!L7:L300"),SMALL(IF(INDIRECT(R$1&"!B7:B300")=OFFSET(L$3,INT((ROWS($4:77)-1)/5)*5+1,),ROW(INDIRECT("1:"&ROWS(INDIRECT(R$1&"!B7:B300"))))),MOD(ROWS($4:77)-1,5)+1)),"")}
D78: {=IFERROR(INDEX(INDIRECT(R$1&"!L7:L300"),SMALL(IF(INDIRECT(R$1&"!B7:B300")=OFFSET(I$3,INT((ROWS($4:78)-1)/5)*5+1,),ROW(INDIRECT("1:"&ROWS(INDIRECT(R$1&"!B7:B300"))))),MOD(ROWS($4:78)-1,5)+1)),"")} | E78: {=IFERROR(INDEX(INDIRECT(R$1&"!K7:K300"),SMALL(IF(INDIRECT(R$1&"!B7:B300")=OFFSET(I$3,INT((ROWS($4:78)-1)/5)*5+1,),ROW(INDIRECT("1:"&ROWS(INDIRECT(R$1&"!B7:B300"))))),MOD(ROWS($4:78)-1,5)+1)),"")} | P78: {=IFERROR(INDEX(INDIRECT(R$1&"!K7:K300"),SMALL(IF(INDIRECT(R$1&"!B7:B300")=OFFSET(L$3,INT((ROWS($4:78)-1)/5)*5+1,),ROW(INDIRECT("1:"&ROWS(INDIRECT(R$1&"!B7:B300"))))),MOD(ROWS($4:78)-1,5)+1)),"")} | Q78: {=IFERROR(INDEX(INDIRECT(R$1&"!L7:L300"),SMALL(IF(INDIRECT(R$1&"!B7:B300")=OFFSET(L$3,INT((ROWS($4:78)-1)/5)*5+1,),ROW(INDIRECT("1:"&ROWS(INDIRECT(R$1&"!B7:B300"))))),MOD(ROWS($4:78)-1,5)+1)),"")}
C79: =IF(ISBLANK(I79)," ","Quantité "&" "&INDEX(INDIRECT(R$1&"!$F$7:$F$300"),MATCH(I79,INDIRECT(R$1&"!$B$7:$B$300"),0)))&" "&"Rebuts "&" "&INDEX(INDIRECT(R$1&"!$G$7:$G$300"),MATCH(I79,INDIRECT(R$1&"!$B$7:$B$300"),0)) -> Quantité 54169 Rebuts 167 | D79: {=IFERROR(INDEX(INDIRECT(R$1&"!L7:L300"),SMALL(IF(INDIRECT(R$1&"!B7:B300")=OFFSET(I$3,INT((ROWS($4:79)-1)/5)*5+1,),ROW(INDIRECT("1:"&ROWS(INDIRECT(R$1&"!B7:B300"))))),MOD(ROWS($4:79)-1,5)+1)),"")} -> E42 | E79: {=IFERROR(INDEX(INDIRECT(R$1&"!K7:K300"),SMALL(IF(INDIRECT(R$1&"!B7:B300")=OFFSET(I$3,INT((ROWS($4:79)-1)/5)*5+1,),ROW(INDIRECT("1:"&ROWS(INDIRECT(R$1&"!B7:B300"))))),MOD(ROWS($4:79)-1,5)+1)),"")} -> 30 | F79: =IF(OR(ISBLANK(I79),ISERROR(I79))," ",INDEX(INDIRECT(R$1&"!$I$6:$I$300"),MATCH(I79,INDIRECT(R$1&"!$B$6:$B$300"),0))) -> 201190 | G79: =IF(F79=(" ")," ",F79&" "&INDEX(articles!C$1:C$186&" "&articles!B$1:B$186,MATCH(F79,articles!A$1:A$186,0))) -> 201190 DEMI ECREME | H79: =IF(ISBLANK(I79)," ",INDEX(INDIRECT(R$1&"!$M$7:$M$300"),MATCH(I79,INDIRECT(R$1&"!$B$7:$B$300"),0))) -> L3 | I79: =IF(ISBLANK(I74)," ",INDEX(INDIRECT(R$1&"!$B$7:$B$300"),MATCH((I74+1),INDIRECT(R$1&"!$B$7:$B$300"),0))) -> 192505 | J79: =IF(ISBLANK(I79)," ",INDEX(INDIRECT(R$1&"!$D$2:$D$300"),MATCH(I79,INDIRECT(R$1&"!$B$2:$B$300"),0))) -> 1905198 | K79: =IF(ISBLANK(L79)," ",INDEX(INDIRECT(R$1&"!$D$7:$D$300"),MATCH(L79,INDIRECT(R$1&"!$B$7:$B$300"),0))) -> #N/A | L79: =IF(L74=" "," ",INDEX(INDIRECT(R$1&"!$B$7:$B$300"),MATCH((L74+1),INDIRECT(R$1&"!$B$7:$B$300"),0))) -> #N/A | M79: =IF(ISBLANK(L79)," ",INDEX(INDIRECT(R$1&"!$M$7:$M$300"),MATCH(L79,INDIRECT(R$1&"!$B$7:$B$300"),0))) -> #N/A | N79: =IF(O79=(" ")," ",O79&" "&INDEX(articles!C$1:C$186&" "&articles!B$1:B$186,MATCH(O79,articles!A$1:A$186,0))) | O79: =IF(OR(ISBLANK(L79),ISERROR(L79))," ",INDEX(INDIRECT(R$1&"!$I$7:$I$300"),MATCH(L79,INDIRECT(R$1&"!$B$7:$B$300"),0))) | P79: {=IFERROR(INDEX(INDIRECT(R$1&"!K7:K300"),SMALL(IF(INDIRECT(R$1&"!B7:B300")=OFFSET(L$3,INT((ROWS($4:79)-1)/5)*5+1,),ROW(INDIRECT("1:"&ROWS(INDIRECT(R$1&"!B7:B300"))))),MOD(ROWS($4:79)-1,5)+1)),"")} | Q79: {=IFERROR(INDEX(INDIRECT(R$1&"!L7:L300"),SMALL(IF(INDIRECT(R$1&"!B7:B300")=OFFSET(L$3,INT((ROWS($4:79)-1)/5)*5+1,),ROW(INDIRECT("1:"&ROWS(INDIRECT(R$1&"!B7:B300"))))),MOD(ROWS($4:79)-1,5)+1)),"")} | R79: =IF(ISBLANK(L79)," ","Quantité "&" "&INDEX(INDIRECT(R$1&"!$F$7:$F$300"),MATCH(L79,INDIRECT(R$1&"!$B$7:$B$300"),0)))&" "&"Rebuts "&" "&INDEX(INDIRECT(R$1&"!$G$7:$G$300"),MATCH(L79,INDIRECT(R$1&"!$B$7:$B$300"),0)) -> #N/A
D80: {=IFERROR(INDEX(INDIRECT(R$1&"!L7:L300"),SMALL(IF(INDIRECT(R$1&"!B7:B300")=OFFSET(I$3,INT((ROWS($4:80)-1)/5)*5+1,),ROW(INDIRECT("1:"&ROWS(INDIRECT(R$1&"!B7:B300"))))),MOD(ROWS($4:80)-1,5)+1)),"")} -> E41 | E80: {=IFERROR(INDEX(INDIRECT(R$1&"!K7:K300"),SMALL(IF(INDIRECT(R$1&"!B7:B300")=OFFSET(I$3,INT((ROWS($4:80)-1)/5)*5+1,),ROW(INDIRECT("1:"&ROWS(INDIRECT(R$1&"!B7:B300"))))),MOD(ROWS($4:80)-1,5)+1)),"")} -> 32 | P80: {=IFERROR(INDEX(INDIRECT(R$1&"!K7:K300"),SMALL(IF(INDIRECT(R$1&"!B7:B300")=OFFSET(L$3,INT((ROWS($4:80)-1)/5)*5+1,),ROW(INDIRECT("1:"&ROWS(INDIRECT(R$1&"!B7:B300"))))),MOD(ROWS($4:80)-1,5)+1)),"")} | Q80: {=IFERROR(INDEX(INDIRECT(R$1&"!L7:L300"),SMALL(IF(INDIRECT(R$1&"!B7:B300")=OFFSET(L$3,INT((ROWS($4:80)-1)/5)*5+1,),ROW(INDIRECT("1:"&ROWS(INDIRECT(R$1&"!B7:B300"))))),MOD(ROWS($4:80)-1,5)+1)),"")}
D81: {=IFERROR(INDEX(INDIRECT(R$1&"!L7:L300"),SMALL(IF(INDIRECT(R$1&"!B7:B300")=OFFSET(I$3,INT((ROWS($4:81)-1)/5)*5+1,),ROW(INDIRECT("1:"&ROWS(INDIRECT(R$1&"!B7:B300"))))),MOD(ROWS($4:81)-1,5)+1)),"")} -> MURECOMP | E81: {=IFERROR(INDEX(INDIRECT(R$1&"!K7:K300"),SMALL(IF(INDIRECT(R$1&"!B7:B300")=OFFSET(I$3,INT((ROWS($4:81)-1)/5)*5+1,),ROW(INDIRECT("1:"&ROWS(INDIRECT(R$1&"!B7:B300"))))),MOD(ROWS($4:81)-1,5)+1)),"")} -> 1 | P81: {=IFERROR(INDEX(INDIRECT(R$1&"!K7:K300"),SMALL(IF(INDIRECT(R$1&"!B7:B300")=OFFSET(L$3,INT((ROWS($4:81)-1)/5)*5+1,),ROW(INDIRECT("1:"&ROWS(INDIRECT(R$1&"!B7:B300"))))),MOD(ROWS($4:81)-1,5)+1)),"")} | Q81: {=IFERROR(INDEX(INDIRECT(R$1&"!L7:L300"),SMALL(IF(INDIRECT(R$1&"!B7:B300")=OFFSET(L$3,INT((ROWS($4:81)-1)/5)*5+1,),ROW(INDIRECT("1:"&ROWS(INDIRECT(R$1&"!B7:B300"))))),MOD(ROWS($4:81)-1,5)+1)),"")}
D82: {=IFERROR(INDEX(INDIRECT(R$1&"!L7:L300"),SMALL(IF(INDIRECT(R$1&"!B7:B300")=OFFSET(I$3,INT((ROWS($4:82)-1)/5)*5+1,),ROW(INDIRECT("1:"&ROWS(INDIRECT(R$1&"!B7:B300"))))),MOD(ROWS($4:82)-1,5)+1)),"")} | E82: {=IFERROR(INDEX(INDIRECT(R$1&"!K7:K300"),SMALL(IF(INDIRECT(R$1&"!B7:B300")=OFFSET(I$3,INT((ROWS($4:82)-1)/5)*5+1,),ROW(INDIRECT("1:"&ROWS(INDIRECT(R$1&"!B7:B300"))))),MOD(ROWS($4:82)-1,5)+1)),"")} | P82: {=IFERROR(INDEX(INDIRECT(R$1&"!K7:K300"),SMALL(IF(INDIRECT(R$1&"!B7:B300")=OFFSET(L$3,INT((ROWS($4:82)-1)/5)*5+1,),ROW(INDIRECT("1:"&ROWS(INDIRECT(R$1&"!B7:B300"))))),MOD(ROWS($4:82)-1,5)+1)),"")} | Q82: {=IFERROR(INDEX(INDIRECT(R$1&"!L7:L300"),SMALL(IF(INDIRECT(R$1&"!B7:B300")=OFFSET(L$3,INT((ROWS($4:82)-1)/5)*5+1,),ROW(INDIRECT("1:"&ROWS(INDIRECT(R$1&"!B7:B300"))))),MOD(ROWS($4:82)-1,5)+1)),"")}
D83: {=IFERROR(INDEX(INDIRECT(R$1&"!L7:L300"),SMALL(IF(INDIRECT(R$1&"!B7:B300")=OFFSET(I$3,INT((ROWS($4:83)-1)/5)*5+1,),ROW(INDIRECT("1:"&ROWS(INDIRECT(R$1&"!B7:B300"))))),MOD(ROWS($4:83)-1,5)+1)),"")} | E83: {=IFERROR(INDEX(INDIRECT(R$1&"!K7:K300"),SMALL(IF(INDIRECT(R$1&"!B7:B300")=OFFSET(I$3,INT((ROWS($4:83)-1)/5)*5+1,),ROW(INDIRECT("1:"&ROWS(INDIRECT(R$1&"!B7:B300"))))),MOD(ROWS($4:83)-1,5)+1)),"")} | P83: {=IFERROR(INDEX(INDIRECT(R$1&"!K7:K300"),SMALL(IF(INDIRECT(R$1&"!B7:B300")=OFFSET(L$3,INT((ROWS($4:83)-1)/5)*5+1,),ROW(INDIRECT("1:"&ROWS(INDIRECT(R$1&"!B7:B300"))))),MOD(ROWS($4:83)-1,5)+1)),"")} | Q83: {=IFERROR(INDEX(INDIRECT(R$1&"!L7:L300"),SMALL(IF(INDIRECT(R$1&"!B7:B300")=OFFSET(L$3,INT((ROWS($4:83)-1)/5)*5+1,),ROW(INDIRECT("1:"&ROWS(INDIRECT(R$1&"!B7:B300"))))),MOD(ROWS($4:83)-1,5)+1)),"")}
C84: =IF(ISBLANK(I84)," ","Quantité "&" "&INDEX(INDIRECT(R$1&"!$F$7:$F$300"),MATCH(I84,INDIRECT(R$1&"!$B$7:$B$300"),0)))&" "&"Rebuts "&" "&INDEX(INDIRECT(R$1&"!$G$7:$G$300"),MATCH(I84,INDIRECT(R$1&"!$B$7:$B$300"),0)) -> Quantité 23393 Rebuts 106 | D84: {=IFERROR(INDEX(INDIRECT(R$1&"!L7:L300"),SMALL(IF(INDIRECT(R$1&"!B7:B300")=OFFSET(I$3,INT((ROWS($4:84)-1)/5)*5+1,),ROW(INDIRECT("1:"&ROWS(INDIRECT(R$1&"!B7:B300"))))),MOD(ROWS($4:84)-1,5)+1)),"")} -> G01 | E84: {=IFERROR(INDEX(INDIRECT(R$1&"!K7:K300"),SMALL(IF(INDIRECT(R$1&"!B7:B300")=OFFSET(I$3,INT((ROWS($4:84)-1)/5)*5+1,),ROW(INDIRECT("1:"&ROWS(INDIRECT(R$1&"!B7:B300"))))),MOD(ROWS($4:84)-1,5)+1)),"")} -> 27 | F84: =IF(OR(ISBLANK(I84),ISERROR(I84))," ",INDEX(INDIRECT(R$1&"!$I$6:$I$300"),MATCH(I84,INDIRECT(R$1&"!$B$6:$B$300"),0))) -> 201300 | G84: =IF(F84=(" ")," ",F84&" "&INDEX(articles!C$1:C$186&" "&articles!B$1:B$186,MATCH(F84,articles!A$1:A$186,0))) -> 201300 DEMI ECREME | H84: =IF(ISBLANK(I84)," ",INDEX(INDIRECT(R$1&"!$M$7:$M$300"),MATCH(I84,INDIRECT(R$1&"!$B$7:$B$300"),0))) -> L1 | I84: =IF(ISBLANK(I79)," ",INDEX(INDIRECT(R$1&"!$B$7:$B$300"),MATCH((I79+1),INDIRECT(R$1&"!$B$7:$B$300"),0))) -> 192506 | J84: =IF(ISBLANK(I84)," ",INDEX(INDIRECT(R$1&"!$D$2:$D$300"),MATCH(I84,INDIRECT(R$1&"!$B$2:$B$300"),0))) -> 1905199 | K84: =IF(ISBLANK(L84)," ",INDEX(INDIRECT(R$1&"!$D$7:$D$300"),MATCH(L84,INDIRECT(R$1&"!$B$7:$B$300"),0))) -> #N/A | L84: =IF(L79=" "," ",INDEX(INDIRECT(R$1&"!$B$7:$B$300"),MATCH((L79+1),INDIRECT(R$1&"!$B$7:$B$300"),0))) -> #N/A | M84: =IF(ISBLANK(L84)," ",INDEX(INDIRECT(R$1&"!$M$7:$M$300"),MATCH(L84,INDIRECT(R$1&"!$B$7:$B$300"),0))) -> #N/A | N84: =IF(O84=(" ")," ",O84&" "&INDEX(articles!C$1:C$186&" "&articles!B$1:B$186,MATCH(O84,articles!A$1:A$186,0))) | O84: =IF(OR(ISBLANK(L84),ISERROR(L84))," ",INDEX(INDIRECT(R$1&"!$I$7:$I$300"),MATCH(L84,INDIRECT(R$1&"!$B$7:$B$300"),0))) | P84: {=IFERROR(INDEX(INDIRECT(R$1&"!K7:K300"),SMALL(IF(INDIRECT(R$1&"!B7:B300")=OFFSET(L$3,INT((ROWS($4:84)-1)/5)*5+1,),ROW(INDIRECT("1:"&ROWS(INDIRECT(R$1&"!B7:B300"))))),MOD(ROWS($4:84)-1,5)+1)),"")} | Q84: {=IFERROR(INDEX(INDIRECT(R$1&"!L7:L300"),SMALL(IF(INDIRECT(R$1&"!B7:B300")=OFFSET(L$3,INT((ROWS($4:84)-1)/5)*5+1,),ROW(INDIRECT("1:"&ROWS(INDIRECT(R$1&"!B7:B300"))))),MOD(ROWS($4:84)-1,5)+1)),"")} | R84: =IF(ISBLANK(L84)," ","Quantité "&" "&INDEX(INDIRECT(R$1&"!$F$7:$F$300"),MATCH(L84,INDIRECT(R$1&"!$B$7:$B$300"),0)))&" "&"Rebuts "&" "&INDEX(INDIRECT(R$1&"!$G$7:$G$300"),MATCH(L84,INDIRECT(R$1&"!$B$7:$B$300"),0)) -> #N/A
D85: {=IFERROR(INDEX(INDIRECT(R$1&"!L7:L300"),SMALL(IF(INDIRECT(R$1&"!B7:B300")=OFFSET(I$3,INT((ROWS($4:85)-1)/5)*5+1,),ROW(INDIRECT("1:"&ROWS(INDIRECT(R$1&"!B7:B300"))))),MOD(ROWS($4:85)-1,5)+1)),"")} -> MURECOMP | E85: {=IFERROR(INDEX(INDIRECT(R$1&"!K7:K300"),SMALL(IF(INDIRECT(R$1&"!B7:B300")=OFFSET(I$3,INT((ROWS($4:85)-1)/5)*5+1,),ROW(INDIRECT("1:"&ROWS(INDIRECT(R$1&"!B7:B300"))))),MOD(ROWS($4:85)-1,5)+1)),"")} -> 1 | P85: {=IFERROR(INDEX(INDIRECT(R$1&"!K7:K300"),SMALL(IF(INDIRECT(R$1&"!B7:B300")=OFFSET(L$3,INT((ROWS($4:85)-1)/5)*5+1,),ROW(INDIRECT("1:"&ROWS(INDIRECT(R$1&"!B7:B300"))))),MOD(ROWS($4:85)-1,5)+1)),"")} | Q85: {=IFERROR(INDEX(INDIRECT(R$1&"!L7:L300"),SMALL(IF(INDIRECT(R$1&"!B7:B300")=OFFSET(L$3,INT((ROWS($4:85)-1)/5)*5+1,),ROW(INDIRECT("1:"&ROWS(INDIRECT(R$1&"!B7:B300"))))),MOD(ROWS($4:85)-1,5)+1)),"")}
D86: {=IFERROR(INDEX(INDIRECT(R$1&"!L7:L300"),SMALL(IF(INDIRECT(R$1&"!B7:B300")=OFFSET(I$3,INT((ROWS($4:86)-1)/5)*5+1,),ROW(INDIRECT("1:"&ROWS(INDIRECT(R$1&"!B7:B300"))))),MOD(ROWS($4:86)-1,5)+1)),"")} | E86: {=IFERROR(INDEX(INDIRECT(R$1&"!K7:K300"),SMALL(IF(INDIRECT(R$1&"!B7:B300")=OFFSET(I$3,INT((ROWS($4:86)-1)/5)*5+1,),ROW(INDIRECT("1:"&ROWS(INDIRECT(R$1&"!B7:B300"))))),MOD(ROWS($4:86)-1,5)+1)),"")} | P86: {=IFERROR(INDEX(INDIRECT(R$1&"!K7:K300"),SMALL(IF(INDIRECT(R$1&"!B7:B300")=OFFSET(L$3,INT((ROWS($4:86)-1)/5)*5+1,),ROW(INDIRECT("1:"&ROWS(INDIRECT(R$1&"!B7:B300"))))),MOD(ROWS($4:86)-1,5)+1)),"")} | Q86: {=IFERROR(INDEX(INDIRECT(R$1&"!L7:L300"),SMALL(IF(INDIRECT(R$1&"!B7:B300")=OFFSET(L$3,INT((ROWS($4:86)-1)/5)*5+1,),ROW(INDIRECT("1:"&ROWS(INDIRECT(R$1&"!B7:B300"))))),MOD(ROWS($4:86)-1,5)+1)),"")}
D87: {=IFERROR(INDEX(INDIRECT(R$1&"!L7:L300"),SMALL(IF(INDIRECT(R$1&"!B7:B300")=OFFSET(I$3,INT((ROWS($4:87)-1)/5)*5+1,),ROW(INDIRECT("1:"&ROWS(INDIRECT(R$1&"!B7:B300"))))),MOD(ROWS($4:87)-1,5)+1)),"")} | E87: {=IFERROR(INDEX(INDIRECT(R$1&"!K7:K300"),SMALL(IF(INDIRECT(R$1&"!B7:B300")=OFFSET(I$3,INT((ROWS($4:87)-1)/5)*5+1,),ROW(INDIRECT("1:"&ROWS(INDIRECT(R$1&"!B7:B300"))))),MOD(ROWS($4:87)-1,5)+1)),"")} | P87: {=IFERROR(INDEX(INDIRECT(R$1&"!K7:K300"),SMALL(IF(INDIRECT(R$1&"!B7:B300")=OFFSET(L$3,INT((ROWS($4:87)-1)/5)*5+1,),ROW(INDIRECT("1:"&ROWS(INDIRECT(R$1&"!B7:B300"))))),MOD(ROWS($4:87)-1,5)+1)),"")} | Q87: {=IFERROR(INDEX(INDIRECT(R$1&"!L7:L300"),SMALL(IF(INDIRECT(R$1&"!B7:B300")=OFFSET(L$3,INT((ROWS($4:87)-1)/5)*5+1,),ROW(INDIRECT("1:"&ROWS(INDIRECT(R$1&"!B7:B300"))))),MOD(ROWS($4:87)-1,5)+1)),"")}
D88: {=IFERROR(INDEX(INDIRECT(R$1&"!L7:L300"),SMALL(IF(INDIRECT(R$1&"!B7:B300")=OFFSET(I$3,INT((ROWS($4:88)-1)/5)*5+1,),ROW(INDIRECT("1:"&ROWS(INDIRECT(R$1&"!B7:B300"))))),MOD(ROWS($4:88)-1,5)+1)),"")} | E88: {=IFERROR(INDEX(INDIRECT(R$1&"!K7:K300"),SMALL(IF(INDIRECT(R$1&"!B7:B300")=OFFSET(I$3,INT((ROWS($4:88)-1)/5)*5+1,),ROW(INDIRECT("1:"&ROWS(INDIRECT(R$1&"!B7:B300"))))),MOD(ROWS($4:88)-1,5)+1)),"")} | P88: {=IFERROR(INDEX(INDIRECT(R$1&"!K7:K300"),SMALL(IF(INDIRECT(R$1&"!B7:B300")=OFFSET(L$3,INT((ROWS($4:88)-1)/5)*5+1,),ROW(INDIRECT("1:"&ROWS(INDIRECT(R$1&"!B7:B300"))))),MOD(ROWS($4:88)-1,5)+1)),"")} | Q88: {=IFERROR(INDEX(INDIRECT(R$1&"!L7:L300"),SMALL(IF(INDIRECT(R$1&"!B7:B300")=OFFSET(L$3,INT((ROWS($4:88)-1)/5)*5+1,),ROW(INDIRECT("1:"&ROWS(INDIRECT(R$1&"!B7:B300"))))),MOD(ROWS($4:88)-1,5)+1)),"")}
C89: =IF(ISBLANK(I89)," ","Quantité "&" "&INDEX(INDIRECT(R$1&"!$F$7:$F$300"),MATCH(I89,INDIRECT(R$1&"!$B$7:$B$300"),0)))&" "&"Rebuts "&" "&INDEX(INDIRECT(R$1&"!$G$7:$G$300"),MATCH(I89,INDIRECT(R$1&"!$B$7:$B$300"),0)) -> Quantité 33457 Rebuts 251 | D89: {=IFERROR(INDEX(INDIRECT(R$1&"!L7:L300"),SMALL(IF(INDIRECT(R$1&"!B7:B300")=OFFSET(I$3,INT((ROWS($4:89)-1)/5)*5+1,),ROW(INDIRECT("1:"&ROWS(INDIRECT(R$1&"!B7:B300"))))),MOD(ROWS($4:89)-1,5)+1)),"")} -> C15 | E89: {=IFERROR(INDEX(INDIRECT(R$1&"!K7:K300"),SMALL(IF(INDIRECT(R$1&"!B7:B300")=OFFSET(I$3,INT((ROWS($4:89)-1)/5)*5+1,),ROW(INDIRECT("1:"&ROWS(INDIRECT(R$1&"!B7:B300"))))),MOD(ROWS($4:89)-1,5)+1)),"")} -> 64 | F89: =IF(OR(ISBLANK(I89),ISERROR(I89))," ",INDEX(INDIRECT(R$1&"!$I$6:$I$300"),MATCH(I89,INDIRECT(R$1&"!$B$6:$B$300"),0))) -> 221173 | G89: =IF(F89=(" ")," ",F89&" "&INDEX(articles!C$1:C$186&" "&articles!B$1:B$186,MATCH(F89,articles!A$1:A$186,0))) -> 221173 DEMI ECREME | H89: =IF(ISBLANK(I89)," ",INDEX(INDIRECT(R$1&"!$M$7:$M$300"),MATCH(I89,INDIRECT(R$1&"!$B$7:$B$300"),0))) -> L5 | I89: =IF(ISBLANK(I84)," ",INDEX(INDIRECT(R$1&"!$B$7:$B$300"),MATCH((I84+1),INDIRECT(R$1&"!$B$7:$B$300"),0))) -> 192507 | J89: =IF(ISBLANK(I89)," ",INDEX(INDIRECT(R$1&"!$D$2:$D$300"),MATCH(I89,INDIRECT(R$1&"!$B$2:$B$300"),0))) -> 1905200 | K89: =IF(ISBLANK(L89)," ",INDEX(INDIRECT(R$1&"!$D$7:$D$300"),MATCH(L89,INDIRECT(R$1&"!$B$7:$B$300"),0))) -> #N/A | L89: =IF(L84=" "," ",INDEX(INDIRECT(R$1&"!$B$7:$B$300"),MATCH((L84+1),INDIRECT(R$1&"!$B$7:$B$300"),0))) -> #N/A | M89: =IF(ISBLANK(L89)," ",INDEX(INDIRECT(R$1&"!$M$7:$M$300"),MATCH(L89,INDIRECT(R$1&"!$B$7:$B$300"),0))) -> #N/A | N89: =IF(O89=(" ")," ",O89&" "&INDEX(articles!C$1:C$186&" "&articles!B$1:B$186,MATCH(O89,articles!A$1:A$186,0))) | O89: =IF(OR(ISBLANK(L89),ISERROR(L89))," ",INDEX(INDIRECT(R$1&"!$I$7:$I$300"),MATCH(L89,INDIRECT(R$1&"!$B$7:$B$300"),0))) | P89: {=IFERROR(INDEX(INDIRECT(R$1&"!K7:K300"),SMALL(IF(INDIRECT(R$1&"!B7:B300")=OFFSET(L$3,INT((ROWS($4:89)-1)/5)*5+1,),ROW(INDIRECT("1:"&ROWS(INDIRECT(R$1&"!B7:B300"))))),MOD(ROWS($4:89)-1,5)+1)),"")} | Q89: {=IFERROR(INDEX(INDIRECT(R$1&"!L7:L300"),SMALL(IF(INDIRECT(R$1&"!B7:B300")=OFFSET(L$3,INT((ROWS($4:89)-1)/5)*5+1,),ROW(INDIRECT("1:"&ROWS(INDIRECT(R$1&"!B7:B300"))))),MOD(ROWS($4:89)-1,5)+1)),"")} | R89: =IF(ISBLANK(L89)," ","Quantité "&" "&INDEX(INDIRECT(R$1&"!$F$7:$F$300"),MATCH(L89,INDIRECT(R$1&"!$B$7:$B$300"),0)))&" "&"Rebuts "&" "&INDEX(INDIRECT(R$1&"!$G$7:$G$300"),MATCH(L89,INDIRECT(R$1&"!$B$7:$B$300"),0)) -> #N/A
D90: {=IFERROR(INDEX(INDIRECT(R$1&"!L7:L300"),SMALL(IF(INDIRECT(R$1&"!B7:B300")=OFFSET(I$3,INT((ROWS($4:90)-1)/5)*5+1,),ROW(INDIRECT("1:"&ROWS(INDIRECT(R$1&"!B7:B300"))))),MOD(ROWS($4:90)-1,5)+1)),"")} -> G32 | E90: {=IFERROR(INDEX(INDIRECT(R$1&"!K7:K300"),SMALL(IF(INDIRECT(R$1&"!B7:B300")=OFFSET(I$3,INT((ROWS($4:90)-1)/5)*5+1,),ROW(INDIRECT("1:"&ROWS(INDIRECT(R$1&"!B7:B300"))))),MOD(ROWS($4:90)-1,5)+1)),"")} -> 28 | P90: {=IFERROR(INDEX(INDIRECT(R$1&"!K7:K300"),SMALL(IF(INDIRECT(R$1&"!B7:B300")=OFFSET(L$3,INT((ROWS($4:90)-1)/5)*5+1,),ROW(INDIRECT("1:"&ROWS(INDIRECT(R$1&"!B7:B300"))))),MOD(ROWS($4:90)-1,5)+1)),"")} | Q90: {=IFERROR(INDEX(INDIRECT(R$1&"!L7:L300"),SMALL(IF(INDIRECT(R$1&"!B7:B300")=OFFSET(L$3,INT((ROWS($4:90)-1)/5)*5+1,),ROW(INDIRECT("1:"&ROWS(INDIRECT(R$1&"!B7:B300"))))),MOD(ROWS($4:90)-1,5)+1)),"")}
D91: {=IFERROR(INDEX(INDIRECT(R$1&"!L7:L300"),SMALL(IF(INDIRECT(R$1&"!B7:B300")=OFFSET(I$3,INT((ROWS($4:91)-1)/5)*5+1,),ROW(INDIRECT("1:"&ROWS(INDIRECT(R$1&"!B7:B300"))))),MOD(ROWS($4:91)-1,5)+1)),"")} -> MURECOMP | E91: {=IFERROR(INDEX(INDIRECT(R$1&"!K7:K300"),SMALL(IF(INDIRECT(R$1&"!B7:B300")=OFFSET(I$3,INT((ROWS($4:91)-1)/5)*5+1,),ROW(INDIRECT("1:"&ROWS(INDIRECT(R$1&"!B7:B300"))))),MOD(ROWS($4:91)-1,5)+1)),"")} -> 2 | P91: {=IFERROR(INDEX(INDIRECT(R$1&"!K7:K300"),SMALL(IF(INDIRECT(R$1&"!B7:B300")=OFFSET(L$3,INT((ROWS($4:91)-1)/5)*5+1,),ROW(INDIRECT("1:"&ROWS(INDIRECT(R$1&"!B7:B300"))))),MOD(ROWS($4:91)-1,5)+1)),"")} | Q91: {=IFERROR(INDEX(INDIRECT(R$1&"!L7:L300"),SMALL(IF(INDIRECT(R$1&"!B7:B300")=OFFSET(L$3,INT((ROWS($4:91)-1)/5)*5+1,),ROW(INDIRECT("1:"&ROWS(INDIRECT(R$1&"!B7:B300"))))),MOD(ROWS($4:91)-1,5)+1)),"")}
D92: {=IFERROR(INDEX(INDIRECT(R$1&"!L7:L300"),SMALL(IF(INDIRECT(R$1&"!B7:B300")=OFFSET(I$3,INT((ROWS($4:92)-1)/5)*5+1,),ROW(INDIRECT("1:"&ROWS(INDIRECT(R$1&"!B7:B300"))))),MOD(ROWS($4:92)-1,5)+1)),"")} | E92: {=IFERROR(INDEX(INDIRECT(R$1&"!K7:K300"),SMALL(IF(INDIRECT(R$1&"!B7:B300")=OFFSET(I$3,INT((ROWS($4:92)-1)/5)*5+1,),ROW(INDIRECT("1:"&ROWS(INDIRECT(R$1&"!B7:B300"))))),MOD(ROWS($4:92)-1,5)+1)),"")} | P92: {=IFERROR(INDEX(INDIRECT(R$1&"!K7:K300"),SMALL(IF(INDIRECT(R$1&"!B7:B300")=OFFSET(L$3,INT((ROWS($4:92)-1)/5)*5+1,),ROW(INDIRECT("1:"&ROWS(INDIRECT(R$1&"!B7:B300"))))),MOD(ROWS($4:92)-1,5)+1)),"")} | Q92: {=IFERROR(INDEX(INDIRECT(R$1&"!L7:L300"),SMALL(IF(INDIRECT(R$1&"!B7:B300")=OFFSET(L$3,INT((ROWS($4:92)-1)/5)*5+1,),ROW(INDIRECT("1:"&ROWS(INDIRECT(R$1&"!B7:B300"))))),MOD(ROWS($4:92)-1,5)+1)),"")}
D93: {=IFERROR(INDEX(INDIRECT(R$1&"!L7:L300"),SMALL(IF(INDIRECT(R$1&"!B7:B300")=OFFSET(I$3,INT((ROWS($4:93)-1)/5)*5+1,),ROW(INDIRECT("1:"&ROWS(INDIRECT(R$1&"!B7:B300"))))),MOD(ROWS($4:93)-1,5)+1)),"")} | E93: {=IFERROR(INDEX(INDIRECT(R$1&"!K7:K300"),SMALL(IF(INDIRECT(R$1&"!B7:B300")=OFFSET(I$3,INT((ROWS($4:93)-1)/5)*5+1,),ROW(INDIRECT("1:"&ROWS(INDIRECT(R$1&"!B7:B300"))))),MOD(ROWS($4:93)-1,5)+1)),"")} | P93: {=IFERROR(INDEX(INDIRECT(R$1&"!K7:K300"),SMALL(IF(INDIRECT(R$1&"!B7:B300")=OFFSET(L$3,INT((ROWS($4:93)-1)/5)*5+1,),ROW(INDIRECT("1:"&ROWS(INDIRECT(R$1&"!B7:B300"))))),MOD(ROWS($4:93)-1,5)+1)),"")} | Q93: {=IFERROR(INDEX(INDIRECT(R$1&"!L7:L300"),SMALL(IF(INDIRECT(R$1&"!B7:B300")=OFFSET(L$3,INT((ROWS($4:93)-1)/5)*5+1,),ROW(INDIRECT("1:"&ROWS(INDIRECT(R$1&"!B7:B300"))))),MOD(ROWS($4:93)-1,5)+1)),"")}
D94: DATE : | G94: =TODAY() -> 43660

Sheet articles
A1: Code article | B1: Nature | D1: Parcking | E1: DLC | F1: Palette | G1: L/PAL | H1: LOT
A2: 200002 | B2: ENTIER | D2: 6X | E2: 200 JOURS | F2: demi-palettes CHEP | G2: 420 | H2: 128 | I2: DPS Chep | J2: Arnould Thibaut | K2: Gaume
A3: 201002 | B3: DEMI ECREME | D3: 6X | E3: 200 JOURS | F3: demi-palettes CHEP | G3: 420 | H3: 128 | I3: DPS Chep | J3: Bationo Francis | K3: Gaume
A4: 202022 | B4: ECREME | D4: 6X | E4: 200 JOURS | F4: demi-palettes CHEP | G4: 420 | H4: 128 | I4: DPS Chep | J4: Becheroul Saber | K4: Gaume
A5: 202021 | B5: ECREME | D5: 6X | E5: 200 JOURS | F5: EURO CHEP | G5: 840 | H5: 64 | I5: PT Chep | J5: Bernard Jean Sébastien | K5: Ardennes
A6: 201022 | B6: DEMI ECREME | D6: 6X | E6: 200 JOURS | F6: demi-palettes CHEP | G6: 420 | H6: 128 | I6: DPS Chep | J6: Carlier Nicolas | K6: Polyvalent
A7: 201021 | B7: DEMI ECREME | D7: 6X | E7: 200 JOURS | F7: EURO CHEP | G7: 840 | H7: 64 | I7: PT Chep | J7: Chaspierre Claude | K7: Gaume
A8: 200022 | B8: ENTIER | D8: 6X | E8: 200 JOURS | F8: demi-palettes CHEP | G8: 420 | H8: 128 | I8: DPS Chep | J8: Chipon André | K8: Ardennes
A9: 200021 | B9: ENTIER | D9: 6X | E9: 200 JOURS | F9: EURO CHEP | G9: 840 | H9: 64 | I9: PT Chep | J9: Collin Jordan | K9: Ardennes
A10: 202023 | B10: ECREME | D10: 12X | E10: 200 JOURS | F10: demi-palettes CHEP | G10: 360 | H10: 128 | I10: DPS Chep | J10: Collin Jullien | K10: Ardennes
A11: 202020 | B11: ECREME | D11: 12X | E11: 200 JOURS | F11: EURO CHEP | G11: 864 | H11: 64 | I11: DPS Chep | J11: Debrigode Jordan | K11: France
A12: 201023 | B12: DEMI ECREME | D12: 12X | E12: 200 JOURS | F12: demi-palettes CHEP | G12: 360 | H12: 128 | I12: DPS Chep | J12: De Schoenmakers Thomas | K12: Gaume
A13: 201020 | B13: DEMI ECREME | D13: 12X | E13: 200 JOURS | F13: EURO CHEP | G13: 864 | H13: 64 | I13: PT Chep | J13: Dupont Jean Marc | K13: Gaume
... A43: 202173 | B43: ECREME | D43: 12X | E43: 200 JOURS | F43: demi-palettes CHEP | G43: 360 | H43: 128 | I43: DPS Chep | J43: Zai Fatima | K43: France
A44: 200320 | B44: ENTIER | D44: 12X | E44: 200 JOURS | F44: EURO CHEP | G44: 864 | H44: 64 | I44: PS Chep
A45: 202320 | B45: ECREME | D45: 12X | E45: 200 JOURS | F45: EURO CHEP | G45: 864 | H45: 64 | I45: DPS Chep
A46: 201320 | B46: DEMI ECREME | D46: 12X | E46: 200 JOURS | F46: EURO CHEP | G46: 864 | H46: 64 | I46: DPS Chep
A47: 202334 | B47: ECREME | D47: 6X | E47: 200 JOURS | F47: demi-palettes CHEP | G47: 420 | H47: 128 | I47: DPS Chep
A48: 201334 | B48: DEMI ECREME | D48: 6X | E48: 200 JOURS | F48: demi-palettes CHEP | G48: 420 | H48: 128 | I48: PS Blanche
A49: 200334 | B49: ENTIER | D49: 6X | E49: 200 JOURS | F49: demi-palettes CHEP | G49: 420 | H49: 128 | I49: DPS Chep
A50: 201341 | B50: DEMI ECREME | D50: 6X | E50: 200 JOURS | F50: EURO CHEP | G50: 840 | H50: 64 | I50: DPS Blanche
A51: 201342 | B51: DEMI ECREME | D51: 6X | E51: 200 JOURS | F51: demi-palettes CHEP | G51: 420 | H51: 128 | I51: PT Blanche
A52: 201272 | B52: DEMI ECREME | D52: 6X | E52: 200 JOURS | F52: demi-palettes CHEP | G52: 420 | H52: 128 | I52: DPS Chep
A53: 200272 | B53: ENTIER | D53: 6X | E53: 200 JOURS | F53: demi-palettes CHEP | G53: 420 | H53: 128 | I53: DPS Chep
A54: 201339 | B54: DEMI ECREME | D54: 6X | E54: 210 JOURS | F54: Euro Blanche | G54: 840 | H54: 64 | I54: DPS Chep
A55: 201282 | B55: DEMI ECREME | D55: 6X | E55: 210 JOURS | F55: demi-palettes CHEP | G55: 420 | H55: 128 | I55: PT Blanche
... A57: 200336 | B57: ENTIER | D57: 12X | E57: 365 JOURS | F57: Euro Blanche | G57: 864 | H57: 64 | I57: PT Chep
A58: 200 | B58: ENTIER | D58: 0 | E58: 200 JOURS | F58: demi-palettes CHEP | G58: 420 | H58: 0 | I58: PT Chep
A59: 201 | B59: DEMI ECREME | D59: 0 | E59: 200 JOURS | F59: demi-palettes CHEP | G59: 420 | H59: 0 | I59: PT Blanche
A60: 202 | B60: ECREME | D60: 0 | E60: 200 JOURS | F60: demi-palettes CHEP | G60: 420 | H60: 0 | I60: PT Blanche
A61: 201350 | B61: DEMI ECREME | D61: 12X | E61: 210 JOURS | F61: Euro Blanche | G61: 864 | H61: 64 | I61: PT Blanche
A62: 200350 | B62: ENTIER | D62: 12X | E62: 210 JOURS | F62: Euro Blanche | G62: 864 | H62: 64 | I62: PT Blanche
A63: 200321 | B63: ENTIER | D63: 12X | E63: 200 JOURS | F63: EURO CHEP | G63: 864 | H63: 64 | I63: PT Blanche
A64: 201321 | B64: DEMI ECREME | D64: 12X | E64: 200 JOURS | F64: EURO CHEP | G64: 864 | H64: 64 | I64: PT Blanche
A65: 201351 | B65: DEMI ECREME | D65: 6X | E65: 210 JOURS | F65: Euro Blanche | G65: 840 | H65: 64 | I65: PS Chep
A66: 200351 | B66: ENTIER | D66: 6X | E66: 210 JOURS | F66: Euro Blanche | G66: 840 | H66: 64 | I66: DPS Chep
A67: 202332 | B67: ECREME | D67: 12X | E67: 365 JOURS | F67: Euro Blanche | G67: 864 | H67: 64 | I67: PS Chep
A68: 201355 | B68: DEMI ECREME | D68: 12X | E68: 210 JOURS | F68: Euro Blanche | G68: 864 | H68: 64 | I68: PT Chep
A69: 200355 | B69: ENTIER 3,8% | D69: 12X | E69: 210 JOURS | F69: Euro Blanche | G69: 864 | H69: 64 | I69: PT Chep
A70: 200337 | B70: ENTIER | D70: 12X | E70: 365 JOURS | F70: Euro Blanche | G70: 864 | H70: 64 | I70: PT Chep
A71: 2010 | B71: DEMI ECREME | D71: 0 | E71: 210 JOURS | F71: EURO CHEP | G71: 840 | H71: 0 | I71: PT Blanche
A72: 201392 | B72: DEMI ECREME FR | D72: 6X | E72: 200 JOURS | F72: demi-palettes CHEP | G72: 420 | H72: 128 | I72: PT Blanche
A73: 201391 | B73: DEMI ECREME FR | D73: 6X | E73: 200 JOURS | F73: EURO CHEP | G73: 840 | H73: 64 | I73: PT Blanche
A74: 202190 | B74: ECREME | D74: 12X | E74: 200 JOURS | F74: EURO CHEP | G74: 864 | H74: 64 | I74: PT Blanche
A75: 201190 | B75: DEMI ECREME | D75: 12X | E75: 200 JOURS | F75: EURO CHEP | G75: 864 | H75: 64 | I75: PS Chep
A76: 200190 | B76: ENTIER | D76: 12X | E76: 200 JOURS | F76: EURO CHEP | G76: 864 | H76: 64 | I76: PS Chep
A77: 201410 | B77: DEMI ECREME | D77: 12X | E77: 210 JOURS | F77: Euro Blanche | G77: 864 | H77: 64 | I77: PS Chep
A78: 200410 | B78: ENTIER | D78: 12X | E78: 210 JOURS | F78: Euro Blanche | G78: 864 | H78: 64 | I78: PS Chep
A79: 201400 | B79: DEMI ECREME | D79: 12X | E79: 210 JOURS | F79: Euro Blanche | G79: 864 | H79: 64 | I79: PS Chep
A80: 200400 | B80: ENTIER | D80: 12X | E80: 210 JOURS | F80: Euro Blanche | G80: 864 | H80: 64 | I80: PS Chep
A81: 201386 | B81: DEMI ECREME FR | D81: 6X | E81: 200 JOURS | F81: EURO CHEP | G81: 840 | H81: 64 | I81: DPS Chep
A82: 202221 | B82: ECREME | D82: 6X | E82: 200 JOURS | F82: EURO CHEP | G82: 840 | H82: 64 | I82: DPS Chep
A83: 201221 | B83: DEMI ECREME | D83: 6X | E83: 200 JOURS | F83: EURO CHEP | G83: 840 | H83: 64 | I83: DPS Chep
... A113: 200349 | B113: ENTIER | D113: 12X | E113: 365 JOURS | F113: 100/120 TRAITEE | G113: 1080 | H113: 1000 | I113: DPT Chep
A114: 2021 | B114: ECREME | D114: 6X | E114: 200 JOURS | F114: demi-palettes CHEP | G114: 420 | H114: 0
A115: 2011 | B115: DEMI ECREME | D115: 6X | E115: 200 JOURS | F115: demi-palettes CHEP | G115: 420 | H115: 0
A116: 2001 | B116: ENTIER | D116: 6X | E116: 200 JOURS | F116: demi-palettes CHEP | G116: 420 | H116: 0
A117: 200149 | B117: ENTIER AOP | D117: 12X | E117: 365 JOURS | F117: 100/120 TRAITEE | G117: 1080 | H117: 1000
A118: 201302 | B118: DEMI ECREME | D118: 12X | E118: 365 JOURS | F118: Euro Blanche | G118: 864 | H118: 64
A119: 200302 | B119: ENTIER | D119: 12X | E119: 365 JOURS | F119: Euro Blanche | G119: 864 | H119: 64
A120: 200331 | B120: ENTIER | D120: 6X | E120: 200 JOURS | F120: Euro Blanche | G120: 840 | H120: 64
A121: 201301 | B121: DEMI ECREME | D121: 6X | E121: 200 JOURS | F121: Euro Blanche | G121: 840 | H121: 64
A122: 201300 | B122: DEMI ECREME | D122: 12X | E122: 365 JOURS | F122: Euro Blanche | G122: 864 | H122: 64
A123: 200364 | B123: ENTIER | D123: 12X | E123: 365 JOURS | F123: 100/120 TRAITEE | G123: 1080 | H123: 1000
A124: 201000 | B124: DEMI ECREME | D124: 12X | E124: 365 JOURS | F124: 100/120 TRAITEE | G124: 1080 | H124: 1000
A125: 200000 | B125: ENTIER | D125: 12X | E125: 365 JOURS | F125: 100/120 TRAITEE | G125: 1080 | H125: 1000
... A172: 221351 | B172: DEMI ECREME | D172: 6X | E172: 210 JOURS | F172: Euro Blanche | G172: 780 | H172: 64
A173: 221372 | B173: DEMI ECREME | D173: 6X | E173: 210 JOURS | F173: demi-palettes CHEP | G173: 360 | H173: 128 | I173: 10/12 Perdue
A174: 220376 | B174: ENTIER | D174: 12x | E174: 210 JOURS | F174: Euro Blanche | G174: 780 | H174: 64
A175: 221376 | B175: DEMI ECREME | D175: 12X | E175: 210 JOURS | F175: Euro Blanche | G175: 780 | H175: 64
A176: 221351 | B176: DEMI ECREME | D176: 6X | E176: 210 JOURS | F176: Euro Blanche | G176: 780 | H176: 64
A177: 220352 | B177: ENTIER | D177: 12x | E177: 210 JOURS | F177: Euro Blanche | G177: 780 | H177: 64
A178: 221352 | B178: DEMI ECREME | D178: 12x | E178: 210 JOURS | F178: Euro Blanche | G178: 780 | H178: 64
A179: 221174 | B179: DEMI ECREME | D179: 12x | E179: 210 JOURS | F179: Dusseldorf blanche | G179: 360 | H179: 128
A180: 221372 | B180: DEMI ECREME | D180: 6X | E180: 210 JOURS | F180: demi-palettes CHEP | G180: 360 | H180: 128
A181: 201343 | B181: DEMI ECREME | D181: 6X | E181: 365 JOURS | F181: Euro Blanche | G181: 840 | H181: 1000
A182: 221410 | B182: DEMI ECREME | D182: 12X | E182: 210 JOURS | F182: Euro Blanche | G182: 780 | H182: 64
A183: 220032 | B183: ENTIER | D183: 6X | E183: 365 JOURS | F183: 100/120 TRAITEE | G183: 1080 | H183: 1000
A184: 220033 | B184: ENTIER | D184: 6X | E184: 365 JOURS | F184: 100/120 TRAITEE | G184: 1080 | H184: 1000
A185: 222032 | B185: ECREME | D185: 6X | E185: 365 JOURS | F185: 100/120 TRAITEE | G185: 1080 | H185: 1000
A186: 222033 | B186: ECREME | D186: 6X | E186: 365 JOURS | F186: 100/120 TRAITEE | G186: 1080 | H186: 1000

Sheet 13
A6: Rack | B6: Lot | C6: Lot | D6: Unité | E6: Quantité | F6: Date de fabrication | G6: Date de clôture | H6: Etat
A7: 27 | B7: 192490 | C7: 43648.002 | D7: 1905163 | E7: MUSOLA | F7: 27140 | G7: 259 | I7: 201022 | J7: DPS | K7: 62 | L7: A37 | M7: L3
A8: 27 | B8: 192490 | C8: 43648.002 | D8: 1905163 | E8: MURECOMP | F8: 27140 | G8: 259 | I8: 201022 | J8: DPS | K8: 2 | L8: MURECOMP | M8: L3
A9: 27 | B9: 192491 | C9: 43648.002 | D9: 1905164 | E9: MUSOLA | F9: 54008 | G9: 226 | I9: 201472 | J9: PT | K9: 32 | L9: B40 | M9: L1
A10: 27 | B10: 192491 | C10: 43648.002 | D10: 1905164 | E10: MUSOLA | F10: 54008 | G10: 226 | I10: 201472 | J10: PT | K10: 30 | L10: B41 | M10: L1
A11: 27 | B11: 192492 | C11: 43648.003 | D11: 1905165 | E11: MUSOLA | F11: 8434 | G11: 104 | I11: 221372 | J11: DS3 | K11: 20 | L11: C01 | M11: L5
A12: 27 | B12: 192493 | C12: 43648.005 | D12: 1905166 | E12: MUSOLA | F12: 54152 | G12: 376 | I12: 200190 | J12: PT | K12: 30 | L12: F19 | M12: L4
A13: 27 | B13: 192493 | C13: 43648.005 | D13: 1905166 | E13: MUSOLA | F13: 54152 | G13: 376 | I13: 200190 | J13: PT | K13: 32 | L13: F24 | M13: L4
A14: 27 | B14: 192493 | C14: 43648.005 | D14: 1905166 | E14: MURECOMP | F14: 54152 | G14: 376 | I14: 200190 | J14: PT | K14: 1 | L14: MURECOMP | M14: L4
A15: 27 | B15: 192494 | C15: 43648.056 | D15: 1905167 | E15: MUSOLA | F15: 49148 | G15: 198 | I15: 221066 | J15: PS1 | K15: 32 | L15: B02 | M15: L5
A16: 27 | B16: 192494 | C16: 43648.056 | D16: 1905167 | E16: MUSOLA | F16: 49148 | G16: 198 | I16: 221066 | J16: PS1 | K16: 29 | L16: G20 | M16: L5
A17: 27 | B17: 192494 | C17: 43648.056 | D17: 1905167 | E17: MURECOMP | F17: 49148 | G17: 198 | I17: 221066 | J17: PS1 | K17: 2 | L17: MURECOMP | M17: L5
A18: 27 | B18: 192495 | C18: 43648.149 | D18: 1905189 | E18: MUSOLA | F18: 54143 | G18: 215 | I18: 201190 | J18: PT | K18: 32 | L18: G19 | M18: L3
... A74: 27 | B74: 192518 | C74: 43649.249 | D74: 1905209 | E74: MURECOMP | F74: 27520 | G74: 158 | I74: 200320 | J74: PT | K74: 1 | L74: MURECOMP | M74: L1
