Workbook

Sheet PREFERENCE
K1: Choix
B2: football | C2: basket | D2: rugby | E2: escalade | F2: danse | G2: ultimate | H2: golf | I2: badminton | J2: code | K2: 1 | L2: 2 | M2: 3 | N2: 4
A3: nom1 | B3: 1 | C3: 2 | D3: 3 | E3: 4 | J3: =CONCATENATE(K3,L3,M3,) -> fbr | K3: =IF(B3=1,SPORT!$B$6,IF(C3=1,SPORT!$C$6,IF(D3=1,SPORT!$D$6,IF(E3=1,SPORT!$E$6,IF(F3=1,SPORT!$F$6,IF(G3=1,SPORT!$G$6,IF(H3=1,SPORT!$H$6,IF(I3=1,SPORT!$I$6,"erreur")))))))) -> f | L3: =IF(B3=2,SPORT!$B$6,IF(C3=2,SPORT!$C$6,IF(D3=2,SPORT!$D$6,IF(E3=2,SPORT!$E$6,IF(F3=2,SPORT!$F$6,IF(G3=2,SPORT!$G$6,IF(H3=2,SPORT!$H$6,IF(I3=2,SPORT!$I$6,"erreur")))))))) -> b | M3: =IF(B3=3,SPORT!$B$6,IF(C3=3,SPORT!$C$6,IF(D3=3,SPORT!$D$6,IF(E3=3,SPORT!$E$6,IF(F3=3,SPORT!$F$6,IF(G3=3,SPORT!$G$6,IF(H3=3,SPORT!$H$6,IF(I3=3,SPORT!$I$6,"erreur")))))))) -> r | N3: =IF(B3=4,SPORT!$B$6,IF(C3=4,SPORT!$C$6,IF(D3=4,SPORT!$D$6,IF(E3=4,SPORT!$E$6,IF(F3=4,SPORT!$F$6,IF(G3=4,SPORT!$G$6,IF(H3=4,SPORT!$H$6,IF(I3=4,SPORT!$I$6,"erreur")))))))) -> e | P3: =IF(G3=1,SPORT!G3,IF(G3=2,SPORT!H3,IF(G3=3,SPORT!I3,IF(G3=4,SPORT!J3,"")))) | Q3: =IF(H3=1,SPORT!H3,IF(H3=2,SPORT!I3,IF(H3=3,SPORT!J3,IF(H3=4,SPORT!K3,"")))) | R3: =IF(I3=1,SPORT!I3,IF(I3=2,SPORT!J3,IF(I3=3,SPORT!K3,IF(I3=4,SPORT!L3,""))))
A4: nom2 | B4: 3 | C4: 2 | D4: 1 | F4: 4 | J4: =CONCATENATE(K4,L4,M4,) -> rbf | K4: =IF(B4=1,SPORT!$B$6,IF(C4=1,SPORT!$C$6,IF(D4=1,SPORT!$D$6,IF(E4=1,SPORT!$E$6,IF(F4=1,SPORT!$F$6,IF(G4=1,SPORT!$G$6,IF(H4=1,SPORT!$H$6,IF(I4=1,SPORT!$I$6,"erreur")))))))) -> r | L4: =IF(B4=2,SPORT!$B$6,IF(C4=2,SPORT!$C$6,IF(D4=2,SPORT!$D$6,IF(E4=2,SPORT!$E$6,IF(F4=2,SPORT!$F$6,IF(G4=2,SPORT!$G$6,IF(H4=2,SPORT!$H$6,IF(I4=2,SPORT!$I$6,"erreur")))))))) -> b | M4: =IF(B4=3,SPORT!$B$6,IF(C4=3,SPORT!$C$6,IF(D4=3,SPORT!$D$6,IF(E4=3,SPORT!$E$6,IF(F4=3,SPORT!$F$6,IF(G4=3,SPORT!$G$6,IF(H4=3,SPORT!$H$6,IF(I4=3,SPORT!$I$6,"erreur")))))))) -> f | N4: =IF(B4=4,SPORT!$B$6,IF(C4=4,SPORT!$C$6,IF(D4=4,SPORT!$D$6,IF(E4=4,SPORT!$E$6,IF(F4=4,SPORT!$F$6,IF(G4=4,SPORT!$G$6,IF(H4=4,SPORT!$H$6,IF(I4=4,SPORT!$I$6,"erreur")))))))) -> d
A5: nom3 | B5: 2 | D5: 1 | F5: 3 | H5: 4 | J5: =CONCATENATE(K5,L5,M5,) -> rfd | K5: =IF(B5=1,SPORT!$B$6,IF(C5=1,SPORT!$C$6,IF(D5=1,SPORT!$D$6,IF(E5=1,SPORT!$E$6,IF(F5=1,SPORT!$F$6,IF(G5=1,SPORT!$G$6,IF(H5=1,SPORT!$H$6,IF(I5=1,SPORT!$I$6,"erreur")))))))) -> r | L5: =IF(B5=2,SPORT!$B$6,IF(C5=2,SPORT!$C$6,IF(D5=2,SPORT!$D$6,IF(E5=2,SPORT!$E$6,IF(F5=2,SPORT!$F$6,IF(G5=2,SPORT!$G$6,IF(H5=2,SPORT!$H$6,IF(I5=2,SPORT!$I$6,"erreur")))))))) -> f | M5: =IF(B5=3,SPORT!$B$6,IF(C5=3,SPORT!$C$6,IF(D5=3,SPORT!$D$6,IF(E5=3,SPORT!$E$6,IF(F5=3,SPORT!$F$6,IF(G5=3,SPORT!$G$6,IF(H5=3,SPORT!$H$6,IF(I5=3,SPORT!$I$6,"erreur")))))))) -> d | N5: =IF(B5=4,SPORT!$B$6,IF(C5=4,SPORT!$C$6,IF(D5=4,SPORT!$D$6,IF(E5=4,SPORT!$E$6,IF(F5=4,SPORT!$F$6,IF(G5=4,SPORT!$G$6,IF(H5=4,SPORT!$H$6,IF(I5=4,SPORT!$I$6,"erreur")))))))) -> g
A6: nom4 | D6: 4 | F6: 2 | G6: 3 | I6: 1 | J6: =CONCATENATE(K6,L6,M6,) -> tdu | K6: =IF(B6=1,SPORT!$B$6,IF(C6=1,SPORT!$C$6,IF(D6=1,SPORT!$D$6,IF(E6=1,SPORT!$E$6,IF(F6=1,SPORT!$F$6,IF(G6=1,SPORT!$G$6,IF(H6=1,SPORT!$H$6,IF(I6=1,SPORT!$I$6,"erreur")))))))) -> t | L6: =IF(B6=2,SPORT!$B$6,IF(C6=2,SPORT!$C$6,IF(D6=2,SPORT!$D$6,IF(E6=2,SPORT!$E$6,IF(F6=2,SPORT!$F$6,IF(G6=2,SPORT!$G$6,IF(H6=2,SPORT!$H$6,IF(I6=2,SPORT!$I$6,"erreur")))))))) -> d | M6: =IF(B6=3,SPORT!$B$6,IF(C6=3,SPORT!$C$6,IF(D6=3,SPORT!$D$6,IF(E6=3,SPORT!$E$6,IF(F6=3,SPORT!$F$6,IF(G6=3,SPORT!$G$6,IF(H6=3,SPORT!$H$6,IF(I6=3,SPORT!$I$6,"erreur")))))))) -> u | N6: =IF(B6=4,SPORT!$B$6,IF(C6=4,SPORT!$C$6,IF(D6=4,SPORT!$D$6,IF(E6=4,SPORT!$E$6,IF(F6=4,SPORT!$F$6,IF(G6=4,SPORT!$G$6,IF(H6=4,SPORT!$H$6,IF(I6=4,SPORT!$I$6,"erreur")))))))) -> r
A7: nom5 | C7: 2 | D7: 3 | E7: 1 | G7: 4 | J7: =CONCATENATE(K7,L7,M7,) -> ebr | K7: =IF(B7=1,SPORT!$B$6,IF(C7=1,SPORT!$C$6,IF(D7=1,SPORT!$D$6,IF(E7=1,SPORT!$E$6,IF(F7=1,SPORT!$F$6,IF(G7=1,SPORT!$G$6,IF(H7=1,SPORT!$H$6,IF(I7=1,SPORT!$I$6,"erreur")))))))) -> e | L7: =IF(B7=2,SPORT!$B$6,IF(C7=2,SPORT!$C$6,IF(D7=2,SPORT!$D$6,IF(E7=2,SPORT!$E$6,IF(F7=2,SPORT!$F$6,IF(G7=2,SPORT!$G$6,IF(H7=2,SPORT!$H$6,IF(I7=2,SPORT!$I$6,"erreur")))))))) -> b | M7: =IF(B7=3,SPORT!$B$6,IF(C7=3,SPORT!$C$6,IF(D7=3,SPORT!$D$6,IF(E7=3,SPORT!$E$6,IF(F7=3,SPORT!$F$6,IF(G7=3,SPORT!$G$6,IF(H7=3,SPORT!$H$6,IF(I7=3,SPORT!$I$6,"erreur")))))))) -> r | N7: =IF(B7=4,SPORT!$B$6,IF(C7=4,SPORT!$C$6,IF(D7=4,SPORT!$D$6,IF(E7=4,SPORT!$E$6,IF(F7=4,SPORT!$F$6,IF(G7=4,SPORT!$G$6,IF(H7=4,SPORT!$H$6,IF(I7=4,SPORT!$I$6,"erreur")))))))) -> u
A8: nom6 | E8: 2 | F8: 3 | G8: 1 | I8: 4 | J8: =CONCATENATE(K8,L8,M8,) -> ued | K8: =IF(B8=1,SPORT!$B$6,IF(C8=1,SPORT!$C$6,IF(D8=1,SPORT!$D$6,IF(E8=1,SPORT!$E$6,IF(F8=1,SPORT!$F$6,IF(G8=1,SPORT!$G$6,IF(H8=1,SPORT!$H$6,IF(I8=1,SPORT!$I$6,"erreur")))))))) -> u | L8: =IF(B8=2,SPORT!$B$6,IF(C8=2,SPORT!$C$6,IF(D8=2,SPORT!$D$6,IF(E8=2,SPORT!$E$6,IF(F8=2,SPORT!$F$6,IF(G8=2,SPORT!$G$6,IF(H8=2,SPORT!$H$6,IF(I8=2,SPORT!$I$6,"erreur")))))))) -> e | M8: =IF(B8=3,SPORT!$B$6,IF(C8=3,SPORT!$C$6,IF(D8=3,SPORT!$D$6,IF(E8=3,SPORT!$E$6,IF(F8=3,SPORT!$F$6,IF(G8=3,SPORT!$G$6,IF(H8=3,SPORT!$H$6,IF(I8=3,SPORT!$I$6,"erreur")))))))) -> d | N8: =IF(B8=4,SPORT!$B$6,IF(C8=4,SPORT!$C$6,IF(D8=4,SPORT!$D$6,IF(E8=4,SPORT!$E$6,IF(F8=4,SPORT!$F$6,IF(G8=4,SPORT!$G$6,IF(H8=4,SPORT!$H$6,IF(I8=4,SPORT!$I$6,"erreur")))))))) -> t
A9: nom7 | C9: 4 | E9: 3 | G9: 2 | I9: 1 | J9: =CONCATENATE(K9,L9,M9,) -> tue | K9: =IF(B9=1,SPORT!$B$6,IF(C9=1,SPORT!$C$6,IF(D9=1,SPORT!$D$6,IF(E9=1,SPORT!$E$6,IF(F9=1,SPORT!$F$6,IF(G9=1,SPORT!$G$6,IF(H9=1,SPORT!$H$6,IF(I9=1,SPORT!$I$6,"erreur")))))))) -> t | L9: =IF(B9=2,SPORT!$B$6,IF(C9=2,SPORT!$C$6,IF(D9=2,SPORT!$D$6,IF(E9=2,SPORT!$E$6,IF(F9=2,SPORT!$F$6,IF(G9=2,SPORT!$G$6,IF(H9=2,SPORT!$H$6,IF(I9=2,SPORT!$I$6,"erreur")))))))) -> u | M9: =IF(B9=3,SPORT!$B$6,IF(C9=3,SPORT!$C$6,IF(D9=3,SPORT!$D$6,IF(E9=3,SPORT!$E$6,IF(F9=3,SPORT!$F$6,IF(G9=3,SPORT!$G$6,IF(H9=3,SPORT!$H$6,IF(I9=3,SPORT!$I$6,"erreur")))))))) -> e | N9: =IF(B9=4,SPORT!$B$6,IF(C9=4,SPORT!$C$6,IF(D9=4,SPORT!$D$6,IF(E9=4,SPORT!$E$6,IF(F9=4,SPORT!$F$6,IF(G9=4,SPORT!$G$6,IF(H9=4,SPORT!$H$6,IF(I9=4,SPORT!$I$6,"erreur")))))))) -> b
A10: nom8 | B10: 4 | C10: 1 | E10: 3 | G10: 2 | J10: =CONCATENATE(K10,L10,M10,) -> bue | K10: =IF(B10=1,SPORT!$B$6,IF(C10=1,SPORT!$C$6,IF(D10=1,SPORT!$D$6,IF(E10=1,SPORT!$E$6,IF(F10=1,SPORT!$F$6,IF(G10=1,SPORT!$G$6,IF(H10=1,SPORT!$H$6,IF(I10=1,SPORT!$I$6,"erreur")))))))) -> b | L10: =IF(B10=2,SPORT!$B$6,IF(C10=2,SPORT!$C$6,IF(D10=2,SPORT!$D$6,IF(E10=2,SPORT!$E$6,IF(F10=2,SPORT!$F$6,IF(G10=2,SPORT!$G$6,IF(H10=2,SPORT!$H$6,IF(I10=2,SPORT!$I$6,"erreur")))))))) -> u | M10: =IF(B10=3,SPORT!$B$6,IF(C10=3,SPORT!$C$6,IF(D10=3,SPORT!$D$6,IF(E10=3,SPORT!$E$6,IF(F10=3,SPORT!$F$6,IF(G10=3,SPORT!$G$6,IF(H10=3,SPORT!$H$6,IF(I10=3,SPORT!$I$6,"erreur")))))))) -> e | N10: =IF(B10=4,SPORT!$B$6,IF(C10=4,SPORT!$C$6,IF(D10=4,SPORT!$D$6,IF(E10=4,SPORT!$E$6,IF(F10=4,SPORT!$F$6,IF(G10=4,SPORT!$G$6,IF(H10=4,SPORT!$H$6,IF(I10=4,SPORT!$I$6,"erreur")))))))) -> f
A11: nom9 | C11: 1 | E11: 2 | G11: 3 | I11: 4 | J11: =CONCATENATE(K11,L11,M11,) -> beu | K11: =IF(B11=1,SPORT!$B$6,IF(C11=1,SPORT!$C$6,IF(D11=1,SPORT!$D$6,IF(E11=1,SPORT!$E$6,IF(F11=1,SPORT!$F$6,IF(G11=1,SPORT!$G$6,IF(H11=1,SPORT!$H$6,IF(I11=1,SPORT!$I$6,"erreur")))))))) -> b | L11: =IF(B11=2,SPORT!$B$6,IF(C11=2,SPORT!$C$6,IF(D11=2,SPORT!$D$6,IF(E11=2,SPORT!$E$6,IF(F11=2,SPORT!$F$6,IF(G11=2,SPORT!$G$6,IF(H11=2,SPORT!$H$6,IF(I11=2,SPORT!$I$6,"erreur")))))))) -> e | M11: =IF(B11=3,SPORT!$B$6,IF(C11=3,SPORT!$C$6,IF(D11=3,SPORT!$D$6,IF(E11=3,SPORT!$E$6,IF(F11=3,SPORT!$F$6,IF(G11=3,SPORT!$G$6,IF(H11=3,SPORT!$H$6,IF(I11=3,SPORT!$I$6,"erreur")))))))) -> u | N11: =IF(B11=4,SPORT!$B$6,IF(C11=4,SPORT!$C$6,IF(D11=4,SPORT!$D$6,IF(E11=4,SPORT!$E$6,IF(F11=4,SPORT!$F$6,IF(G11=4,SPORT!$G$6,IF(H11=4,SPORT!$H$6,IF(I11=4,SPORT!$I$6,"erreur")))))))) -> t
A12: nom10 | B12: 1 | D12: 2 | F12: 3 | H12: 4 | J12: =CONCATENATE(K12,L12,M12,) -> frd | K12: =IF(B12=1,SPORT!$B$6,IF(C12=1,SPORT!$C$6,IF(D12=1,SPORT!$D$6,IF(E12=1,SPORT!$E$6,IF(F12=1,SPORT!$F$6,IF(G12=1,SPORT!$G$6,IF(H12=1,SPORT!$H$6,IF(I12=1,SPORT!$I$6,"erreur")))))))) -> f | L12: =IF(B12=2,SPORT!$B$6,IF(C12=2,SPORT!$C$6,IF(D12=2,SPORT!$D$6,IF(E12=2,SPORT!$E$6,IF(F12=2,SPORT!$F$6,IF(G12=2,SPORT!$G$6,IF(H12=2,SPORT!$H$6,IF(I12=2,SPORT!$I$6,"erreur")))))))) -> r | M12: =IF(B12=3,SPORT!$B$6,IF(C12=3,SPORT!$C$6,IF(D12=3,SPORT!$D$6,IF(E12=3,SPORT!$E$6,IF(F12=3,SPORT!$F$6,IF(G12=3,SPORT!$G$6,IF(H12=3,SPORT!$H$6,IF(I12=3,SPORT!$I$6,"erreur")))))))) -> d | N12: =IF(B12=4,SPORT!$B$6,IF(C12=4,SPORT!$C$6,IF(D12=4,SPORT!$D$6,IF(E12=4,SPORT!$E$6,IF(F12=4,SPORT!$F$6,IF(G12=4,SPORT!$G$6,IF(H12=4,SPORT!$H$6,IF(I12=4,SPORT!$I$6,"erreur")))))))) -> g
K14: =K3 -> f | L14: =L3 -> b | M14: =M3 -> r | N14: =N3 -> e
K15: =K4 -> r | L15: =L4 -> b | M15: =M4 -> f | N15: =N4 -> d
K16: =K5 -> r | L16: =L5 -> f | M16: =M5 -> d | N16: =N5 -> g
K17: =K6 -> t | L17: =L6 -> d | M17: =M6 -> u | N17: =N6 -> r
K18: =K7 -> e | L18: =L7 -> b | M18: =M7 -> r | N18: =N7 -> u
K19: =K8 -> u | L19: =L8 -> e | M19: =M8 -> d | N19: =N8 -> t
K20: =K9 -> t | L20: =L9 -> u | M20: =M9 -> e | N20: =N9 -> b
K21: =K10 -> b | L21: =L10 -> u | M21: =M10 -> e | N21: =N10 -> f
K22: =K11 -> b | L22: =L11 -> e | M22: =M11 -> u | N22: =N11 -> t
K23: =K12 -> f | L23: =L12 -> r | M23: =M12 -> d | N23: =N12 -> g

Sheet SPORT
B5: football | C5: basket | D5: rugby | E5: escalade | F5: danse | G5: ultimate | H5: golf | I5: tennis
A6: code associé | B6: f | C6: b | D6: r | E6: e | F6: d | G6: u | H6: g | I6: t
