Workbook

Sheet Feuil1
A1: Tournée | B1: lapins | C1: grenouilles | D1: lapin Matin et AM | F1: TRUE | G1: FALSE | H1: 1000 | I1: 2000
H2: Matin | I2: AM
A3: =[1]Données!A2 -> 1065 | B3: TRUE | C3: TRUE | D3: =IF(E3="AM",IF(B3=$F$1,$F$1,B3),IF(C3=$F$1,$F$1)) -> TRUE | E3: =IF(A3<$I$1,$H$2,$I$2) -> Matin
A4: =[1]Données!A3 -> 1065 | B4: FALSE | C4: FALSE | D4: =IF(E4="AM",IF(B4=$F$1,$F$1,B4),IF(C4=$F$1,$F$1)) -> FALSE | E4: =IF(A4<$I$1,$H$2,$I$2) -> Matin
A5: =[1]Données!A4 -> 1065 | B5: FALSE | C5: FALSE | D5: =IF(E5="AM",IF(B5=$F$1,$F$1,B5),IF(C5=$F$1,$F$1)) -> FALSE | E5: =IF(A5<$I$1,$H$2,$I$2) -> Matin
A6: =[1]Données!A5 -> 1065 | B6: TRUE | C6: FALSE | D6: =IF(E6="AM",IF(B6=$F$1,$F$1,B6),IF(C6=$F$1,$F$1)) -> FALSE | E6: =IF(A6<$I$1,$H$2,$I$2) -> Matin
A7: =[1]Données!A6 -> 1065 | B7: FALSE | C7: FALSE | D7: =IF(E7="AM",IF(B7=$F$1,$F$1,B7),IF(C7=$F$1,$F$1)) -> FALSE | E7: =IF(A7<$I$1,$H$2,$I$2) -> Matin
A8: =[1]Données!A7 -> 1065 | B8: FALSE | C8: FALSE | D8: =IF(E8="AM",IF(B8=$F$1,$F$1,B8),IF(C8=$F$1,$F$1)) -> FALSE | E8: =IF(A8<$I$1,$H$2,$I$2) -> Matin
A9: =[1]Données!A8 -> 1065 | B9: FALSE | C9: FALSE | D9: =IF(E9="AM",IF(B9=$F$1,$F$1,B9),IF(C9=$F$1,$F$1)) -> FALSE | E9: =IF(A9<$I$1,$H$2,$I$2) -> Matin
A10: =[1]Données!A9 -> 1065 | B10: FALSE | C10: FALSE | D10: =IF(E10="AM",IF(B10=$F$1,$F$1,B10),IF(C10=$F$1,$F$1)) -> FALSE | E10: =IF(A10<$I$1,$H$2,$I$2) -> Matin
A11: =[1]Données!A10 -> 1065 | B11: FALSE | C11: FALSE | D11: =IF(E11="AM",IF(B11=$F$1,$F$1,B11),IF(C11=$F$1,$F$1)) -> FALSE | E11: =IF(A11<$I$1,$H$2,$I$2) -> Matin
A12: =[1]Données!A11 -> 1065 | B12: FALSE | C12: FALSE | D12: =IF(E12="AM",IF(B12=$F$1,$F$1,B12),IF(C12=$F$1,$F$1)) -> FALSE | E12: =IF(A12<$I$1,$H$2,$I$2) -> Matin
A13: =[1]Données!A12 -> 1065 | B13: FALSE | C13: FALSE | D13: =IF(E13="AM",IF(B13=$F$1,$F$1,B13),IF(C13=$F$1,$F$1)) -> FALSE | E13: =IF(A13<$I$1,$H$2,$I$2) -> Matin
A14: =[1]Données!A13 -> 1065 | B14: FALSE | C14: FALSE | D14: =IF(E14="AM",IF(B14=$F$1,$F$1,B14),IF(C14=$F$1,$F$1)) -> FALSE | E14: =IF(A14<$I$1,$H$2,$I$2) -> Matin
... A2063: =[1]Données!A2062 -> 2071 | B2063: FALSE | C2063: FALSE | D2063: =IF(E2063="AM",IF(B2063=$F$1,$F$1,B2063),IF(C2063=$F$1,$F$1)) -> FALSE | E2063: =IF(A2063<$I$1,$H$2,$I$2) -> AM
A2064: =[1]Données!A2063 -> 2071 | B2064: FALSE | C2064: TRUE | D2064: =IF(E2064="AM",IF(B2064=$F$1,$F$1,B2064),IF(C2064=$F$1,$F$1)) -> FALSE | E2064: =IF(A2064<$I$1,$H$2,$I$2) -> AM | F2064: devrait être vrai
A2065: =[1]Données!A2064 -> 2071 | B2065: FALSE | C2065: FALSE | D2065: =IF(E2065="AM",IF(B2065=$F$1,$F$1,B2065),IF(C2065=$F$1,$F$1)) -> FALSE | E2065: =IF(A2065<$I$1,$H$2,$I$2) -> AM
A2066: =[1]Données!A2065 -> 2071 | B2066: FALSE | C2066: FALSE | D2066: =IF(E2066="AM",IF(B2066=$F$1,$F$1,B2066),IF(C2066=$F$1,$F$1)) -> FALSE | E2066: =IF(A2066<$I$1,$H$2,$I$2) -> AM
A2067: =[1]Données!A2066 -> 2071 | B2067: FALSE | C2067: FALSE | D2067: =IF(E2067="AM",IF(B2067=$F$1,$F$1,B2067),IF(C2067=$F$1,$F$1)) -> FALSE | E2067: =IF(A2067<$I$1,$H$2,$I$2) -> AM
A2068: =[1]Données!A2067 -> 2072 | B2068: TRUE | C2068: TRUE | D2068: =IF(E2068="AM",IF(B2068=$F$1,$F$1,B2068),IF(C2068=$F$1,$F$1)) -> TRUE | E2068: =IF(A2068<$I$1,$H$2,$I$2) -> AM
A2069: =[1]Données!A2068 -> 2072 | B2069: TRUE | C2069: TRUE | D2069: =IF(E2069="AM",IF(B2069=$F$1,$F$1,B2069),IF(C2069=$F$1,$F$1)) -> TRUE | E2069: =IF(A2069<$I$1,$H$2,$I$2) -> AM
A2070: =[1]Données!A2069 -> 2072 | B2070: FALSE | C2070: FALSE | D2070: =IF(E2070="AM",IF(B2070=$F$1,$F$1,B2070),IF(C2070=$F$1,$F$1)) -> FALSE | E2070: =IF(A2070<$I$1,$H$2,$I$2) -> AM
A2071: =[1]Données!A2070 -> 2072 | B2071: FALSE | C2071: FALSE | D2071: =IF(E2071="AM",IF(B2071=$F$1,$F$1,B2071),IF(C2071=$F$1,$F$1)) -> FALSE | E2071: =IF(A2071<$I$1,$H$2,$I$2) -> AM
A2072: =[1]Données!A2071 -> 2072 | B2072: FALSE | C2072: FALSE | D2072: =IF(E2072="AM",IF(B2072=$F$1,$F$1,B2072),IF(C2072=$F$1,$F$1)) -> FALSE | E2072: =IF(A2072<$I$1,$H$2,$I$2) -> AM
A2073: =[1]Données!A2072 -> 2072 | B2073: FALSE | C2073: FALSE | D2073: =IF(E2073="AM",IF(B2073=$F$1,$F$1,B2073),IF(C2073=$F$1,$F$1)) -> FALSE | E2073: =IF(A2073<$I$1,$H$2,$I$2) -> AM
A2074: =[1]Données!A2073 -> 2072 | B2074: TRUE | C2074: FALSE | D2074: =IF(E2074="AM",IF(B2074=$F$1,$F$1,B2074),IF(C2074=$F$1,$F$1)) -> TRUE | E2074: =IF(A2074<$I$1,$H$2,$I$2) -> AM
A2075: =[1]Données!A2074 -> 2072 | B2075: FALSE | C2075: FALSE | D2075: =IF(E2075="AM",IF(B2075=$F$1,$F$1,B2075),IF(C2075=$F$1,$F$1)) -> FALSE | E2075: =IF(A2075<$I$1,$H$2,$I$2) -> AM
A2076: =[1]Données!A2075 -> 2072 | B2076: FALSE | C2076: FALSE | D2076: =IF(E2076="AM",IF(B2076=$F$1,$F$1,B2076),IF(C2076=$F$1,$F$1)) -> FALSE | E2076: =IF(A2076<$I$1,$H$2,$I$2) -> AM
... A2146: =[1]Données!A2145 -> 2072 | B2146: FALSE | C2146: FALSE | D2146: =IF(E2146="AM",IF(B2146=$F$1,$F$1,B2146),IF(C2146=$F$1,$F$1)) -> FALSE | E2146: =IF(A2146<$I$1,$H$2,$I$2) -> AM
A2147: =[1]Données!A2146 -> 2073 | B2147: FALSE | C2147: TRUE | D2147: =IF(E2147="AM",IF(B2147=$F$1,$F$1,B2147),IF(C2147=$F$1,$F$1)) -> FALSE | E2147: =IF(A2147<$I$1,$H$2,$I$2) -> AM | F2147: devrait être vrai
A2148: =[1]Données!A2147 -> 2073 | B2148: FALSE | C2148: FALSE | D2148: =IF(E2148="AM",IF(B2148=$F$1,$F$1,B2148),IF(C2148=$F$1,$F$1)) -> FALSE | E2148: =IF(A2148<$I$1,$H$2,$I$2) -> AM
A2149: =[1]Données!A2148 -> 2073 | B2149: FALSE | C2149: FALSE | D2149: =IF(E2149="AM",IF(B2149=$F$1,$F$1,B2149),IF(C2149=$F$1,$F$1)) -> FALSE | E2149: =IF(A2149<$I$1,$H$2,$I$2) -> AM
A2150: =[1]Données!A2149 -> 2073 | B2150: FALSE | C2150: FALSE | D2150: =IF(E2150="AM",IF(B2150=$F$1,$F$1,B2150),IF(C2150=$F$1,$F$1)) -> FALSE | E2150: =IF(A2150<$I$1,$H$2,$I$2) -> AM
A2151: =[1]Données!A2150 -> 2073 | B2151: TRUE | C2151: FALSE | D2151: =IF(E2151="AM",IF(B2151=$F$1,$F$1,B2151),IF(C2151=$F$1,$F$1)) -> TRUE | E2151: =IF(A2151<$I$1,$H$2,$I$2) -> AM
A2152: =[1]Données!A2151 -> 2073 | B2152: FALSE | C2152: FALSE | D2152: =IF(E2152="AM",IF(B2152=$F$1,$F$1,B2152),IF(C2152=$F$1,$F$1)) -> FALSE | E2152: =IF(A2152<$I$1,$H$2,$I$2) -> AM
A2153: =[1]Données!A2152 -> 2073 | B2153: FALSE | C2153: FALSE | D2153: =IF(E2153="AM",IF(B2153=$F$1,$F$1,B2153),IF(C2153=$F$1,$F$1)) -> FALSE | E2153: =IF(A2153<$I$1,$H$2,$I$2) -> AM
A2154: =[1]Données!A2153 -> 2073 | B2154: FALSE | C2154: FALSE | D2154: =IF(E2154="AM",IF(B2154=$F$1,$F$1,B2154),IF(C2154=$F$1,$F$1)) -> FALSE | E2154: =IF(A2154<$I$1,$H$2,$I$2) -> AM
A2155: =[1]Données!A2154 -> 2073 | B2155: FALSE | C2155: FALSE | D2155: =IF(E2155="AM",IF(B2155=$F$1,$F$1,B2155),IF(C2155=$F$1,$F$1)) -> FALSE | E2155: =IF(A2155<$I$1,$H$2,$I$2) -> AM
A2156: =[1]Données!A2155 -> 2073 | B2156: TRUE | C2156: FALSE | D2156: =IF(E2156="AM",IF(B2156=$F$1,$F$1,B2156),IF(C2156=$F$1,$F$1)) -> TRUE | E2156: =IF(A2156<$I$1,$H$2,$I$2) -> AM
A2157: =[1]Données!A2156 -> 2073 | B2157: TRUE | C2157: FALSE | D2157: =IF(E2157="AM",IF(B2157=$F$1,$F$1,B2157),IF(C2157=$F$1,$F$1)) -> TRUE | E2157: =IF(A2157<$I$1,$H$2,$I$2) -> AM
...
