Workbook

Sheet Feuil1
A1: Tournée | B1: lapins | C1: grenouilles | D1: lapin Matin et AM | F1: TRUE | G1: FALSE | H1: 1000 | I1: 2000
H2: Matin | I2: AM
A3: =[1]Données!A2 -> 1065 | B3: TRUE | C3: TRUE | D3: =IF(E3="AM",IF(B3=$F$1,$F$1,B3),IF(C3=$F$1,$F$1)) -> TRUE | E3: =IF(A3<$I$1,$H$2,$I$2) -> Matin
A4: =[1]Données!A3 -> 1065 | B4: FALSE | C4: FALSE | D4: =IF(E4="AM",IF(B4=$F$1,$F$1,B4),IF(C4=$F$1,$F$1)) -> FALSE | E4: =IF(A4<$I$1,$H$2,$I$2) -> Matin
A5: =[1]Données!A4 -> 1065 | B5: FALSE | C5: FALSE | D5: =IF(E5="AM",IF(B5=$F$1,$F$1,B5),IF(C5=$F$1,$F$1)) -> FALSE | E5: =IF(A5<$I$1,$H$2,$I$2) -> Matin
A6: =[1]Données!A5 -> 1065 | B6: TRUE | C6: FALSE | D6: =IF(E6="AM",IF(B6=$F$1,$F$1,B6),IF(C6=$F$1,$F$1)) -> FALSE | E6: =IF(A6<$I$1,$H$2,$I$2) -> Matin
A7: =[1]Données!A6 -> 1065 | B7: FALSE | C7: FALSE | D7: =IF(E7="AM",IF(B7=$F$1,$F$1,B7),IF(C7=$F$1,$F$1)) -> FALSE | E7: =IF(A7<$I$1,$H$2,$I$2) -> Matin
A8: =[1]Données!A7 -> 1065 | B8: FALSE | C8: FALSE | D8: =IF(E8="AM",IF(B8=$F$1,$F$1,B8),IF(C8=$F$1,$F$1)) -> FALSE | E8: =IF(A8<$I$1,$H$2,$I$2) -> Matin
A9: =[1]Données!A8 -> 1065 | B9: FALSE | C9: FALSE | D9: =IF(E9="AM",IF(B9=$F$1,$F$1,B9),IF(C9=$F$1,$F$1)) -> FALSE | E9: =IF(A9<$I$1,$H$2,$I$2) -> Matin
A10: =[1]Données!A9 -> 1065 | B10: FALSE | C10: FALSE | D10: =IF(E10="AM",IF(B10=$F$1,$F$1,B10),IF(C10=$F$1,$F$1)) -> FALSE | E10: =IF(A10<$I$1,$H$2,$I$2) -> Matin
A11: =[1]Données!A10 -> 1065 | B11: FALSE | C11: FALSE | D11: =IF(E11="AM",IF(B11=$F$1,$F$1,B11),IF(C11=$F$1,$F$1)) -> FALSE | E11: =IF(A11<$I$1,$H$2,$I$2) -> Matin
A12: =[1]Données!A11 -> 1065 | B12: FALSE | C12: FALSE | D12: =IF(E12="AM",IF(B12=$F$1,$F$1,B12),IF(C12=$F$1,$F$1)) -> FALSE | E12: =IF(A12<$I$1,$H$2,$I$2) -> Matin
A13: =[1]Données!A12 -> 1065 | B13: FALSE | C13: FALSE | D13: =IF(E13="AM",IF(B13=$F$1,$F$1,B13),IF(C13=$F$1,$F$1)) -> FALSE | E13: =IF(A13<$I$1,$H$2,$I$2) -> Matin
A14: =[1]Données!A13 -> 1065 | B14: FALSE | C14: FALSE | D14: =IF(E14="AM",IF(B14=$F$1,$F$1,B14),IF(C14=$F$1,$F$1)) -> FALSE | E14: =IF(A14<$I$1,$H$2,$I$2) -> Matin
... A2063: =[1]Données!A2062 -> 2071 | B2063: FALSE | C2063: FALSE | D2063: =IF(E2063="AM",IF(B2063=$F$1,$F$1,B2063),IF(C2063=$F$1,$F$1)) -> FALSE | E2063: =IF(A2063<$I$1,$H$2,$I$2) -> AM
A2064: =[1]Données!A2063 -> 2071 | B2064: FALSE | C2064: TRUE | D2064: =IF(E2064="AM",IF(B2064=$F$1,$F$1,B2064),IF(C2064=$F$1,$F$1)) -> FALSE | E2064: =IF(A2064<$I$1,$H$2,$I$2) -> AM | F2064: devrait être vrai
A2065: =[1]Données!A2064 -> 2071 | B2065: FALSE | C2065: FALSE | D2065: =IF(E2065="AM",IF(B2065=$F$1,$F$1,B2065),IF(C2065=$F$1,$F$1)) -> FALSE | E2065: =IF(A2065<$I$1,$H$2,$I$2) -> AM
A2066: =[1]Données!A2065 -> 2071 | B2066: FALSE | C2066: FALSE | D2066: =IF(E2066="AM",IF(B2066=$F$1,$F$1,B2066),IF(C2066=$F$1,$F$1)) -> FALSE | E2066: =IF(A2066<$I$1,$H$2,$I$2) -> AM
A2067: =[1]Données!A2066 -> 2071 | B2067: FALSE | C2067: FALSE | D2067: =IF(E2067="AM",IF(B2067=$F$1,$F$1,B2067),IF(C2067=$F$1,$F$1)) -> FALSE | E2067: =IF(A2067<$I$1,$H$2,$I$2) -> AM
A2068: =[1]Données!A2067 -> 2072 | B2068: TRUE | C2068: TRUE | D2068: =IF(E2068="AM",IF(B2068=$F$1,$F$1,B2068),IF(C2068=$F$1,$F$1)) -> TRUE | E2068: =IF(A2068<$I$1,$H$2,$I$2) -> AM
A2069: =[1]Données!A2068 -> 2072 | B2069: TRUE | C2069: TRUE | D2069: =IF(E2069="AM",IF(B2069=$F$1,$F$1,B2069),IF(C2069=$F$1,$F$1)) -> TRUE | E2069: =IF(A2069<$I$1,$H$2,$I$2) -> AM
A2070: =[1]Données!A2069 -> 2072 | B2070: FALSE | C2070: FALSE | D2070: =IF(E2070="AM",IF(B2070=$F$1,$F$1,B2070),IF(C2070=$F$1,$F$1)) -> FALSE | E2070: =IF(A2070<$I$1,$H$2,$I$2) -> AM
A2071: =[1]Données!A2070 -> 2072 | B2071: FALSE | C2071: FALSE | D2071: =IF(E2071="AM",IF(B2071=$F$1,$F$1,B2071),IF(C2071=$F$1,$F$1)) -> FALSE | E2071: =IF(A2071<$I$1,$H$2,$I$2) -> AM
A2072: =[1]Données!A2071 -> 2072 | B2072: FALSE | C2072: FALSE | D2072: =IF(E2072="AM",IF(B2072=$F$1,$F$1,B2072),IF(C2072=$F$1,$F$1)) -> FALSE | E2072: =IF(A2072<$I$1,$H$2,$I$2) -> AM
A2073: =[1]Données!A2072 -> 2072 | B2073: FALSE | C2073: FALSE | D2073: =IF(E2073="AM",IF(B2073=$F$1,$F$1,B2073),IF(C2073=$F$1,$F$1)) -> FALSE | E2073: =IF(A2073<$I$1,$H$2,$I$2) -> AM
A2074: =[1]Données!A2073 -> 2072 | B2074: TRUE | C2074: FALSE | D2074: =IF(E2074="AM",IF(B2074=$F$1,$F$1,B2074),IF(C2074=$F$1,$F$1)) -> TRUE | E2074: =IF(A2074<$I$1,$H$2,$I$2) -> AM
A2075: =[1]Données!A2074 -> 2072 | B2075: FALSE | C2075: FALSE | D2075: =IF(E2075="AM",IF(B2075=$F$1,$F$1,B2075),IF(C2075=$F$1,$F$1)) -> FALSE | E2075: =IF(A2075<$I$1,$H$2,$I$2) -> AM
A2076: =[1]Données!A2075 -> 2072 | B2076: FALSE | C2076: FALSE | D2076: =IF(E2076="AM",IF(B2076=$F$1,$F$1,B2076),IF(C2076=$F$1,$F$1)) -> FALSE | E2076: =IF(A2076<$I$1,$H$2,$I$2) -> AM
... A2146: =[1]Données!A2145 -> 2072 | B2146: FALSE | C2146: FALSE | D2146: =IF(E2146="AM",IF(B2146=$F$1,$F$1,B2146),IF(C2146=$F$1,$F$1)) -> FALSE | E2146: =IF(A2146<$I$1,$H$2,$I$2) -> AM
A2147: =[1]Données!A2146 -> 2073 | B2147: FALSE | C2147: TRUE | D2147: =IF(E2147="AM",IF(B2147=$F$1,$F$1,B2147),IF(C2147=$F$1,$F$1)) -> FALSE | E2147: =IF(A2147<$I$1,$H$2,$I$2) -> AM | F2147: devrait être vrai
A2148: =[1]Données!A2147 -> 2073 | B2148: FALSE | C2148: FALSE | D2148: =IF(E2148="AM",IF(B2148=$F$1,$F$1,B2148),IF(C2148=$F$1,$F$1)) -> FALSE | E2148: =IF(A2148<$I$1,$H$2,$I$2) -> AM
A2149: =[1]Données!A2148 -> 2073 | B2149: FALSE | C2149: FALSE | D2149: =IF(E2149="AM",IF(B2149=$F$1,$F$1,B2149),IF(C2149=$F$1,$F$1)) -> FALSE | E2149: =IF(A2149<$I$1,$H$2,$I$2) -> AM
A2150: =[1]Données!A2149 -> 2073 | B2150: FALSE | C2150: FALSE | D2150: =IF(E2150="AM",IF(B2150=$F$1,$F$1,B2150),IF(C2150=$F$1,$F$1)) -> FALSE | E2150: =IF(A2150<$I$1,$H$2,$I$2) -> AM
A2151: =[1]Données!A2150 -> 2073 | B2151: TRUE | C2151: FALSE | D2151: =IF(E2151="AM",IF(B2151=$F$1,$F$1,B2151),IF(C2151=$F$1,$F$1)) -> TRUE | E2151: =IF(A2151<$I$1,$H$2,$I$2) -> AM
A2152: =[1]Données!A2151 -> 2073 | B2152: FALSE | C2152: FALSE | D2152: =IF(E2152="AM",IF(B2152=$F$1,$F$1,B2152),IF(C2152=$F$1,$F$1)) -> FALSE | E2152: =IF(A2152<$I$1,$H$2,$I$2) -> AM
A2153: =[1]Données!A2152 -> 2073 | B2153: FALSE | C2153: FALSE | D2153: =IF(E2153="AM",IF(B2153=$F$1,$F$1,B2153),IF(C2153=$F$1,$F$1)) -> FALSE | E2153: =IF(A2153<$I$1,$H$2,$I$2) -> AM
A2154: =[1]Données!A2153 -> 2073 | B2154: FALSE | C2154: FALSE | D2154: =IF(E2154="AM",IF(B2154=$F$1,$F$1,B2154),IF(C2154=$F$1,$F$1)) -> FALSE | E2154: =IF(A2154<$I$1,$H$2,$I$2) -> AM
A2155: =[1]Données!A2154 -> 2073 | B2155: FALSE | C2155: FALSE | D2155: =IF(E2155="AM",IF(B2155=$F$1,$F$1,B2155),IF(C2155=$F$1,$F$1)) -> FALSE | E2155: =IF(A2155<$I$1,$H$2,$I$2) -> AM
A2156: =[1]Données!A2155 -> 2073 | B2156: TRUE | C2156: FALSE | D2156: =IF(E2156="AM",IF(B2156=$F$1,$F$1,B2156),IF(C2156=$F$1,$F$1)) -> TRUE | E2156: =IF(A2156<$I$1,$H$2,$I$2) -> AM
A2157: =[1]Données!A2156 -> 2073 | B2157: TRUE | C2157: FALSE | D2157: =IF(E2157="AM",IF(B2157=$F$1,$F$1,B2157),IF(C2157=$F$1,$F$1)) -> TRUE | E2157: =IF(A2157<$I$1,$H$2,$I$2) -> AM
A2158: =[1]Données!A2157 -> 2073 | B2158: FALSE | C2158: FALSE | D2158: =IF(E2158="AM",IF(B2158=$F$1,$F$1,B2158),IF(C2158=$F$1,$F$1)) -> FALSE | E2158: =IF(A2158<$I$1,$H$2,$I$2) -> AM
A2159: =[1]Données!A2158 -> 2073 | B2159: TRUE | C2159: FALSE | D2159: =IF(E2159="AM",IF(B2159=$F$1,$F$1,B2159),IF(C2159=$F$1,$F$1)) -> TRUE | E2159: =IF(A2159<$I$1,$H$2,$I$2) -> AM
... A2283: =[1]Données!A2282 -> 2074 | B2283: FALSE | C2283: FALSE | D2283: =IF(E2283="AM",IF(B2283=$F$1,$F$1,B2283),IF(C2283=$F$1,$F$1)) -> FALSE | E2283: =IF(A2283<$I$1,$H$2,$I$2) -> AM
A2284: =[1]Données!A2283 -> 2074 | B2284: FALSE | C2284: TRUE | D2284: =IF(E2284="AM",IF(B2284=$F$1,$F$1,B2284),IF(C2284=$F$1,$F$1)) -> FALSE | E2284: =IF(A2284<$I$1,$H$2,$I$2) -> AM | F2284: devrait être vrai
A2285: =[1]Données!A2284 -> 2074 | B2285: FALSE | C2285: FALSE | D2285: =IF(E2285="AM",IF(B2285=$F$1,$F$1,B2285),IF(C2285=$F$1,$F$1)) -> FALSE | E2285: =IF(A2285<$I$1,$H$2,$I$2) -> AM
A2286: =[1]Données!A2285 -> 2074 | B2286: FALSE | C2286: FALSE | D2286: =IF(E2286="AM",IF(B2286=$F$1,$F$1,B2286),IF(C2286=$F$1,$F$1)) -> FALSE | E2286: =IF(A2286<$I$1,$H$2,$I$2) -> AM
A2287: =[1]Données!A2286 -> 2074 | B2287: FALSE | C2287: FALSE | D2287: =IF(E2287="AM",IF(B2287=$F$1,$F$1,B2287),IF(C2287=$F$1,$F$1)) -> FALSE | E2287: =IF(A2287<$I$1,$H$2,$I$2) -> AM
A2288: =[1]Données!A2287 -> 2074 | B2288: FALSE | C2288: FALSE | D2288: =IF(E2288="AM",IF(B2288=$F$1,$F$1,B2288),IF(C2288=$F$1,$F$1)) -> FALSE | E2288: =IF(A2288<$I$1,$H$2,$I$2) -> AM
A2289: =[1]Données!A2288 -> 2074 | B2289: FALSE | C2289: FALSE | D2289: =IF(E2289="AM",IF(B2289=$F$1,$F$1,B2289),IF(C2289=$F$1,$F$1)) -> FALSE | E2289: =IF(A2289<$I$1,$H$2,$I$2) -> AM
A2290: =[1]Données!A2289 -> 2074 | B2290: TRUE | C2290: TRUE | D2290: =IF(E2290="AM",IF(B2290=$F$1,$F$1,B2290),IF(C2290=$F$1,$F$1)) -> TRUE | E2290: =IF(A2290<$I$1,$H$2,$I$2) -> AM
A2291: =[1]Données!A2290 -> 2074 | B2291: TRUE | C2291: TRUE | D2291: =IF(E2291="AM",IF(B2291=$F$1,$F$1,B2291),IF(C2291=$F$1,$F$1)) -> TRUE | E2291: =IF(A2291<$I$1,$H$2,$I$2) -> AM
A2292: =[1]Données!A2291 -> 2074 | B2292: TRUE | C2292: TRUE | D2292: =IF(E2292="AM",IF(B2292=$F$1,$F$1,B2292),IF(C2292=$F$1,$F$1)) -> TRUE | E2292: =IF(A2292<$I$1,$H$2,$I$2) -> AM
A2293: =[1]Données!A2292 -> 2074 | B2293: FALSE | C2293: FALSE | D2293: =IF(E2293="AM",IF(B2293=$F$1,$F$1,B2293),IF(C2293=$F$1,$F$1)) -> FALSE | E2293: =IF(A2293<$I$1,$H$2,$I$2) -> AM
A2294: =[1]Données!A2293 -> 2074 | B2294: TRUE | C2294: FALSE | D2294: =IF(E2294="AM",IF(B2294=$F$1,$F$1,B2294),IF(C2294=$F$1,$F$1)) -> TRUE | E2294: =IF(A2294<$I$1,$H$2,$I$2) -> AM
A2295: =[1]Données!A2294 -> 2074 | B2295: FALSE | C2295: FALSE | D2295: =IF(E2295="AM",IF(B2295=$F$1,$F$1,B2295),IF(C2295=$F$1,$F$1)) -> FALSE | E2295: =IF(A2295<$I$1,$H$2,$I$2) -> AM
A2296: =[1]Données!A2295 -> 2074 | B2296: TRUE | C2296: TRUE | D2296: =IF(E2296="AM",IF(B2296=$F$1,$F$1,B2296),IF(C2296=$F$1,$F$1)) -> TRUE | E2296: =IF(A2296<$I$1,$H$2,$I$2) -> AM
... A2683: =[1]Données!A2682 -> 2080 | B2683: FALSE | C2683: FALSE | D2683: =IF(E2683="AM",IF(B2683=$F$1,$F$1,B2683),IF(C2683=$F$1,$F$1)) -> FALSE | E2683: =IF(A2683<$I$1,$H$2,$I$2) -> AM
A2684: =[1]Données!A2683 -> 2080 | B2684: FALSE | C2684: TRUE | D2684: =IF(E2684="AM",IF(B2684=$F$1,$F$1,B2684),IF(C2684=$F$1,$F$1)) -> FALSE | E2684: =IF(A2684<$I$1,$H$2,$I$2) -> AM | F2684: devrait être vrai
A2685: =[1]Données!A2684 -> 2080 | B2685: FALSE | C2685: FALSE | D2685: =IF(E2685="AM",IF(B2685=$F$1,$F$1,B2685),IF(C2685=$F$1,$F$1)) -> FALSE | E2685: =IF(A2685<$I$1,$H$2,$I$2) -> AM
A2686: =[1]Données!A2685 -> 2080 | B2686: FALSE | C2686: FALSE | D2686: =IF(E2686="AM",IF(B2686=$F$1,$F$1,B2686),IF(C2686=$F$1,$F$1)) -> FALSE | E2686: =IF(A2686<$I$1,$H$2,$I$2) -> AM
A2687: =[1]Données!A2686 -> 2080 | B2687: FALSE | C2687: FALSE | D2687: =IF(E2687="AM",IF(B2687=$F$1,$F$1,B2687),IF(C2687=$F$1,$F$1)) -> FALSE | E2687: =IF(A2687<$I$1,$H$2,$I$2) -> AM
A2688: =[1]Données!A2687 -> 2080 | B2688: FALSE | C2688: FALSE | D2688: =IF(E2688="AM",IF(B2688=$F$1,$F$1,B2688),IF(C2688=$F$1,$F$1)) -> FALSE | E2688: =IF(A2688<$I$1,$H$2,$I$2) -> AM
A2689: =[1]Données!A2688 -> 2080 | B2689: FALSE | C2689: FALSE | D2689: =IF(E2689="AM",IF(B2689=$F$1,$F$1,B2689),IF(C2689=$F$1,$F$1)) -> FALSE | E2689: =IF(A2689<$I$1,$H$2,$I$2) -> AM
A2690: =[1]Données!A2689 -> 2080 | B2690: FALSE | C2690: FALSE | D2690: =IF(E2690="AM",IF(B2690=$F$1,$F$1,B2690),IF(C2690=$F$1,$F$1)) -> FALSE | E2690: =IF(A2690<$I$1,$H$2,$I$2) -> AM
A2691: =[1]Données!A2690 -> 2080 | B2691: FALSE | C2691: FALSE | D2691: =IF(E2691="AM",IF(B2691=$F$1,$F$1,B2691),IF(C2691=$F$1,$F$1)) -> FALSE | E2691: =IF(A2691<$I$1,$H$2,$I$2) -> AM
A2692: =[1]Données!A2691 -> 2080 | B2692: FALSE | C2692: FALSE | D2692: =IF(E2692="AM",IF(B2692=$F$1,$F$1,B2692),IF(C2692=$F$1,$F$1)) -> FALSE | E2692: =IF(A2692<$I$1,$H$2,$I$2) -> AM
A2693: =[1]Données!A2692 -> 2080 | B2693: FALSE | C2693: FALSE | D2693: =IF(E2693="AM",IF(B2693=$F$1,$F$1,B2693),IF(C2693=$F$1,$F$1)) -> FALSE | E2693: =IF(A2693<$I$1,$H$2,$I$2) -> AM
A2694: =[1]Données!A2693 -> 2080 | B2694: FALSE | C2694: FALSE | D2694: =IF(E2694="AM",IF(B2694=$F$1,$F$1,B2694),IF(C2694=$F$1,$F$1)) -> FALSE | E2694: =IF(A2694<$I$1,$H$2,$I$2) -> AM
A2695: =[1]Données!A2694 -> 2080 | B2695: FALSE | C2695: FALSE | D2695: =IF(E2695="AM",IF(B2695=$F$1,$F$1,B2695),IF(C2695=$F$1,$F$1)) -> FALSE | E2695: =IF(A2695<$I$1,$H$2,$I$2) -> AM
A2696: =[1]Données!A2695 -> 2080 | B2696: FALSE | C2696: FALSE | D2696: =IF(E2696="AM",IF(B2696=$F$1,$F$1,B2696),IF(C2696=$F$1,$F$1)) -> FALSE | E2696: =IF(A2696<$I$1,$H$2,$I$2) -> AM
... A2842: =[1]Données!A2841 -> 2082 | B2842: FALSE | C2842: FALSE | D2842: =IF(E2842="AM",IF(B2842=$F$1,$F$1,B2842),IF(C2842=$F$1,$F$1)) -> FALSE | E2842: =IF(A2842<$I$1,$H$2,$I$2) -> AM
A2843: =[1]Données!A2842 -> 0 | B2843: 0 | C2843: 0 | D2843: =IF(E2843="AM",IF(B2843=$F$1,$F$1,B2843),IF(C2843=$F$1,$F$1)) -> FALSE | E2843: =IF(A2843<$I$1,$H$2,$I$2) -> Matin
A2844: =[1]Données!A2843 -> 0 | B2844: 0 | C2844: 0 | D2844: =IF(E2844="AM",IF(B2844=$F$1,$F$1,B2844),IF(C2844=$F$1,$F$1)) -> FALSE | E2844: =IF(A2844<$I$1,$H$2,$I$2) -> Matin
A2845: =[1]Données!A2844 -> 0 | B2845: 0 | C2845: 0 | D2845: =IF(E2845="AM",IF(B2845=$F$1,$F$1,B2845),IF(C2845=$F$1,$F$1)) -> FALSE | E2845: =IF(A2845<$I$1,$H$2,$I$2) -> Matin
A2846: =[1]Données!A2845 -> 0 | B2846: 0 | C2846: 0 | D2846: =IF(E2846="AM",IF(B2846=$F$1,$F$1,B2846),IF(C2846=$F$1,$F$1)) -> FALSE | E2846: =IF(A2846<$I$1,$H$2,$I$2) -> Matin
A2847: =[1]Données!A2846 -> 0 | B2847: 0 | C2847: 0 | D2847: =IF(E2847="AM",IF(B2847=$F$1,$F$1,B2847),IF(C2847=$F$1,$F$1)) -> FALSE | E2847: =IF(A2847<$I$1,$H$2,$I$2) -> Matin
A2848: =[1]Données!A2847 -> 0 | B2848: 0 | C2848: 0 | D2848: =IF(E2848="AM",IF(B2848=$F$1,$F$1,B2848),IF(C2848=$F$1,$F$1)) -> FALSE | E2848: =IF(A2848<$I$1,$H$2,$I$2) -> Matin
A2849: =[1]Données!A2848 -> 0 | B2849: 0 | C2849: 0 | D2849: =IF(E2849="AM",IF(B2849=$F$1,$F$1,B2849),IF(C2849=$F$1,$F$1)) -> FALSE | E2849: =IF(A2849<$I$1,$H$2,$I$2) -> Matin
A2850: =[1]Données!A2849 -> 0 | B2850: 0 | C2850: 0 | D2850: =IF(E2850="AM",IF(B2850=$F$1,$F$1,B2850),IF(C2850=$F$1,$F$1)) -> FALSE | E2850: =IF(A2850<$I$1,$H$2,$I$2) -> Matin
A2851: =[1]Données!A2850 -> 0 | B2851: 0 | C2851: 0 | D2851: =IF(E2851="AM",IF(B2851=$F$1,$F$1,B2851),IF(C2851=$F$1,$F$1)) -> FALSE | E2851: =IF(A2851<$I$1,$H$2,$I$2) -> Matin
A2852: =[1]Données!A2851 -> 0 | B2852: 0 | C2852: 0 | D2852: =IF(E2852="AM",IF(B2852=$F$1,$F$1,B2852),IF(C2852=$F$1,$F$1)) -> FALSE | E2852: =IF(A2852<$I$1,$H$2,$I$2) -> Matin
A2853: =[1]Données!A2852 -> 0 | B2853: 0 | C2853: 0 | D2853: =IF(E2853="AM",IF(B2853=$F$1,$F$1,B2853),IF(C2853=$F$1,$F$1)) -> FALSE | E2853: =IF(A2853<$I$1,$H$2,$I$2) -> Matin
A2854: =[1]Données!A2853 -> 0 | B2854: 0 | C2854: 0 | D2854: =IF(E2854="AM",IF(B2854=$F$1,$F$1,B2854),IF(C2854=$F$1,$F$1)) -> FALSE | E2854: =IF(A2854<$I$1,$H$2,$I$2) -> Matin
... A3000: =[1]Données!A2999 -> 0 | B3000: 0 | C3000: 0 | D3000: =IF(E3000="AM",IF(B3000=$F$1,$F$1,B3000),IF(C3000=$F$1,$F$1)) -> FALSE | E3000: =IF(A3000<$I$1,$H$2,$I$2) -> Matin
