Workbook

Sheet FEMMES DE CHAMBRES
A2: FEMME DE CHAMBRE TRAVAILLANT AUJOURD'HUI
E3: A BLANC | Q3: RECOUCHES
A4: 1 | B4: CORINNE | D4: =B4 -> CORINNE | E4: =calcul!C6 -> 3 | F4: DOUBLE ET TWIN | G4: + | H4: =calcul!E6 -> 1 | I4: TRIPLES | J4: + | K4: =calcul!G6 -> 0 | L4: FAMILIALES | M4: + | N4: =calcul!I6 -> 1 | O4: APPART | P4: & | Q4: =calcul!B6 -> 1 | R4: DOUBLE ET TWIN | S4: + | T4: =calcul!D6 -> 0 | U4: TRIPLES | V4: + | W4: =calcul!F6 -> 0 | X4: FAMILIALES | Y4: + | Z4: =calcul!H6 -> 0 | AA4: APPART
A5: 2 | B5: MIRENTXU | D5: =B5 -> MIRENTXU | E5: =calcul!C7 -> 3 | F5: DOUBLE ET TWIN | G5: + | H5: =calcul!E7 -> 1 | I5: TRIPLES | J5: + | K5: =calcul!G7 -> 0 | L5: FAMILIALES | M5: + | N5: =calcul!I7 -> 1 | O5: APPART | P5: & | Q5: =calcul!B7 -> 1 | R5: DOUBLE ET TWIN | S5: + | T5: =calcul!D7 -> 0 | U5: TRIPLES | V5: + | W5: =calcul!F7 -> 0 | X5: FAMILIALES | Y5: + | Z5: =calcul!H7 -> 0 | AA5: APPART
A6: 3 | B6: MARINE | D6: =B6 -> MARINE | E6: =calcul!C8 -> 3 | F6: DOUBLE ET TWIN | G6: + | H6: =calcul!E8 -> 1 | I6: TRIPLES | J6: + | K6: =calcul!G8 -> 0 | L6: FAMILIALES | M6: + | N6: =calcul!I8 -> 1 | O6: APPART | P6: & | Q6: =calcul!B8 -> 1 | R6: DOUBLE ET TWIN | S6: + | T6: =calcul!D8 -> 0 | U6: TRIPLES | V6: + | W6: =calcul!F8 -> 0 | X6: FAMILIALES | Y6: + | Z6: =calcul!H8 -> 0 | AA6: APPART
A7: 4 | B7: x | D7: =B7 -> x | E7: =calcul!C9 -> 3 | F7: DOUBLE ET TWIN | G7: + | H7: =calcul!E9 -> 1 | I7: TRIPLES | J7: + | K7: =calcul!G9 -> 0 | L7: FAMILIALES | M7: + | N7: =calcul!I9 -> 0 | O7: APPART | P7: & | Q7: =calcul!B9 -> 0 | R7: DOUBLE ET TWIN | S7: + | T7: =calcul!D9 -> 0 | U7: TRIPLES | V7: + | W7: =calcul!F9 -> 0 | X7: FAMILIALES | Y7: + | Z7: =calcul!H9 -> 0 | AA7: APPART
A8: 5 | B8: y | D8: =B8 -> y | E8: =calcul!C10 -> 2 | F8: DOUBLE ET TWIN | G8: + | H8: =calcul!E10 -> 1 | I8: TRIPLES | J8: + | K8: =calcul!G10 -> 0 | L8: FAMILIALES | M8: + | N8: =calcul!I10 -> 0 | O8: APPART | P8: & | Q8: =calcul!B10 -> 0 | R8: DOUBLE ET TWIN | S8: + | T8: =calcul!D10 -> 1 | U8: TRIPLES | V8: + | W8: =calcul!F10 -> 0 | X8: FAMILIALES | Y8: + | Z8: =calcul!H10 -> 0 | AA8: APPART
A9: 6 | B9: z | D9: =B9 -> z | E9: =calcul!C11 -> 2 | F9: DOUBLE ET TWIN | G9: + | H9: =calcul!E11 -> 1 | I9: TRIPLES | J9: + | K9: =calcul!G11 -> 0 | L9: FAMILIALES | M9: + | N9: =calcul!I11 -> 0 | O9: APPART | P9: & | Q9: =calcul!B11 -> 0 | R9: DOUBLE ET TWIN | S9: + | T9: =calcul!D11 -> 1 | U9: TRIPLES | V9: + | W9: =calcul!F11 -> 0 | X9: FAMILIALES | Y9: + | Z9: =calcul!H11 -> 0 | AA9: APPART
A10: 7 | B10: a | D10: =B10 -> a | E10: =calcul!C12 -> 2 | F10: DOUBLE ET TWIN | G10: + | H10: =calcul!E12 -> 0 | I10: TRIPLES | J10: + | K10: =calcul!G12 -> 0 | L10: FAMILIALES | M10: + | N10: =calcul!I12 -> 0 | O10: APPART | P10: & | Q10: =calcul!B12 -> 0 | R10: DOUBLE ET TWIN | S10: + | T10: =calcul!D12 -> 1 | U10: TRIPLES | V10: + | W10: =calcul!F12 -> 0 | X10: FAMILIALES | Y10: + | Z10: =calcul!H12 -> 0 | AA10: APPART
A11: TOTAL | B11: =COUNTA(B4:B10) -> 7
A13: CHAMBRES A EFFECTUER | F13: le nombre de chambre est déséquilibré ici
B14: RECOUCHE | C14: BLANC
A15: DOUBLE ET TWIN | B15: 3 | C15: 18
A16: TRIPLE | B16: 3 | C16: 6
A17: FAMILIALE | C17: 0
A18: APPARTEMENT | C18: 3

Sheet calcul
B4: DOUBLE ET TWIN | D4: TRIPLE | F4: FAMILIALE | H4: APPARTEMENTS
A5: FEMME DE CHAMBRE | B5: RECOUCHE | C5: BLANC | D5: RECOUCHE | E5: BLANC | F5: RECOUCHE | G5: BLANC | H5: RECOUCHE | I5: BLANC
A6: ='FEMMES DE CHAMBRES'!B4 -> CORINNE | B6: =IF(MOD(B13,$A$14)=0,INT(B13/$A$14),IF(MOD(B13,$A$14)<$A$14,(INT(B13/$A$14)+1),0)) -> 1 | C6: =IF(MOD(C13,$A$14)=0,INT(C13/$A$14),IF(MOD(C13,$A$14)<$A$14,(INT(C13/$A$14)+1),0)) -> 3 | D6: =INT(D13/$A$14) -> 0 | E6: =IF(MOD(E13,$A$14)=0,INT(E13/$A$14),IF(MOD(E13,$A$14)<$A$14,(INT(E13/$A$14)+1),0)) -> 1 | F6: =IF(MOD(F13,$A$14)=0,INT(F13/$A$14),IF(MOD(F13,$A$14)<$A$14,(INT(F13/$A$14)+1),0)) -> 0 | G6: =INT(G13/$A$14) -> 0 | H6: =INT(H13/$A$14) -> 0 | I6: =IF(MOD(I13,$A$14)=0,INT(I13/$A$14),IF(MOD(I13,$A$14)<$A$14,(INT(I13/$A$14)+1),0)) -> 1
A7: ='FEMMES DE CHAMBRES'!B5 -> MIRENTXU | B7: =IF(MOD(B13,$A$14)=0,INT(B13/$A$14),IF(MOD(B13,$A$14)<($A$14-5),(INT(B13/$A$14)),INT(B13/$A$14)+1)) -> 1 | C7: =IF(MOD(C13,$A$14)=0,INT(C13/$A$14),IF(MOD(C13,$A$14)<($A$14-5),(INT(C13/$A$14)),INT(C13/$A$14)+1)) -> 3 | D7: =IF(MOD(D13,$A$14)=0,INT(D13/$A$14),IF(MOD(D13,$A$14)<($A$14-1),(INT(D13/$A$14)),INT(D13/$A$14)+1)) -> 0 | E7: =IF(MOD(E13,$A$14)=0,INT(E13/$A$14),IF(MOD(E13,$A$14)<($A$14-5),(INT(E13/$A$14)),INT(E13/$A$14)+1)) -> 1 | F7: =IF(MOD(F13,$A$14)=0,INT(F13/$A$14),IF(MOD(F13,$A$14)<($A$14-5),(INT(F13/$A$14)),INT(F13/$A$14)+1)) -> 0 | G7: =IF(MOD(G13,$A$14)=0,INT(G13/$A$14),IF(MOD(G13,$A$14)<($A$14-1),(INT(G13/$A$14)),INT(G13/$A$14)+1)) -> 0 | H7: =IF(MOD(H13,$A$14)=0,INT(H13/$A$14),IF(MOD(H13,$A$14)<($A$14-1),(INT(H13/$A$14)),INT(H13/$A$14)+1)) -> 0 | I7: =IF(MOD(I13,$A$14)=0,INT(I13/$A$14),IF(MOD(I13,$A$14)<($A$14-5),(INT(I13/$A$14)),INT(I13/$A$14)+1)) -> 1
A8: ='FEMMES DE CHAMBRES'!B6 -> MARINE | B8: =IF(MOD(B13,$A$14)=0,INT(B13/$A$14),IF(MOD(B13,$A$14)<($A$14-4),(INT(B13/$A$14)),INT(B13/$A$14)+1)) -> 1 | C8: =IF(MOD(C13,$A$14)=0,INT(C13/$A$14),IF(MOD(C13,$A$14)<($A$14-4),(INT(C13/$A$14)),INT(C13/$A$14)+1)) -> 3 | D8: =IF(MOD(D13,$A$14)=0,INT(D13/$A$14),IF(MOD(D13,$A$14)<($A$14-2),(INT(D13/$A$14)),INT(D13/$A$14)+1)) -> 0 | E8: =IF(MOD(E13,$A$14)=0,INT(E13/$A$14),IF(MOD(E13,$A$14)<($A$14-4),(INT(E13/$A$14)),INT(E13/$A$14)+1)) -> 1 | F8: =IF(MOD(F13,$A$14)=0,INT(F13/$A$14),IF(MOD(F13,$A$14)<($A$14-4),(INT(F13/$A$14)),INT(F13/$A$14)+1)) -> 0 | G8: =IF(MOD(G13,$A$14)=0,INT(G13/$A$14),IF(MOD(G13,$A$14)<($A$14-2),(INT(G13/$A$14)),INT(G13/$A$14)+1)) -> 0 | H8: =IF(MOD(H13,$A$14)=0,INT(H13/$A$14),IF(MOD(H13,$A$14)<($A$14-2),(INT(H13/$A$14)),INT(H13/$A$14)+1)) -> 0 | I8: =IF(MOD(I13,$A$14)=0,INT(I13/$A$14),IF(MOD(I13,$A$14)<($A$14-4),(INT(I13/$A$14)),INT(I13/$A$14)+1)) -> 1
A9: ='FEMMES DE CHAMBRES'!B7 -> x | B9: =IF(MOD(B13,$A$14)=0,INT(B13/$A$14),IF(MOD(B13,$A$14)<($A$14-3),(INT(B13/$A$14)),INT(B13/$A$14)+1)) -> 0 | C9: =IF(MOD(C13,$A$14)=0,INT(C13/$A$14),IF(MOD(C13,$A$14)<($A$14-3),(INT(C13/$A$14)),INT(C13/$A$14)+1)) -> 3 | D9: =IF(MOD(D13,$A$14)=0,INT(D13/$A$14),IF(MOD(D13,$A$14)<($A$14-3),(INT(D13/$A$14)),INT(D13/$A$14)+1)) -> 0 | E9: =IF(MOD(E13,$A$14)=0,INT(E13/$A$14),IF(MOD(E13,$A$14)<($A$14-3),(INT(E13/$A$14)),INT(E13/$A$14)+1)) -> 1 | F9: =IF(MOD(F13,$A$14)=0,INT(F13/$A$14),IF(MOD(F13,$A$14)<($A$14-3),(INT(F13/$A$14)),INT(F13/$A$14)+1)) -> 0 | G9: =IF(MOD(G13,$A$14)=0,INT(G13/$A$14),IF(MOD(G13,$A$14)<($A$14-3),(INT(G13/$A$14)),INT(G13/$A$14)+1)) -> 0 | H9: =IF(MOD(H13,$A$14)=0,INT(H13/$A$14),IF(MOD(H13,$A$14)<($A$14-3),(INT(H13/$A$14)),INT(H13/$A$14)+1)) -> 0 | I9: =IF(MOD(I13,$A$14)=0,INT(I13/$A$14),IF(MOD(I13,$A$14)<($A$14-3),(INT(I13/$A$14)),INT(I13/$A$14)+1)) -> 0
A10: ='FEMMES DE CHAMBRES'!B8 -> y | B10: =IF(MOD(B13,$A$14)=0,INT(B13/$A$14),IF(MOD(B13,$A$14)<($A$14-2),(INT(B13/$A$14)),INT(B13/$A$14)+1)) -> 0 | C10: =IF(MOD(C13,$A$14)=0,INT(C13/$A$14),IF(MOD(C13,$A$14)<($A$14-2),(INT(C13/$A$14)),INT(C13/$A$14)+1)) -> 2 | D10: =IF(MOD(D13,$A$14)=0,INT(D13/$A$14),IF(MOD(D13,$A$14)<($A$14-4),(INT(D13/$A$14)),INT(D13/$A$14)+1)) -> 1 | E10: =IF(MOD(E13,$A$14)=0,INT(E13/$A$14),IF(MOD(E13,$A$14)<($A$14-2),(INT(E13/$A$14)),INT(E13/$A$14)+1)) -> 1 | F10: =IF(MOD(F13,$A$14)=0,INT(F13/$A$14),IF(MOD(F13,$A$14)<($A$14-2),(INT(F13/$A$14)),INT(F13/$A$14)+1)) -> 0 | G10: =IF(MOD(G13,$A$14)=0,INT(G13/$A$14),IF(MOD(G13,$A$14)<($A$14-4),(INT(G13/$A$14)),INT(G13/$A$14)+1)) -> 0 | H10: =IF(MOD(H13,$A$14)=0,INT(H13/$A$14),IF(MOD(H13,$A$14)<($A$14-4),(INT(H13/$A$14)),INT(H13/$A$14)+1)) -> 0 | I10: =IF(MOD(I13,$A$14)=0,INT(I13/$A$14),IF(MOD(I13,$A$14)<($A$14-2),(INT(I13/$A$14)),INT(I13/$A$14)+1)) -> 0
A11: ='FEMMES DE CHAMBRES'!B9 -> z | B11: =IF(MOD(B13,$A$14)=0,INT(B13/$A$14),IF(MOD(B13,$A$14)<($A$14-1),(INT(B13/$A$14)),INT(B13/$A$14)+1)) -> 0 | C11: =IF(MOD(C13,$A$14)=0,INT(C13/$A$14),IF(MOD(C13,$A$14)<($A$14-1),(INT(C13/$A$14)),INT(C13/$A$14)+1)) -> 2 | D11: =IF(MOD(D13,$A$14)=0,INT(D13/$A$14),IF(MOD(D13,$A$14)<($A$14-5),(INT(D13/$A$14)),INT(D13/$A$14)+1)) -> 1 | E11: =IF(MOD(E13,$A$14)=0,INT(E13/$A$14),IF(MOD(E13,$A$14)<($A$14-1),(INT(E13/$A$14)),INT(E13/$A$14)+1)) -> 1 | F11: =IF(MOD(F13,$A$14)=0,INT(F13/$A$14),IF(MOD(F13,$A$14)<($A$14-1),(INT(F13/$A$14)),INT(F13/$A$14)+1)) -> 0 | G11: =IF(MOD(G13,$A$14)=0,INT(G13/$A$14),IF(MOD(G13,$A$14)<($A$14-5),(INT(G13/$A$14)),INT(G13/$A$14)+1)) -> 0 | H11: =IF(MOD(H13,$A$14)=0,INT(H13/$A$14),IF(MOD(H13,$A$14)<($A$14-5),(INT(H13/$A$14)),INT(H13/$A$14)+1)) -> 0 | I11: =IF(MOD(I13,$A$14)=0,INT(I13/$A$14),IF(MOD(I13,$A$14)<($A$14-1),(INT(I13/$A$14)),INT(I13/$A$14)+1)) -> 0
A12: ='FEMMES DE CHAMBRES'!B10 -> a | B12: =INT(B13/$A$14) -> 0 | C12: =INT(C13/$A$14) -> 2 | D12: =IF(MOD(D13,$A$14)=0,INT(D13/$A$14),IF(MOD(D13,$A$14)<$A$14,(INT(D13/$A$14)+1),0)) -> 1 | E12: =INT(E13/$A$14) -> 0 | F12: =INT(F13/$A$14) -> 0 | G12: =IF(MOD(G13,$A$14)=0,INT(G13/$A$14),IF(MOD(G13,$A$14)<$A$14,(INT(G13/$A$14)+1),0)) -> 0 | H12: =IF(MOD(H13,$A$14)=0,INT(H13/$A$14),IF(MOD(H13,$A$14)<$A$14,(INT(H13/$A$14)+1),0)) -> 0 | I12: =INT(I13/$A$14) -> 0
A13: TOTAL | B13: ='FEMMES DE CHAMBRES'!B15 -> 3 | C13: ='FEMMES DE CHAMBRES'!C15 -> 18 | D13: ='FEMMES DE CHAMBRES'!B16 -> 3 | E13: ='FEMMES DE CHAMBRES'!C16 -> 6 | F13: ='FEMMES DE CHAMBRES'!B17 -> 0 | G13: ='FEMMES DE CHAMBRES'!C17 -> 0 | H13: ='FEMMES DE CHAMBRES'!B18 -> 0 | I13: ='FEMMES DE CHAMBRES'!C18 -> 3
A14: ='FEMMES DE CHAMBRES'!B11 -> 7
