Workbook
Name colh: Feuil1!$I$4:$I$9
Name coli: OFFSET(Feuil1!$J$4,,,ROWS(outil))
Name colj: OFFSET(Feuil1!$K$4,,,ROWS(Maçonnerie))
Name epi: Feuil1!$C$4:$C$9
Name Maçonnerie: OFFSET(Feuil1!$C$13,,,COUNTIF(Feuil1!$C$13:$C$36,"><"))
Name outil: OFFSET(Feuil1!$F$4,,,COUNTIF(Feuil1!$F$4:$F$48,"><"))

Sheet Feuil1
B2: EPI | E2: outil
I3: epi | J3: outil | K3: maçonnerie
C4: chaussure sécu | F4: Te30 | I4: TRUE | J4: TRUE | K4: TRUE
C5: Casque de chantier | F5: Te1000 | I5: FALSE | J5: TRUE | K5: TRUE
C6: Gand | F6: meuleuse | I6: FALSE | J6: TRUE | K6: TRUE
C7: lunette | I7: TRUE | K7: TRUE
C8: protection oreille | I8: TRUE | K8: TRUE
C9: pantalon, veste | I9: TRUE | K9: TRUE
K10: TRUE
B11: Maçonnerie | K11: FALSE
K12: FALSE
C13: Aspirateur | K13: FALSE
C14: rallonge
C15: sac de prélèvement
C16: béton
C17: Mortier
C18: truelle
C19: balais
C20: seaux
C21: scoth
B26: Métrologie
C28: mètre
C29: pied à coulisse
C30: rapporteur
C31: craie grasse

Sheet Feuil2
B2: Liste des affaires Chantier
B3: epi | E3: outil | G3: maçonnerie
B4: {=IFERROR(INDEX(epi,SMALL(IF(colh*1=1,ROW(colh)-3,""),ROW(A1))),"")} -> chaussure sécu | E4: {=IFERROR(INDEX(outil,SMALL(IF(coli*1=1,ROW(coli)-3,""),ROW(D1))),"")} -> Te30 | G4: {=IFERROR(INDEX(Maçonnerie,SMALL(IF(colj*1=1,ROW(colj)-3,""),ROW(F1))),"")} -> Aspirateur
B5: {=IFERROR(INDEX(epi,SMALL(IF(colh*1=1,ROW(colh)-3,""),ROW(A2))),"")} -> lunette | E5: {=IFERROR(INDEX(outil,SMALL(IF(coli*1=1,ROW(coli)-3,""),ROW(D2))),"")} -> Te1000 | G5: {=IFERROR(INDEX(Maçonnerie,SMALL(IF(colj*1=1,ROW(colj)-3,""),ROW(F2))),"")} -> rallonge
B6: {=IFERROR(INDEX(epi,SMALL(IF(colh*1=1,ROW(colh)-3,""),ROW(A3))),"")} -> protection oreille | E6: {=IFERROR(INDEX(outil,SMALL(IF(coli*1=1,ROW(coli)-3,""),ROW(D3))),"")} -> meuleuse | G6: {=IFERROR(INDEX(Maçonnerie,SMALL(IF(colj*1=1,ROW(colj)-3,""),ROW(F3))),"")} -> sac de prélèvement
B7: {=IFERROR(INDEX(epi,SMALL(IF(colh*1=1,ROW(colh)-3,""),ROW(A4))),"")} -> pantalon, veste | E7: {=IFERROR(INDEX(outil,SMALL(IF(coli*1=1,ROW(coli)-3,""),ROW(D4))),"")} | G7: {=IFERROR(INDEX(Maçonnerie,SMALL(IF(colj*1=1,ROW(colj)-3,""),ROW(F4))),"")} -> béton
B8: {=IFERROR(INDEX(epi,SMALL(IF(colh*1=1,ROW(colh)-3,""),ROW(A5))),"")} | E8: {=IFERROR(INDEX(outil,SMALL(IF(coli*1=1,ROW(coli)-3,""),ROW(D5))),"")} | G8: {=IFERROR(INDEX(Maçonnerie,SMALL(IF(colj*1=1,ROW(colj)-3,""),ROW(F5))),"")} -> Mortier
B9: {=IFERROR(INDEX(epi,SMALL(IF(colh*1=1,ROW(colh)-3,""),ROW(A6))),"")} | E9: {=IFERROR(INDEX(outil,SMALL(IF(coli*1=1,ROW(coli)-3,""),ROW(D6))),"")} | G9: {=IFERROR(INDEX(Maçonnerie,SMALL(IF(colj*1=1,ROW(colj)-3,""),ROW(F6))),"")} -> truelle
B10: {=IFERROR(INDEX(epi,SMALL(IF(colh*1=1,ROW(colh)-3,""),ROW(A7))),"")} | E10: {=IFERROR(INDEX(outil,SMALL(IF(coli*1=1,ROW(coli)-3,""),ROW(D7))),"")} | G10: {=IFERROR(INDEX(Maçonnerie,SMALL(IF(colj*1=1,ROW(colj)-3,""),ROW(F7))),"")} -> balais
B11: {=IFERROR(INDEX(epi,SMALL(IF(colh*1=1,ROW(colh)-3,""),ROW(A8))),"")} | E11: {=IFERROR(INDEX(outil,SMALL(IF(coli*1=1,ROW(coli)-3,""),ROW(D8))),"")} | G11: {=IFERROR(INDEX(Maçonnerie,SMALL(IF(colj*1=1,ROW(colj)-3,""),ROW(F8))),"")}
B12: {=IFERROR(INDEX(epi,SMALL(IF(colh*1=1,ROW(colh)-3,""),ROW(A9))),"")} | E12: {=IFERROR(INDEX(outil,SMALL(IF(coli*1=1,ROW(coli)-3,""),ROW(D9))),"")} | G12: {=IFERROR(INDEX(Maçonnerie,SMALL(IF(colj*1=1,ROW(colj)-3,""),ROW(F9))),"")}
E13: {=IFERROR(INDEX(outil,SMALL(IF(coli*1=1,ROW(coli)-3,""),ROW(D10))),"")} | G13: {=IFERROR(INDEX(Maçonnerie,SMALL(IF(colj*1=1,ROW(colj)-3,""),ROW(F10))),"")}
E14: {=IFERROR(INDEX(outil,SMALL(IF(coli*1=1,ROW(coli)-3,""),ROW(D11))),"")} | G14: {=IFERROR(INDEX(Maçonnerie,SMALL(IF(colj*1=1,ROW(colj)-3,""),ROW(F11))),"")}
B15: =IF(Feuil1!I15=TRUE,Feuil1!C15,"") | E15: {=IFERROR(INDEX(outil,SMALL(IF(coli*1=1,ROW(coli)-3,""),ROW(D12))),"")} | G15: {=IFERROR(INDEX(Maçonnerie,SMALL(IF(colj*1=1,ROW(colj)-3,""),ROW(F12))),"")}
B16: =IF(Feuil1!I16=TRUE,Feuil1!C16,"") | E16: {=IFERROR(INDEX(outil,SMALL(IF(coli*1=1,ROW(coli)-3,""),ROW(D13))),"")} | G16: {=IFERROR(INDEX(Maçonnerie,SMALL(IF(colj*1=1,ROW(colj)-3,""),ROW(F13))),"")}
B17: =IF(Feuil1!I17=TRUE,Feuil1!C17,"") | E17: {=IFERROR(INDEX(outil,SMALL(IF(coli*1=1,ROW(coli)-3,""),ROW(D14))),"")} | G17: {=IFERROR(INDEX(Maçonnerie,SMALL(IF(colj*1=1,ROW(colj)-3,""),ROW(F14))),"")}
B18: =IF(Feuil1!I18=TRUE,Feuil1!C18,"") | E18: {=IFERROR(INDEX(outil,SMALL(IF(coli*1=1,ROW(coli)-3,""),ROW(D15))),"")} | G18: {=IFERROR(INDEX(Maçonnerie,SMALL(IF(colj*1=1,ROW(colj)-3,""),ROW(F15))),"")}
B19: =IF(Feuil1!I19=TRUE,Feuil1!C19,"") | E19: {=IFERROR(INDEX(outil,SMALL(IF(coli*1=1,ROW(coli)-3,""),ROW(D16))),"")} | G19: {=IFERROR(INDEX(Maçonnerie,SMALL(IF(colj*1=1,ROW(colj)-3,""),ROW(F16))),"")}
B20: =IF(Feuil1!I20=TRUE,Feuil1!C20,"") | E20: =IF(Feuil1!J20=TRUE,Feuil1!F20,"")
B21: =IF(Feuil2!H21=TRUE,Feuil1!C21,"")
B22: =IF(Feuil2!H22=TRUE,Feuil1!C22,"")
B23: =IF(Feuil2!H23=TRUE,Feuil1!C23,"")
B24: =IF(Feuil2!H24=TRUE,Feuil1!C24,"")
B25: =IF(Feuil2!H25=TRUE,Feuil1!C25,"")
