Workbook

Sheet Base élèves
A1: Dossard | B1: Nom | C1: Prénom | D1: Classe | E1: Année | F1: Catégorie | G1: Sexe | H1: Heure Course | I1: Heure Vestiaire | J1: Parcours | K1: Distance | L1: Couleur dossard
A2: 6101 | B2: BARDET | C2: Arthur | D2: 6_1 | E2: 2011 | F2: BG 1 | G2: G | H2: 9h40 | I2: 9h10 | J2: Rouge | K2: 1700 | L2: Bleu foncé
A3: =A2+1 -> 6102 | B3: BOUDIN--POPPE | C3: Manon | D3: 6_1 | E3: 2011 | F3: BF 1 | G3: F | H3: 9h20 | I3: 8h50 | J3: Rouge | K3: 1700 | L3: Rose
A4: =A3+1 -> 6103 | B4: CAMPAGNE | C4: Sasha | D4: 6_1 | E4: 2011 | F4: BG 1 | G4: G | H4: 9h40 | I4: 9h10 | J4: Rouge | K4: 1700 | L4: Bleu foncé
A5: =A4+1 -> 6104 | B5: CASSAIGNE | C5: Eloïse | D5: 6_1 | E5: 2011 | F5: BF 1 | G5: F | H5: 9h20 | I5: 8h50 | J5: Rouge | K5: 1700 | L5: Rose
A6: =A5+1 -> 6105 | B6: DESCLAUX | C6: Louis | D6: 6_1 | E6: 2011 | F6: BG 1 | G6: G | H6: 9h40 | I6: 9h10 | J6: Rouge | K6: 1700 | L6: Bleu foncé
A7: =A6+1 -> 6106 | B7: DUBOS | C7: Mathis | D7: 6_1 | E7: 2011 | F7: BG 1 | G7: G | H7: 9h40 | I7: 9h10 | J7: Rouge | K7: 1700 | L7: Bleu foncé
A8: =A7+1 -> 6107 | B8: EL HAJ | C8: Chahid | D8: 6_1 | E8: 2011 | F8: BG 1 | G8: G | H8: 9h40 | I8: 9h10 | J8: Rouge | K8: 1700 | L8: Bleu foncé
A9: =A8+1 -> 6108 | B9: FOUQUET | C9: Lillian | D9: 6_1 | E9: 2011 | F9: BG 1 | G9: G | H9: 9h40 | I9: 9h10 | J9: Rouge | K9: 1700 | L9: Bleu foncé
A10: =A9+1 -> 6109 | B10: GIANETTI-GERARD | C10: Ezio | D10: 6_1 | E10: 2011 | F10: BG 1 | G10: G | H10: 9h40 | I10: 9h10 | J10: Rouge | K10: 1700 | L10: Bleu foncé
A11: =A10+1 -> 6110 | B11: GREGOIRE | C11: Léo | D11: 6_1 | E11: 2011 | F11: BG 1 | G11: G | H11: 9h40 | I11: 9h10 | J11: Rouge | K11: 1700 | L11: Bleu foncé
A12: =A11+1 -> 6111 | B12: HASTARAN | C12: Eysce | D12: 6_1 | E12: 2011 | F12: BG 1 | G12: G | H12: 9h40 | I12: 9h10 | J12: Rouge | K12: 1700 | L12: Bleu foncé
A13: =A12+1 -> 6112 | B13: HENAFF | C13: Gaël | D13: 6_1 | E13: 2011 | F13: BG 1 | G13: G | H13: 9h40 | I13: 9h10 | J13: Rouge | K13: 1700 | L13: Bleu foncé
A14: =A13+1 -> 6113 | B14: HOTTART | C14: Liséane | D14: 6_1 | E14: 2011 | F14: BF 1 | G14: F | H14: 9h20 | I14: 8h50 | J14: Rouge | K14: 1700 | L14: Rose
... A27: =A26+1 -> 6126 | B27: ZEKRYTY | C27: Yanis | D27: 6_1 | E27: 2011 | F27: BG 1 | G27: G | H27: 9h40 | I27: 9h10 | J27: Rouge | K27: 1700 | L27: Bleu foncé
A28: 6201 | B28: AUBERT-RICOU | C28: Ysée | D28: 6_2 | E28: 2011 | F28: BF 1 | G28: F | H28: 9h20 | I28: 8h50 | J28: Rouge | K28: 1700 | L28: Rose
A29: =A28+1 -> 6202 | B29: BARBAS--FEITO | C29: Lisandro | D29: 6_2 | E29: 2011 | F29: BG 1 | G29: G | H29: 9h40 | I29: 9h10 | J29: Rouge | K29: 1700 | L29: Bleu foncé
A30: =A29+1 -> 6203 | B30: BERJOT | C30: Lucie | D30: 6_2 | E30: 2011 | F30: BF 1 | G30: F | H30: 9h20 | I30: 8h50 | J30: Rouge | K30: 1700 | L30: Rose
A31: =A30+1 -> 6204 | B31: CAZEAUX | C31: Raphaël | D31: 6_2 | E31: 2011 | F31: BG 1 | G31: G | H31: 9h40 | I31: 9h10 | J31: Rouge | K31: 1700 | L31: Bleu foncé
A32: =A31+1 -> 6205 | B32: COURAUD | C32: Maëlys | D32: 6_2 | E32: 2011 | F32: BF 1 | G32: F | H32: 9h20 | I32: 8h50 | J32: Rouge | K32: 1700 | L32: Rose
A33: =A32+1 -> 6206 | B33: DELEFOSSE | C33: Alizée | D33: 6_2 | E33: 2011 | F33: BF 1 | G33: F | H33: 9h20 | I33: 8h50 | J33: Rouge | K33: 1700 | L33: Rose
A34: =A33+1 -> 6207 | B34: DESHOGUES | C34: Ethann | D34: 6_2 | E34: 2011 | F34: BG 1 | G34: G | H34: 9h40 | I34: 9h10 | J34: Rouge | K34: 1700 | L34: Bleu foncé
A35: =A34+1 -> 6208 | B35: DUPRAT | C35: Kélia | D35: 6_2 | E35: 2011 | F35: BF 1 | G35: F | H35: 9h20 | I35: 8h50 | J35: Rouge | K35: 1700 | L35: Rose
A36: =A35+1 -> 6209 | B36: FAUCHIER | C36: Flore | D36: 6_2 | E36: 2011 | F36: BF 1 | G36: F | H36: 9h20 | I36: 8h50 | J36: Rouge | K36: 1700 | L36: Rose
A37: =A36+1 -> 6210 | B37: GABES | C37: Amy | D37: 6_2 | E37: 2011 | F37: BF 1 | G37: F | H37: 9h20 | I37: 8h50 | J37: Rouge | K37: 1700 | L37: Rose
A38: =A37+1 -> 6211 | B38: MONTEIRO DOS SANTOS | C38: Edu | D38: 6_2 | E38: 2011 | F38: BG 1 | G38: G | H38: 9h40 | I38: 9h10 | J38: Rouge | K38: 1700 | L38: Bleu foncé
A39: =A38+1 -> 6212 | B39: MOREAU | C39: Kim | D39: 6_2 | E39: 2011 | F39: BF 1 | G39: F | H39: 9h20 | I39: 8h50 | J39: Rouge | K39: 1700 | L39: Rose
A40: =A39+1 -> 6213 | B40: MOUSTIÉ | C40: Lana | D40: 6_2 | E40: 2011 | F40: BF 1 | G40: F | H40: 9h20 | I40: 8h50 | J40: Rouge | K40: 1700 | L40: Rose
... A51: =A50+1 -> 6224 | B51: VERGER | C51: Téa | D51: 6_2 | E51: 2011 | F51: BF 1 | G51: F | H51: 9h20 | I51: 8h50 | J51: Rouge | K51: 1700 | L51: Rose
A52: 6301 | B52: AÏTALI | C52: Manar | D52: 6_3 | E52: 2011 | F52: BF 1 | G52: F | H52: 9h20 | I52: 8h50 | J52: Rouge | K52: 1700 | L52: Rose
A53: =A52+1 -> 6302 | B53: BESSONNET | C53: Lucie | D53: 6_3 | E53: 2011 | F53: BF 1 | G53: F | H53: 9h20 | I53: 8h50 | J53: Rouge | K53: 1700 | L53: Rose
A54: =A53+1 -> 6303 | B54: BONNIER | C54: Luka | D54: 6_3 | E54: 2011 | F54: BG 1 | G54: G | H54: 9h40 | I54: 9h10 | J54: Rouge | K54: 1700 | L54: Bleu foncé
A55: =A54+1 -> 6304 | B55: CAPPIELLO | C55: Angelo | D55: 6_3 | E55: 2011 | F55: BG 1 | G55: G | H55: 9h40 | I55: 9h10 | J55: Rouge | K55: 1700 | L55: Bleu foncé
A56: =A55+1 -> 6305 | B56: CASTAING--PARISSE | C56: Lucas | D56: 6_3 | E56: 2011 | F56: BG 1 | G56: G | H56: 9h40 | I56: 9h10 | J56: Rouge | K56: 1700 | L56: Bleu foncé
A57: =A56+1 -> 6306 | B57: CAUMONT | C57: Marguerite | D57: 6_3 | E57: 2011 | F57: BF 1 | G57: F | H57: 9h20 | I57: 8h50 | J57: Rouge | K57: 1700 | L57: Rose
A58: =A57+1 -> 6307 | B58: DEMERON | C58: Arthur | D58: 6_3 | E58: 2011 | F58: BG 1 | G58: G | H58: 9h40 | I58: 9h10 | J58: Rouge | K58: 1700 | L58: Bleu foncé
A59: =A58+1 -> 6308 | B59: DOREMUS | C59: Maxime | D59: 6_3 | E59: 2011 | F59: BG 1 | G59: G | H59: 9h40 | I59: 9h10 | J59: Rouge | K59: 1700 | L59: Bleu foncé
A60: =A59+1 -> 6309 | B60: GAY | C60: Camille | D60: 6_3 | E60: 2011 | F60: BG 1 | G60: G | H60: 9h40 | I60: 9h10 | J60: Rouge | K60: 1700 | L60: Bleu foncé
A61: =A60+1 -> 6310 | B61: LEHOUX DE MADAILLAN DE MONTATAIRE | C61: Louis | D61: 6_3 | E61: 2012 | F61: BG 1 | G61: G | H61: 9h40 | I61: 9h10 | J61: Rouge | K61: 1700 | L61: Bleu foncé
A62: =A61+1 -> 6311 | B62: LESOUEF | C62: Lilian | D62: 6_3 | E62: 2011 | F62: BG 1 | G62: G | H62: 9h40 | I62: 9h10 | J62: Rouge | K62: 1700 | L62: Bleu foncé
A63: =A62+1 -> 6312 | B63: LESPARRE ROPARS | C63: Paul | D63: 6_3 | E63: 2011 | F63: BG 1 | G63: G | H63: 9h40 | I63: 9h10 | J63: Rouge | K63: 1700 | L63: Bleu foncé
A64: =A63+1 -> 6313 | B64: MARINHO | C64: Diégo | D64: 6_3 | E64: 2011 | F64: BG 1 | G64: G | H64: 9h40 | I64: 9h10 | J64: Rouge | K64: 1700 | L64: Bleu foncé
... A75: =A74+1 -> 6324 | B75: VIOLLEAU | C75: Nina | D75: 6_3 | E75: 2011 | F75: BF 1 | G75: F | H75: 9h20 | I75: 8h50 | J75: Rouge | K75: 1700 | L75: Rose
A76: 6401 | B76: BOUCHER | C76: Loris | D76: 6_4 | E76: 2011 | F76: BG 1 | G76: G | H76: 9h40 | I76: 9h10 | J76: Rouge | K76: 1700 | L76: Bleu foncé
A77: =A76+1 -> 6402 | B77: CHAUSSE | C77: Antony | D77: 6_4 | E77: 2011 | F77: BG 1 | G77: G | H77: 9h40 | I77: 9h10 | J77: Rouge | K77: 1700 | L77: Bleu foncé
A78: =A77+1 -> 6403 | B78: COUTURES | C78: Maelys | D78: 6_4 | E78: 2011 | F78: BF 1 | G78: F | H78: 9h20 | I78: 8h50 | J78: Rouge | K78: 1700 | L78: Rose
A79: =A78+1 -> 6404 | B79: DE BRITO | C79: Melyssa | D79: 6_4 | E79: 2011 | F79: BF 1 | G79: F | H79: 9h20 | I79: 8h50 | J79: Rouge | K79: 1700 | L79: Rose
A80: =A79+1 -> 6405 | B80: DEBIARD | C80: Raphaël | D80: 6_4 | E80: 2011 | F80: BG 1 | G80: G | H80: 9h40 | I80: 9h10 | J80: Rouge | K80: 1700 | L80: Bleu foncé
A81: =A80+1 -> 6406 | B81: GALIBERT | C81: Margaux | D81: 6_4 | E81: 2011 | F81: BF 1 | G81: F | H81: 9h20 | I81: 8h50 | J81: Rouge | K81: 1700 | L81: Rose
A82: =A81+1 -> 6407 | B82: GAUDY | C82: Sarah | D82: 6_4 | E82: 2011 | F82: BF 1 | G82: F | H82: 9h20 | I82: 8h50 | J82: Rouge | K82: 1700 | L82: Rose
A83: =A82+1 -> 6408 | B83: GELDER | C83: Eva | D83: 6_4 | E83: 2011 | F83: BF 1 | G83: F | H83: 9h20 | I83: 8h50 | J83: Rouge | K83: 1700 | L83: Rose
A84: =A83+1 -> 6409 | B84: GERARDIN | C84: Werner | D84: 6_4 | E84: 2011 | F84: BG 1 | G84: G | H84: 9h40 | I84: 9h10 | J84: Rouge | K84: 1700 | L84: Bleu foncé
A85: =A84+1 -> 6410 | B85: GONÇALVES | C85: Rihana | D85: 6_4 | E85: 2011 | F85: BF 1 | G85: F | H85: 9h20 | I85: 8h50 | J85: Rouge | K85: 1700 | L85: Rose
A86: =A85+1 -> 6411 | B86: GUIRAUDON | C86: Gabriel | D86: 6_4 | E86: 2011 | F86: BG 1 | G86: G | H86: 9h40 | I86: 9h10 | J86: Rouge | K86: 1700 | L86: Bleu foncé
A87: =A86+1 -> 6412 | B87: LABAURIE | C87: Maëlys | D87: 6_4 | E87: 2011 | F87: BF 1 | G87: F | H87: 9h20 | I87: 8h50 | J87: Rouge | K87: 1700 | L87: Rose
A88: =A87+1 -> 6413 | B88: LARTIGUE | C88: Angelo | D88: 6_4 | E88: 2011 | F88: BG 1 | G88: G | H88: 9h40 | I88: 9h10 | J88: Rouge | K88: 1700 | L88: Bleu foncé
... A98: =A97+1 -> 6423 | B98: SABACA | C98: Enzo | D98: 6_4 | E98: 2011 | F98: BG 1 | G98: G | H98: 9h40 | I98: 9h10 | J98: Rouge | K98: 1700 | L98: Bleu foncé
A99: 6501 | B99: BAUDY | C99: Tya | D99: 6_5 | E99: 2011 | F99: BF 1 | G99: F | H99: 9h20 | I99: 8h50 | J99: Rouge | K99: 1700 | L99: Rose
A100: =A99+1 -> 6502 | B100: BERTEAUX | C100: Adrien | D100: 6_5 | E100: 2011 | F100: BG 1 | G100: G | H100: 9h40 | I100: 9h10 | J100: Rouge | K100: 1700 | L100: Bleu foncé
A101: =A100+1 -> 6503 | B101: BIAIS | C101: Lola | D101: 6_5 | E101: 2011 | F101: BF 1 | G101: F | H101: 9h20 | I101: 8h50 | J101: Rouge | K101: 1700 | L101: Rose
A102: =A101+1 -> 6504 | B102: BUTIN | C102: Gabriel | D102: 6_5 | E102: 2011 | F102: BG 1 | G102: G | H102: 9h40 | I102: 9h10 | J102: Rouge | K102: 1700 | L102: Bleu foncé
A103: =A102+1 -> 6505 | B103: CAMPOS | C103: Inês | D103: 6_5 | E103: 2011 | F103: BF 1 | G103: F | H103: 9h20 | I103: 8h50 | J103: Rouge | K103: 1700 | L103: Rose
A104: =A103+1 -> 6506 | B104: CHALUTAUD | C104: Esteban | D104: 6_5 | E104: 2011 | F104: BG 1 | G104: G | H104: 9h40 | I104: 9h10 | J104: Rouge | K104: 1700 | L104: Bleu foncé
A105: =A104+1 -> 6507 | B105: COSTE | C105: Faustine | D105: 6_5 | E105: 2011 | F105: BF 1 | G105: F | H105: 9h20 | I105: 8h50 | J105: Rouge | K105: 1700 | L105: Rose
A106: =A105+1 -> 6508 | B106: COULOMBEL | C106: Sacha | D106: 6_5 | E106: 2012 | F106: BG 1 | G106: G | H106: 9h40 | I106: 9h10 | J106: Rouge | K106: 1700 | L106: Bleu foncé
A107: =A106+1 -> 6509 | B107: DAVID | C107: Léna | D107: 6_5 | E107: 2011 | F107: BF 1 | G107: F | H107: 9h20 | I107: 8h50 | J107: Rouge | K107: 1700 | L107: Rose
A108: =A107+1 -> 6510 | B108: DE JAEGER | C108: Cléa | D108: 6_5 | E108: 2011 | F108: BF 1 | G108: F | H108: 9h20 | I108: 8h50 | J108: Rouge | K108: 1700 | L108: Rose
A109: =A108+1 -> 6511 | B109: FERNANDEZ | C109: Emma | D109: 6_5 | E109: 2011 | F109: BF 1 | G109: F | H109: 9h20 | I109: 8h50 | J109: Rouge | K109: 1700 | L109: Rose
A110: =A109+1 -> 6512 | B110: GOMEZ | C110: Lucca | D110: 6_5 | E110: 2011 | F110: BG 1 | G110: G | H110: 9h40 | I110: 9h10 | J110: Rouge | K110: 1700 | L110: Bleu foncé
A111: =A110+1 -> 6513 | B111: JOLY | C111: Baptiste | D111: 6_5 | E111: 2011 | F111: BG 1 | G111: G | H111: 9h40 | I111: 9h10 | J111: Rouge | K111: 1700 | L111: Bleu foncé
... A120: =A119+1 -> 6522 | B120: SICAIRE | C120: Morgane | D120: 6_5 | E120: 2011 | F120: BF 1 | G120: F | H120: 9h20 | I120: 8h50 | J120: Rouge | K120: 1700 | L120: Rose
A121: =A120+1 -> 6523 | B121: ZEROURA | C121: Yassin | D121: ="6_5" -> 6_5 | E121: 2010 | F121: BG 2 | G121: G | H121: 11h30 | I121: 11h | J121: Vert | K121: 2600 | L121: Jaune
A122: 6601 | B122: ABDELMALEK | C122: Safia | D122: 6_6 | E122: 2011 | F122: BF 1 | G122: F | H122: 9h20 | I122: 8h50 | J122: Rouge | K122: 1700 | L122: Rose
A123: =A122+1 -> 6602 | B123: ALEZINE | C123: Léa | D123: 6_6 | E123: 2011 | F123: BF 1 | G123: F | H123: 9h20 | I123: 8h50 | J123: Rouge | K123: 1700 | L123: Rose
A124: =A123+1 -> 6603 | B124: BERNARD | C124: Maurice | D124: 6_6 | E124: 2011 | F124: BG 1 | G124: G | H124: 9h40 | I124: 9h10 | J124: Rouge | K124: 1700 | L124: Bleu foncé
A125: =A124+1 -> 6604 | B125: BUTZBACH | C125: Loona | D125: 6_6 | E125: 2011 | F125: BF 1 | G125: F | H125: 9h20 | I125: 8h50 | J125: Rouge | K125: 1700 | L125: Rose
A126: =A125+1 -> 6605 | B126: CAULE | C126: Margot | D126: 6_6 | E126: 2011 | F126: BF 1 | G126: F | H126: 9h20 | I126: 8h50 | J126: Rouge | K126: 1700 | L126: Rose
A127: =A126+1 -> 6606 | B127: CERRILLO | C127: Grace | D127: 6_6 | E127: 2011 | F127: BF 1 | G127: F | H127: 9h20 | I127: 8h50 | J127: Rouge | K127: 1700 | L127: Rose
A128: =A127+1 -> 6607 | B128: CHEDDAD | C128: Kylian | D128: 6_6 | E128: 2011 | F128: BG 1 | G128: G | H128: 9h40 | I128: 9h10 | J128: Rouge | K128: 1700 | L128: Bleu foncé
A129: =A128+1 -> 6608 | B129: COLOMBIE | C129: Lucie | D129: 6_6 | E129: 2011 | F129: BF 1 | G129: F | H129: 9h20 | I129: 8h50 | J129: Rouge | K129: 1700 | L129: Rose
A130: =A129+1 -> 6609 | B130: COURBIN--GATIER | C130: Sacha | D130: 6_6 | E130: 2011 | F130: BG 1 | G130: G | H130: 9h40 | I130: 9h10 | J130: Rouge | K130: 1700 | L130: Bleu foncé
A131: =A130+1 -> 6610 | B131: DE OLIVEIRA RODRIGUES | C131: Vitoria | D131: 6_6 | E131: 2011 | F131: BF 1 | G131: F | H131: 9h20 | I131: 8h50 | J131: Rouge | K131: 1700 | L131: Rose
A132: =A131+1 -> 6611 | B132: DESESSARD | C132: Martin | D132: 6_6 | E132: 2011 | F132: BG 1 | G132: G | H132: 9h40 | I132: 9h10 | J132: Rouge | K132: 1700 | L132: Bleu foncé
A133: =A132+1 -> 6612 | B133: ECHEVARRIA | C133: Carla | D133: 6_6 | E133: 2011 | F133: BF 1 | G133: F | H133: 9h20 | I133: 8h50 | J133: Rouge | K133: 1700 | L133: Rose
A134: =A133+1 -> 6613 | B134: ESSABRI | C134: Meriem | D134: 6_6 | E134: 2011 | F134: BF 1 | G134: F | H134: 9h20 | I134: 8h50 | J134: Rouge | K134: 1700 | L134: Rose
... A145: =A144+1 -> 6624 | B145: STANESCU | C145: Denissa | D145: 6_6 | E145: 2011 | F145: BF 1 | G145: F | H145: 9h20 | I145: 8h50 | J145: Rouge | K145: 1700 | L145: Rose
A146: 6701 | B146: ALARAIFY HABAISHA | C146: Remas | D146: 6_7 | E146: 2011 | F146: BF 1 | G146: F | H146: 9h20 | I146: 8h50 | J146: Rouge | K146: 1700 | L146: Rose
A147: =A146+1 -> 6702 | B147: CARDIN | C147: Laura | D147: 6_7 | E147: 2011 | F147: BF 1 | G147: F | H147: 9h20 | I147: 8h50 | J147: Rouge | K147: 1700 | L147: Rose
A148: =A147+1 -> 6703 | B148: DUCOUSSO | C148: Alexia | D148: 6_7 | E148: 2011 | F148: BF 1 | G148: F | H148: 9h20 | I148: 8h50 | J148: Rouge | K148: 1700 | L148: Rose
A149: =A148+1 -> 6704 | B149: FALIERES | C149: Angelo | D149: 6_7 | E149: 2011 | F149: BG 1 | G149: G | H149: 9h40 | I149: 9h10 | J149: Rouge | K149: 1700 | L149: Bleu foncé
A150: =A149+1 -> 6705 | B150: MENGELLE | C150: Simon | D150: 6_7 | E150: 2011 | F150: BG 1 | G150: G | H150: 9h40 | I150: 9h10 | J150: Rouge | K150: 1700 | L150: Bleu foncé
A151: =A150+1 -> 6706 | B151: SOUILLOT | C151: Angel | D151: 6_7 | E151: 2011 | F151: BG 1 | G151: G | H151: 9h40 | I151: 9h10 | J151: Rouge | K151: 1700 | L151: Bleu foncé
A152: =A151+1 -> 6707 | B152: TARLEY--LATRA | C152: Evan | D152: 6_7 | E152: 2011 | F152: BG 1 | G152: G | H152: 9h40 | I152: 9h10 | J152: Rouge | K152: 1700 | L152: Bleu foncé
A153: =A152+1 -> 6708 | B153: TOME VALENTE | C153: Rafaël | D153: 6_7 | E153: 2011 | F153: BG 1 | G153: G | H153: 9h40 | I153: 9h10 | J153: Rouge | K153: 1700 | L153: Bleu foncé
A154: =A153+1 -> 6709 | B154: UÇAR | C154: Aleyna | D154: 6_7 | E154: 2011 | F154: BF 1 | G154: F | H154: 9h20 | I154: 8h50 | J154: Rouge | K154: 1700 | L154: Rose
A155: =A154+1 -> 6710 | B155: VAN MUYSEN | C155: Enzo | D155: 6_7 | E155: 2011 | F155: BG 1 | G155: G | H155: 9h40 | I155: 9h10 | J155: Rouge | K155: 1700 | L155: Bleu foncé
A156: =A155+1 -> 6711 | B156: VERGEZ--GARCIA | C156: Manon | D156: 6_7 | E156: 2011 | F156: BF 1 | G156: F | H156: 9h20 | I156: 8h50 | J156: Rouge | K156: 1700 | L156: Rose
A157: 5101 | B157: ADNI | C157: Mariem | D157: 5_1 | E157: 2010 | F157: BF 2 | G157: F | H157: 9h00 | I157: 8h35 | J157: rouge | K157: 1700 | L157: Orange
A158: =A157+1 -> 5102 | B158: ARMAND | C158: Nathan | D158: 5_1 | E158: 2010 | F158: BG 2 | G158: G | H158: 11h30 | I158: 11h | J158: Vert | K158: 2600 | L158: Jaune
A159: =A158+1 -> 5103 | B159: BARBE | C159: Noémie | D159: 5_1 | E159: 2010 | F159: BF 2 | G159: F | H159: 9h00 | I159: 8h35 | J159: rouge | K159: 1700 | L159: Orange
...

Sheet Benjamins 1 - 6ème
A1: Classement Course BENJAMINES 1 | I1: Classement Général par Classe | M1: Classement Course BENJAMINS 1
A2: Rang | B2: Dossard | C2: Nom | D2: Prénom | E2: Classe | F2: Catégorie | G2: Points | M2: Rang | N2: Dossard | O2: Nom | P2: Prénom | Q2: Classe | R2: Catégorie | S2: Points
A3: 1 | C3: =IF($B3="","N° ?",VLOOKUP($B3,Tableau1[],2,FALSE)) -> N° ? | D3: =IF($B3="","N° ?",VLOOKUP($B3,Tableau1[],3,FALSE)) -> N° ? | E3: =IF($B3="","N° ?",VLOOKUP($B3,Tableau1[],4,FALSE)) -> N° ? | F3: =IF($B3="","N° ?",VLOOKUP($B3,Tableau1[],6,FALSE)) -> N° ? | G3: =Tableau2[[#This Row],[Rang]] -> 1 | I3: Classe | J3: Points | K3: Rang | M3: 1 | O3: =IF($N3="","N° ?",VLOOKUP($N3,Tableau1[],2,FALSE)) -> N° ? | P3: =IF($N3="","N° ?",VLOOKUP($N3,Tableau1[],3,FALSE)) -> N° ? | Q3: =IF($N3="","N° ?",VLOOKUP($N3,Tableau1[],4,FALSE)) -> N° ? | R3: =IF($N3="","N° ?",VLOOKUP($N3,Tableau1[],6,FALSE)) -> N° ? | S3: =Tableau24[[#This Row],[Rang]] -> 1
A4: =A3+1 -> 2 | C4: =IF($B4="","N° ?",VLOOKUP($B4,Tableau1[],2,FALSE)) -> N° ? | D4: =IF($B4="","N° ?",VLOOKUP($B4,Tableau1[],3,FALSE)) -> N° ? | E4: =IF($B4="","N° ?",VLOOKUP($B4,Tableau1[],4,FALSE)) -> N° ? | F4: =IF($B4="","N° ?",VLOOKUP($B4,Tableau1[],6,FALSE)) -> N° ? | G4: =Tableau2[[#This Row],[Rang]] -> 2 | I4: 6ème 1 | J4: =SUMIF('Benjamins 1 - 6ème'!$E$3:$E$102,"6_1",'Benjamins 1 - 6ème'!$G$3:$G$102)+SUMIF('Benjamins 1 - 6ème'!$Q$3:$Q$102,"6_1",'Benjamins 1 - 6ème'!$S$3:$S$102) -> 0 | K4: =RANK(J4,$J$4:$J$10,1) -> 1 | M4: =M3+1 -> 2 | O4: =IF($N4="","N° ?",VLOOKUP($N4,Tableau1[],2,FALSE)) -> N° ? | P4: =IF($N4="","N° ?",VLOOKUP($N4,Tableau1[],3,FALSE)) -> N° ? | Q4: =IF($N4="","N° ?",VLOOKUP($N4,Tableau1[],4,FALSE)) -> N° ? | R4: =IF($N4="","N° ?",VLOOKUP($N4,Tableau1[],6,FALSE)) -> N° ? | S4: =Tableau24[[#This Row],[Rang]] -> 2
A5: =A4+1 -> 3 | C5: =IF($B5="","N° ?",VLOOKUP($B5,Tableau1[],2,FALSE)) -> N° ? | D5: =IF($B5="","N° ?",VLOOKUP($B5,Tableau1[],3,FALSE)) -> N° ? | E5: =IF($B5="","N° ?",VLOOKUP($B5,Tableau1[],4,FALSE)) -> N° ? | F5: =IF($B5="","N° ?",VLOOKUP($B5,Tableau1[],6,FALSE)) -> N° ? | G5: =Tableau2[[#This Row],[Rang]] -> 3 | I5: 6ème 2 | J5: =SUMIF('Benjamins 1 - 6ème'!$E$3:$E$102,"6_2",'Benjamins 1 - 6ème'!$G$3:$G$102)+SUMIF('Benjamins 1 - 6ème'!$Q$3:$Q$102,"6_2",'Benjamins 1 - 6ème'!$S$3:$S$102) -> 0 | K5: =RANK(J5,$J$4:$J$10,1) -> 1 | M5: =M4+1 -> 3 | O5: =IF($N5="","N° ?",VLOOKUP($N5,Tableau1[],2,FALSE)) -> N° ? | P5: =IF($N5="","N° ?",VLOOKUP($N5,Tableau1[],3,FALSE)) -> N° ? | Q5: =IF($N5="","N° ?",VLOOKUP($N5,Tableau1[],4,FALSE)) -> N° ? | R5: =IF($N5="","N° ?",VLOOKUP($N5,Tableau1[],6,FALSE)) -> N° ? | S5: =Tableau24[[#This Row],[Rang]] -> 3
A6: =A5+1 -> 4 | C6: =IF($B6="","N° ?",VLOOKUP($B6,Tableau1[],2,FALSE)) -> N° ? | D6: =IF($B6="","N° ?",VLOOKUP($B6,Tableau1[],3,FALSE)) -> N° ? | E6: =IF($B6="","N° ?",VLOOKUP($B6,Tableau1[],4,FALSE)) -> N° ? | F6: =IF($B6="","N° ?",VLOOKUP($B6,Tableau1[],6,FALSE)) -> N° ? | G6: =Tableau2[[#This Row],[Rang]] -> 4 | I6: 6ème 3 | J6: =SUMIF('Benjamins 1 - 6ème'!$E$3:$E$102,"6_3",'Benjamins 1 - 6ème'!$G$3:$G$102)+SUMIF('Benjamins 1 - 6ème'!$Q$3:$Q$102,"6_3",'Benjamins 1 - 6ème'!$S$3:$S$102) -> 0 | K6: =RANK(J6,$J$4:$J$10,1) -> 1 | M6: =M5+1 -> 4 | O6: =IF($N6="","N° ?",VLOOKUP($N6,Tableau1[],2,FALSE)) -> N° ? | P6: =IF($N6="","N° ?",VLOOKUP($N6,Tableau1[],3,FALSE)) -> N° ? | Q6: =IF($N6="","N° ?",VLOOKUP($N6,Tableau1[],4,FALSE)) -> N° ? | R6: =IF($N6="","N° ?",VLOOKUP($N6,Tableau1[],6,FALSE)) -> N° ? | S6: =Tableau24[[#This Row],[Rang]] -> 4
A7: =A6+1 -> 5 | C7: =IF($B7="","N° ?",VLOOKUP($B7,Tableau1[],2,FALSE)) -> N° ? | D7: =IF($B7="","N° ?",VLOOKUP($B7,Tableau1[],3,FALSE)) -> N° ? | E7: =IF($B7="","N° ?",VLOOKUP($B7,Tableau1[],4,FALSE)) -> N° ? | F7: =IF($B7="","N° ?",VLOOKUP($B7,Tableau1[],6,FALSE)) -> N° ? | G7: =Tableau2[[#This Row],[Rang]] -> 5 | I7: 6ème 4 | J7: =SUMIF('Benjamins 1 - 6ème'!$E$3:$E$102,"6_4",'Benjamins 1 - 6ème'!$G$3:$G$102)+SUMIF('Benjamins 1 - 6ème'!$Q$3:$Q$102,"6_4",'Benjamins 1 - 6ème'!$S$3:$S$102) -> 0 | K7: =RANK(J7,$J$4:$J$10,1) -> 1 | M7: =M6+1 -> 5 | O7: =IF($N7="","N° ?",VLOOKUP($N7,Tableau1[],2,FALSE)) -> N° ? | P7: =IF($N7="","N° ?",VLOOKUP($N7,Tableau1[],3,FALSE)) -> N° ? | Q7: =IF($N7="","N° ?",VLOOKUP($N7,Tableau1[],4,FALSE)) -> N° ? | R7: =IF($N7="","N° ?",VLOOKUP($N7,Tableau1[],6,FALSE)) -> N° ? | S7: =Tableau24[[#This Row],[Rang]] -> 5
A8: =A7+1 -> 6 | C8: =IF($B8="","N° ?",VLOOKUP($B8,Tableau1[],2,FALSE)) -> N° ? | D8: =IF($B8="","N° ?",VLOOKUP($B8,Tableau1[],3,FALSE)) -> N° ? | E8: =IF($B8="","N° ?",VLOOKUP($B8,Tableau1[],4,FALSE)) -> N° ? | F8: =IF($B8="","N° ?",VLOOKUP($B8,Tableau1[],6,FALSE)) -> N° ? | G8: =Tableau2[[#This Row],[Rang]] -> 6 | I8: 6ème 5 | J8: =SUMIF('Benjamins 1 - 6ème'!$E$3:$E$102,"6_5",'Benjamins 1 - 6ème'!$G$3:$G$102)+SUMIF('Benjamins 1 - 6ème'!$Q$3:$Q$102,"6_5",'Benjamins 1 - 6ème'!$S$3:$S$102) -> 0 | K8: =RANK(J8,$J$4:$J$10,1) -> 1 | M8: =M7+1 -> 6 | O8: =IF($N8="","N° ?",VLOOKUP($N8,Tableau1[],2,FALSE)) -> N° ? | P8: =IF($N8="","N° ?",VLOOKUP($N8,Tableau1[],3,FALSE)) -> N° ? | Q8: =IF($N8="","N° ?",VLOOKUP($N8,Tableau1[],4,FALSE)) -> N° ? | R8: =IF($N8="","N° ?",VLOOKUP($N8,Tableau1[],6,FALSE)) -> N° ? | S8: =Tableau24[[#This Row],[Rang]] -> 6
A9: =A8+1 -> 7 | C9: =IF($B9="","N° ?",VLOOKUP($B9,Tableau1[],2,FALSE)) -> N° ? | D9: =IF($B9="","N° ?",VLOOKUP($B9,Tableau1[],3,FALSE)) -> N° ? | E9: =IF($B9="","N° ?",VLOOKUP($B9,Tableau1[],4,FALSE)) -> N° ? | F9: =IF($B9="","N° ?",VLOOKUP($B9,Tableau1[],6,FALSE)) -> N° ? | G9: =Tableau2[[#This Row],[Rang]] -> 7 | I9: 6ème 6 | J9: =SUMIF('Benjamins 1 - 6ème'!$E$3:$E$102,"6_6",'Benjamins 1 - 6ème'!$G$3:$G$102)+SUMIF('Benjamins 1 - 6ème'!$Q$3:$Q$102,"6_6",'Benjamins 1 - 6ème'!$S$3:$S$102) -> 0 | K9: =RANK(J9,$J$4:$J$10,1) -> 1 | M9: =M8+1 -> 7 | O9: =IF($N9="","N° ?",VLOOKUP($N9,Tableau1[],2,FALSE)) -> N° ? | P9: =IF($N9="","N° ?",VLOOKUP($N9,Tableau1[],3,FALSE)) -> N° ? | Q9: =IF($N9="","N° ?",VLOOKUP($N9,Tableau1[],4,FALSE)) -> N° ? | R9: =IF($N9="","N° ?",VLOOKUP($N9,Tableau1[],6,FALSE)) -> N° ? | S9: =Tableau24[[#This Row],[Rang]] -> 7
A10: =A9+1 -> 8 | C10: =IF($B10="","N° ?",VLOOKUP($B10,Tableau1[],2,FALSE)) -> N° ? | D10: =IF($B10="","N° ?",VLOOKUP($B10,Tableau1[],3,FALSE)) -> N° ? | E10: =IF($B10="","N° ?",VLOOKUP($B10,Tableau1[],4,FALSE)) -> N° ? | F10: =IF($B10="","N° ?",VLOOKUP($B10,Tableau1[],6,FALSE)) -> N° ? | G10: =Tableau2[[#This Row],[Rang]] -> 8 | I10: 6ème 7 | J10: =SUMIF('Benjamins 1 - 6ème'!$E$3:$E$102,"6_7",'Benjamins 1 - 6ème'!$G$3:$G$102)+SUMIF('Benjamins 1 - 6ème'!$Q$3:$Q$102,"6_7",'Benjamins 1 - 6ème'!$S$3:$S$102) -> 0 | K10: =RANK(J10,$J$4:$J$10,1) -> 1 | M10: =M9+1 -> 8 | O10: =IF($N10="","N° ?",VLOOKUP($N10,Tableau1[],2,FALSE)) -> N° ? | P10: =IF($N10="","N° ?",VLOOKUP($N10,Tableau1[],3,FALSE)) -> N° ? | Q10: =IF($N10="","N° ?",VLOOKUP($N10,Tableau1[],4,FALSE)) -> N° ? | R10: =IF($N10="","N° ?",VLOOKUP($N10,Tableau1[],6,FALSE)) -> N° ? | S10: =Tableau24[[#This Row],[Rang]] -> 8
A11: =A10+1 -> 9 | C11: =IF($B11="","N° ?",VLOOKUP($B11,Tableau1[],2,FALSE)) -> N° ? | D11: =IF($B11="","N° ?",VLOOKUP($B11,Tableau1[],3,FALSE)) -> N° ? | E11: =IF($B11="","N° ?",VLOOKUP($B11,Tableau1[],4,FALSE)) -> N° ? | F11: =IF($B11="","N° ?",VLOOKUP($B11,Tableau1[],6,FALSE)) -> N° ? | G11: =Tableau2[[#This Row],[Rang]] -> 9 | M11: =M10+1 -> 9 | O11: =IF($N11="","N° ?",VLOOKUP($N11,Tableau1[],2,FALSE)) -> N° ? | P11: =IF($N11="","N° ?",VLOOKUP($N11,Tableau1[],3,FALSE)) -> N° ? | Q11: =IF($N11="","N° ?",VLOOKUP($N11,Tableau1[],4,FALSE)) -> N° ? | R11: =IF($N11="","N° ?",VLOOKUP($N11,Tableau1[],6,FALSE)) -> N° ? | S11: =Tableau24[[#This Row],[Rang]] -> 9
A12: =A11+1 -> 10 | C12: =IF($B12="","N° ?",VLOOKUP($B12,Tableau1[],2,FALSE)) -> N° ? | D12: =IF($B12="","N° ?",VLOOKUP($B12,Tableau1[],3,FALSE)) -> N° ? | E12: =IF($B12="","N° ?",VLOOKUP($B12,Tableau1[],4,FALSE)) -> N° ? | F12: =IF($B12="","N° ?",VLOOKUP($B12,Tableau1[],6,FALSE)) -> N° ? | G12: =Tableau2[[#This Row],[Rang]] -> 10 | M12: =M11+1 -> 10 | O12: =IF($N12="","N° ?",VLOOKUP($N12,Tableau1[],2,FALSE)) -> N° ? | P12: =IF($N12="","N° ?",VLOOKUP($N12,Tableau1[],3,FALSE)) -> N° ? | Q12: =IF($N12="","N° ?",VLOOKUP($N12,Tableau1[],4,FALSE)) -> N° ? | R12: =IF($N12="","N° ?",VLOOKUP($N12,Tableau1[],6,FALSE)) -> N° ? | S12: =Tableau24[[#This Row],[Rang]] -> 10
A13: =A12+1 -> 11 | C13: =IF($B13="","N° ?",VLOOKUP($B13,Tableau1[],2,FALSE)) -> N° ? | D13: =IF($B13="","N° ?",VLOOKUP($B13,Tableau1[],3,FALSE)) -> N° ? | E13: =IF($B13="","N° ?",VLOOKUP($B13,Tableau1[],4,FALSE)) -> N° ? | F13: =IF($B13="","N° ?",VLOOKUP($B13,Tableau1[],6,FALSE)) -> N° ? | G13: =Tableau2[[#This Row],[Rang]] -> 11 | I13: Trophée Classe (15 meilleurs) | M13: =M12+1 -> 11 | O13: =IF($N13="","N° ?",VLOOKUP($N13,Tableau1[],2,FALSE)) -> N° ? | P13: =IF($N13="","N° ?",VLOOKUP($N13,Tableau1[],3,FALSE)) -> N° ? | Q13: =IF($N13="","N° ?",VLOOKUP($N13,Tableau1[],4,FALSE)) -> N° ? | R13: =IF($N13="","N° ?",VLOOKUP($N13,Tableau1[],6,FALSE)) -> N° ? | S13: =Tableau24[[#This Row],[Rang]] -> 11
A14: =A13+1 -> 12 | C14: =IF($B14="","N° ?",VLOOKUP($B14,Tableau1[],2,FALSE)) -> N° ? | D14: =IF($B14="","N° ?",VLOOKUP($B14,Tableau1[],3,FALSE)) -> N° ? | E14: =IF($B14="","N° ?",VLOOKUP($B14,Tableau1[],4,FALSE)) -> N° ? | F14: =IF($B14="","N° ?",VLOOKUP($B14,Tableau1[],6,FALSE)) -> N° ? | G14: =Tableau2[[#This Row],[Rang]] -> 12 | M14: =M13+1 -> 12 | O14: =IF($N14="","N° ?",VLOOKUP($N14,Tableau1[],2,FALSE)) -> N° ? | P14: =IF($N14="","N° ?",VLOOKUP($N14,Tableau1[],3,FALSE)) -> N° ? | Q14: =IF($N14="","N° ?",VLOOKUP($N14,Tableau1[],4,FALSE)) -> N° ? | R14: =IF($N14="","N° ?",VLOOKUP($N14,Tableau1[],6,FALSE)) -> N° ? | S14: =Tableau24[[#This Row],[Rang]] -> 12
A15: =A14+1 -> 13 | C15: =IF($B15="","N° ?",VLOOKUP($B15,Tableau1[],2,FALSE)) -> N° ? | D15: =IF($B15="","N° ?",VLOOKUP($B15,Tableau1[],3,FALSE)) -> N° ? | E15: =IF($B15="","N° ?",VLOOKUP($B15,Tableau1[],4,FALSE)) -> N° ? | F15: =IF($B15="","N° ?",VLOOKUP($B15,Tableau1[],6,FALSE)) -> N° ? | G15: =Tableau2[[#This Row],[Rang]] -> 13 | I15: Classe | J15: Points | K15: Rang | M15: =M14+1 -> 13 | O15: =IF($N15="","N° ?",VLOOKUP($N15,Tableau1[],2,FALSE)) -> N° ? | P15: =IF($N15="","N° ?",VLOOKUP($N15,Tableau1[],3,FALSE)) -> N° ? | Q15: =IF($N15="","N° ?",VLOOKUP($N15,Tableau1[],4,FALSE)) -> N° ? | R15: =IF($N15="","N° ?",VLOOKUP($N15,Tableau1[],6,FALSE)) -> N° ? | S15: =Tableau24[[#This Row],[Rang]] -> 13
A16: =A15+1 -> 14 | C16: =IF($B16="","N° ?",VLOOKUP($B16,Tableau1[],2,FALSE)) -> N° ? | D16: =IF($B16="","N° ?",VLOOKUP($B16,Tableau1[],3,FALSE)) -> N° ? | E16: =IF($B16="","N° ?",VLOOKUP($B16,Tableau1[],4,FALSE)) -> N° ? | F16: =IF($B16="","N° ?",VLOOKUP($B16,Tableau1[],6,FALSE)) -> N° ? | G16: =Tableau2[[#This Row],[Rang]] -> 14 | I16: 6ème 1 | J16: =SUMIF('Benjamins 1 - 6ème'!$E$3:$E$102,"6_1",'Benjamins 1 - 6ème'!$G$3:$G$102)+SUMIF('Benjamins 1 - 6ème'!$Q$3:$Q$102,"6_1",'Benjamins 1 - 6ème'!$S$3:$S$102) -> 0 | K16: =RANK(J16,$J$4:$J$10,1) -> 1 | M16: =M15+1 -> 14 | O16: =IF($N16="","N° ?",VLOOKUP($N16,Tableau1[],2,FALSE)) -> N° ? | P16: =IF($N16="","N° ?",VLOOKUP($N16,Tableau1[],3,FALSE)) -> N° ? | Q16: =IF($N16="","N° ?",VLOOKUP($N16,Tableau1[],4,FALSE)) -> N° ? | R16: =IF($N16="","N° ?",VLOOKUP($N16,Tableau1[],6,FALSE)) -> N° ? | S16: =Tableau24[[#This Row],[Rang]] -> 14
A17: =A16+1 -> 15 | C17: =IF($B17="","N° ?",VLOOKUP($B17,Tableau1[],2,FALSE)) -> N° ? | D17: =IF($B17="","N° ?",VLOOKUP($B17,Tableau1[],3,FALSE)) -> N° ? | E17: =IF($B17="","N° ?",VLOOKUP($B17,Tableau1[],4,FALSE)) -> N° ? | F17: =IF($B17="","N° ?",VLOOKUP($B17,Tableau1[],6,FALSE)) -> N° ? | G17: =Tableau2[[#This Row],[Rang]] -> 15 | I17: 6ème 2 | J17: =SUMIF('Benjamins 1 - 6ème'!$E$3:$E$102,"6_2",'Benjamins 1 - 6ème'!$G$3:$G$102)+SUMIF('Benjamins 1 - 6ème'!$Q$3:$Q$102,"6_2",'Benjamins 1 - 6ème'!$S$3:$S$102) -> 0 | K17: =RANK(J17,$J$4:$J$10,1) -> 1 | M17: =M16+1 -> 15 | O17: =IF($N17="","N° ?",VLOOKUP($N17,Tableau1[],2,FALSE)) -> N° ? | P17: =IF($N17="","N° ?",VLOOKUP($N17,Tableau1[],3,FALSE)) -> N° ? | Q17: =IF($N17="","N° ?",VLOOKUP($N17,Tableau1[],4,FALSE)) -> N° ? | R17: =IF($N17="","N° ?",VLOOKUP($N17,Tableau1[],6,FALSE)) -> N° ? | S17: =Tableau24[[#This Row],[Rang]] -> 15
A18: =A17+1 -> 16 | C18: =IF($B18="","N° ?",VLOOKUP($B18,Tableau1[],2,FALSE)) -> N° ? | D18: =IF($B18="","N° ?",VLOOKUP($B18,Tableau1[],3,FALSE)) -> N° ? | E18: =IF($B18="","N° ?",VLOOKUP($B18,Tableau1[],4,FALSE)) -> N° ? | F18: =IF($B18="","N° ?",VLOOKUP($B18,Tableau1[],6,FALSE)) -> N° ? | G18: =Tableau2[[#This Row],[Rang]] -> 16 | I18: 6ème 3 | J18: =SUMIF('Benjamins 1 - 6ème'!$E$3:$E$102,"6_3",'Benjamins 1 - 6ème'!$G$3:$G$102)+SUMIF('Benjamins 1 - 6ème'!$Q$3:$Q$102,"6_3",'Benjamins 1 - 6ème'!$S$3:$S$102) -> 0 | K18: =RANK(J18,$J$4:$J$10,1) -> 1 | M18: =M17+1 -> 16 | O18: =IF($N18="","N° ?",VLOOKUP($N18,Tableau1[],2,FALSE)) -> N° ? | P18: =IF($N18="","N° ?",VLOOKUP($N18,Tableau1[],3,FALSE)) -> N° ? | Q18: =IF($N18="","N° ?",VLOOKUP($N18,Tableau1[],4,FALSE)) -> N° ? | R18: =IF($N18="","N° ?",VLOOKUP($N18,Tableau1[],6,FALSE)) -> N° ? | S18: =Tableau24[[#This Row],[Rang]] -> 16
A19: =A18+1 -> 17 | C19: =IF($B19="","N° ?",VLOOKUP($B19,Tableau1[],2,FALSE)) -> N° ? | D19: =IF($B19="","N° ?",VLOOKUP($B19,Tableau1[],3,FALSE)) -> N° ? | E19: =IF($B19="","N° ?",VLOOKUP($B19,Tableau1[],4,FALSE)) -> N° ? | F19: =IF($B19="","N° ?",VLOOKUP($B19,Tableau1[],6,FALSE)) -> N° ? | G19: =Tableau2[[#This Row],[Rang]] -> 17 | I19: 6ème 4 | J19: =SUMIF('Benjamins 1 - 6ème'!$E$3:$E$102,"6_4",'Benjamins 1 - 6ème'!$G$3:$G$102)+SUMIF('Benjamins 1 - 6ème'!$Q$3:$Q$102,"6_4",'Benjamins 1 - 6ème'!$S$3:$S$102) -> 0 | K19: =RANK(J19,$J$4:$J$10,1) -> 1 | M19: =M18+1 -> 17 | O19: =IF($N19="","N° ?",VLOOKUP($N19,Tableau1[],2,FALSE)) -> N° ? | P19: =IF($N19="","N° ?",VLOOKUP($N19,Tableau1[],3,FALSE)) -> N° ? | Q19: =IF($N19="","N° ?",VLOOKUP($N19,Tableau1[],4,FALSE)) -> N° ? | R19: =IF($N19="","N° ?",VLOOKUP($N19,Tableau1[],6,FALSE)) -> N° ? | S19: =Tableau24[[#This Row],[Rang]] -> 17
A20: =A19+1 -> 18 | C20: =IF($B20="","N° ?",VLOOKUP($B20,Tableau1[],2,FALSE)) -> N° ? | D20: =IF($B20="","N° ?",VLOOKUP($B20,Tableau1[],3,FALSE)) -> N° ? | E20: =IF($B20="","N° ?",VLOOKUP($B20,Tableau1[],4,FALSE)) -> N° ? | F20: =IF($B20="","N° ?",VLOOKUP($B20,Tableau1[],6,FALSE)) -> N° ? | G20: =Tableau2[[#This Row],[Rang]] -> 18 | I20: 6ème 5 | J20: =SUMIF('Benjamins 1 - 6ème'!$E$3:$E$102,"6_5",'Benjamins 1 - 6ème'!$G$3:$G$102)+SUMIF('Benjamins 1 - 6ème'!$Q$3:$Q$102,"6_5",'Benjamins 1 - 6ème'!$S$3:$S$102) -> 0 | K20: =RANK(J20,$J$4:$J$10,1) -> 1 | M20: =M19+1 -> 18 | O20: =IF($N20="","N° ?",VLOOKUP($N20,Tableau1[],2,FALSE)) -> N° ? | P20: =IF($N20="","N° ?",VLOOKUP($N20,Tableau1[],3,FALSE)) -> N° ? | Q20: =IF($N20="","N° ?",VLOOKUP($N20,Tableau1[],4,FALSE)) -> N° ? | R20: =IF($N20="","N° ?",VLOOKUP($N20,Tableau1[],6,FALSE)) -> N° ? | S20: =Tableau24[[#This Row],[Rang]] -> 18
A21: =A20+1 -> 19 | C21: =IF($B21="","N° ?",VLOOKUP($B21,Tableau1[],2,FALSE)) -> N° ? | D21: =IF($B21="","N° ?",VLOOKUP($B21,Tableau1[],3,FALSE)) -> N° ? | E21: =IF($B21="","N° ?",VLOOKUP($B21,Tableau1[],4,FALSE)) -> N° ? | F21: =IF($B21="","N° ?",VLOOKUP($B21,Tableau1[],6,FALSE)) -> N° ? | G21: =Tableau2[[#This Row],[Rang]] -> 19 | I21: 6ème 6 | J21: =SUMIF('Benjamins 1 - 6ème'!$E$3:$E$102,"6_6",'Benjamins 1 - 6ème'!$G$3:$G$102)+SUMIF('Benjamins 1 - 6ème'!$Q$3:$Q$102,"6_6",'Benjamins 1 - 6ème'!$S$3:$S$102) -> 0 | K21: =RANK(J21,$J$4:$J$10,1) -> 1 | M21: =M20+1 -> 19 | O21: =IF($N21="","N° ?",VLOOKUP($N21,Tableau1[],2,FALSE)) -> N° ? | P21: =IF($N21="","N° ?",VLOOKUP($N21,Tableau1[],3,FALSE)) -> N° ? | Q21: =IF($N21="","N° ?",VLOOKUP($N21,Tableau1[],4,FALSE)) -> N° ? | R21: =IF($N21="","N° ?",VLOOKUP($N21,Tableau1[],6,FALSE)) -> N° ? | S21: =Tableau24[[#This Row],[Rang]] -> 19
A22: =A21+1 -> 20 | C22: =IF($B22="","N° ?",VLOOKUP($B22,Tableau1[],2,FALSE)) -> N° ? | D22: =IF($B22="","N° ?",VLOOKUP($B22,Tableau1[],3,FALSE)) -> N° ? | E22: =IF($B22="","N° ?",VLOOKUP($B22,Tableau1[],4,FALSE)) -> N° ? | F22: =IF($B22="","N° ?",VLOOKUP($B22,Tableau1[],6,FALSE)) -> N° ? | G22: =Tableau2[[#This Row],[Rang]] -> 20 | I22: 6ème 7 | J22: =SUMIF('Benjamins 1 - 6ème'!$E$3:$E$102,"6_7",'Benjamins 1 - 6ème'!$G$3:$G$102)+SUMIF('Benjamins 1 - 6ème'!$Q$3:$Q$102,"6_7",'Benjamins 1 - 6ème'!$S$3:$S$102) -> 0 | K22: =RANK(J22,$J$4:$J$10,1) -> 1 | M22: =M21+1 -> 20 | O22: =IF($N22="","N° ?",VLOOKUP($N22,Tableau1[],2,FALSE)) -> N° ? | P22: =IF($N22="","N° ?",VLOOKUP($N22,Tableau1[],3,FALSE)) -> N° ? | Q22: =IF($N22="","N° ?",VLOOKUP($N22,Tableau1[],4,FALSE)) -> N° ? | R22: =IF($N22="","N° ?",VLOOKUP($N22,Tableau1[],6,FALSE)) -> N° ? | S22: =Tableau24[[#This Row],[Rang]] -> 20
A23: =A22+1 -> 21 | C23: =IF($B23="","N° ?",VLOOKUP($B23,Tableau1[],2,FALSE)) -> N° ? | D23: =IF($B23="","N° ?",VLOOKUP($B23,Tableau1[],3,FALSE)) -> N° ? | E23: =IF($B23="","N° ?",VLOOKUP($B23,Tableau1[],4,FALSE)) -> N° ? | F23: =IF($B23="","N° ?",VLOOKUP($B23,Tableau1[],6,FALSE)) -> N° ? | G23: =Tableau2[[#This Row],[Rang]] -> 21 | M23: =M22+1 -> 21 | O23: =IF($N23="","N° ?",VLOOKUP($N23,Tableau1[],2,FALSE)) -> N° ? | P23: =IF($N23="","N° ?",VLOOKUP($N23,Tableau1[],3,FALSE)) -> N° ? | Q23: =IF($N23="","N° ?",VLOOKUP($N23,Tableau1[],4,FALSE)) -> N° ? | R23: =IF($N23="","N° ?",VLOOKUP($N23,Tableau1[],6,FALSE)) -> N° ? | S23: =Tableau24[[#This Row],[Rang]] -> 21
A24: =A23+1 -> 22 | C24: =IF($B24="","N° ?",VLOOKUP($B24,Tableau1[],2,FALSE)) -> N° ? | D24: =IF($B24="","N° ?",VLOOKUP($B24,Tableau1[],3,FALSE)) -> N° ? | E24: =IF($B24="","N° ?",VLOOKUP($B24,Tableau1[],4,FALSE)) -> N° ? | F24: =IF($B24="","N° ?",VLOOKUP($B24,Tableau1[],6,FALSE)) -> N° ? | G24: =Tableau2[[#This Row],[Rang]] -> 22 | M24: =M23+1 -> 22 | O24: =IF($N24="","N° ?",VLOOKUP($N24,Tableau1[],2,FALSE)) -> N° ? | P24: =IF($N24="","N° ?",VLOOKUP($N24,Tableau1[],3,FALSE)) -> N° ? | Q24: =IF($N24="","N° ?",VLOOKUP($N24,Tableau1[],4,FALSE)) -> N° ? | R24: =IF($N24="","N° ?",VLOOKUP($N24,Tableau1[],6,FALSE)) -> N° ? | S24: =Tableau24[[#This Row],[Rang]] -> 22
A25: =A24+1 -> 23 | C25: =IF($B25="","N° ?",VLOOKUP($B25,Tableau1[],2,FALSE)) -> N° ? | D25: =IF($B25="","N° ?",VLOOKUP($B25,Tableau1[],3,FALSE)) -> N° ? | E25: =IF($B25="","N° ?",VLOOKUP($B25,Tableau1[],4,FALSE)) -> N° ? | F25: =IF($B25="","N° ?",VLOOKUP($B25,Tableau1[],6,FALSE)) -> N° ? | G25: =Tableau2[[#This Row],[Rang]] -> 23 | M25: =M24+1 -> 23 | O25: =IF($N25="","N° ?",VLOOKUP($N25,Tableau1[],2,FALSE)) -> N° ? | P25: =IF($N25="","N° ?",VLOOKUP($N25,Tableau1[],3,FALSE)) -> N° ? | Q25: =IF($N25="","N° ?",VLOOKUP($N25,Tableau1[],4,FALSE)) -> N° ? | R25: =IF($N25="","N° ?",VLOOKUP($N25,Tableau1[],6,FALSE)) -> N° ? | S25: =Tableau24[[#This Row],[Rang]] -> 23
A26: =A25+1 -> 24 | C26: =IF($B26="","N° ?",VLOOKUP($B26,Tableau1[],2,FALSE)) -> N° ? | D26: =IF($B26="","N° ?",VLOOKUP($B26,Tableau1[],3,FALSE)) -> N° ? | E26: =IF($B26="","N° ?",VLOOKUP($B26,Tableau1[],4,FALSE)) -> N° ? | F26: =IF($B26="","N° ?",VLOOKUP($B26,Tableau1[],6,FALSE)) -> N° ? | G26: =Tableau2[[#This Row],[Rang]] -> 24 | M26: =M25+1 -> 24 | O26: =IF($N26="","N° ?",VLOOKUP($N26,Tableau1[],2,FALSE)) -> N° ? | P26: =IF($N26="","N° ?",VLOOKUP($N26,Tableau1[],3,FALSE)) -> N° ? | Q26: =IF($N26="","N° ?",VLOOKUP($N26,Tableau1[],4,FALSE)) -> N° ? | R26: =IF($N26="","N° ?",VLOOKUP($N26,Tableau1[],6,FALSE)) -> N° ? | S26: =Tableau24[[#This Row],[Rang]] -> 24
A27: =A26+1 -> 25 | C27: =IF($B27="","N° ?",VLOOKUP($B27,Tableau1[],2,FALSE)) -> N° ? | D27: =IF($B27="","N° ?",VLOOKUP($B27,Tableau1[],3,FALSE)) -> N° ? | E27: =IF($B27="","N° ?",VLOOKUP($B27,Tableau1[],4,FALSE)) -> N° ? | F27: =IF($B27="","N° ?",VLOOKUP($B27,Tableau1[],6,FALSE)) -> N° ? | G27: =Tableau2[[#This Row],[Rang]] -> 25 | M27: =M26+1 -> 25 | O27: =IF($N27="","N° ?",VLOOKUP($N27,Tableau1[],2,FALSE)) -> N° ? | P27: =IF($N27="","N° ?",VLOOKUP($N27,Tableau1[],3,FALSE)) -> N° ? | Q27: =IF($N27="","N° ?",VLOOKUP($N27,Tableau1[],4,FALSE)) -> N° ? | R27: =IF($N27="","N° ?",VLOOKUP($N27,Tableau1[],6,FALSE)) -> N° ? | S27: =Tableau24[[#This Row],[Rang]] -> 25
A28: =A27+1 -> 26 | C28: =IF($B28="","N° ?",VLOOKUP($B28,Tableau1[],2,FALSE)) -> N° ? | D28: =IF($B28="","N° ?",VLOOKUP($B28,Tableau1[],3,FALSE)) -> N° ? | E28: =IF($B28="","N° ?",VLOOKUP($B28,Tableau1[],4,FALSE)) -> N° ? | F28: =IF($B28="","N° ?",VLOOKUP($B28,Tableau1[],6,FALSE)) -> N° ? | G28: =Tableau2[[#This Row],[Rang]] -> 26 | M28: =M27+1 -> 26 | O28: =IF($N28="","N° ?",VLOOKUP($N28,Tableau1[],2,FALSE)) -> N° ? | P28: =IF($N28="","N° ?",VLOOKUP($N28,Tableau1[],3,FALSE)) -> N° ? | Q28: =IF($N28="","N° ?",VLOOKUP($N28,Tableau1[],4,FALSE)) -> N° ? | R28: =IF($N28="","N° ?",VLOOKUP($N28,Tableau1[],6,FALSE)) -> N° ? | S28: =Tableau24[[#This Row],[Rang]] -> 26
A29: =A28+1 -> 27 | C29: =IF($B29="","N° ?",VLOOKUP($B29,Tableau1[],2,FALSE)) -> N° ? | D29: =IF($B29="","N° ?",VLOOKUP($B29,Tableau1[],3,FALSE)) -> N° ? | E29: =IF($B29="","N° ?",VLOOKUP($B29,Tableau1[],4,FALSE)) -> N° ? | F29: =IF($B29="","N° ?",VLOOKUP($B29,Tableau1[],6,FALSE)) -> N° ? | G29: =Tableau2[[#This Row],[Rang]] -> 27 | M29: =M28+1 -> 27 | O29: =IF($N29="","N° ?",VLOOKUP($N29,Tableau1[],2,FALSE)) -> N° ? | P29: =IF($N29="","N° ?",VLOOKUP($N29,Tableau1[],3,FALSE)) -> N° ? | Q29: =IF($N29="","N° ?",VLOOKUP($N29,Tableau1[],4,FALSE)) -> N° ? | R29: =IF($N29="","N° ?",VLOOKUP($N29,Tableau1[],6,FALSE)) -> N° ? | S29: =Tableau24[[#This Row],[Rang]] -> 27
A30: =A29+1 -> 28 | C30: =IF($B30="","N° ?",VLOOKUP($B30,Tableau1[],2,FALSE)) -> N° ? | D30: =IF($B30="","N° ?",VLOOKUP($B30,Tableau1[],3,FALSE)) -> N° ? | E30: =IF($B30="","N° ?",VLOOKUP($B30,Tableau1[],4,FALSE)) -> N° ? | F30: =IF($B30="","N° ?",VLOOKUP($B30,Tableau1[],6,FALSE)) -> N° ? | G30: =Tableau2[[#This Row],[Rang]] -> 28 | M30: =M29+1 -> 28 | O30: =IF($N30="","N° ?",VLOOKUP($N30,Tableau1[],2,FALSE)) -> N° ? | P30: =IF($N30="","N° ?",VLOOKUP($N30,Tableau1[],3,FALSE)) -> N° ? | Q30: =IF($N30="","N° ?",VLOOKUP($N30,Tableau1[],4,FALSE)) -> N° ? | R30: =IF($N30="","N° ?",VLOOKUP($N30,Tableau1[],6,FALSE)) -> N° ? | S30: =Tableau24[[#This Row],[Rang]] -> 28
A31: =A30+1 -> 29 | C31: =IF($B31="","N° ?",VLOOKUP($B31,Tableau1[],2,FALSE)) -> N° ? | D31: =IF($B31="","N° ?",VLOOKUP($B31,Tableau1[],3,FALSE)) -> N° ? | E31: =IF($B31="","N° ?",VLOOKUP($B31,Tableau1[],4,FALSE)) -> N° ? | F31: =IF($B31="","N° ?",VLOOKUP($B31,Tableau1[],6,FALSE)) -> N° ? | G31: =Tableau2[[#This Row],[Rang]] -> 29 | M31: =M30+1 -> 29 | O31: =IF($N31="","N° ?",VLOOKUP($N31,Tableau1[],2,FALSE)) -> N° ? | P31: =IF($N31="","N° ?",VLOOKUP($N31,Tableau1[],3,FALSE)) -> N° ? | Q31: =IF($N31="","N° ?",VLOOKUP($N31,Tableau1[],4,FALSE)) -> N° ? | R31: =IF($N31="","N° ?",VLOOKUP($N31,Tableau1[],6,FALSE)) -> N° ? | S31: =Tableau24[[#This Row],[Rang]] -> 29
A32: =A31+1 -> 30 | C32: =IF($B32="","N° ?",VLOOKUP($B32,Tableau1[],2,FALSE)) -> N° ? | D32: =IF($B32="","N° ?",VLOOKUP($B32,Tableau1[],3,FALSE)) -> N° ? | E32: =IF($B32="","N° ?",VLOOKUP($B32,Tableau1[],4,FALSE)) -> N° ? | F32: =IF($B32="","N° ?",VLOOKUP($B32,Tableau1[],6,FALSE)) -> N° ? | G32: =Tableau2[[#This Row],[Rang]] -> 30 | M32: =M31+1 -> 30 | O32: =IF($N32="","N° ?",VLOOKUP($N32,Tableau1[],2,FALSE)) -> N° ? | P32: =IF($N32="","N° ?",VLOOKUP($N32,Tableau1[],3,FALSE)) -> N° ? | Q32: =IF($N32="","N° ?",VLOOKUP($N32,Tableau1[],4,FALSE)) -> N° ? | R32: =IF($N32="","N° ?",VLOOKUP($N32,Tableau1[],6,FALSE)) -> N° ? | S32: =Tableau24[[#This Row],[Rang]] -> 30
A33: =A32+1 -> 31 | C33: =IF($B33="","N° ?",VLOOKUP($B33,Tableau1[],2,FALSE)) -> N° ? | D33: =IF($B33="","N° ?",VLOOKUP($B33,Tableau1[],3,FALSE)) -> N° ? | E33: =IF($B33="","N° ?",VLOOKUP($B33,Tableau1[],4,FALSE)) -> N° ? | F33: =IF($B33="","N° ?",VLOOKUP($B33,Tableau1[],6,FALSE)) -> N° ? | G33: =Tableau2[[#This Row],[Rang]] -> 31 | M33: =M32+1 -> 31 | O33: =IF($N33="","N° ?",VLOOKUP($N33,Tableau1[],2,FALSE)) -> N° ? | P33: =IF($N33="","N° ?",VLOOKUP($N33,Tableau1[],3,FALSE)) -> N° ? | Q33: =IF($N33="","N° ?",VLOOKUP($N33,Tableau1[],4,FALSE)) -> N° ? | R33: =IF($N33="","N° ?",VLOOKUP($N33,Tableau1[],6,FALSE)) -> N° ? | S33: =Tableau24[[#This Row],[Rang]] -> 31
A34: =A33+1 -> 32 | C34: =IF($B34="","N° ?",VLOOKUP($B34,Tableau1[],2,FALSE)) -> N° ? | D34: =IF($B34="","N° ?",VLOOKUP($B34,Tableau1[],3,FALSE)) -> N° ? | E34: =IF($B34="","N° ?",VLOOKUP($B34,Tableau1[],4,FALSE)) -> N° ? | F34: =IF($B34="","N° ?",VLOOKUP($B34,Tableau1[],6,FALSE)) -> N° ? | G34: =Tableau2[[#This Row],[Rang]] -> 32 | M34: =M33+1 -> 32 | O34: =IF($N34="","N° ?",VLOOKUP($N34,Tableau1[],2,FALSE)) -> N° ? | P34: =IF($N34="","N° ?",VLOOKUP($N34,Tableau1[],3,FALSE)) -> N° ? | Q34: =IF($N34="","N° ?",VLOOKUP($N34,Tableau1[],4,FALSE)) -> N° ? | R34: =IF($N34="","N° ?",VLOOKUP($N34,Tableau1[],6,FALSE)) -> N° ? | S34: =Tableau24[[#This Row],[Rang]] -> 32
... A102: =A101+1 -> 100 | C102: =IF($B102="","N° ?",VLOOKUP($B102,Tableau1[],2,FALSE)) -> N° ? | D102: =IF($B102="","N° ?",VLOOKUP($B102,Tableau1[],3,FALSE)) -> N° ? | E102: =IF($B102="","N° ?",VLOOKUP($B102,Tableau1[],4,FALSE)) -> N° ? | F102: =IF($B102="","N° ?",VLOOKUP($B102,Tableau1[],6,FALSE)) -> N° ? | G102: =Tableau2[[#This Row],[Rang]] -> 100 | M102: =M101+1 -> 100 | O102: =IF($N102="","N° ?",VLOOKUP($N102,Tableau1[],2,FALSE)) -> N° ? | P102: =IF($N102="","N° ?",VLOOKUP($N102,Tableau1[],3,FALSE)) -> N° ? | Q102: =IF($N102="","N° ?",VLOOKUP($N102,Tableau1[],4,FALSE)) -> N° ? | R102: =IF($N102="","N° ?",VLOOKUP($N102,Tableau1[],6,FALSE)) -> N° ? | S102: =Tableau24[[#This Row],[Rang]] -> 100
A105: Classement 6ème 1 | H105: Classement 6ème 2 | O105: Classement 6ème 3 | V105: Classement 6ème 4
A107: Rang | B107: Dossard | C107: Nom | D107: Prénom | E107: Classe | F107: Points | H107: Rang | I107: Dossard | J107: Nom | K107: Prénom | L107: Classe | M107: Points | O107: Rang | P107: Dossard | Q107: Nom | R107: Prénom | S107: Classe | T107: Points | V107: Rang | W107: Dossard | X107: Nom | Y107: Prénom | Z107: Classe | AA107: Points
A140: Classement 6ème 5 | H140: Classement 6ème 6 | O140: Classement 6ème 7
A142: Rang | B142: Dossard | C142: Nom | D142: Prénom | E142: Classe | F142: Points | H142: Rang | I142: Dossard | J142: Nom | K142: Prénom | L142: Classe | M142: Points | O142: Rang | P142: Dossard | Q142: Nom | R142: Prénom | S142: Classe | T142: Points

Sheet Benjamins 2 - 5ème
A1: Classement Course BENJAMINES 2 | I1: Classement par Classe | M1: Classement Course BENJAMINS 2
A2: Rang | B2: Dossard | C2: Nom | D2: Prénom | E2: Classe | F2: Catégorie | G2: Points | M2: Rang | N2: Dossard | O2: Nom | P2: Prénom | Q2: Classe | R2: Catégorie | S2: Points
A3: 1 | C3: =IF($B3="","N° ?",VLOOKUP($B3,Tableau1[],2,FALSE)) -> N° ? | D3: =IF($B3="","N° ?",VLOOKUP($B3,Tableau1[],3,FALSE)) -> N° ? | E3: =IF($B3="","N° ?",VLOOKUP($B3,Tableau1[],4,FALSE)) -> N° ? | F3: =IF($B3="","N° ?",VLOOKUP($B3,Tableau1[],6,FALSE)) -> N° ? | G3: =Tableau245[[#This Row],[Rang]] -> 1 | I3: Classe | J3: Points | K3: Rang | M3: 1 | O3: =IF($N3="","N° ?",VLOOKUP($N3,Tableau1[],2,FALSE)) -> N° ? | P3: =IF($N3="","N° ?",VLOOKUP($N3,Tableau1[],3,FALSE)) -> N° ? | Q3: =IF($N3="","N° ?",VLOOKUP($N3,Tableau1[],4,FALSE)) -> N° ? | R3: =IF($N3="","N° ?",VLOOKUP($N3,Tableau1[],6,FALSE)) -> N° ? | S3: =Tableau2459[[#This Row],[Rang]] -> 1
A4: =A3+1 -> 2 | C4: =IF($B4="","N° ?",VLOOKUP($B4,Tableau1[],2,FALSE)) -> N° ? | D4: =IF($B4="","N° ?",VLOOKUP($B4,Tableau1[],3,FALSE)) -> N° ? | E4: =IF($B4="","N° ?",VLOOKUP($B4,Tableau1[],4,FALSE)) -> N° ? | F4: =IF($B4="","N° ?",VLOOKUP($B4,Tableau1[],6,FALSE)) -> N° ? | G4: =Tableau245[[#This Row],[Rang]] -> 2 | I4: 5ème 1 | J4: =SUMIF('Benjamins 2 - 5ème'!$E$3:$E$102,"5_1",'Benjamins 2 - 5ème'!$G$3:$G$102)+SUMIF('Benjamins 2 - 5ème'!$Q$3:$Q$102,"5_1",'Benjamins 2 - 5ème'!$S$3:$S$102) -> 0 | K4: =RANK(J4,$J$4:$J$10,1) -> 1 | M4: =M3+1 -> 2 | O4: =IF($N4="","N° ?",VLOOKUP($N4,Tableau1[],2,FALSE)) -> N° ? | P4: =IF($N4="","N° ?",VLOOKUP($N4,Tableau1[],3,FALSE)) -> N° ? | Q4: =IF($N4="","N° ?",VLOOKUP($N4,Tableau1[],4,FALSE)) -> N° ? | R4: =IF($N4="","N° ?",VLOOKUP($N4,Tableau1[],6,FALSE)) -> N° ? | S4: =Tableau2459[[#This Row],[Rang]] -> 2
A5: =A4+1 -> 3 | C5: =IF($B5="","N° ?",VLOOKUP($B5,Tableau1[],2,FALSE)) -> N° ? | D5: =IF($B5="","N° ?",VLOOKUP($B5,Tableau1[],3,FALSE)) -> N° ? | E5: =IF($B5="","N° ?",VLOOKUP($B5,Tableau1[],4,FALSE)) -> N° ? | F5: =IF($B5="","N° ?",VLOOKUP($B5,Tableau1[],6,FALSE)) -> N° ? | G5: =Tableau245[[#This Row],[Rang]] -> 3 | I5: 5ème 2 | J5: =SUMIF('Benjamins 2 - 5ème'!$E$3:$E$102,"5_2",'Benjamins 2 - 5ème'!$G$3:$G$102)+SUMIF('Benjamins 2 - 5ème'!$Q$3:$Q$102,"5_2",'Benjamins 2 - 5ème'!$S$3:$S$102) -> 0 | K5: =RANK(J5,$J$4:$J$10,1) -> 1 | M5: =M4+1 -> 3 | O5: =IF($N5="","N° ?",VLOOKUP($N5,Tableau1[],2,FALSE)) -> N° ? | P5: =IF($N5="","N° ?",VLOOKUP($N5,Tableau1[],3,FALSE)) -> N° ? | Q5: =IF($N5="","N° ?",VLOOKUP($N5,Tableau1[],4,FALSE)) -> N° ? | R5: =IF($N5="","N° ?",VLOOKUP($N5,Tableau1[],6,FALSE)) -> N° ? | S5: =Tableau2459[[#This Row],[Rang]] -> 3
A6: =A5+1 -> 4 | C6: =IF($B6="","N° ?",VLOOKUP($B6,Tableau1[],2,FALSE)) -> N° ? | D6: =IF($B6="","N° ?",VLOOKUP($B6,Tableau1[],3,FALSE)) -> N° ? | E6: =IF($B6="","N° ?",VLOOKUP($B6,Tableau1[],4,FALSE)) -> N° ? | F6: =IF($B6="","N° ?",VLOOKUP($B6,Tableau1[],6,FALSE)) -> N° ? | G6: =Tableau245[[#This Row],[Rang]] -> 4 | I6: 5ème 3 | J6: =SUMIF('Benjamins 2 - 5ème'!$E$3:$E$102,"5_3",'Benjamins 2 - 5ème'!$G$3:$G$102)+SUMIF('Benjamins 2 - 5ème'!$Q$3:$Q$102,"5_3",'Benjamins 2 - 5ème'!$S$3:$S$102) -> 0 | K6: =RANK(J6,$J$4:$J$10,1) -> 1 | M6: =M5+1 -> 4 | O6: =IF($N6="","N° ?",VLOOKUP($N6,Tableau1[],2,FALSE)) -> N° ? | P6: =IF($N6="","N° ?",VLOOKUP($N6,Tableau1[],3,FALSE)) -> N° ? | Q6: =IF($N6="","N° ?",VLOOKUP($N6,Tableau1[],4,FALSE)) -> N° ? | R6: =IF($N6="","N° ?",VLOOKUP($N6,Tableau1[],6,FALSE)) -> N° ? | S6: =Tableau2459[[#This Row],[Rang]] -> 4
A7: =A6+1 -> 5 | C7: =IF($B7="","N° ?",VLOOKUP($B7,Tableau1[],2,FALSE)) -> N° ? | D7: =IF($B7="","N° ?",VLOOKUP($B7,Tableau1[],3,FALSE)) -> N° ? | E7: =IF($B7="","N° ?",VLOOKUP($B7,Tableau1[],4,FALSE)) -> N° ? | F7: =IF($B7="","N° ?",VLOOKUP($B7,Tableau1[],6,FALSE)) -> N° ? | G7: =Tableau245[[#This Row],[Rang]] -> 5 | I7: 5ème 4 | J7: =SUMIF('Benjamins 2 - 5ème'!$E$3:$E$102,"5_4",'Benjamins 2 - 5ème'!$G$3:$G$102)+SUMIF('Benjamins 2 - 5ème'!$Q$3:$Q$102,"5_4",'Benjamins 2 - 5ème'!$S$3:$S$102) -> 0 | K7: =RANK(J7,$J$4:$J$10,1) -> 1 | M7: =M6+1 -> 5 | O7: =IF($N7="","N° ?",VLOOKUP($N7,Tableau1[],2,FALSE)) -> N° ? | P7: =IF($N7="","N° ?",VLOOKUP($N7,Tableau1[],3,FALSE)) -> N° ? | Q7: =IF($N7="","N° ?",VLOOKUP($N7,Tableau1[],4,FALSE)) -> N° ? | R7: =IF($N7="","N° ?",VLOOKUP($N7,Tableau1[],6,FALSE)) -> N° ? | S7: =Tableau2459[[#This Row],[Rang]] -> 5
A8: =A7+1 -> 6 | C8: =IF($B8="","N° ?",VLOOKUP($B8,Tableau1[],2,FALSE)) -> N° ? | D8: =IF($B8="","N° ?",VLOOKUP($B8,Tableau1[],3,FALSE)) -> N° ? | E8: =IF($B8="","N° ?",VLOOKUP($B8,Tableau1[],4,FALSE)) -> N° ? | F8: =IF($B8="","N° ?",VLOOKUP($B8,Tableau1[],6,FALSE)) -> N° ? | G8: =Tableau245[[#This Row],[Rang]] -> 6 | I8: 5ème 5 | J8: =SUMIF('Benjamins 2 - 5ème'!$E$3:$E$102,"5_5",'Benjamins 2 - 5ème'!$G$3:$G$102)+SUMIF('Benjamins 2 - 5ème'!$Q$3:$Q$102,"5_5",'Benjamins 2 - 5ème'!$S$3:$S$102) -> 0 | K8: =RANK(J8,$J$4:$J$10,1) -> 1 | M8: =M7+1 -> 6 | O8: =IF($N8="","N° ?",VLOOKUP($N8,Tableau1[],2,FALSE)) -> N° ? | P8: =IF($N8="","N° ?",VLOOKUP($N8,Tableau1[],3,FALSE)) -> N° ? | Q8: =IF($N8="","N° ?",VLOOKUP($N8,Tableau1[],4,FALSE)) -> N° ? | R8: =IF($N8="","N° ?",VLOOKUP($N8,Tableau1[],6,FALSE)) -> N° ? | S8: =Tableau2459[[#This Row],[Rang]] -> 6
A9: =A8+1 -> 7 | C9: =IF($B9="","N° ?",VLOOKUP($B9,Tableau1[],2,FALSE)) -> N° ? | D9: =IF($B9="","N° ?",VLOOKUP($B9,Tableau1[],3,FALSE)) -> N° ? | E9: =IF($B9="","N° ?",VLOOKUP($B9,Tableau1[],4,FALSE)) -> N° ? | F9: =IF($B9="","N° ?",VLOOKUP($B9,Tableau1[],6,FALSE)) -> N° ? | G9: =Tableau245[[#This Row],[Rang]] -> 7 | I9: 5ème 6 | J9: =SUMIF('Benjamins 2 - 5ème'!$E$3:$E$102,"5_6",'Benjamins 2 - 5ème'!$G$3:$G$102)+SUMIF('Benjamins 2 - 5ème'!$Q$3:$Q$102,"5_6",'Benjamins 2 - 5ème'!$S$3:$S$102) -> 0 | K9: =RANK(J9,$J$4:$J$10,1) -> 1 | M9: =M8+1 -> 7 | O9: =IF($N9="","N° ?",VLOOKUP($N9,Tableau1[],2,FALSE)) -> N° ? | P9: =IF($N9="","N° ?",VLOOKUP($N9,Tableau1[],3,FALSE)) -> N° ? | Q9: =IF($N9="","N° ?",VLOOKUP($N9,Tableau1[],4,FALSE)) -> N° ? | R9: =IF($N9="","N° ?",VLOOKUP($N9,Tableau1[],6,FALSE)) -> N° ? | S9: =Tableau2459[[#This Row],[Rang]] -> 7
A10: =A9+1 -> 8 | C10: =IF($B10="","N° ?",VLOOKUP($B10,Tableau1[],2,FALSE)) -> N° ? | D10: =IF($B10="","N° ?",VLOOKUP($B10,Tableau1[],3,FALSE)) -> N° ? | E10: =IF($B10="","N° ?",VLOOKUP($B10,Tableau1[],4,FALSE)) -> N° ? | F10: =IF($B10="","N° ?",VLOOKUP($B10,Tableau1[],6,FALSE)) -> N° ? | G10: =Tableau245[[#This Row],[Rang]] -> 8 | I10: 5ème 7 | J10: =SUMIF('Benjamins 2 - 5ème'!$E$3:$E$102,"5_7",'Benjamins 2 - 5ème'!$G$3:$G$102)+SUMIF('Benjamins 2 - 5ème'!$Q$3:$Q$102,"5_7",'Benjamins 2 - 5ème'!$S$3:$S$102) -> 0 | K10: =RANK(J10,$J$4:$J$10,1) -> 1 | M10: =M9+1 -> 8 | O10: =IF($N10="","N° ?",VLOOKUP($N10,Tableau1[],2,FALSE)) -> N° ? | P10: =IF($N10="","N° ?",VLOOKUP($N10,Tableau1[],3,FALSE)) -> N° ? | Q10: =IF($N10="","N° ?",VLOOKUP($N10,Tableau1[],4,FALSE)) -> N° ? | R10: =IF($N10="","N° ?",VLOOKUP($N10,Tableau1[],6,FALSE)) -> N° ? | S10: =Tableau2459[[#This Row],[Rang]] -> 8
A11: =A10+1 -> 9 | C11: =IF($B11="","N° ?",VLOOKUP($B11,Tableau1[],2,FALSE)) -> N° ? | D11: =IF($B11="","N° ?",VLOOKUP($B11,Tableau1[],3,FALSE)) -> N° ? | E11: =IF($B11="","N° ?",VLOOKUP($B11,Tableau1[],4,FALSE)) -> N° ? | F11: =IF($B11="","N° ?",VLOOKUP($B11,Tableau1[],6,FALSE)) -> N° ? | G11: =Tableau245[[#This Row],[Rang]] -> 9 | M11: =M10+1 -> 9 | O11: =IF($N11="","N° ?",VLOOKUP($N11,Tableau1[],2,FALSE)) -> N° ? | P11: =IF($N11="","N° ?",VLOOKUP($N11,Tableau1[],3,FALSE)) -> N° ? | Q11: =IF($N11="","N° ?",VLOOKUP($N11,Tableau1[],4,FALSE)) -> N° ? | R11: =IF($N11="","N° ?",VLOOKUP($N11,Tableau1[],6,FALSE)) -> N° ? | S11: =Tableau2459[[#This Row],[Rang]] -> 9
A12: =A11+1 -> 10 | C12: =IF($B12="","N° ?",VLOOKUP($B12,Tableau1[],2,FALSE)) -> N° ? | D12: =IF($B12="","N° ?",VLOOKUP($B12,Tableau1[],3,FALSE)) -> N° ? | E12: =IF($B12="","N° ?",VLOOKUP($B12,Tableau1[],4,FALSE)) -> N° ? | F12: =IF($B12="","N° ?",VLOOKUP($B12,Tableau1[],6,FALSE)) -> N° ? | G12: =Tableau245[[#This Row],[Rang]] -> 10 | M12: =M11+1 -> 10 | O12: =IF($N12="","N° ?",VLOOKUP($N12,Tableau1[],2,FALSE)) -> N° ? | P12: =IF($N12="","N° ?",VLOOKUP($N12,Tableau1[],3,FALSE)) -> N° ? | Q12: =IF($N12="","N° ?",VLOOKUP($N12,Tableau1[],4,FALSE)) -> N° ? | R12: =IF($N12="","N° ?",VLOOKUP($N12,Tableau1[],6,FALSE)) -> N° ? | S12: =Tableau2459[[#This Row],[Rang]] -> 10
A13: =A12+1 -> 11 | C13: =IF($B13="","N° ?",VLOOKUP($B13,Tableau1[],2,FALSE)) -> N° ? | D13: =IF($B13="","N° ?",VLOOKUP($B13,Tableau1[],3,FALSE)) -> N° ? | E13: =IF($B13="","N° ?",VLOOKUP($B13,Tableau1[],4,FALSE)) -> N° ? | F13: =IF($B13="","N° ?",VLOOKUP($B13,Tableau1[],6,FALSE)) -> N° ? | G13: =Tableau245[[#This Row],[Rang]] -> 11 | M13: =M12+1 -> 11 | O13: =IF($N13="","N° ?",VLOOKUP($N13,Tableau1[],2,FALSE)) -> N° ? | P13: =IF($N13="","N° ?",VLOOKUP($N13,Tableau1[],3,FALSE)) -> N° ? | Q13: =IF($N13="","N° ?",VLOOKUP($N13,Tableau1[],4,FALSE)) -> N° ? | R13: =IF($N13="","N° ?",VLOOKUP($N13,Tableau1[],6,FALSE)) -> N° ? | S13: =Tableau2459[[#This Row],[Rang]] -> 11
A14: =A13+1 -> 12 | C14: =IF($B14="","N° ?",VLOOKUP($B14,Tableau1[],2,FALSE)) -> N° ? | D14: =IF($B14="","N° ?",VLOOKUP($B14,Tableau1[],3,FALSE)) -> N° ? | E14: =IF($B14="","N° ?",VLOOKUP($B14,Tableau1[],4,FALSE)) -> N° ? | F14: =IF($B14="","N° ?",VLOOKUP($B14,Tableau1[],6,FALSE)) -> N° ? | G14: =Tableau245[[#This Row],[Rang]] -> 12 | M14: =M13+1 -> 12 | O14: =IF($N14="","N° ?",VLOOKUP($N14,Tableau1[],2,FALSE)) -> N° ? | P14: =IF($N14="","N° ?",VLOOKUP($N14,Tableau1[],3,FALSE)) -> N° ? | Q14: =IF($N14="","N° ?",VLOOKUP($N14,Tableau1[],4,FALSE)) -> N° ? | R14: =IF($N14="","N° ?",VLOOKUP($N14,Tableau1[],6,FALSE)) -> N° ? | S14: =Tableau2459[[#This Row],[Rang]] -> 12
A15: =A14+1 -> 13 | C15: =IF($B15="","N° ?",VLOOKUP($B15,Tableau1[],2,FALSE)) -> N° ? | D15: =IF($B15="","N° ?",VLOOKUP($B15,Tableau1[],3,FALSE)) -> N° ? | E15: =IF($B15="","N° ?",VLOOKUP($B15,Tableau1[],4,FALSE)) -> N° ? | F15: =IF($B15="","N° ?",VLOOKUP($B15,Tableau1[],6,FALSE)) -> N° ? | G15: =Tableau245[[#This Row],[Rang]] -> 13 | M15: =M14+1 -> 13 | O15: =IF($N15="","N° ?",VLOOKUP($N15,Tableau1[],2,FALSE)) -> N° ? | P15: =IF($N15="","N° ?",VLOOKUP($N15,Tableau1[],3,FALSE)) -> N° ? | Q15: =IF($N15="","N° ?",VLOOKUP($N15,Tableau1[],4,FALSE)) -> N° ? | R15: =IF($N15="","N° ?",VLOOKUP($N15,Tableau1[],6,FALSE)) -> N° ? | S15: =Tableau2459[[#This Row],[Rang]] -> 13
A16: =A15+1 -> 14 | C16: =IF($B16="","N° ?",VLOOKUP($B16,Tableau1[],2,FALSE)) -> N° ? | D16: =IF($B16="","N° ?",VLOOKUP($B16,Tableau1[],3,FALSE)) -> N° ? | E16: =IF($B16="","N° ?",VLOOKUP($B16,Tableau1[],4,FALSE)) -> N° ? | F16: =IF($B16="","N° ?",VLOOKUP($B16,Tableau1[],6,FALSE)) -> N° ? | G16: =Tableau245[[#This Row],[Rang]] -> 14 | M16: =M15+1 -> 14 | O16: =IF($N16="","N° ?",VLOOKUP($N16,Tableau1[],2,FALSE)) -> N° ? | P16: =IF($N16="","N° ?",VLOOKUP($N16,Tableau1[],3,FALSE)) -> N° ? | Q16: =IF($N16="","N° ?",VLOOKUP($N16,Tableau1[],4,FALSE)) -> N° ? | R16: =IF($N16="","N° ?",VLOOKUP($N16,Tableau1[],6,FALSE)) -> N° ? | S16: =Tableau2459[[#This Row],[Rang]] -> 14
A17: =A16+1 -> 15 | C17: =IF($B17="","N° ?",VLOOKUP($B17,Tableau1[],2,FALSE)) -> N° ? | D17: =IF($B17="","N° ?",VLOOKUP($B17,Tableau1[],3,FALSE)) -> N° ? | E17: =IF($B17="","N° ?",VLOOKUP($B17,Tableau1[],4,FALSE)) -> N° ? | F17: =IF($B17="","N° ?",VLOOKUP($B17,Tableau1[],6,FALSE)) -> N° ? | G17: =Tableau245[[#This Row],[Rang]] -> 15 | M17: =M16+1 -> 15 | O17: =IF($N17="","N° ?",VLOOKUP($N17,Tableau1[],2,FALSE)) -> N° ? | P17: =IF($N17="","N° ?",VLOOKUP($N17,Tableau1[],3,FALSE)) -> N° ? | Q17: =IF($N17="","N° ?",VLOOKUP($N17,Tableau1[],4,FALSE)) -> N° ? | R17: =IF($N17="","N° ?",VLOOKUP($N17,Tableau1[],6,FALSE)) -> N° ? | S17: =Tableau2459[[#This Row],[Rang]] -> 15
A18: =A17+1 -> 16 | C18: =IF($B18="","N° ?",VLOOKUP($B18,Tableau1[],2,FALSE)) -> N° ? | D18: =IF($B18="","N° ?",VLOOKUP($B18,Tableau1[],3,FALSE)) -> N° ? | E18: =IF($B18="","N° ?",VLOOKUP($B18,Tableau1[],4,FALSE)) -> N° ? | F18: =IF($B18="","N° ?",VLOOKUP($B18,Tableau1[],6,FALSE)) -> N° ? | G18: =Tableau245[[#This Row],[Rang]] -> 16 | M18: =M17+1 -> 16 | O18: =IF($N18="","N° ?",VLOOKUP($N18,Tableau1[],2,FALSE)) -> N° ? | P18: =IF($N18="","N° ?",VLOOKUP($N18,Tableau1[],3,FALSE)) -> N° ? | Q18: =IF($N18="","N° ?",VLOOKUP($N18,Tableau1[],4,FALSE)) -> N° ? | R18: =IF($N18="","N° ?",VLOOKUP($N18,Tableau1[],6,FALSE)) -> N° ? | S18: =Tableau2459[[#This Row],[Rang]] -> 16
A19: =A18+1 -> 17 | C19: =IF($B19="","N° ?",VLOOKUP($B19,Tableau1[],2,FALSE)) -> N° ? | D19: =IF($B19="","N° ?",VLOOKUP($B19,Tableau1[],3,FALSE)) -> N° ? | E19: =IF($B19="","N° ?",VLOOKUP($B19,Tableau1[],4,FALSE)) -> N° ? | F19: =IF($B19="","N° ?",VLOOKUP($B19,Tableau1[],6,FALSE)) -> N° ? | G19: =Tableau245[[#This Row],[Rang]] -> 17 | M19: =M18+1 -> 17 | O19: =IF($N19="","N° ?",VLOOKUP($N19,Tableau1[],2,FALSE)) -> N° ? | P19: =IF($N19="","N° ?",VLOOKUP($N19,Tableau1[],3,FALSE)) -> N° ? | Q19: =IF($N19="","N° ?",VLOOKUP($N19,Tableau1[],4,FALSE)) -> N° ? | R19: =IF($N19="","N° ?",VLOOKUP($N19,Tableau1[],6,FALSE)) -> N° ? | S19: =Tableau2459[[#This Row],[Rang]] -> 17
A20: =A19+1 -> 18 | C20: =IF($B20="","N° ?",VLOOKUP($B20,Tableau1[],2,FALSE)) -> N° ? | D20: =IF($B20="","N° ?",VLOOKUP($B20,Tableau1[],3,FALSE)) -> N° ? | E20: =IF($B20="","N° ?",VLOOKUP($B20,Tableau1[],4,FALSE)) -> N° ? | F20: =IF($B20="","N° ?",VLOOKUP($B20,Tableau1[],6,FALSE)) -> N° ? | G20: =Tableau245[[#This Row],[Rang]] -> 18 | M20: =M19+1 -> 18 | O20: =IF($N20="","N° ?",VLOOKUP($N20,Tableau1[],2,FALSE)) -> N° ? | P20: =IF($N20="","N° ?",VLOOKUP($N20,Tableau1[],3,FALSE)) -> N° ? | Q20: =IF($N20="","N° ?",VLOOKUP($N20,Tableau1[],4,FALSE)) -> N° ? | R20: =IF($N20="","N° ?",VLOOKUP($N20,Tableau1[],6,FALSE)) -> N° ? | S20: =Tableau2459[[#This Row],[Rang]] -> 18
A21: =A20+1 -> 19 | C21: =IF($B21="","N° ?",VLOOKUP($B21,Tableau1[],2,FALSE)) -> N° ? | D21: =IF($B21="","N° ?",VLOOKUP($B21,Tableau1[],3,FALSE)) -> N° ? | E21: =IF($B21="","N° ?",VLOOKUP($B21,Tableau1[],4,FALSE)) -> N° ? | F21: =IF($B21="","N° ?",VLOOKUP($B21,Tableau1[],6,FALSE)) -> N° ? | G21: =Tableau245[[#This Row],[Rang]] -> 19 | M21: =M20+1 -> 19 | O21: =IF($N21="","N° ?",VLOOKUP($N21,Tableau1[],2,FALSE)) -> N° ? | P21: =IF($N21="","N° ?",VLOOKUP($N21,Tableau1[],3,FALSE)) -> N° ? | Q21: =IF($N21="","N° ?",VLOOKUP($N21,Tableau1[],4,FALSE)) -> N° ? | R21: =IF($N21="","N° ?",VLOOKUP($N21,Tableau1[],6,FALSE)) -> N° ? | S21: =Tableau2459[[#This Row],[Rang]] -> 19
A22: =A21+1 -> 20 | C22: =IF($B22="","N° ?",VLOOKUP($B22,Tableau1[],2,FALSE)) -> N° ? | D22: =IF($B22="","N° ?",VLOOKUP($B22,Tableau1[],3,FALSE)) -> N° ? | E22: =IF($B22="","N° ?",VLOOKUP($B22,Tableau1[],4,FALSE)) -> N° ? | F22: =IF($B22="","N° ?",VLOOKUP($B22,Tableau1[],6,FALSE)) -> N° ? | G22: =Tableau245[[#This Row],[Rang]] -> 20 | M22: =M21+1 -> 20 | O22: =IF($N22="","N° ?",VLOOKUP($N22,Tableau1[],2,FALSE)) -> N° ? | P22: =IF($N22="","N° ?",VLOOKUP($N22,Tableau1[],3,FALSE)) -> N° ? | Q22: =IF($N22="","N° ?",VLOOKUP($N22,Tableau1[],4,FALSE)) -> N° ? | R22: =IF($N22="","N° ?",VLOOKUP($N22,Tableau1[],6,FALSE)) -> N° ? | S22: =Tableau2459[[#This Row],[Rang]] -> 20
... A102: =A101+1 -> 100 | C102: =IF($B102="","N° ?",VLOOKUP($B102,Tableau1[],2,FALSE)) -> N° ? | D102: =IF($B102="","N° ?",VLOOKUP($B102,Tableau1[],3,FALSE)) -> N° ? | E102: =IF($B102="","N° ?",VLOOKUP($B102,Tableau1[],4,FALSE)) -> N° ? | F102: =IF($B102="","N° ?",VLOOKUP($B102,Tableau1[],6,FALSE)) -> N° ? | G102: =Tableau245[[#This Row],[Rang]] -> 100 | M102: =M101+1 -> 100 | O102: =IF($N102="","N° ?",VLOOKUP($N102,Tableau1[],2,FALSE)) -> N° ? | P102: =IF($N102="","N° ?",VLOOKUP($N102,Tableau1[],3,FALSE)) -> N° ? | Q102: =IF($N102="","N° ?",VLOOKUP($N102,Tableau1[],4,FALSE)) -> N° ? | R102: =IF($N102="","N° ?",VLOOKUP($N102,Tableau1[],6,FALSE)) -> N° ? | S102: =Tableau2459[[#This Row],[Rang]] -> 100
A105: Classement 5ème 1 | H105: Classement 5ème 2 | O105: Classement 5ème 3 | V105: Classement 5ème 4
A107: Rang | B107: Dossard | C107: Nom | D107: Prénom | E107: Classe | F107: Points | H107: Rang | I107: Dossard | J107: Nom | K107: Prénom | L107: Classe | M107: Points | O107: Rang | P107: Dossard | Q107: Nom | R107: Prénom | S107: Classe | T107: Points | V107: Rang | W107: Dossard | X107: Nom | Y107: Prénom | Z107: Classe | AA107: Points
A140: Classement 5ème 5 | H140: Classement 5ème 6 | O140: Classement 5ème 7
A142: Rang | B142: Dossard | C142: Nom | D142: Prénom | E142: Classe | F142: Points | H142: Rang | I142: Dossard | J142: Nom | K142: Prénom | L142: Classe | M142: Points | O142: Rang | P142: Dossard | Q142: Nom | R142: Prénom | S142: Classe | T142: Points

Sheet Minimes 1 - 4ème
A1: Classement Course MINIMES 1 Filles | I1: Classement par Classe | M1: Classement Course MINIMES 1 Garçons
A2: Rang | B2: Dossard | C2: Nom | D2: Prénom | E2: Classe | F2: Catégorie | G2: Points | M2: Rang | N2: Dossard | O2: Nom | P2: Prénom | Q2: Classe | R2: Catégorie | S2: Points
A3: 1 | C3: =IF($B3="","N° ?",VLOOKUP($B3,Tableau1[],2,FALSE)) -> N° ? | D3: =IF($B3="","N° ?",VLOOKUP($B3,Tableau1[],3,FALSE)) -> N° ? | E3: =IF($B3="","N° ?",VLOOKUP($B3,Tableau1[],4,FALSE)) -> N° ? | F3: =IF($B3="","N° ?",VLOOKUP($B3,Tableau1[],6,FALSE)) -> N° ? | G3: =Tableau24510[[#This Row],[Rang]] -> 1 | I3: Classe | J3: Points | K3: Rang | M3: 1 | O3: =IF($N3="","N° ?",VLOOKUP($N3,Tableau1[],2,FALSE)) -> N° ? | P3: =IF($N3="","N° ?",VLOOKUP($N3,Tableau1[],3,FALSE)) -> N° ? | Q3: =IF($N3="","N° ?",VLOOKUP($N3,Tableau1[],4,FALSE)) -> N° ? | R3: =IF($N3="","N° ?",VLOOKUP($N3,Tableau1[],6,FALSE)) -> N° ? | S3: =Tableau245911[[#This Row],[Rang]] -> 1
A4: =A3+1 -> 2 | C4: =IF($B4="","N° ?",VLOOKUP($B4,Tableau1[],2,FALSE)) -> N° ? | D4: =IF($B4="","N° ?",VLOOKUP($B4,Tableau1[],3,FALSE)) -> N° ? | E4: =IF($B4="","N° ?",VLOOKUP($B4,Tableau1[],4,FALSE)) -> N° ? | F4: =IF($B4="","N° ?",VLOOKUP($B4,Tableau1[],6,FALSE)) -> N° ? | G4: =Tableau24510[[#This Row],[Rang]] -> 2 | I4: 4ème 1 | J4: =SUMIF('Minimes 1 - 4ème'!$E$3:$E$102,"4_1",'Minimes 1 - 4ème'!$G$3:$G$102)+SUMIF('Minimes 1 - 4ème'!$Q$3:$Q$102,"4_1",'Minimes 1 - 4ème'!$S$3:$S$102) -> 0 | K4: =RANK(J4,$J$4:$J$10,1) -> 1 | M4: =M3+1 -> 2 | O4: =IF($N4="","N° ?",VLOOKUP($N4,Tableau1[],2,FALSE)) -> N° ? | P4: =IF($N4="","N° ?",VLOOKUP($N4,Tableau1[],3,FALSE)) -> N° ? | Q4: =IF($N4="","N° ?",VLOOKUP($N4,Tableau1[],4,FALSE)) -> N° ? | R4: =IF($N4="","N° ?",VLOOKUP($N4,Tableau1[],6,FALSE)) -> N° ? | S4: =Tableau245911[[#This Row],[Rang]] -> 2
A5: =A4+1 -> 3 | C5: =IF($B5="","N° ?",VLOOKUP($B5,Tableau1[],2,FALSE)) -> N° ? | D5: =IF($B5="","N° ?",VLOOKUP($B5,Tableau1[],3,FALSE)) -> N° ? | E5: =IF($B5="","N° ?",VLOOKUP($B5,Tableau1[],4,FALSE)) -> N° ? | F5: =IF($B5="","N° ?",VLOOKUP($B5,Tableau1[],6,FALSE)) -> N° ? | G5: =Tableau24510[[#This Row],[Rang]] -> 3 | I5: 4ème 2 | J5: =SUMIF('Minimes 1 - 4ème'!$E$3:$E$102,"4_2",'Minimes 1 - 4ème'!$G$3:$G$102)+SUMIF('Minimes 1 - 4ème'!$Q$3:$Q$102,"4_2",'Minimes 1 - 4ème'!$S$3:$S$102) -> 0 | K5: =RANK(J5,$J$4:$J$10,1) -> 1 | M5: =M4+1 -> 3 | O5: =IF($N5="","N° ?",VLOOKUP($N5,Tableau1[],2,FALSE)) -> N° ? | P5: =IF($N5="","N° ?",VLOOKUP($N5,Tableau1[],3,FALSE)) -> N° ? | Q5: =IF($N5="","N° ?",VLOOKUP($N5,Tableau1[],4,FALSE)) -> N° ? | R5: =IF($N5="","N° ?",VLOOKUP($N5,Tableau1[],6,FALSE)) -> N° ? | S5: =Tableau245911[[#This Row],[Rang]] -> 3
A6: =A5+1 -> 4 | C6: =IF($B6="","N° ?",VLOOKUP($B6,Tableau1[],2,FALSE)) -> N° ? | D6: =IF($B6="","N° ?",VLOOKUP($B6,Tableau1[],3,FALSE)) -> N° ? | E6: =IF($B6="","N° ?",VLOOKUP($B6,Tableau1[],4,FALSE)) -> N° ? | F6: =IF($B6="","N° ?",VLOOKUP($B6,Tableau1[],6,FALSE)) -> N° ? | G6: =Tableau24510[[#This Row],[Rang]] -> 4 | I6: 4ème 3 | J6: =SUMIF('Minimes 1 - 4ème'!$E$3:$E$102,"4_3",'Minimes 1 - 4ème'!$G$3:$G$102)+SUMIF('Minimes 1 - 4ème'!$Q$3:$Q$102,"4_3",'Minimes 1 - 4ème'!$S$3:$S$102) -> 0 | K6: =RANK(J6,$J$4:$J$10,1) -> 1 | M6: =M5+1 -> 4 | O6: =IF($N6="","N° ?",VLOOKUP($N6,Tableau1[],2,FALSE)) -> N° ? | P6: =IF($N6="","N° ?",VLOOKUP($N6,Tableau1[],3,FALSE)) -> N° ? | Q6: =IF($N6="","N° ?",VLOOKUP($N6,Tableau1[],4,FALSE)) -> N° ? | R6: =IF($N6="","N° ?",VLOOKUP($N6,Tableau1[],6,FALSE)) -> N° ? | S6: =Tableau245911[[#This Row],[Rang]] -> 4
A7: =A6+1 -> 5 | C7: =IF($B7="","N° ?",VLOOKUP($B7,Tableau1[],2,FALSE)) -> N° ? | D7: =IF($B7="","N° ?",VLOOKUP($B7,Tableau1[],3,FALSE)) -> N° ? | E7: =IF($B7="","N° ?",VLOOKUP($B7,Tableau1[],4,FALSE)) -> N° ? | F7: =IF($B7="","N° ?",VLOOKUP($B7,Tableau1[],6,FALSE)) -> N° ? | G7: =Tableau24510[[#This Row],[Rang]] -> 5 | I7: 4ème 4 | J7: =SUMIF('Minimes 1 - 4ème'!$E$3:$E$102,"4_4",'Minimes 1 - 4ème'!$G$3:$G$102)+SUMIF('Minimes 1 - 4ème'!$Q$3:$Q$102,"4_4",'Minimes 1 - 4ème'!$S$3:$S$102) -> 0 | K7: =RANK(J7,$J$4:$J$10,1) -> 1 | M7: =M6+1 -> 5 | O7: =IF($N7="","N° ?",VLOOKUP($N7,Tableau1[],2,FALSE)) -> N° ? | P7: =IF($N7="","N° ?",VLOOKUP($N7,Tableau1[],3,FALSE)) -> N° ? | Q7: =IF($N7="","N° ?",VLOOKUP($N7,Tableau1[],4,FALSE)) -> N° ? | R7: =IF($N7="","N° ?",VLOOKUP($N7,Tableau1[],6,FALSE)) -> N° ? | S7: =Tableau245911[[#This Row],[Rang]] -> 5
A8: =A7+1 -> 6 | C8: =IF($B8="","N° ?",VLOOKUP($B8,Tableau1[],2,FALSE)) -> N° ? | D8: =IF($B8="","N° ?",VLOOKUP($B8,Tableau1[],3,FALSE)) -> N° ? | E8: =IF($B8="","N° ?",VLOOKUP($B8,Tableau1[],4,FALSE)) -> N° ? | F8: =IF($B8="","N° ?",VLOOKUP($B8,Tableau1[],6,FALSE)) -> N° ? | G8: =Tableau24510[[#This Row],[Rang]] -> 6 | I8: 4ème 5 | J8: =SUMIF('Minimes 1 - 4ème'!$E$3:$E$102,"4_5",'Minimes 1 - 4ème'!$G$3:$G$102)+SUMIF('Minimes 1 - 4ème'!$Q$3:$Q$102,"4_5",'Minimes 1 - 4ème'!$S$3:$S$102) -> 0 | K8: =RANK(J8,$J$4:$J$10,1) -> 1 | M8: =M7+1 -> 6 | O8: =IF($N8="","N° ?",VLOOKUP($N8,Tableau1[],2,FALSE)) -> N° ? | P8: =IF($N8="","N° ?",VLOOKUP($N8,Tableau1[],3,FALSE)) -> N° ? | Q8: =IF($N8="","N° ?",VLOOKUP($N8,Tableau1[],4,FALSE)) -> N° ? | R8: =IF($N8="","N° ?",VLOOKUP($N8,Tableau1[],6,FALSE)) -> N° ? | S8: =Tableau245911[[#This Row],[Rang]] -> 6
A9: =A8+1 -> 7 | C9: =IF($B9="","N° ?",VLOOKUP($B9,Tableau1[],2,FALSE)) -> N° ? | D9: =IF($B9="","N° ?",VLOOKUP($B9,Tableau1[],3,FALSE)) -> N° ? | E9: =IF($B9="","N° ?",VLOOKUP($B9,Tableau1[],4,FALSE)) -> N° ? | F9: =IF($B9="","N° ?",VLOOKUP($B9,Tableau1[],6,FALSE)) -> N° ? | G9: =Tableau24510[[#This Row],[Rang]] -> 7 | I9: 4ème 6 | J9: =SUMIF('Minimes 1 - 4ème'!$E$3:$E$102,"4_6",'Minimes 1 - 4ème'!$G$3:$G$102)+SUMIF('Minimes 1 - 4ème'!$Q$3:$Q$102,"4_6",'Minimes 1 - 4ème'!$S$3:$S$102) -> 0 | K9: =RANK(J9,$J$4:$J$10,1) -> 1 | M9: =M8+1 -> 7 | O9: =IF($N9="","N° ?",VLOOKUP($N9,Tableau1[],2,FALSE)) -> N° ? | P9: =IF($N9="","N° ?",VLOOKUP($N9,Tableau1[],3,FALSE)) -> N° ? | Q9: =IF($N9="","N° ?",VLOOKUP($N9,Tableau1[],4,FALSE)) -> N° ? | R9: =IF($N9="","N° ?",VLOOKUP($N9,Tableau1[],6,FALSE)) -> N° ? | S9: =Tableau245911[[#This Row],[Rang]] -> 7
A10: =A9+1 -> 8 | C10: =IF($B10="","N° ?",VLOOKUP($B10,Tableau1[],2,FALSE)) -> N° ? | D10: =IF($B10="","N° ?",VLOOKUP($B10,Tableau1[],3,FALSE)) -> N° ? | E10: =IF($B10="","N° ?",VLOOKUP($B10,Tableau1[],4,FALSE)) -> N° ? | F10: =IF($B10="","N° ?",VLOOKUP($B10,Tableau1[],6,FALSE)) -> N° ? | G10: =Tableau24510[[#This Row],[Rang]] -> 8 | I10: 4ème 7 | J10: =SUMIF('Minimes 1 - 4ème'!$E$3:$E$102,"4_7",'Minimes 1 - 4ème'!$G$3:$G$102)+SUMIF('Minimes 1 - 4ème'!$Q$3:$Q$102,"4_7",'Minimes 1 - 4ème'!$S$3:$S$102) -> 0 | K10: =RANK(J10,$J$4:$J$10,1) -> 1 | M10: =M9+1 -> 8 | O10: =IF($N10="","N° ?",VLOOKUP($N10,Tableau1[],2,FALSE)) -> N° ? | P10: =IF($N10="","N° ?",VLOOKUP($N10,Tableau1[],3,FALSE)) -> N° ? | Q10: =IF($N10="","N° ?",VLOOKUP($N10,Tableau1[],4,FALSE)) -> N° ? | R10: =IF($N10="","N° ?",VLOOKUP($N10,Tableau1[],6,FALSE)) -> N° ? | S10: =Tableau245911[[#This Row],[Rang]] -> 8
A11: =A10+1 -> 9 | C11: =IF($B11="","N° ?",VLOOKUP($B11,Tableau1[],2,FALSE)) -> N° ? | D11: =IF($B11="","N° ?",VLOOKUP($B11,Tableau1[],3,FALSE)) -> N° ? | E11: =IF($B11="","N° ?",VLOOKUP($B11,Tableau1[],4,FALSE)) -> N° ? | F11: =IF($B11="","N° ?",VLOOKUP($B11,Tableau1[],6,FALSE)) -> N° ? | G11: =Tableau24510[[#This Row],[Rang]] -> 9 | M11: =M10+1 -> 9 | O11: =IF($N11="","N° ?",VLOOKUP($N11,Tableau1[],2,FALSE)) -> N° ? | P11: =IF($N11="","N° ?",VLOOKUP($N11,Tableau1[],3,FALSE)) -> N° ? | Q11: =IF($N11="","N° ?",VLOOKUP($N11,Tableau1[],4,FALSE)) -> N° ? | R11: =IF($N11="","N° ?",VLOOKUP($N11,Tableau1[],6,FALSE)) -> N° ? | S11: =Tableau245911[[#This Row],[Rang]] -> 9
A12: =A11+1 -> 10 | C12: =IF($B12="","N° ?",VLOOKUP($B12,Tableau1[],2,FALSE)) -> N° ? | D12: =IF($B12="","N° ?",VLOOKUP($B12,Tableau1[],3,FALSE)) -> N° ? | E12: =IF($B12="","N° ?",VLOOKUP($B12,Tableau1[],4,FALSE)) -> N° ? | F12: =IF($B12="","N° ?",VLOOKUP($B12,Tableau1[],6,FALSE)) -> N° ? | G12: =Tableau24510[[#This Row],[Rang]] -> 10 | M12: =M11+1 -> 10 | O12: =IF($N12="","N° ?",VLOOKUP($N12,Tableau1[],2,FALSE)) -> N° ? | P12: =IF($N12="","N° ?",VLOOKUP($N12,Tableau1[],3,FALSE)) -> N° ? | Q12: =IF($N12="","N° ?",VLOOKUP($N12,Tableau1[],4,FALSE)) -> N° ? | R12: =IF($N12="","N° ?",VLOOKUP($N12,Tableau1[],6,FALSE)) -> N° ? | S12: =Tableau245911[[#This Row],[Rang]] -> 10
A13: =A12+1 -> 11 | C13: =IF($B13="","N° ?",VLOOKUP($B13,Tableau1[],2,FALSE)) -> N° ? | D13: =IF($B13="","N° ?",VLOOKUP($B13,Tableau1[],3,FALSE)) -> N° ? | E13: =IF($B13="","N° ?",VLOOKUP($B13,Tableau1[],4,FALSE)) -> N° ? | F13: =IF($B13="","N° ?",VLOOKUP($B13,Tableau1[],6,FALSE)) -> N° ? | G13: =Tableau24510[[#This Row],[Rang]] -> 11 | M13: =M12+1 -> 11 | O13: =IF($N13="","N° ?",VLOOKUP($N13,Tableau1[],2,FALSE)) -> N° ? | P13: =IF($N13="","N° ?",VLOOKUP($N13,Tableau1[],3,FALSE)) -> N° ? | Q13: =IF($N13="","N° ?",VLOOKUP($N13,Tableau1[],4,FALSE)) -> N° ? | R13: =IF($N13="","N° ?",VLOOKUP($N13,Tableau1[],6,FALSE)) -> N° ? | S13: =Tableau245911[[#This Row],[Rang]] -> 11
A14: =A13+1 -> 12 | C14: =IF($B14="","N° ?",VLOOKUP($B14,Tableau1[],2,FALSE)) -> N° ? | D14: =IF($B14="","N° ?",VLOOKUP($B14,Tableau1[],3,FALSE)) -> N° ? | E14: =IF($B14="","N° ?",VLOOKUP($B14,Tableau1[],4,FALSE)) -> N° ? | F14: =IF($B14="","N° ?",VLOOKUP($B14,Tableau1[],6,FALSE)) -> N° ? | G14: =Tableau24510[[#This Row],[Rang]] -> 12 | M14: =M13+1 -> 12 | O14: =IF($N14="","N° ?",VLOOKUP($N14,Tableau1[],2,FALSE)) -> N° ? | P14: =IF($N14="","N° ?",VLOOKUP($N14,Tableau1[],3,FALSE)) -> N° ? | Q14: =IF($N14="","N° ?",VLOOKUP($N14,Tableau1[],4,FALSE)) -> N° ? | R14: =IF($N14="","N° ?",VLOOKUP($N14,Tableau1[],6,FALSE)) -> N° ? | S14: =Tableau245911[[#This Row],[Rang]] -> 12
A15: =A14+1 -> 13 | C15: =IF($B15="","N° ?",VLOOKUP($B15,Tableau1[],2,FALSE)) -> N° ? | D15: =IF($B15="","N° ?",VLOOKUP($B15,Tableau1[],3,FALSE)) -> N° ? | E15: =IF($B15="","N° ?",VLOOKUP($B15,Tableau1[],4,FALSE)) -> N° ? | F15: =IF($B15="","N° ?",VLOOKUP($B15,Tableau1[],6,FALSE)) -> N° ? | G15: =Tableau24510[[#This Row],[Rang]] -> 13 | M15: =M14+1 -> 13 | O15: =IF($N15="","N° ?",VLOOKUP($N15,Tableau1[],2,FALSE)) -> N° ? | P15: =IF($N15="","N° ?",VLOOKUP($N15,Tableau1[],3,FALSE)) -> N° ? | Q15: =IF($N15="","N° ?",VLOOKUP($N15,Tableau1[],4,FALSE)) -> N° ? | R15: =IF($N15="","N° ?",VLOOKUP($N15,Tableau1[],6,FALSE)) -> N° ? | S15: =Tableau245911[[#This Row],[Rang]] -> 13
A16: =A15+1 -> 14 | C16: =IF($B16="","N° ?",VLOOKUP($B16,Tableau1[],2,FALSE)) -> N° ? | D16: =IF($B16="","N° ?",VLOOKUP($B16,Tableau1[],3,FALSE)) -> N° ? | E16: =IF($B16="","N° ?",VLOOKUP($B16,Tableau1[],4,FALSE)) -> N° ? | F16: =IF($B16="","N° ?",VLOOKUP($B16,Tableau1[],6,FALSE)) -> N° ? | G16: =Tableau24510[[#This Row],[Rang]] -> 14 | M16: =M15+1 -> 14 | O16: =IF($N16="","N° ?",VLOOKUP($N16,Tableau1[],2,FALSE)) -> N° ? | P16: =IF($N16="","N° ?",VLOOKUP($N16,Tableau1[],3,FALSE)) -> N° ? | Q16: =IF($N16="","N° ?",VLOOKUP($N16,Tableau1[],4,FALSE)) -> N° ? | R16: =IF($N16="","N° ?",VLOOKUP($N16,Tableau1[],6,FALSE)) -> N° ? | S16: =Tableau245911[[#This Row],[Rang]] -> 14
A17: =A16+1 -> 15 | C17: =IF($B17="","N° ?",VLOOKUP($B17,Tableau1[],2,FALSE)) -> N° ? | D17: =IF($B17="","N° ?",VLOOKUP($B17,Tableau1[],3,FALSE)) -> N° ? | E17: =IF($B17="","N° ?",VLOOKUP($B17,Tableau1[],4,FALSE)) -> N° ? | F17: =IF($B17="","N° ?",VLOOKUP($B17,Tableau1[],6,FALSE)) -> N° ? | G17: =Tableau24510[[#This Row],[Rang]] -> 15 | M17: =M16+1 -> 15 | O17: =IF($N17="","N° ?",VLOOKUP($N17,Tableau1[],2,FALSE)) -> N° ? | P17: =IF($N17="","N° ?",VLOOKUP($N17,Tableau1[],3,FALSE)) -> N° ? | Q17: =IF($N17="","N° ?",VLOOKUP($N17,Tableau1[],4,FALSE)) -> N° ? | R17: =IF($N17="","N° ?",VLOOKUP($N17,Tableau1[],6,FALSE)) -> N° ? | S17: =Tableau245911[[#This Row],[Rang]] -> 15
A18: =A17+1 -> 16 | C18: =IF($B18="","N° ?",VLOOKUP($B18,Tableau1[],2,FALSE)) -> N° ? | D18: =IF($B18="","N° ?",VLOOKUP($B18,Tableau1[],3,FALSE)) -> N° ? | E18: =IF($B18="","N° ?",VLOOKUP($B18,Tableau1[],4,FALSE)) -> N° ? | F18: =IF($B18="","N° ?",VLOOKUP($B18,Tableau1[],6,FALSE)) -> N° ? | G18: =Tableau24510[[#This Row],[Rang]] -> 16 | M18: =M17+1 -> 16 | O18: =IF($N18="","N° ?",VLOOKUP($N18,Tableau1[],2,FALSE)) -> N° ? | P18: =IF($N18="","N° ?",VLOOKUP($N18,Tableau1[],3,FALSE)) -> N° ? | Q18: =IF($N18="","N° ?",VLOOKUP($N18,Tableau1[],4,FALSE)) -> N° ? | R18: =IF($N18="","N° ?",VLOOKUP($N18,Tableau1[],6,FALSE)) -> N° ? | S18: =Tableau245911[[#This Row],[Rang]] -> 16
A19: =A18+1 -> 17 | C19: =IF($B19="","N° ?",VLOOKUP($B19,Tableau1[],2,FALSE)) -> N° ? | D19: =IF($B19="","N° ?",VLOOKUP($B19,Tableau1[],3,FALSE)) -> N° ? | E19: =IF($B19="","N° ?",VLOOKUP($B19,Tableau1[],4,FALSE)) -> N° ? | F19: =IF($B19="","N° ?",VLOOKUP($B19,Tableau1[],6,FALSE)) -> N° ? | G19: =Tableau24510[[#This Row],[Rang]] -> 17 | M19: =M18+1 -> 17 | O19: =IF($N19="","N° ?",VLOOKUP($N19,Tableau1[],2,FALSE)) -> N° ? | P19: =IF($N19="","N° ?",VLOOKUP($N19,Tableau1[],3,FALSE)) -> N° ? | Q19: =IF($N19="","N° ?",VLOOKUP($N19,Tableau1[],4,FALSE)) -> N° ? | R19: =IF($N19="","N° ?",VLOOKUP($N19,Tableau1[],6,FALSE)) -> N° ? | S19: =Tableau245911[[#This Row],[Rang]] -> 17
A20: =A19+1 -> 18 | C20: =IF($B20="","N° ?",VLOOKUP($B20,Tableau1[],2,FALSE)) -> N° ? | D20: =IF($B20="","N° ?",VLOOKUP($B20,Tableau1[],3,FALSE)) -> N° ? | E20: =IF($B20="","N° ?",VLOOKUP($B20,Tableau1[],4,FALSE)) -> N° ? | F20: =IF($B20="","N° ?",VLOOKUP($B20,Tableau1[],6,FALSE)) -> N° ? | G20: =Tableau24510[[#This Row],[Rang]] -> 18 | M20: =M19+1 -> 18 | O20: =IF($N20="","N° ?",VLOOKUP($N20,Tableau1[],2,FALSE)) -> N° ? | P20: =IF($N20="","N° ?",VLOOKUP($N20,Tableau1[],3,FALSE)) -> N° ? | Q20: =IF($N20="","N° ?",VLOOKUP($N20,Tableau1[],4,FALSE)) -> N° ? | R20: =IF($N20="","N° ?",VLOOKUP($N20,Tableau1[],6,FALSE)) -> N° ? | S20: =Tableau245911[[#This Row],[Rang]] -> 18
A21: =A20+1 -> 19 | C21: =IF($B21="","N° ?",VLOOKUP($B21,Tableau1[],2,FALSE)) -> N° ? | D21: =IF($B21="","N° ?",VLOOKUP($B21,Tableau1[],3,FALSE)) -> N° ? | E21: =IF($B21="","N° ?",VLOOKUP($B21,Tableau1[],4,FALSE)) -> N° ? | F21: =IF($B21="","N° ?",VLOOKUP($B21,Tableau1[],6,FALSE)) -> N° ? | G21: =Tableau24510[[#This Row],[Rang]] -> 19 | M21: =M20+1 -> 19 | O21: =IF($N21="","N° ?",VLOOKUP($N21,Tableau1[],2,FALSE)) -> N° ? | P21: =IF($N21="","N° ?",VLOOKUP($N21,Tableau1[],3,FALSE)) -> N° ? | Q21: =IF($N21="","N° ?",VLOOKUP($N21,Tableau1[],4,FALSE)) -> N° ? | R21: =IF($N21="","N° ?",VLOOKUP($N21,Tableau1[],6,FALSE)) -> N° ? | S21: =Tableau245911[[#This Row],[Rang]] -> 19
A22: =A21+1 -> 20 | C22: =IF($B22="","N° ?",VLOOKUP($B22,Tableau1[],2,FALSE)) -> N° ? | D22: =IF($B22="","N° ?",VLOOKUP($B22,Tableau1[],3,FALSE)) -> N° ? | E22: =IF($B22="","N° ?",VLOOKUP($B22,Tableau1[],4,FALSE)) -> N° ? | F22: =IF($B22="","N° ?",VLOOKUP($B22,Tableau1[],6,FALSE)) -> N° ? | G22: =Tableau24510[[#This Row],[Rang]] -> 20 | M22: =M21+1 -> 20 | O22: =IF($N22="","N° ?",VLOOKUP($N22,Tableau1[],2,FALSE)) -> N° ? | P22: =IF($N22="","N° ?",VLOOKUP($N22,Tableau1[],3,FALSE)) -> N° ? | Q22: =IF($N22="","N° ?",VLOOKUP($N22,Tableau1[],4,FALSE)) -> N° ? | R22: =IF($N22="","N° ?",VLOOKUP($N22,Tableau1[],6,FALSE)) -> N° ? | S22: =Tableau245911[[#This Row],[Rang]] -> 20
... A102: =A101+1 -> 100 | C102: =IF($B102="","N° ?",VLOOKUP($B102,Tableau1[],2,FALSE)) -> N° ? | D102: =IF($B102="","N° ?",VLOOKUP($B102,Tableau1[],3,FALSE)) -> N° ? | E102: =IF($B102="","N° ?",VLOOKUP($B102,Tableau1[],4,FALSE)) -> N° ? | F102: =IF($B102="","N° ?",VLOOKUP($B102,Tableau1[],6,FALSE)) -> N° ? | G102: =Tableau24510[[#This Row],[Rang]] -> 100 | M102: =M101+1 -> 100 | O102: =IF($N102="","N° ?",VLOOKUP($N102,Tableau1[],2,FALSE)) -> N° ? | P102: =IF($N102="","N° ?",VLOOKUP($N102,Tableau1[],3,FALSE)) -> N° ? | Q102: =IF($N102="","N° ?",VLOOKUP($N102,Tableau1[],4,FALSE)) -> N° ? | R102: =IF($N102="","N° ?",VLOOKUP($N102,Tableau1[],6,FALSE)) -> N° ? | S102: =Tableau245911[[#This Row],[Rang]] -> 100
A105: Classement 4ème 1 | H105: Classement 4ème 2 | O105: Classement 4ème 3 | V105: Classement 4ème 4
A107: Rang | B107: Dossard | C107: Nom | D107: Prénom | E107: Classe | F107: Points | H107: Rang | I107: Dossard | J107: Nom | K107: Prénom | L107: Classe | M107: Points | O107: Rang | P107: Dossard | Q107: Nom | R107: Prénom | S107: Classe | T107: Points | V107: Rang | W107: Dossard | X107: Nom | Y107: Prénom | Z107: Classe | AA107: Points
A140: Classement 4ème 5 | H140: Classement 4ème 6 | O140: Classement 4ème 7
A142: Rang | B142: Dossard | C142: Nom | D142: Prénom | E142: Classe | F142: Points | H142: Rang | I142: Dossard | J142: Nom | K142: Prénom | L142: Classe | M142: Points | O142: Rang | P142: Dossard | Q142: Nom | R142: Prénom | S142: Classe | T142: Points

Sheet Minimes 2 - 3ème
A1: Classement Course MINIMES 2 Filles + CADETTES | I1: Classement par Classe | M1: Classement Course MINIMES 2 Garçons + CADETS
A2: Rang | B2: Dossard | C2: Nom | D2: Prénom | E2: Classe | F2: Catégorie | G2: Points | M2: Rang | N2: Dossard | O2: Nom | P2: Prénom | Q2: Classe | R2: Catégorie | S2: Points
A3: 1 | C3: =IF($B3="","N° ?",VLOOKUP($B3,Tableau1[],2,FALSE)) -> N° ? | D3: =IF($B3="","N° ?",VLOOKUP($B3,Tableau1[],3,FALSE)) -> N° ? | E3: =IF($B3="","N° ?",VLOOKUP($B3,Tableau1[],4,FALSE)) -> N° ? | F3: =IF($B3="","N° ?",VLOOKUP($B3,Tableau1[],6,FALSE)) -> N° ? | G3: =Tableau2451012[[#This Row],[Rang]] -> 1 | I3: Classe | J3: Points | K3: Rang | M3: 1 | O3: =IF($N3="","N° ?",VLOOKUP($N3,Tableau1[],2,FALSE)) -> N° ? | P3: =IF($N3="","N° ?",VLOOKUP($N3,Tableau1[],3,FALSE)) -> N° ? | Q3: =IF($N3="","N° ?",VLOOKUP($N3,Tableau1[],4,FALSE)) -> N° ? | R3: =IF($N3="","N° ?",VLOOKUP($N3,Tableau1[],6,FALSE)) -> N° ? | S3: =Tableau24591113[[#This Row],[Rang]] -> 1
A4: =A3+1 -> 2 | C4: =IF($B4="","N° ?",VLOOKUP($B4,Tableau1[],2,FALSE)) -> N° ? | D4: =IF($B4="","N° ?",VLOOKUP($B4,Tableau1[],3,FALSE)) -> N° ? | E4: =IF($B4="","N° ?",VLOOKUP($B4,Tableau1[],4,FALSE)) -> N° ? | F4: =IF($B4="","N° ?",VLOOKUP($B4,Tableau1[],6,FALSE)) -> N° ? | G4: =Tableau2451012[[#This Row],[Rang]] -> 2 | I4: 3ème 1 | J4: =SUMIF('Minimes 2 - 3ème'!$E$3:$E$102,"3_1",'Minimes 2 - 3ème'!$G$3:$G$102)+SUMIF('Minimes 2 - 3ème'!$Q$3:$Q$102,"3_1",'Minimes 2 - 3ème'!$S$3:$S$102) -> 0 | K4: =RANK(J4,$J$4:$J$10,1) -> 1 | M4: =M3+1 -> 2 | O4: =IF($N4="","N° ?",VLOOKUP($N4,Tableau1[],2,FALSE)) -> N° ? | P4: =IF($N4="","N° ?",VLOOKUP($N4,Tableau1[],3,FALSE)) -> N° ? | Q4: =IF($N4="","N° ?",VLOOKUP($N4,Tableau1[],4,FALSE)) -> N° ? | R4: =IF($N4="","N° ?",VLOOKUP($N4,Tableau1[],6,FALSE)) -> N° ? | S4: =Tableau24591113[[#This Row],[Rang]] -> 2
A5: =A4+1 -> 3 | C5: =IF($B5="","N° ?",VLOOKUP($B5,Tableau1[],2,FALSE)) -> N° ? | D5: =IF($B5="","N° ?",VLOOKUP($B5,Tableau1[],3,FALSE)) -> N° ? | E5: =IF($B5="","N° ?",VLOOKUP($B5,Tableau1[],4,FALSE)) -> N° ? | F5: =IF($B5="","N° ?",VLOOKUP($B5,Tableau1[],6,FALSE)) -> N° ? | G5: =Tableau2451012[[#This Row],[Rang]] -> 3 | I5: 3ème 2 | J5: =SUMIF('Minimes 2 - 3ème'!$E$3:$E$102,"3_2",'Minimes 2 - 3ème'!$G$3:$G$102)+SUMIF('Minimes 2 - 3ème'!$Q$3:$Q$102,"3_2",'Minimes 2 - 3ème'!$S$3:$S$102) -> 0 | K5: =RANK(J5,$J$4:$J$10,1) -> 1 | M5: =M4+1 -> 3 | O5: =IF($N5="","N° ?",VLOOKUP($N5,Tableau1[],2,FALSE)) -> N° ? | P5: =IF($N5="","N° ?",VLOOKUP($N5,Tableau1[],3,FALSE)) -> N° ? | Q5: =IF($N5="","N° ?",VLOOKUP($N5,Tableau1[],4,FALSE)) -> N° ? | R5: =IF($N5="","N° ?",VLOOKUP($N5,Tableau1[],6,FALSE)) -> N° ? | S5: =Tableau24591113[[#This Row],[Rang]] -> 3
A6: =A5+1 -> 4 | C6: =IF($B6="","N° ?",VLOOKUP($B6,Tableau1[],2,FALSE)) -> N° ? | D6: =IF($B6="","N° ?",VLOOKUP($B6,Tableau1[],3,FALSE)) -> N° ? | E6: =IF($B6="","N° ?",VLOOKUP($B6,Tableau1[],4,FALSE)) -> N° ? | F6: =IF($B6="","N° ?",VLOOKUP($B6,Tableau1[],6,FALSE)) -> N° ? | G6: =Tableau2451012[[#This Row],[Rang]] -> 4 | I6: 3ème 3 | J6: =SUMIF('Minimes 2 - 3ème'!$E$3:$E$102,"3_3",'Minimes 2 - 3ème'!$G$3:$G$102)+SUMIF('Minimes 2 - 3ème'!$Q$3:$Q$102,"3_3",'Minimes 2 - 3ème'!$S$3:$S$102) -> 0 | K6: =RANK(J6,$J$4:$J$10,1) -> 1 | M6: =M5+1 -> 4 | O6: =IF($N6="","N° ?",VLOOKUP($N6,Tableau1[],2,FALSE)) -> N° ? | P6: =IF($N6="","N° ?",VLOOKUP($N6,Tableau1[],3,FALSE)) -> N° ? | Q6: =IF($N6="","N° ?",VLOOKUP($N6,Tableau1[],4,FALSE)) -> N° ? | R6: =IF($N6="","N° ?",VLOOKUP($N6,Tableau1[],6,FALSE)) -> N° ? | S6: =Tableau24591113[[#This Row],[Rang]] -> 4
A7: =A6+1 -> 5 | C7: =IF($B7="","N° ?",VLOOKUP($B7,Tableau1[],2,FALSE)) -> N° ? | D7: =IF($B7="","N° ?",VLOOKUP($B7,Tableau1[],3,FALSE)) -> N° ? | E7: =IF($B7="","N° ?",VLOOKUP($B7,Tableau1[],4,FALSE)) -> N° ? | F7: =IF($B7="","N° ?",VLOOKUP($B7,Tableau1[],6,FALSE)) -> N° ? | G7: =Tableau2451012[[#This Row],[Rang]] -> 5 | I7: 3ème 4 | J7: =SUMIF('Minimes 2 - 3ème'!$E$3:$E$102,"3_4",'Minimes 2 - 3ème'!$G$3:$G$102)+SUMIF('Minimes 2 - 3ème'!$Q$3:$Q$102,"3_4",'Minimes 2 - 3ème'!$S$3:$S$102) -> 0 | K7: =RANK(J7,$J$4:$J$10,1) -> 1 | M7: =M6+1 -> 5 | O7: =IF($N7="","N° ?",VLOOKUP($N7,Tableau1[],2,FALSE)) -> N° ? | P7: =IF($N7="","N° ?",VLOOKUP($N7,Tableau1[],3,FALSE)) -> N° ? | Q7: =IF($N7="","N° ?",VLOOKUP($N7,Tableau1[],4,FALSE)) -> N° ? | R7: =IF($N7="","N° ?",VLOOKUP($N7,Tableau1[],6,FALSE)) -> N° ? | S7: =Tableau24591113[[#This Row],[Rang]] -> 5
A8: =A7+1 -> 6 | C8: =IF($B8="","N° ?",VLOOKUP($B8,Tableau1[],2,FALSE)) -> N° ? | D8: =IF($B8="","N° ?",VLOOKUP($B8,Tableau1[],3,FALSE)) -> N° ? | E8: =IF($B8="","N° ?",VLOOKUP($B8,Tableau1[],4,FALSE)) -> N° ? | F8: =IF($B8="","N° ?",VLOOKUP($B8,Tableau1[],6,FALSE)) -> N° ? | G8: =Tableau2451012[[#This Row],[Rang]] -> 6 | I8: 3ème 5 | J8: =SUMIF('Minimes 2 - 3ème'!$E$3:$E$102,"3_5",'Minimes 2 - 3ème'!$G$3:$G$102)+SUMIF('Minimes 2 - 3ème'!$Q$3:$Q$102,"3_5",'Minimes 2 - 3ème'!$S$3:$S$102) -> 0 | K8: =RANK(J8,$J$4:$J$10,1) -> 1 | M8: =M7+1 -> 6 | O8: =IF($N8="","N° ?",VLOOKUP($N8,Tableau1[],2,FALSE)) -> N° ? | P8: =IF($N8="","N° ?",VLOOKUP($N8,Tableau1[],3,FALSE)) -> N° ? | Q8: =IF($N8="","N° ?",VLOOKUP($N8,Tableau1[],4,FALSE)) -> N° ? | R8: =IF($N8="","N° ?",VLOOKUP($N8,Tableau1[],6,FALSE)) -> N° ? | S8: =Tableau24591113[[#This Row],[Rang]] -> 6
A9: =A8+1 -> 7 | C9: =IF($B9="","N° ?",VLOOKUP($B9,Tableau1[],2,FALSE)) -> N° ? | D9: =IF($B9="","N° ?",VLOOKUP($B9,Tableau1[],3,FALSE)) -> N° ? | E9: =IF($B9="","N° ?",VLOOKUP($B9,Tableau1[],4,FALSE)) -> N° ? | F9: =IF($B9="","N° ?",VLOOKUP($B9,Tableau1[],6,FALSE)) -> N° ? | G9: =Tableau2451012[[#This Row],[Rang]] -> 7 | I9: 3ème 6 | J9: =SUMIF('Minimes 2 - 3ème'!$E$3:$E$102,"3_6",'Minimes 2 - 3ème'!$G$3:$G$102)+SUMIF('Minimes 2 - 3ème'!$Q$3:$Q$102,"3_6",'Minimes 2 - 3ème'!$S$3:$S$102) -> 0 | K9: =RANK(J9,$J$4:$J$10,1) -> 1 | M9: =M8+1 -> 7 | O9: =IF($N9="","N° ?",VLOOKUP($N9,Tableau1[],2,FALSE)) -> N° ? | P9: =IF($N9="","N° ?",VLOOKUP($N9,Tableau1[],3,FALSE)) -> N° ? | Q9: =IF($N9="","N° ?",VLOOKUP($N9,Tableau1[],4,FALSE)) -> N° ? | R9: =IF($N9="","N° ?",VLOOKUP($N9,Tableau1[],6,FALSE)) -> N° ? | S9: =Tableau24591113[[#This Row],[Rang]] -> 7
A10: =A9+1 -> 8 | C10: =IF($B10="","N° ?",VLOOKUP($B10,Tableau1[],2,FALSE)) -> N° ? | D10: =IF($B10="","N° ?",VLOOKUP($B10,Tableau1[],3,FALSE)) -> N° ? | E10: =IF($B10="","N° ?",VLOOKUP($B10,Tableau1[],4,FALSE)) -> N° ? | F10: =IF($B10="","N° ?",VLOOKUP($B10,Tableau1[],6,FALSE)) -> N° ? | G10: =Tableau2451012[[#This Row],[Rang]] -> 8 | I10: 3ème 7 | J10: =SUMIF('Minimes 2 - 3ème'!$E$3:$E$102,"3_7",'Minimes 2 - 3ème'!$G$3:$G$102)+SUMIF('Minimes 2 - 3ème'!$Q$3:$Q$102,"3_7",'Minimes 2 - 3ème'!$S$3:$S$102) -> 0 | K10: =RANK(J10,$J$4:$J$10,1) -> 1 | M10: =M9+1 -> 8 | O10: =IF($N10="","N° ?",VLOOKUP($N10,Tableau1[],2,FALSE)) -> N° ? | P10: =IF($N10="","N° ?",VLOOKUP($N10,Tableau1[],3,FALSE)) -> N° ? | Q10: =IF($N10="","N° ?",VLOOKUP($N10,Tableau1[],4,FALSE)) -> N° ? | R10: =IF($N10="","N° ?",VLOOKUP($N10,Tableau1[],6,FALSE)) -> N° ? | S10: =Tableau24591113[[#This Row],[Rang]] -> 8
A11: =A10+1 -> 9 | C11: =IF($B11="","N° ?",VLOOKUP($B11,Tableau1[],2,FALSE)) -> N° ? | D11: =IF($B11="","N° ?",VLOOKUP($B11,Tableau1[],3,FALSE)) -> N° ? | E11: =IF($B11="","N° ?",VLOOKUP($B11,Tableau1[],4,FALSE)) -> N° ? | F11: =IF($B11="","N° ?",VLOOKUP($B11,Tableau1[],6,FALSE)) -> N° ? | G11: =Tableau2451012[[#This Row],[Rang]] -> 9 | M11: =M10+1 -> 9 | O11: =IF($N11="","N° ?",VLOOKUP($N11,Tableau1[],2,FALSE)) -> N° ? | P11: =IF($N11="","N° ?",VLOOKUP($N11,Tableau1[],3,FALSE)) -> N° ? | Q11: =IF($N11="","N° ?",VLOOKUP($N11,Tableau1[],4,FALSE)) -> N° ? | R11: =IF($N11="","N° ?",VLOOKUP($N11,Tableau1[],6,FALSE)) -> N° ? | S11: =Tableau24591113[[#This Row],[Rang]] -> 9
A12: =A11+1 -> 10 | C12: =IF($B12="","N° ?",VLOOKUP($B12,Tableau1[],2,FALSE)) -> N° ? | D12: =IF($B12="","N° ?",VLOOKUP($B12,Tableau1[],3,FALSE)) -> N° ? | E12: =IF($B12="","N° ?",VLOOKUP($B12,Tableau1[],4,FALSE)) -> N° ? | F12: =IF($B12="","N° ?",VLOOKUP($B12,Tableau1[],6,FALSE)) -> N° ? | G12: =Tableau2451012[[#This Row],[Rang]] -> 10 | M12: =M11+1 -> 10 | O12: =IF($N12="","N° ?",VLOOKUP($N12,Tableau1[],2,FALSE)) -> N° ? | P12: =IF($N12="","N° ?",VLOOKUP($N12,Tableau1[],3,FALSE)) -> N° ? | Q12: =IF($N12="","N° ?",VLOOKUP($N12,Tableau1[],4,FALSE)) -> N° ? | R12: =IF($N12="","N° ?",VLOOKUP($N12,Tableau1[],6,FALSE)) -> N° ? | S12: =Tableau24591113[[#This Row],[Rang]] -> 10
A13: =A12+1 -> 11 | C13: =IF($B13="","N° ?",VLOOKUP($B13,Tableau1[],2,FALSE)) -> N° ? | D13: =IF($B13="","N° ?",VLOOKUP($B13,Tableau1[],3,FALSE)) -> N° ? | E13: =IF($B13="","N° ?",VLOOKUP($B13,Tableau1[],4,FALSE)) -> N° ? | F13: =IF($B13="","N° ?",VLOOKUP($B13,Tableau1[],6,FALSE)) -> N° ? | G13: =Tableau2451012[[#This Row],[Rang]] -> 11 | M13: =M12+1 -> 11 | O13: =IF($N13="","N° ?",VLOOKUP($N13,Tableau1[],2,FALSE)) -> N° ? | P13: =IF($N13="","N° ?",VLOOKUP($N13,Tableau1[],3,FALSE)) -> N° ? | Q13: =IF($N13="","N° ?",VLOOKUP($N13,Tableau1[],4,FALSE)) -> N° ? | R13: =IF($N13="","N° ?",VLOOKUP($N13,Tableau1[],6,FALSE)) -> N° ? | S13: =Tableau24591113[[#This Row],[Rang]] -> 11
A14: =A13+1 -> 12 | C14: =IF($B14="","N° ?",VLOOKUP($B14,Tableau1[],2,FALSE)) -> N° ? | D14: =IF($B14="","N° ?",VLOOKUP($B14,Tableau1[],3,FALSE)) -> N° ? | E14: =IF($B14="","N° ?",VLOOKUP($B14,Tableau1[],4,FALSE)) -> N° ? | F14: =IF($B14="","N° ?",VLOOKUP($B14,Tableau1[],6,FALSE)) -> N° ? | G14: =Tableau2451012[[#This Row],[Rang]] -> 12 | M14: =M13+1 -> 12 | O14: =IF($N14="","N° ?",VLOOKUP($N14,Tableau1[],2,FALSE)) -> N° ? | P14: =IF($N14="","N° ?",VLOOKUP($N14,Tableau1[],3,FALSE)) -> N° ? | Q14: =IF($N14="","N° ?",VLOOKUP($N14,Tableau1[],4,FALSE)) -> N° ? | R14: =IF($N14="","N° ?",VLOOKUP($N14,Tableau1[],6,FALSE)) -> N° ? | S14: =Tableau24591113[[#This Row],[Rang]] -> 12
A15: =A14+1 -> 13 | C15: =IF($B15="","N° ?",VLOOKUP($B15,Tableau1[],2,FALSE)) -> N° ? | D15: =IF($B15="","N° ?",VLOOKUP($B15,Tableau1[],3,FALSE)) -> N° ? | E15: =IF($B15="","N° ?",VLOOKUP($B15,Tableau1[],4,FALSE)) -> N° ? | F15: =IF($B15="","N° ?",VLOOKUP($B15,Tableau1[],6,FALSE)) -> N° ? | G15: =Tableau2451012[[#This Row],[Rang]] -> 13 | M15: =M14+1 -> 13 | O15: =IF($N15="","N° ?",VLOOKUP($N15,Tableau1[],2,FALSE)) -> N° ? | P15: =IF($N15="","N° ?",VLOOKUP($N15,Tableau1[],3,FALSE)) -> N° ? | Q15: =IF($N15="","N° ?",VLOOKUP($N15,Tableau1[],4,FALSE)) -> N° ? | R15: =IF($N15="","N° ?",VLOOKUP($N15,Tableau1[],6,FALSE)) -> N° ? | S15: =Tableau24591113[[#This Row],[Rang]] -> 13
A16: =A15+1 -> 14 | C16: =IF($B16="","N° ?",VLOOKUP($B16,Tableau1[],2,FALSE)) -> N° ? | D16: =IF($B16="","N° ?",VLOOKUP($B16,Tableau1[],3,FALSE)) -> N° ? | E16: =IF($B16="","N° ?",VLOOKUP($B16,Tableau1[],4,FALSE)) -> N° ? | F16: =IF($B16="","N° ?",VLOOKUP($B16,Tableau1[],6,FALSE)) -> N° ? | G16: =Tableau2451012[[#This Row],[Rang]] -> 14 | M16: =M15+1 -> 14 | O16: =IF($N16="","N° ?",VLOOKUP($N16,Tableau1[],2,FALSE)) -> N° ? | P16: =IF($N16="","N° ?",VLOOKUP($N16,Tableau1[],3,FALSE)) -> N° ? | Q16: =IF($N16="","N° ?",VLOOKUP($N16,Tableau1[],4,FALSE)) -> N° ? | R16: =IF($N16="","N° ?",VLOOKUP($N16,Tableau1[],6,FALSE)) -> N° ? | S16: =Tableau24591113[[#This Row],[Rang]] -> 14
A17: =A16+1 -> 15 | C17: =IF($B17="","N° ?",VLOOKUP($B17,Tableau1[],2,FALSE)) -> N° ? | D17: =IF($B17="","N° ?",VLOOKUP($B17,Tableau1[],3,FALSE)) -> N° ? | E17: =IF($B17="","N° ?",VLOOKUP($B17,Tableau1[],4,FALSE)) -> N° ? | F17: =IF($B17="","N° ?",VLOOKUP($B17,Tableau1[],6,FALSE)) -> N° ? | G17: =Tableau2451012[[#This Row],[Rang]] -> 15 | M17: =M16+1 -> 15 | O17: =IF($N17="","N° ?",VLOOKUP($N17,Tableau1[],2,FALSE)) -> N° ? | P17: =IF($N17="","N° ?",VLOOKUP($N17,Tableau1[],3,FALSE)) -> N° ? | Q17: =IF($N17="","N° ?",VLOOKUP($N17,Tableau1[],4,FALSE)) -> N° ? | R17: =IF($N17="","N° ?",VLOOKUP($N17,Tableau1[],6,FALSE)) -> N° ? | S17: =Tableau24591113[[#This Row],[Rang]] -> 15
A18: =A17+1 -> 16 | C18: =IF($B18="","N° ?",VLOOKUP($B18,Tableau1[],2,FALSE)) -> N° ? | D18: =IF($B18="","N° ?",VLOOKUP($B18,Tableau1[],3,FALSE)) -> N° ? | E18: =IF($B18="","N° ?",VLOOKUP($B18,Tableau1[],4,FALSE)) -> N° ? | F18: =IF($B18="","N° ?",VLOOKUP($B18,Tableau1[],6,FALSE)) -> N° ? | G18: =Tableau2451012[[#This Row],[Rang]] -> 16 | M18: =M17+1 -> 16 | O18: =IF($N18="","N° ?",VLOOKUP($N18,Tableau1[],2,FALSE)) -> N° ? | P18: =IF($N18="","N° ?",VLOOKUP($N18,Tableau1[],3,FALSE)) -> N° ? | Q18: =IF($N18="","N° ?",VLOOKUP($N18,Tableau1[],4,FALSE)) -> N° ? | R18: =IF($N18="","N° ?",VLOOKUP($N18,Tableau1[],6,FALSE)) -> N° ? | S18: =Tableau24591113[[#This Row],[Rang]] -> 16
A19: =A18+1 -> 17 | C19: =IF($B19="","N° ?",VLOOKUP($B19,Tableau1[],2,FALSE)) -> N° ? | D19: =IF($B19="","N° ?",VLOOKUP($B19,Tableau1[],3,FALSE)) -> N° ? | E19: =IF($B19="","N° ?",VLOOKUP($B19,Tableau1[],4,FALSE)) -> N° ? | F19: =IF($B19="","N° ?",VLOOKUP($B19,Tableau1[],6,FALSE)) -> N° ? | G19: =Tableau2451012[[#This Row],[Rang]] -> 17 | M19: =M18+1 -> 17 | O19: =IF($N19="","N° ?",VLOOKUP($N19,Tableau1[],2,FALSE)) -> N° ? | P19: =IF($N19="","N° ?",VLOOKUP($N19,Tableau1[],3,FALSE)) -> N° ? | Q19: =IF($N19="","N° ?",VLOOKUP($N19,Tableau1[],4,FALSE)) -> N° ? | R19: =IF($N19="","N° ?",VLOOKUP($N19,Tableau1[],6,FALSE)) -> N° ? | S19: =Tableau24591113[[#This Row],[Rang]] -> 17
A20: =A19+1 -> 18 | C20: =IF($B20="","N° ?",VLOOKUP($B20,Tableau1[],2,FALSE)) -> N° ? | D20: =IF($B20="","N° ?",VLOOKUP($B20,Tableau1[],3,FALSE)) -> N° ? | E20: =IF($B20="","N° ?",VLOOKUP($B20,Tableau1[],4,FALSE)) -> N° ? | F20: =IF($B20="","N° ?",VLOOKUP($B20,Tableau1[],6,FALSE)) -> N° ? | G20: =Tableau2451012[[#This Row],[Rang]] -> 18 | M20: =M19+1 -> 18 | O20: =IF($N20="","N° ?",VLOOKUP($N20,Tableau1[],2,FALSE)) -> N° ? | P20: =IF($N20="","N° ?",VLOOKUP($N20,Tableau1[],3,FALSE)) -> N° ? | Q20: =IF($N20="","N° ?",VLOOKUP($N20,Tableau1[],4,FALSE)) -> N° ? | R20: =IF($N20="","N° ?",VLOOKUP($N20,Tableau1[],6,FALSE)) -> N° ? | S20: =Tableau24591113[[#This Row],[Rang]] -> 18
A21: =A20+1 -> 19 | C21: =IF($B21="","N° ?",VLOOKUP($B21,Tableau1[],2,FALSE)) -> N° ? | D21: =IF($B21="","N° ?",VLOOKUP($B21,Tableau1[],3,FALSE)) -> N° ? | E21: =IF($B21="","N° ?",VLOOKUP($B21,Tableau1[],4,FALSE)) -> N° ? | F21: =IF($B21="","N° ?",VLOOKUP($B21,Tableau1[],6,FALSE)) -> N° ? | G21: =Tableau2451012[[#This Row],[Rang]] -> 19 | M21: =M20+1 -> 19 | O21: =IF($N21="","N° ?",VLOOKUP($N21,Tableau1[],2,FALSE)) -> N° ? | P21: =IF($N21="","N° ?",VLOOKUP($N21,Tableau1[],3,FALSE)) -> N° ? | Q21: =IF($N21="","N° ?",VLOOKUP($N21,Tableau1[],4,FALSE)) -> N° ? | R21: =IF($N21="","N° ?",VLOOKUP($N21,Tableau1[],6,FALSE)) -> N° ? | S21: =Tableau24591113[[#This Row],[Rang]] -> 19
A22: =A21+1 -> 20 | C22: =IF($B22="","N° ?",VLOOKUP($B22,Tableau1[],2,FALSE)) -> N° ? | D22: =IF($B22="","N° ?",VLOOKUP($B22,Tableau1[],3,FALSE)) -> N° ? | E22: =IF($B22="","N° ?",VLOOKUP($B22,Tableau1[],4,FALSE)) -> N° ? | F22: =IF($B22="","N° ?",VLOOKUP($B22,Tableau1[],6,FALSE)) -> N° ? | G22: =Tableau2451012[[#This Row],[Rang]] -> 20 | M22: =M21+1 -> 20 | O22: =IF($N22="","N° ?",VLOOKUP($N22,Tableau1[],2,FALSE)) -> N° ? | P22: =IF($N22="","N° ?",VLOOKUP($N22,Tableau1[],3,FALSE)) -> N° ? | Q22: =IF($N22="","N° ?",VLOOKUP($N22,Tableau1[],4,FALSE)) -> N° ? | R22: =IF($N22="","N° ?",VLOOKUP($N22,Tableau1[],6,FALSE)) -> N° ? | S22: =Tableau24591113[[#This Row],[Rang]] -> 20
... A102: =A101+1 -> 100 | C102: =IF($B102="","N° ?",VLOOKUP($B102,Tableau1[],2,FALSE)) -> N° ? | D102: =IF($B102="","N° ?",VLOOKUP($B102,Tableau1[],3,FALSE)) -> N° ? | E102: =IF($B102="","N° ?",VLOOKUP($B102,Tableau1[],4,FALSE)) -> N° ? | F102: =IF($B102="","N° ?",VLOOKUP($B102,Tableau1[],6,FALSE)) -> N° ? | G102: =Tableau2451012[[#This Row],[Rang]] -> 100 | M102: =M101+1 -> 100 | O102: =IF($N102="","N° ?",VLOOKUP($N102,Tableau1[],2,FALSE)) -> N° ? | P102: =IF($N102="","N° ?",VLOOKUP($N102,Tableau1[],3,FALSE)) -> N° ? | Q102: =IF($N102="","N° ?",VLOOKUP($N102,Tableau1[],4,FALSE)) -> N° ? | R102: =IF($N102="","N° ?",VLOOKUP($N102,Tableau1[],6,FALSE)) -> N° ? | S102: =Tableau24591113[[#This Row],[Rang]] -> 100
A105: Classement 3ème 1 | H105: Classement 3ème 2 | O105: Classement 3ème 3 | V105: Classement 3ème 4
A107: Rang | B107: Dossard | C107: Nom | D107: Prénom | E107: Classe | F107: Points | H107: Rang | I107: Dossard | J107: Nom | K107: Prénom | L107: Classe | M107: Points | O107: Rang | P107: Dossard | Q107: Nom | R107: Prénom | S107: Classe | T107: Points | V107: Rang | W107: Dossard | X107: Nom | Y107: Prénom | Z107: Classe | AA107: Points
A140: Classement 3ème 5 | H140: Classement 3ème 6 | O140: Classement 3ème 7
A142: Rang | B142: Dossard | C142: Nom | D142: Prénom | E142: Classe | F142: Points | H142: Rang | I142: Dossard | J142: Nom | K142: Prénom | L142: Classe | M142: Points | O142: Rang | P142: Dossard | Q142: Nom | R142: Prénom | S142: Classe | T142: Points
