Workbook
Name emplacement: #REF!
Name mois_année: #REF!
Name Où?: STOCK!#REF!

Sheet STOCK
A1: EAN13 | B1: ARTICLE | C1: Stock | D1: X1 | E1: X2 | F1: X3 | G1: Y11 | H1: Y12 | I1: Y13 | J1: Y2 | K1: Y3 | L1: Z1 | M1: Z2 | N1: Z3
A2: 9781111111111 | B2: Titre1 | C2: =SUM(D2:N2) -> 0 | D2: =COUNTIF(ENTREES!A$2:A$99932,STOCK!$A2) -> 0 | E2: =COUNTIF(ENTREES!B$2:B$99932,STOCK!$A2) -> 0 | F2: =COUNTIF(ENTREES!C$2:C$99932,STOCK!$A2) -> 0 | G2: =COUNTIF(ENTREES!D$2:D$99932,STOCK!$A2) -> 0 | H2: =COUNTIF(ENTREES!E$2:E$99932,STOCK!$A2) -> 0 | I2: =COUNTIF(ENTREES!F$2:F$99932,STOCK!$A2) -> 0 | J2: =COUNTIF(ENTREES!G$2:G$99932,STOCK!$A2) -> 0 | K2: =COUNTIF(ENTREES!H$2:H$99932,STOCK!$A2) -> 0 | ... N2: =COUNTIF(ENTREES!K$2:K$99932,STOCK!$A2) -> 0
A3: 9782100508761 | B3: Titre2 | C3: =SUM(D3:N3) -> 0 | D3: =COUNTIF(ENTREES!A$2:A$99932,STOCK!$A3) -> 0 | E3: =COUNTIF(ENTREES!B$2:B$99932,STOCK!$A3) -> 0 | F3: =COUNTIF(ENTREES!C$2:C$99932,STOCK!$A3) -> 0 | G3: =COUNTIF(ENTREES!D$2:D$99932,STOCK!$A3) -> 0 | H3: =COUNTIF(ENTREES!E$2:E$99932,STOCK!$A3) -> 0 | I3: =COUNTIF(ENTREES!F$2:F$99932,STOCK!$A3) -> 0 | J3: =COUNTIF(ENTREES!G$2:G$99932,STOCK!$A3) -> 0 | K3: =COUNTIF(ENTREES!H$2:H$99932,STOCK!$A3) -> 0 | ... N3: =COUNTIF(ENTREES!K$2:K$99932,STOCK!$A3) -> 0
A4: 9782294013782 | B4: Titre3 | C4: =SUM(D4:N4) -> 2 | D4: =COUNTIF(ENTREES!A$2:A$99932,STOCK!$A4) -> 0 | E4: =COUNTIF(ENTREES!B$2:B$99932,STOCK!$A4) -> 0 | F4: =COUNTIF(ENTREES!C$2:C$99932,STOCK!$A4) -> 0 | G4: =COUNTIF(ENTREES!D$2:D$99932,STOCK!$A4) -> 0 | H4: =COUNTIF(ENTREES!E$2:E$99932,STOCK!$A4) -> 2 | I4: =COUNTIF(ENTREES!F$2:F$99932,STOCK!$A4) -> 0 | J4: =COUNTIF(ENTREES!G$2:G$99932,STOCK!$A4) -> 0 | K4: =COUNTIF(ENTREES!H$2:H$99932,STOCK!$A4) -> 0 | ... N4: =COUNTIF(ENTREES!K$2:K$99932,STOCK!$A4) -> 0
A5: 9782100577972 | B5: Titre4 | C5: =SUM(D5:N5) -> 1 | D5: =COUNTIF(ENTREES!A$2:A$99932,STOCK!$A5) -> 0 | E5: =COUNTIF(ENTREES!B$2:B$99932,STOCK!$A5) -> 0 | F5: =COUNTIF(ENTREES!C$2:C$99932,STOCK!$A5) -> 0 | G5: =COUNTIF(ENTREES!D$2:D$99932,STOCK!$A5) -> 0 | H5: =COUNTIF(ENTREES!E$2:E$99932,STOCK!$A5) -> 0 | I5: =COUNTIF(ENTREES!F$2:F$99932,STOCK!$A5) -> 0 | J5: =COUNTIF(ENTREES!G$2:G$99932,STOCK!$A5) -> 0 | K5: =COUNTIF(ENTREES!H$2:H$99932,STOCK!$A5) -> 1 | ... N5: =COUNTIF(ENTREES!K$2:K$99932,STOCK!$A5) -> 0
A6: 9782281140736 | B6: Titre5 | C6: =SUM(D6:N6) -> 1 | D6: =COUNTIF(ENTREES!A$2:A$99932,STOCK!$A6) -> 0 | E6: =COUNTIF(ENTREES!B$2:B$99932,STOCK!$A6) -> 0 | F6: =COUNTIF(ENTREES!C$2:C$99932,STOCK!$A6) -> 0 | G6: =COUNTIF(ENTREES!D$2:D$99932,STOCK!$A6) -> 0 | H6: =COUNTIF(ENTREES!E$2:E$99932,STOCK!$A6) -> 0 | I6: =COUNTIF(ENTREES!F$2:F$99932,STOCK!$A6) -> 0 | J6: =COUNTIF(ENTREES!G$2:G$99932,STOCK!$A6) -> 0 | K6: =COUNTIF(ENTREES!H$2:H$99932,STOCK!$A6) -> 0 | ... N6: =COUNTIF(ENTREES!K$2:K$99932,STOCK!$A6) -> 0
A7: 9782100747207 | B7: Titre6 | C7: =SUM(D7:N7) -> 0 | D7: =COUNTIF(ENTREES!A$2:A$99932,STOCK!$A7) -> 0 | E7: =COUNTIF(ENTREES!B$2:B$99932,STOCK!$A7) -> 0 | F7: =COUNTIF(ENTREES!C$2:C$99932,STOCK!$A7) -> 0 | G7: =COUNTIF(ENTREES!D$2:D$99932,STOCK!$A7) -> 0 | H7: =COUNTIF(ENTREES!E$2:E$99932,STOCK!$A7) -> 0 | I7: =COUNTIF(ENTREES!F$2:F$99932,STOCK!$A7) -> 0 | J7: =COUNTIF(ENTREES!G$2:G$99932,STOCK!$A7) -> 0 | K7: =COUNTIF(ENTREES!H$2:H$99932,STOCK!$A7) -> 0 | ... N7: =COUNTIF(ENTREES!K$2:K$99932,STOCK!$A7) -> 0
A8: 9782100754069 | B8: Titre7 | C8: =SUM(D8:N8) -> 0 | D8: =COUNTIF(ENTREES!A$2:A$99932,STOCK!$A8) -> 0 | E8: =COUNTIF(ENTREES!B$2:B$99932,STOCK!$A8) -> 0 | F8: =COUNTIF(ENTREES!C$2:C$99932,STOCK!$A8) -> 0 | G8: =COUNTIF(ENTREES!D$2:D$99932,STOCK!$A8) -> 0 | H8: =COUNTIF(ENTREES!E$2:E$99932,STOCK!$A8) -> 0 | I8: =COUNTIF(ENTREES!F$2:F$99932,STOCK!$A8) -> 0 | J8: =COUNTIF(ENTREES!G$2:G$99932,STOCK!$A8) -> 0 | K8: =COUNTIF(ENTREES!H$2:H$99932,STOCK!$A8) -> 0 | ... N8: =COUNTIF(ENTREES!K$2:K$99932,STOCK!$A8) -> 0
C9: =SUM(C2:C8) -> 4 | D9: =SUM(D2:D8) -> 0 | E9: =SUM(E2:E8) -> 0 | F9: =SUM(F2:F8) -> 0 | G9: =SUM(G2:G8) -> 0 | H9: =SUM(H2:H8) -> 2 | I9: =SUM(I2:I8) -> 0 | J9: =SUM(J2:J8) -> 0 | ... N9: =SUM(N2:N8) -> 0

Sheet ENTREES
A1: X1 | B1: X2 | C1: X3 | D1: Y11 | E1: Y12 | F1: Y13 | G1: Y2 | H1: Y3 | I1: Z1 | J1: Z2 | K1: Z3
A2: 9782294005893 | B2: 9782294087820 | C2: 9782294712050 | D2: 9782247116119 | E2: 9782294013782 | F2: 9782294752025 | G2: 9782294712050 | H2: 9782294739262 | I2: 9782294730856 | J2: 9782294703775 | K2: 9782294102240
A3: 9782294743757 | B3: 9782294702488 | C3: 9782294745034 | D3: 9782247116119 | E3: 9782294013782 | F3: 9782294748462 | G3: 9782294745034 | H3: 9782247164387 | I3: 9782281140736 | J3: 9782294704512 | K3: 9782294014550
A4: 9782294743757 | B4: 9782294702488 | C4: 9782294742323 | D4: 9782281131314 | E4: 9782294703782 | F4: 9782225840210 | G4: 9782294742323 | H4: 9782294748462 | I4: 9782100724673 | J4: 9782294706240 | K4: 9782294738821
A5: 9782810101603 | B5: 9782294703775 | C5: 9782294742439 | D5: 9782294017599 | E5: 9782294005893 | F5: 9782294712968 | G5: 9782294742439 | H5: 9782281116830 | I5: 9782247161966 | J5: 9782294707247 | K5: 9782294716003
A6: 9782294739262 | B6: 9782294704512 | C6: 9782294707995 | D6: 9782294019050 | E6: 9782294743757 | F6: 9782294703768 | G6: 9782294707995 | H6: 9782294701962 | I6: 9782247161966 | J6: 9782294710247 | K6: 9782294708435
A7: 9782247164387 | B7: 9782294706240 | D7: 9782294032592 | F7: 9782294712050 | H7: 9782294018183 | I7: 9782294747649 | J7: 9782294711282 | K7: 9782294727344
A8: 9782294748462 | B8: 9782294707247 | D8: 9782294064487 | F8: 9782294745034 | H8: 9782810101467 | I8: 9782294752537 | J8: 9782294713125 | K8: 9782294744594
A9: 9782281116830 | B9: 9782294710247 | D9: 9782294064487 | F9: 9782294742323 | H9: 9782368931301 | I9: 9782294088537 | J9: 9782294713583 | K9: 9782294745263
A10: 9782294701962 | B10: 9782294711282 | D10: 9782294082856 | F10: 9782294742439 | H10: 9782368931516 | I10: 9782294088537 | J10: 9782294714252 | K10: 9782294711602
A11: 9782294018183 | D11: 9782294087820 | F11: 9782294707995 | H11: 9782294739514 | I11: 9782294744945 | J11: 9782294716157 | K11: 9782294707421
A12: 9782810101467 | D12: 9782294702488 | F12: 9782294741623 | H12: 9782294740862 | I12: 9782294744600 | J12: 9782294726989 | K12: 9782294088537
A13: 9782368931301 | D13: 9782294702488 | F13: 9782294739804 | H13: 9782294741234 | I13: 9782294748783
D14: 9782294703775 | F14: 9782294711091 | H14: 9782294745904 | I14: 9782294738821
D15: 9782294704512 | F15: 9782294715334 | H15: 9782294005893 | I15: 9782294748783
F16: 9782294726606 | H16: 9782100577972 | I16: 9782294752537
F17: 9782294740862 | H17: 9782294704918 | I17: 9782294738821
F18: 9782294740862 | H18: 9782294738548 | I18: 9782294752810
F19: 9782294715334 | H19: 9782294750083 | I19: 9782294715259
F20: 9782294706240 | I20: 9782294715259
F21: 9782247163533
F22: 9782281140835
F92: 1
F93: 1
F94: 1
F95: 1
F96: 1
F97: 1
F98: 1
F99: 1
F100: 1
F101: 1
F102: 1
F103: 1
... F155: 1
