Workbook

Sheet Sayfa1
B1: FACTURATION
B2: Code article | C2: Designation de l'article | D2: Quantite | E2: PU HT | F2: Montant HT | G2: Montant TTC
B3: PP1 | C3: =IF(B3=0,"",VLOOKUP(B3,Article!C3:F13,3,FALSE)) -> Mate 1 feuille de papier créatif Mahé 2. - Motif : Blanc avec des minis cœurs bleus. | D3: 0 | E3: =IF(B3=0,0,VLOOKUP(B3,Article!C3:F13,4,FALSE )) -> 0.65 | F3: =IF(E3="","",D3*E3) -> 0 | G3: =(F3*0.2)+F3 -> 0
B4: PP2 | C4: =IF(B4=0,"",VLOOKUP(B4,Article!C4:F14,3,FALSE)) -> Mate 2 feuille de papier créatif Mahé 2. - Motif : Blanc avec des minis cœurs rose | D4: 500 | E4: =IF(B4=0,0,VLOOKUP(B4,Article!C4:F14,4,FALSE )) -> 0.65 | F4: =IF(E4="","",D4*E4) -> 325 | G4: =(F4*0.2)+F4 -> 390
B5: PP3 | C5: =IF(B5=0,"",VLOOKUP(B5,Article!C5:F15,3,FALSE)) -> Snow 1 feuille de papier imprimée recto/verso pour le scrapbooking. • Motif : Collection "Let It Snow"... | D5: 0 | E5: =IF(B5=0,0,VLOOKUP(B5,Article!C5:F15,4,FALSE )) -> 0.78 | F5: =IF(E5="","",D5*E5) -> 0 | G5: =(F5*0.2)+F5 -> 0
B6: PP4 | C6: =IF(B6=0,"",VLOOKUP(B6,Article!C6:F16,3,FALSE)) -> Snow 2 feuille de papier imprimée recto/verso pour le scrapbooking. • Motif : Collection "Let It Snow | D6: 0 | E6: =IF(B6=0,0,VLOOKUP(B6,Article!C6:F16,4,FALSE )) -> 0.78 | F6: =IF(E6="","",D6*E6) -> 0 | G6: =(F6*0.2)+F6 -> 0
B7: PP5 | C7: =IF(B7=0,"",VLOOKUP(B7,Article!C7:F17,3,FALSE)) -> Snow 3 feuille de papier imprimée recto/verso pour le scrapbooking. • Motif : Collection | D7: 0 | E7: =IF(B7=0,0,VLOOKUP(B7,Article!C7:F17,4,FALSE )) -> 0.78 | F7: =IF(E7="","",D7*E7) -> 0 | G7: =(F7*0.2)+F7 -> 0
B8: PP6 | C8: =IF(B8=0,"",VLOOKUP(B8,Article!C8:F18,3,FALSE)) -> Vintage 1 feuille de papier imprimée recto/verso sur le thème Vintage | D8: 0 | E8: =IF(B8=0,0,VLOOKUP(B8,Article!C8:F18,4,FALSE )) -> 0.78 | F8: =IF(E8="","",D8*E8) -> 0 | G8: =(F8*0.2)+F8 -> 0
B9: PP7 | C9: =IF(B9=0,"",VLOOKUP(B9,Article!C9:F19,3,FALSE)) -> Vintage 2 feuille de papier imprimée recto/verso sur le thème Vintage. | D9: 0 | E9: =IF(B9=0,0,VLOOKUP(B9,Article!C9:F19,4,FALSE )) -> 0.78 | F9: =IF(E9="","",D9*E9) -> 0 | G9: =(F9*0.2)+F9 -> 0
B10: PP8 | C10: =IF(B10=0,"",VLOOKUP(B10,Article!C10:F20,3,FALSE)) -> Vintage 3 feuille de papier imprimée recto/verso sur le thème Vintage. | D10: 0 | E10: =IF(B10=0,0,VLOOKUP(B10,Article!C10:F20,4,FALSE )) -> 0.78 | F10: =IF(E10="","",D10*E10) -> 0 | G10: =(F10*0.2)+F10 -> 0
B11: PP9 | C11: =IF(B11=0,"",VLOOKUP(B11,Article!C11:F21,3,FALSE)) -> Vintage 4 feuille de papier imprimée recto/verso sur le thème Vintage. | D11: 0 | E11: =IF(B11=0,0,VLOOKUP(B11,Article!C11:F21,4,FALSE )) -> 0.78 | F11: =IF(E11="","",D11*E11) -> 0 | G11: =(F11*0.2)+F11 -> 0
B12: PP10 | C12: =IF(B12=0,"",VLOOKUP(B12,Article!C12:F22,3,FALSE)) -> Glossy 1 feuille de papier imprimée recto/verso sur le thème Vintage. | D12: 0 | E12: =IF(B12=0,0,VLOOKUP(B12,Article!C12:F22,4,FALSE )) -> 0.98 | F12: =IF(E12="","",D12*E12) -> 0 | G12: =(F12*0.2)+F12 -> 0
B13: PP11 | C13: =IF(B13=0,"",VLOOKUP(B13,Article!C13:F23,3,FALSE)) -> Glossy 2 feuille de papier imprimée recto/verso sur le thème Vintage. | D13: 0 | E13: =IF(B13=0,0,VLOOKUP(B13,Article!C13:F23,4,FALSE )) -> 0.98 | F13: =IF(E13="","",D13*E13) -> 0 | G13: =(F13*0.2)+F13 -> 0
C14: TOTALE QUANTITE: | D14: =SUM(D3:D13) -> 500 | F14: =SUM(F3:F13) -> 325
F15: Total Marchandise TTC | G15: =SUM(G3:G13) -> 390
F16: Remise 5% | G16: =(G15)*5/100 -> 19.5
F17: Frait de port | G17: =IF(D14>1000,30,IF(D14<500,100,IF(AND(D14>500, D14<1000), 69,))) -> 0
C18: Frait de port si | F18: Total TTC | G18: =(G15-G16)+G17 -> 370.5
C19: Entre 0 ET 499 | D19: 100
C20: Entre 500 et 999 | D20: 69
C21: Plus de 1000 | D21: 30

Sheet Article
C2: Code article | D2: Gamme de produit | E2: Designation de l'article | F2: PU HT
C3: PP1 | D3: Mate | E3: Mate 1 feuille de papier créatif Mahé 2. - Motif : Blanc avec des minis cœurs bleus. | F3: 0.65
C4: PP2 | D4: Mate | E4: Mate 2 feuille de papier créatif Mahé 2. - Motif : Blanc avec des minis cœurs rose | F4: 0.65
C5: PP3 | D5: Snow | E5: Snow 1 feuille de papier imprimée recto/verso pour le scrapbooking. • Motif : Collection "Let It Snow"... | F5: 0.78
C6: PP4 | D6: Snow | E6: Snow 2 feuille de papier imprimée recto/verso pour le scrapbooking. • Motif : Collection "Let It Snow | F6: 0.78
C7: PP5 | D7: Snow | E7: Snow 3 feuille de papier imprimée recto/verso pour le scrapbooking. • Motif : Collection | F7: 0.78
C8: PP6 | D8: Vintage | E8: Vintage 1 feuille de papier imprimée recto/verso sur le thème Vintage | F8: 0.78
C9: PP7 | D9: Vintage | E9: Vintage 2 feuille de papier imprimée recto/verso sur le thème Vintage. | F9: 0.78
C10: PP8 | D10: Vintage | E10: Vintage 3 feuille de papier imprimée recto/verso sur le thème Vintage. | F10: 0.78
C11: PP9 | D11: Vintage | E11: Vintage 4 feuille de papier imprimée recto/verso sur le thème Vintage. | F11: 0.78
C12: PP10 | D12: Glossy | E12: Glossy 1 feuille de papier imprimée recto/verso sur le thème Vintage. | F12: 0.98
C13: PP11 | D13: Glossy | E13: Glossy 2 feuille de papier imprimée recto/verso sur le thème Vintage. | F13: 0.98

Sheet Sayfa3
