Workbook

Sheet Feuil1
A1: Repas | B1: Quantité (g) | C1: P | D1: L | E1: G
A2: Haricots verts | B2: 100 | C2: =IF(OR(A2="",B2=""),"",IFERROR(ROUND(VLOOKUP(A2,Feuil2!A:E,3,0)*B2/VLOOKUP(A2,Feuil2!A:E,2,0),2),"")) -> 1.82 | D2: =IF(OR(A2="",B2=""),"",IFERROR(ROUND(VLOOKUP(A2,Feuil2!A:E,4,0)*B2/VLOOKUP(A2,Feuil2!A:E,2,0),2),"")) -> 0.12 | E2: =IF(OR(A2="",B2=""),"",IFERROR(ROUND(VLOOKUP(A2,Feuil2!A:E,5,0)*B2/VLOOKUP(A2,Feuil2!A:E,2,0),2),"")) -> 7.13
A3: Pain complet | B3: 200 | C3: =IF(OR(A3="",B3=""),"",IFERROR(ROUND(VLOOKUP(A3,Feuil2!A:E,3,0)*B3/VLOOKUP(A3,Feuil2!A:E,2,0),2),"")) -> 17.6 | D3: =IF(OR(A3="",B3=""),"",IFERROR(ROUND(VLOOKUP(A3,Feuil2!A:E,4,0)*B3/VLOOKUP(A3,Feuil2!A:E,2,0),2),"")) -> 6.8 | E3: =IF(OR(A3="",B3=""),"",IFERROR(ROUND(VLOOKUP(A3,Feuil2!A:E,5,0)*B3/VLOOKUP(A3,Feuil2!A:E,2,0),2),"")) -> 95.6
A4: Pain aux noix | B4: 50 | C4: =IF(OR(A4="",B4=""),"",IFERROR(ROUND(VLOOKUP(A4,Feuil2!A:E,3,0)*B4/VLOOKUP(A4,Feuil2!A:E,2,0),2),"")) -> 3.5 | D4: =IF(OR(A4="",B4=""),"",IFERROR(ROUND(VLOOKUP(A4,Feuil2!A:E,4,0)*B4/VLOOKUP(A4,Feuil2!A:E,2,0),2),"")) -> 4.5 | E4: =IF(OR(A4="",B4=""),"",IFERROR(ROUND(VLOOKUP(A4,Feuil2!A:E,5,0)*B4/VLOOKUP(A4,Feuil2!A:E,2,0),2),"")) -> 23
A5: Poulet (blanc) | B5: 320 | C5: =IF(OR(A5="",B5=""),"",IFERROR(ROUND(VLOOKUP(A5,Feuil2!A:E,3,0)*B5/VLOOKUP(A5,Feuil2!A:E,2,0),2),"")) -> 94.56 | D5: =IF(OR(A5="",B5=""),"",IFERROR(ROUND(VLOOKUP(A5,Feuil2!A:E,4,0)*B5/VLOOKUP(A5,Feuil2!A:E,2,0),2),"")) -> 24.7 | E5: =IF(OR(A5="",B5=""),"",IFERROR(ROUND(VLOOKUP(A5,Feuil2!A:E,5,0)*B5/VLOOKUP(A5,Feuil2!A:E,2,0),2),"")) -> 0
C6: =IF(OR(A6="",B6=""),"",IFERROR(ROUND(VLOOKUP(A6,Feuil2!A:E,3,0)*B6/VLOOKUP(A6,Feuil2!A:E,2,0),2),"")) | D6: =IF(OR(A6="",B6=""),"",IFERROR(ROUND(VLOOKUP(A6,Feuil2!A:E,4,0)*B6/VLOOKUP(A6,Feuil2!A:E,2,0),2),"")) | E6: =IF(OR(A6="",B6=""),"",IFERROR(ROUND(VLOOKUP(A6,Feuil2!A:E,5,0)*B6/VLOOKUP(A6,Feuil2!A:E,2,0),2),""))
C7: =IF(OR(A7="",B7=""),"",IFERROR(ROUND(VLOOKUP(A7,Feuil2!A:E,3,0)*B7/VLOOKUP(A7,Feuil2!A:E,2,0),2),"")) | D7: =IF(OR(A7="",B7=""),"",IFERROR(ROUND(VLOOKUP(A7,Feuil2!A:E,4,0)*B7/VLOOKUP(A7,Feuil2!A:E,2,0),2),"")) | E7: =IF(OR(A7="",B7=""),"",IFERROR(ROUND(VLOOKUP(A7,Feuil2!A:E,5,0)*B7/VLOOKUP(A7,Feuil2!A:E,2,0),2),""))
C8: =IF(OR(A8="",B8=""),"",IFERROR(ROUND(VLOOKUP(A8,Feuil2!A:E,3,0)*B8/VLOOKUP(A8,Feuil2!A:E,2,0),2),"")) | D8: =IF(OR(A8="",B8=""),"",IFERROR(ROUND(VLOOKUP(A8,Feuil2!A:E,4,0)*B8/VLOOKUP(A8,Feuil2!A:E,2,0),2),"")) | E8: =IF(OR(A8="",B8=""),"",IFERROR(ROUND(VLOOKUP(A8,Feuil2!A:E,5,0)*B8/VLOOKUP(A8,Feuil2!A:E,2,0),2),""))
C9: =IF(OR(A9="",B9=""),"",IFERROR(ROUND(VLOOKUP(A9,Feuil2!A:E,3,0)*B9/VLOOKUP(A9,Feuil2!A:E,2,0),2),"")) | D9: =IF(OR(A9="",B9=""),"",IFERROR(ROUND(VLOOKUP(A9,Feuil2!A:E,4,0)*B9/VLOOKUP(A9,Feuil2!A:E,2,0),2),"")) | E9: =IF(OR(A9="",B9=""),"",IFERROR(ROUND(VLOOKUP(A9,Feuil2!A:E,5,0)*B9/VLOOKUP(A9,Feuil2!A:E,2,0),2),""))
C10: =IF(OR(A10="",B10=""),"",IFERROR(ROUND(VLOOKUP(A10,Feuil2!A:E,3,0)*B10/VLOOKUP(A10,Feuil2!A:E,2,0),2),"")) | D10: =IF(OR(A10="",B10=""),"",IFERROR(ROUND(VLOOKUP(A10,Feuil2!A:E,4,0)*B10/VLOOKUP(A10,Feuil2!A:E,2,0),2),"")) | E10: =IF(OR(A10="",B10=""),"",IFERROR(ROUND(VLOOKUP(A10,Feuil2!A:E,5,0)*B10/VLOOKUP(A10,Feuil2!A:E,2,0),2),""))
C11: =IF(OR(A11="",B11=""),"",IFERROR(ROUND(VLOOKUP(A11,Feuil2!A:E,3,0)*B11/VLOOKUP(A11,Feuil2!A:E,2,0),2),"")) | D11: =IF(OR(A11="",B11=""),"",IFERROR(ROUND(VLOOKUP(A11,Feuil2!A:E,4,0)*B11/VLOOKUP(A11,Feuil2!A:E,2,0),2),"")) | E11: =IF(OR(A11="",B11=""),"",IFERROR(ROUND(VLOOKUP(A11,Feuil2!A:E,5,0)*B11/VLOOKUP(A11,Feuil2!A:E,2,0),2),""))
C12: =IF(OR(A12="",B12=""),"",IFERROR(ROUND(VLOOKUP(A12,Feuil2!A:E,3,0)*B12/VLOOKUP(A12,Feuil2!A:E,2,0),2),"")) | D12: =IF(OR(A12="",B12=""),"",IFERROR(ROUND(VLOOKUP(A12,Feuil2!A:E,4,0)*B12/VLOOKUP(A12,Feuil2!A:E,2,0),2),"")) | E12: =IF(OR(A12="",B12=""),"",IFERROR(ROUND(VLOOKUP(A12,Feuil2!A:E,5,0)*B12/VLOOKUP(A12,Feuil2!A:E,2,0),2),""))
C13: =IF(OR(A13="",B13=""),"",IFERROR(ROUND(VLOOKUP(A13,Feuil2!A:E,3,0)*B13/VLOOKUP(A13,Feuil2!A:E,2,0),2),"")) | D13: =IF(OR(A13="",B13=""),"",IFERROR(ROUND(VLOOKUP(A13,Feuil2!A:E,4,0)*B13/VLOOKUP(A13,Feuil2!A:E,2,0),2),"")) | E13: =IF(OR(A13="",B13=""),"",IFERROR(ROUND(VLOOKUP(A13,Feuil2!A:E,5,0)*B13/VLOOKUP(A13,Feuil2!A:E,2,0),2),""))
C14: =IF(OR(A14="",B14=""),"",IFERROR(ROUND(VLOOKUP(A14,Feuil2!A:E,3,0)*B14/VLOOKUP(A14,Feuil2!A:E,2,0),2),"")) | D14: =IF(OR(A14="",B14=""),"",IFERROR(ROUND(VLOOKUP(A14,Feuil2!A:E,4,0)*B14/VLOOKUP(A14,Feuil2!A:E,2,0),2),"")) | E14: =IF(OR(A14="",B14=""),"",IFERROR(ROUND(VLOOKUP(A14,Feuil2!A:E,5,0)*B14/VLOOKUP(A14,Feuil2!A:E,2,0),2),""))
C15: =IF(OR(A15="",B15=""),"",IFERROR(ROUND(VLOOKUP(A15,Feuil2!A:E,3,0)*B15/VLOOKUP(A15,Feuil2!A:E,2,0),2),"")) | D15: =IF(OR(A15="",B15=""),"",IFERROR(ROUND(VLOOKUP(A15,Feuil2!A:E,4,0)*B15/VLOOKUP(A15,Feuil2!A:E,2,0),2),"")) | E15: =IF(OR(A15="",B15=""),"",IFERROR(ROUND(VLOOKUP(A15,Feuil2!A:E,5,0)*B15/VLOOKUP(A15,Feuil2!A:E,2,0),2),""))
C16: =IF(OR(A16="",B16=""),"",IFERROR(ROUND(VLOOKUP(A16,Feuil2!A:E,3,0)*B16/VLOOKUP(A16,Feuil2!A:E,2,0),2),"")) | D16: =IF(OR(A16="",B16=""),"",IFERROR(ROUND(VLOOKUP(A16,Feuil2!A:E,4,0)*B16/VLOOKUP(A16,Feuil2!A:E,2,0),2),"")) | E16: =IF(OR(A16="",B16=""),"",IFERROR(ROUND(VLOOKUP(A16,Feuil2!A:E,5,0)*B16/VLOOKUP(A16,Feuil2!A:E,2,0),2),""))
C17: =IF(OR(A17="",B17=""),"",IFERROR(ROUND(VLOOKUP(A17,Feuil2!A:E,3,0)*B17/VLOOKUP(A17,Feuil2!A:E,2,0),2),"")) | D17: =IF(OR(A17="",B17=""),"",IFERROR(ROUND(VLOOKUP(A17,Feuil2!A:E,4,0)*B17/VLOOKUP(A17,Feuil2!A:E,2,0),2),"")) | E17: =IF(OR(A17="",B17=""),"",IFERROR(ROUND(VLOOKUP(A17,Feuil2!A:E,5,0)*B17/VLOOKUP(A17,Feuil2!A:E,2,0),2),""))
... C29: =IF(OR(A29="",B29=""),"",IFERROR(ROUND(VLOOKUP(A29,Feuil2!A:E,3,0)*B29/VLOOKUP(A29,Feuil2!A:E,2,0),2),"")) | D29: =IF(OR(A29="",B29=""),"",IFERROR(ROUND(VLOOKUP(A29,Feuil2!A:E,4,0)*B29/VLOOKUP(A29,Feuil2!A:E,2,0),2),"")) | E29: =IF(OR(A29="",B29=""),"",IFERROR(ROUND(VLOOKUP(A29,Feuil2!A:E,5,0)*B29/VLOOKUP(A29,Feuil2!A:E,2,0),2),""))
B30: S calories : | C30: =SUM(C2:C29) -> 117.48 | D30: =SUM(D2:D29) -> 36.12 | E30: =SUM(E2:E29) -> 125.73

Sheet Feuil2
A1: Aliments | B1: Quantité (g) | C1: P | D1: L | E1: G
A2: Haricots verts | B2: 100 | C2: 1.82 | D2: 0.12 | E2: 7.13
A3: Avocat | B3: 100 | C3: 2 | D3: 14.66 | E3: 8.53
A4: Pain complet | B4: 100 | C4: 8.8 | D4: 3.4 | E4: 47.8
A5: Pain aux noix | B5: 100 | C5: 7 | D5: 9 | E5: 46
A6: Poulet (blanc) | B6: 100 | C6: 29.55 | D6: 7.72 | E6: 0
