Workbook

Sheet programme
B2: championship chess TALABA
B5: Journée I | D5: Journée II | F5: Journée III
B6: fatmi Ayoub - Zakariya | D6: Oussalah Hicham - fatmi Ayoub | F6: fatmi Ayoub - Moida ayoub
B7: Touti Anas - Oussalah Hicham | D7: Salah - Hamza | F7: Touti Anas - Salah
B8: Mabrouk Adil - Ahmed | D8: Ahmed - TOUTI Mehdi | F8: Mabrouk Adil - Oussalah Hicham
B9: TOUTI Mehdi - Salah | D9: Zakariya - Mabrouk Adil | F9: Zakariya - Ahmed
B10: Hamza - Moida ayoub | D10: Moida ayoub - Touti Anas | F10: Hamza - TOUTI Mehdi
B14: Journée IV | D14: Journée V | F14: Journée VI
B15: Oussalah Hicham - Zakariya | D15: fatmi Ayoub - TOUTI Mehdi | F15: TOUTI Mehdi - Mabrouk Adil
B16: TOUTI Mehdi - Touti Anas | D16: Touti Anas - Hamza | F16: Salah - Zakariya
B17: Salah - fatmi Ayoub | D17: Oussalah Hicham - Ahmed | F17: Ahmed - Touti Anas
B18: Ahmed - Hamza | D18: Mabrouk Adil - Salah | F18: Moida ayoub - Oussalah Hicham
B19: Moida ayoub - Mabrouk Adil | D19: Zakariya - Moida ayoub | F19: Hamza - fatmi Ayoub
... B28: Moida ayoub - Ahmed | D28: Hamza - Zakariya | F28: Moida ayoub - TOUTI Mehdi

Sheet Calendrier
E2: Aller
A3: Journée | B3: Date | C3: Joueur 1 | D3: Joueur 1 | E3: V | F3: P | G3: D
A4: 1 | C4: fatmi Ayoub | D4: Zakariya | E4: fatmi Ayoub | F4: Zakariya
C5: Touti Anas | D5: Oussalah Hicham | E5: Oussalah Hicham | F5: Touti Anas
C6: Mabrouk Adil | D6: Ahmed | E6: Mabrouk Adil | F6: Ahmed
C7: TOUTI Mehdi | D7: Salah | E7: Salah | F7: TOUTI Mehdi
C8: Hamza | D8: Moida ayoub | E8: Moida ayoub | F8: Hamza
A9: 2 | C9: Oussalah Hicham | D9: fatmi Ayoub
C10: Salah | D10: Hamza
C11: Ahmed | D11: TOUTI Mehdi
C12: Zakariya | D12: Mabrouk Adil
C13: Moida ayoub | D13: Touti Anas
A14: 3 | C14: fatmi Ayoub | D14: Moida ayoub
C15: Touti Anas | D15: Salah
C16: Mabrouk Adil | D16: Oussalah Hicham
C17: Zakariya | D17: Ahmed
C18: Hamza | D18: TOUTI Mehdi
A19: 4 | C19: Oussalah Hicham | D19: Zakariya
C20: TOUTI Mehdi | D20: Touti Anas
C21: Salah | D21: fatmi Ayoub
C22: Ahmed | D22: Hamza
C23: Moida ayoub | D23: Mabrouk Adil
A24: 5 | C24: fatmi Ayoub | D24: TOUTI Mehdi
C25: Touti Anas | D25: Hamza
C26: Oussalah Hicham | D26: Ahmed
C27: Mabrouk Adil | D27: Salah
C28: Zakariya | D28: Moida ayoub
A29: 6 | C29: TOUTI Mehdi | D29: Mabrouk Adil
C30: Salah | D30: Zakariya
C31: Ahmed | D31: Touti Anas
C32: Moida ayoub | D32: Oussalah Hicham
C33: Hamza | D33: fatmi Ayoub
A34: 7 | C34: fatmi Ayoub | D34: Touti Anas
C35: Oussalah Hicham | D35: Salah
C36: Mabrouk Adil | D36: Hamza
C37: Zakariya | D37: TOUTI Mehdi
C38: Moida ayoub | D38: Ahmed
A39: 8 | C39: fatmi Ayoub | D39: Ahmed
C40: Touti Anas | D40: Mabrouk Adil
C41: TOUTI Mehdi | D41: Oussalah Hicham
...

Sheet Classement
B7: championship chess TALABA
A10: Classement | B10: Nom joueur | C10: Match joué | D10: V | E10: P | F10: D | G10: point
A11: 1 | B11: fatmi Ayoub | C11: =COUNTIF(Calendrier!$E$4:$E$48,Classement!B11)+COUNTIF(Calendrier!$F$4:$F$48,Classement!B11)+COUNTIF(Calendrier!G4:G48,Classement!B11)+COUNTIF(Calendrier!$H$4:$H$48,Classement!B11) -> 1 | D11: =COUNTIF(Calendrier!$E$4:$E$48,Classement!B11) -> 1 | E11: =COUNTIF(Calendrier!$F$4:$F$48,Classement!B11) -> 0 | F11: =COUNTIF(Calendrier!G4:G48,Classement!B11)+COUNTIF(Calendrier!$H$4:$H$48,Classement!B11) -> 0 | G11: 3
A12: 2 | B12: Oussalah Hicham | C12: =COUNTIF(Calendrier!$E$4:$E$48,Classement!B13)+COUNTIF(Calendrier!$F$4:$F$48,Classement!B13)+COUNTIF(Calendrier!G6:G50,Classement!B13) -> 1 | D12: =COUNTIF(Calendrier!$E$4:$E$48,Classement!B13) -> 1 | E12: =COUNTIF(Calendrier!$F$4:$F$48,Classement!B13) -> 0 | F12: =COUNTIF(Calendrier!G6:G50,Classement!B13) -> 0 | G12: 3
A13: 3 | B13: Mabrouk Adil | C13: =COUNTIF(Calendrier!$E$4:$E$48,Classement!B14)+COUNTIF(Calendrier!$F$4:$F$48,Classement!B14)+COUNTIF(Calendrier!G7:G51,Classement!B14) -> 1 | D13: =COUNTIF(Calendrier!$E$4:$E$48,Classement!B14) -> 0 | E13: =COUNTIF(Calendrier!$F$4:$F$48,Classement!B14) -> 1 | F13: =COUNTIF(Calendrier!G7:G51,Classement!B14) -> 0 | G13: 3
A14: 6 | B14: Touti Anas | C14: =COUNTIF(Calendrier!$E$4:$E$48,Classement!B12)+COUNTIF(Calendrier!$F$4:$F$48,Classement!B12)+COUNTIF(Calendrier!G5:G49,Classement!B12) -> 1 | D14: =COUNTIF(Calendrier!$E$4:$E$48,Classement!B12) -> 1 | E14: =COUNTIF(Calendrier!$F$4:$F$48,Classement!B12) -> 0 | F14: =COUNTIF(Calendrier!G5:G49,Classement!B12) -> 0 | G14: 3
A15: 7 | B15: TOUTI Mehdi | C15: =COUNTIF(Calendrier!$E$4:$E$48,Classement!B15)+COUNTIF(Calendrier!$F$4:$F$48,Classement!B15)+COUNTIF(Calendrier!G8:G52,Classement!B15) -> 1 | D15: =COUNTIF(Calendrier!$E$4:$E$48,Classement!B15) -> 0 | E15: =COUNTIF(Calendrier!$F$4:$F$48,Classement!B15) -> 1 | F15: =COUNTIF(Calendrier!G8:G52,Classement!B15) -> 0 | G15: 3
A16: 4 | B16: Salah | C16: =COUNTIF(Calendrier!$E$4:$E$48,Classement!B16)+COUNTIF(Calendrier!$F$4:$F$48,Classement!B16)+COUNTIF(Calendrier!G9:G53,Classement!B16) -> 1 | D16: =COUNTIF(Calendrier!$E$4:$E$48,Classement!B16) -> 1 | E16: =COUNTIF(Calendrier!$F$4:$F$48,Classement!B16) -> 0 | F16: =COUNTIF(Calendrier!G9:G53,Classement!B16) -> 0 | G16: 0
A17: 5 | B17: Moida ayoub | C17: =COUNTIF(Calendrier!$E$4:$E$48,Classement!B19)+COUNTIF(Calendrier!$F$4:$F$48,Classement!B19)+COUNTIF(Calendrier!G12:G56,Classement!B19) -> 1 | D17: =COUNTIF(Calendrier!$E$4:$E$48,Classement!B19) -> 0 | E17: =COUNTIF(Calendrier!$F$4:$F$48,Classement!B19) -> 1 | F17: =COUNTIF(Calendrier!G12:G56,Classement!B19) -> 0 | G17: 0
A18: 8 | B18: Ahmed | C18: =COUNTIF(Calendrier!$E$4:$E$48,Classement!B17)+COUNTIF(Calendrier!$F$4:$F$48,Classement!B17)+COUNTIF(Calendrier!G10:G54,Classement!B17) -> 1 | D18: =COUNTIF(Calendrier!$E$4:$E$48,Classement!B17) -> 1 | E18: =COUNTIF(Calendrier!$F$4:$F$48,Classement!B17) -> 0 | F18: =COUNTIF(Calendrier!G10:G54,Classement!B17) -> 0 | G18: 0
A19: 9 | B19: Zakariya | C19: =COUNTIF(Calendrier!$E$4:$E$48,Classement!B18)+COUNTIF(Calendrier!$F$4:$F$48,Classement!B18)+COUNTIF(Calendrier!G11:G55,Classement!B18) -> 1 | D19: =COUNTIF(Calendrier!$E$4:$E$48,Classement!B18) -> 0 | E19: =COUNTIF(Calendrier!$F$4:$F$48,Classement!B18) -> 1 | F19: =COUNTIF(Calendrier!G11:G55,Classement!B18) -> 0 | G19: 0
A20: 10 | B20: Hamza | C20: =COUNTIF(Calendrier!$E$4:$E$48,Classement!B20)+COUNTIF(Calendrier!$F$4:$F$48,Classement!B20)+COUNTIF(Calendrier!G13:G57,Classement!B20) -> 1 | D20: =COUNTIF(Calendrier!$E$4:$E$48,Classement!B20) -> 0 | E20: =COUNTIF(Calendrier!$F$4:$F$48,Classement!B20) -> 1 | F20: =COUNTIF(Calendrier!G13:G57,Classement!B20) -> 0 | G20: 0

Sheet Feuil4
