Workbook

Sheet Explication du fonctionnement
A2: 5000 | B2: 0.56 | C2: .48 | D2: =A2-B2 -> 4999.44
A3: 0.56
A4: 0.48
A7: =A2-E8 -> 4955
A8: =A7-E8+1 -> 4911 | E8: 45 | F8: ='Frais de transport janvier15'!G7=IF(F5<I5,I6,I7) -> TRUE | G8: =E8*F8 -> 45
A9: =A8-E9+1 -> 4834 | E9: 78 | F9: =IF(E9<A7,A$3,A$4) -> 0.56 | G9: =E9*F9 -> 43.68
A10: =A9-E10+1 -> 4812 | E10: 23 | F10: =IF(E10<A8,A$3,A$4) -> 0.56 | G10: =E10*F10 -> 12.88
A11: =A10-E11+1 -> 4791 | E11: 22 | F11: =IF(E11<A9,A$3,A$4) -> 0.56 | G11: =E11*F11 -> 12.32
A12: =A11-E12+1 -> 4660 | E12: 132 | F12: =IF(E12<A10,A$3,A$4) -> 0.56 | G12: =E12*F12 -> 73.92
A13: =A12-E13+1 -> 4517 | E13: 144 | F13: =IF(E13<A11,A$3,A$4) -> 0.56 | G13: =E13*F13 -> 80.64
A14: =A13-E14+1 -> 4074 | E14: 444 | F14: =IF(E14<A12,A$3,A$4) -> 0.56 | G14: =E14*F14 -> 248.64
A15: =A14-E15+1 -> 3631 | E15: 444 | F15: =IF(E15<A13,A$3,A$4) -> 0.56 | G15: =E15*F15 -> 248.64
A16: =A15-E16+1 -> 3188 | E16: 444 | F16: =IF(E16<A14,A$3,A$4) -> 0.56 | G16: =E16*F16 -> 248.64
A17: =A16-E17+1 -> 2745 | E17: 444 | F17: =IF(E17<A15,A$3,A$4) -> 0.56 | G17: =E17*F17 -> 248.64
A18: =A17-E18+1 -> 2181 | E18: 565 | F18: =IF(E18<A16,A$3,A$4) -> 0.56 | G18: =E18*F18 -> 316.4
A19: =A18-E19+1 -> 2126 | E19: 56 | F19: =IF(E19<A17,A$3,A$4) -> 0.56 | G19: =E19*F19 -> 31.36
A20: =A19-E20+1 -> 2072 | E20: 55 | F20: =IF(E20<A18,A$3,A$4) -> 0.56 | G20: =E20*F20 -> 30.8
... A29: =A28-E29+1 -> 822 | E29: 30 | F29: =IF(E29<A27,A$3,A$4) -> 0.56 | G29: =E29*F29 -> 16.8
A30: =A29-E30+1 -> 813 | E30: 10 | F30: =IF(E30<A28,A$3,A$4) -> 0.56
A31: =A30-E31+1 -> 14 | E31: 800 | F31: =IF(E31<A29,A$3,A$4) -> 0.56
A32: =A31-E32+1 -> 1 | E32: 14 | F32: =IF(E32<A30,A$3,A$4) -> 0.56
A33: =A32-E33+1 -> 1 | E33: 1 | F33: =IF(E33<A31,A$3,A$4) -> 0.56
A34: =A33-E34+1 -> 0 | E34: 2 | F34: =IF(E34<A32,A$3,A$4) -> 0.48
A35: =A34-E35+1 -> 1 | F35: =IF(E35<A33,A$3,A$4) -> 0.56
A36: =A35-E36+1 -> 2 | F36: =IF(E36<A34,A$3,A$4) -> 0.48
F37: =IF(E37<A35,A$3,A$4) -> 0.56
F38: =IF(E38<A36,A$3,A$4) -> 0.56
F39: =IF(E39<A37,A$3,A$4) -> 0.48
F40: =IF(E40<A38,A$3,A$4) -> 0.48
F41: =IF(E41<A39,A$3,A$4) -> 0.48
F42: =IF(E42<A40,A$3,A$4) -> 0.48
F43: =IF(E43<A41,A$3,A$4) -> 0.48
F44: =IF(E44<A42,A$3,A$4) -> 0.48
F45: =IF(E45<A43,A$3,A$4) -> 0.48
F46: =IF(E46<A44,A$3,A$4) -> 0.48
F47: =IF(E47<A45,A$3,A$4) -> 0.48
F48: =IF(E48<A46,A$3,A$4) -> 0.48
... F186: =IF(E186<A184,A$3,A$4) -> 0.48
F187: =IF(E187<$A183,A181,A182) -> 0

Sheet COMPILATION TRANSP
A4: compilation du transport
A6: Mois | B6: KM parcouru | C6: Montant
A7: Janvier | B7: ='Frais de transport janvier15'!F51 -> 0 | C7: ='Frais de transport janvier15'!H51 -> 0
A8: Février | B8: ='Frais transport février 15'!#REF! -> #REF! | C8: ='Frais transport février 15'!#REF! -> #REF!
A9: Mars | B9: ='Frais transport mars 15'!F36 -> 0 | C9: ='Frais transport mars 15'!H36 -> 0
A10: Avril | B10: ='Frais transport avril 15'!F36 -> 0 | C10: ='Frais transport avril 15'!H36 -> 0
A11: Mai | B11: ='Frais transport mai 15'!F36 -> 0 | C11: ='Frais transport mai 15'!H36 -> 0
A12: Juin | B12: ='Frais transport juin15'!F46 -> 0 | C12: ='Frais transport juin15'!H46 -> 0
A13: Juillet | B13: ='Frais de transports juillet 15'!F35 -> 0 | C13: ='Frais de transports juillet 15'!H35 -> 0
A14: Août | B14: ='Frais de transports août 15'!#REF! -> #REF! | C14: ='Frais de transports août 15'!#REF! -> #REF!
A15: Septembre | B15: ='Frais de transport Septembre 15'!F36 -> 0 | C15: ='Frais de transport Septembre 15'!H36 -> 0
A16: Octobre | B16: ='Frais transport Octobre 15'!F36 -> 0 | C16: ='Frais transport Octobre 15'!H36 -> 0
A17: Novembre | B17: ='Frais transport Novembre 15'!F35 -> 0 | C17: ='Frais transport Novembre 15'!H35 -> 0
A18: Décembre | B18: ='Frais transport décembre 15'!F35 -> 0 | C18: ='Frais transport décembre 15'!H35 -> 0
A32: Total : | B32: =SUM(B7:B18) -> #REF! | C32: =SUM(C7:C18) -> #REF!

Sheet Frais de transport janvier15
A1: ***POUR PASSER À L'ANNÉE SUIVANTE, CHANGER L'ANNÉE DE LA CASE EN BLEU PÂLE***
A4: Kilométrage | D4: Début le | E4: 43101 | F4: Termine le | G4: =E4+30 -> 43131
A6: Date | B6: Départ | C6: Arrivé | D6: Départ | E6: Arrivé | F6: KM | G6: Montant alloué | H6: TOTAL
A7: Inscrire le KM au 1er janvier | I7: 5000
F8: =C8-B8+E8-D8 -> 0 | H8: =F8*G8 -> 0 | I8: 0.55
F9: =C9-B9+E9-D9 -> 0 | G9: =IF(I$7<F$53>I$10,I$8,I$9) -> 0.55 | H9: =F9*G9 -> 0 | I9: 0.48
F10: =C10-B10+E10-D10 -> 0 | G10: =IF(I$7<F$53>I$10,I$8,I$9) -> 0.55 | H10: =F10*G10 -> 0 | I10: =I7-F7 -> 5000
F11: =C11-B11+E11-D11 -> 0 | G11: =IF(I$7<F$53>I$10,I$8,I$9) -> 0.55 | H11: =F11*G11 -> 0 | I11: 4999
F12: =C12-B12+E12-D12 -> 0 | G12: =IF(I$7<F$53<>I$10,I$8,I$9) -> 0.55 | H12: =F12*G12 -> 0 | I12: 4998
F13: =C13-B13+E13-D13 -> 0 | G13: =IF(I$7<F$53<>I$10,I$8,I$9) -> 0.55 | H13: =F13*G13 -> 0 | I13: 4997
F14: =C14-B14+E14-D14 -> 0 | G14: =IF(I$7<F$53<>I$10,I$8,I$9) -> 0.55 | H14: =F14*G14 -> 0 | I14: 4996
F15: =C15-B15+E15-D15 -> 0 | G15: =IF(I$7<F$53<>I$10,I$8,I$9) -> 0.55 | H15: =F15*G15 -> 0 | I15: 4995
F16: =C16-B16+E16-D16 -> 0 | G16: =IF(I$7<F$53<>I$10,I$8,I$9) -> 0.55 | H16: =F16*G16 -> 0 | I16: 4994
F17: =C17-B17+E17-D17 -> 0 | G17: =IF(I$7<F$53<>I$10,I$8,I$9) -> 0.55 | H17: =F17*G17 -> 0 | I17: 4993
F18: =C18-B18+E18-D18 -> 0 | G18: =IF(I$7-F$53<I$10,I$8,I$9) -> 0.48 | H18: =F18*G18 -> 0 | I18: 4992
F19: =C19-B19+E19-D19 -> 0 | G19: =IF(I$7-F$53<I$10,I$8,I$9) -> 0.48 | H19: =F19*G19 -> 0 | I19: 4991
F20: =C20-B20+E20-D20 -> 0 | G20: =IF(I$7-F$53<I$10,I$8,I$9) -> 0.48 | H20: =F20*G20 -> 0 | I20: 4990
F21: =C21-B21+E21-D21 -> 0 | G21: =IF(I$7-F$53<I$10,I$8,I$9) -> 0.48 | H21: =F21*G21 -> 0 | I21: 4989
F22: =C22-B22+E22-D22 -> 0 | G22: =IF(I$7-F$53<I$10,I$8,I$9) -> 0.48 | H22: =F22*G22 -> 0 | I22: 4988
F23: =C23-B23+E23-D23 -> 0 | G23: =IF(I$7-F$53<I$10,I$8,I$9) -> 0.48 | H23: =F23*G23 -> 0 | I23: 4987
F24: =C24-B24+E24-D24 -> 0 | G24: =IF(I$7-F$53<I$10,I$8,I$9) -> 0.48 | H24: =F24*G24 -> 0 | I24: 4986
F25: =C25-B25+E25-D25 -> 0 | G25: =IF(I$7-F$53<I$10,I$8,I$9) -> 0.48 | H25: =F25*G25 -> 0 | I25: 4985
F26: =C26-B26+E26-D26 -> 0 | G26: =IF(I$7-F$53<I$10,I$8,I$9) -> 0.48 | H26: =F26*G26 -> 0 | I26: 4984
F27: =C27-B27+E27-D27 -> 0 | G27: =IF(I$7-F$53<I$10,I$8,I$9) -> 0.48 | H27: =F27*G27 -> 0 | I27: 4983
F28: =C28-B28+E28-D28 -> 0 | G28: =IF(I$7-F$53<I$10,I$8,I$9) -> 0.48 | H28: =F28*G28 -> 0 | I28: 4982
F29: =C29-B29+E29-D29 -> 0 | G29: =IF(I$7-F$53<I$10,I$8,I$9) -> 0.48 | H29: =F29*G29 -> 0 | I29: 4981
... F37: =C37-B37+E37-D37 -> 0 | G37: =IF(I$7-F$53<I$10,I$8,I$9) -> 0.48 | H37: =F37*G37 -> 0 | I37: 4973
B38: Bureau | C38: Garderie Roméo et Juliette | D38: Garderie Roméo et Juliette | E38: Bureau | G38: =IF(F83<I$7,I$8,I$9) -> 0.55 | H38: =F38*G38 -> 0 | I38: 4972
B39: Bureau | C39: Garderie Roméo et Juliette | D39: Garderie Roméo et Juliette | E39: Bureau | G39: =IF(F84<I$7,I$8,I$9) -> 0.55 | H39: =F39*G39 -> 0 | I39: 4971
B40: Bureau | C40: Garderie Roméo et Juliette | D40: Garderie Roméo et Juliette | E40: Bureau | G40: =IF(F85<I$7,I$8,I$9) -> 0.55 | H40: =F40*G40 -> 0 | I40: 4970
B41: Bureau | C41: Garderie Roméo et Juliette | D41: Garderie Roméo et Juliette | E41: Bureau | G41: =IF(F86<I$7,I$8,I$9) -> 0.55 | H41: =F41*G41 -> 0 | I41: 4969
B42: Bureau | C42: Garderie Roméo et Juliette | D42: Garderie Roméo et Juliette | E42: Bureau | G42: =IF(F87<I$7,I$8,I$9) -> 0.55 | H42: =F42*G42 -> 0 | I42: 4968
B43: Bureau | C43: Garderie Roméo et Juliette | D43: Garderie Roméo et Juliette | E43: Bureau | G43: =IF(F88<I$7,I$8,I$9) -> 0.55 | H43: =F43*G43 -> 0
B44: Bureau | C44: Garderie Roméo et Juliette | D44: Garderie Roméo et Juliette | E44: Bureau | G44: =IF(F89<I$7,I$8,I$9) -> 0.55 | H44: =F44*G44 -> 0
B45: Bureau | C45: Garderie Roméo et Juliette | D45: Garderie Roméo et Juliette | E45: Bureau | G45: =IF(F90<I$7,I$8,I$9) -> 0.55 | H45: =F45*G45 -> 0
B46: Bureau | C46: Garderie Roméo et Juliette | D46: Garderie Roméo et Juliette | E46: Bureau | G46: =IF(F91<I$7,I$8,I$9) -> 0.55 | H46: =F46*G46 -> 0
B47: Bureau | C47: Garderie Roméo et Juliette | D47: Garderie Roméo et Juliette | E47: Bureau | G47: =IF(F92<I$7,I$8,I$9) -> 0.55 | H47: =F47*G47 -> 0
B48: Bureau | C48: Garderie Roméo et Juliette | D48: Garderie Roméo et Juliette | E48: Bureau | G48: =IF(F93<I$7,I$8,I$9) -> 0.55 | H48: =F48*G48 -> 0
B49: Bureau | C49: Garderie Roméo et Juliette | D49: Garderie Roméo et Juliette | E49: Bureau | G49: =IF(F94<I$7,I$8,I$9) -> 0.55 | H49: =F49*G49 -> 0 | I49: =I48-1 -> -1
A50: 27 | B50: Bureau | E50: Bureau | G50: =IF(F95<I$7,I$8,I$9) -> 0.55
A51: GRAND TOTAL | F51: =SUM(F7:F49) -> 0 | H51: =SUM(H7:H37) -> 0
E53: Total annuel | F53: =SUM(F8:F37) -> 0

Sheet Frais transport février 15
A4: Kilométrage | D4: Début le | E4: ='Frais de transport janvier15'!G4+1 -> 43132 | F4: Termine le | G4: =E4+27 -> 43159
A6: Date | B6: Départ | C6: Arrivé | D6: Départ | E6: Arrivé | F6: KM | G6: Montant alloué | H6: TOTAL | L6: S KM | M6: k
D7: 200 | E7: 3000 | F7: =C7-B7+E7-D7 -> 2800 | G7: =IF(F7<I$7,I$8,I$9) -> 0.55 | H7: =F7*M7 -> 1540 | I7: 5000 | L7: =F7 -> 2800 | M7: =0.55-0.07*(L7>=5000) -> 0.55
D8: 200 | E8: 3000 | F8: =C8-B8+E8-D8 -> 2800 | G8: =IF(F8<I$7,I$8,I$9) -> 0.55 | H8: =F8*M8 -> 1344 | I8: 0.55 | L8: =L7+F8 -> 5600 | M8: =0.55-0.07*(L8>=5000) -> 0.48
D9: 200 | E9: 3000 | F9: =C9-B9+E9-D9 -> 2800 | G9: =IF('Frais de transport janvier15'!F$53<'Frais de transport janvier15'!I$7,'Frais de transport janvier15'!I$8,'Frais de transport janvier15'!I$9) -> 0.55 | H9: =F9*M9 -> 1344 | I9: 0.48 | L9: =L8+F9 -> 8400 | M9: =0.55-0.07*(L9>=5000) -> 0.48
D10: 1552 | E10: 3888 | F10: =C10-B10+E10-D10 -> 2336 | G10: =IF('Frais de transport janvier15'!F$53<'Frais de transport janvier15'!I$7,'Frais de transport janvier15'!I$8,'Frais de transport janvier15'!I$9) -> 0.55 | H10: =F10*M10 -> 1121.28 | I10: 4973 | J10: 10 | L10: =L9+F10 -> 10736 | M10: =0.55-0.07*(L10>=5000) -> 0.48
F11: =C11-B11+E11-D11 -> 0 | G11: =IF('Frais de transport janvier15'!F$53<'Frais de transport janvier15'!I$7,'Frais de transport janvier15'!I$8,'Frais de transport janvier15'!I$9) -> 0.55 | H11: =F11*M11 -> 0 | I11: =I10-1 -> 4972 | J11: 11 | L11: =L10+F11 -> 10736 | M11: =0.55-0.07*(L11>=5000) -> 0.48
F12: =C12-B12+E12-D12 -> 0 | G12: =IF('Frais de transport janvier15'!F$53<'Frais de transport janvier15'!I$7,'Frais de transport janvier15'!I$8,'Frais de transport janvier15'!I$9) -> 0.55 | H12: =F12*M12 -> 0 | I12: =I11-1 -> 4971 | J12: 12 | L12: =L11+F12 -> 10736 | M12: =0.55-0.07*(L12>=5000) -> 0.48
F13: =C13-B13+E13-D13 -> 0 | G13: =IF('Frais de transport janvier15'!F$53<'Frais de transport janvier15'!I$7,'Frais de transport janvier15'!I$8,'Frais de transport janvier15'!I$9) -> 0.55 | H13: =F13*M13 -> 0 | I13: =I12-1 -> 4970 | J13: 13 | L13: =L12+F13 -> 10736 | M13: =0.55-0.07*(L13>=5000) -> 0.48
F14: =C14-B14+E14-D14 -> 0 | G14: =IF('Frais de transport janvier15'!F$53<'Frais de transport janvier15'!I$7,'Frais de transport janvier15'!I$8,'Frais de transport janvier15'!I$9) -> 0.55 | H14: =F14*M14 -> 0 | I14: =I13-1 -> 4969 | J14: 14 | L14: =L13+F14 -> 10736 | M14: =0.55-0.07*(L14>=5000) -> 0.48
F15: =C15-B15+E15-D15 -> 0 | G15: =IF('Frais de transport janvier15'!F$53<'Frais de transport janvier15'!I$7,'Frais de transport janvier15'!I$8,'Frais de transport janvier15'!I$9) -> 0.55 | H15: =F15*M15 -> 0 | I15: =I14-1 -> 4968 | J15: 15 | L15: =L14+F15 -> 10736 | M15: =0.55-0.07*(L15>=5000) -> 0.48
F16: =C16-B16+E16-D16 -> 0 | G16: =IF('Frais de transport janvier15'!F$53<'Frais de transport janvier15'!I$7,'Frais de transport janvier15'!I$8,'Frais de transport janvier15'!I$9) -> 0.55 | H16: =F16*M16 -> 0 | I16: =I15-1 -> 4967 | J16: 16 | L16: =L15+F16 -> 10736 | M16: =0.55-0.07*(L16>=5000) -> 0.48
F17: =C17-B17+E17-D17 -> 0 | G17: =IF('Frais de transport janvier15'!F$53<'Frais de transport janvier15'!I$7,'Frais de transport janvier15'!I$8,'Frais de transport janvier15'!I$9) -> 0.55 | H17: =F17*M17 -> 0 | I17: =I16-1 -> 4966 | J17: 17 | L17: =L16+F17 -> 10736 | M17: =0.55-0.07*(L17>=5000) -> 0.48
F18: =C18-B18+E18-D18 -> 0 | G18: =IF('Frais de transport janvier15'!F$53<'Frais de transport janvier15'!I$7,'Frais de transport janvier15'!I$8,'Frais de transport janvier15'!I$9) -> 0.55 | H18: =F18*M18 -> 0 | I18: =I17-1 -> 4965 | J18: 18 | L18: =L17+F18 -> 10736 | M18: =0.55-0.07*(L18>=5000) -> 0.48
F19: =C19-B19+E19-D19 -> 0 | G19: =IF('Frais de transport janvier15'!F$53<'Frais de transport janvier15'!I$7,'Frais de transport janvier15'!I$8,'Frais de transport janvier15'!I$9) -> 0.55 | H19: =F19*M19 -> 0 | I19: =I18-1 -> 4964 | J19: 19 | L19: =L18+F19 -> 10736 | M19: =0.55-0.07*(L19>=5000) -> 0.48
F20: =C20-B20+E20-D20 -> 0 | G20: =IF('Frais de transport janvier15'!F$53<'Frais de transport janvier15'!I$7,'Frais de transport janvier15'!I$8,'Frais de transport janvier15'!I$9) -> 0.55 | H20: =F20*M20 -> 0 | I20: =I19-1 -> 4963 | J20: 20 | L20: =L19+F20 -> 10736 | M20: =0.55-0.07*(L20>=5000) -> 0.48
F21: =C21-B21+E21-D21 -> 0 | G21: =IF('Frais de transport janvier15'!F$53<'Frais de transport janvier15'!I$7,'Frais de transport janvier15'!I$8,'Frais de transport janvier15'!I$9) -> 0.55 | H21: =F21*M21 -> 0 | I21: =I20-1 -> 4962 | J21: 21 | L21: =L20+F21 -> 10736 | M21: =0.55-0.07*(L21>=5000) -> 0.48
F22: =C22-B22+E22-D22 -> 0 | G22: =IF('Frais de transport janvier15'!F$53<'Frais de transport janvier15'!I$7,'Frais de transport janvier15'!I$8,'Frais de transport janvier15'!I$9) -> 0.55 | H22: =F22*M22 -> 0 | I22: =I21-1 -> 4961 | J22: 22 | L22: =L21+F22 -> 10736 | M22: =0.55-0.07*(L22>=5000) -> 0.48
... F47: =C47-B47+E47-D47 -> 0 | G47: =IF('Frais de transport janvier15'!F$53<'Frais de transport janvier15'!I$7,'Frais de transport janvier15'!I$8,'Frais de transport janvier15'!I$9) -> 0.55 | H47: =F47*M47 -> 0 | I47: =I46-1 -> 4936 | J47: 47 | L47: =L46+F47 -> 10736 | M47: =0.55-0.07*(L47>=5000) -> 0.48
A48: GRAND TOTAL | F48: =SUM(F7:F47) -> 10736 | H48: =SUM(H7:H31) -> 5349.28 | J48: 48
J49: 49
J50: 50

Sheet Frais transport mars 15
A4: Kilométrage | D4: Début le | E4: ='Frais transport février 15'!G4+1 -> 43160 | F4: Termine le | G4: =E4+29 -> 43189
A6: Date | B6: Départ | C6: Arrivé | D6: Départ | E6: Arrivé | F6: KM | G6: Montant alloué | H6: TOTAL
F7: =C7-B7+E7-D7 -> 0 | G7: =IF('Frais de transport janvier15'!F$53<'Frais transport mars 15'!I$7,I8,I9) -> 0.55 | H7: =F7*G7 -> 0 | I7: 5000
F8: =C8-B8+E8-D8 -> 0 | G8: =IF('Frais de transport janvier15'!F$53<'Frais transport mars 15'!I$7,'Frais transport mars 15'!I$8,'Frais transport mars 15'!I$9) -> 0.55 | H8: =F8*G8 -> 0 | I8: 0.55
F9: =C9-B9+E9-D9 -> 0 | G9: =IF('Frais de transport janvier15'!F$53<'Frais transport mars 15'!I$7,'Frais transport mars 15'!I$8,'Frais transport mars 15'!I$9) -> 0.55 | H9: =F9*G9 -> 0 | I9: 0.48
F10: =C10-B10+E10-D10 -> 0 | G10: =IF('Frais de transport janvier15'!F$53<'Frais transport mars 15'!I$7,'Frais transport mars 15'!I$8,'Frais transport mars 15'!I$9) -> 0.55 | H10: =F10*G10 -> 0 | I10: 4936
F11: =C11-B11+E11-D11 -> 0 | G11: =IF('Frais de transport janvier15'!F$53<'Frais transport mars 15'!I$7,'Frais transport mars 15'!I$8,'Frais transport mars 15'!I$9) -> 0.55 | H11: =F11*G11 -> 0 | I11: 4935
F12: =C12-B12+E12-D12 -> 0 | G12: =IF('Frais de transport janvier15'!F$53<'Frais transport mars 15'!I$7,'Frais transport mars 15'!I$8,'Frais transport mars 15'!I$9) -> 0.55 | H12: =F12*G12 -> 0 | I12: 4934
F13: =C13-B13+E13-D13 -> 0 | G13: =IF('Frais de transport janvier15'!F$53<'Frais transport mars 15'!I$7,'Frais transport mars 15'!I$8,'Frais transport mars 15'!I$9) -> 0.55 | H13: =F13*G13 -> 0 | I13: 4933
F14: =C14-B14+E14-D14 -> 0 | G14: =IF('Frais de transport janvier15'!F$53<'Frais transport mars 15'!I$7,'Frais transport mars 15'!I$8,'Frais transport mars 15'!I$9) -> 0.55 | H14: =F14*G14 -> 0 | I14: 4932
F15: =C15-B15+E15-D15 -> 0 | G15: =IF('Frais de transport janvier15'!F$53<'Frais transport mars 15'!I$7,'Frais transport mars 15'!I$8,'Frais transport mars 15'!I$9) -> 0.55 | H15: =F15*G15 -> 0 | I15: 4931
F16: =C16-B16+E16-D16 -> 0 | G16: =IF('Frais de transport janvier15'!F$53<'Frais transport mars 15'!I$7,'Frais transport mars 15'!I$8,'Frais transport mars 15'!I$9) -> 0.55 | H16: =F16*G16 -> 0 | I16: 4930
F17: =C17-B17+E17-D17 -> 0 | G17: =IF('Frais de transport janvier15'!F$53<'Frais transport mars 15'!I$7,'Frais transport mars 15'!I$8,'Frais transport mars 15'!I$9) -> 0.55 | H17: =F17*G17 -> 0 | I17: 4929
F18: =C18-B18+E18-D18 -> 0 | G18: =IF('Frais de transport janvier15'!F$53<'Frais transport mars 15'!I$7,'Frais transport mars 15'!I$8,'Frais transport mars 15'!I$9) -> 0.55 | H18: =F18*G18 -> 0 | I18: 4928
F19: =C19-B19+E19-D19 -> 0 | G19: =IF('Frais de transport janvier15'!F$53<'Frais transport mars 15'!I$7,'Frais transport mars 15'!I$8,'Frais transport mars 15'!I$9) -> 0.55 | H19: =F19*G19 -> 0 | I19: 4927
... F67: =C67-B67+E67-D67 -> 0 | G67: =IF('Frais de transport janvier15'!F$53<'Frais transport mars 15'!I$7,'Frais transport mars 15'!I$8,'Frais transport mars 15'!I$9) -> 0.55 | H67: =F67*G67 -> 0 | I67: 4879
A68: GRAND TOTAL | F68: =SUM(F7:F67) -> 0

Sheet Frais transport avril 15
A4: Kilométrage | D4: Début le | E4: ='Frais transport mars 15'!E4+31 -> 43191 | F4: Termine le | G4: =E4+29 -> 43220
A6: Date | B6: Départ | C6: Arrivé | D6: Départ | E6: Arrivé | F6: KM | G6: Montant alloué | H6: TOTAL | L6: 0.55
F7: =C7-B7+E7-D7 -> 0 | G7: =IF(F7<I12,I$8,I$9) -> 0.55 | H7: =F7*G7 -> 0 | I7: 5000 | L7: 0.48
F8: =C8-B8+E8-D8 -> 0 | G8: =IF(F8<I13,I$8,I$9) -> 0.55 | H8: =F8*G8 -> 0 | I8: 0.55
F9: =C9-B9+E9-D9 -> 0 | G9: =IF(F9<I14,I$8,I$9) -> 0.55 | H9: =F9*G9 -> 0 | I9: 0.48
F10: =C10-B10+E10-D10 -> 0 | G10: =IF(F10<I15,I$8,I$9) -> 0.55 | H10: =F10*G10 -> 0
F11: =C11-B11+E11-D11 -> 0 | G11: =IF(F11<I16,I$8,I$9) -> 0.55 | H11: =F11*G11 -> 0 | I11: 4898
F12: =C12-B12+E12-D12 -> 0 | G12: =IF(F12<I17,I$8,I$9) -> 0.55 | H12: =F12*G12 -> 0 | I12: =I11-1 -> 4897
F13: =C13-B13+E13-D13 -> 0 | G13: =IF(F13<I18,I$8,I$9) -> 0.55 | H13: =F13*G13 -> 0 | I13: =I12-1 -> 4896
F14: =C14-B14+E14-D14 -> 0 | G14: =IF(F14<I19,I$8,I$9) -> 0.55 | H14: =F14*G14 -> 0 | I14: =I13-1 -> 4895
F15: =C15-B15+E15-D15 -> 0 | G15: =IF(F15<I20,I$8,I$9) -> 0.55 | H15: =F15*G15 -> 0 | I15: =I14-1 -> 4894
F16: =C16-B16+E16-D16 -> 0 | G16: =IF(F16<I21,I$8,I$9) -> 0.55 | H16: =F16*G16 -> 0 | I16: =I15-1 -> 4893
F17: =C17-B17+E17-D17 -> 0 | G17: =IF(F17<I22,I$8,I$9) -> 0.55 | H17: =F17*G17 -> 0 | I17: =I16-1 -> 4892
F18: =C18-B18+E18-D18 -> 0 | G18: =IF(F18<I23,I$8,I$9) -> 0.55 | H18: =F18*G18 -> 0 | I18: =I17-1 -> 4891
F19: =C19-B19+E19-D19 -> 0 | G19: =IF(F19<I24,I$8,I$9) -> 0.55 | H19: =F19*G19 -> 0 | I19: =I18-1 -> 4890
F20: =C20-B20+E20-D20 -> 0 | G20: =IF(F20<I25,I$8,I$9) -> 0.55 | H20: =F20*G20 -> 0 | I20: =I19-1 -> 4889
F21: =C21-B21+E21-D21 -> 0 | G21: =IF(F21<I26,I$8,I$9) -> 0.55 | H21: =F21*G21 -> 0 | I21: =I20-1 -> 4888
F22: =C22-B22+E22-D22 -> 0 | G22: =IF(F22<I27,I$8,I$9) -> 0.55 | H22: =F22*G22 -> 0 | I22: =I21-1 -> 4887
F23: =C23-B23+E23-D23 -> 0 | G23: =IF(F23<I28,I$8,I$9) -> 0.55 | H23: =F23*G23 -> 0 | I23: =I22-1 -> 4886
... F44: =C44-B44+E44-D44 -> 0 | G44: =IF(F44<I49,I$8,I$9) -> 0.55 | H44: =F44*G44 -> 0 | I44: =I43-1 -> 4865
F45: =C45-B45+E45-D45 -> 0 | G45: =IF(F45<I46,I$8,I$9) -> 0.55 | H45: =F45*G45 -> 0 | I45: =I44-1 -> 4864
F46: =C46-B46+E46-D46 -> 0 | G46: =IF(F46<I47,I$8,I$9) -> 0.55 | H46: =F46*G46 -> 0 | I46: =I45-1 -> 4863
F47: =C47-B47+E47-D47 -> 0 | G47: =IF(F47<I48,I$8,I$9) -> 0.55 | H47: =F47*G47 -> 0 | I47: =I46-1 -> 4862
F48: =C48-B48+E48-D48 -> 0 | G48: =IF(F48<I49,I$8,I$9) -> 0.55 | H48: =F48*G48 -> 0 | I48: =I47-1 -> 4861
F49: =C49-B49+E49-D49 -> 0 | G49: =IF(F49<I50,I$8,I$9) -> 0.55 | H49: =F49*G49 -> 0 | I49: =I48-1 -> 4860
A50: GRAND TOTAL | F50: =SUM(F7:F49) -> 0 | I50: =I49-1 -> 4859

Sheet Frais transport mai 15
A4: Kilométrage | D4: Début le | E4: ='Frais transport avril 15'!E4+30 -> 43221 | F4: Termine le | G4: =E4+30 -> 43251
K5: 0.55
A6: Date | B6: Départ | C6: Arrivé | D6: Départ | E6: Arrivé | F6: KM | G6: Montant alloué | H6: TOTAL | K6: 0.48
F7: =C7-B7+E7-D7 -> 0 | G7: =IF(F7<I11,I$8,I$9) -> 0.55 | H7: =F7*G7 -> 0 | I7: 5000
F8: =C8-B8+E8-D8 -> 0 | G8: =IF(F8<I12,I$8,I$9) -> 0.55 | H8: =F8*G8 -> 0 | I8: 0.55
F9: =C9-B9+E9-D9 -> 0 | G9: =IF(F9<I13,I$8,I$9) -> 0.55 | H9: =F9*G9 -> 0 | I9: 0.48
F10: =C10-B10+E10-D10 -> 0 | G10: =IF(F10<I14,I$8,I$9) -> 0.55 | H10: =F10*G10 -> 0
F11: =C11-B11+E11-D11 -> 0 | G11: =IF(F11<I15,I$8,I$9) -> 0.55 | H11: =F11*G11 -> 0 | I11: 4859
F12: =C12-B12+E12-D12 -> 0 | G12: =IF(F12<I16,I$8,I$9) -> 0.55 | H12: =F12*G12 -> 0 | I12: =I11-1 -> 4858
F13: =C13-B13+E13-D13 -> 0 | G13: =IF(F13<I17,I$8,I$9) -> 0.55 | H13: =F13*G13 -> 0 | I13: =I12-1 -> 4857
F14: =C14-B14+E14-D14 -> 0 | G14: =IF(F14<I18,I$8,I$9) -> 0.55 | H14: =F14*G14 -> 0 | I14: =I13-1 -> 4856
F15: =C15-B15+E15-D15 -> 0 | G15: =IF(F15<I19,I$8,I$9) -> 0.55 | H15: =F15*G15 -> 0 | I15: =I14-1 -> 4855
F16: =C16-B16+E16-D16 -> 0 | G16: =IF(F16<I20,I$8,I$9) -> 0.55 | H16: =F16*G16 -> 0 | I16: =I15-1 -> 4854
F17: =C17-B17+E17-D17 -> 0 | G17: =IF(F17<I21,I$8,I$9) -> 0.55 | H17: =F17*G17 -> 0 | I17: =I16-1 -> 4853
F18: =C18-B18+E18-D18 -> 0 | G18: =IF(F18<I22,I$8,I$9) -> 0.55 | H18: =F18*G18 -> 0 | I18: =I17-1 -> 4852
F19: =C19-B19+E19-D19 -> 0 | G19: =IF(F19<I23,I$8,I$9) -> 0.55 | H19: =F19*G19 -> 0 | I19: =I18-1 -> 4851
F20: =C20-B20+E20-D20 -> 0 | G20: =IF(F20<I24,I$8,I$9) -> 0.55 | H20: =F20*G20 -> 0 | I20: =I19-1 -> 4850
F21: =C21-B21+E21-D21 -> 0 | G21: =IF(F21<I25,I$8,I$9) -> 0.55 | H21: =F21*G21 -> 0 | I21: =I20-1 -> 4849
F22: =C22-B22+E22-D22 -> 0 | G22: =IF(F22<I26,I$8,I$9) -> 0.55 | H22: =F22*G22 -> 0 | I22: =I21-1 -> 4848
F23: =C23-B23+E23-D23 -> 0 | G23: =IF(F23<I27,I$8,I$9) -> 0.55 | H23: =F23*G23 -> 0 | I23: =I22-1 -> 4847
... F45: =C45-B45+E45-D45 -> 0 | G45: =IF(F45<I49,I$8,I$9) -> 0.55 | H45: =F45*G45 -> 0 | I45: =I44-1 -> 4825
F46: =C46-B46+E46-D46 -> 0 | G46: =IF(F46<I47,I$8,I$9) -> 0.55 | H46: =F46*G46 -> 0 | I46: =I45-1 -> 4824
F47: =C47-B47+E47-D47 -> 0 | G47: =IF(F47<I48,I$8,I$9) -> 0.55 | H47: =F47*G47 -> 0 | I47: =I46-1 -> 4823
F48: =C48-B48+E48-D48 -> 0 | G48: =IF(F48<I49,I$8,I$9) -> 0.55 | H48: =F48*G48 -> 0 | I48: =I47-1 -> 4822
F49: =C49-B49+E49-D49 -> 0 | G49: =IF(F49<I50,I$8,I$9) -> 0.55 | H49: =F49*G49 -> 0 | I49: =I48-1 -> 4821
F50: =C50-B50+E50-D50 -> 0 | G50: =IF(F50<I51,I$8,I$9) -> 0.55 | I50: =I49-1 -> 4820
A51: GRAND TOTAL | F51: =SUM(F7:F49) -> 0 | I51: =I50-1 -> 4819

Sheet Frais transport juin15
A4: Kilométrage | D4: Début le | E4: ='Frais transport mai 15'!E4+31 -> 43252 | F4: Termine le | G4: =E4+29 -> 43281
A6: Date | B6: Départ | C6: Arrivé | D6: Départ | E6: Arrivé | F6: KM | G6: Montant alloué | H6: TOTAL | K6: 0.55
F7: =C7-B7+E7-D7 -> 0 | G7: =IF(F7<I11,I$8,I$9) -> 0.55 | H7: =F7*G7 -> 0 | I7: 5000 | K7: 0.48
F8: =C8-B8+E8-D8 -> 0 | G8: =IF(F8<I12,I$8,I$9) -> 0.55 | H8: =F8*G8 -> 0 | I8: 0.55
F9: =C9-B9+E9-D9 -> 0 | G9: =IF(F9<I13,I$8,I$9) -> 0.55 | H9: =F9*G9 -> 0 | I9: 0.48
F10: =C10-B10+E10-D10 -> 0 | G10: =IF(F10<I14,I$8,I$9) -> 0.55 | H10: =F10*G10 -> 0
F11: =C11-B11+E11-D11 -> 0 | G11: =IF(F11<I15,I$8,I$9) -> 0.55 | H11: =F11*G11 -> 0 | I11: 4819 | J11: 11
F12: =C12-B12+E12-D12 -> 0 | G12: =IF(F12<I16,I$8,I$9) -> 0.55 | H12: =F12*G12 -> 0 | I12: =I11-1 -> 4818 | J12: 12
F13: =C13-B13+E13-D13 -> 0 | G13: =IF(F13<I17,I$8,I$9) -> 0.55 | H13: =F13*G13 -> 0 | I13: =I12-1 -> 4817 | J13: 13
F14: =C14-B14+E14-D14 -> 0 | G14: =IF(F14<I18,I$8,I$9) -> 0.55 | H14: =F14*G14 -> 0 | I14: =I13-1 -> 4816 | J14: 14
F15: =C15-B15+E15-D15 -> 0 | G15: =IF(F15<I19,I$8,I$9) -> 0.55 | H15: =F15*G15 -> 0 | I15: =I14-1 -> 4815 | J15: 15
F16: =C16-B16+E16-D16 -> 0 | G16: =IF(F16<I20,I$8,I$9) -> 0.55 | H16: =F16*G16 -> 0 | I16: =I15-1 -> 4814 | J16: 16
F17: =C17-B17+E17-D17 -> 0 | G17: =IF(F17<I21,I$8,I$9) -> 0.55 | H17: =F17*G17 -> 0 | I17: =I16-1 -> 4813 | J17: 17
F18: =C18-B18+E18-D18 -> 0 | G18: =IF(F18<I22,I$8,I$9) -> 0.55 | H18: =F18*G18 -> 0 | I18: =I17-1 -> 4812 | J18: 18
F19: =C19-B19+E19-D19 -> 0 | G19: =IF(F19<I23,I$8,I$9) -> 0.55 | H19: =F19*G19 -> 0 | I19: =I18-1 -> 4811 | J19: 19
F20: =C20-B20+E20-D20 -> 0 | G20: =IF(F20<I24,I$8,I$9) -> 0.55 | H20: =F20*G20 -> 0 | I20: =I19-1 -> 4810 | J20: 20
F21: =C21-B21+E21-D21 -> 0 | G21: =IF(F21<I25,I$8,I$9) -> 0.55 | H21: =F21*G21 -> 0 | I21: =I20-1 -> 4809 | J21: 21
F22: =C22-B22+E22-D22 -> 0 | G22: =IF(F22<I26,I$8,I$9) -> 0.55 | H22: =F22*G22 -> 0 | I22: =I21-1 -> 4808 | J22: 22
F23: =C23-B23+E23-D23 -> 0 | G23: =IF(F23<I27,I$8,I$9) -> 0.55 | H23: =F23*G23 -> 0 | I23: =I22-1 -> 4807 | J23: 23
... F47: =C47-B47+E47-D47 -> 0 | G47: =IF(F47<I51,I$8,I$9) -> 0.55 | H47: =F47*G47 -> 0 | I47: =I46-1 -> 4783 | J47: 47
H48: =F48*G48 -> 0 | I48: =I47-1 -> 4782 | J48: 48
H49: =F49*G49 -> 0 | I49: =I48-1 -> 4781 | J49: 49
I50: =I49-1 -> 4780 | J50: 50
A51: GRAND TOTAL | F51: =SUM(F7:F49) -> 0 | I51: =I50-1 -> 4779 | J51: 51

Sheet Frais de transports juillet 15
A4: Kilométrage | D4: Début le | E4: ='Frais transport juin15'!E4+30 -> 43282 | F4: Termine le | G4: =E4+30 -> 43312
A6: Date | B6: Départ | C6: Arrivé | D6: Départ | E6: Arrivé | F6: KM | G6: Montant alloué | H6: TOTAL
F7: =C7-B7+E7-D7 -> 0 | G7: =IF(F7<I11,I$8,I$9) -> 0.55 | H7: =F7*G7 -> 0 | I7: 5000
F8: =C8-B8+E8-D8 -> 0 | G8: =IF(F8<I12,I$8,I$9) -> 0.55 | H8: =F8*G8 -> 0 | I8: 0.55
F9: =C9-B9+E9-D9 -> 0 | G9: =IF(F9<I13,I$8,I$9) -> 0.55 | H9: =F9*G9 -> 0 | I9: 0.48
F10: =C10-B10+E10-D10 -> 0 | G10: =IF(F10<I14,I$8,I$9) -> 0.55 | H10: =F10*G10 -> 0
F11: =C11-B11+E11-D11 -> 0 | G11: =IF(F11<I15,I$8,I$9) -> 0.55 | H11: =F11*G11 -> 0 | I11: 4779
F12: =C12-B12+E12-D12 -> 0 | G12: =IF(F12<I16,I$8,I$9) -> 0.55 | H12: =F12*G12 -> 0 | I12: =I11-1 -> 4778
F13: =C13-B13+E13-D13 -> 0 | G13: =IF(F13<I17,I$8,I$9) -> 0.55 | H13: =F13*G13 -> 0 | I13: =I12-1 -> 4777
F14: =C14-B14+E14-D14 -> 0 | G14: =IF(F14<I18,I$8,I$9) -> 0.55 | H14: =F14*G14 -> 0 | I14: =I13-1 -> 4776
F15: =C15-B15+E15-D15 -> 0 | G15: =IF(F15<I19,I$8,I$9) -> 0.55 | H15: =F15*G15 -> 0 | I15: =I14-1 -> 4775
F16: =C16-B16+E16-D16 -> 0 | G16: =IF(F16<I20,I$8,I$9) -> 0.55 | H16: =F16*G16 -> 0 | I16: =I15-1 -> 4774
F17: =C17-B17+E17-D17 -> 0 | G17: =IF(F17<I21,I$8,I$9) -> 0.55 | H17: =F17*G17 -> 0 | I17: =I16-1 -> 4773
F18: =C18-B18+E18-D18 -> 0 | G18: =IF(F18<I22,I$8,I$9) -> 0.55 | H18: =F18*G18 -> 0 | I18: =I17-1 -> 4772
F19: =C19-B19+E19-D19 -> 0 | G19: =IF(F19<I23,I$8,I$9) -> 0.55 | H19: =F19*G19 -> 0 | I19: =I18-1 -> 4771
F20: =C20-B20+E20-D20 -> 0 | G20: =IF(F20<I24,I$8,I$9) -> 0.55 | H20: =F20*G20 -> 0 | I20: =I19-1 -> 4770
F21: =C21-B21+E21-D21 -> 0 | G21: =IF(F21<I25,I$8,I$9) -> 0.55 | H21: =F21*G21 -> 0 | I21: =I20-1 -> 4769
F22: =C22-B22+E22-D22 -> 0 | G22: =IF(F22<I26,I$8,I$9) -> 0.55 | H22: =F22*G22 -> 0 | I22: =I21-1 -> 4768
F23: =C23-B23+E23-D23 -> 0 | G23: =IF(F23<I27,I$8,I$9) -> 0.55 | H23: =F23*G23 -> 0 | I23: =I22-1 -> 4767
... F47: =C47-B47+E47-D47 -> 0 | G47: =IF(F47<I51,I$8,I$9) -> 0.55 | H47: =F47*G47 -> 0 | I47: =I46-1 -> 4743
H48: =F48*G48 -> 0 | I48: =I47-1 -> 4742
H49: =F49*G49 -> 0 | I49: =I48-1 -> 4741
H50: =F50*G50 -> 0 | I50: =I49-1 -> 4740
A51: GRAND TOTAL | F51: =SUM(F7:F49) -> 0 | I51: =I50-1 -> 4739

Sheet Frais de transports août 15
A4: Kilométrage | D4: Début le | E4: ='Frais de transports juillet 15'!E4+31 -> 43313 | F4: Termine le | G4: =E4+30 -> 43343
A6: Date | B6: Départ | C6: Arrivé | D6: Départ | E6: Arrivé | F6: KM | G6: Montant alloué | H6: TOTAL | K6: 0.55
F7: =C7-B7+E7-D7 -> 0 | G7: =IF(F7<I11,I$8,I$9) -> 0.55 | H7: =F7*G7 -> 0 | I7: 5000 | K7: 0.48
F8: =C8-B8+E8-D8 -> 0 | G8: =IF(F8<I12,I$8,I$9) -> 0.55 | H8: =F8*G8 -> 0 | I8: 0.55
F9: =C9-B9+E9-D9 -> 0 | G9: =IF(F9<I13,I$8,I$9) -> 0.55 | H9: =F9*G9 -> 0 | I9: 0.48
F10: =C10-B10+E10-D10 -> 0 | G10: =IF(F10<I14,I$8,I$9) -> 0.55 | H10: =F10*G10 -> 0
F11: =C11-B11+E11-D11 -> 0 | G11: =IF(F11<I15,I$8,I$9) -> 0.55 | H11: =F11*G11 -> 0 | I11: 4739
F12: =C12-B12+E12-D12 -> 0 | G12: =IF(F12<I16,I$8,I$9) -> 0.55 | H12: =F12*G12 -> 0 | I12: =I11-1 -> 4738
F13: =C13-B13+E13-D13 -> 0 | G13: =IF(F13<I17,I$8,I$9) -> 0.55 | H13: =F13*G13 -> 0 | I13: =I12-1 -> 4737
F14: =C14-B14+E14-D14 -> 0 | G14: =IF(F14<I18,I$8,I$9) -> 0.55 | H14: =F14*G14 -> 0 | I14: =I13-1 -> 4736
F15: =C15-B15+E15-D15 -> 0 | G15: =IF(F15<I19,I$8,I$9) -> 0.55 | H15: =F15*G15 -> 0 | I15: =I14-1 -> 4735
F16: =C16-B16+E16-D16 -> 0 | G16: =IF(F16<I20,I$8,I$9) -> 0.55 | H16: =F16*G16 -> 0 | I16: =I15-1 -> 4734
F17: =C17-B17+E17-D17 -> 0 | G17: =IF(F17<I21,I$8,I$9) -> 0.55 | H17: =F17*G17 -> 0 | I17: =I16-1 -> 4733
F18: =C18-B18+E18-D18 -> 0 | G18: =IF(F18<I22,I$8,I$9) -> 0.55 | H18: =F18*G18 -> 0 | I18: =I17-1 -> 4732
F19: =C19-B19+E19-D19 -> 0 | G19: =IF(F19<I23,I$8,I$9) -> 0.55 | H19: =F19*G19 -> 0 | I19: =I18-1 -> 4731
F20: =C20-B20+E20-D20 -> 0 | G20: =IF(F20<I24,I$8,I$9) -> 0.55 | H20: =F20*G20 -> 0 | I20: =I19-1 -> 4730
F21: =C21-B21+E21-D21 -> 0 | G21: =IF(F21<I25,I$8,I$9) -> 0.55 | H21: =F21*G21 -> 0 | I21: =I20-1 -> 4729
F22: =C22-B22+E22-D22 -> 0 | G22: =IF(F22<I26,I$8,I$9) -> 0.55 | H22: =F22*G22 -> 0 | I22: =I21-1 -> 4728 | L22: 1//
F23: =C23-B23+E23-D23 -> 0 | G23: =IF(F23<I27,I$8,I$9) -> 0.55 | H23: =F23*G23 -> 0 | I23: =I22-1 -> 4727
F24: =C24-B24+E24-D24 -> 0 | G24: =IF(F24<I28,I$8,I$9) -> 0.55 | H24: =F24*G24 -> 0 | I24: =I23-1 -> 4726
F25: =C25-B25+E25-D25 -> 0 | G25: =IF(F25<I29,I$8,I$9) -> 0.55 | H25: =F25*G25 -> 0 | I25: =I24-1 -> 4725
F26: =C26-B26+E26-D26 -> 0 | G26: =IF(F26<I30,I$8,I$9) -> 0.55 | H26: =F26*G26 -> 0 | I26: =I25-1 -> 4724
F27: =C27-B27+E27-D27 -> 0 | G27: =IF(F27<I31,I$8,I$9) -> 0.55 | H27: =F27*G27 -> 0 | I27: =I26-1 -> 4723
F28: =C28-B28+E28-D28 -> 0 | G28: =IF(F28<I32,I$8,I$9) -> 0.55 | H28: =F28*G28 -> 0 | I28: =I27-1 -> 4722
F29: =C29-B29+E29-D29 -> 0 | G29: =IF(F29<I34,I$8,I$9) -> 0.55 | H29: =F29*G29 -> 0 | I29: =I28-1 -> 4721
F30: =C30-B30+E30-D30 -> 0 | G30: =IF(F30<I35,I$8,I$9) -> 0.55 | H30: =F30*G30 -> 0 | I30: =I29-1 -> 4720
F31: =C31-B31+E31-D31 -> 0 | G31: =IF(F31<I36,I$8,I$9) -> 0.55 | H31: =F31*G31 -> 0 | I31: =I30-1 -> 4719
F32: =C32-B32+E32-D32 -> 0 | G32: =IF(F32<I37,I$8,I$9) -> 0.55 | H32: =F32*G32 -> 0 | I32: =I31-1 -> 4718
F33: =C33-B33+E33-D33 -> 0 | G33: =IF(F33<I38,I$8,I$9) -> 0.55 | H33: =F33*G33 -> 0 | I33: =I32-1 -> 4717
F34: =C34-B34+E34-D34 -> 0 | G34: =IF(F34<I39,I$8,I$9) -> 0.55 | H34: =F34*G34 -> 0 | I34: =I33-1 -> 4716
F35: =C35-B35+E35-D35 -> 0 | G35: =IF(F35<I40,I$8,I$9) -> 0.55 | H35: =F35*G35 -> 0 | I35: =I34-1 -> 4715
F36: =C36-B36+E36-D36 -> 0 | G36: =IF(F36<I41,I$8,I$9) -> 0.55 | H36: =F36*G36 -> 0 | I36: =I35-1 -> 4714
F37: =C37-B37+E37-D37 -> 0 | G37: =IF(F37<I42,I$8,I$9) -> 0.55 | H37: =F37*G37 -> 0 | I37: =I36-1 -> 4713
F38: =C38-B38+E38-D38 -> 0 | G38: =IF(F38<I43,I$8,I$9) -> 0.55 | H38: =F38*G38 -> 0 | I38: =I37-1 -> 4712
F39: =C39-B39+E39-D39 -> 0 | G39: =IF(F39<I44,I$8,I$9) -> 0.55 | H39: =F39*G39 -> 0 | I39: =I38-1 -> 4711
F40: =C40-B40+E40-D40 -> 0 | G40: =IF(F40<I45,I$8,I$9) -> 0.55 | H40: =F40*G40 -> 0 | I40: =I39-1 -> 4710
... F46: =C46-B46+E46-D46 -> 0 | G46: =IF(F46<I51,I$8,I$9) -> 0.55 | H46: =F46*G46 -> 0 | I46: =I45-1 -> 4704
H47: =F47*G47 -> 0 | I47: =I46-1 -> 4703
H48: =F48*G48 -> 0 | I48: =I47-1 -> 4702
H49: =F49*G49 -> 0 | I49: =I48-1 -> 4701
H50: =F50*G50 -> 0 | I50: =I49-1 -> 4700
A51: GRAND TOTAL | F51: =SUM(F7:F49) -> 0 | I51: =I50-F62+1 -> 4701

Sheet Frais de transport Septembre 15
A4: Kilométrage | D4: Début le | E4: ='Frais de transports août 15'!E4+31 -> 43344 | F4: Termine le | G4: =E4+29 -> 43373
K5: 0.55
A6: Date | B6: Départ | C6: Arrivé | D6: Départ | E6: Arrivé | F6: KM | G6: Montant alloué | H6: TOTAL | K6: 0.48
F7: =C7-B7+E7-D7 -> 0 | G7: =IF(F7<I11,I$8,I$9) -> 0.55 | H7: =F7*G7 -> 0 | I7: 5000
F8: =C8-B8+E8-D8 -> 0 | G8: =IF(F8<I12,I$8,I$9) -> 0.55 | H8: =F8*G8 -> 0 | I8: 0.55
F9: =C9-B9+E9-D9 -> 0 | G9: =IF(F9<I13,I$8,I$9) -> 0.55 | H9: =F9*G9 -> 0 | I9: 0.48
F10: =C10-B10+E10-D10 -> 0 | G10: =IF(F10<I14,I$8,I$9) -> 0.55 | H10: =F10*G10 -> 0
F11: =C11-B11+E11-D11 -> 0 | G11: =IF(F11<I15,I$8,I$9) -> 0.55 | H11: =F11*G11 -> 0 | I11: 4701
F12: =C12-B12+E12-D12 -> 0 | G12: =IF(F12<I16,I$8,I$9) -> 0.55 | H12: =F12*G12 -> 0 | I12: =I11-1 -> 4700
F13: =C13-B13+E13-D13 -> 0 | G13: =IF(F13<I17,I$8,I$9) -> 0.55 | H13: =F13*G13 -> 0 | I13: =I12-1 -> 4699
F14: =C14-B14+E14-D14 -> 0 | G14: =IF(F14<I18,I$8,I$9) -> 0.55 | H14: =F14*G14 -> 0 | I14: =I13-1 -> 4698
F15: =C15-B15+E15-D15 -> 0 | G15: =IF(F15<I19,I$8,I$9) -> 0.55 | H15: =F15*G15 -> 0 | I15: =I14-1 -> 4697
F16: =C16-B16+E16-D16 -> 0 | G16: =IF(F16<I20,I$8,I$9) -> 0.55 | H16: =F16*G16 -> 0 | I16: =I15-1 -> 4696
F17: =C17-B17+E17-D17 -> 0 | G17: =IF(F17<I21,I$8,I$9) -> 0.55 | H17: =F17*G17 -> 0 | I17: =I16-1 -> 4695
F18: =C18-B18+E18-D18 -> 0 | G18: =IF(F18<I22,I$8,I$9) -> 0.55 | H18: =F18*G18 -> 0 | I18: =I17-1 -> 4694
F19: =C19-B19+E19-D19 -> 0 | G19: =IF(F19<I23,I$8,I$9) -> 0.55 | H19: =F19*G19 -> 0 | I19: =I18-1 -> 4693
F20: =C20-B20+E20-D20 -> 0 | G20: =IF(F20<I24,I$8,I$9) -> 0.55 | H20: =F20*G20 -> 0 | I20: =I19-1 -> 4692
F21: =C21-B21+E21-D21 -> 0 | G21: =IF(F21<I25,I$8,I$9) -> 0.55 | H21: =F21*G21 -> 0 | I21: =I20-1 -> 4691
F22: =C22-B22+E22-D22 -> 0 | G22: =IF(F22<I26,I$8,I$9) -> 0.55 | H22: =F22*G22 -> 0 | I22: =I21-1 -> 4690
F23: =C23-B23+E23-D23 -> 0 | G23: =IF(F23<I27,I$8,I$9) -> 0.55 | H23: =F23*G23 -> 0 | I23: =I22-1 -> 4689
... F47: =C47-B47+E47-D47 -> 0 | G47: =IF(F47<I51,I$8,I$9) -> 0.55 | H47: =F47*G47 -> 0 | I47: =I46-1 -> 4665
H48: =F48*G48 -> 0 | I48: =I47-1 -> 4664
H49: =F49*G49 -> 0 | I49: =I48-1 -> 4663
I50: =I49-1 -> 4662
A51: GRAND TOTAL | F51: =SUM(F7:F49) -> 0 | I51: =I50-1 -> 4661

Sheet Frais transport Octobre 15
A4: Kilométrage | D4: Début le | E4: ='Frais de transport Septembre 15'!E4+30 -> 43374 | F4: Termine le | G4: =E4+30 -> 43404
L5: 0.55
A6: Date | B6: Départ | C6: Arrivé | D6: Départ | E6: Arrivé | F6: KM | G6: Montant alloué | H6: TOTAL | L6: 0.48
F7: =C7-B7+E7-D7 -> 0 | G7: =IF(F7<I11,I$8,I$9) -> 0.55 | H7: =F7*G7 -> 0 | I7: 5000
F8: =C8-B8+E8-D8 -> 0 | G8: =IF(F8<I12,I$8,I$9) -> 0.55 | H8: =F8*G8 -> 0 | I8: 0.55
F9: =C9-B9+E9-D9 -> 0 | G9: =IF(F9<I13,I$8,I$9) -> 0.55 | H9: =F9*G9 -> 0 | I9: 0.48
F10: =C10-B10+E10-D10 -> 0 | G10: =IF(F10<I14,I$8,I$9) -> 0.55 | H10: =F10*G10 -> 0
F11: =C11-B11+E11-D11 -> 0 | G11: =IF(F11<I15,I$8,I$9) -> 0.55 | H11: =F11*G11 -> 0 | I11: 4661
F12: =C12-B12+E12-D12 -> 0 | G12: =IF(F12<I16,I$8,I$9) -> 0.55 | H12: =F12*G12 -> 0 | I12: =I11-1 -> 4660
F13: =C13-B13+E13-D13 -> 0 | G13: =IF(F13<I17,I$8,I$9) -> 0.55 | H13: =F13*G13 -> 0 | I13: =I12-1 -> 4659
F14: =C14-B14+E14-D14 -> 0 | G14: =IF(F14<I18,I$8,I$9) -> 0.55 | H14: =F14*G14 -> 0 | I14: =I13-1 -> 4658
F15: =C15-B15+E15-D15 -> 0 | G15: =IF(F15<I19,I$8,I$9) -> 0.55 | H15: =F15*G15 -> 0 | I15: =I14-1 -> 4657
F16: =C16-B16+E16-D16 -> 0 | G16: =IF(F16<I20,I$8,I$9) -> 0.55 | H16: =F16*G16 -> 0 | I16: =I15-1 -> 4656
F17: =C17-B17+E17-D17 -> 0 | G17: =IF(F17<I21,I$8,I$9) -> 0.55 | H17: =F17*G17 -> 0 | I17: =I16-1 -> 4655
F18: =C18-B18+E18-D18 -> 0 | G18: =IF(F18<I22,I$8,I$9) -> 0.55 | H18: =F18*G18 -> 0 | I18: =I17-1 -> 4654
F19: =C19-B19+E19-D19 -> 0 | G19: =IF(F19<I23,I$8,I$9) -> 0.55 | H19: =F19*G19 -> 0 | I19: =I18-1 -> 4653
F20: =C20-B20+E20-D20 -> 0 | G20: =IF(F20<I24,I$8,I$9) -> 0.55 | H20: =F20*G20 -> 0 | I20: =I19-1 -> 4652
F21: =C21-B21+E21-D21 -> 0 | G21: =IF(F21<I25,I$8,I$9) -> 0.55 | H21: =F21*G21 -> 0 | I21: =I20-1 -> 4651
F22: =C22-B22+E22-D22 -> 0 | G22: =IF(F22<I26,I$8,I$9) -> 0.55 | H22: =F22*G22 -> 0 | I22: =I21-1 -> 4650
F23: =C23-B23+E23-D23 -> 0 | G23: =IF(F23<I27,I$8,I$9) -> 0.55 | H23: =F23*G23 -> 0 | I23: =I22-1 -> 4649
... F49: =C49-B49+E49-D49 -> 0 | G49: =IF(F49<I53,I$8,I$9) -> 0.48 | H49: =F49*G49 -> 0 | I49: =I48-1 -> 4623
I50: =I49-1 -> 4622
A51: GRAND TOTAL | F51: =SUM(F7:F49) -> 0 | I51: =I50-1 -> 4621

Sheet Frais transport Novembre 15
A4: Kilométrage | D4: Début le | E4: ='Frais transport Octobre 15'!E4+31 -> 43405 | F4: Termine le | G4: =E4+29 -> 43434
K5: 0.55
A6: Date | B6: Départ | C6: Arrivé | D6: Départ | E6: Arrivé | F6: KM | G6: Montant alloué | H6: TOTAL | K6: 0.48
F7: =C7-B7+E7-D7 -> 0 | G7: =IF(F7<I11,I$8,I$9) -> 0.55 | H7: =F7*G7 -> 0 | I7: 5000
F8: =C8-B8+E8-D8 -> 0 | G8: =IF(F8<I12,I$8,I$9) -> 0.55 | H8: =F8*G8 -> 0 | I8: 0.55
F9: =C9-B9+E9-D9 -> 0 | G9: =IF(F9<I13,I$8,I$9) -> 0.55 | H9: =F9*G9 -> 0 | I9: 0.48
F10: =C10-B10+E10-D10 -> 0 | G10: =IF(F10<I14,I$8,I$9) -> 0.55 | H10: =F10*G10 -> 0
F11: =C11-B11+E11-D11 -> 0 | G11: =IF(F11<I15,I$8,I$9) -> 0.55 | H11: =F11*G11 -> 0 | I11: 4882
F12: =C12-B12+E12-D12 -> 0 | G12: =IF(F12<I16,I$8,I$9) -> 0.55 | H12: =F12*G12 -> 0 | I12: =I11-F8+1 -> 4883
F13: =C13-B13+E13-D13 -> 0 | G13: =IF(F13<I17,I$8,I$9) -> 0.55 | H13: =F13*G13 -> 0 | I13: =I12-F9+1 -> 4884
F14: =C14-B14+E14-D14 -> 0 | G14: =IF(F14<I18,I$8,I$9) -> 0.55 | H14: =F14*G14 -> 0 | I14: =I13-F10+1 -> 4885
F15: =C15-B15+E15-D15 -> 0 | G15: =IF(F15<I19,I$8,I$9) -> 0.55 | H15: =F15*G15 -> 0 | I15: =I14-F11+1 -> 4886
F16: =C16-B16+E16-D16 -> 0 | G16: =IF(F16<I20,I$8,I$9) -> 0.55 | H16: =F16*G16 -> 0 | I16: =I15-F12+1 -> 4887
F17: =C17-B17+E17-D17 -> 0 | G17: =IF(F17<I21,I$8,I$9) -> 0.55 | H17: =F17*G17 -> 0 | I17: =I16-F13+1 -> 4888
F18: =C18-B18+E18-D18 -> 0 | G18: =IF(F18<I22,I$8,I$9) -> 0.55 | H18: =F18*G18 -> 0 | I18: =I17-F29+1 -> 4889
F19: =C19-B19+E19-D19 -> 0 | G19: =IF(F19<I23,I$8,I$9) -> 0.55 | H19: =F19*G19 -> 0 | I19: =I18-F30+1 -> 4890
F20: =C20-B20+E20-D20 -> 0 | G20: =IF(F20<I24,I$8,I$9) -> 0.55 | H20: =F20*G20 -> 0 | I20: =I19-F31+1 -> 4891
F21: =C21-B21+E21-D21 -> 0 | G21: =IF(F21<I25,I$8,I$9) -> 0.55 | H21: =F21*G21 -> 0 | I21: =I20-F32+1 -> 4892
F22: =C22-B22+E22-D22 -> 0 | G22: =IF(F22<I26,I$8,I$9) -> 0.55 | H22: =F22*G22 -> 0 | I22: =I21-F33+1 -> 4893
F23: =C23-B23+E23-D23 -> 0 | G23: =IF(F23<I27,I$8,I$9) -> 0.55 | H23: =F23*G23 -> 0 | I23: =I22-F34+1 -> 4894
F24: =C24-B24+E24-D24 -> 0 | G24: =IF(F24<I28,I$8,I$9) -> 0.55 | H24: =F24*G24 -> 0 | I24: =I23-F35+1 -> 4895
F25: =C25-B25+E25-D25 -> 0 | G25: =IF(F25<I29,I$8,I$9) -> 0.55 | H25: =F25*G25 -> 0 | I25: =I24-F36+1 -> 4896
F26: =C26-B26+E26-D26 -> 0 | G26: =IF(F26<I30,I$8,I$9) -> 0.55 | H26: =F26*G26 -> 0 | I26: =I25-F37+1 -> 4897
F27: =C27-B27+E27-D27 -> 0 | G27: =IF(F27<I31,I$8,I$9) -> 0.55 | H27: =F27*G27 -> 0 | I27: =I26-F38+1 -> 4898
F28: =C28-B28+E28-D28 -> 0 | G28: =IF(F28<I32,I$8,I$9) -> 0.55 | H28: =F28*G28 -> 0 | I28: =I27-F39+1 -> 4899
F29: =C29-B29+E29-D29 -> 0 | G29: =IF(F29<I33,I$8,I$9) -> 0.55 | H29: =F29*G29 -> 0 | I29: =I28-F40+1 -> 4900
... F47: =C47-B47+E47-D47 -> 0 | G47: =IF(F47<I51,I$8,I$9) -> 0.55 | H47: =F47*G47 -> 0 | I47: =I46-F58+1 -> 4918
H48: =F48*G48 -> 0 | I48: =I47-F59+1 -> 4919
H49: =F49*G49 -> 0 | I49: =I48-F60+1 -> 4920
I50: =I49-F61+1 -> 4921
A51: GRAND TOTAL | F51: =SUM(F7:F49) -> 0 | I51: =I50-F62+1 -> 4922

Sheet Frais transport décembre 15
A4: Kilométrage | D4: Début le | E4: ='Frais transport Novembre 15'!E4+30 -> 43435 | F4: Termine le | G4: =E4+30 -> 43465
K5: 0.55
A6: Date | B6: Départ | C6: Arrivé | D6: Départ | E6: Arrivé | F6: KM | G6: Montant alloué | H6: TOTAL | K6: 0.48
A7: Inscrire le kilométrage à la fin de l'année | F7: =C7-B7+E7-D7 -> 0 | G7: =IF(F7<I12,I$8,I$9) -> 0.55 | H7: =F7*G7 -> 0 | I7: 5000
F8: =C8-B8+E8-D8 -> 0 | G8: =IF(F8<I13,I$8,I$9) -> 0.55 | H8: =F8*G8 -> 0 | I8: 0.55
F9: =C9-B9+E9-D9 -> 0 | G9: =IF(F9<I14,I$8,I$9) -> 0.55 | H9: =F9*G9 -> 0 | I9: 0.48
F10: =C10-B10+E10-D10 -> 0 | G10: =IF(F10<I15,I$8,I$9) -> 0.55 | H10: =F10*G10 -> 0
F11: =C11-B11+E11-D11 -> 0 | G11: =IF(F11<I16,I$8,I$9) -> 0.55 | H11: =F11*G11 -> 0 | I11: 4922
F12: =C12-B12+E12-D12 -> 0 | G12: =IF(F12<I17,I$8,I$9) -> 0.55 | H12: =F12*G12 -> 0 | I12: =I11-F8+1 -> 4923
F13: =C13-B13+E13-D13 -> 0 | G13: =IF(F13<I18,I$8,I$9) -> 0.55 | H13: =F13*G13 -> 0 | I13: =I12-F9+1 -> 4924
F14: =C14-B14+E14-D14 -> 0 | G14: =IF(F14<I19,I$8,I$9) -> 0.55 | H14: =F14*G14 -> 0 | I14: =I13-F10+1 -> 4925
F15: =C15-B15+E15-D15 -> 0 | G15: =IF(F15<I20,I$8,I$9) -> 0.55 | H15: =F15*G15 -> 0 | I15: =I14-F11+1 -> 4926
F16: =C16-B16+E16-D16 -> 0 | G16: =IF(F16<I21,I$8,I$9) -> 0.55 | H16: =F16*G16 -> 0 | I16: =I15-F12+1 -> 4927
F17: =C17-B17+E17-D17 -> 0 | G17: =IF(F17<I22,I$8,I$9) -> 0.55 | H17: =F17*G17 -> 0 | I17: =I16-F13+1 -> 4928
F18: =C18-B18+E18-D18 -> 0 | G18: =IF(F18<I23,I$8,I$9) -> 0.55 | H18: =F18*G18 -> 0 | I18: =I17-F29+1 -> 4929
F19: =C19-B19+E19-D19 -> 0 | G19: =IF(F19<I24,I$8,I$9) -> 0.55 | H19: =F19*G19 -> 0 | I19: =I18-F30+1 -> 4930
F20: =C20-B20+E20-D20 -> 0 | G20: =IF(F20<I25,I$8,I$9) -> 0.55 | H20: =F20*G20 -> 0 | I20: =I19-F31+1 -> 4931
F21: =C21-B21+E21-D21 -> 0 | G21: =IF(F21<I26,I$8,I$9) -> 0.55 | H21: =F21*G21 -> 0 | I21: =I20-F32+1 -> 4932
F22: =C22-B22+E22-D22 -> 0 | G22: =IF(F22<I27,I$8,I$9) -> 0.55 | H22: =F22*G22 -> 0 | I22: =I21-F33+1 -> 4933
F23: =C23-B23+E23-D23 -> 0 | G23: =IF(F23<I28,I$8,I$9) -> 0.55 | H23: =F23*G23 -> 0 | I23: =I22-F34+1 -> 4934
F24: =C24-B24+E24-D24 -> 0 | G24: =IF(F24<I29,I$8,I$9) -> 0.55 | H24: =F24*G24 -> 0 | I24: =I23-F35+1 -> 4935
F25: =C25-B25+E25-D25 -> 0 | G25: =IF(F25<I30,I$8,I$9) -> 0.55 | H25: =F25*G25 -> 0 | I25: =I24-F36+1 -> 4936
F26: =C26-B26+E26-D26 -> 0 | G26: =IF(F26<I31,I$8,I$9) -> 0.55 | H26: =F26*G26 -> 0 | I26: =I25-F37+1 -> 4937
F27: =C27-B27+E27-D27 -> 0 | G27: =IF(F27<I32,I$8,I$9) -> 0.55 | H27: =F27*G27 -> 0 | I27: =I26-F38+1 -> 4938
F28: =C28-B28+E28-D28 -> 0 | G28: =IF(F28<I33,I$8,I$9) -> 0.55 | H28: =F28*G28 -> 0 | I28: =I27-F39+1 -> 4939
F29: =C29-B29+E29-D29 -> 0 | G29: =IF(F29<I34,I$8,I$9) -> 0.55 | H29: =F29*G29 -> 0 | I29: =I28-F40+1 -> 4940
... F50: =C50-B50+E50-D50 -> 0 | G50: =IF(F50<I55,I$8,I$9) -> 0.48 | H50: =F50*G50 -> 0 | I50: =I49-F61+1 -> 4961
A51: GRAND TOTAL | F51: =SUM(F7:F49) -> 0 | H51: =SUM(H7:H50) -> 0 | I51: =I50-F62+1 -> 4962
I52: =I51-F63+1 -> 4963

Sheet Feuil9

Sheet Feuil8
