Workbook

Sheet Feuil1
C3: date | D3: interet | E3: duration
B4: feuille 2 | C4: 1 | D4: =Feuil2!D14 -> 41 | E4: =Feuil2!E14 -> 123
B5: feuille 3 | C5: 2 | D5: =Feuil3!D13 -> 225 | E5: =Feuil3!E13 -> 1350

Sheet Feuil2
C4: date | D4: interet | E4: duration
C5: 1 | D5: =VLOOKUP(C5,model!C:D,2,FALSE) -> 2 | E5: =D5*3 -> 6
C6: 2 | D6: =VLOOKUP(C6,model!C:D,2,FALSE) -> 3 | E6: =D6*3 -> 9
C7: 3 | D7: =VLOOKUP(C7,model!C:D,2,FALSE) -> 4 | E7: =D7*3 -> 12
C8: 4 | D8: =VLOOKUP(C8,model!C:D,2,FALSE) -> #N/A | E8: =D8*3 -> #N/A
C9: 5 | D9: =VLOOKUP(C9,model!C:D,2,FALSE) -> 6 | E9: =D9*3 -> 18
C10: 6 | D10: =VLOOKUP(C10,model!C:D,2,FALSE) -> 7 | E10: =D10*3 -> 21
C11: 7 | D11: =VLOOKUP(C11,model!C:D,2,FALSE) -> #N/A | E11: =D11*3 -> #N/A
C12: 8 | D12: =VLOOKUP(C12,model!C:D,2,FALSE) -> 9 | E12: =D12*3 -> 27
C13: 9 | D13: =VLOOKUP(C13,model!C:D,2,FALSE) -> 10 | E13: =D13*3 -> 30
D14: {=SUM(IF(ISNA(D5:D13),0,D5:D13))} -> 41 | E14: {=SUM(IF(ISNA(E5:E13),0,E5:E13))} -> 123

Sheet Feuil3
C4: date | D4: interet | E4: duration
C5: 24 | D5: =VLOOKUP(C5,model2!C:D,2,FALSE) -> 34 | E5: =D5*6 -> 204
C6: 25 | D6: =VLOOKUP(C6,model2!C:D,2,FALSE) -> 35 | E6: =D6*6 -> 210
C7: 26 | D7: =VLOOKUP(C7,model2!C:D,2,FALSE) -> #N/A | E7: =D7*6 -> #N/A
C8: 27 | D8: =VLOOKUP(C8,model2!C:D,2,FALSE) -> 37 | E8: =D8*6 -> 222
C9: 28 | D9: =VLOOKUP(C9,model2!C:D,2,FALSE) -> 38 | E9: =D9*6 -> 228
C10: 29 | D10: =VLOOKUP(C10,model2!C:D,2,FALSE) -> #N/A | E10: =D10*6 -> #N/A
C11: 30 | D11: =VLOOKUP(C11,model2!C:D,2,FALSE) -> 40 | E11: =D11*6 -> 240
C12: 31 | D12: =VLOOKUP(C12,model2!C:D,2,FALSE) -> 41 | E12: =D12*6 -> 246
D13: {=SUM(IF(ISNA(D5:D12),0,D5:D12))} -> 225 | E13: {=SUM(IF(ISNA(E5:E12),0,E5:E12))} -> 1350

Sheet model
C3: date | D3: interet
C4: 1 | D4: 2
C5: 2 | D5: 3
C6: 3 | D6: 4
C7: 40 | D7: 5
C8: 5 | D8: 6
C9: 6 | D9: 7
C10: 70 | D10: 8
C11: 8 | D11: 9
C12: 9 | D12: 10

Sheet model2
C3: date | D3: interet
C4: 24 | D4: 34
C5: 25 | D5: 35
C6: 260 | D6: 36
C7: 27 | D7: 37
C8: 28 | D8: 38
C9: 290 | D9: 39
C10: 30 | D10: 40
C11: 31 | D11: 41
