Workbook
Name BDD: OFFSET(BDD!$A$1,0,0,COUNTA(BDD!$A:$A),COUNTA(BDD!$1:$1))
Name FERIE: RENS!$A$1:$B$11
Name feriemai: RENS!$A$3:$B$6
Name OBS: RENS!$I$2:$I$6
Name prem: '[1]01'!$B$1
Name WE: RENS!$F$2:$G$105

Sheet RENS
A1: 43466 | B1: F | C1: SEMAINE | D1: DATE | F1: SAM DIM | G1: WE
B2: F | C2: ="Sem N° "&WEEKNUM(D2) -> Sem N° 53 | D2: 43465 | F2: 43470 | G2: WE | I2: CHANGT P
A3: 43529 | B3: F | C3: ="Sem N° "&WEEKNUM(D3) -> Sem N° 2 | D3: =DATE(YEAR(D2),MONTH(D2),DAY(D2)+7) -> 43472 | F3: 43471 | G3: WE | I3: Départ
A4: 43577 | B4: F | C4: ="Sem N° "&WEEKNUM(D4) -> Sem N° 3 | D4: =DATE(YEAR(D3),MONTH(D3),DAY(D3)+7) -> 43479 | F4: =DATE(YEAR(F2),MONTH(F2),DAY(F2)+7) -> 43477 | G4: WE
A5: 43586 | B5: F | C5: ="Sem N° "&WEEKNUM(D5) -> Sem N° 4 | D5: =DATE(YEAR(D4),MONTH(D4),DAY(D4)+7) -> 43486 | F5: =DATE(YEAR(F3),MONTH(F3),DAY(F3)+7) -> 43478 | G5: WE
A6: 43593 | B6: F | C6: ="Sem N° "&WEEKNUM(D6) -> Sem N° 5 | D6: =DATE(YEAR(D5),MONTH(D5),DAY(D5)+7) -> 43493 | F6: =DATE(YEAR(F4),MONTH(F4),DAY(F4)+7) -> 43484 | G6: WE
A7: 43615 | B7: F | C7: ="Sem N° "&WEEKNUM(D7) -> Sem N° 6 | D7: =DATE(YEAR(D6),MONTH(D6),DAY(D6)+7) -> 43500 | F7: =DATE(YEAR(F5),MONTH(F5),DAY(F5)+7) -> 43485 | G7: WE
A8: 43626 | B8: F | C8: ="Sem N° "&WEEKNUM(D8) -> Sem N° 7 | D8: =DATE(YEAR(D7),MONTH(D7),DAY(D7)+7) -> 43507 | F8: =DATE(YEAR(F6),MONTH(F6),DAY(F6)+7) -> 43491 | G8: WE
A9: 43692 | B9: F | C9: ="Sem N° "&WEEKNUM(D9) -> Sem N° 8 | D9: =DATE(YEAR(D8),MONTH(D8),DAY(D8)+7) -> 43514 | F9: =DATE(YEAR(F7),MONTH(F7),DAY(F7)+7) -> 43492 | G9: WE
A10: 43770 | B10: F | C10: ="Sem N° "&WEEKNUM(D10) -> Sem N° 9 | D10: =DATE(YEAR(D9),MONTH(D9),DAY(D9)+7) -> 43521 | F10: =DATE(YEAR(F8),MONTH(F8),DAY(F8)+7) -> 43498 | G10: WE
A11: 43780 | B11: F | C11: ="Sem N° "&WEEKNUM(D11) -> Sem N° 10 | D11: =DATE(YEAR(D10),MONTH(D10),DAY(D10)+7) -> 43528 | F11: =DATE(YEAR(F9),MONTH(F9),DAY(F9)+7) -> 43499 | G11: WE
A12: 43824 | C12: ="Sem N° "&WEEKNUM(D12) -> Sem N° 11 | D12: =DATE(YEAR(D11),MONTH(D11),DAY(D11)+7) -> 43535 | F12: =DATE(YEAR(F10),MONTH(F10),DAY(F10)+7) -> 43505 | G12: WE
A13: 43830 | C13: ="Sem N° "&WEEKNUM(D13) -> Sem N° 12 | D13: =DATE(YEAR(D12),MONTH(D12),DAY(D12)+7) -> 43542 | F13: =DATE(YEAR(F11),MONTH(F11),DAY(F11)+7) -> 43506 | G13: WE
C14: ="Sem N° "&WEEKNUM(D14) -> Sem N° 13 | D14: =DATE(YEAR(D13),MONTH(D13),DAY(D13)+7) -> 43549 | F14: =DATE(YEAR(F12),MONTH(F12),DAY(F12)+7) -> 43512 | G14: WE
C15: ="Sem N° "&WEEKNUM(D15) -> Sem N° 14 | D15: =DATE(YEAR(D14),MONTH(D14),DAY(D14)+7) -> 43556 | F15: =DATE(YEAR(F13),MONTH(F13),DAY(F13)+7) -> 43513 | G15: WE
C16: ="Sem N° "&WEEKNUM(D16) -> Sem N° 15 | D16: =DATE(YEAR(D15),MONTH(D15),DAY(D15)+7) -> 43563 | F16: =DATE(YEAR(F14),MONTH(F14),DAY(F14)+7) -> 43519 | G16: WE
C17: ="Sem N° "&WEEKNUM(D17) -> Sem N° 16 | D17: =DATE(YEAR(D16),MONTH(D16),DAY(D16)+7) -> 43570 | F17: =DATE(YEAR(F15),MONTH(F15),DAY(F15)+7) -> 43520 | G17: WE
C18: ="Sem N° "&WEEKNUM(D18) -> Sem N° 17 | D18: =DATE(YEAR(D17),MONTH(D17),DAY(D17)+7) -> 43577 | F18: =DATE(YEAR(F16),MONTH(F16),DAY(F16)+7) -> 43526 | G18: WE
C19: ="Sem N° "&WEEKNUM(D19) -> Sem N° 18 | D19: =DATE(YEAR(D18),MONTH(D18),DAY(D18)+7) -> 43584 | F19: =DATE(YEAR(F17),MONTH(F17),DAY(F17)+7) -> 43527 | G19: WE
C20: ="Sem N° "&WEEKNUM(D20) -> Sem N° 19 | D20: =DATE(YEAR(D19),MONTH(D19),DAY(D19)+7) -> 43591 | F20: =DATE(YEAR(F18),MONTH(F18),DAY(F18)+7) -> 43533 | G20: WE
C21: ="Sem N° "&WEEKNUM(D21) -> Sem N° 20 | D21: =DATE(YEAR(D20),MONTH(D20),DAY(D20)+7) -> 43598 | F21: =DATE(YEAR(F19),MONTH(F19),DAY(F19)+7) -> 43534 | G21: WE
C22: ="Sem N° "&WEEKNUM(D22) -> Sem N° 21 | D22: =DATE(YEAR(D21),MONTH(D21),DAY(D21)+7) -> 43605 | F22: =DATE(YEAR(F20),MONTH(F20),DAY(F20)+7) -> 43540 | G22: WE
C23: ="Sem N° "&WEEKNUM(D23) -> Sem N° 22 | D23: =DATE(YEAR(D22),MONTH(D22),DAY(D22)+7) -> 43612 | F23: =DATE(YEAR(F21),MONTH(F21),DAY(F21)+7) -> 43541 | G23: WE
C24: ="Sem N° "&WEEKNUM(D24) -> Sem N° 23 | D24: =DATE(YEAR(D23),MONTH(D23),DAY(D23)+7) -> 43619 | F24: =DATE(YEAR(F22),MONTH(F22),DAY(F22)+7) -> 43547 | G24: WE
C25: ="Sem N° "&WEEKNUM(D25) -> Sem N° 24 | D25: =DATE(YEAR(D24),MONTH(D24),DAY(D24)+7) -> 43626 | F25: =DATE(YEAR(F23),MONTH(F23),DAY(F23)+7) -> 43548 | G25: WE
... C54: ="Sem N° "&WEEKNUM(D54) -> Sem N° 53 | D54: =DATE(YEAR(D53),MONTH(D53),DAY(D53)+7) -> 43829 | F54: =DATE(YEAR(F52),MONTH(F52),DAY(F52)+7) -> 43652 | G54: WE
F55: =DATE(YEAR(F53),MONTH(F53),DAY(F53)+7) -> 43653 | G55: WE
F56: =DATE(YEAR(F54),MONTH(F54),DAY(F54)+7) -> 43659 | G56: WE
F57: =DATE(YEAR(F55),MONTH(F55),DAY(F55)+7) -> 43660 | G57: WE
F58: =DATE(YEAR(F56),MONTH(F56),DAY(F56)+7) -> 43666 | G58: WE
F59: =DATE(YEAR(F57),MONTH(F57),DAY(F57)+7) -> 43667 | G59: WE
F60: =DATE(YEAR(F58),MONTH(F58),DAY(F58)+7) -> 43673 | G60: WE
F61: =DATE(YEAR(F59),MONTH(F59),DAY(F59)+7) -> 43674 | G61: WE
F62: =DATE(YEAR(F60),MONTH(F60),DAY(F60)+7) -> 43680 | G62: WE
F63: =DATE(YEAR(F61),MONTH(F61),DAY(F61)+7) -> 43681 | G63: WE
F64: =DATE(YEAR(F62),MONTH(F62),DAY(F62)+7) -> 43687 | G64: WE
F65: =DATE(YEAR(F63),MONTH(F63),DAY(F63)+7) -> 43688 | G65: WE
F66: =DATE(YEAR(F64),MONTH(F64),DAY(F64)+7) -> 43694 | G66: WE
... F105: =DATE(YEAR(F103),MONTH(F103),DAY(F103)+7) -> 43828 | G105: WE

Sheet 01
B1: 43466
A2: =(B1) -> 43466 | B2: =COUNTIF(B6:B37,"C")+COUNTIF(B6:B37,"R")+COUNTIF(B6:B37,"M")+COUNTIF(B6:B37,"A")+COUNTIF(B6:B37,"W") -> 0 | C2: =COUNTIF(C6:C37,"C")+COUNTIF(C6:C37,"R")+COUNTIF(C6:C37,"M")+COUNTIF(C6:C37,"A")+COUNTIF(C6:C37,"W") -> 7 | D2: =COUNTIF(D6:D37,"C")+COUNTIF(D6:D37,"R")+COUNTIF(D6:D37,"M")+COUNTIF(D6:D37,"A")+COUNTIF(D6:D37,"W") -> 7 | E2: =COUNTIF(E6:E37,"C")+COUNTIF(E6:E37,"R")+COUNTIF(E6:E37,"M")+COUNTIF(E6:E37,"A")+COUNTIF(E6:E37,"W") -> 7 | F2: =COUNTIF(F6:F37,"C")+COUNTIF(F6:F37,"R")+COUNTIF(F6:F37,"M")+COUNTIF(F6:F37,"A")+COUNTIF(F6:F37,"W") -> 0 | G2: =COUNTIF(G6:G37,"C")+COUNTIF(G6:G37,"R")+COUNTIF(G6:G37,"M")+COUNTIF(G6:G37,"A")+COUNTIF(G6:G37,"W") -> 0 | H2: =COUNTIF(H6:H37,"C")+COUNTIF(H6:H37,"R")+COUNTIF(H6:H37,"M")+COUNTIF(H6:H37,"A")+COUNTIF(H6:H37,"W") -> 0 | I2: =COUNTIF(I6:I37,"C")+COUNTIF(I6:I37,"R")+COUNTIF(I6:I37,"M")+COUNTIF(I6:I37,"A")+COUNTIF(I6:I37,"W") -> 0 | ... AF2: =COUNTIF(AF6:AF37,"C")+COUNTIF(AF6:AF37,"R")+COUNTIF(AF6:AF37,"M")+COUNTIF(AF6:AF37,"A")+COUNTIF(AF6:AF37,"W") -> 0 | AG2: CP | AH2: RRR | AI2: MALADIE | AJ2: AT | AK2: AUTRES | AL2: CP ACQUIS AU 31/05 | AM2: SOLDE CP | AN2: Validé F. M | AO2: Validé R | AP2: CP DEC 2018 | AQ2: Observations
B3: =B1 -> 43466 | C3: =DATE(YEAR(B3),MONTH(B3),DAY(B3)+1) -> 43467 | D3: =DATE(YEAR(C3),MONTH(C3),DAY(C3)+1) -> 43468 | E3: =DATE(YEAR(D3),MONTH(D3),DAY(D3)+1) -> 43469 | F3: =DATE(YEAR(E3),MONTH(E3),DAY(E3)+1) -> 43470 | G3: =DATE(YEAR(F3),MONTH(F3),DAY(F3)+1) -> 43471 | H3: =DATE(YEAR(G3),MONTH(G3),DAY(G3)+1) -> 43472 | I3: =DATE(YEAR(H3),MONTH(H3),DAY(H3)+1) -> 43473 | J3: =DATE(YEAR(I3),MONTH(I3),DAY(I3)+1) -> 43474 | ... AF3: =DATE(YEAR(AE3),MONTH(AE3),DAY(AE3)+1) -> 43496
A4: =NETWORKDAYS(B3,AF3,B3)&" jrs ouvrés" -> 22 jrs ouvrés | B4: mardi | C4: mercredi | D4: jeudi | E4: vendredi | F4: samedi | G4: dimanche | H4: lundi | I4: mardi | J4: mercredi | K4: jeudi | L4: vendredi | M4: samedi | N4: dimanche | O4: lundi | P4: mardi | Q4: mercredi | R4: jeudi | S4: vendredi | T4: samedi | U4: dimanche | V4: lundi | W4: mardi | X4: mercredi | Y4: jeudi | Z4: vendredi | AA4: samedi | AB4: dimanche | AC4: lundi | AD4: mardi | AE4: mercredi | AF4: jeudi
B6: =IF(OR(WEEKDAY(B$3)=1,WEEKDAY(B$3)=7),"WE",IFERROR(VLOOKUP(B$3,FERIE,2,0),"")) -> F | C6: C | D6: C | E6: C | F6: =IF(OR(WEEKDAY(F$3)=1,WEEKDAY(F$3)=7),"WE",IFERROR(VLOOKUP(F$3,FERIE,2,0),"")) -> WE | G6: =IF(OR(WEEKDAY(G$3)=1,WEEKDAY(G$3)=7),"WE",IFERROR(VLOOKUP(G$3,FERIE,2,0),"")) -> WE | H6: =IF(OR(WEEKDAY(H$3)=1,WEEKDAY(H$3)=7),"WE",IFERROR(VLOOKUP(H$3,FERIE,2,0),"")) | I6: =IF(OR(WEEKDAY(I$3)=1,WEEKDAY(I$3)=7),"WE",IFERROR(VLOOKUP(I$3,FERIE,2,0),"")) | J6: =IF(OR(WEEKDAY(J$3)=1,WEEKDAY(J$3)=7),"WE",IFERROR(VLOOKUP(J$3,FERIE,2,0),"")) | K6: =IF(OR(WEEKDAY(K$3)=1,WEEKDAY(K$3)=7),"WE",IFERROR(VLOOKUP(K$3,FERIE,2,0),"")) | L6: =IF(OR(WEEKDAY(L$3)=1,WEEKDAY(L$3)=7),"WE",IFERROR(VLOOKUP(L$3,FERIE,2,0),"")) | M6: =IF(OR(WEEKDAY(M$3)=1,WEEKDAY(M$3)=7),"WE",IFERROR(VLOOKUP(M$3,FERIE,2,0),"")) -> WE | ... AF6: =IF(OR(WEEKDAY(AF$3)=1,WEEKDAY(AF$3)=7),"WE",IFERROR(VLOOKUP(AF$3,FERIE,2,0),"")) | AG6: =COUNTIF(B6:AF6,"C") -> 3 | AH6: =COUNTIF(B6:AF6,"R") -> 0 | AI6: =+COUNTIF(B6:AF6,"M") -> 0 | AJ6: =+COUNTIF(B6:AF6,"W") -> 0 | AK6: =+COUNTIF(B6:AF6,"A") -> 0 | AL6: 25 | AM6: =IF(AQ6="CHANGT P",0,AP6-AG6) -> -3 | AN6: O
B7: =IF(OR(WEEKDAY(B$3)=1,WEEKDAY(B$3)=7),"WE",IFERROR(VLOOKUP(B$3,FERIE,2,0),"")) -> F | C7: C | D7: C | E7: C | F7: =IF(OR(WEEKDAY(F$3)=1,WEEKDAY(F$3)=7),"WE",IFERROR(VLOOKUP(F$3,FERIE,2,0),"")) -> WE | G7: =IF(OR(WEEKDAY(G$3)=1,WEEKDAY(G$3)=7),"WE",IFERROR(VLOOKUP(G$3,FERIE,2,0),"")) -> WE | H7: =IF(OR(WEEKDAY(H$3)=1,WEEKDAY(H$3)=7),"WE",IFERROR(VLOOKUP(H$3,FERIE,2,0),"")) | I7: =IF(OR(WEEKDAY(I$3)=1,WEEKDAY(I$3)=7),"WE",IFERROR(VLOOKUP(I$3,FERIE,2,0),"")) | J7: =IF(OR(WEEKDAY(J$3)=1,WEEKDAY(J$3)=7),"WE",IFERROR(VLOOKUP(J$3,FERIE,2,0),"")) | K7: =IF(OR(WEEKDAY(K$3)=1,WEEKDAY(K$3)=7),"WE",IFERROR(VLOOKUP(K$3,FERIE,2,0),"")) | L7: =IF(OR(WEEKDAY(L$3)=1,WEEKDAY(L$3)=7),"WE",IFERROR(VLOOKUP(L$3,FERIE,2,0),"")) | M7: =IF(OR(WEEKDAY(M$3)=1,WEEKDAY(M$3)=7),"WE",IFERROR(VLOOKUP(M$3,FERIE,2,0),"")) -> WE | ... AF7: =IF(OR(WEEKDAY(AF$3)=1,WEEKDAY(AF$3)=7),"WE",IFERROR(VLOOKUP(AF$3,FERIE,2,0),"")) | AG7: =COUNTIF(B7:AF7,"C") -> 3 | AH7: =COUNTIF(B7:AF7,"R") -> 0 | AI7: =+COUNTIF(B7:AF7,"M") -> 0 | AJ7: =+COUNTIF(B7:AF7,"W") -> 0 | AK7: =+COUNTIF(B7:AF7,"A") -> 0 | AL7: 25 | AM7: =IF(AQ7="CHANGT P",0,AP7-AG7) -> -3 | AN7: O
B8: =IF(OR(WEEKDAY(B$3)=1,WEEKDAY(B$3)=7),"WE",IFERROR(VLOOKUP(B$3,FERIE,2,0),"")) -> F | C8: =IF(OR(WEEKDAY(C$3)=1,WEEKDAY(C$3)=7),"WE",IFERROR(VLOOKUP(C$3,FERIE,2,0),"")) | D8: =IF(OR(WEEKDAY(D$3)=1,WEEKDAY(D$3)=7),"WE",IFERROR(VLOOKUP(D$3,FERIE,2,0),"")) | E8: =IF(OR(WEEKDAY(E$3)=1,WEEKDAY(E$3)=7),"WE",IFERROR(VLOOKUP(E$3,FERIE,2,0),"")) | F8: =IF(OR(WEEKDAY(F$3)=1,WEEKDAY(F$3)=7),"WE",IFERROR(VLOOKUP(F$3,FERIE,2,0),"")) -> WE | G8: =IF(OR(WEEKDAY(G$3)=1,WEEKDAY(G$3)=7),"WE",IFERROR(VLOOKUP(G$3,FERIE,2,0),"")) -> WE | H8: =IF(OR(WEEKDAY(H$3)=1,WEEKDAY(H$3)=7),"WE",IFERROR(VLOOKUP(H$3,FERIE,2,0),"")) | I8: =IF(OR(WEEKDAY(I$3)=1,WEEKDAY(I$3)=7),"WE",IFERROR(VLOOKUP(I$3,FERIE,2,0),"")) | ... AF8: =IF(OR(WEEKDAY(AF$3)=1,WEEKDAY(AF$3)=7),"WE",IFERROR(VLOOKUP(AF$3,FERIE,2,0),"")) | AG8: =COUNTIF(B8:AF8,"C") -> 0 | AH8: =COUNTIF(B8:AF8,"R") -> 0 | AI8: =+COUNTIF(B8:AF8,"M") -> 0 | AJ8: =+COUNTIF(B8:AF8,"W") -> 0 | AK8: =+COUNTIF(B8:AF8,"A") -> 0 | AM8: =IF(AQ8="CHANGT P",0,AP8-AG8) -> 0
B9: =IF(OR(WEEKDAY(B$3)=1,WEEKDAY(B$3)=7),"WE",IFERROR(VLOOKUP(B$3,FERIE,2,0),"")) -> F | C9: =IF(OR(WEEKDAY(C$3)=1,WEEKDAY(C$3)=7),"WE",IFERROR(VLOOKUP(C$3,FERIE,2,0),"")) | D9: =IF(OR(WEEKDAY(D$3)=1,WEEKDAY(D$3)=7),"WE",IFERROR(VLOOKUP(D$3,FERIE,2,0),"")) | E9: =IF(OR(WEEKDAY(E$3)=1,WEEKDAY(E$3)=7),"WE",IFERROR(VLOOKUP(E$3,FERIE,2,0),"")) | F9: =IF(OR(WEEKDAY(F$3)=1,WEEKDAY(F$3)=7),"WE",IFERROR(VLOOKUP(F$3,FERIE,2,0),"")) -> WE | G9: =IF(OR(WEEKDAY(G$3)=1,WEEKDAY(G$3)=7),"WE",IFERROR(VLOOKUP(G$3,FERIE,2,0),"")) -> WE | H9: =IF(OR(WEEKDAY(H$3)=1,WEEKDAY(H$3)=7),"WE",IFERROR(VLOOKUP(H$3,FERIE,2,0),"")) | I9: =IF(OR(WEEKDAY(I$3)=1,WEEKDAY(I$3)=7),"WE",IFERROR(VLOOKUP(I$3,FERIE,2,0),"")) | ... AF9: =IF(OR(WEEKDAY(AF$3)=1,WEEKDAY(AF$3)=7),"WE",IFERROR(VLOOKUP(AF$3,FERIE,2,0),"")) | AG9: =COUNTIF(B9:AF9,"C") -> 0 | AH9: =COUNTIF(B9:AF9,"R") -> 0 | AI9: =+COUNTIF(B9:AF9,"M") -> 0 | AJ9: =+COUNTIF(B9:AF9,"W") -> 0 | AK9: =+COUNTIF(B9:AF9,"A") -> 0 | AL9: 25 | AM9: =IF(AQ9="CHANGT P",0,AP9-AG9) -> 0
B10: =IF(OR(WEEKDAY(B$3)=1,WEEKDAY(B$3)=7),"WE",IFERROR(VLOOKUP(B$3,FERIE,2,0),"")) -> F | C10: =IF(OR(WEEKDAY(C$3)=1,WEEKDAY(C$3)=7),"WE",IFERROR(VLOOKUP(C$3,FERIE,2,0),"")) | D10: =IF(OR(WEEKDAY(D$3)=1,WEEKDAY(D$3)=7),"WE",IFERROR(VLOOKUP(D$3,FERIE,2,0),"")) | E10: =IF(OR(WEEKDAY(E$3)=1,WEEKDAY(E$3)=7),"WE",IFERROR(VLOOKUP(E$3,FERIE,2,0),"")) | F10: =IF(OR(WEEKDAY(F$3)=1,WEEKDAY(F$3)=7),"WE",IFERROR(VLOOKUP(F$3,FERIE,2,0),"")) -> WE | G10: =IF(OR(WEEKDAY(G$3)=1,WEEKDAY(G$3)=7),"WE",IFERROR(VLOOKUP(G$3,FERIE,2,0),"")) -> WE | H10: =IF(OR(WEEKDAY(H$3)=1,WEEKDAY(H$3)=7),"WE",IFERROR(VLOOKUP(H$3,FERIE,2,0),"")) | I10: =IF(OR(WEEKDAY(I$3)=1,WEEKDAY(I$3)=7),"WE",IFERROR(VLOOKUP(I$3,FERIE,2,0),"")) | ... AF10: =IF(OR(WEEKDAY(AF$3)=1,WEEKDAY(AF$3)=7),"WE",IFERROR(VLOOKUP(AF$3,FERIE,2,0),"")) | AG10: =COUNTIF(B10:AF10,"C") -> 0 | AH10: =COUNTIF(B10:AF10,"R") -> 0 | AI10: =+COUNTIF(B10:AF10,"M") -> 0 | AJ10: =+COUNTIF(B10:AF10,"W") -> 0 | AK10: =+COUNTIF(B10:AF10,"A") -> 0 | AL10: 25 | AM10: =IF(AQ10="CHANGT P",0,AP10-AG10) -> 0
B11: =IF(OR(WEEKDAY(B$3)=1,WEEKDAY(B$3)=7),"WE",IFERROR(VLOOKUP(B$3,FERIE,2,0),"")) -> F | C11: C | D11: C | E11: C | F11: =IF(OR(WEEKDAY(F$3)=1,WEEKDAY(F$3)=7),"WE",IFERROR(VLOOKUP(F$3,FERIE,2,0),"")) -> WE | G11: =IF(OR(WEEKDAY(G$3)=1,WEEKDAY(G$3)=7),"WE",IFERROR(VLOOKUP(G$3,FERIE,2,0),"")) -> WE | H11: =IF(OR(WEEKDAY(H$3)=1,WEEKDAY(H$3)=7),"WE",IFERROR(VLOOKUP(H$3,FERIE,2,0),"")) | I11: =IF(OR(WEEKDAY(I$3)=1,WEEKDAY(I$3)=7),"WE",IFERROR(VLOOKUP(I$3,FERIE,2,0),"")) | J11: =IF(OR(WEEKDAY(J$3)=1,WEEKDAY(J$3)=7),"WE",IFERROR(VLOOKUP(J$3,FERIE,2,0),"")) | K11: =IF(OR(WEEKDAY(K$3)=1,WEEKDAY(K$3)=7),"WE",IFERROR(VLOOKUP(K$3,FERIE,2,0),"")) | L11: =IF(OR(WEEKDAY(L$3)=1,WEEKDAY(L$3)=7),"WE",IFERROR(VLOOKUP(L$3,FERIE,2,0),"")) | M11: =IF(OR(WEEKDAY(M$3)=1,WEEKDAY(M$3)=7),"WE",IFERROR(VLOOKUP(M$3,FERIE,2,0),"")) -> WE | ... AF11: =IF(OR(WEEKDAY(AF$3)=1,WEEKDAY(AF$3)=7),"WE",IFERROR(VLOOKUP(AF$3,FERIE,2,0),"")) | AG11: =COUNTIF(B11:AF11,"C") -> 3 | AH11: =COUNTIF(B11:AF11,"R") -> 0 | AI11: =+COUNTIF(B11:AF11,"M") -> 0 | AJ11: =+COUNTIF(B11:AF11,"W") -> 0 | AK11: =+COUNTIF(B11:AF11,"A") -> 0 | AL11: 17 | AM11: =IF(AQ11="CHANGT P",0,AP11-AG11) -> -3 | AN11: O
B12: =IF(OR(WEEKDAY(B$3)=1,WEEKDAY(B$3)=7),"WE",IFERROR(VLOOKUP(B$3,FERIE,2,0),"")) -> F | C12: =IF(OR(WEEKDAY(C$3)=1,WEEKDAY(C$3)=7),"WE",IFERROR(VLOOKUP(C$3,FERIE,2,0),"")) | D12: =IF(OR(WEEKDAY(D$3)=1,WEEKDAY(D$3)=7),"WE",IFERROR(VLOOKUP(D$3,FERIE,2,0),"")) | E12: =IF(OR(WEEKDAY(E$3)=1,WEEKDAY(E$3)=7),"WE",IFERROR(VLOOKUP(E$3,FERIE,2,0),"")) | F12: =IF(OR(WEEKDAY(F$3)=1,WEEKDAY(F$3)=7),"WE",IFERROR(VLOOKUP(F$3,FERIE,2,0),"")) -> WE | G12: =IF(OR(WEEKDAY(G$3)=1,WEEKDAY(G$3)=7),"WE",IFERROR(VLOOKUP(G$3,FERIE,2,0),"")) -> WE | H12: =IF(OR(WEEKDAY(H$3)=1,WEEKDAY(H$3)=7),"WE",IFERROR(VLOOKUP(H$3,FERIE,2,0),"")) | I12: =IF(OR(WEEKDAY(I$3)=1,WEEKDAY(I$3)=7),"WE",IFERROR(VLOOKUP(I$3,FERIE,2,0),"")) | ... AF12: =IF(OR(WEEKDAY(AF$3)=1,WEEKDAY(AF$3)=7),"WE",IFERROR(VLOOKUP(AF$3,FERIE,2,0),"")) | AG12: =COUNTIF(B12:AF12,"C") -> 0 | AH12: =COUNTIF(B12:AF12,"R") -> 0 | AI12: =+COUNTIF(B12:AF12,"M") -> 0 | AJ12: =+COUNTIF(B12:AF12,"W") -> 0 | AK12: =+COUNTIF(B12:AF12,"A") -> 0 | AL12: 25 | AM12: =IF(AQ12="CHANGT P",0,AP12-AG12) -> 0
B13: =IF(OR(WEEKDAY(B$3)=1,WEEKDAY(B$3)=7),"WE",IFERROR(VLOOKUP(B$3,FERIE,2,0),"")) -> F | D13: =IF(OR(WEEKDAY(D$3)=1,WEEKDAY(D$3)=7),"WE",IFERROR(VLOOKUP(D$3,FERIE,2,0),"")) | E13: =IF(OR(WEEKDAY(E$3)=1,WEEKDAY(E$3)=7),"WE",IFERROR(VLOOKUP(E$3,FERIE,2,0),"")) | F13: =IF(OR(WEEKDAY(F$3)=1,WEEKDAY(F$3)=7),"WE",IFERROR(VLOOKUP(F$3,FERIE,2,0),"")) -> WE | G13: =IF(OR(WEEKDAY(G$3)=1,WEEKDAY(G$3)=7),"WE",IFERROR(VLOOKUP(G$3,FERIE,2,0),"")) -> WE | H13: =IF(OR(WEEKDAY(H$3)=1,WEEKDAY(H$3)=7),"WE",IFERROR(VLOOKUP(H$3,FERIE,2,0),"")) | I13: =IF(OR(WEEKDAY(I$3)=1,WEEKDAY(I$3)=7),"WE",IFERROR(VLOOKUP(I$3,FERIE,2,0),"")) | J13: =IF(OR(WEEKDAY(J$3)=1,WEEKDAY(J$3)=7),"WE",IFERROR(VLOOKUP(J$3,FERIE,2,0),"")) | K13: =IF(OR(WEEKDAY(K$3)=1,WEEKDAY(K$3)=7),"WE",IFERROR(VLOOKUP(K$3,FERIE,2,0),"")) | ... AF13: =IF(OR(WEEKDAY(AF$3)=1,WEEKDAY(AF$3)=7),"WE",IFERROR(VLOOKUP(AF$3,FERIE,2,0),"")) | AG13: =COUNTIF(B13:AF13,"C") -> 0 | AH13: =COUNTIF(B13:AF13,"R") -> 0 | AI13: =+COUNTIF(B13:AF13,"M") -> 0 | AJ13: =+COUNTIF(B13:AF13,"W") -> 0 | AK13: =+COUNTIF(B13:AF13,"A") -> 0 | AL13: 22 | AM13: =IF(AQ13="CHANGT P",0,AP13-AG13) -> 0 | AN13: o
B14: =IF(OR(WEEKDAY(B$3)=1,WEEKDAY(B$3)=7),"WE",IFERROR(VLOOKUP(B$3,FERIE,2,0),"")) -> F | C14: =IF(OR(WEEKDAY(C$3)=1,WEEKDAY(C$3)=7),"WE",IFERROR(VLOOKUP(C$3,FERIE,2,0),"")) | D14: =IF(OR(WEEKDAY(D$3)=1,WEEKDAY(D$3)=7),"WE",IFERROR(VLOOKUP(D$3,FERIE,2,0),"")) | E14: =IF(OR(WEEKDAY(E$3)=1,WEEKDAY(E$3)=7),"WE",IFERROR(VLOOKUP(E$3,FERIE,2,0),"")) | F14: =IF(OR(WEEKDAY(F$3)=1,WEEKDAY(F$3)=7),"WE",IFERROR(VLOOKUP(F$3,FERIE,2,0),"")) -> WE | G14: =IF(OR(WEEKDAY(G$3)=1,WEEKDAY(G$3)=7),"WE",IFERROR(VLOOKUP(G$3,FERIE,2,0),"")) -> WE | H14: =IF(OR(WEEKDAY(H$3)=1,WEEKDAY(H$3)=7),"WE",IFERROR(VLOOKUP(H$3,FERIE,2,0),"")) | I14: =IF(OR(WEEKDAY(I$3)=1,WEEKDAY(I$3)=7),"WE",IFERROR(VLOOKUP(I$3,FERIE,2,0),"")) | ... AF14: =IF(OR(WEEKDAY(AF$3)=1,WEEKDAY(AF$3)=7),"WE",IFERROR(VLOOKUP(AF$3,FERIE,2,0),"")) | AG14: =COUNTIF(B14:AF14,"C") -> 0 | AH14: =COUNTIF(B14:AF14,"R") -> 0 | AI14: =+COUNTIF(B14:AF14,"M") -> 0 | AJ14: =+COUNTIF(B14:AF14,"W") -> 0 | AK14: =+COUNTIF(B14:AF14,"A") -> 0 | AL14: 25 | AM14: =IF(AQ14="CHANGT P",0,AP14-AG14) -> 0
B15: =IF(OR(WEEKDAY(B$3)=1,WEEKDAY(B$3)=7),"WE",IFERROR(VLOOKUP(B$3,FERIE,2,0),"")) -> F | C15: =IF(OR(WEEKDAY(C$3)=1,WEEKDAY(C$3)=7),"WE",IFERROR(VLOOKUP(C$3,FERIE,2,0),"")) | D15: =IF(OR(WEEKDAY(D$3)=1,WEEKDAY(D$3)=7),"WE",IFERROR(VLOOKUP(D$3,FERIE,2,0),"")) | E15: =IF(OR(WEEKDAY(E$3)=1,WEEKDAY(E$3)=7),"WE",IFERROR(VLOOKUP(E$3,FERIE,2,0),"")) | F15: =IF(OR(WEEKDAY(F$3)=1,WEEKDAY(F$3)=7),"WE",IFERROR(VLOOKUP(F$3,FERIE,2,0),"")) -> WE | G15: =IF(OR(WEEKDAY(G$3)=1,WEEKDAY(G$3)=7),"WE",IFERROR(VLOOKUP(G$3,FERIE,2,0),"")) -> WE | H15: =IF(OR(WEEKDAY(H$3)=1,WEEKDAY(H$3)=7),"WE",IFERROR(VLOOKUP(H$3,FERIE,2,0),"")) | I15: =IF(OR(WEEKDAY(I$3)=1,WEEKDAY(I$3)=7),"WE",IFERROR(VLOOKUP(I$3,FERIE,2,0),"")) | ... AF15: =IF(OR(WEEKDAY(AF$3)=1,WEEKDAY(AF$3)=7),"WE",IFERROR(VLOOKUP(AF$3,FERIE,2,0),"")) | AG15: =COUNTIF(B15:AF15,"C") -> 0 | AH15: =COUNTIF(B15:AF15,"R") -> 0 | AI15: =+COUNTIF(B15:AF15,"M") -> 0 | AJ15: =+COUNTIF(B15:AF15,"W") -> 0 | AK15: =+COUNTIF(B15:AF15,"A") -> 0 | AM15: =IF(AQ15="CHANGT P",0,AP15-AG15) -> 0 | AN15: C
B16: =IF(OR(WEEKDAY(B$3)=1,WEEKDAY(B$3)=7),"WE",IFERROR(VLOOKUP(B$3,FERIE,2,0),"")) -> F | C16: =IF(OR(WEEKDAY(C$3)=1,WEEKDAY(C$3)=7),"WE",IFERROR(VLOOKUP(C$3,FERIE,2,0),"")) | D16: =IF(OR(WEEKDAY(D$3)=1,WEEKDAY(D$3)=7),"WE",IFERROR(VLOOKUP(D$3,FERIE,2,0),"")) | E16: =IF(OR(WEEKDAY(E$3)=1,WEEKDAY(E$3)=7),"WE",IFERROR(VLOOKUP(E$3,FERIE,2,0),"")) | F16: =IF(OR(WEEKDAY(F$3)=1,WEEKDAY(F$3)=7),"WE",IFERROR(VLOOKUP(F$3,FERIE,2,0),"")) -> WE | G16: =IF(OR(WEEKDAY(G$3)=1,WEEKDAY(G$3)=7),"WE",IFERROR(VLOOKUP(G$3,FERIE,2,0),"")) -> WE | H16: =IF(OR(WEEKDAY(H$3)=1,WEEKDAY(H$3)=7),"WE",IFERROR(VLOOKUP(H$3,FERIE,2,0),"")) | I16: =IF(OR(WEEKDAY(I$3)=1,WEEKDAY(I$3)=7),"WE",IFERROR(VLOOKUP(I$3,FERIE,2,0),"")) | ... AF16: =IF(OR(WEEKDAY(AF$3)=1,WEEKDAY(AF$3)=7),"WE",IFERROR(VLOOKUP(AF$3,FERIE,2,0),"")) | AG16: =COUNTIF(B16:AF16,"C") -> 0 | AH16: =COUNTIF(B16:AF16,"R") -> 0 | AI16: =+COUNTIF(B16:AF16,"M") -> 0 | AJ16: =+COUNTIF(B16:AF16,"W") -> 0 | AK16: =+COUNTIF(B16:AF16,"A") -> 0 | AM16: =IF(AQ16="CHANGT P",0,AP16-AG16) -> 0 | AN16: c
B17: =IF(OR(WEEKDAY(B$3)=1,WEEKDAY(B$3)=7),"WE",IFERROR(VLOOKUP(B$3,FERIE,2,0),"")) -> F | C17: =IF(OR(WEEKDAY(C$3)=1,WEEKDAY(C$3)=7),"WE",IFERROR(VLOOKUP(C$3,FERIE,2,0),"")) | D17: =IF(OR(WEEKDAY(D$3)=1,WEEKDAY(D$3)=7),"WE",IFERROR(VLOOKUP(D$3,FERIE,2,0),"")) | E17: =IF(OR(WEEKDAY(E$3)=1,WEEKDAY(E$3)=7),"WE",IFERROR(VLOOKUP(E$3,FERIE,2,0),"")) | F17: =IF(OR(WEEKDAY(F$3)=1,WEEKDAY(F$3)=7),"WE",IFERROR(VLOOKUP(F$3,FERIE,2,0),"")) -> WE | G17: =IF(OR(WEEKDAY(G$3)=1,WEEKDAY(G$3)=7),"WE",IFERROR(VLOOKUP(G$3,FERIE,2,0),"")) -> WE | H17: =IF(OR(WEEKDAY(H$3)=1,WEEKDAY(H$3)=7),"WE",IFERROR(VLOOKUP(H$3,FERIE,2,0),"")) | I17: =IF(OR(WEEKDAY(I$3)=1,WEEKDAY(I$3)=7),"WE",IFERROR(VLOOKUP(I$3,FERIE,2,0),"")) | ... AF17: =IF(OR(WEEKDAY(AF$3)=1,WEEKDAY(AF$3)=7),"WE",IFERROR(VLOOKUP(AF$3,FERIE,2,0),"")) | AG17: =COUNTIF(B17:AF17,"C") -> 0 | AH17: =COUNTIF(B17:AF17,"R") -> 0 | AI17: =+COUNTIF(B17:AF17,"M") -> 0 | AJ17: =+COUNTIF(B17:AF17,"W") -> 0 | AK17: =+COUNTIF(B17:AF17,"A") -> 0 | AM17: =IF(AQ17="CHANGT P",0,AP17-AG17) -> 0
B19: =IF(OR(WEEKDAY(B$3)=1,WEEKDAY(B$3)=7),"WE",IFERROR(VLOOKUP(B$3,FERIE,2,0),"")) -> F | C19: =IF(OR(WEEKDAY(C$3)=1,WEEKDAY(C$3)=7),"WE",IFERROR(VLOOKUP(C$3,FERIE,2,0),"")) | D19: =IF(OR(WEEKDAY(D$3)=1,WEEKDAY(D$3)=7),"WE",IFERROR(VLOOKUP(D$3,FERIE,2,0),"")) | E19: =IF(OR(WEEKDAY(E$3)=1,WEEKDAY(E$3)=7),"WE",IFERROR(VLOOKUP(E$3,FERIE,2,0),"")) | F19: =IF(OR(WEEKDAY(F$3)=1,WEEKDAY(F$3)=7),"WE",IFERROR(VLOOKUP(F$3,FERIE,2,0),"")) -> WE | G19: =IF(OR(WEEKDAY(G$3)=1,WEEKDAY(G$3)=7),"WE",IFERROR(VLOOKUP(G$3,FERIE,2,0),"")) -> WE | H19: =IF(OR(WEEKDAY(H$3)=1,WEEKDAY(H$3)=7),"WE",IFERROR(VLOOKUP(H$3,FERIE,2,0),"")) | I19: =IF(OR(WEEKDAY(I$3)=1,WEEKDAY(I$3)=7),"WE",IFERROR(VLOOKUP(I$3,FERIE,2,0),"")) | ... AF19: =IF(OR(WEEKDAY(AF$3)=1,WEEKDAY(AF$3)=7),"WE",IFERROR(VLOOKUP(AF$3,FERIE,2,0),"")) | AG19: =COUNTIF(B19:AF19,"C") -> 0 | AH19: =COUNTIF(B19:AF19,"R") -> 0 | AI19: =+COUNTIF(B19:AF19,"M") -> 0 | AJ19: =+COUNTIF(B19:AF19,"W") -> 0 | AK19: =+COUNTIF(B19:AF19,"A") -> 0 | AL19: 25 | AM19: =IF(AQ19="CHANGT P",0,AP19-AG19) -> 0
B20: =IF(OR(WEEKDAY(B$3)=1,WEEKDAY(B$3)=7),"WE",IFERROR(VLOOKUP(B$3,FERIE,2,0),"")) -> F | C20: C | D20: C | E20: C | F20: =IF(OR(WEEKDAY(F$3)=1,WEEKDAY(F$3)=7),"WE",IFERROR(VLOOKUP(F$3,FERIE,2,0),"")) -> WE | G20: =IF(OR(WEEKDAY(G$3)=1,WEEKDAY(G$3)=7),"WE",IFERROR(VLOOKUP(G$3,FERIE,2,0),"")) -> WE | H20: =IF(OR(WEEKDAY(H$3)=1,WEEKDAY(H$3)=7),"WE",IFERROR(VLOOKUP(H$3,FERIE,2,0),"")) | I20: =IF(OR(WEEKDAY(I$3)=1,WEEKDAY(I$3)=7),"WE",IFERROR(VLOOKUP(I$3,FERIE,2,0),"")) | J20: =IF(OR(WEEKDAY(J$3)=1,WEEKDAY(J$3)=7),"WE",IFERROR(VLOOKUP(J$3,FERIE,2,0),"")) | K20: =IF(OR(WEEKDAY(K$3)=1,WEEKDAY(K$3)=7),"WE",IFERROR(VLOOKUP(K$3,FERIE,2,0),"")) | L20: =IF(OR(WEEKDAY(L$3)=1,WEEKDAY(L$3)=7),"WE",IFERROR(VLOOKUP(L$3,FERIE,2,0),"")) | M20: =IF(OR(WEEKDAY(M$3)=1,WEEKDAY(M$3)=7),"WE",IFERROR(VLOOKUP(M$3,FERIE,2,0),"")) -> WE | ... AF20: =IF(OR(WEEKDAY(AF$3)=1,WEEKDAY(AF$3)=7),"WE",IFERROR(VLOOKUP(AF$3,FERIE,2,0),"")) | AG20: =COUNTIF(B20:AF20,"C") -> 3 | AH20: =COUNTIF(B20:AF20,"R") -> 0 | AI20: =+COUNTIF(B20:AF20,"M") -> 0 | AJ20: =+COUNTIF(B20:AF20,"W") -> 0 | AK20: =+COUNTIF(B20:AF20,"A") -> 0 | AL20: 25 | AM20: =IF(AQ20="CHANGT P",0,AP20-AG20) -> -3 | AN20: O
B21: =IF(OR(WEEKDAY(B$3)=1,WEEKDAY(B$3)=7),"WE",IFERROR(VLOOKUP(B$3,FERIE,2,0),"")) -> F | C21: C | D21: C | E21: C | F21: =IF(OR(WEEKDAY(F$3)=1,WEEKDAY(F$3)=7),"WE",IFERROR(VLOOKUP(F$3,FERIE,2,0),"")) -> WE | G21: =IF(OR(WEEKDAY(G$3)=1,WEEKDAY(G$3)=7),"WE",IFERROR(VLOOKUP(G$3,FERIE,2,0),"")) -> WE | H21: =IF(OR(WEEKDAY(H$3)=1,WEEKDAY(H$3)=7),"WE",IFERROR(VLOOKUP(H$3,FERIE,2,0),"")) | I21: =IF(OR(WEEKDAY(I$3)=1,WEEKDAY(I$3)=7),"WE",IFERROR(VLOOKUP(I$3,FERIE,2,0),"")) | J21: =IF(OR(WEEKDAY(J$3)=1,WEEKDAY(J$3)=7),"WE",IFERROR(VLOOKUP(J$3,FERIE,2,0),"")) | K21: =IF(OR(WEEKDAY(K$3)=1,WEEKDAY(K$3)=7),"WE",IFERROR(VLOOKUP(K$3,FERIE,2,0),"")) | L21: =IF(OR(WEEKDAY(L$3)=1,WEEKDAY(L$3)=7),"WE",IFERROR(VLOOKUP(L$3,FERIE,2,0),"")) | M21: =IF(OR(WEEKDAY(M$3)=1,WEEKDAY(M$3)=7),"WE",IFERROR(VLOOKUP(M$3,FERIE,2,0),"")) -> WE | ... AF21: =IF(OR(WEEKDAY(AF$3)=1,WEEKDAY(AF$3)=7),"WE",IFERROR(VLOOKUP(AF$3,FERIE,2,0),"")) | AG21: =COUNTIF(B21:AF21,"C") -> 3 | AH21: =COUNTIF(B21:AF21,"R") -> 0 | AI21: =+COUNTIF(B21:AF21,"M") -> 0 | AJ21: =+COUNTIF(B21:AF21,"W") -> 0 | AK21: =+COUNTIF(B21:AF21,"A") -> 0 | AL21: 25 | AM21: =IF(AQ21="CHANGT P",0,AP21-AG21) -> -3 | AN21: O
B22: =IF(OR(WEEKDAY(B$3)=1,WEEKDAY(B$3)=7),"WE",IFERROR(VLOOKUP(B$3,FERIE,2,0),"")) -> F | C22: =IF(OR(WEEKDAY(C$3)=1,WEEKDAY(C$3)=7),"WE",IFERROR(VLOOKUP(C$3,FERIE,2,0),"")) | D22: =IF(OR(WEEKDAY(D$3)=1,WEEKDAY(D$3)=7),"WE",IFERROR(VLOOKUP(D$3,FERIE,2,0),"")) | E22: =IF(OR(WEEKDAY(E$3)=1,WEEKDAY(E$3)=7),"WE",IFERROR(VLOOKUP(E$3,FERIE,2,0),"")) | F22: =IF(OR(WEEKDAY(F$3)=1,WEEKDAY(F$3)=7),"WE",IFERROR(VLOOKUP(F$3,FERIE,2,0),"")) -> WE | G22: =IF(OR(WEEKDAY(G$3)=1,WEEKDAY(G$3)=7),"WE",IFERROR(VLOOKUP(G$3,FERIE,2,0),"")) -> WE | H22: =IF(OR(WEEKDAY(H$3)=1,WEEKDAY(H$3)=7),"WE",IFERROR(VLOOKUP(H$3,FERIE,2,0),"")) | I22: =IF(OR(WEEKDAY(I$3)=1,WEEKDAY(I$3)=7),"WE",IFERROR(VLOOKUP(I$3,FERIE,2,0),"")) | ... AF22: =IF(OR(WEEKDAY(AF$3)=1,WEEKDAY(AF$3)=7),"WE",IFERROR(VLOOKUP(AF$3,FERIE,2,0),"")) | AG22: =COUNTIF(B22:AF22,"C") -> 0 | AH22: =COUNTIF(B22:AF22,"R") -> 0 | AI22: =+COUNTIF(B22:AF22,"M") -> 0 | AJ22: =+COUNTIF(B22:AF22,"W") -> 0 | AK22: =+COUNTIF(B22:AF22,"A") -> 0 | AM22: =IF(AQ22="CHANGT P",0,AP22-AG22) -> 0
B23: =IF(OR(WEEKDAY(B$3)=1,WEEKDAY(B$3)=7),"WE",IFERROR(VLOOKUP(B$3,FERIE,2,0),"")) -> F | C23: =IF(OR(WEEKDAY(C$3)=1,WEEKDAY(C$3)=7),"WE",IFERROR(VLOOKUP(C$3,FERIE,2,0),"")) | D23: =IF(OR(WEEKDAY(D$3)=1,WEEKDAY(D$3)=7),"WE",IFERROR(VLOOKUP(D$3,FERIE,2,0),"")) | E23: =IF(OR(WEEKDAY(E$3)=1,WEEKDAY(E$3)=7),"WE",IFERROR(VLOOKUP(E$3,FERIE,2,0),"")) | F23: =IF(OR(WEEKDAY(F$3)=1,WEEKDAY(F$3)=7),"WE",IFERROR(VLOOKUP(F$3,FERIE,2,0),"")) -> WE | G23: =IF(OR(WEEKDAY(G$3)=1,WEEKDAY(G$3)=7),"WE",IFERROR(VLOOKUP(G$3,FERIE,2,0),"")) -> WE | H23: =IF(OR(WEEKDAY(H$3)=1,WEEKDAY(H$3)=7),"WE",IFERROR(VLOOKUP(H$3,FERIE,2,0),"")) | I23: =IF(OR(WEEKDAY(I$3)=1,WEEKDAY(I$3)=7),"WE",IFERROR(VLOOKUP(I$3,FERIE,2,0),"")) | ... AF23: =IF(OR(WEEKDAY(AF$3)=1,WEEKDAY(AF$3)=7),"WE",IFERROR(VLOOKUP(AF$3,FERIE,2,0),"")) | AG23: =COUNTIF(B23:AF23,"C") -> 0 | AH23: =COUNTIF(B23:AF23,"R") -> 0 | AI23: =+COUNTIF(B23:AF23,"M") -> 0 | AJ23: =+COUNTIF(B23:AF23,"W") -> 0 | AK23: =+COUNTIF(B23:AF23,"A") -> 0 | AM23: =IF(AQ23="CHANGT P",0,AP23-AG23) -> 0
B25: =IF(OR(WEEKDAY(B$3)=1,WEEKDAY(B$3)=7),"WE",IFERROR(VLOOKUP(B$3,FERIE,2,0),"")) -> F | C25: =IF(OR(WEEKDAY(C$3)=1,WEEKDAY(C$3)=7),"WE",IFERROR(VLOOKUP(C$3,FERIE,2,0),"")) | D25: =IF(OR(WEEKDAY(D$3)=1,WEEKDAY(D$3)=7),"WE",IFERROR(VLOOKUP(D$3,FERIE,2,0),"")) | E25: =IF(OR(WEEKDAY(E$3)=1,WEEKDAY(E$3)=7),"WE",IFERROR(VLOOKUP(E$3,FERIE,2,0),"")) | F25: =IF(OR(WEEKDAY(F$3)=1,WEEKDAY(F$3)=7),"WE",IFERROR(VLOOKUP(F$3,FERIE,2,0),"")) -> WE | G25: =IF(OR(WEEKDAY(G$3)=1,WEEKDAY(G$3)=7),"WE",IFERROR(VLOOKUP(G$3,FERIE,2,0),"")) -> WE | H25: =IF(OR(WEEKDAY(H$3)=1,WEEKDAY(H$3)=7),"WE",IFERROR(VLOOKUP(H$3,FERIE,2,0),"")) | I25: =IF(OR(WEEKDAY(I$3)=1,WEEKDAY(I$3)=7),"WE",IFERROR(VLOOKUP(I$3,FERIE,2,0),"")) | ... AF25: =IF(OR(WEEKDAY(AF$3)=1,WEEKDAY(AF$3)=7),"WE",IFERROR(VLOOKUP(AF$3,FERIE,2,0),"")) | AG25: =COUNTIF(B25:AF25,"C") -> 0 | AH25: =COUNTIF(B25:AF25,"R") -> 0 | AI25: =+COUNTIF(B25:AF25,"M") -> 0 | AJ25: =+COUNTIF(B25:AF25,"W") -> 0 | AK25: =+COUNTIF(B25:AF25,"A") -> 0 | AL25: 25 | AM25: =IF(AQ25="CHANGT P",0,AP25-AG25) -> 0
B26: =IF(OR(WEEKDAY(B$3)=1,WEEKDAY(B$3)=7),"WE",IFERROR(VLOOKUP(B$3,FERIE,2,0),"")) -> F | C26: C | D26: C | E26: C | F26: =IF(OR(WEEKDAY(F$3)=1,WEEKDAY(F$3)=7),"WE",IFERROR(VLOOKUP(F$3,FERIE,2,0),"")) -> WE | G26: =IF(OR(WEEKDAY(G$3)=1,WEEKDAY(G$3)=7),"WE",IFERROR(VLOOKUP(G$3,FERIE,2,0),"")) -> WE | H26: =IF(OR(WEEKDAY(H$3)=1,WEEKDAY(H$3)=7),"WE",IFERROR(VLOOKUP(H$3,FERIE,2,0),"")) | I26: =IF(OR(WEEKDAY(I$3)=1,WEEKDAY(I$3)=7),"WE",IFERROR(VLOOKUP(I$3,FERIE,2,0),"")) | J26: =IF(OR(WEEKDAY(J$3)=1,WEEKDAY(J$3)=7),"WE",IFERROR(VLOOKUP(J$3,FERIE,2,0),"")) | K26: =IF(OR(WEEKDAY(K$3)=1,WEEKDAY(K$3)=7),"WE",IFERROR(VLOOKUP(K$3,FERIE,2,0),"")) | L26: =IF(OR(WEEKDAY(L$3)=1,WEEKDAY(L$3)=7),"WE",IFERROR(VLOOKUP(L$3,FERIE,2,0),"")) | M26: =IF(OR(WEEKDAY(M$3)=1,WEEKDAY(M$3)=7),"WE",IFERROR(VLOOKUP(M$3,FERIE,2,0),"")) -> WE | ... AF26: =IF(OR(WEEKDAY(AF$3)=1,WEEKDAY(AF$3)=7),"WE",IFERROR(VLOOKUP(AF$3,FERIE,2,0),"")) | AG26: =COUNTIF(B26:AF26,"C") -> 3 | AH26: =COUNTIF(B26:AF26,"R") -> 0 | AI26: =+COUNTIF(B26:AF26,"M") -> 0 | AJ26: =+COUNTIF(B26:AF26,"W") -> 0 | AK26: =+COUNTIF(B26:AF26,"A") -> 0 | AL26: 25 | AM26: =IF(AQ26="CHANGT P",0,AP26-AG26) -> -3 | AN26: O
B27: =IF(OR(WEEKDAY(B$3)=1,WEEKDAY(B$3)=7),"WE",IFERROR(VLOOKUP(B$3,FERIE,2,0),"")) -> F | C27: C | D27: C | E27: C | F27: =IF(OR(WEEKDAY(F$3)=1,WEEKDAY(F$3)=7),"WE",IFERROR(VLOOKUP(F$3,FERIE,2,0),"")) -> WE | G27: =IF(OR(WEEKDAY(G$3)=1,WEEKDAY(G$3)=7),"WE",IFERROR(VLOOKUP(G$3,FERIE,2,0),"")) -> WE | H27: =IF(OR(WEEKDAY(H$3)=1,WEEKDAY(H$3)=7),"WE",IFERROR(VLOOKUP(H$3,FERIE,2,0),"")) | I27: =IF(OR(WEEKDAY(I$3)=1,WEEKDAY(I$3)=7),"WE",IFERROR(VLOOKUP(I$3,FERIE,2,0),"")) | J27: =IF(OR(WEEKDAY(J$3)=1,WEEKDAY(J$3)=7),"WE",IFERROR(VLOOKUP(J$3,FERIE,2,0),"")) | K27: =IF(OR(WEEKDAY(K$3)=1,WEEKDAY(K$3)=7),"WE",IFERROR(VLOOKUP(K$3,FERIE,2,0),"")) | L27: =IF(OR(WEEKDAY(L$3)=1,WEEKDAY(L$3)=7),"WE",IFERROR(VLOOKUP(L$3,FERIE,2,0),"")) | M27: =IF(OR(WEEKDAY(M$3)=1,WEEKDAY(M$3)=7),"WE",IFERROR(VLOOKUP(M$3,FERIE,2,0),"")) -> WE | ... AF27: =IF(OR(WEEKDAY(AF$3)=1,WEEKDAY(AF$3)=7),"WE",IFERROR(VLOOKUP(AF$3,FERIE,2,0),"")) | AG27: =COUNTIF(B27:AF27,"C") -> 3 | AH27: =COUNTIF(B27:AF27,"R") -> 0 | AI27: =+COUNTIF(B27:AF27,"M") -> 0 | AJ27: =+COUNTIF(B27:AF27,"W") -> 0 | AK27: =+COUNTIF(B27:AF27,"A") -> 0 | AL27: 25 | AM27: =IF(AQ27="CHANGT P",0,AP27-AG27) -> -3 | AN27: O
B28: =IF(OR(WEEKDAY(B$3)=1,WEEKDAY(B$3)=7),"WE",IFERROR(VLOOKUP(B$3,FERIE,2,0),"")) -> F | C28: =IF(OR(WEEKDAY(C$3)=1,WEEKDAY(C$3)=7),"WE",IFERROR(VLOOKUP(C$3,FERIE,2,0),"")) | D28: =IF(OR(WEEKDAY(D$3)=1,WEEKDAY(D$3)=7),"WE",IFERROR(VLOOKUP(D$3,FERIE,2,0),"")) | E28: =IF(OR(WEEKDAY(E$3)=1,WEEKDAY(E$3)=7),"WE",IFERROR(VLOOKUP(E$3,FERIE,2,0),"")) | F28: =IF(OR(WEEKDAY(F$3)=1,WEEKDAY(F$3)=7),"WE",IFERROR(VLOOKUP(F$3,FERIE,2,0),"")) -> WE | G28: =IF(OR(WEEKDAY(G$3)=1,WEEKDAY(G$3)=7),"WE",IFERROR(VLOOKUP(G$3,FERIE,2,0),"")) -> WE | H28: =IF(OR(WEEKDAY(H$3)=1,WEEKDAY(H$3)=7),"WE",IFERROR(VLOOKUP(H$3,FERIE,2,0),"")) | I28: =IF(OR(WEEKDAY(I$3)=1,WEEKDAY(I$3)=7),"WE",IFERROR(VLOOKUP(I$3,FERIE,2,0),"")) | ... AF28: =IF(OR(WEEKDAY(AF$3)=1,WEEKDAY(AF$3)=7),"WE",IFERROR(VLOOKUP(AF$3,FERIE,2,0),"")) | AG28: =COUNTIF(B28:AF28,"C") -> 0 | AH28: =COUNTIF(B28:AF28,"R") -> 0 | AI28: =+COUNTIF(B28:AF28,"M") -> 0 | AJ28: =+COUNTIF(B28:AF28,"W") -> 0 | AK28: =+COUNTIF(B28:AF28,"A") -> 0 | AL28: 25 | AM28: =IF(AQ28="CHANGT P",0,AP28-AG28) -> 0
B29: =IF(OR(WEEKDAY(B$3)=1,WEEKDAY(B$3)=7),"WE",IFERROR(VLOOKUP(B$3,FERIE,2,0),"")) -> F | C29: =IF(OR(WEEKDAY(C$3)=1,WEEKDAY(C$3)=7),"WE",IFERROR(VLOOKUP(C$3,FERIE,2,0),"")) | D29: =IF(OR(WEEKDAY(D$3)=1,WEEKDAY(D$3)=7),"WE",IFERROR(VLOOKUP(D$3,FERIE,2,0),"")) | E29: =IF(OR(WEEKDAY(E$3)=1,WEEKDAY(E$3)=7),"WE",IFERROR(VLOOKUP(E$3,FERIE,2,0),"")) | F29: =IF(OR(WEEKDAY(F$3)=1,WEEKDAY(F$3)=7),"WE",IFERROR(VLOOKUP(F$3,FERIE,2,0),"")) -> WE | G29: =IF(OR(WEEKDAY(G$3)=1,WEEKDAY(G$3)=7),"WE",IFERROR(VLOOKUP(G$3,FERIE,2,0),"")) -> WE | H29: =IF(OR(WEEKDAY(H$3)=1,WEEKDAY(H$3)=7),"WE",IFERROR(VLOOKUP(H$3,FERIE,2,0),"")) | I29: =IF(OR(WEEKDAY(I$3)=1,WEEKDAY(I$3)=7),"WE",IFERROR(VLOOKUP(I$3,FERIE,2,0),"")) | ... AF29: =IF(OR(WEEKDAY(AF$3)=1,WEEKDAY(AF$3)=7),"WE",IFERROR(VLOOKUP(AF$3,FERIE,2,0),"")) | AG29: =COUNTIF(B29:AF29,"C") -> 0 | AH29: =COUNTIF(B29:AF29,"R") -> 0 | AI29: =+COUNTIF(B29:AF29,"M") -> 0 | AJ29: =+COUNTIF(B29:AF29,"W") -> 0 | AK29: =+COUNTIF(B29:AF29,"A") -> 0 | AL29: 19 | AM29: =IF(AQ29="CHANGT P",0,AP29-AG29) -> 0
AG30: =COUNTIF(B30:AF30,"C") -> 0 | AH30: =COUNTIF(B30:AF30,"R") -> 0 | AI30: =+COUNTIF(B30:AF30,"M") -> 0 | AJ30: =+COUNTIF(B30:AF30,"W") -> 0 | AK30: =+COUNTIF(B30:AF30,"A") -> 0
B32: =IF(OR(WEEKDAY(B$3)=1,WEEKDAY(B$3)=7),"WE",IFERROR(VLOOKUP(B$3,FERIE,2,0),"")) -> F | C32: =IF(OR(WEEKDAY(C$3)=1,WEEKDAY(C$3)=7),"WE",IFERROR(VLOOKUP(C$3,FERIE,2,0),"")) | D32: =IF(OR(WEEKDAY(D$3)=1,WEEKDAY(D$3)=7),"WE",IFERROR(VLOOKUP(D$3,FERIE,2,0),"")) | E32: =IF(OR(WEEKDAY(E$3)=1,WEEKDAY(E$3)=7),"WE",IFERROR(VLOOKUP(E$3,FERIE,2,0),"")) | F32: =IF(OR(WEEKDAY(F$3)=1,WEEKDAY(F$3)=7),"WE",IFERROR(VLOOKUP(F$3,FERIE,2,0),"")) -> WE | G32: =IF(OR(WEEKDAY(G$3)=1,WEEKDAY(G$3)=7),"WE",IFERROR(VLOOKUP(G$3,FERIE,2,0),"")) -> WE | H32: =IF(OR(WEEKDAY(H$3)=1,WEEKDAY(H$3)=7),"WE",IFERROR(VLOOKUP(H$3,FERIE,2,0),"")) | I32: =IF(OR(WEEKDAY(I$3)=1,WEEKDAY(I$3)=7),"WE",IFERROR(VLOOKUP(I$3,FERIE,2,0),"")) | ... AF32: =IF(OR(WEEKDAY(AF$3)=1,WEEKDAY(AF$3)=7),"WE",IFERROR(VLOOKUP(AF$3,FERIE,2,0),"")) | AG32: =COUNTIF(B32:AF32,"C") -> 0 | AH32: =COUNTIF(B32:AF32,"R") -> 0 | AI32: =+COUNTIF(B32:AF32,"M") -> 0 | AJ32: =+COUNTIF(B32:AF32,"W") -> 0 | AK32: =+COUNTIF(B32:AF32,"A") -> 0 | AL32: 28 | AM32: =IF(AQ32="CHANGT P",0,AP32-AG32) -> 0
B33: =IF(OR(WEEKDAY(B$3)=1,WEEKDAY(B$3)=7),"WE",IFERROR(VLOOKUP(B$3,FERIE,2,0),"")) -> F | C33: =IF(OR(WEEKDAY(C$3)=1,WEEKDAY(C$3)=7),"WE",IFERROR(VLOOKUP(C$3,FERIE,2,0),"")) | D33: =IF(OR(WEEKDAY(D$3)=1,WEEKDAY(D$3)=7),"WE",IFERROR(VLOOKUP(D$3,FERIE,2,0),"")) | E33: =IF(OR(WEEKDAY(E$3)=1,WEEKDAY(E$3)=7),"WE",IFERROR(VLOOKUP(E$3,FERIE,2,0),"")) | F33: =IF(OR(WEEKDAY(F$3)=1,WEEKDAY(F$3)=7),"WE",IFERROR(VLOOKUP(F$3,FERIE,2,0),"")) -> WE | G33: =IF(OR(WEEKDAY(G$3)=1,WEEKDAY(G$3)=7),"WE",IFERROR(VLOOKUP(G$3,FERIE,2,0),"")) -> WE | H33: =IF(OR(WEEKDAY(H$3)=1,WEEKDAY(H$3)=7),"WE",IFERROR(VLOOKUP(H$3,FERIE,2,0),"")) | I33: =IF(OR(WEEKDAY(I$3)=1,WEEKDAY(I$3)=7),"WE",IFERROR(VLOOKUP(I$3,FERIE,2,0),"")) | ... AF33: =IF(OR(WEEKDAY(AF$3)=1,WEEKDAY(AF$3)=7),"WE",IFERROR(VLOOKUP(AF$3,FERIE,2,0),"")) | AG33: =COUNTIF(B33:AF33,"C") -> 0 | AH33: =COUNTIF(B33:AF33,"R") -> 0 | AI33: =+COUNTIF(B33:AF33,"M") -> 0 | AJ33: =+COUNTIF(B33:AF33,"W") -> 0 | AK33: =+COUNTIF(B33:AF33,"A") -> 0 | AL33: 22 | AM33: =IF(AQ33="CHANGT P",0,AP33-AG33) -> 0
B34: =IF(OR(WEEKDAY(B$3)=1,WEEKDAY(B$3)=7),"WE",IFERROR(VLOOKUP(B$3,FERIE,2,0),"")) -> F | C34: =IF(OR(WEEKDAY(C$3)=1,WEEKDAY(C$3)=7),"WE",IFERROR(VLOOKUP(C$3,FERIE,2,0),"")) | D34: =IF(OR(WEEKDAY(D$3)=1,WEEKDAY(D$3)=7),"WE",IFERROR(VLOOKUP(D$3,FERIE,2,0),"")) | E34: =IF(OR(WEEKDAY(E$3)=1,WEEKDAY(E$3)=7),"WE",IFERROR(VLOOKUP(E$3,FERIE,2,0),"")) | F34: =IF(OR(WEEKDAY(F$3)=1,WEEKDAY(F$3)=7),"WE",IFERROR(VLOOKUP(F$3,FERIE,2,0),"")) -> WE | G34: =IF(OR(WEEKDAY(G$3)=1,WEEKDAY(G$3)=7),"WE",IFERROR(VLOOKUP(G$3,FERIE,2,0),"")) -> WE | H34: =IF(OR(WEEKDAY(H$3)=1,WEEKDAY(H$3)=7),"WE",IFERROR(VLOOKUP(H$3,FERIE,2,0),"")) | I34: =IF(OR(WEEKDAY(I$3)=1,WEEKDAY(I$3)=7),"WE",IFERROR(VLOOKUP(I$3,FERIE,2,0),"")) | ... AF34: =IF(OR(WEEKDAY(AF$3)=1,WEEKDAY(AF$3)=7),"WE",IFERROR(VLOOKUP(AF$3,FERIE,2,0),"")) | AG34: =COUNTIF(B34:AF34,"C") -> 0 | AH34: =COUNTIF(B34:AF34,"R") -> 0 | AI34: =+COUNTIF(B34:AF34,"M") -> 0 | AJ34: =+COUNTIF(B34:AF34,"W") -> 0 | AK34: =+COUNTIF(B34:AF34,"A") -> 0 | AL34: 1 | AM34: =IF(AQ34="CHANGT P",0,AP34-AG34) -> 0
B35: =IF(OR(WEEKDAY(B$3)=1,WEEKDAY(B$3)=7),"WE",IFERROR(VLOOKUP(B$3,FERIE,2,0),"")) -> F | C35: =IF(OR(WEEKDAY(C$3)=1,WEEKDAY(C$3)=7),"WE",IFERROR(VLOOKUP(C$3,FERIE,2,0),"")) | D35: =IF(OR(WEEKDAY(D$3)=1,WEEKDAY(D$3)=7),"WE",IFERROR(VLOOKUP(D$3,FERIE,2,0),"")) | E35: =IF(OR(WEEKDAY(E$3)=1,WEEKDAY(E$3)=7),"WE",IFERROR(VLOOKUP(E$3,FERIE,2,0),"")) | F35: =IF(OR(WEEKDAY(F$3)=1,WEEKDAY(F$3)=7),"WE",IFERROR(VLOOKUP(F$3,FERIE,2,0),"")) -> WE | G35: =IF(OR(WEEKDAY(G$3)=1,WEEKDAY(G$3)=7),"WE",IFERROR(VLOOKUP(G$3,FERIE,2,0),"")) -> WE | H35: =IF(OR(WEEKDAY(H$3)=1,WEEKDAY(H$3)=7),"WE",IFERROR(VLOOKUP(H$3,FERIE,2,0),"")) | I35: =IF(OR(WEEKDAY(I$3)=1,WEEKDAY(I$3)=7),"WE",IFERROR(VLOOKUP(I$3,FERIE,2,0),"")) | ... AF35: =IF(OR(WEEKDAY(AF$3)=1,WEEKDAY(AF$3)=7),"WE",IFERROR(VLOOKUP(AF$3,FERIE,2,0),"")) | AG35: =COUNTIF(B35:AF35,"C") -> 0 | AH35: =COUNTIF(B35:AF35,"R") -> 0 | AI35: =+COUNTIF(B35:AF35,"M") -> 0 | AJ35: =+COUNTIF(B35:AF35,"W") -> 0 | AK35: =+COUNTIF(B35:AF35,"A") -> 0 | AM35: =IF(AQ35="CHANGT P",0,AP35-AG35) -> 0
B36: =IF(OR(WEEKDAY(B$3)=1,WEEKDAY(B$3)=7),"WE",IFERROR(VLOOKUP(B$3,FERIE,2,0),"")) -> F | C36: =IF(OR(WEEKDAY(C$3)=1,WEEKDAY(C$3)=7),"WE",IFERROR(VLOOKUP(C$3,FERIE,2,0),"")) | D36: =IF(OR(WEEKDAY(D$3)=1,WEEKDAY(D$3)=7),"WE",IFERROR(VLOOKUP(D$3,FERIE,2,0),"")) | E36: =IF(OR(WEEKDAY(E$3)=1,WEEKDAY(E$3)=7),"WE",IFERROR(VLOOKUP(E$3,FERIE,2,0),"")) | F36: =IF(OR(WEEKDAY(F$3)=1,WEEKDAY(F$3)=7),"WE",IFERROR(VLOOKUP(F$3,FERIE,2,0),"")) -> WE | G36: =IF(OR(WEEKDAY(G$3)=1,WEEKDAY(G$3)=7),"WE",IFERROR(VLOOKUP(G$3,FERIE,2,0),"")) -> WE | H36: =IF(OR(WEEKDAY(H$3)=1,WEEKDAY(H$3)=7),"WE",IFERROR(VLOOKUP(H$3,FERIE,2,0),"")) | I36: =IF(OR(WEEKDAY(I$3)=1,WEEKDAY(I$3)=7),"WE",IFERROR(VLOOKUP(I$3,FERIE,2,0),"")) | ... AF36: =IF(OR(WEEKDAY(AF$3)=1,WEEKDAY(AF$3)=7),"WE",IFERROR(VLOOKUP(AF$3,FERIE,2,0),"")) | AG36: =COUNTIF(B36:AF36,"C") -> 0 | AH36: =COUNTIF(B36:AF36,"R") -> 0 | AI36: =+COUNTIF(B36:AF36,"M") -> 0 | AJ36: =+COUNTIF(B36:AF36,"W") -> 0 | AK36: =+COUNTIF(B36:AF36,"A") -> 0 | AL36: 30 | AM36: =IF(AQ36="CHANGT P",0,AP36-AG36) -> 0
B37: =IF(OR(WEEKDAY(B$3)=1,WEEKDAY(B$3)=7),"WE",IFERROR(VLOOKUP(B$3,FERIE,2,0),"")) -> F | F37: =IF(OR(WEEKDAY(F$3)=1,WEEKDAY(F$3)=7),"WE",IFERROR(VLOOKUP(F$3,FERIE,2,0),"")) -> WE | G37: =IF(OR(WEEKDAY(G$3)=1,WEEKDAY(G$3)=7),"WE",IFERROR(VLOOKUP(G$3,FERIE,2,0),"")) -> WE | H37: =IF(OR(WEEKDAY(H$3)=1,WEEKDAY(H$3)=7),"WE",IFERROR(VLOOKUP(H$3,FERIE,2,0),"")) | I37: =IF(OR(WEEKDAY(I$3)=1,WEEKDAY(I$3)=7),"WE",IFERROR(VLOOKUP(I$3,FERIE,2,0),"")) | J37: =IF(OR(WEEKDAY(J$3)=1,WEEKDAY(J$3)=7),"WE",IFERROR(VLOOKUP(J$3,FERIE,2,0),"")) | K37: =IF(OR(WEEKDAY(K$3)=1,WEEKDAY(K$3)=7),"WE",IFERROR(VLOOKUP(K$3,FERIE,2,0),"")) | L37: =IF(OR(WEEKDAY(L$3)=1,WEEKDAY(L$3)=7),"WE",IFERROR(VLOOKUP(L$3,FERIE,2,0),"")) | M37: =IF(OR(WEEKDAY(M$3)=1,WEEKDAY(M$3)=7),"WE",IFERROR(VLOOKUP(M$3,FERIE,2,0),"")) -> WE | ... AF37: =IF(OR(WEEKDAY(AF$3)=1,WEEKDAY(AF$3)=7),"WE",IFERROR(VLOOKUP(AF$3,FERIE,2,0),"")) | AG37: =COUNTIF(B37:AF37,"C") -> 0 | AH37: =COUNTIF(B37:AF37,"R") -> 0 | AI37: =+COUNTIF(B37:AF37,"M") -> 0 | AJ37: =+COUNTIF(B37:AF37,"W") -> 0 | AK37: =+COUNTIF(B37:AF37,"A") -> 0 | AL37: 25 | AM37: =IF(AQ37="CHANGT P",0,AP37-AG37) -> 0

Sheet 02
B1: =DATE(YEAR('01'!B1:AF1),MONTH('01'!B1:AF1)+1,DAY('01'!B1:AF1)) -> 43497
A2: =B1 -> 43497 | B2: =COUNTIF(B10:B38,"C")+COUNTIF(B10:B38,"R")+COUNTIF(B10:B38,"M")+COUNTIF(B10:B38,"A")+COUNTIF(B10:B38,"W") -> 0 | C2: =COUNTIF(C10:C38,"C")+COUNTIF(C10:C38,"R")+COUNTIF(C10:C38,"M")+COUNTIF(C10:C38,"A")+COUNTIF(C10:C38,"W") -> 0 | D2: =COUNTIF(D10:D38,"C")+COUNTIF(D10:D38,"R")+COUNTIF(D10:D38,"M")+COUNTIF(D10:D38,"A")+COUNTIF(D10:D38,"W") -> 0 | E2: =COUNTIF(E10:E38,"C")+COUNTIF(E10:E38,"R")+COUNTIF(E10:E38,"M")+COUNTIF(E10:E38,"A")+COUNTIF(E10:E38,"W") -> 0 | F2: =COUNTIF(F10:F38,"C")+COUNTIF(F10:F38,"R")+COUNTIF(F10:F38,"M")+COUNTIF(F10:F38,"A")+COUNTIF(F10:F38,"W") -> 0 | G2: =COUNTIF(G10:G38,"C")+COUNTIF(G10:G38,"R")+COUNTIF(G10:G38,"M")+COUNTIF(G10:G38,"A")+COUNTIF(G10:G38,"W") -> 1 | H2: =COUNTIF(H10:H38,"C")+COUNTIF(H10:H38,"R")+COUNTIF(H10:H38,"M")+COUNTIF(H10:H38,"A")+COUNTIF(H10:H38,"W") -> 1 | I2: =COUNTIF(I10:I38,"C")+COUNTIF(I10:I38,"R")+COUNTIF(I10:I38,"M")+COUNTIF(I10:I38,"A")+COUNTIF(I10:I38,"W") -> 3 | ... AE2: =COUNTIF(AE10:AE38,"C")+COUNTIF(AE10:AE38,"R")+COUNTIF(AE10:AE38,"M")+COUNTIF(AE10:AE38,"A")+COUNTIF(AE10:AE38,"W") -> 0 | AF2: CP | AG2: RRR | AH2: MALADIE | AI2: AT | AJ2: AUTRES | AK2: CP ACQUIS AU 31/05 | AL2: SOLDE CP | AM2: Validé F. M | AN2: Validé R | AP2: Observations
B3: =B1 -> 43497 | C3: =DATE(YEAR(B3),MONTH(B3),DAY(B3)+1) -> 43498 | D3: =DATE(YEAR(C3),MONTH(C3),DAY(C3)+1) -> 43499 | E3: =DATE(YEAR(D3),MONTH(D3),DAY(D3)+1) -> 43500 | F3: =DATE(YEAR(E3),MONTH(E3),DAY(E3)+1) -> 43501 | G3: =DATE(YEAR(F3),MONTH(F3),DAY(F3)+1) -> 43502 | H3: =DATE(YEAR(G3),MONTH(G3),DAY(G3)+1) -> 43503 | I3: =DATE(YEAR(H3),MONTH(H3),DAY(H3)+1) -> 43504 | J3: =DATE(YEAR(I3),MONTH(I3),DAY(I3)+1) -> 43505 | ... AC3: =DATE(YEAR(AB3),MONTH(AB3),DAY(AB3)+1) -> 43524 | AD3: =DATE(YEAR(#REF!),MONTH(#REF!),DAY(#REF!)+1) -> #REF! | AE3: =DATE(YEAR(AD3),MONTH(AD3),DAY(AD3)+1) -> #REF!
A4: =NETWORKDAYS(B3,AC4)&" jrs ouvrés" -> 20 jrs ouvrés | B4: =B1 -> 43497 | C4: =C3 -> 43498 | D4: =D3 -> 43499 | E4: =E3 -> 43500 | F4: =F3 -> 43501 | G4: =G3 -> 43502 | H4: =H3 -> 43503 | I4: =I3 -> 43504 | J4: =J3 -> 43505 | ... N4: =N3 -> 43509 | O4: jeudi | P4: =P3 -> 43511 | Q4: =Q3 -> 43512 | R4: =R3 -> 43513 | S4: =S3 -> 43514 | T4: =T3 -> 43515 | U4: =U3 -> 43516 | V4: =V3 -> 43517 | W4: =W3 -> 43518 | ... AC4: =AC3 -> 43524
B6: =IF(OR(WEEKDAY(B$3)=1,WEEKDAY(B$3)=7),"WE",IFERROR(VLOOKUP(B$3,FERIE,2,0),"")) | C6: =IF(OR(WEEKDAY(C$3)=1,WEEKDAY(C$3)=7),"WE",IFERROR(VLOOKUP(C$3,FERIE,2,0),"")) -> WE | D6: =IF(OR(WEEKDAY(D$3)=1,WEEKDAY(D$3)=7),"WE",IFERROR(VLOOKUP(D$3,FERIE,2,0),"")) -> WE | E6: =IF(OR(WEEKDAY(E$3)=1,WEEKDAY(E$3)=7),"WE",IFERROR(VLOOKUP(E$3,FERIE,2,0),"")) | F6: =IF(OR(WEEKDAY(F$3)=1,WEEKDAY(F$3)=7),"WE",IFERROR(VLOOKUP(F$3,FERIE,2,0),"")) | G6: =IF(OR(WEEKDAY(G$3)=1,WEEKDAY(G$3)=7),"WE",IFERROR(VLOOKUP(G$3,FERIE,2,0),"")) | H6: =IF(OR(WEEKDAY(H$3)=1,WEEKDAY(H$3)=7),"WE",IFERROR(VLOOKUP(H$3,FERIE,2,0),"")) | I6: =IF(OR(WEEKDAY(I$3)=1,WEEKDAY(I$3)=7),"WE",IFERROR(VLOOKUP(I$3,FERIE,2,0),"")) | ... M6: =IF(OR(WEEKDAY(M$3)=1,WEEKDAY(M$3)=7),"WE",IFERROR(VLOOKUP(M$3,FERIE,2,0),"")) | O6: =IF(OR(WEEKDAY(N$3)=1,WEEKDAY(N$3)=7),"WE",IFERROR(VLOOKUP(N$3,FERIE,2,0),"")) | P6: =IF(OR(WEEKDAY(P$3)=1,WEEKDAY(P$3)=7),"WE",IFERROR(VLOOKUP(P$3,FERIE,2,0),"")) | Q6: =IF(OR(WEEKDAY(Q$3)=1,WEEKDAY(Q$3)=7),"WE",IFERROR(VLOOKUP(Q$3,FERIE,2,0),"")) -> WE | R6: =IF(OR(WEEKDAY(R$3)=1,WEEKDAY(R$3)=7),"WE",IFERROR(VLOOKUP(R$3,FERIE,2,0),"")) -> WE | S6: =IF(OR(WEEKDAY(S$3)=1,WEEKDAY(S$3)=7),"WE",IFERROR(VLOOKUP(S$3,FERIE,2,0),"")) | T6: =IF(OR(WEEKDAY(T$3)=1,WEEKDAY(T$3)=7),"WE",IFERROR(VLOOKUP(T$3,FERIE,2,0),"")) | U6: =IF(OR(WEEKDAY(U$3)=1,WEEKDAY(U$3)=7),"WE",IFERROR(VLOOKUP(U$3,FERIE,2,0),"")) | V6: =IF(OR(WEEKDAY(V$3)=1,WEEKDAY(V$3)=7),"WE",IFERROR(VLOOKUP(V$3,FERIE,2,0),"")) | W6: =IF(OR(WEEKDAY(W$3)=1,WEEKDAY(W$3)=7),"WE",IFERROR(VLOOKUP(W$3,FERIE,2,0),"")) | ... AC6: =IF(OR(WEEKDAY(AC$3)=1,WEEKDAY(AC$3)=7),"WE",IFERROR(VLOOKUP(AC$3,FERIE,2,0),"")) | AF6: =COUNTIF(B6:AE6,"C") -> 0 | AG6: =COUNTIF(B6:AE6,"R") -> 0 | AH6: =+COUNTIF(B6:AE6,"M") -> 0 | AI6: =+COUNTIF(B6:AE6,"W") -> 0 | AJ6: =+COUNTIF(B6:AE6,"A") -> 0
B7: =IF(OR(WEEKDAY(B$3)=1,WEEKDAY(B$3)=7),"WE",IFERROR(VLOOKUP(B$3,FERIE,2,0),"")) | C7: =IF(OR(WEEKDAY(C$3)=1,WEEKDAY(C$3)=7),"WE",IFERROR(VLOOKUP(C$3,FERIE,2,0),"")) -> WE | D7: =IF(OR(WEEKDAY(D$3)=1,WEEKDAY(D$3)=7),"WE",IFERROR(VLOOKUP(D$3,FERIE,2,0),"")) -> WE | E7: =IF(OR(WEEKDAY(E$3)=1,WEEKDAY(E$3)=7),"WE",IFERROR(VLOOKUP(E$3,FERIE,2,0),"")) | F7: =IF(OR(WEEKDAY(F$3)=1,WEEKDAY(F$3)=7),"WE",IFERROR(VLOOKUP(F$3,FERIE,2,0),"")) | G7: =IF(OR(WEEKDAY(G$3)=1,WEEKDAY(G$3)=7),"WE",IFERROR(VLOOKUP(G$3,FERIE,2,0),"")) | H7: =IF(OR(WEEKDAY(H$3)=1,WEEKDAY(H$3)=7),"WE",IFERROR(VLOOKUP(H$3,FERIE,2,0),"")) | I7: =IF(OR(WEEKDAY(I$3)=1,WEEKDAY(I$3)=7),"WE",IFERROR(VLOOKUP(I$3,FERIE,2,0),"")) | ... AC7: =IF(OR(WEEKDAY(AC$3)=1,WEEKDAY(AC$3)=7),"WE",IFERROR(VLOOKUP(AC$3,FERIE,2,0),"")) | AF7: =COUNTIF(B7:AE7,"C") -> 0 | AG7: =COUNTIF(B7:AE7,"R") -> 0 | AH7: =+COUNTIF(B7:AE7,"M") -> 0 | AI7: =+COUNTIF(B7:AE7,"W") -> 0 | AJ7: =+COUNTIF(B7:AE7,"A") -> 0
B8: =IF(OR(WEEKDAY(B$3)=1,WEEKDAY(B$3)=7),"WE",IFERROR(VLOOKUP(B$3,FERIE,2,0),"")) | C8: =IF(OR(WEEKDAY(C$3)=1,WEEKDAY(C$3)=7),"WE",IFERROR(VLOOKUP(C$3,FERIE,2,0),"")) -> WE | D8: =IF(OR(WEEKDAY(D$3)=1,WEEKDAY(D$3)=7),"WE",IFERROR(VLOOKUP(D$3,FERIE,2,0),"")) -> WE | E8: =IF(OR(WEEKDAY(E$3)=1,WEEKDAY(E$3)=7),"WE",IFERROR(VLOOKUP(E$3,FERIE,2,0),"")) | F8: =IF(OR(WEEKDAY(F$3)=1,WEEKDAY(F$3)=7),"WE",IFERROR(VLOOKUP(F$3,FERIE,2,0),"")) | G8: =IF(OR(WEEKDAY(G$3)=1,WEEKDAY(G$3)=7),"WE",IFERROR(VLOOKUP(G$3,FERIE,2,0),"")) | H8: =IF(OR(WEEKDAY(H$3)=1,WEEKDAY(H$3)=7),"WE",IFERROR(VLOOKUP(H$3,FERIE,2,0),"")) | I8: =IF(OR(WEEKDAY(I$3)=1,WEEKDAY(I$3)=7),"WE",IFERROR(VLOOKUP(I$3,FERIE,2,0),"")) | ... AC8: =IF(OR(WEEKDAY(AC$3)=1,WEEKDAY(AC$3)=7),"WE",IFERROR(VLOOKUP(AC$3,FERIE,2,0),"")) | AF8: =COUNTIF(B8:AE8,"C") -> 0 | AG8: =COUNTIF(B8:AE8,"R") -> 0 | AH8: =+COUNTIF(B8:AE8,"M") -> 0 | AI8: =+COUNTIF(B8:AE8,"W") -> 0 | AJ8: =+COUNTIF(B8:AE8,"A") -> 0
B9: =IF(OR(WEEKDAY(B$3)=1,WEEKDAY(B$3)=7),"WE",IFERROR(VLOOKUP(B$3,FERIE,2,0),"")) | C9: =IF(OR(WEEKDAY(C$3)=1,WEEKDAY(C$3)=7),"WE",IFERROR(VLOOKUP(C$3,FERIE,2,0),"")) -> WE | D9: =IF(OR(WEEKDAY(D$3)=1,WEEKDAY(D$3)=7),"WE",IFERROR(VLOOKUP(D$3,FERIE,2,0),"")) -> WE | E9: =IF(OR(WEEKDAY(E$3)=1,WEEKDAY(E$3)=7),"WE",IFERROR(VLOOKUP(E$3,FERIE,2,0),"")) | F9: =IF(OR(WEEKDAY(F$3)=1,WEEKDAY(F$3)=7),"WE",IFERROR(VLOOKUP(F$3,FERIE,2,0),"")) | G9: =IF(OR(WEEKDAY(G$3)=1,WEEKDAY(G$3)=7),"WE",IFERROR(VLOOKUP(G$3,FERIE,2,0),"")) | H9: =IF(OR(WEEKDAY(H$3)=1,WEEKDAY(H$3)=7),"WE",IFERROR(VLOOKUP(H$3,FERIE,2,0),"")) | I9: =IF(OR(WEEKDAY(I$3)=1,WEEKDAY(I$3)=7),"WE",IFERROR(VLOOKUP(I$3,FERIE,2,0),"")) | ... AC9: =IF(OR(WEEKDAY(AC$3)=1,WEEKDAY(AC$3)=7),"WE",IFERROR(VLOOKUP(AC$3,FERIE,2,0),"")) | AF9: =COUNTIF(B9:AE9,"C") -> 0 | AG9: =COUNTIF(B9:AE9,"R") -> 0 | AH9: =+COUNTIF(B9:AE9,"M") -> 0 | AI9: =+COUNTIF(B9:AE9,"W") -> 0 | AJ9: =+COUNTIF(B9:AE9,"A") -> 0
B10: =IF(OR(WEEKDAY(B$3)=1,WEEKDAY(B$3)=7),"WE",IFERROR(VLOOKUP(B$3,FERIE,2,0),"")) | C10: =IF(OR(WEEKDAY(C$3)=1,WEEKDAY(C$3)=7),"WE",IFERROR(VLOOKUP(C$3,FERIE,2,0),"")) -> WE | D10: =IF(OR(WEEKDAY(D$3)=1,WEEKDAY(D$3)=7),"WE",IFERROR(VLOOKUP(D$3,FERIE,2,0),"")) -> WE | E10: =IF(OR(WEEKDAY(E$3)=1,WEEKDAY(E$3)=7),"WE",IFERROR(VLOOKUP(E$3,FERIE,2,0),"")) | F10: =IF(OR(WEEKDAY(F$3)=1,WEEKDAY(F$3)=7),"WE",IFERROR(VLOOKUP(F$3,FERIE,2,0),"")) | G10: =IF(OR(WEEKDAY(G$3)=1,WEEKDAY(G$3)=7),"WE",IFERROR(VLOOKUP(G$3,FERIE,2,0),"")) | H10: =IF(OR(WEEKDAY(H$3)=1,WEEKDAY(H$3)=7),"WE",IFERROR(VLOOKUP(H$3,FERIE,2,0),"")) | I10: =IF(OR(WEEKDAY(I$3)=1,WEEKDAY(I$3)=7),"WE",IFERROR(VLOOKUP(I$3,FERIE,2,0),"")) | ... AC10: =IF(OR(WEEKDAY(AC$3)=1,WEEKDAY(AC$3)=7),"WE",IFERROR(VLOOKUP(AC$3,FERIE,2,0),"")) | AF10: =COUNTIF(B10:AE10,"C") -> 0 | AG10: =COUNTIF(B10:AE10,"R") -> 0 | AH10: =+COUNTIF(B10:AE10,"M") -> 0 | AI10: =+COUNTIF(B10:AE10,"W") -> 0 | AJ10: =+COUNTIF(B10:AE10,"A") -> 0
B11: =IF(OR(WEEKDAY(B$3)=1,WEEKDAY(B$3)=7),"WE",IFERROR(VLOOKUP(B$3,FERIE,2,0),"")) | C11: =IF(OR(WEEKDAY(C$3)=1,WEEKDAY(C$3)=7),"WE",IFERROR(VLOOKUP(C$3,FERIE,2,0),"")) -> WE | D11: =IF(OR(WEEKDAY(D$3)=1,WEEKDAY(D$3)=7),"WE",IFERROR(VLOOKUP(D$3,FERIE,2,0),"")) -> WE | E11: =IF(OR(WEEKDAY(E$3)=1,WEEKDAY(E$3)=7),"WE",IFERROR(VLOOKUP(E$3,FERIE,2,0),"")) | F11: =IF(OR(WEEKDAY(F$3)=1,WEEKDAY(F$3)=7),"WE",IFERROR(VLOOKUP(F$3,FERIE,2,0),"")) | G11: =IF(OR(WEEKDAY(G$3)=1,WEEKDAY(G$3)=7),"WE",IFERROR(VLOOKUP(G$3,FERIE,2,0),"")) | H11: =IF(OR(WEEKDAY(H$3)=1,WEEKDAY(H$3)=7),"WE",IFERROR(VLOOKUP(H$3,FERIE,2,0),"")) | I11: =IF(OR(WEEKDAY(I$3)=1,WEEKDAY(I$3)=7),"WE",IFERROR(VLOOKUP(I$3,FERIE,2,0),"")) | ... AE11: =IF(OR(WEEKDAY(AE$3)=1,WEEKDAY(AE$3)=7),"WE",IFERROR(VLOOKUP(AE$3,FERIE,2,0),"")) -> #REF! | AF11: =COUNTIF(B11:AE11,"C") -> 0 | AG11: =COUNTIF(B11:AE11,"R") -> 0 | AH11: =+COUNTIF(B11:AE11,"M") -> 0 | AI11: =+COUNTIF(B11:AE11,"W") -> 0 | AJ11: =+COUNTIF(B11:AE11,"A") -> 0
B12: =IF(OR(WEEKDAY(B$3)=1,WEEKDAY(B$3)=7),"WE",IFERROR(VLOOKUP(B$3,FERIE,2,0),"")) | C12: =IF(OR(WEEKDAY(C$3)=1,WEEKDAY(C$3)=7),"WE",IFERROR(VLOOKUP(C$3,FERIE,2,0),"")) -> WE | D12: =IF(OR(WEEKDAY(D$3)=1,WEEKDAY(D$3)=7),"WE",IFERROR(VLOOKUP(D$3,FERIE,2,0),"")) -> WE | E12: =IF(OR(WEEKDAY(E$3)=1,WEEKDAY(E$3)=7),"WE",IFERROR(VLOOKUP(E$3,FERIE,2,0),"")) | F12: =IF(OR(WEEKDAY(F$3)=1,WEEKDAY(F$3)=7),"WE",IFERROR(VLOOKUP(F$3,FERIE,2,0),"")) | G12: =IF(OR(WEEKDAY(G$3)=1,WEEKDAY(G$3)=7),"WE",IFERROR(VLOOKUP(G$3,FERIE,2,0),"")) | H12: =IF(OR(WEEKDAY(H$3)=1,WEEKDAY(H$3)=7),"WE",IFERROR(VLOOKUP(H$3,FERIE,2,0),"")) | I12: =IF(OR(WEEKDAY(I$3)=1,WEEKDAY(I$3)=7),"WE",IFERROR(VLOOKUP(I$3,FERIE,2,0),"")) | ... AE12: =IF(OR(WEEKDAY(AE$3)=1,WEEKDAY(AE$3)=7),"WE",IFERROR(VLOOKUP(AE$3,FERIE,2,0),"")) -> #REF! | AF12: =COUNTIF(B12:AE12,"C") -> 0 | AG12: =COUNTIF(B12:AE12,"R") -> 0 | AH12: =+COUNTIF(B12:AE12,"M") -> 0 | AI12: =+COUNTIF(B12:AE12,"W") -> 0 | AJ12: =+COUNTIF(B12:AE12,"A") -> 0
B13: =IF(OR(WEEKDAY(B$3)=1,WEEKDAY(B$3)=7),"WE",IFERROR(VLOOKUP(B$3,FERIE,2,0),"")) | C13: =IF(OR(WEEKDAY(C$3)=1,WEEKDAY(C$3)=7),"WE",IFERROR(VLOOKUP(C$3,FERIE,2,0),"")) -> WE | D13: =IF(OR(WEEKDAY(D$3)=1,WEEKDAY(D$3)=7),"WE",IFERROR(VLOOKUP(D$3,FERIE,2,0),"")) -> WE | E13: =IF(OR(WEEKDAY(E$3)=1,WEEKDAY(E$3)=7),"WE",IFERROR(VLOOKUP(E$3,FERIE,2,0),"")) | F13: =IF(OR(WEEKDAY(F$3)=1,WEEKDAY(F$3)=7),"WE",IFERROR(VLOOKUP(F$3,FERIE,2,0),"")) | G13: C | H13: C | I13: C | J13: =IF(OR(WEEKDAY(J$3)=1,WEEKDAY(J$3)=7),"WE",IFERROR(VLOOKUP(J$3,FERIE,2,0),"")) -> WE | K13: =IF(OR(WEEKDAY(K$3)=1,WEEKDAY(K$3)=7),"WE",IFERROR(VLOOKUP(K$3,FERIE,2,0),"")) -> WE | L13: C | M13: C | N13: C | O13: C | P13: C | Q13: =IF(OR(WEEKDAY(Q$3)=1,WEEKDAY(Q$3)=7),"WE",IFERROR(VLOOKUP(Q$3,FERIE,2,0),"")) -> WE | R13: =IF(OR(WEEKDAY(R$3)=1,WEEKDAY(R$3)=7),"WE",IFERROR(VLOOKUP(R$3,FERIE,2,0),"")) -> WE | S13: =IF(OR(WEEKDAY(S$3)=1,WEEKDAY(S$3)=7),"WE",IFERROR(VLOOKUP(S$3,FERIE,2,0),"")) | T13: =IF(OR(WEEKDAY(T$3)=1,WEEKDAY(T$3)=7),"WE",IFERROR(VLOOKUP(T$3,FERIE,2,0),"")) | U13: =IF(OR(WEEKDAY(U$3)=1,WEEKDAY(U$3)=7),"WE",IFERROR(VLOOKUP(U$3,FERIE,2,0),"")) | V13: =IF(OR(WEEKDAY(V$3)=1,WEEKDAY(V$3)=7),"WE",IFERROR(VLOOKUP(V$3,FERIE,2,0),"")) | W13: =IF(OR(WEEKDAY(W$3)=1,WEEKDAY(W$3)=7),"WE",IFERROR(VLOOKUP(W$3,FERIE,2,0),"")) | X13: =IF(OR(WEEKDAY(X$3)=1,WEEKDAY(X$3)=7),"WE",IFERROR(VLOOKUP(X$3,FERIE,2,0),"")) -> WE | ... AE13: =IF(OR(WEEKDAY(AE$3)=1,WEEKDAY(AE$3)=7),"WE",IFERROR(VLOOKUP(AE$3,FERIE,2,0),"")) -> #REF! | AF13: =COUNTIF(B13:AE13,"C") -> 8 | AG13: =COUNTIF(B13:AE13,"R") -> 0 | AH13: =+COUNTIF(B13:AE13,"M") -> 0 | AI13: =+COUNTIF(B13:AE13,"W") -> 0 | AJ13: =+COUNTIF(B13:AE13,"A") -> 0 | AM13: O
B14: =IF(OR(WEEKDAY(B$3)=1,WEEKDAY(B$3)=7),"WE",IFERROR(VLOOKUP(B$3,FERIE,2,0),"")) | C14: =IF(OR(WEEKDAY(C$3)=1,WEEKDAY(C$3)=7),"WE",IFERROR(VLOOKUP(C$3,FERIE,2,0),"")) -> WE | D14: =IF(OR(WEEKDAY(D$3)=1,WEEKDAY(D$3)=7),"WE",IFERROR(VLOOKUP(D$3,FERIE,2,0),"")) -> WE | E14: =IF(OR(WEEKDAY(E$3)=1,WEEKDAY(E$3)=7),"WE",IFERROR(VLOOKUP(E$3,FERIE,2,0),"")) | F14: =IF(OR(WEEKDAY(F$3)=1,WEEKDAY(F$3)=7),"WE",IFERROR(VLOOKUP(F$3,FERIE,2,0),"")) | G14: =IF(OR(WEEKDAY(G$3)=1,WEEKDAY(G$3)=7),"WE",IFERROR(VLOOKUP(G$3,FERIE,2,0),"")) | H14: =IF(OR(WEEKDAY(H$3)=1,WEEKDAY(H$3)=7),"WE",IFERROR(VLOOKUP(H$3,FERIE,2,0),"")) | I14: =IF(OR(WEEKDAY(I$3)=1,WEEKDAY(I$3)=7),"WE",IFERROR(VLOOKUP(I$3,FERIE,2,0),"")) | ... AE14: =IF(OR(WEEKDAY(AE$3)=1,WEEKDAY(AE$3)=7),"WE",IFERROR(VLOOKUP(AE$3,FERIE,2,0),"")) -> #REF! | AF14: =COUNTIF(B14:AE14,"C") -> 0 | AG14: =COUNTIF(B14:AE14,"R") -> 0 | AH14: =+COUNTIF(B14:AE14,"M") -> 0 | AI14: =+COUNTIF(B14:AE14,"W") -> 0 | AJ14: =+COUNTIF(B14:AE14,"A") -> 0
B15: =IF(OR(WEEKDAY(B$3)=1,WEEKDAY(B$3)=7),"WE",IFERROR(VLOOKUP(B$3,FERIE,2,0),"")) | C15: =IF(OR(WEEKDAY(C$3)=1,WEEKDAY(C$3)=7),"WE",IFERROR(VLOOKUP(C$3,FERIE,2,0),"")) -> WE | D15: =IF(OR(WEEKDAY(D$3)=1,WEEKDAY(D$3)=7),"WE",IFERROR(VLOOKUP(D$3,FERIE,2,0),"")) -> WE | E15: =IF(OR(WEEKDAY(E$3)=1,WEEKDAY(E$3)=7),"WE",IFERROR(VLOOKUP(E$3,FERIE,2,0),"")) | F15: =IF(OR(WEEKDAY(F$3)=1,WEEKDAY(F$3)=7),"WE",IFERROR(VLOOKUP(F$3,FERIE,2,0),"")) | G15: =IF(OR(WEEKDAY(G$3)=1,WEEKDAY(G$3)=7),"WE",IFERROR(VLOOKUP(G$3,FERIE,2,0),"")) | H15: =IF(OR(WEEKDAY(H$3)=1,WEEKDAY(H$3)=7),"WE",IFERROR(VLOOKUP(H$3,FERIE,2,0),"")) | I15: =IF(OR(WEEKDAY(I$3)=1,WEEKDAY(I$3)=7),"WE",IFERROR(VLOOKUP(I$3,FERIE,2,0),"")) | ... AC15: =IF(OR(WEEKDAY(AC$3)=1,WEEKDAY(AC$3)=7),"WE",IFERROR(VLOOKUP(AC$3,FERIE,2,0),"")) | AF15: =COUNTIF(B15:AE15,"C") -> 0 | AG15: =COUNTIF(B15:AE15,"R") -> 0 | AH15: =+COUNTIF(B15:AE15,"M") -> 0 | AI15: =+COUNTIF(B15:AE15,"W") -> 0 | AJ15: =+COUNTIF(B15:AE15,"A") -> 0
B16: =IF(OR(WEEKDAY(B$3)=1,WEEKDAY(B$3)=7),"WE",IFERROR(VLOOKUP(B$3,FERIE,2,0),"")) | C16: =IF(OR(WEEKDAY(C$3)=1,WEEKDAY(C$3)=7),"WE",IFERROR(VLOOKUP(C$3,FERIE,2,0),"")) -> WE | D16: =IF(OR(WEEKDAY(D$3)=1,WEEKDAY(D$3)=7),"WE",IFERROR(VLOOKUP(D$3,FERIE,2,0),"")) -> WE | E16: =IF(OR(WEEKDAY(E$3)=1,WEEKDAY(E$3)=7),"WE",IFERROR(VLOOKUP(E$3,FERIE,2,0),"")) | F16: =IF(OR(WEEKDAY(F$3)=1,WEEKDAY(F$3)=7),"WE",IFERROR(VLOOKUP(F$3,FERIE,2,0),"")) | G16: =IF(OR(WEEKDAY(G$3)=1,WEEKDAY(G$3)=7),"WE",IFERROR(VLOOKUP(G$3,FERIE,2,0),"")) | H16: =IF(OR(WEEKDAY(H$3)=1,WEEKDAY(H$3)=7),"WE",IFERROR(VLOOKUP(H$3,FERIE,2,0),"")) | I16: =IF(OR(WEEKDAY(I$3)=1,WEEKDAY(I$3)=7),"WE",IFERROR(VLOOKUP(I$3,FERIE,2,0),"")) | ... AC16: =IF(OR(WEEKDAY(AC$3)=1,WEEKDAY(AC$3)=7),"WE",IFERROR(VLOOKUP(AC$3,FERIE,2,0),"")) | AF16: =COUNTIF(B16:AE16,"C") -> 0 | AG16: =COUNTIF(B16:AE16,"R") -> 0 | AH16: =+COUNTIF(B16:AE16,"M") -> 0 | AI16: =+COUNTIF(B16:AE16,"W") -> 0 | AJ16: =+COUNTIF(B16:AE16,"A") -> 0
B17: =IF(OR(WEEKDAY(B$3)=1,WEEKDAY(B$3)=7),"WE",IFERROR(VLOOKUP(B$3,FERIE,2,0),"")) | C17: =IF(OR(WEEKDAY(C$3)=1,WEEKDAY(C$3)=7),"WE",IFERROR(VLOOKUP(C$3,FERIE,2,0),"")) -> WE | D17: =IF(OR(WEEKDAY(D$3)=1,WEEKDAY(D$3)=7),"WE",IFERROR(VLOOKUP(D$3,FERIE,2,0),"")) -> WE | E17: =IF(OR(WEEKDAY(E$3)=1,WEEKDAY(E$3)=7),"WE",IFERROR(VLOOKUP(E$3,FERIE,2,0),"")) | F17: =IF(OR(WEEKDAY(F$3)=1,WEEKDAY(F$3)=7),"WE",IFERROR(VLOOKUP(F$3,FERIE,2,0),"")) | G17: =IF(OR(WEEKDAY(G$3)=1,WEEKDAY(G$3)=7),"WE",IFERROR(VLOOKUP(G$3,FERIE,2,0),"")) | H17: =IF(OR(WEEKDAY(H$3)=1,WEEKDAY(H$3)=7),"WE",IFERROR(VLOOKUP(H$3,FERIE,2,0),"")) | I17: =IF(OR(WEEKDAY(I$3)=1,WEEKDAY(I$3)=7),"WE",IFERROR(VLOOKUP(I$3,FERIE,2,0),"")) | ... AE17: =IF(OR(WEEKDAY(AE$3)=1,WEEKDAY(AE$3)=7),"WE",IFERROR(VLOOKUP(AE$3,FERIE,2,0),"")) -> #REF! | AF17: =COUNTIF(B17:AE17,"C") -> 0 | AG17: =COUNTIF(B17:AE17,"R") -> 0 | AH17: =+COUNTIF(B17:AE17,"M") -> 0 | AI17: =+COUNTIF(B17:AE17,"W") -> 0 | AJ17: =+COUNTIF(B17:AE17,"A") -> 0 | AL17: =IF(AP17="CHANGT P",0,('01'!AM17-'02'!AF17)) -> 0
B19: =IF(OR(WEEKDAY(B$3)=1,WEEKDAY(B$3)=7),"WE",IFERROR(VLOOKUP(B$3,FERIE,2,0),"")) | C19: =IF(OR(WEEKDAY(C$3)=1,WEEKDAY(C$3)=7),"WE",IFERROR(VLOOKUP(C$3,FERIE,2,0),"")) -> WE | D19: =IF(OR(WEEKDAY(D$3)=1,WEEKDAY(D$3)=7),"WE",IFERROR(VLOOKUP(D$3,FERIE,2,0),"")) -> WE | E19: =IF(OR(WEEKDAY(E$3)=1,WEEKDAY(E$3)=7),"WE",IFERROR(VLOOKUP(E$3,FERIE,2,0),"")) | F19: =IF(OR(WEEKDAY(F$3)=1,WEEKDAY(F$3)=7),"WE",IFERROR(VLOOKUP(F$3,FERIE,2,0),"")) | G19: =IF(OR(WEEKDAY(G$3)=1,WEEKDAY(G$3)=7),"WE",IFERROR(VLOOKUP(G$3,FERIE,2,0),"")) | H19: =IF(OR(WEEKDAY(H$3)=1,WEEKDAY(H$3)=7),"WE",IFERROR(VLOOKUP(H$3,FERIE,2,0),"")) | I19: =IF(OR(WEEKDAY(I$3)=1,WEEKDAY(I$3)=7),"WE",IFERROR(VLOOKUP(I$3,FERIE,2,0),"")) | ... AE19: =IF(OR(WEEKDAY(AE$3)=1,WEEKDAY(AE$3)=7),"WE",IFERROR(VLOOKUP(AE$3,FERIE,2,0),"")) -> #REF! | AF19: =COUNTIF(B19:AE19,"C") -> 0 | AG19: =COUNTIF(B19:AE19,"R") -> 0 | AH19: =+COUNTIF(B19:AE19,"M") -> 0 | AI19: =+COUNTIF(B19:AE19,"W") -> 0 | AJ19: =+COUNTIF(B19:AE19,"A") -> 0 | AL19: =IF(AP19="CHANGT P",0,('01'!AM19-'02'!AF19)) -> 0
B20: =IF(OR(WEEKDAY(B$3)=1,WEEKDAY(B$3)=7),"WE",IFERROR(VLOOKUP(B$3,FERIE,2,0),"")) | C20: =IF(OR(WEEKDAY(C$3)=1,WEEKDAY(C$3)=7),"WE",IFERROR(VLOOKUP(C$3,FERIE,2,0),"")) -> WE | D20: =IF(OR(WEEKDAY(D$3)=1,WEEKDAY(D$3)=7),"WE",IFERROR(VLOOKUP(D$3,FERIE,2,0),"")) -> WE | E20: =IF(OR(WEEKDAY(E$3)=1,WEEKDAY(E$3)=7),"WE",IFERROR(VLOOKUP(E$3,FERIE,2,0),"")) | F20: =IF(OR(WEEKDAY(F$3)=1,WEEKDAY(F$3)=7),"WE",IFERROR(VLOOKUP(F$3,FERIE,2,0),"")) | G20: =IF(OR(WEEKDAY(G$3)=1,WEEKDAY(G$3)=7),"WE",IFERROR(VLOOKUP(G$3,FERIE,2,0),"")) | H20: =IF(OR(WEEKDAY(H$3)=1,WEEKDAY(H$3)=7),"WE",IFERROR(VLOOKUP(H$3,FERIE,2,0),"")) | I20: =IF(OR(WEEKDAY(I$3)=1,WEEKDAY(I$3)=7),"WE",IFERROR(VLOOKUP(I$3,FERIE,2,0),"")) | ... AE20: =IF(OR(WEEKDAY(AE$3)=1,WEEKDAY(AE$3)=7),"WE",IFERROR(VLOOKUP(AE$3,FERIE,2,0),"")) -> #REF! | AF20: =COUNTIF(B20:AE20,"C") -> 0 | AG20: =COUNTIF(B20:AE20,"R") -> 0 | AH20: =+COUNTIF(B20:AE20,"M") -> 0 | AI20: =+COUNTIF(B20:AE20,"W") -> 0 | AJ20: =+COUNTIF(B20:AE20,"A") -> 0 | AL20: =IF(AP20="CHANGT P",0,('01'!AM20-'02'!AF20)) -> -3
B21: =IF(OR(WEEKDAY(B$3)=1,WEEKDAY(B$3)=7),"WE",IFERROR(VLOOKUP(B$3,FERIE,2,0),"")) | C21: =IF(OR(WEEKDAY(C$3)=1,WEEKDAY(C$3)=7),"WE",IFERROR(VLOOKUP(C$3,FERIE,2,0),"")) -> WE | D21: =IF(OR(WEEKDAY(D$3)=1,WEEKDAY(D$3)=7),"WE",IFERROR(VLOOKUP(D$3,FERIE,2,0),"")) -> WE | E21: =IF(OR(WEEKDAY(E$3)=1,WEEKDAY(E$3)=7),"WE",IFERROR(VLOOKUP(E$3,FERIE,2,0),"")) | F21: =IF(OR(WEEKDAY(F$3)=1,WEEKDAY(F$3)=7),"WE",IFERROR(VLOOKUP(F$3,FERIE,2,0),"")) | G21: =IF(OR(WEEKDAY(G$3)=1,WEEKDAY(G$3)=7),"WE",IFERROR(VLOOKUP(G$3,FERIE,2,0),"")) | H21: =IF(OR(WEEKDAY(H$3)=1,WEEKDAY(H$3)=7),"WE",IFERROR(VLOOKUP(H$3,FERIE,2,0),"")) | I21: =IF(OR(WEEKDAY(I$3)=1,WEEKDAY(I$3)=7),"WE",IFERROR(VLOOKUP(I$3,FERIE,2,0),"")) | ... AE21: =IF(OR(WEEKDAY(AE$3)=1,WEEKDAY(AE$3)=7),"WE",IFERROR(VLOOKUP(AE$3,FERIE,2,0),"")) -> #REF! | AF21: =COUNTIF(B21:AE21,"C") -> 0 | AG21: =COUNTIF(B21:AE21,"R") -> 0 | AH21: =+COUNTIF(B21:AE21,"M") -> 0 | AI21: =+COUNTIF(B21:AE21,"W") -> 0 | AJ21: =+COUNTIF(B21:AE21,"A") -> 0 | AL21: =IF(AP21="CHANGT P",0,('01'!AM21-'02'!AF21)) -> -3
AD22: =IF(OR(WEEKDAY(AD$3)=1,WEEKDAY(AD$3)=7),"WE",IFERROR(VLOOKUP(AD$3,FERIE,2,0),"")) -> #REF! | AE22: =IF(OR(WEEKDAY(AE$3)=1,WEEKDAY(AE$3)=7),"WE",IFERROR(VLOOKUP(AE$3,FERIE,2,0),"")) -> #REF! | AF22: =COUNTIF(B22:AE22,"C") -> 0 | AG22: =COUNTIF(B22:AE22,"R") -> 0 | AH22: =+COUNTIF(B22:AE22,"M") -> 0 | AI22: =+COUNTIF(B22:AE22,"W") -> 0 | AJ22: =+COUNTIF(B22:AE22,"A") -> 0 | AL22: =IF(AP22="CHANGT P",0,('01'!AM22-'02'!AF22)) -> 0
AD23: =IF(OR(WEEKDAY(AD$3)=1,WEEKDAY(AD$3)=7),"WE",IFERROR(VLOOKUP(AD$3,FERIE,2,0),"")) -> #REF! | AE23: =IF(OR(WEEKDAY(AE$3)=1,WEEKDAY(AE$3)=7),"WE",IFERROR(VLOOKUP(AE$3,FERIE,2,0),"")) -> #REF! | AF23: =COUNTIF(B23:AE23,"C") -> 0 | AG23: =COUNTIF(B23:AE23,"R") -> 0 | AH23: =+COUNTIF(B23:AE23,"M") -> 0 | AI23: =+COUNTIF(B23:AE23,"W") -> 0 | AJ23: =+COUNTIF(B23:AE23,"A") -> 0 | AL23: =IF(AP23="CHANGT P",0,('01'!AM23-'02'!AF23)) -> 0
B25: =IF(OR(WEEKDAY(B$3)=1,WEEKDAY(B$3)=7),"WE",IFERROR(VLOOKUP(B$3,FERIE,2,0),"")) | C25: =IF(OR(WEEKDAY(C$3)=1,WEEKDAY(C$3)=7),"WE",IFERROR(VLOOKUP(C$3,FERIE,2,0),"")) -> WE | D25: =IF(OR(WEEKDAY(D$3)=1,WEEKDAY(D$3)=7),"WE",IFERROR(VLOOKUP(D$3,FERIE,2,0),"")) -> WE | E25: =IF(OR(WEEKDAY(E$3)=1,WEEKDAY(E$3)=7),"WE",IFERROR(VLOOKUP(E$3,FERIE,2,0),"")) | F25: =IF(OR(WEEKDAY(F$3)=1,WEEKDAY(F$3)=7),"WE",IFERROR(VLOOKUP(F$3,FERIE,2,0),"")) | G25: =IF(OR(WEEKDAY(G$3)=1,WEEKDAY(G$3)=7),"WE",IFERROR(VLOOKUP(G$3,FERIE,2,0),"")) | H25: =IF(OR(WEEKDAY(H$3)=1,WEEKDAY(H$3)=7),"WE",IFERROR(VLOOKUP(H$3,FERIE,2,0),"")) | I25: =IF(OR(WEEKDAY(I$3)=1,WEEKDAY(I$3)=7),"WE",IFERROR(VLOOKUP(I$3,FERIE,2,0),"")) | ... AE25: =IF(OR(WEEKDAY(AE$3)=1,WEEKDAY(AE$3)=7),"WE",IFERROR(VLOOKUP(AE$3,FERIE,2,0),"")) -> #REF! | AF25: =COUNTIF(B25:AE25,"C") -> 0 | AG25: =COUNTIF(B25:AE25,"R") -> 0 | AH25: =COUNTIF(C25:AF25,"R") -> 0 | AI25: =+COUNTIF(B25:AE25,"W") -> 0 | AJ25: =+COUNTIF(B25:AE25,"A") -> 0 | AL25: =IF(AP25="CHANGT P",0,('01'!AM25-'02'!AF25)) -> 0
B26: =IF(OR(WEEKDAY(B$3)=1,WEEKDAY(B$3)=7),"WE",IFERROR(VLOOKUP(B$3,FERIE,2,0),"")) | C26: =IF(OR(WEEKDAY(C$3)=1,WEEKDAY(C$3)=7),"WE",IFERROR(VLOOKUP(C$3,FERIE,2,0),"")) -> WE | D26: =IF(OR(WEEKDAY(D$3)=1,WEEKDAY(D$3)=7),"WE",IFERROR(VLOOKUP(D$3,FERIE,2,0),"")) -> WE | E26: =IF(OR(WEEKDAY(E$3)=1,WEEKDAY(E$3)=7),"WE",IFERROR(VLOOKUP(E$3,FERIE,2,0),"")) | F26: =IF(OR(WEEKDAY(F$3)=1,WEEKDAY(F$3)=7),"WE",IFERROR(VLOOKUP(F$3,FERIE,2,0),"")) | G26: =IF(OR(WEEKDAY(G$3)=1,WEEKDAY(G$3)=7),"WE",IFERROR(VLOOKUP(G$3,FERIE,2,0),"")) | H26: =IF(OR(WEEKDAY(H$3)=1,WEEKDAY(H$3)=7),"WE",IFERROR(VLOOKUP(H$3,FERIE,2,0),"")) | I26: R | J26: =IF(OR(WEEKDAY(J$3)=1,WEEKDAY(J$3)=7),"WE",IFERROR(VLOOKUP(J$3,FERIE,2,0),"")) -> WE | K26: =IF(OR(WEEKDAY(K$3)=1,WEEKDAY(K$3)=7),"WE",IFERROR(VLOOKUP(K$3,FERIE,2,0),"")) -> WE | L26: =IF(OR(WEEKDAY(L$3)=1,WEEKDAY(L$3)=7),"WE",IFERROR(VLOOKUP(L$3,FERIE,2,0),"")) | M26: =IF(OR(WEEKDAY(M$3)=1,WEEKDAY(M$3)=7),"WE",IFERROR(VLOOKUP(M$3,FERIE,2,0),"")) | N26: =IF(OR(WEEKDAY(N$3)=1,WEEKDAY(N$3)=7),"WE",IFERROR(VLOOKUP(N$3,FERIE,2,0),"")) | O26: =IF(OR(WEEKDAY(O$3)=1,WEEKDAY(O$3)=7),"WE",IFERROR(VLOOKUP(O$3,FERIE,2,0),"")) | P26: =IF(OR(WEEKDAY(P$3)=1,WEEKDAY(P$3)=7),"WE",IFERROR(VLOOKUP(P$3,FERIE,2,0),"")) | Q26: =IF(OR(WEEKDAY(Q$3)=1,WEEKDAY(Q$3)=7),"WE",IFERROR(VLOOKUP(Q$3,FERIE,2,0),"")) -> WE | ... AE26: =IF(OR(WEEKDAY(AE$3)=1,WEEKDAY(AE$3)=7),"WE",IFERROR(VLOOKUP(AE$3,FERIE,2,0),"")) -> #REF! | AF26: =COUNTIF(B26:AE26,"C") -> 0 | AG26: =COUNTIF(B26:AE26,"R") -> 1 | AH26: =+COUNTIF(B26:AE26,"M") -> 0 | AI26: =+COUNTIF(B26:AE26,"W") -> 0 | AJ26: =+COUNTIF(B26:AE26,"A") -> 0 | AL26: =IF(AP26="CHANGT P",0,('01'!AM26-'02'!AF26)) -> -3
