Workbook
Name A: Année!#REF!
Name A: Année!#REF!
Name An: Année!$B$1
Name Année: Année!$B$1
Name Fériés: Année!$E$12:$F$24
Name Horaires: Année!$C$1:$D$8
Name Jours_fériés: Année!$C$12:$E$24
Name Joursem: Année!#REF!
Name Paques: Année!$C$14:$D$14
Name semaine: Année!#REF!

Sheet Année
A1: Année : | B1: 2018 | C1: Mes Horaires
C2: Lundi | D2: 0.32291667
A3: Heures : | C3: Mardi | D3: 0.32291667
A4: Heures à faire sur l'année : = H | B4: =F5+'Janvier 2018'!K38+Février!J38+Mars!J38+'Avril '!J38+Mai!J38+Juin!J38+Juillet!J38+Août!J38+Septembre!J38+Octobre!J38+Novembre!J38+Décembre!J38+B18 -> 70.4125 | C4: Mercredi | D4: 0.32291667
A5: Heures théoriques faites sur l'année : | B5: ='Janvier 2018'!D38+Février!C38+Mars!C38+'Avril '!C38+Mai!C38+Juin!C38+Juillet!C38+Août!C38+Septembre!C38+Octobre!C38+Novembre!C38+Décembre!C38 -> 73.572917 | C5: Jeudi | D5: 0.32291667 | E5: heures à faire sur 1 an | F5: 65.625
A6: Heures réelles faites sur l'année : = A | B6: ='Avril '!H38+Mai!H38+Juin!H38+Juillet!H38+Août!H38+Septembre!H38+Octobre!H38+Novembre!H38+Décembre!H38+'Janvier 2018'!I38+Février!H38+Mars!H38 -> 5.0513889 | C6: Vendredi | D6: 0.16666667 | E6: Semaine | F6: 1.4583333
A7: Heures jours fériés : | B7: ='Avril '!J38+Mai!J38+Juin!J38+Juillet!J38+Août!J38+Septembre!J38+Octobre!J38+Novembre!J38+Décembre!J38+'Janvier 2018'!L38+Février!J38+Mars!J38 -> 3.71875 | C7: Samedi | D7: 0
A8: Heures théoriques restantes à faire : | B8: =B4-B5+B7 -> 0.55833333 | C8: Dimanche | D8: 0
A9: Heures réelles restantes à faire : | B9: =B4-B6-B7+B21 -> 71.704861
A10: Neige :
A11: TOTAL heures supp neige de oct au 31/12année précédente | B11: 3.4416667 | C11: Jours_fériés
A12: TOTAL heures supp neige de janv à avril | B12: ='Janvier 2018'!N38+Février!M38+Mars!M38+'Avril '!M38 -> 2.8776042 | C12: Jour de l'an | E12: =DATE(Année,1,1) -> 41639 | F12: 0
A13: TOTAL des heures déjà récupérées | B13: ='Janvier 2018'!P38+Février!N38+Mars!N38+'Avril '!N38+Mai!N38+Juin!N38+Juillet!N38+Août!N38+Septembre!N38+Octobre!N38+Novembre!N38+Décembre!N38 -> 0.36527778 | C13: Pâques | E13: =IF(MOD(19*MOD(Année,19)+24,30)+MOD(2*MOD(Année,4)+4*MOD(Année,7)+6* MOD(19*MOD(Année,19)+24,30)+5,7)-9<=0,DATE(Année,3,22+MOD(19*MOD(Année, 19)+24,30)+MOD(2*MOD(Année,4)+4*MOD(Année,7)+6*MOD(19*MOD(Année,19)+24, 30)+5,7)),DATE(Année,4,MOD(19*MOD(Année,19)+24,30)+MOD(2*MOD(Année,4)+4* MOD(Année,7)+6*MOD(19*MOD(Année,19)+24,30)+5,7)-9)) -> 41729 | F13: 0
A14: TOTAL Récup neige | B14: =B11+B12-B13 -> 5.9539931 | C14: Lundi de Pâques | E14: =E13+1 -> 41730 | F14: 0
A15: Moins une semaine de congés | B15: =IF(B14<F6,0,F6) -> 1.4583333 | C15: Fête du travail | E15: =DATE(An,5,1) -> 41759 | F15: 0
A16: TOTAL Récup neige | B16: =B14-B15 -> 4.4956597 | C16: Armistice 1945 | E16: =DATE(An,5,8) -> 41766 | F16: 0
A17: Congés : (en heures) | C17: Ascension | E17: =E13+39 -> 41768 | F17: 0
A18: Reliquat année précédente : Solde N-1 = I | B18: 2.2041667 | C18: Pentecôte | E18: =E13+49 -> 41778 | F18: 0
A19: Congés à prendre : = E | B19: 7.875 | C19: Lundi de Pentecote | E19: =E18+1 -> 41779 | F19: 0.32291667
A20: Congés neige 35h : = B | B20: =B15 -> 1.4583333 | C20: Fête nationale | E20: =DATE(An,7,14) -> 41833 | F20: 0
A21: Congés pris sur l'année en cours : = F | B21: ='Janvier 2018'!L38+Février!K38+Mars!K38+'Avril '!K38+Mai!K38+Juin!K38+Juillet!K38+Août!K38+Septembre!K38+Octobre!K38+Novembre!K38+Décembre!K38 -> 10.0625 | C21: Assomption | E21: =DATE(Année,8,15) -> 41865 | F21: 0
A22: restant à prendre pour l'année en cours : G = E-F | B22: =B18+B19+B20-B21 -> 1.475 | C22: Toussaint | E22: =DATE(Année,11,1) -> 41943 | F22: 0
A23: Jour de fractionnement à prendre | B23: 0.32291667 | C23: Armistice 1918 | E23: =DATE(Année,11,11) -> 41953 | F23: 0
A24: en jours : | B24: =(B22+B23)/7.45 -> 0.2413311 | C24: NOEL | E24: =DATE(An,12,25) -> 41997 | F24: 0
A27: TOTAL heures supp neige de Oct à Déc /année suivante : | B27: =Octobre!M38+Novembre!M38+Décembre!M38 -> 0
A29: Bilan au 31/12 : (A+B)-(h-i+g)+g | B29: =B6+B20-B4-B18+B22+B22 -> -63.156944

Sheet Janvier 2018
A1: =DATE(Année!B1,1,1) -> 41639
A3: Dates : | C3: Jours travaillés | D3: Heures à faire: | E3: Heures faites: | J3: ASA | K3: Jours Fériés | L3: Congés | M3: Heures Supp | N3: Heures Neige | O3: Récup Heures Neige
E4: 22hà3h30à6h (X2,5) | F4: 6hà7h30 (X1,25) | G4: 7h30à16h45 (X1) | H4: 16h45à22h (X1,25) | I4: Heures pointées Bâtiment
A5: =CHOOSE(WEEKDAY(B5),"Dimanche","Lundi","Mardi","Mercredi","Jeudi","Vendredi","Samedi") -> Lundi | B5: =DATE(An,1,ROW(1:31)) -> 41639 | C5: =IF(G5="","",--(G5>0)) -> 0 | D5: =IFERROR((VLOOKUP(B5,Fériés:Fériés,2,0)),VLOOKUP(A5,Année!$C$2:$C$8:'Année'!$D$2:$D$8,2,0)) -> 0 | G5: =IF(L5="",D5,0) -> 0 | K5: =IF(D5=0,VLOOKUP(A5,Horaires,2,FALSE)," ") -> 0.32291667 | M5: =IF(A5="dimanche","",IF(A5="samedi","",IF(G5<=0,"",(IF(I5="",G5-D5,I5-D5))+(J5+L5+O5)))) | N5: =IF(E5="","",IF(AND(A5="Dimanche",E5>0),SUM(E5*2.5+(F5+G5+H5)*2),IF(A5="samedi",SUM(E5*2.5,F5*1.25,H5*1.25,G5*1.25),SUM(E5*2.5,F5*1.25,H5*1.25,)))) | O5: =IF(G5="","",IF((G5+J5+L5)>=D5,"0:00",D5-G5)) -> 0:00
A6: =CHOOSE(WEEKDAY(B6),"Dimanche","Lundi","Mardi","Mercredi","Jeudi","Vendredi","Samedi") -> Mardi | B6: =DATE(An,1,ROW(2:32)) -> 41640 | C6: =IF(G6="","",--(G6>0)) -> 1 | D6: =IFERROR((VLOOKUP(B6,Fériés:Fériés,2,0)),VLOOKUP(A6,Année!$C$2:$C$8:'Année'!$D$2:$D$8,2,0)) -> 0.32291667 | G6: =IF(L6="",D6,0) -> 0.32291667 | I6: 0.325 | K6: =IF(D6=0,VLOOKUP(A6,Horaires,2,FALSE)," ") | M6: =IF(A6="dimanche","",IF(A6="samedi","",IF(G6<=0,"",(IF(I6="",G6-D6,I6-D6))+(J6+L6+O6)))) -> 0.0020833333 | N6: =IF(E6="","",IF(AND(A6="Dimanche",E6>0),SUM(E6*2.5+(F6+G6+H6)*2),IF(A6="samedi",SUM(E6*2.5,F6*1.25,H6*1.25,G6*1.25),SUM(E6*2.5,F6*1.25,H6*1.25,)))) | O6: =IF(G6="","",IF((G6+J6+L6)>=D6,"0:00",D6-G6)) -> 0:00
A7: =CHOOSE(WEEKDAY(B7),"Dimanche","Lundi","Mardi","Mercredi","Jeudi","Vendredi","Samedi") -> Mercredi | B7: =DATE(An,1,ROW(3:33)) -> 41641 | C7: =IF(G7="","",--(G7>0)) -> 1 | D7: =IFERROR((VLOOKUP(B7,Fériés:Fériés,2,0)),VLOOKUP(A7,Année!$C$2:$C$8:'Année'!$D$2:$D$8,2,0)) -> 0.32291667 | G7: =IF(L7="",D7,0) -> 0.32291667 | I7: 0.325 | K7: =IF(D7=0,VLOOKUP(A7,Horaires,2,FALSE)," ") | M7: =IF(A7="dimanche","",IF(A7="samedi","",IF(G7<=0,"",(IF(I7="",G7-D7,I7-D7))+(J7+L7+O7)))) -> 0.0020833333 | N7: =IF(E7="","",IF(AND(A7="Dimanche",E7>0),SUM(E7*2.5+(F7+G7+H7)*2),IF(A7="samedi",SUM(E7*2.5,F7*1.25,H7*1.25,G7*1.25),SUM(E7*2.5,F7*1.25,H7*1.25,)))) | O7: =IF(G7="","",IF((G7+J7+L7)>=D7,"0:00",D7-G7)) -> 0:00
A8: =CHOOSE(WEEKDAY(B8),"Dimanche","Lundi","Mardi","Mercredi","Jeudi","Vendredi","Samedi") -> Jeudi | B8: =DATE(An,1,ROW(4:34)) -> 41642 | C8: =IF(G8="","",--(G8>0)) -> 1 | D8: =IFERROR((VLOOKUP(B8,Fériés:Fériés,2,0)),VLOOKUP(A8,Année!$C$2:$C$8:'Année'!$D$2:$D$8,2,0)) -> 0.32291667 | G8: =IF(L8="",D8,0) -> 0.32291667 | I8: 0.32361111 | K8: =IF(D8=0,VLOOKUP(A8,Horaires,2,FALSE)," ") | M8: =IF(A8="dimanche","",IF(A8="samedi","",IF(G8<=0,"",(IF(I8="",G8-D8,I8-D8))+(J8+L8+O8)))) -> 0.00069444444 | N8: =IF(E8="","",IF(AND(A8="Dimanche",E8>0),SUM(E8*2.5+(F8+G8+H8)*2),IF(A8="samedi",SUM(E8*2.5,F8*1.25,H8*1.25,G8*1.25),SUM(E8*2.5,F8*1.25,H8*1.25,)))) | O8: =IF(G8="","",IF((G8+J8+L8)>=D8,"0:00",D8-G8)) -> 0:00
A9: =CHOOSE(WEEKDAY(B9),"Dimanche","Lundi","Mardi","Mercredi","Jeudi","Vendredi","Samedi") -> Vendredi | B9: =DATE(An,1,ROW(5:35)) -> 41643 | C9: =IF(G9="","",--(G9>0)) -> 1 | D9: =IFERROR((VLOOKUP(B9,Fériés:Fériés,2,0)),VLOOKUP(A9,Année!$C$2:$C$8:'Année'!$D$2:$D$8,2,0)) -> 0.16666667 | G9: =IF(L9="",D9,0) -> 0.16666667 | I9: 0.16875 | K9: =IF(D9=0,VLOOKUP(A9,Horaires,2,FALSE)," ") | M9: =IF(A9="dimanche","",IF(A9="samedi","",IF(G9<=0,"",(IF(I9="",G9-D9,I9-D9))+(J9+L9+O9)))) -> 0.0020833333 | N9: =IF(E9="","",IF(AND(A9="Dimanche",E9>0),SUM(E9*2.5+(F9+G9+H9)*2),IF(A9="samedi",SUM(E9*2.5,F9*1.25,H9*1.25,G9*1.25),SUM(E9*2.5,F9*1.25,H9*1.25,)))) | O9: =IF(G9="","",IF((G9+J9+L9)>=D9,"0:00",D9-G9)) -> 0:00
A10: =CHOOSE(WEEKDAY(B10),"Dimanche","Lundi","Mardi","Mercredi","Jeudi","Vendredi","Samedi") -> Samedi | B10: =DATE(An,1,ROW(6:36)) -> 41644 | C10: =IF(G10="","",--(G10>0)) -> 0 | D10: =IFERROR((VLOOKUP(B10,Fériés:Fériés,2,0)),VLOOKUP(A10,Année!$C$2:$C$8:'Année'!$D$2:$D$8,2,0)) -> 0 | G10: =IF(L10="",D10,0) -> 0 | K10: =IF(D10=0,VLOOKUP(A10,Horaires,2,FALSE)," ") -> 0 | M10: =IF(A10="dimanche","",IF(A10="samedi","",IF(G10<=0,"",(IF(I10="",G10-D10,I10-D10))+(J10+L10+O10)))) | N10: =IF(E10="","",IF(AND(A10="Dimanche",E10>0),SUM(E10*2.5+(F10+G10+H10)*2),IF(A10="samedi",SUM(E10*2.5,F10*1.25,H10*1.25,G10*1.25),SUM(E10*2.5,F10*1.25,H10*1.25,)))) | O10: =IF(G10="","",IF((G10+J10+L10)>=D10,"0:00",D10-G10)) -> 0:00
A11: =CHOOSE(WEEKDAY(B11),"Dimanche","Lundi","Mardi","Mercredi","Jeudi","Vendredi","Samedi") -> Dimanche | B11: =DATE(An,1,ROW(7:37)) -> 41645 | C11: =IF(G11="","",--(G11>0)) -> 0 | D11: =IFERROR((VLOOKUP(B11,Fériés:Fériés,2,0)),VLOOKUP(A11,Année!$C$2:$C$8:'Année'!$D$2:$D$8,2,0)) -> 0 | G11: =IF(L11="",D11,0) -> 0 | K11: =IF(D11=0,VLOOKUP(A11,Horaires,2,FALSE)," ") -> 0 | M11: =IF(A11="dimanche","",IF(A11="samedi","",IF(G11<=0,"",(IF(I11="",G11-D11,I11-D11))+(J11+L11+O11)))) | N11: =IF(E11="","",IF(AND(A11="Dimanche",E11>0),SUM(E11*2.5+(F11+G11+H11)*2),IF(A11="samedi",SUM(E11*2.5,F11*1.25,H11*1.25,G11*1.25),SUM(E11*2.5,F11*1.25,H11*1.25,)))) | O11: =IF(G11="","",IF((G11+J11+L11)>=D11,"0:00",D11-G11)) -> 0:00
A12: =CHOOSE(WEEKDAY(B12),"Dimanche","Lundi","Mardi","Mercredi","Jeudi","Vendredi","Samedi") -> Lundi | B12: =DATE(An,1,ROW(8:38)) -> 41646 | C12: =IF(G12="","",--(G12>0)) -> 1 | D12: =IFERROR((VLOOKUP(B12,Fériés:Fériés,2,0)),VLOOKUP(A12,Année!$C$2:$C$8:'Année'!$D$2:$D$8,2,0)) -> 0.32291667 | G12: =IF(L12="",D12,0) -> 0.32291667 | I12: 0.32430556 | K12: =IF(D12=0,VLOOKUP(A12,Horaires,2,FALSE)," ") | M12: =IF(A12="dimanche","",IF(A12="samedi","",IF(G12<=0,"",(IF(I12="",G12-D12,I12-D12))+(J12+L12+O12)))) -> 0.0013888889 | N12: =IF(E12="","",IF(AND(A12="Dimanche",E12>0),SUM(E12*2.5+(F12+G12+H12)*2),IF(A12="samedi",SUM(E12*2.5,F12*1.25,H12*1.25,G12*1.25),SUM(E12*2.5,F12*1.25,H12*1.25,)))) | O12: =IF(G12="","",IF((G12+J12+L12)>=D12,"0:00",D12-G12)) -> 0:00
A13: =CHOOSE(WEEKDAY(B13),"Dimanche","Lundi","Mardi","Mercredi","Jeudi","Vendredi","Samedi") -> Mardi | B13: =DATE(An,1,ROW(9:39)) -> 41647 | C13: =IF(G13="","",--(G13>0)) -> 1 | D13: =IFERROR((VLOOKUP(B13,Fériés:Fériés,2,0)),VLOOKUP(A13,Année!$C$2:$C$8:'Année'!$D$2:$D$8,2,0)) -> 0.32291667 | G13: =IF(L13="",D13,0) -> 0.32291667 | I13: 0.32430556 | K13: =IF(D13=0,VLOOKUP(A13,Horaires,2,FALSE)," ") | M13: =IF(A13="dimanche","",IF(A13="samedi","",IF(G13<=0,"",(IF(I13="",G13-D13,I13-D13))+(J13+L13+O13)))) -> 0.0013888889 | N13: =IF(E13="","",IF(AND(A13="Dimanche",E13>0),SUM(E13*2.5+(F13+G13+H13)*2),IF(A13="samedi",SUM(E13*2.5,F13*1.25,H13*1.25,G13*1.25),SUM(E13*2.5,F13*1.25,H13*1.25,)))) | O13: =IF(G13="","",IF((G13+J13+L13)>=D13,"0:00",D13-G13)) -> 0:00
A14: =CHOOSE(WEEKDAY(B14),"Dimanche","Lundi","Mardi","Mercredi","Jeudi","Vendredi","Samedi") -> Mercredi | B14: =DATE(An,1,ROW(10:40)) -> 41648 | C14: =IF(G14="","",--(G14>0)) -> 1 | D14: =IFERROR((VLOOKUP(B14,Fériés:Fériés,2,0)),VLOOKUP(A14,Année!$C$2:$C$8:'Année'!$D$2:$D$8,2,0)) -> 0.32291667 | G14: =IF(L14="",D14,0) -> 0.32291667 | I14: 0.32708333 | K14: =IF(D14=0,VLOOKUP(A14,Horaires,2,FALSE)," ") | M14: =IF(A14="dimanche","",IF(A14="samedi","",IF(G14<=0,"",(IF(I14="",G14-D14,I14-D14))+(J14+L14+O14)))) -> 0.0041666667 | N14: =IF(E14="","",IF(AND(A14="Dimanche",E14>0),SUM(E14*2.5+(F14+G14+H14)*2),IF(A14="samedi",SUM(E14*2.5,F14*1.25,H14*1.25,G14*1.25),SUM(E14*2.5,F14*1.25,H14*1.25,)))) | O14: =IF(G14="","",IF((G14+J14+L14)>=D14,"0:00",D14-G14)) -> 0:00
A15: =CHOOSE(WEEKDAY(B15),"Dimanche","Lundi","Mardi","Mercredi","Jeudi","Vendredi","Samedi") -> Jeudi | B15: =DATE(An,1,ROW(11:41)) -> 41649 | C15: =IF(G15="","",--(G15>0)) -> 1 | D15: =IFERROR((VLOOKUP(B15,Fériés:Fériés,2,0)),VLOOKUP(A15,Année!$C$2:$C$8:'Année'!$D$2:$D$8,2,0)) -> 0.32291667 | G15: =IF(L15="",D15,0) -> 0.32291667 | I15: 0.32430556 | K15: =IF(D15=0,VLOOKUP(A15,Horaires,2,FALSE)," ") | M15: =IF(A15="dimanche","",IF(A15="samedi","",IF(G15<=0,"",(IF(I15="",G15-D15,I15-D15))+(J15+L15+O15)))) -> 0.0013888889 | N15: =IF(E15="","",IF(AND(A15="Dimanche",E15>0),SUM(E15*2.5+(F15+G15+H15)*2),IF(A15="samedi",SUM(E15*2.5,F15*1.25,H15*1.25,G15*1.25),SUM(E15*2.5,F15*1.25,H15*1.25,)))) | O15: =IF(G15="","",IF((G15+J15+L15)>=D15,"0:00",D15-G15)) -> 0:00
A16: =CHOOSE(WEEKDAY(B16),"Dimanche","Lundi","Mardi","Mercredi","Jeudi","Vendredi","Samedi") -> Vendredi | B16: =DATE(An,1,ROW(12:42)) -> 41650 | C16: =IF(G16="","",--(G16>0)) -> 1 | D16: =IFERROR((VLOOKUP(B16,Fériés:Fériés,2,0)),VLOOKUP(A16,Année!$C$2:$C$8:'Année'!$D$2:$D$8,2,0)) -> 0.16666667 | G16: 0.16666667 | I16: 0.17013889 | K16: =IF(D16=0,VLOOKUP(A16,Horaires,2,FALSE)," ") | M16: =IF(A16="dimanche","",IF(A16="samedi","",IF(G16<=0,"",(IF(I16="",G16-D16,I16-D16))+(J16+L16+O16)))) -> 0.0034722222 | N16: =IF(E16="","",IF(AND(A16="Dimanche",E16>0),SUM(E16*2.5+(F16+G16+H16)*2),IF(A16="samedi",SUM(E16*2.5,F16*1.25,H16*1.25,G16*1.25),SUM(E16*2.5,F16*1.25,H16*1.25,)))) | O16: =IF(G16="","",IF((G16+J16+L16)>=D16,"0:00",D16-G16)) -> 0:00
A17: =CHOOSE(WEEKDAY(B17),"Dimanche","Lundi","Mardi","Mercredi","Jeudi","Vendredi","Samedi") -> Samedi | B17: =DATE(An,1,ROW(13:43)) -> 41651 | C17: =IF(G17="","",--(G17>0)) -> 0 | D17: =IFERROR((VLOOKUP(B17,Fériés:Fériés,2,0)),VLOOKUP(A17,Année!$C$2:$C$8:'Année'!$D$2:$D$8,2,0)) -> 0 | G17: =IF(L17="",D17,0) -> 0 | K17: =IF(D17=0,VLOOKUP(A17,Horaires,2,FALSE)," ") -> 0 | M17: =IF(A17="dimanche","",IF(A17="samedi","",IF(G17<=0,"",(IF(I17="",G17-D17,I17-D17))+(J17+L17+O17)))) | N17: =IF(E17="","",IF(AND(A17="Dimanche",E17>0),SUM(E17*2.5+(F17+G17+H17)*2),IF(A17="samedi",SUM(E17*2.5,F17*1.25,H17*1.25,G17*1.25),SUM(E17*2.5,F17*1.25,H17*1.25,)))) | O17: =IF(G17="","",IF((G17+J17+L17)>=D17,"0:00",D17-G17)) -> 0:00
A18: =CHOOSE(WEEKDAY(B18),"Dimanche","Lundi","Mardi","Mercredi","Jeudi","Vendredi","Samedi") -> Dimanche | B18: =DATE(An,1,ROW(14:44)) -> 41652 | C18: =IF(G18="","",--(G18>0)) -> 0 | D18: =IFERROR((VLOOKUP(B18,Fériés:Fériés,2,0)),VLOOKUP(A18,Année!$C$2:$C$8:'Année'!$D$2:$D$8,2,0)) -> 0 | G18: =IF(L18="",D18,0) -> 0 | K18: =IF(D18=0,VLOOKUP(A18,Horaires,2,FALSE)," ") -> 0 | M18: =IF(A18="dimanche","",IF(A18="samedi","",IF(G18<=0,"",(IF(I18="",G18-D18,I18-D18))+(J18+L18+O18)))) | N18: =IF(E18="","",IF(AND(A18="Dimanche",E18>0),SUM(E18*2.5+(F18+G18+H18)*2),IF(A18="samedi",SUM(E18*2.5,F18*1.25,H18*1.25,G18*1.25),SUM(E18*2.5,F18*1.25,H18*1.25,)))) | O18: =IF(G18="","",IF((G18+J18+L18)>=D18,"0:00",D18-G18)) -> 0:00
A19: =CHOOSE(WEEKDAY(B19),"Dimanche","Lundi","Mardi","Mercredi","Jeudi","Vendredi","Samedi") -> Lundi | B19: =DATE(An,1,ROW(15:45)) -> 41653 | C19: =IF(G19="","",--(G19>0)) -> 0 | D19: =IFERROR((VLOOKUP(B19,Fériés:Fériés,2,0)),VLOOKUP(A19,Année!$C$2:$C$8:'Année'!$D$2:$D$8,2,0)) -> 0.32291667 | G19: =IF(L19="",D19,0) -> 0 | K19: =IF(D19=0,VLOOKUP(A19,Horaires,2,FALSE)," ") | L19: 0.32291667 | M19: =IF(A19="dimanche","",IF(A19="samedi","",IF(G19<=0,"",(IF(I19="",G19-D19,I19-D19))+(J19+L19+O19)))) | N19: =IF(E19="","",IF(AND(A19="Dimanche",E19>0),SUM(E19*2.5+(F19+G19+H19)*2),IF(A19="samedi",SUM(E19*2.5,F19*1.25,H19*1.25,G19*1.25),SUM(E19*2.5,F19*1.25,H19*1.25,)))) | O19: =IF(G19="","",IF((G19+J19+L19)>=D19,"0:00",D19-G19)) -> 0:00
A20: =CHOOSE(WEEKDAY(B20),"Dimanche","Lundi","Mardi","Mercredi","Jeudi","Vendredi","Samedi") -> Mardi | B20: =DATE(An,1,ROW(16:46)) -> 41654 | C20: =IF(G20="","",--(G20>0)) -> 0 | D20: =IFERROR((VLOOKUP(B20,Fériés:Fériés,2,0)),VLOOKUP(A20,Année!$C$2:$C$8:'Année'!$D$2:$D$8,2,0)) -> 0.32291667 | G20: =IF(L20="",D20,0) -> 0 | K20: =IF(D20=0,VLOOKUP(A20,Horaires,2,FALSE)," ") | L20: 0.32291667 | M20: =IF(A20="dimanche","",IF(A20="samedi","",IF(G20<=0,"",(IF(I20="",G20-D20,I20-D20))+(J20+L20+O20)))) | N20: =IF(E20="","",IF(AND(A20="Dimanche",E20>0),SUM(E20*2.5+(F20+G20+H20)*2),IF(A20="samedi",SUM(E20*2.5,F20*1.25,H20*1.25,G20*1.25),SUM(E20*2.5,F20*1.25,H20*1.25,)))) | O20: =IF(G20="","",IF((G20+J20+L20)>=D20,"0:00",D20-G20)) -> 0:00
A21: =CHOOSE(WEEKDAY(B21),"Dimanche","Lundi","Mardi","Mercredi","Jeudi","Vendredi","Samedi") -> Mercredi | B21: =DATE(An,1,ROW(17:47)) -> 41655 | C21: =IF(G21="","",--(G21>0)) -> 0 | D21: =IFERROR((VLOOKUP(B21,Fériés:Fériés,2,0)),VLOOKUP(A21,Année!$C$2:$C$8:'Année'!$D$2:$D$8,2,0)) -> 0.32291667 | G21: =IF(L21="",D21,0) -> 0 | K21: =IF(D21=0,VLOOKUP(A21,Horaires,2,FALSE)," ") | L21: 0.32291667 | M21: =IF(A21="dimanche","",IF(A21="samedi","",IF(G21<=0,"",(IF(I21="",G21-D21,I21-D21))+(J21+L21+O21)))) | N21: =IF(E21="","",IF(AND(A21="Dimanche",E21>0),SUM(E21*2.5+(F21+G21+H21)*2),IF(A21="samedi",SUM(E21*2.5,F21*1.25,H21*1.25,G21*1.25),SUM(E21*2.5,F21*1.25,H21*1.25,)))) | O21: =IF(G21="","",IF((G21+J21+L21)>=D21,"0:00",D21-G21)) -> 0:00
A22: =CHOOSE(WEEKDAY(B22),"Dimanche","Lundi","Mardi","Mercredi","Jeudi","Vendredi","Samedi") -> Jeudi | B22: =DATE(An,1,ROW(18:48)) -> 41656 | C22: =IF(G22="","",--(G22>0)) -> 0 | D22: =IFERROR((VLOOKUP(B22,Fériés:Fériés,2,0)),VLOOKUP(A22,Année!$C$2:$C$8:'Année'!$D$2:$D$8,2,0)) -> 0.32291667 | G22: =IF(L22="",D22,0) -> 0 | K22: =IF(D22=0,VLOOKUP(A22,Horaires,2,FALSE)," ") | L22: 0.32291667 | M22: =IF(A22="dimanche","",IF(A22="samedi","",IF(G22<=0,"",(IF(I22="",G22-D22,I22-D22))+(J22+L22+O22)))) | N22: =IF(E22="","",IF(AND(A22="Dimanche",E22>0),SUM(E22*2.5+(F22+G22+H22)*2),IF(A22="samedi",SUM(E22*2.5,F22*1.25,H22*1.25,G22*1.25),SUM(E22*2.5,F22*1.25,H22*1.25,)))) | O22: =IF(G22="","",IF((G22+J22+L22)>=D22,"0:00",D22-G22)) -> 0:00
A23: =CHOOSE(WEEKDAY(B23),"Dimanche","Lundi","Mardi","Mercredi","Jeudi","Vendredi","Samedi") -> Vendredi | B23: =DATE(An,1,ROW(19:49)) -> 41657 | C23: =IF(G23="","",--(G23>0)) -> 0 | D23: =IFERROR((VLOOKUP(B23,Fériés:Fériés,2,0)),VLOOKUP(A23,Année!$C$2:$C$8:'Année'!$D$2:$D$8,2,0)) -> 0.16666667 | G23: =IF(L23="",D23,0) -> 0 | K23: =IF(D23=0,VLOOKUP(A23,Horaires,2,FALSE)," ") | L23: 0.16666667 | M23: =IF(A23="dimanche","",IF(A23="samedi","",IF(G23<=0,"",(IF(I23="",G23-D23,I23-D23))+(J23+L23+O23)))) | N23: =IF(E23="","",IF(AND(A23="Dimanche",E23>0),SUM(E23*2.5+(F23+G23+H23)*2),IF(A23="samedi",SUM(E23*2.5,F23*1.25,H23*1.25,G23*1.25),SUM(E23*2.5,F23*1.25,H23*1.25,)))) | O23: =IF(G23="","",IF((G23+J23+L23)>=D23,"0:00",D23-G23)) -> 0:00
A24: =CHOOSE(WEEKDAY(B24),"Dimanche","Lundi","Mardi","Mercredi","Jeudi","Vendredi","Samedi") -> Samedi | B24: =DATE(An,1,ROW(20:50)) -> 41658 | C24: =IF(G24="","",--(G24>0)) -> 0 | D24: =IFERROR((VLOOKUP(B24,Fériés:Fériés,2,0)),VLOOKUP(A24,Année!$C$2:$C$8:'Année'!$D$2:$D$8,2,0)) -> 0 | G24: =IF(L24="",D24,0) -> 0 | K24: =IF(D24=0,VLOOKUP(A24,Horaires,2,FALSE)," ") -> 0 | M24: =IF(A24="dimanche","",IF(A24="samedi","",IF(G24<=0,"",(IF(I24="",G24-D24,I24-D24))+(J24+L24+O24)))) | N24: =IF(E24="","",IF(AND(A24="Dimanche",E24>0),SUM(E24*2.5+(F24+G24+H24)*2),IF(A24="samedi",SUM(E24*2.5,F24*1.25,H24*1.25,G24*1.25),SUM(E24*2.5,F24*1.25,H24*1.25,)))) | O24: =IF(G24="","",IF((G24+J24+L24)>=D24,"0:00",D24-G24)) -> 0:00
A25: =CHOOSE(WEEKDAY(B25),"Dimanche","Lundi","Mardi","Mercredi","Jeudi","Vendredi","Samedi") -> Dimanche | B25: =DATE(An,1,ROW(21:51)) -> 41659 | C25: =IF(G25="","",--(G25>0)) -> 0 | D25: =IFERROR((VLOOKUP(B25,Fériés:Fériés,2,0)),VLOOKUP(A25,Année!$C$2:$C$8:'Année'!$D$2:$D$8,2,0)) -> 0 | G25: =IF(L25="",D25,0) -> 0 | K25: =IF(D25=0,VLOOKUP(A25,Horaires,2,FALSE)," ") -> 0 | M25: =IF(A25="dimanche","",IF(A25="samedi","",IF(G25<=0,"",(IF(I25="",G25-D25,I25-D25))+(J25+L25+O25)))) | N25: =IF(E25="","",IF(AND(A25="Dimanche",E25>0),SUM(E25*2.5+(F25+G25+H25)*2),IF(A25="samedi",SUM(E25*2.5,F25*1.25,H25*1.25,G25*1.25),SUM(E25*2.5,F25*1.25,H25*1.25,)))) | O25: =IF(G25="","",IF((G25+J25+L25)>=D25,"0:00",D25-G25)) -> 0:00
A26: =CHOOSE(WEEKDAY(B26),"Dimanche","Lundi","Mardi","Mercredi","Jeudi","Vendredi","Samedi") -> Lundi | B26: =DATE(An,1,ROW(22:52)) -> 41660 | C26: =IF(G26="","",--(G26>0)) -> 1 | D26: =IFERROR((VLOOKUP(B26,Fériés:Fériés,2,0)),VLOOKUP(A26,Année!$C$2:$C$8:'Année'!$D$2:$D$8,2,0)) -> 0.32291667 | G26: =IF(L26="",D26,0) -> 0.32291667 | I26: 0.32638889 | K26: =IF(D26=0,VLOOKUP(A26,Horaires,2,FALSE)," ") | M26: =IF(A26="dimanche","",IF(A26="samedi","",IF(G26<=0,"",(IF(I26="",G26-D26,I26-D26))+(J26+L26+O26)))) -> 0.0034722222 | N26: =IF(E26="","",IF(AND(A26="Dimanche",E26>0),SUM(E26*2.5+(F26+G26+H26)*2),IF(A26="samedi",SUM(E26*2.5,F26*1.25,H26*1.25,G26*1.25),SUM(E26*2.5,F26*1.25,H26*1.25,)))) | O26: =IF(G26="","",IF((G26+J26+L26)>=D26,"0:00",D26-G26)) -> 0:00
A27: =CHOOSE(WEEKDAY(B27),"Dimanche","Lundi","Mardi","Mercredi","Jeudi","Vendredi","Samedi") -> Mardi | B27: =DATE(An,1,ROW(23:53)) -> 41661 | C27: =IF(G27="","",--(G27>0)) -> 1 | D27: =IFERROR((VLOOKUP(B27,Fériés:Fériés,2,0)),VLOOKUP(A27,Année!$C$2:$C$8:'Année'!$D$2:$D$8,2,0)) -> 0.32291667 | G27: =IF(L27="",D27,0) -> 0.32291667 | I27: 0.325 | K27: =IF(D27=0,VLOOKUP(A27,Horaires,2,FALSE)," ") | M27: =IF(A27="dimanche","",IF(A27="samedi","",IF(G27<=0,"",(IF(I27="",G27-D27,I27-D27))+(J27+L27+O27)))) -> 0.0020833333 | N27: =IF(E27="","",IF(AND(A27="Dimanche",E27>0),SUM(E27*2.5+(F27+G27+H27)*2),IF(A27="samedi",SUM(E27*2.5,F27*1.25,H27*1.25,G27*1.25),SUM(E27*2.5,F27*1.25,H27*1.25,)))) | O27: =IF(G27="","",IF((G27+J27+L27)>=D27,"0:00",D27-G27)) -> 0:00
A28: =CHOOSE(WEEKDAY(B28),"Dimanche","Lundi","Mardi","Mercredi","Jeudi","Vendredi","Samedi") -> Mercredi | B28: =DATE(An,1,ROW(24:54)) -> 41662 | C28: =IF(G28="","",--(G28>0)) -> 1 | D28: =IFERROR((VLOOKUP(B28,Fériés:Fériés,2,0)),VLOOKUP(A28,Année!$C$2:$C$8:'Année'!$D$2:$D$8,2,0)) -> 0.32291667 | G28: =IF(L28="",D28,0) -> 0.32291667 | I28: 0.32430556 | K28: =IF(D28=0,VLOOKUP(A28,Horaires,2,FALSE)," ") | M28: =IF(A28="dimanche","",IF(A28="samedi","",IF(G28<=0,"",(IF(I28="",G28-D28,I28-D28))+(J28+L28+O28)))) -> 0.0013888889 | N28: =IF(E28="","",IF(AND(A28="Dimanche",E28>0),SUM(E28*2.5+(F28+G28+H28)*2),IF(A28="samedi",SUM(E28*2.5,F28*1.25,H28*1.25,G28*1.25),SUM(E28*2.5,F28*1.25,H28*1.25,)))) | O28: =IF(G28="","",IF((G28+J28+L28)>=D28,"0:00",D28-G28)) -> 0:00
A29: =CHOOSE(WEEKDAY(B29),"Dimanche","Lundi","Mardi","Mercredi","Jeudi","Vendredi","Samedi") -> Jeudi | B29: =DATE(An,1,ROW(25:55)) -> 41663 | C29: =IF(G29="","",--(G29>0)) -> 1 | D29: =IFERROR((VLOOKUP(B29,Fériés:Fériés,2,0)),VLOOKUP(A29,Année!$C$2:$C$8:'Année'!$D$2:$D$8,2,0)) -> 0.32291667 | G29: =IF(L29="",D29,0) -> 0.32291667 | I29: 0.32430556 | K29: =IF(D29=0,VLOOKUP(A29,Horaires,2,FALSE)," ") | M29: =IF(A29="dimanche","",IF(A29="samedi","",IF(G29<=0,"",(IF(I29="",G29-D29,I29-D29))+(J29+L29+O29)))) -> 0.0013888889 | N29: =IF(E29="","",IF(AND(A29="Dimanche",E29>0),SUM(E29*2.5+(F29+G29+H29)*2),IF(A29="samedi",SUM(E29*2.5,F29*1.25,H29*1.25,G29*1.25),SUM(E29*2.5,F29*1.25,H29*1.25,)))) | O29: =IF(G29="","",IF((G29+J29+L29)>=D29,"0:00",D29-G29)) -> 0:00
A30: =CHOOSE(WEEKDAY(B30),"Dimanche","Lundi","Mardi","Mercredi","Jeudi","Vendredi","Samedi") -> Vendredi | B30: =DATE(An,1,ROW(26:56)) -> 41664 | C30: =IF(G30="","",--(G30>0)) -> 1 | D30: =IFERROR((VLOOKUP(B30,Fériés:Fériés,2,0)),VLOOKUP(A30,Année!$C$2:$C$8:'Année'!$D$2:$D$8,2,0)) -> 0.16666667 | E30: 0.00069444444 | G30: =IF(L30="",D30,0) -> 0.16666667 | H30: 0.26736111 | I30: 0.16666667 | K30: =IF(D30=0,VLOOKUP(A30,Horaires,2,FALSE)," ") | M30: =IF(A30="dimanche","",IF(A30="samedi","",IF(G30<=0,"",(IF(I30="",G30-D30,I30-D30))+(J30+L30+O30)))) -> 0 | N30: =IF(E30="","",IF(AND(A30="Dimanche",E30>0),SUM(E30*2.5+(F30+G30+H30)*2),IF(A30="samedi",SUM(E30*2.5,F30*1.25,H30*1.25,G30*1.25),SUM(E30*2.5,F30*1.25,H30*1.25,)))) -> 0.3359375 | O30: =IF(G30="","",IF((G30+J30+L30)>=D30,"0:00",D30-G30)) -> 0:00
A31: =CHOOSE(WEEKDAY(B31),"Dimanche","Lundi","Mardi","Mercredi","Jeudi","Vendredi","Samedi") -> Samedi | B31: =DATE(An,1,ROW(27:57)) -> 41665 | C31: =IF(G31="","",--(G31>0)) -> 1 | D31: =IFERROR((VLOOKUP(B31,Fériés:Fériés,2,0)),VLOOKUP(A31,Année!$C$2:$C$8:'Année'!$D$2:$D$8,2,0)) -> 0 | E31: 0.10416667 | F31: 0.0625 | G31: 0.27916667 | K31: =IF(D31=0,VLOOKUP(A31,Horaires,2,FALSE)," ") -> 0 | M31: =IF(A31="dimanche","",IF(A31="samedi","",IF(G31<=0,"",(IF(I31="",G31-D31,I31-D31))+(J31+L31+O31)))) | N31: =IF(E31="","",IF(AND(A31="Dimanche",E31>0),SUM(E31*2.5+(F31+G31+H31)*2),IF(A31="samedi",SUM(E31*2.5,F31*1.25,H31*1.25,G31*1.25),SUM(E31*2.5,F31*1.25,H31*1.25,)))) -> 0.6875 | O31: =IF(G31="","",IF((G31+J31+L31)>=D31,"0:00",D31-G31)) -> 0:00
A32: =CHOOSE(WEEKDAY(B32),"Dimanche","Lundi","Mardi","Mercredi","Jeudi","Vendredi","Samedi") -> Dimanche | B32: =DATE(An,1,ROW(28:58)) -> 41666 | C32: =IF(G32="","",--(G32>0)) -> 0 | D32: =IFERROR((VLOOKUP(B32,Fériés:Fériés,2,0)),VLOOKUP(A32,Année!$C$2:$C$8:'Année'!$D$2:$D$8,2,0)) -> 0 | G32: =IF(L32="",D32,0) -> 0 | K32: =IF(D32=0,VLOOKUP(A32,Horaires,2,FALSE)," ") -> 0 | M32: =IF(A32="dimanche","",IF(A32="samedi","",IF(G32<=0,"",(IF(I32="",G32-D32,I32-D32))+(J32+L32+O32)))) | N32: =IF(E32="","",IF(AND(A32="Dimanche",E32>0),SUM(E32*2.5+(F32+G32+H32)*2),IF(A32="samedi",SUM(E32*2.5,F32*1.25,H32*1.25,G32*1.25),SUM(E32*2.5,F32*1.25,H32*1.25,)))) | O32: =IF(G32="","",IF((G32+J32+L32)>=D32,"0:00",D32-G32)) -> 0:00
A33: =CHOOSE(WEEKDAY(B33),"Dimanche","Lundi","Mardi","Mercredi","Jeudi","Vendredi","Samedi") -> Lundi | B33: =DATE(An,1,ROW(29:59)) -> 41667 | C33: =IF(G33="","",--(G33>0)) -> 1 | D33: =IFERROR((VLOOKUP(B33,Fériés:Fériés,2,0)),VLOOKUP(A33,Année!$C$2:$C$8:'Année'!$D$2:$D$8,2,0)) -> 0.32291667 | G33: =IF(L33="",D33,0) -> 0.32291667 | I33: 0.325 | K33: =IF(D33=0,VLOOKUP(A33,Horaires,2,FALSE)," ") | M33: =IF(A33="dimanche","",IF(A33="samedi","",IF(G33<=0,"",(IF(I33="",G33-D33,I33-D33))+(J33+L33+O33)))) -> 0.0020833333 | N33: =IF(E33="","",IF(AND(A33="Dimanche",E33>0),SUM(E33*2.5+(F33+G33+H33)*2),IF(A33="samedi",SUM(E33*2.5,F33*1.25,H33*1.25,G33*1.25),SUM(E33*2.5,F33*1.25,H33*1.25,)))) | O33: =IF(G33="","",IF((G33+J33+L33)>=D33,"0:00",D33-G33)) -> 0:00
A34: =CHOOSE(WEEKDAY(B34),"Dimanche","Lundi","Mardi","Mercredi","Jeudi","Vendredi","Samedi") -> Mardi | B34: =DATE(An,1,ROW(30:60)) -> 41668 | C34: =IF(G34="","",--(G34>0)) -> 1 | D34: =IFERROR((VLOOKUP(B34,Fériés:Fériés,2,0)),VLOOKUP(A34,Année!$C$2:$C$8:'Année'!$D$2:$D$8,2,0)) -> 0.32291667 | G34: =IF(L34="",D34,0) -> 0.32291667 | I34: 0.32361111 | K34: =IF(D34=0,VLOOKUP(A34,Horaires,2,FALSE)," ") | M34: =IF(A34="dimanche","",IF(A34="samedi","",IF(G34<=0,"",(IF(I34="",G34-D34,I34-D34))+(J34+L34+O34)))) -> 0.00069444444 | N34: =IF(E34="","",IF(AND(A34="Dimanche",E34>0),SUM(E34*2.5+(F34+G34+H34)*2),IF(A34="samedi",SUM(E34*2.5,F34*1.25,H34*1.25,G34*1.25),SUM(E34*2.5,F34*1.25,H34*1.25,)))) | O34: =IF(G34="","",IF((G34+J34+L34)>=D34,"0:00",D34-G34)) -> 0:00
A35: =CHOOSE(WEEKDAY(B35),"Dimanche","Lundi","Mardi","Mercredi","Jeudi","Vendredi","Samedi") -> Mercredi | B35: =DATE(An,1,ROW(31:61)) -> 41669 | C35: =IF(G35="","",--(G35>0)) -> 1 | D35: =IFERROR((VLOOKUP(B35,Fériés:Fériés,2,0)),VLOOKUP(A35,Année!$C$2:$C$8:'Année'!$D$2:$D$8,2,0)) -> 0.32291667 | G35: =IF(L35="",D35,0) -> 0.32291667 | I35: 0.32361111 | K35: =IF(D35=0,VLOOKUP(A35,Horaires,2,FALSE)," ") | M35: =IF(A35="dimanche","",IF(A35="samedi","",IF(G35<=0,"",(IF(I35="",G35-D35,I35-D35))+(J35+L35+O35)))) -> 0.00069444444 | N35: =IF(E35="","",IF(AND(A35="Dimanche",E35>0),SUM(E35*2.5+(F35+G35+H35)*2),IF(A35="samedi",SUM(E35*2.5,F35*1.25,H35*1.25,G35*1.25),SUM(E35*2.5,F35*1.25,H35*1.25,)))) | O35: =IF(G35="","",IF((G35+J35+L35)>=D35,"0:00",D35-G35)) -> 0:00
C36: =IF(G36="","",--(G36>0))
C37: =IF(G37="","",--(G37>0))
A38: Totaux : | C38: =SUM(C5:C37) -> 18 | D38: =SUM(D5:D37) -> 6.4791667 | E38: =SUM(E5:E37) -> 0.10486111 | F38: =SUM(F5:F37) -> 0.0625 | G38: =SUM(G5:G37) -> 5.3 | H38: =SUM(H5:H37) -> 0.26736111 | I38: =SUM(I5:I37) -> 5.0513889 | J38: =SUM(J5:J37) -> 0 | ... O38: =SUM(O5:O37) -> 0

Sheet Février
A1: =DATE(Année!B1,2,1) -> 41670
A3: Dates : | C3: Heures à faire: | D3: Heures faites: | I3: ASA | J3: Jours Fériés | K3: Congés | L3: Heures Supp | M3: Heures Neige | N3: Récup Heures Neige
D4: 22hà3h30à6h (X2,5) | E4: 6hà7h30 (X1,25) | F4: 7h30à16h45 (X1) | G4: 16h45à22h (X1,25) | H4: Heures pointées Bâtiment
A5: =CHOOSE(WEEKDAY(B5),"Dimanche","Lundi","Mardi","Mercredi","Jeudi","Vendredi","Samedi") -> Jeudi | B5: =DATE(An,2,ROW(1:31)) -> 41670 | C5: =IFERROR((VLOOKUP(B5,Fériés:Fériés,2,0)),VLOOKUP(A5,Année!$C$2:$C$8:'Année'!$D$2:$D$8,2,0)) -> 0.32291667 | F5: =IF(K5="",C5,0) -> 0.32291667 | J5: =IF(C5=0,VLOOKUP(A5,Horaires,2,FALSE)," ") | L5: =IF(A5="dimanche","",IF(A5="samedi","",IF(F5<=0,"",(IF(H5="",F5-C5,H5-C5))+(I5+K5+N5)))) -> 0 | M5: =IF(D5="","",IF(AND(A5="Dimanche",D5>0),SUM(D5*2.5+(E5+F5+G5)*2),IF(A5="samedi",SUM(D5*2.5,E5*1.25,G5*1.25,F5*1.25),SUM(D5*2.5,E5*1.25,G5*1.25,)))) | N5: =IF(F5="","",IF((F5+I5+K5)>=C5,"0:00",C5-F5)) -> 0:00
A6: =CHOOSE(WEEKDAY(B6),"Dimanche","Lundi","Mardi","Mercredi","Jeudi","Vendredi","Samedi") -> Vendredi | B6: =DATE(An,2,ROW(2:32)) -> 41671 | C6: =IFERROR((VLOOKUP(B6,Fériés:Fériés,2,0)),VLOOKUP(A6,Année!$C$2:$C$8:'Année'!$D$2:$D$8,2,0)) -> 0.16666667 | F6: =IF(K6="",C6,0) -> 0.16666667 | J6: =IF(C6=0,VLOOKUP(A6,Horaires,2,FALSE)," ") | L6: =IF(A6="dimanche","",IF(A6="samedi","",IF(F6<=0,"",(IF(H6="",F6-C6,H6-C6))+(I6+K6+N6)))) -> 0 | M6: =IF(D6="","",IF(AND(A6="Dimanche",D6>0),SUM(D6*2.5+(E6+F6+G6)*2),IF(A6="samedi",SUM(D6*2.5,E6*1.25,G6*1.25,F6*1.25),SUM(D6*2.5,E6*1.25,G6*1.25,)))) | N6: =IF(F6="","",IF((F6+I6+K6)>=C6,"0:00",C6-F6)) -> 0:00
A7: =CHOOSE(WEEKDAY(B7),"Dimanche","Lundi","Mardi","Mercredi","Jeudi","Vendredi","Samedi") -> Samedi | B7: =DATE(An,2,ROW(3:33)) -> 41672 | C7: =IFERROR((VLOOKUP(B7,Fériés:Fériés,2,0)),VLOOKUP(A7,Année!$C$2:$C$8:'Année'!$D$2:$D$8,2,0)) -> 0 | F7: =IF(K7="",C7,0) -> 0 | J7: =IF(C7=0,VLOOKUP(A7,Horaires,2,FALSE)," ") -> 0 | L7: =IF(A7="dimanche","",IF(A7="samedi","",IF(F7<=0,"",(IF(H7="",F7-C7,H7-C7))+(I7+K7+N7)))) | M7: =IF(D7="","",IF(AND(A7="Dimanche",D7>0),SUM(D7*2.5+(E7+F7+G7)*2),IF(A7="samedi",SUM(D7*2.5,E7*1.25,G7*1.25,F7*1.25),SUM(D7*2.5,E7*1.25,G7*1.25,)))) | N7: =IF(F7="","",IF((F7+I7+K7)>=C7,"0:00",C7-F7)) -> 0:00
A8: =CHOOSE(WEEKDAY(B8),"Dimanche","Lundi","Mardi","Mercredi","Jeudi","Vendredi","Samedi") -> Dimanche | B8: =DATE(An,2,ROW(4:34)) -> 41673 | C8: =IFERROR((VLOOKUP(B8,Fériés:Fériés,2,0)),VLOOKUP(A8,Année!$C$2:$C$8:'Année'!$D$2:$D$8,2,0)) -> 0 | F8: =IF(K8="",C8,0) -> 0 | J8: =IF(C8=0,VLOOKUP(A8,Horaires,2,FALSE)," ") -> 0 | L8: =IF(A8="dimanche","",IF(A8="samedi","",IF(F8<=0,"",(IF(H8="",F8-C8,H8-C8))+(I8+K8+N8)))) | M8: =IF(D8="","",IF(AND(A8="Dimanche",D8>0),SUM(D8*2.5+(E8+F8+G8)*2),IF(A8="samedi",SUM(D8*2.5,E8*1.25,G8*1.25,F8*1.25),SUM(D8*2.5,E8*1.25,G8*1.25,)))) | N8: =IF(F8="","",IF((F8+I8+K8)>=C8,"0:00",C8-F8)) -> 0:00
A9: =CHOOSE(WEEKDAY(B9),"Dimanche","Lundi","Mardi","Mercredi","Jeudi","Vendredi","Samedi") -> Lundi | B9: =DATE(An,2,ROW(5:35)) -> 41674 | C9: =IFERROR((VLOOKUP(B9,Fériés:Fériés,2,0)),VLOOKUP(A9,Année!$C$2:$C$8:'Année'!$D$2:$D$8,2,0)) -> 0.32291667 | F9: =IF(K9="",C9,0) -> 0.32291667 | J9: =IF(C9=0,VLOOKUP(A9,Horaires,2,FALSE)," ") | L9: =IF(A9="dimanche","",IF(A9="samedi","",IF(F9<=0,"",(IF(H9="",F9-C9,H9-C9))+(I9+K9+N9)))) -> 0 | M9: =IF(D9="","",IF(AND(A9="Dimanche",D9>0),SUM(D9*2.5+(E9+F9+G9)*2),IF(A9="samedi",SUM(D9*2.5,E9*1.25,G9*1.25,F9*1.25),SUM(D9*2.5,E9*1.25,G9*1.25,)))) | N9: =IF(F9="","",IF((F9+I9+K9)>=C9,"0:00",C9-F9)) -> 0:00
A10: =CHOOSE(WEEKDAY(B10),"Dimanche","Lundi","Mardi","Mercredi","Jeudi","Vendredi","Samedi") -> Mardi | B10: =DATE(An,2,ROW(6:36)) -> 41675 | C10: =IFERROR((VLOOKUP(B10,Fériés:Fériés,2,0)),VLOOKUP(A10,Année!$C$2:$C$8:'Année'!$D$2:$D$8,2,0)) -> 0.32291667 | F10: =IF(K10="",C10,0) -> 0.32291667 | J10: =IF(C10=0,VLOOKUP(A10,Horaires,2,FALSE)," ") | L10: =IF(A10="dimanche","",IF(A10="samedi","",IF(F10<=0,"",(IF(H10="",F10-C10,H10-C10))+(I10+K10+N10)))) -> 0 | M10: =IF(D10="","",IF(AND(A10="Dimanche",D10>0),SUM(D10*2.5+(E10+F10+G10)*2),IF(A10="samedi",SUM(D10*2.5,E10*1.25,G10*1.25,F10*1.25),SUM(D10*2.5,E10*1.25,G10*1.25,)))) | N10: =IF(F10="","",IF((F10+I10+K10)>=C10,"0:00",C10-F10)) -> 0:00
A11: =CHOOSE(WEEKDAY(B11),"Dimanche","Lundi","Mardi","Mercredi","Jeudi","Vendredi","Samedi") -> Mercredi | B11: =DATE(An,2,ROW(7:37)) -> 41676 | C11: =IFERROR((VLOOKUP(B11,Fériés:Fériés,2,0)),VLOOKUP(A11,Année!$C$2:$C$8:'Année'!$D$2:$D$8,2,0)) -> 0.32291667 | D11: 0.10416667 | E11: 0.0625 | F11: 0.1875 | J11: =IF(C11=0,VLOOKUP(A11,Horaires,2,FALSE)," ") | L11: =IF(A11="dimanche","",IF(A11="samedi","",IF(F11<=0,"",(IF(H11="",F11-C11,H11-C11))+(I11+K11+N11)))) -> 0 | M11: =IF(D11="","",IF(AND(A11="Dimanche",D11>0),SUM(D11*2.5+(E11+F11+G11)*2),IF(A11="samedi",SUM(D11*2.5,E11*1.25,G11*1.25,F11*1.25),SUM(D11*2.5,E11*1.25,G11*1.25,)))) -> 0.33854167 | N11: =IF(F11="","",IF((F11+I11+K11)>=C11,"0:00",C11-F11)) -> 0.13541667
A12: =CHOOSE(WEEKDAY(B12),"Dimanche","Lundi","Mardi","Mercredi","Jeudi","Vendredi","Samedi") -> Jeudi | B12: =DATE(An,2,ROW(8:38)) -> 41677 | C12: =IFERROR((VLOOKUP(B12,Fériés:Fériés,2,0)),VLOOKUP(A12,Année!$C$2:$C$8:'Année'!$D$2:$D$8,2,0)) -> 0.32291667 | F12: =IF(K12="",C12,0) -> 0.32291667 | J12: =IF(C12=0,VLOOKUP(A12,Horaires,2,FALSE)," ") | L12: =IF(A12="dimanche","",IF(A12="samedi","",IF(F12<=0,"",(IF(H12="",F12-C12,H12-C12))+(I12+K12+N12)))) -> 0 | M12: =IF(D12="","",IF(AND(A12="Dimanche",D12>0),SUM(D12*2.5+(E12+F12+G12)*2),IF(A12="samedi",SUM(D12*2.5,E12*1.25,G12*1.25,F12*1.25),SUM(D12*2.5,E12*1.25,G12*1.25,)))) | N12: =IF(F12="","",IF((F12+I12+K12)>=C12,"0:00",C12-F12)) -> 0:00
A13: =CHOOSE(WEEKDAY(B13),"Dimanche","Lundi","Mardi","Mercredi","Jeudi","Vendredi","Samedi") -> Vendredi | B13: =DATE(An,2,ROW(9:39)) -> 41678 | C13: =IFERROR((VLOOKUP(B13,Fériés:Fériés,2,0)),VLOOKUP(A13,Année!$C$2:$C$8:'Année'!$D$2:$D$8,2,0)) -> 0.16666667 | F13: =IF(K13="",C13,0) -> 0.16666667 | J13: =IF(C13=0,VLOOKUP(A13,Horaires,2,FALSE)," ") | L13: =IF(A13="dimanche","",IF(A13="samedi","",IF(F13<=0,"",(IF(H13="",F13-C13,H13-C13))+(I13+K13+N13)))) -> 0 | M13: =IF(D13="","",IF(AND(A13="Dimanche",D13>0),SUM(D13*2.5+(E13+F13+G13)*2),IF(A13="samedi",SUM(D13*2.5,E13*1.25,G13*1.25,F13*1.25),SUM(D13*2.5,E13*1.25,G13*1.25,)))) | N13: =IF(F13="","",IF((F13+I13+K13)>=C13,"0:00",C13-F13)) -> 0:00
A14: =CHOOSE(WEEKDAY(B14),"Dimanche","Lundi","Mardi","Mercredi","Jeudi","Vendredi","Samedi") -> Samedi | B14: =DATE(An,2,ROW(10:40)) -> 41679 | C14: =IFERROR((VLOOKUP(B14,Fériés:Fériés,2,0)),VLOOKUP(A14,Année!$C$2:$C$8:'Année'!$D$2:$D$8,2,0)) -> 0 | D14: 0.10416667 | E14: 0.0625 | F14: 0.22916667 | J14: =IF(C14=0,VLOOKUP(A14,Horaires,2,FALSE)," ") -> 0 | L14: =IF(A14="dimanche","",IF(A14="samedi","",IF(F14<=0,"",(IF(H14="",F14-C14,H14-C14))+(I14+K14+N14)))) | M14: =IF(D14="","",IF(AND(A14="Dimanche",D14>0),SUM(D14*2.5+(E14+F14+G14)*2),IF(A14="samedi",SUM(D14*2.5,E14*1.25,G14*1.25,F14*1.25),SUM(D14*2.5,E14*1.25,G14*1.25,)))) -> 0.625 | N14: =IF(F14="","",IF((F14+I14+K14)>=C14,"0:00",C14-F14)) -> 0:00
A15: =CHOOSE(WEEKDAY(B15),"Dimanche","Lundi","Mardi","Mercredi","Jeudi","Vendredi","Samedi") -> Dimanche | B15: =DATE(An,2,ROW(11:41)) -> 41680 | C15: =IFERROR((VLOOKUP(B15,Fériés:Fériés,2,0)),VLOOKUP(A15,Année!$C$2:$C$8:'Année'!$D$2:$D$8,2,0)) -> 0 | D15: 0.10416667 | E15: 0.0625 | F15: 0.083333333 | J15: =IF(C15=0,VLOOKUP(A15,Horaires,2,FALSE)," ") -> 0 | L15: =IF(A15="dimanche","",IF(A15="samedi","",IF(F15<=0,"",(IF(H15="",F15-C15,H15-C15))+(I15+K15+N15)))) | M15: =IF(D15="","",IF(AND(A15="Dimanche",D15>0),SUM(D15*2.5+(E15+F15+G15)*2),IF(A15="samedi",SUM(D15*2.5,E15*1.25,G15*1.25,F15*1.25),SUM(D15*2.5,E15*1.25,G15*1.25,)))) -> 0.55208333 | N15: =IF(F15="","",IF((F15+I15+K15)>=C15,"0:00",C15-F15)) -> 0:00
A16: =CHOOSE(WEEKDAY(B16),"Dimanche","Lundi","Mardi","Mercredi","Jeudi","Vendredi","Samedi") -> Lundi | B16: =DATE(An,2,ROW(12:42)) -> 41681 | C16: =IFERROR((VLOOKUP(B16,Fériés:Fériés,2,0)),VLOOKUP(A16,Année!$C$2:$C$8:'Année'!$D$2:$D$8,2,0)) -> 0.32291667 | D16: 0.10416667 | E16: 0.0625 | F16: 0.093055556 | J16: =IF(C16=0,VLOOKUP(A16,Horaires,2,FALSE)," ") | K16: 0 | L16: =IF(A16="dimanche","",IF(A16="samedi","",IF(F16<=0,"",(IF(H16="",F16-C16,H16-C16))+(I16+K16+N16)))) -> 0 | M16: =IF(D16="","",IF(AND(A16="Dimanche",D16>0),SUM(D16*2.5+(E16+F16+G16)*2),IF(A16="samedi",SUM(D16*2.5,E16*1.25,G16*1.25,F16*1.25),SUM(D16*2.5,E16*1.25,G16*1.25,)))) -> 0.33854167 | N16: =IF(F16="","",IF((F16+I16+K16)>=C16,"0:00",C16-F16)) -> 0.22986111
A17: =CHOOSE(WEEKDAY(B17),"Dimanche","Lundi","Mardi","Mercredi","Jeudi","Vendredi","Samedi") -> Mardi | B17: =DATE(An,2,ROW(13:43)) -> 41682 | C17: =IFERROR((VLOOKUP(B17,Fériés:Fériés,2,0)),VLOOKUP(A17,Année!$C$2:$C$8:'Année'!$D$2:$D$8,2,0)) -> 0.32291667 | F17: =IF(K17="",C17,0) -> 0 | J17: =IF(C17=0,VLOOKUP(A17,Horaires,2,FALSE)," ") | K17: 0.32291667 | L17: =IF(A17="dimanche","",IF(A17="samedi","",IF(F17<=0,"",(IF(H17="",F17-C17,H17-C17))+(I17+K17+N17)))) | M17: =IF(D17="","",IF(AND(A17="Dimanche",D17>0),SUM(D17*2.5+(E17+F17+G17)*2),IF(A17="samedi",SUM(D17*2.5,E17*1.25,G17*1.25,F17*1.25),SUM(D17*2.5,E17*1.25,G17*1.25,)))) | N17: =IF(F17="","",IF((F17+I17+K17)>=C17,"0:00",C17-F17)) -> 0:00
A18: =CHOOSE(WEEKDAY(B18),"Dimanche","Lundi","Mardi","Mercredi","Jeudi","Vendredi","Samedi") -> Mercredi | B18: =DATE(An,2,ROW(14:44)) -> 41683 | C18: =IFERROR((VLOOKUP(B18,Fériés:Fériés,2,0)),VLOOKUP(A18,Année!$C$2:$C$8:'Année'!$D$2:$D$8,2,0)) -> 0.32291667 | F18: =IF(K18="",C18,0) -> 0 | J18: =IF(C18=0,VLOOKUP(A18,Horaires,2,FALSE)," ") | K18: 0.32291667 | L18: =IF(A18="dimanche","",IF(A18="samedi","",IF(F18<=0,"",(IF(H18="",F18-C18,H18-C18))+(I18+K18+N18)))) | M18: =IF(D18="","",IF(AND(A18="Dimanche",D18>0),SUM(D18*2.5+(E18+F18+G18)*2),IF(A18="samedi",SUM(D18*2.5,E18*1.25,G18*1.25,F18*1.25),SUM(D18*2.5,E18*1.25,G18*1.25,)))) | N18: =IF(F18="","",IF((F18+I18+K18)>=C18,"0:00",C18-F18)) -> 0:00
A19: =CHOOSE(WEEKDAY(B19),"Dimanche","Lundi","Mardi","Mercredi","Jeudi","Vendredi","Samedi") -> Jeudi | B19: =DATE(An,2,ROW(15:45)) -> 41684 | C19: =IFERROR((VLOOKUP(B19,Fériés:Fériés,2,0)),VLOOKUP(A19,Année!$C$2:$C$8:'Année'!$D$2:$D$8,2,0)) -> 0.32291667 | F19: =IF(K19="",C19,0) -> 0 | J19: =IF(C19=0,VLOOKUP(A19,Horaires,2,FALSE)," ") | K19: 0.32291667 | L19: =IF(A19="dimanche","",IF(A19="samedi","",IF(F19<=0,"",(IF(H19="",F19-C19,H19-C19))+(I19+K19+N19)))) | M19: =IF(D19="","",IF(AND(A19="Dimanche",D19>0),SUM(D19*2.5+(E19+F19+G19)*2),IF(A19="samedi",SUM(D19*2.5,E19*1.25,G19*1.25,F19*1.25),SUM(D19*2.5,E19*1.25,G19*1.25,)))) | N19: =IF(F19="","",IF((F19+I19+K19)>=C19,"0:00",C19-F19)) -> 0:00
A20: =CHOOSE(WEEKDAY(B20),"Dimanche","Lundi","Mardi","Mercredi","Jeudi","Vendredi","Samedi") -> Vendredi | B20: =DATE(An,2,ROW(16:46)) -> 41685 | C20: =IFERROR((VLOOKUP(B20,Fériés:Fériés,2,0)),VLOOKUP(A20,Année!$C$2:$C$8:'Année'!$D$2:$D$8,2,0)) -> 0.16666667 | F20: =IF(K20="",C20,0) -> 0 | J20: =IF(C20=0,VLOOKUP(A20,Horaires,2,FALSE)," ") | K20: 0.16666667 | L20: =IF(A20="dimanche","",IF(A20="samedi","",IF(F20<=0,"",(IF(H20="",F20-C20,H20-C20))+(I20+K20+N20)))) | M20: =IF(D20="","",IF(AND(A20="Dimanche",D20>0),SUM(D20*2.5+(E20+F20+G20)*2),IF(A20="samedi",SUM(D20*2.5,E20*1.25,G20*1.25,F20*1.25),SUM(D20*2.5,E20*1.25,G20*1.25,)))) | N20: =IF(F20="","",IF((F20+I20+K20)>=C20,"0:00",C20-F20)) -> 0:00
A21: =CHOOSE(WEEKDAY(B21),"Dimanche","Lundi","Mardi","Mercredi","Jeudi","Vendredi","Samedi") -> Samedi | B21: =DATE(An,2,ROW(17:47)) -> 41686 | C21: =IFERROR((VLOOKUP(B21,Fériés:Fériés,2,0)),VLOOKUP(A21,Année!$C$2:$C$8:'Année'!$D$2:$D$8,2,0)) -> 0 | F21: =IF(K21="",C21,0) -> 0 | J21: =IF(C21=0,VLOOKUP(A21,Horaires,2,FALSE)," ") -> 0 | L21: =IF(A21="dimanche","",IF(A21="samedi","",IF(F21<=0,"",(IF(H21="",F21-C21,H21-C21))+(I21+K21+N21)))) | M21: =IF(D21="","",IF(AND(A21="Dimanche",D21>0),SUM(D21*2.5+(E21+F21+G21)*2),IF(A21="samedi",SUM(D21*2.5,E21*1.25,G21*1.25,F21*1.25),SUM(D21*2.5,E21*1.25,G21*1.25,)))) | N21: =IF(F21="","",IF((F21+I21+K21)>=C21,"0:00",C21-F21)) -> 0:00
A22: =CHOOSE(WEEKDAY(B22),"Dimanche","Lundi","Mardi","Mercredi","Jeudi","Vendredi","Samedi") -> Dimanche | B22: =DATE(An,2,ROW(18:48)) -> 41687 | C22: =IFERROR((VLOOKUP(B22,Fériés:Fériés,2,0)),VLOOKUP(A22,Année!$C$2:$C$8:'Année'!$D$2:$D$8,2,0)) -> 0 | F22: =IF(K22="",C22,0) -> 0 | J22: =IF(C22=0,VLOOKUP(A22,Horaires,2,FALSE)," ") -> 0 | L22: =IF(A22="dimanche","",IF(A22="samedi","",IF(F22<=0,"",(IF(H22="",F22-C22,H22-C22))+(I22+K22+N22)))) | M22: =IF(D22="","",IF(AND(A22="Dimanche",D22>0),SUM(D22*2.5+(E22+F22+G22)*2),IF(A22="samedi",SUM(D22*2.5,E22*1.25,G22*1.25,F22*1.25),SUM(D22*2.5,E22*1.25,G22*1.25,)))) | N22: =IF(F22="","",IF((F22+I22+K22)>=C22,"0:00",C22-F22)) -> 0:00
A23: =CHOOSE(WEEKDAY(B23),"Dimanche","Lundi","Mardi","Mercredi","Jeudi","Vendredi","Samedi") -> Lundi | B23: =DATE(An,2,ROW(19:49)) -> 41688 | C23: =IFERROR((VLOOKUP(B23,Fériés:Fériés,2,0)),VLOOKUP(A23,Année!$C$2:$C$8:'Année'!$D$2:$D$8,2,0)) -> 0.32291667 | F23: =IF(K23="",C23,0) -> 0.32291667 | J23: =IF(C23=0,VLOOKUP(A23,Horaires,2,FALSE)," ") | L23: =IF(A23="dimanche","",IF(A23="samedi","",IF(F23<=0,"",(IF(H23="",F23-C23,H23-C23))+(I23+K23+N23)))) -> 0 | M23: =IF(D23="","",IF(AND(A23="Dimanche",D23>0),SUM(D23*2.5+(E23+F23+G23)*2),IF(A23="samedi",SUM(D23*2.5,E23*1.25,G23*1.25,F23*1.25),SUM(D23*2.5,E23*1.25,G23*1.25,)))) | N23: =IF(F23="","",IF((F23+I23+K23)>=C23,"0:00",C23-F23)) -> 0:00
A24: =CHOOSE(WEEKDAY(B24),"Dimanche","Lundi","Mardi","Mercredi","Jeudi","Vendredi","Samedi") -> Mardi | B24: =DATE(An,2,ROW(20:50)) -> 41689 | C24: =IFERROR((VLOOKUP(B24,Fériés:Fériés,2,0)),VLOOKUP(A24,Année!$C$2:$C$8:'Année'!$D$2:$D$8,2,0)) -> 0.32291667 | F24: =IF(K24="",C24,0) -> 0.32291667 | J24: =IF(C24=0,VLOOKUP(A24,Horaires,2,FALSE)," ") | L24: =IF(A24="dimanche","",IF(A24="samedi","",IF(F24<=0,"",(IF(H24="",F24-C24,H24-C24))+(I24+K24+N24)))) -> 0 | M24: =IF(D24="","",IF(AND(A24="Dimanche",D24>0),SUM(D24*2.5+(E24+F24+G24)*2),IF(A24="samedi",SUM(D24*2.5,E24*1.25,G24*1.25,F24*1.25),SUM(D24*2.5,E24*1.25,G24*1.25,)))) | N24: =IF(F24="","",IF((F24+I24+K24)>=C24,"0:00",C24-F24)) -> 0:00
A25: =CHOOSE(WEEKDAY(B25),"Dimanche","Lundi","Mardi","Mercredi","Jeudi","Vendredi","Samedi") -> Mercredi | B25: =DATE(An,2,ROW(21:51)) -> 41690 | C25: =IFERROR((VLOOKUP(B25,Fériés:Fériés,2,0)),VLOOKUP(A25,Année!$C$2:$C$8:'Année'!$D$2:$D$8,2,0)) -> 0.32291667 | F25: =IF(K25="",C25,0) -> 0.32291667 | J25: =IF(C25=0,VLOOKUP(A25,Horaires,2,FALSE)," ") | L25: =IF(A25="dimanche","",IF(A25="samedi","",IF(F25<=0,"",(IF(H25="",F25-C25,H25-C25))+(I25+K25+N25)))) -> 0 | M25: =IF(D25="","",IF(AND(A25="Dimanche",D25>0),SUM(D25*2.5+(E25+F25+G25)*2),IF(A25="samedi",SUM(D25*2.5,E25*1.25,G25*1.25,F25*1.25),SUM(D25*2.5,E25*1.25,G25*1.25,)))) | N25: =IF(F25="","",IF((F25+I25+K25)>=C25,"0:00",C25-F25)) -> 0:00
A26: =CHOOSE(WEEKDAY(B26),"Dimanche","Lundi","Mardi","Mercredi","Jeudi","Vendredi","Samedi") -> Jeudi | B26: =DATE(An,2,ROW(22:52)) -> 41691 | C26: =IFERROR((VLOOKUP(B26,Fériés:Fériés,2,0)),VLOOKUP(A26,Année!$C$2:$C$8:'Année'!$D$2:$D$8,2,0)) -> 0.32291667 | F26: =IF(K26="",C26,0) -> 0.32291667 | J26: =IF(C26=0,VLOOKUP(A26,Horaires,2,FALSE)," ") | L26: =IF(A26="dimanche","",IF(A26="samedi","",IF(F26<=0,"",(IF(H26="",F26-C26,H26-C26))+(I26+K26+N26)))) -> 0 | M26: =IF(D26="","",IF(AND(A26="Dimanche",D26>0),SUM(D26*2.5+(E26+F26+G26)*2),IF(A26="samedi",SUM(D26*2.5,E26*1.25,G26*1.25,F26*1.25),SUM(D26*2.5,E26*1.25,G26*1.25,)))) | N26: =IF(F26="","",IF((F26+I26+K26)>=C26,"0:00",C26-F26)) -> 0:00
A27: =CHOOSE(WEEKDAY(B27),"Dimanche","Lundi","Mardi","Mercredi","Jeudi","Vendredi","Samedi") -> Vendredi | B27: =DATE(An,2,ROW(23:53)) -> 41692 | C27: =IFERROR((VLOOKUP(B27,Fériés:Fériés,2,0)),VLOOKUP(A27,Année!$C$2:$C$8:'Année'!$D$2:$D$8,2,0)) -> 0.16666667 | F27: =IF(K27="",C27,0) -> 0.16666667 | J27: =IF(C27=0,VLOOKUP(A27,Horaires,2,FALSE)," ") | L27: =IF(A27="dimanche","",IF(A27="samedi","",IF(F27<=0,"",(IF(H27="",F27-C27,H27-C27))+(I27+K27+N27)))) -> 0 | M27: =IF(D27="","",IF(AND(A27="Dimanche",D27>0),SUM(D27*2.5+(E27+F27+G27)*2),IF(A27="samedi",SUM(D27*2.5,E27*1.25,G27*1.25,F27*1.25),SUM(D27*2.5,E27*1.25,G27*1.25,)))) | N27: =IF(F27="","",IF((F27+I27+K27)>=C27,"0:00",C27-F27)) -> 0:00
A28: =CHOOSE(WEEKDAY(B28),"Dimanche","Lundi","Mardi","Mercredi","Jeudi","Vendredi","Samedi") -> Samedi | B28: =DATE(An,2,ROW(24:54)) -> 41693 | C28: =IFERROR((VLOOKUP(B28,Fériés:Fériés,2,0)),VLOOKUP(A28,Année!$C$2:$C$8:'Année'!$D$2:$D$8,2,0)) -> 0 | F28: =IF(K28="",C28,0) -> 0 | J28: =IF(C28=0,VLOOKUP(A28,Horaires,2,FALSE)," ") -> 0 | L28: =IF(A28="dimanche","",IF(A28="samedi","",IF(F28<=0,"",(IF(H28="",F28-C28,H28-C28))+(I28+K28+N28)))) | M28: =IF(D28="","",IF(AND(A28="Dimanche",D28>0),SUM(D28*2.5+(E28+F28+G28)*2),IF(A28="samedi",SUM(D28*2.5,E28*1.25,G28*1.25,F28*1.25),SUM(D28*2.5,E28*1.25,G28*1.25,)))) | N28: =IF(F28="","",IF((F28+I28+K28)>=C28,"0:00",C28-F28)) -> 0:00
A29: =CHOOSE(WEEKDAY(B29),"Dimanche","Lundi","Mardi","Mercredi","Jeudi","Vendredi","Samedi") -> Dimanche | B29: =DATE(An,2,ROW(25:55)) -> 41694 | C29: =IFERROR((VLOOKUP(B29,Fériés:Fériés,2,0)),VLOOKUP(A29,Année!$C$2:$C$8:'Année'!$D$2:$D$8,2,0)) -> 0 | F29: =IF(K29="",C29,0) -> 0 | J29: =IF(C29=0,VLOOKUP(A29,Horaires,2,FALSE)," ") -> 0 | L29: =IF(A29="dimanche","",IF(A29="samedi","",IF(F29<=0,"",(IF(H29="",F29-C29,H29-C29))+(I29+K29+N29)))) | M29: =IF(D29="","",IF(AND(A29="Dimanche",D29>0),SUM(D29*2.5+(E29+F29+G29)*2),IF(A29="samedi",SUM(D29*2.5,E29*1.25,G29*1.25,F29*1.25),SUM(D29*2.5,E29*1.25,G29*1.25,)))) | N29: =IF(F29="","",IF((F29+I29+K29)>=C29,"0:00",C29-F29)) -> 0:00
A30: =CHOOSE(WEEKDAY(B30),"Dimanche","Lundi","Mardi","Mercredi","Jeudi","Vendredi","Samedi") -> Lundi | B30: =DATE(An,2,ROW(26:56)) -> 41695 | C30: =IFERROR((VLOOKUP(B30,Fériés:Fériés,2,0)),VLOOKUP(A30,Année!$C$2:$C$8:'Année'!$D$2:$D$8,2,0)) -> 0.32291667 | F30: =IF(K30="",C30,0) -> 0.32291667 | J30: =IF(C30=0,VLOOKUP(A30,Horaires,2,FALSE)," ") | L30: =IF(A30="dimanche","",IF(A30="samedi","",IF(F30<=0,"",(IF(H30="",F30-C30,H30-C30))+(I30+K30+N30)))) -> 0 | M30: =IF(D30="","",IF(AND(A30="Dimanche",D30>0),SUM(D30*2.5+(E30+F30+G30)*2),IF(A30="samedi",SUM(D30*2.5,E30*1.25,G30*1.25,F30*1.25),SUM(D30*2.5,E30*1.25,G30*1.25,)))) | N30: =IF(F30="","",IF((F30+I30+K30)>=C30,"0:00",C30-F30)) -> 0:00
A31: =CHOOSE(WEEKDAY(B31),"Dimanche","Lundi","Mardi","Mercredi","Jeudi","Vendredi","Samedi") -> Mardi | B31: =DATE(An,2,ROW(27:57)) -> 41696 | C31: =IFERROR((VLOOKUP(B31,Fériés:Fériés,2,0)),VLOOKUP(A31,Année!$C$2:$C$8:'Année'!$D$2:$D$8,2,0)) -> 0.32291667 | F31: =IF(K31="",C31,0) -> 0.32291667 | J31: =IF(C31=0,VLOOKUP(A31,Horaires,2,FALSE)," ") | L31: =IF(A31="dimanche","",IF(A31="samedi","",IF(F31<=0,"",(IF(H31="",F31-C31,H31-C31))+(I31+K31+N31)))) -> 0 | M31: =IF(D31="","",IF(AND(A31="Dimanche",D31>0),SUM(D31*2.5+(E31+F31+G31)*2),IF(A31="samedi",SUM(D31*2.5,E31*1.25,G31*1.25,F31*1.25),SUM(D31*2.5,E31*1.25,G31*1.25,)))) | N31: =IF(F31="","",IF((F31+I31+K31)>=C31,"0:00",C31-F31)) -> 0:00
A32: =CHOOSE(WEEKDAY(B32),"Dimanche","Lundi","Mardi","Mercredi","Jeudi","Vendredi","Samedi") -> Mercredi | B32: =DATE(An,2,ROW(28:58)) -> 41697 | C32: =IFERROR((VLOOKUP(B32,Fériés:Fériés,2,0)),VLOOKUP(A32,Année!$C$2:$C$8:'Année'!$D$2:$D$8,2,0)) -> 0.32291667 | F32: =IF(K32="",C32,0) -> 0.32291667 | J32: =IF(C32=0,VLOOKUP(A32,Horaires,2,FALSE)," ") | L32: =IF(A32="dimanche","",IF(A32="samedi","",IF(F32<=0,"",(IF(H32="",F32-C32,H32-C32))+(I32+K32+N32)))) -> 0 | M32: =IF(D32="","",IF(AND(A32="Dimanche",D32>0),SUM(D32*2.5+(E32+F32+G32)*2),IF(A32="samedi",SUM(D32*2.5,E32*1.25,G32*1.25,F32*1.25),SUM(D32*2.5,E32*1.25,G32*1.25,)))) | N32: =IF(F32="","",IF((F32+I32+K32)>=C32,"0:00",C32-F32)) -> 0:00
L33: =IF(A33="dimanche","",IF(A33="samedi","",IF(F33<=0,"",(IF(H33="",F33-C33,H33-C33))+(I33+K33+N33)))) | M33: =IF(D33="","",IF(AND(A33="Dimanche",D33>0),SUM(D33*2.5+(E33+F33+G33)*2),IF(A33="samedi",SUM(D33*2.5,E33*1.25,G33*1.25,F33),SUM(D33*2.5,E33*1.25,G33*1.25,)))) | N33: =IF(F33="","",IF((F33+I33+K33)>=C33,"0:00",C33-F33))
L34: =IF(A34="dimanche","",IF(A34="samedi","",IF(F34<=0,"",(IF(H34="",F34-C34,H34-C34))+(I34+K34+N34)))) | M34: =IF(D34="","",IF(AND(A34="Dimanche",D34>0),SUM(D34*2.5+(E34+F34+G34)*2),IF(A34="samedi",SUM(D34*2.5,E34*1.25,G34*1.25,F34),SUM(D34*2.5,E34*1.25,G34*1.25,)))) | N34: =IF(F34="","",IF((F34+I34+K34)>=C34,"0:00",C34-F34))
L35: =IF(A35="dimanche","",IF(A35="samedi","",IF(F35<=0,"",(IF(H35="",F35-C35,H35-C35))+(I35+K35+N35)))) | M35: =IF(D35="","",IF(AND(A35="Dimanche",D35>0),SUM(D35*2.5+(E35+F35+G35)*2),IF(A35="samedi",SUM(D35*2.5,E35*1.25,G35*1.25,F35),SUM(D35*2.5,E35*1.25,G35*1.25,)))) | N35: =IF(F35="","",IF((F35+I35+K35)>=C35,"0:00",C35-F35))
A38: Totaux : | C38: =SUM(C5:C37) -> 5.8333333 | D38: =SUM(D5:D37) -> 0.41666667 | E38: =SUM(E5:E37) -> 0.25 | F38: =SUM(F5:F37) -> 4.6451389 | G38: =SUM(G5:G37) -> 0 | H38: =SUM(H5:H37) -> 0 | I38: =SUM(I5:I37) -> 0 | J38: =SUM(J5:J37) -> 0 | ... N38: =SUM(N5:N37) -> 0.36527778

Sheet Mars
A1: =DATE(Année!B1,3,1) -> 41698
A3: Dates : | C3: Heures à faire: | D3: Heures faites: | I3: ASA | J3: Jours Fériés | K3: Congés | L3: Heures Supp | M3: Heures Neige | N3: Récup Heures Neige
D4: 22hà3h30à6h (X2,5) | E4: 6hà7h30 (X1,25) | F4: 7h30à16h45 (X1) | G4: 16h45à22h (X1,25) | H4: Heures pointées Bâtiment
A5: =CHOOSE(WEEKDAY(B5),"Dimanche","Lundi","Mardi","Mercredi","Jeudi","Vendredi","Samedi") -> Jeudi | B5: =DATE(An,3,ROW(1:31)) -> 41698 | C5: =IFERROR((VLOOKUP(B5,Fériés:Fériés,2,0)),VLOOKUP(A5,Année!$C$2:$C$8:'Année'!$D$2:$D$8,2,0)) -> 0.32291667 | F5: =IF(K5="",C5,0) -> 0.32291667 | J5: =IF(C5=0,VLOOKUP(A5,Horaires,2,FALSE)," ") | L5: =IF(A5="dimanche","",IF(A5="samedi","",IF(F5<=0,"",(IF(H5="",F5-C5,H5-C5))+(I5+K5+N5)))) -> 0 | M5: =IF(D5="","",IF(AND(A5="Dimanche",D5>0),SUM(D5*2.5+(E5+F5+G5)*2),IF(A5="samedi",SUM(D5*2.5,E5*1.25,G5*1.25,F5*1.25),SUM(D5*2.5,E5*1.25,G5*1.25,)))) | N5: =IF(F5="","",IF((F5+I5+K5)>=C5,"0:00",C5-F5)) -> 0:00
A6: =CHOOSE(WEEKDAY(B6),"Dimanche","Lundi","Mardi","Mercredi","Jeudi","Vendredi","Samedi") -> Vendredi | B6: =DATE(An,3,ROW(2:32)) -> 41699 | C6: =IFERROR((VLOOKUP(B6,Fériés:Fériés,2,0)),VLOOKUP(A6,Année!$C$2:$C$8:'Année'!$D$2:$D$8,2,0)) -> 0.16666667 | F6: =IF(K6="",C6,0) -> 0.16666667 | J6: =IF(C6=0,VLOOKUP(A6,Horaires,2,FALSE)," ") | L6: =IF(A6="dimanche","",IF(A6="samedi","",IF(F6<=0,"",(IF(H6="",F6-C6,H6-C6))+(I6+K6+N6)))) -> 0 | M6: =IF(D6="","",IF(AND(A6="Dimanche",D6>0),SUM(D6*2.5+(E6+F6+G6)*2),IF(A6="samedi",SUM(D6*2.5,E6*1.25,G6*1.25,F6*1.25),SUM(D6*2.5,E6*1.25,G6*1.25,)))) | N6: =IF(F6="","",IF((F6+I6+K6)>=C6,"0:00",C6-F6)) -> 0:00
A7: =CHOOSE(WEEKDAY(B7),"Dimanche","Lundi","Mardi","Mercredi","Jeudi","Vendredi","Samedi") -> Samedi | B7: =DATE(An,3,ROW(3:33)) -> 41700 | C7: =IFERROR((VLOOKUP(B7,Fériés:Fériés,2,0)),VLOOKUP(A7,Année!$C$2:$C$8:'Année'!$D$2:$D$8,2,0)) -> 0 | F7: =IF(K7="",C7,0) -> 0 | J7: =IF(C7=0,VLOOKUP(A7,Horaires,2,FALSE)," ") -> 0 | L7: =IF(A7="dimanche","",IF(A7="samedi","",IF(F7<=0,"",(IF(H7="",F7-C7,H7-C7))+(I7+K7+N7)))) | M7: =IF(D7="","",IF(AND(A7="Dimanche",D7>0),SUM(D7*2.5+(E7+F7+G7)*2),IF(A7="samedi",SUM(D7*2.5,E7*1.25,G7*1.25,F7*1.25),SUM(D7*2.5,E7*1.25,G7*1.25,)))) | N7: =IF(F7="","",IF((F7+I7+K7)>=C7,"0:00",C7-F7)) -> 0:00
A8: =CHOOSE(WEEKDAY(B8),"Dimanche","Lundi","Mardi","Mercredi","Jeudi","Vendredi","Samedi") -> Dimanche | B8: =DATE(An,3,ROW(4:34)) -> 41701 | C8: =IFERROR((VLOOKUP(B8,Fériés:Fériés,2,0)),VLOOKUP(A8,Année!$C$2:$C$8:'Année'!$D$2:$D$8,2,0)) -> 0 | F8: =IF(K8="",C8,0) -> 0 | J8: =IF(C8=0,VLOOKUP(A8,Horaires,2,FALSE)," ") -> 0 | L8: =IF(A8="dimanche","",IF(A8="samedi","",IF(F8<=0,"",(IF(H8="",F8-C8,H8-C8))+(I8+K8+N8)))) | M8: =IF(D8="","",IF(AND(A8="Dimanche",D8>0),SUM(D8*2.5+(E8+F8+G8)*2),IF(A8="samedi",SUM(D8*2.5,E8*1.25,G8*1.25,F8*1.25),SUM(D8*2.5,E8*1.25,G8*1.25,)))) | N8: =IF(F8="","",IF((F8+I8+K8)>=C8,"0:00",C8-F8)) -> 0:00
A9: =CHOOSE(WEEKDAY(B9),"Dimanche","Lundi","Mardi","Mercredi","Jeudi","Vendredi","Samedi") -> Lundi | B9: =DATE(An,3,ROW(5:35)) -> 41702 | C9: =IFERROR((VLOOKUP(B9,Fériés:Fériés,2,0)),VLOOKUP(A9,Année!$C$2:$C$8:'Année'!$D$2:$D$8,2,0)) -> 0.32291667 | F9: =IF(K9="",C9,0) -> 0.32291667 | J9: =IF(C9=0,VLOOKUP(A9,Horaires,2,FALSE)," ") | L9: =IF(A9="dimanche","",IF(A9="samedi","",IF(F9<=0,"",(IF(H9="",F9-C9,H9-C9))+(I9+K9+N9)))) -> 0 | M9: =IF(D9="","",IF(AND(A9="Dimanche",D9>0),SUM(D9*2.5+(E9+F9+G9)*2),IF(A9="samedi",SUM(D9*2.5,E9*1.25,G9*1.25,F9*1.25),SUM(D9*2.5,E9*1.25,G9*1.25,)))) | N9: =IF(F9="","",IF((F9+I9+K9)>=C9,"0:00",C9-F9)) -> 0:00
A10: =CHOOSE(WEEKDAY(B10),"Dimanche","Lundi","Mardi","Mercredi","Jeudi","Vendredi","Samedi") -> Mardi | B10: =DATE(An,3,ROW(6:36)) -> 41703 | C10: =IFERROR((VLOOKUP(B10,Fériés:Fériés,2,0)),VLOOKUP(A10,Année!$C$2:$C$8:'Année'!$D$2:$D$8,2,0)) -> 0.32291667 | F10: =IF(K10="",C10,0) -> 0.32291667 | J10: =IF(C10=0,VLOOKUP(A10,Horaires,2,FALSE)," ") | L10: =IF(A10="dimanche","",IF(A10="samedi","",IF(F10<=0,"",(IF(H10="",F10-C10,H10-C10))+(I10+K10+N10)))) -> 0 | M10: =IF(D10="","",IF(AND(A10="Dimanche",D10>0),SUM(D10*2.5+(E10+F10+G10)*2),IF(A10="samedi",SUM(D10*2.5,E10*1.25,G10*1.25,F10*1.25),SUM(D10*2.5,E10*1.25,G10*1.25,)))) | N10: =IF(F10="","",IF((F10+I10+K10)>=C10,"0:00",C10-F10)) -> 0:00
A11: =CHOOSE(WEEKDAY(B11),"Dimanche","Lundi","Mardi","Mercredi","Jeudi","Vendredi","Samedi") -> Mercredi | B11: =DATE(An,3,ROW(7:37)) -> 41704 | C11: =IFERROR((VLOOKUP(B11,Fériés:Fériés,2,0)),VLOOKUP(A11,Année!$C$2:$C$8:'Année'!$D$2:$D$8,2,0)) -> 0.32291667 | F11: =IF(K11="",C11,0) -> 0.32291667 | J11: =IF(C11=0,VLOOKUP(A11,Horaires,2,FALSE)," ") | L11: =IF(A11="dimanche","",IF(A11="samedi","",IF(F11<=0,"",(IF(H11="",F11-C11,H11-C11))+(I11+K11+N11)))) -> 0 | M11: =IF(D11="","",IF(AND(A11="Dimanche",D11>0),SUM(D11*2.5+(E11+F11+G11)*2),IF(A11="samedi",SUM(D11*2.5,E11*1.25,G11*1.25,F11*1.25),SUM(D11*2.5,E11*1.25,G11*1.25,)))) | N11: =IF(F11="","",IF((F11+I11+K11)>=C11,"0:00",C11-F11)) -> 0:00
A12: =CHOOSE(WEEKDAY(B12),"Dimanche","Lundi","Mardi","Mercredi","Jeudi","Vendredi","Samedi") -> Jeudi | B12: =DATE(An,3,ROW(8:38)) -> 41705 | C12: =IFERROR((VLOOKUP(B12,Fériés:Fériés,2,0)),VLOOKUP(A12,Année!$C$2:$C$8:'Année'!$D$2:$D$8,2,0)) -> 0.32291667 | F12: =IF(K12="",C12,0) -> 0.32291667 | J12: =IF(C12=0,VLOOKUP(A12,Horaires,2,FALSE)," ") | L12: =IF(A12="dimanche","",IF(A12="samedi","",IF(F12<=0,"",(IF(H12="",F12-C12,H12-C12))+(I12+K12+N12)))) -> 0 | M12: =IF(D12="","",IF(AND(A12="Dimanche",D12>0),SUM(D12*2.5+(E12+F12+G12)*2),IF(A12="samedi",SUM(D12*2.5,E12*1.25,G12*1.25,F12*1.25),SUM(D12*2.5,E12*1.25,G12*1.25,)))) | N12: =IF(F12="","",IF((F12+I12+K12)>=C12,"0:00",C12-F12)) -> 0:00
A13: =CHOOSE(WEEKDAY(B13),"Dimanche","Lundi","Mardi","Mercredi","Jeudi","Vendredi","Samedi") -> Vendredi | B13: =DATE(An,3,ROW(9:39)) -> 41706 | C13: =IFERROR((VLOOKUP(B13,Fériés:Fériés,2,0)),VLOOKUP(A13,Année!$C$2:$C$8:'Année'!$D$2:$D$8,2,0)) -> 0.16666667 | F13: =IF(K13="",C13,0) -> 0.16666667 | J13: =IF(C13=0,VLOOKUP(A13,Horaires,2,FALSE)," ") | L13: =IF(A13="dimanche","",IF(A13="samedi","",IF(F13<=0,"",(IF(H13="",F13-C13,H13-C13))+(I13+K13+N13)))) -> 0 | M13: =IF(D13="","",IF(AND(A13="Dimanche",D13>0),SUM(D13*2.5+(E13+F13+G13)*2),IF(A13="samedi",SUM(D13*2.5,E13*1.25,G13*1.25,F13*1.25),SUM(D13*2.5,E13*1.25,G13*1.25,)))) | N13: =IF(F13="","",IF((F13+I13+K13)>=C13,"0:00",C13-F13)) -> 0:00
A14: =CHOOSE(WEEKDAY(B14),"Dimanche","Lundi","Mardi","Mercredi","Jeudi","Vendredi","Samedi") -> Samedi | B14: =DATE(An,3,ROW(10:40)) -> 41707 | C14: =IFERROR((VLOOKUP(B14,Fériés:Fériés,2,0)),VLOOKUP(A14,Année!$C$2:$C$8:'Année'!$D$2:$D$8,2,0)) -> 0 | F14: =IF(K14="",C14,0) -> 0 | J14: =IF(C14=0,VLOOKUP(A14,Horaires,2,FALSE)," ") -> 0 | L14: =IF(A14="dimanche","",IF(A14="samedi","",IF(F14<=0,"",(IF(H14="",F14-C14,H14-C14))+(I14+K14+N14)))) | M14: =IF(D14="","",IF(AND(A14="Dimanche",D14>0),SUM(D14*2.5+(E14+F14+G14)*2),IF(A14="samedi",SUM(D14*2.5,E14*1.25,G14*1.25,F14*1.25),SUM(D14*2.5,E14*1.25,G14*1.25,)))) | N14: =IF(F14="","",IF((F14+I14+K14)>=C14,"0:00",C14-F14)) -> 0:00
A15: =CHOOSE(WEEKDAY(B15),"Dimanche","Lundi","Mardi","Mercredi","Jeudi","Vendredi","Samedi") -> Dimanche | B15: =DATE(An,3,ROW(11:41)) -> 41708 | C15: =IFERROR((VLOOKUP(B15,Fériés:Fériés,2,0)),VLOOKUP(A15,Année!$C$2:$C$8:'Année'!$D$2:$D$8,2,0)) -> 0 | F15: =IF(K15="",C15,0) -> 0 | J15: =IF(C15=0,VLOOKUP(A15,Horaires,2,FALSE)," ") -> 0 | L15: =IF(A15="dimanche","",IF(A15="samedi","",IF(F15<=0,"",(IF(H15="",F15-C15,H15-C15))+(I15+K15+N15)))) | M15: =IF(D15="","",IF(AND(A15="Dimanche",D15>0),SUM(D15*2.5+(E15+F15+G15)*2),IF(A15="samedi",SUM(D15*2.5,E15*1.25,G15*1.25,F15*1.25),SUM(D15*2.5,E15*1.25,G15*1.25,)))) | N15: =IF(F15="","",IF((F15+I15+K15)>=C15,"0:00",C15-F15)) -> 0:00
A16: =CHOOSE(WEEKDAY(B16),"Dimanche","Lundi","Mardi","Mercredi","Jeudi","Vendredi","Samedi") -> Lundi | B16: =DATE(An,3,ROW(12:42)) -> 41709 | C16: =IFERROR((VLOOKUP(B16,Fériés:Fériés,2,0)),VLOOKUP(A16,Année!$C$2:$C$8:'Année'!$D$2:$D$8,2,0)) -> 0.32291667 | F16: =IF(K16="",C16,0) -> 0.32291667 | J16: =IF(C16=0,VLOOKUP(A16,Horaires,2,FALSE)," ") | L16: =IF(A16="dimanche","",IF(A16="samedi","",IF(F16<=0,"",(IF(H16="",F16-C16,H16-C16))+(I16+K16+N16)))) -> 0 | M16: =IF(D16="","",IF(AND(A16="Dimanche",D16>0),SUM(D16*2.5+(E16+F16+G16)*2),IF(A16="samedi",SUM(D16*2.5,E16*1.25,G16*1.25,F16*1.25),SUM(D16*2.5,E16*1.25,G16*1.25,)))) | N16: =IF(F16="","",IF((F16+I16+K16)>=C16,"0:00",C16-F16)) -> 0:00
A17: =CHOOSE(WEEKDAY(B17),"Dimanche","Lundi","Mardi","Mercredi","Jeudi","Vendredi","Samedi") -> Mardi | B17: =DATE(An,3,ROW(13:43)) -> 41710 | C17: =IFERROR((VLOOKUP(B17,Fériés:Fériés,2,0)),VLOOKUP(A17,Année!$C$2:$C$8:'Année'!$D$2:$D$8,2,0)) -> 0.32291667 | F17: =IF(K17="",C17,0) -> 0.32291667 | J17: =IF(C17=0,VLOOKUP(A17,Horaires,2,FALSE)," ") | L17: =IF(A17="dimanche","",IF(A17="samedi","",IF(F17<=0,"",(IF(H17="",F17-C17,H17-C17))+(I17+K17+N17)))) -> 0 | M17: =IF(D17="","",IF(AND(A17="Dimanche",D17>0),SUM(D17*2.5+(E17+F17+G17)*2),IF(A17="samedi",SUM(D17*2.5,E17*1.25,G17*1.25,F17*1.25),SUM(D17*2.5,E17*1.25,G17*1.25,)))) | N17: =IF(F17="","",IF((F17+I17+K17)>=C17,"0:00",C17-F17)) -> 0:00
A18: =CHOOSE(WEEKDAY(B18),"Dimanche","Lundi","Mardi","Mercredi","Jeudi","Vendredi","Samedi") -> Mercredi | B18: =DATE(An,3,ROW(14:44)) -> 41711 | C18: =IFERROR((VLOOKUP(B18,Fériés:Fériés,2,0)),VLOOKUP(A18,Année!$C$2:$C$8:'Année'!$D$2:$D$8,2,0)) -> 0.32291667 | F18: =IF(K18="",C18,0) -> 0.32291667 | J18: =IF(C18=0,VLOOKUP(A18,Horaires,2,FALSE)," ") | L18: =IF(A18="dimanche","",IF(A18="samedi","",IF(F18<=0,"",(IF(H18="",F18-C18,H18-C18))+(I18+K18+N18)))) -> 0 | M18: =IF(D18="","",IF(AND(A18="Dimanche",D18>0),SUM(D18*2.5+(E18+F18+G18)*2),IF(A18="samedi",SUM(D18*2.5,E18*1.25,G18*1.25,F18*1.25),SUM(D18*2.5,E18*1.25,G18*1.25,)))) | N18: =IF(F18="","",IF((F18+I18+K18)>=C18,"0:00",C18-F18)) -> 0:00
A19: =CHOOSE(WEEKDAY(B19),"Dimanche","Lundi","Mardi","Mercredi","Jeudi","Vendredi","Samedi") -> Jeudi | B19: =DATE(An,3,ROW(15:45)) -> 41712 | C19: =IFERROR((VLOOKUP(B19,Fériés:Fériés,2,0)),VLOOKUP(A19,Année!$C$2:$C$8:'Année'!$D$2:$D$8,2,0)) -> 0.32291667 | F19: =IF(K19="",C19,0) -> 0.32291667 | J19: =IF(C19=0,VLOOKUP(A19,Horaires,2,FALSE)," ") | L19: =IF(A19="dimanche","",IF(A19="samedi","",IF(F19<=0,"",(IF(H19="",F19-C19,H19-C19))+(I19+K19+N19)))) -> 0 | M19: =IF(D19="","",IF(AND(A19="Dimanche",D19>0),SUM(D19*2.5+(E19+F19+G19)*2),IF(A19="samedi",SUM(D19*2.5,E19*1.25,G19*1.25,F19*1.25),SUM(D19*2.5,E19*1.25,G19*1.25,)))) | N19: =IF(F19="","",IF((F19+I19+K19)>=C19,"0:00",C19-F19)) -> 0:00
A20: =CHOOSE(WEEKDAY(B20),"Dimanche","Lundi","Mardi","Mercredi","Jeudi","Vendredi","Samedi") -> Vendredi | B20: =DATE(An,3,ROW(16:46)) -> 41713 | C20: =IFERROR((VLOOKUP(B20,Fériés:Fériés,2,0)),VLOOKUP(A20,Année!$C$2:$C$8:'Année'!$D$2:$D$8,2,0)) -> 0.16666667 | F20: =IF(K20="",C20,0) -> 0.16666667 | J20: =IF(C20=0,VLOOKUP(A20,Horaires,2,FALSE)," ") | L20: =IF(A20="dimanche","",IF(A20="samedi","",IF(F20<=0,"",(IF(H20="",F20-C20,H20-C20))+(I20+K20+N20)))) -> 0 | M20: =IF(D20="","",IF(AND(A20="Dimanche",D20>0),SUM(D20*2.5+(E20+F20+G20)*2),IF(A20="samedi",SUM(D20*2.5,E20*1.25,G20*1.25,F20*1.25),SUM(D20*2.5,E20*1.25,G20*1.25,)))) | N20: =IF(F20="","",IF((F20+I20+K20)>=C20,"0:00",C20-F20)) -> 0:00
A21: =CHOOSE(WEEKDAY(B21),"Dimanche","Lundi","Mardi","Mercredi","Jeudi","Vendredi","Samedi") -> Samedi | B21: =DATE(An,3,ROW(17:47)) -> 41714 | C21: =IFERROR((VLOOKUP(B21,Fériés:Fériés,2,0)),VLOOKUP(A21,Année!$C$2:$C$8:'Année'!$D$2:$D$8,2,0)) -> 0 | F21: =IF(K21="",C21,0) -> 0 | J21: =IF(C21=0,VLOOKUP(A21,Horaires,2,FALSE)," ") -> 0 | L21: =IF(A21="dimanche","",IF(A21="samedi","",IF(F21<=0,"",(IF(H21="",F21-C21,H21-C21))+(I21+K21+N21)))) | M21: =IF(D21="","",IF(AND(A21="Dimanche",D21>0),SUM(D21*2.5+(E21+F21+G21)*2),IF(A21="samedi",SUM(D21*2.5,E21*1.25,G21*1.25,F21*1.25),SUM(D21*2.5,E21*1.25,G21*1.25,)))) | N21: =IF(F21="","",IF((F21+I21+K21)>=C21,"0:00",C21-F21)) -> 0:00
A22: =CHOOSE(WEEKDAY(B22),"Dimanche","Lundi","Mardi","Mercredi","Jeudi","Vendredi","Samedi") -> Dimanche | B22: =DATE(An,3,ROW(18:48)) -> 41715 | C22: =IFERROR((VLOOKUP(B22,Fériés:Fériés,2,0)),VLOOKUP(A22,Année!$C$2:$C$8:'Année'!$D$2:$D$8,2,0)) -> 0 | F22: =IF(K22="",C22,0) -> 0 | J22: =IF(C22=0,VLOOKUP(A22,Horaires,2,FALSE)," ") -> 0 | L22: =IF(A22="dimanche","",IF(A22="samedi","",IF(F22<=0,"",(IF(H22="",F22-C22,H22-C22))+(I22+K22+N22)))) | M22: =IF(D22="","",IF(AND(A22="Dimanche",D22>0),SUM(D22*2.5+(E22+F22+G22)*2),IF(A22="samedi",SUM(D22*2.5,E22*1.25,G22*1.25,F22*1.25),SUM(D22*2.5,E22*1.25,G22*1.25,)))) | N22: =IF(F22="","",IF((F22+I22+K22)>=C22,"0:00",C22-F22)) -> 0:00
A23: =CHOOSE(WEEKDAY(B23),"Dimanche","Lundi","Mardi","Mercredi","Jeudi","Vendredi","Samedi") -> Lundi | B23: =DATE(An,3,ROW(19:49)) -> 41716 | C23: =IFERROR((VLOOKUP(B23,Fériés:Fériés,2,0)),VLOOKUP(A23,Année!$C$2:$C$8:'Année'!$D$2:$D$8,2,0)) -> 0.32291667 | F23: =IF(K23="",C23,0) -> 0.32291667 | J23: =IF(C23=0,VLOOKUP(A23,Horaires,2,FALSE)," ") | L23: =IF(A23="dimanche","",IF(A23="samedi","",IF(F23<=0,"",(IF(H23="",F23-C23,H23-C23))+(I23+K23+N23)))) -> 0 | M23: =IF(D23="","",IF(AND(A23="Dimanche",D23>0),SUM(D23*2.5+(E23+F23+G23)*2),IF(A23="samedi",SUM(D23*2.5,E23*1.25,G23*1.25,F23*1.25),SUM(D23*2.5,E23*1.25,G23*1.25,)))) | N23: =IF(F23="","",IF((F23+I23+K23)>=C23,"0:00",C23-F23)) -> 0:00
A24: =CHOOSE(WEEKDAY(B24),"Dimanche","Lundi","Mardi","Mercredi","Jeudi","Vendredi","Samedi") -> Mardi | B24: =DATE(An,3,ROW(20:50)) -> 41717 | C24: =IFERROR((VLOOKUP(B24,Fériés:Fériés,2,0)),VLOOKUP(A24,Année!$C$2:$C$8:'Année'!$D$2:$D$8,2,0)) -> 0.32291667 | F24: =IF(K24="",C24,0) -> 0.32291667 | J24: =IF(C24=0,VLOOKUP(A24,Horaires,2,FALSE)," ") | L24: =IF(A24="dimanche","",IF(A24="samedi","",IF(F24<=0,"",(IF(H24="",F24-C24,H24-C24))+(I24+K24+N24)))) -> 0 | M24: =IF(D24="","",IF(AND(A24="Dimanche",D24>0),SUM(D24*2.5+(E24+F24+G24)*2),IF(A24="samedi",SUM(D24*2.5,E24*1.25,G24*1.25,F24*1.25),SUM(D24*2.5,E24*1.25,G24*1.25,)))) | N24: =IF(F24="","",IF((F24+I24+K24)>=C24,"0:00",C24-F24)) -> 0:00
A25: =CHOOSE(WEEKDAY(B25),"Dimanche","Lundi","Mardi","Mercredi","Jeudi","Vendredi","Samedi") -> Mercredi | B25: =DATE(An,3,ROW(21:51)) -> 41718 | C25: =IFERROR((VLOOKUP(B25,Fériés:Fériés,2,0)),VLOOKUP(A25,Année!$C$2:$C$8:'Année'!$D$2:$D$8,2,0)) -> 0.32291667 | F25: =IF(K25="",C25,0) -> 0.32291667 | J25: =IF(C25=0,VLOOKUP(A25,Horaires,2,FALSE)," ") | L25: =IF(A25="dimanche","",IF(A25="samedi","",IF(F25<=0,"",(IF(H25="",F25-C25,H25-C25))+(I25+K25+N25)))) -> 0 | M25: =IF(D25="","",IF(AND(A25="Dimanche",D25>0),SUM(D25*2.5+(E25+F25+G25)*2),IF(A25="samedi",SUM(D25*2.5,E25*1.25,G25*1.25,F25*1.25),SUM(D25*2.5,E25*1.25,G25*1.25,)))) | N25: =IF(F25="","",IF((F25+I25+K25)>=C25,"0:00",C25-F25)) -> 0:00
A26: =CHOOSE(WEEKDAY(B26),"Dimanche","Lundi","Mardi","Mercredi","Jeudi","Vendredi","Samedi") -> Jeudi | B26: =DATE(An,3,ROW(22:52)) -> 41719 | C26: =IFERROR((VLOOKUP(B26,Fériés:Fériés,2,0)),VLOOKUP(A26,Année!$C$2:$C$8:'Année'!$D$2:$D$8,2,0)) -> 0.32291667 | F26: =IF(K26="",C26,0) -> 0.32291667 | J26: =IF(C26=0,VLOOKUP(A26,Horaires,2,FALSE)," ") | L26: =IF(A26="dimanche","",IF(A26="samedi","",IF(F26<=0,"",(IF(H26="",F26-C26,H26-C26))+(I26+K26+N26)))) -> 0 | M26: =IF(D26="","",IF(AND(A26="Dimanche",D26>0),SUM(D26*2.5+(E26+F26+G26)*2),IF(A26="samedi",SUM(D26*2.5,E26*1.25,G26*1.25,F26*1.25),SUM(D26*2.5,E26*1.25,G26*1.25,)))) | N26: =IF(F26="","",IF((F26+I26+K26)>=C26,"0:00",C26-F26)) -> 0:00
A27: =CHOOSE(WEEKDAY(B27),"Dimanche","Lundi","Mardi","Mercredi","Jeudi","Vendredi","Samedi") -> Vendredi | B27: =DATE(An,3,ROW(23:53)) -> 41720 | C27: =IFERROR((VLOOKUP(B27,Fériés:Fériés,2,0)),VLOOKUP(A27,Année!$C$2:$C$8:'Année'!$D$2:$D$8,2,0)) -> 0.16666667 | F27: =IF(K27="",C27,0) -> 0.16666667 | J27: =IF(C27=0,VLOOKUP(A27,Horaires,2,FALSE)," ") | L27: =IF(A27="dimanche","",IF(A27="samedi","",IF(F27<=0,"",(IF(H27="",F27-C27,H27-C27))+(I27+K27+N27)))) -> 0 | M27: =IF(D27="","",IF(AND(A27="Dimanche",D27>0),SUM(D27*2.5+(E27+F27+G27)*2),IF(A27="samedi",SUM(D27*2.5,E27*1.25,G27*1.25,F27*1.25),SUM(D27*2.5,E27*1.25,G27*1.25,)))) | N27: =IF(F27="","",IF((F27+I27+K27)>=C27,"0:00",C27-F27)) -> 0:00
A28: =CHOOSE(WEEKDAY(B28),"Dimanche","Lundi","Mardi","Mercredi","Jeudi","Vendredi","Samedi") -> Samedi | B28: =DATE(An,3,ROW(24:54)) -> 41721 | C28: =IFERROR((VLOOKUP(B28,Fériés:Fériés,2,0)),VLOOKUP(A28,Année!$C$2:$C$8:'Année'!$D$2:$D$8,2,0)) -> 0 | F28: =IF(K28="",C28,0) -> 0 | J28: =IF(C28=0,VLOOKUP(A28,Horaires,2,FALSE)," ") -> 0 | L28: =IF(A28="dimanche","",IF(A28="samedi","",IF(F28<=0,"",(IF(H28="",F28-C28,H28-C28))+(I28+K28+N28)))) | M28: =IF(D28="","",IF(AND(A28="Dimanche",D28>0),SUM(D28*2.5+(E28+F28+G28)*2),IF(A28="samedi",SUM(D28*2.5,E28*1.25,G28*1.25,F28*1.25),SUM(D28*2.5,E28*1.25,G28*1.25,)))) | N28: =IF(F28="","",IF((F28+I28+K28)>=C28,"0:00",C28-F28)) -> 0:00
A29: =CHOOSE(WEEKDAY(B29),"Dimanche","Lundi","Mardi","Mercredi","Jeudi","Vendredi","Samedi") -> Dimanche | B29: =DATE(An,3,ROW(25:55)) -> 41722 | C29: =IFERROR((VLOOKUP(B29,Fériés:Fériés,2,0)),VLOOKUP(A29,Année!$C$2:$C$8:'Année'!$D$2:$D$8,2,0)) -> 0 | F29: =IF(K29="",C29,0) -> 0 | J29: =IF(C29=0,VLOOKUP(A29,Horaires,2,FALSE)," ") -> 0 | L29: =IF(A29="dimanche","",IF(A29="samedi","",IF(F29<=0,"",(IF(H29="",F29-C29,H29-C29))+(I29+K29+N29)))) | M29: =IF(D29="","",IF(AND(A29="Dimanche",D29>0),SUM(D29*2.5+(E29+F29+G29)*2),IF(A29="samedi",SUM(D29*2.5,E29*1.25,G29*1.25,F29*1.25),SUM(D29*2.5,E29*1.25,G29*1.25,)))) | N29: =IF(F29="","",IF((F29+I29+K29)>=C29,"0:00",C29-F29)) -> 0:00
A30: =CHOOSE(WEEKDAY(B30),"Dimanche","Lundi","Mardi","Mercredi","Jeudi","Vendredi","Samedi") -> Lundi | B30: =DATE(An,3,ROW(26:56)) -> 41723 | C30: =IFERROR((VLOOKUP(B30,Fériés:Fériés,2,0)),VLOOKUP(A30,Année!$C$2:$C$8:'Année'!$D$2:$D$8,2,0)) -> 0.32291667 | F30: =IF(K30="",C30,0) -> 0.32291667 | J30: =IF(C30=0,VLOOKUP(A30,Horaires,2,FALSE)," ") | L30: =IF(A30="dimanche","",IF(A30="samedi","",IF(F30<=0,"",(IF(H30="",F30-C30,H30-C30))+(I30+K30+N30)))) -> 0 | M30: =IF(D30="","",IF(AND(A30="Dimanche",D30>0),SUM(D30*2.5+(E30+F30+G30)*2),IF(A30="samedi",SUM(D30*2.5,E30*1.25,G30*1.25,F30*1.25),SUM(D30*2.5,E30*1.25,G30*1.25,)))) | N30: =IF(F30="","",IF((F30+I30+K30)>=C30,"0:00",C30-F30)) -> 0:00
A31: =CHOOSE(WEEKDAY(B31),"Dimanche","Lundi","Mardi","Mercredi","Jeudi","Vendredi","Samedi") -> Mardi | B31: =DATE(An,3,ROW(27:57)) -> 41724 | C31: =IFERROR((VLOOKUP(B31,Fériés:Fériés,2,0)),VLOOKUP(A31,Année!$C$2:$C$8:'Année'!$D$2:$D$8,2,0)) -> 0.32291667 | F31: =IF(K31="",C31,0) -> 0.32291667 | J31: =IF(C31=0,VLOOKUP(A31,Horaires,2,FALSE)," ") | L31: =IF(A31="dimanche","",IF(A31="samedi","",IF(F31<=0,"",(IF(H31="",F31-C31,H31-C31))+(I31+K31+N31)))) -> 0 | M31: =IF(D31="","",IF(AND(A31="Dimanche",D31>0),SUM(D31*2.5+(E31+F31+G31)*2),IF(A31="samedi",SUM(D31*2.5,E31*1.25,G31*1.25,F31*1.25),SUM(D31*2.5,E31*1.25,G31*1.25,)))) | N31: =IF(F31="","",IF((F31+I31+K31)>=C31,"0:00",C31-F31)) -> 0:00
A32: =CHOOSE(WEEKDAY(B32),"Dimanche","Lundi","Mardi","Mercredi","Jeudi","Vendredi","Samedi") -> Mercredi | B32: =DATE(An,3,ROW(28:58)) -> 41725 | C32: =IFERROR((VLOOKUP(B32,Fériés:Fériés,2,0)),VLOOKUP(A32,Année!$C$2:$C$8:'Année'!$D$2:$D$8,2,0)) -> 0.32291667 | F32: =IF(K32="",C32,0) -> 0.32291667 | J32: =IF(C32=0,VLOOKUP(A32,Horaires,2,FALSE)," ") | L32: =IF(A32="dimanche","",IF(A32="samedi","",IF(F32<=0,"",(IF(H32="",F32-C32,H32-C32))+(I32+K32+N32)))) -> 0 | M32: =IF(D32="","",IF(AND(A32="Dimanche",D32>0),SUM(D32*2.5+(E32+F32+G32)*2),IF(A32="samedi",SUM(D32*2.5,E32*1.25,G32*1.25,F32*1.25),SUM(D32*2.5,E32*1.25,G32*1.25,)))) | N32: =IF(F32="","",IF((F32+I32+K32)>=C32,"0:00",C32-F32)) -> 0:00
A33: =CHOOSE(WEEKDAY(B33),"Dimanche","Lundi","Mardi","Mercredi","Jeudi","Vendredi","Samedi") -> Jeudi | B33: =DATE(An,3,ROW(29:59)) -> 41726 | C33: =IFERROR((VLOOKUP(B33,Fériés:Fériés,2,0)),VLOOKUP(A33,Année!$C$2:$C$8:'Année'!$D$2:$D$8,2,0)) -> 0.32291667 | F33: =IF(K33="",C33,0) -> 0.32291667 | J33: =IF(C33=0,VLOOKUP(A33,Horaires,2,FALSE)," ") | L33: =IF(A33="dimanche","",IF(A33="samedi","",IF(F33<=0,"",(IF(H33="",F33-C33,H33-C33))+(I33+K33+N33)))) -> 0 | M33: =IF(D33="","",IF(AND(A33="Dimanche",D33>0),SUM(D33*2.5+(E33+F33+G33)*2),IF(A33="samedi",SUM(D33*2.5,E33*1.25,G33*1.25,F33*1.25),SUM(D33*2.5,E33*1.25,G33*1.25,)))) | N33: =IF(F33="","",IF((F33+I33+K33)>=C33,"0:00",C33-F33)) -> 0:00
A34: =CHOOSE(WEEKDAY(B34),"Dimanche","Lundi","Mardi","Mercredi","Jeudi","Vendredi","Samedi") -> Vendredi | B34: =DATE(An,3,ROW(30:60)) -> 41727 | C34: =IFERROR((VLOOKUP(B34,Fériés:Fériés,2,0)),VLOOKUP(A34,Année!$C$2:$C$8:'Année'!$D$2:$D$8,2,0)) -> 0.16666667 | F34: 0 | J34: =IF(C34=0,VLOOKUP(A34,Horaires,2,FALSE)," ") | K34: 0.16666667 | L34: =IF(A34="dimanche","",IF(A34="samedi","",IF(F34<=0,"",(IF(H34="",F34-C34,H34-C34))+(I34+K34+N34)))) | M34: =IF(D34="","",IF(AND(A34="Dimanche",D34>0),SUM(D34*2.5+(E34+F34+G34)*2),IF(A34="samedi",SUM(D34*2.5,E34*1.25,G34*1.25,F34*1.25),SUM(D34*2.5,E34*1.25,G34*1.25,)))) | N34: =IF(F34="","",IF((F34+I34+K34)>=C34,"0:00",C34-F34)) -> 0:00
A35: =CHOOSE(WEEKDAY(B35),"Dimanche","Lundi","Mardi","Mercredi","Jeudi","Vendredi","Samedi") -> Samedi | B35: =DATE(An,3,ROW(31:61)) -> 41728 | C35: =IFERROR((VLOOKUP(B35,Fériés:Fériés,2,0)),VLOOKUP(A35,Année!$C$2:$C$8:'Année'!$D$2:$D$8,2,0)) -> 0 | F35: =IF(K35="",C35,0) -> 0 | J35: =IF(C35=0,VLOOKUP(A35,Horaires,2,FALSE)," ") -> 0 | L35: =IF(A35="dimanche","",IF(A35="samedi","",IF(F35<=0,"",(IF(H35="",F35-C35,H35-C35))+(I35+K35+N35)))) | M35: =IF(D35="","",IF(AND(A35="Dimanche",D35>0),SUM(D35*2.5+(E35+F35+G35)*2),IF(A35="samedi",SUM(D35*2.5,E35*1.25,G35*1.25,F35*1.25),SUM(D35*2.5,E35*1.25,G35*1.25,)))) | N35: =IF(F35="","",IF((F35+I35+K35)>=C35,"0:00",C35-F35)) -> 0:00
L36: =IF(A36="dimanche","",IF(A36="samedi","",IF(F36<=0,"",(IF(H36="",F36-C36,H36-C36))+(I36+K36+N36)))) | M36: =IF(D36="","",IF(AND(A36="Dimanche",D36>0),SUM(D36*2.5+(E36+F36+G36)*2),IF(A36="samedi",SUM(D36*2.5,E36*1.25,G36*1.25,F36*1.25),SUM(D36*2.5,E36*1.25,G36*1.25,)))) | N36: =IF(F36="","",IF((F36+I36+K36)>=C36,"0:00",C36-F36))
A38: Totaux : | C38: =SUM(C5:C37) -> 6.3229167 | D38: =SUM(D5:D37) -> 0 | E38: =SUM(E5:E37) -> 0 | F38: =SUM(F5:F37) -> 6.15625 | G38: =SUM(G5:G37) -> 0 | H38: =SUM(H5:H37) -> 0 | I38: =SUM(I5:I37) -> 0 | J38: =SUM(J5:J37) -> 0 | ... N38: =SUM(N5:N37) -> 0

Sheet Avril 
A1: =DATE(Année!B1,4,1) -> 41729
A3: Dates : | C3: Heures à faire: | D3: Heures faites: | I3: ASA | J3: Jours Fériés | K3: Congés | L3: Heures Supp | M3: Heures Neige | N3: Récup Heures Neige
D4: 22hà3h30à6h (X2,5) | E4: 6hà7h30 (X1,25) | F4: 7h30à16h45 (X1) | G4: 16h45à22h (X1,25) | H4: Heures pointées Bâtiment
A5: =CHOOSE(WEEKDAY(B5),"Dimanche","Lundi","Mardi","Mercredi","Jeudi","Vendredi","Samedi") -> Dimanche | B5: =DATE(An,4,ROW(1:31)) -> 41729 | C5: =IFERROR((VLOOKUP(B5,Fériés:Fériés,2,0)),VLOOKUP(A5,Année!$C$2:$C$8:'Année'!$D$2:$D$8,2,0)) -> 0 | F5: =IF(K5="",C5,0) -> 0 | J5: =IF(C5=0,VLOOKUP(A5,Horaires,2,FALSE)," ") -> 0 | L5: =IF(A5="dimanche","",IF(A5="samedi","",IF(F5<=0,"",(IF(H5="",F5-C5,H5-C5))+(I5+K5+N5)))) | M5: =IF(D5="","",IF(AND(A5="Dimanche",D5>0),SUM(D5*2.5+(E5+F5+G5)*2),IF(A5="samedi",SUM(D5*2.5,E5*1.25,G5*1.25,F5*1.25),SUM(D5*2.5,E5*1.25,G5*1.25,)))) | N5: =IF(F5="","",IF((F5+I5+K5)>=C5,"0:00",C5-F5)) -> 0:00
A6: =CHOOSE(WEEKDAY(B6),"Dimanche","Lundi","Mardi","Mercredi","Jeudi","Vendredi","Samedi") -> Lundi | B6: =DATE(An,4,ROW(2:32)) -> 41730 | C6: =IFERROR((VLOOKUP(B6,Fériés:Fériés,2,0)),VLOOKUP(A6,Année!$C$2:$C$8:'Année'!$D$2:$D$8,2,0)) -> 0 | F6: =IF(K6="",C6,0) -> 0 | J6: =IF(C6=0,VLOOKUP(A6,Horaires,2,FALSE)," ") -> 0.32291667 | L6: =IF(A6="dimanche","",IF(A6="samedi","",IF(F6<=0,"",(IF(H6="",F6-C6,H6-C6))+(I6+K6+N6)))) | M6: =IF(D6="","",IF(AND(A6="Dimanche",D6>0),SUM(D6*2.5+(E6+F6+G6)*2),IF(A6="samedi",SUM(D6*2.5,E6*1.25,G6*1.25,F6*1.25),SUM(D6*2.5,E6*1.25,G6*1.25,)))) | N6: =IF(F6="","",IF((F6+I6+K6)>=C6,"0:00",C6-F6)) -> 0:00
A7: =CHOOSE(WEEKDAY(B7),"Dimanche","Lundi","Mardi","Mercredi","Jeudi","Vendredi","Samedi") -> Mardi | B7: =DATE(An,4,ROW(3:33)) -> 41731 | C7: =IFERROR((VLOOKUP(B7,Fériés:Fériés,2,0)),VLOOKUP(A7,Année!$C$2:$C$8:'Année'!$D$2:$D$8,2,0)) -> 0.32291667 | F7: =IF(K7="",C7,0) -> 0.32291667 | J7: =IF(C7=0,VLOOKUP(A7,Horaires,2,FALSE)," ") | L7: =IF(A7="dimanche","",IF(A7="samedi","",IF(F7<=0,"",(IF(H7="",F7-C7,H7-C7))+(I7+K7+N7)))) -> 0 | M7: =IF(D7="","",IF(AND(A7="Dimanche",D7>0),SUM(D7*2.5+(E7+F7+G7)*2),IF(A7="samedi",SUM(D7*2.5,E7*1.25,G7*1.25,F7*1.25),SUM(D7*2.5,E7*1.25,G7*1.25,)))) | N7: =IF(F7="","",IF((F7+I7+K7)>=C7,"0:00",C7-F7)) -> 0:00
A8: =CHOOSE(WEEKDAY(B8),"Dimanche","Lundi","Mardi","Mercredi","Jeudi","Vendredi","Samedi") -> Mercredi | B8: =DATE(An,4,ROW(4:34)) -> 41732 | C8: =IFERROR((VLOOKUP(B8,Fériés:Fériés,2,0)),VLOOKUP(A8,Année!$C$2:$C$8:'Année'!$D$2:$D$8,2,0)) -> 0.32291667 | F8: =IF(K8="",C8,0) -> 0.32291667 | J8: =IF(C8=0,VLOOKUP(A8,Horaires,2,FALSE)," ") | L8: =IF(A8="dimanche","",IF(A8="samedi","",IF(F8<=0,"",(IF(H8="",F8-C8,H8-C8))+(I8+K8+N8)))) -> 0 | M8: =IF(D8="","",IF(AND(A8="Dimanche",D8>0),SUM(D8*2.5+(E8+F8+G8)*2),IF(A8="samedi",SUM(D8*2.5,E8*1.25,G8*1.25,F8*1.25),SUM(D8*2.5,E8*1.25,G8*1.25,)))) | N8: =IF(F8="","",IF((F8+I8+K8)>=C8,"0:00",C8-F8)) -> 0:00
A9: =CHOOSE(WEEKDAY(B9),"Dimanche","Lundi","Mardi","Mercredi","Jeudi","Vendredi","Samedi") -> Jeudi | B9: =DATE(An,4,ROW(5:35)) -> 41733 | C9: =IFERROR((VLOOKUP(B9,Fériés:Fériés,2,0)),VLOOKUP(A9,Année!$C$2:$C$8:'Année'!$D$2:$D$8,2,0)) -> 0.32291667 | F9: =IF(K9="",C9,0) -> 0.32291667 | J9: =IF(C9=0,VLOOKUP(A9,Horaires,2,FALSE)," ") | L9: =IF(A9="dimanche","",IF(A9="samedi","",IF(F9<=0,"",(IF(H9="",F9-C9,H9-C9))+(I9+K9+N9)))) -> 0 | M9: =IF(D9="","",IF(AND(A9="Dimanche",D9>0),SUM(D9*2.5+(E9+F9+G9)*2),IF(A9="samedi",SUM(D9*2.5,E9*1.25,G9*1.25,F9*1.25),SUM(D9*2.5,E9*1.25,G9*1.25,)))) | N9: =IF(F9="","",IF((F9+I9+K9)>=C9,"0:00",C9-F9)) -> 0:00
A10: =CHOOSE(WEEKDAY(B10),"Dimanche","Lundi","Mardi","Mercredi","Jeudi","Vendredi","Samedi") -> Vendredi | B10: =DATE(An,4,ROW(6:36)) -> 41734 | C10: =IFERROR((VLOOKUP(B10,Fériés:Fériés,2,0)),VLOOKUP(A10,Année!$C$2:$C$8:'Année'!$D$2:$D$8,2,0)) -> 0.16666667 | F10: =IF(K10="",C10,0) -> 0.16666667 | J10: =IF(C10=0,VLOOKUP(A10,Horaires,2,FALSE)," ") | L10: =IF(A10="dimanche","",IF(A10="samedi","",IF(F10<=0,"",(IF(H10="",F10-C10,H10-C10))+(I10+K10+N10)))) -> 0 | M10: =IF(D10="","",IF(AND(A10="Dimanche",D10>0),SUM(D10*2.5+(E10+F10+G10)*2),IF(A10="samedi",SUM(D10*2.5,E10*1.25,G10*1.25,F10*1.25),SUM(D10*2.5,E10*1.25,G10*1.25,)))) | N10: =IF(F10="","",IF((F10+I10+K10)>=C10,"0:00",C10-F10)) -> 0:00
A11: =CHOOSE(WEEKDAY(B11),"Dimanche","Lundi","Mardi","Mercredi","Jeudi","Vendredi","Samedi") -> Samedi | B11: =DATE(An,4,ROW(7:37)) -> 41735 | C11: =IFERROR((VLOOKUP(B11,Fériés:Fériés,2,0)),VLOOKUP(A11,Année!$C$2:$C$8:'Année'!$D$2:$D$8,2,0)) -> 0 | F11: =IF(K11="",C11,0) -> 0 | J11: =IF(C11=0,VLOOKUP(A11,Horaires,2,FALSE)," ") -> 0 | L11: =IF(A11="dimanche","",IF(A11="samedi","",IF(F11<=0,"",(IF(H11="",F11-C11,H11-C11))+(I11+K11+N11)))) | M11: =IF(D11="","",IF(AND(A11="Dimanche",D11>0),SUM(D11*2.5+(E11+F11+G11)*2),IF(A11="samedi",SUM(D11*2.5,E11*1.25,G11*1.25,F11*1.25),SUM(D11*2.5,E11*1.25,G11*1.25,)))) | N11: =IF(F11="","",IF((F11+I11+K11)>=C11,"0:00",C11-F11)) -> 0:00
A12: =CHOOSE(WEEKDAY(B12),"Dimanche","Lundi","Mardi","Mercredi","Jeudi","Vendredi","Samedi") -> Dimanche | B12: =DATE(An,4,ROW(8:38)) -> 41736 | C12: =IFERROR((VLOOKUP(B12,Fériés:Fériés,2,0)),VLOOKUP(A12,Année!$C$2:$C$8:'Année'!$D$2:$D$8,2,0)) -> 0 | F12: =IF(K12="",C12,0) -> 0 | J12: =IF(C12=0,VLOOKUP(A12,Horaires,2,FALSE)," ") -> 0 | L12: =IF(A12="dimanche","",IF(A12="samedi","",IF(F12<=0,"",(IF(H12="",F12-C12,H12-C12))+(I12+K12+N12)))) | M12: =IF(D12="","",IF(AND(A12="Dimanche",D12>0),SUM(D12*2.5+(E12+F12+G12)*2),IF(A12="samedi",SUM(D12*2.5,E12*1.25,G12*1.25,F12*1.25),SUM(D12*2.5,E12*1.25,G12*1.25,)))) | N12: =IF(F12="","",IF((F12+I12+K12)>=C12,"0:00",C12-F12)) -> 0:00
A13: =CHOOSE(WEEKDAY(B13),"Dimanche","Lundi","Mardi","Mercredi","Jeudi","Vendredi","Samedi") -> Lundi | B13: =DATE(An,4,ROW(9:39)) -> 41737 | C13: =IFERROR((VLOOKUP(B13,Fériés:Fériés,2,0)),VLOOKUP(A13,Année!$C$2:$C$8:'Année'!$D$2:$D$8,2,0)) -> 0.32291667 | F13: =IF(K13="",C13,0) -> 0.32291667 | J13: =IF(C13=0,VLOOKUP(A13,Horaires,2,FALSE)," ") | L13: =IF(A13="dimanche","",IF(A13="samedi","",IF(F13<=0,"",(IF(H13="",F13-C13,H13-C13))+(I13+K13+N13)))) -> 0 | M13: =IF(D13="","",IF(AND(A13="Dimanche",D13>0),SUM(D13*2.5+(E13+F13+G13)*2),IF(A13="samedi",SUM(D13*2.5,E13*1.25,G13*1.25,F13*1.25),SUM(D13*2.5,E13*1.25,G13*1.25,)))) | N13: =IF(F13="","",IF((F13+I13+K13)>=C13,"0:00",C13-F13)) -> 0:00
A14: =CHOOSE(WEEKDAY(B14),"Dimanche","Lundi","Mardi","Mercredi","Jeudi","Vendredi","Samedi") -> Mardi | B14: =DATE(An,4,ROW(10:40)) -> 41738 | C14: =IFERROR((VLOOKUP(B14,Fériés:Fériés,2,0)),VLOOKUP(A14,Année!$C$2:$C$8:'Année'!$D$2:$D$8,2,0)) -> 0.32291667 | F14: =IF(K14="",C14,0) -> 0.32291667 | J14: =IF(C14=0,VLOOKUP(A14,Horaires,2,FALSE)," ") | L14: =IF(A14="dimanche","",IF(A14="samedi","",IF(F14<=0,"",(IF(H14="",F14-C14,H14-C14))+(I14+K14+N14)))) -> 0 | M14: =IF(D14="","",IF(AND(A14="Dimanche",D14>0),SUM(D14*2.5+(E14+F14+G14)*2),IF(A14="samedi",SUM(D14*2.5,E14*1.25,G14*1.25,F14*1.25),SUM(D14*2.5,E14*1.25,G14*1.25,)))) | N14: =IF(F14="","",IF((F14+I14+K14)>=C14,"0:00",C14-F14)) -> 0:00
A15: =CHOOSE(WEEKDAY(B15),"Dimanche","Lundi","Mardi","Mercredi","Jeudi","Vendredi","Samedi") -> Mercredi | B15: =DATE(An,4,ROW(11:41)) -> 41739 | C15: =IFERROR((VLOOKUP(B15,Fériés:Fériés,2,0)),VLOOKUP(A15,Année!$C$2:$C$8:'Année'!$D$2:$D$8,2,0)) -> 0.32291667 | F15: =IF(K15="",C15,0) -> 0.32291667 | J15: =IF(C15=0,VLOOKUP(A15,Horaires,2,FALSE)," ") | L15: =IF(A15="dimanche","",IF(A15="samedi","",IF(F15<=0,"",(IF(H15="",F15-C15,H15-C15))+(I15+K15+N15)))) -> 0 | M15: =IF(D15="","",IF(AND(A15="Dimanche",D15>0),SUM(D15*2.5+(E15+F15+G15)*2),IF(A15="samedi",SUM(D15*2.5,E15*1.25,G15*1.25,F15*1.25),SUM(D15*2.5,E15*1.25,G15*1.25,)))) | N15: =IF(F15="","",IF((F15+I15+K15)>=C15,"0:00",C15-F15)) -> 0:00
A16: =CHOOSE(WEEKDAY(B16),"Dimanche","Lundi","Mardi","Mercredi","Jeudi","Vendredi","Samedi") -> Jeudi | B16: =DATE(An,4,ROW(12:42)) -> 41740 | C16: =IFERROR((VLOOKUP(B16,Fériés:Fériés,2,0)),VLOOKUP(A16,Année!$C$2:$C$8:'Année'!$D$2:$D$8,2,0)) -> 0.32291667 | F16: =IF(K16="",C16,0) -> 0.32291667 | J16: =IF(C16=0,VLOOKUP(A16,Horaires,2,FALSE)," ") | L16: =IF(A16="dimanche","",IF(A16="samedi","",IF(F16<=0,"",(IF(H16="",F16-C16,H16-C16))+(I16+K16+N16)))) -> 0 | M16: =IF(D16="","",IF(AND(A16="Dimanche",D16>0),SUM(D16*2.5+(E16+F16+G16)*2),IF(A16="samedi",SUM(D16*2.5,E16*1.25,G16*1.25,F16*1.25),SUM(D16*2.5,E16*1.25,G16*1.25,)))) | N16: =IF(F16="","",IF((F16+I16+K16)>=C16,"0:00",C16-F16)) -> 0:00
A17: =CHOOSE(WEEKDAY(B17),"Dimanche","Lundi","Mardi","Mercredi","Jeudi","Vendredi","Samedi") -> Vendredi | B17: =DATE(An,4,ROW(13:43)) -> 41741 | C17: =IFERROR((VLOOKUP(B17,Fériés:Fériés,2,0)),VLOOKUP(A17,Année!$C$2:$C$8:'Année'!$D$2:$D$8,2,0)) -> 0.16666667 | F17: =IF(K17="",C17,0) -> 0.16666667 | J17: =IF(C17=0,VLOOKUP(A17,Horaires,2,FALSE)," ") | L17: =IF(A17="dimanche","",IF(A17="samedi","",IF(F17<=0,"",(IF(H17="",F17-C17,H17-C17))+(I17+K17+N17)))) -> 0 | M17: =IF(D17="","",IF(AND(A17="Dimanche",D17>0),SUM(D17*2.5+(E17+F17+G17)*2),IF(A17="samedi",SUM(D17*2.5,E17*1.25,G17*1.25,F17*1.25),SUM(D17*2.5,E17*1.25,G17*1.25,)))) | N17: =IF(F17="","",IF((F17+I17+K17)>=C17,"0:00",C17-F17)) -> 0:00
A18: =CHOOSE(WEEKDAY(B18),"Dimanche","Lundi","Mardi","Mercredi","Jeudi","Vendredi","Samedi") -> Samedi | B18: =DATE(An,4,ROW(14:44)) -> 41742 | C18: =IFERROR((VLOOKUP(B18,Fériés:Fériés,2,0)),VLOOKUP(A18,Année!$C$2:$C$8:'Année'!$D$2:$D$8,2,0)) -> 0 | F18: =IF(K18="",C18,0) -> 0 | J18: =IF(C18=0,VLOOKUP(A18,Horaires,2,FALSE)," ") -> 0 | L18: =IF(A18="dimanche","",IF(A18="samedi","",IF(F18<=0,"",(IF(H18="",F18-C18,H18-C18))+(I18+K18+N18)))) | M18: =IF(D18="","",IF(AND(A18="Dimanche",D18>0),SUM(D18*2.5+(E18+F18+G18)*2),IF(A18="samedi",SUM(D18*2.5,E18*1.25,G18*1.25,F18*1.25),SUM(D18*2.5,E18*1.25,G18*1.25,)))) | N18: =IF(F18="","",IF((F18+I18+K18)>=C18,"0:00",C18-F18)) -> 0:00
A19: =CHOOSE(WEEKDAY(B19),"Dimanche","Lundi","Mardi","Mercredi","Jeudi","Vendredi","Samedi") -> Dimanche | B19: =DATE(An,4,ROW(15:45)) -> 41743 | C19: =IFERROR((VLOOKUP(B19,Fériés:Fériés,2,0)),VLOOKUP(A19,Année!$C$2:$C$8:'Année'!$D$2:$D$8,2,0)) -> 0 | F19: =IF(K19="",C19,0) -> 0 | J19: =IF(C19=0,VLOOKUP(A19,Horaires,2,FALSE)," ") -> 0 | L19: =IF(A19="dimanche","",IF(A19="samedi","",IF(F19<=0,"",(IF(H19="",F19-C19,H19-C19))+(I19+K19+N19)))) | M19: =IF(D19="","",IF(AND(A19="Dimanche",D19>0),SUM(D19*2.5+(E19+F19+G19)*2),IF(A19="samedi",SUM(D19*2.5,E19*1.25,G19*1.25,F19*1.25),SUM(D19*2.5,E19*1.25,G19*1.25,)))) | N19: =IF(F19="","",IF((F19+I19+K19)>=C19,"0:00",C19-F19)) -> 0:00
A20: =CHOOSE(WEEKDAY(B20),"Dimanche","Lundi","Mardi","Mercredi","Jeudi","Vendredi","Samedi") -> Lundi | B20: =DATE(An,4,ROW(16:46)) -> 41744 | C20: =IFERROR((VLOOKUP(B20,Fériés:Fériés,2,0)),VLOOKUP(A20,Année!$C$2:$C$8:'Année'!$D$2:$D$8,2,0)) -> 0.32291667 | F20: =IF(K20="",C20,0) -> 0.32291667 | J20: =IF(C20=0,VLOOKUP(A20,Horaires,2,FALSE)," ") | L20: =IF(A20="dimanche","",IF(A20="samedi","",IF(F20<=0,"",(IF(H20="",F20-C20,H20-C20))+(I20+K20+N20)))) -> 0 | M20: =IF(D20="","",IF(AND(A20="Dimanche",D20>0),SUM(D20*2.5+(E20+F20+G20)*2),IF(A20="samedi",SUM(D20*2.5,E20*1.25,G20*1.25,F20*1.25),SUM(D20*2.5,E20*1.25,G20*1.25,)))) | N20: =IF(F20="","",IF((F20+I20+K20)>=C20,"0:00",C20-F20)) -> 0:00
A21: =CHOOSE(WEEKDAY(B21),"Dimanche","Lundi","Mardi","Mercredi","Jeudi","Vendredi","Samedi") -> Mardi | B21: =DATE(An,4,ROW(17:47)) -> 41745 | C21: =IFERROR((VLOOKUP(B21,Fériés:Fériés,2,0)),VLOOKUP(A21,Année!$C$2:$C$8:'Année'!$D$2:$D$8,2,0)) -> 0.32291667 | F21: =IF(K21="",C21,0) -> 0.32291667 | J21: =IF(C21=0,VLOOKUP(A21,Horaires,2,FALSE)," ") | L21: =IF(A21="dimanche","",IF(A21="samedi","",IF(F21<=0,"",(IF(H21="",F21-C21,H21-C21))+(I21+K21+N21)))) -> 0 | M21: =IF(D21="","",IF(AND(A21="Dimanche",D21>0),SUM(D21*2.5+(E21+F21+G21)*2),IF(A21="samedi",SUM(D21*2.5,E21*1.25,G21*1.25,F21*1.25),SUM(D21*2.5,E21*1.25,G21*1.25,)))) | N21: =IF(F21="","",IF((F21+I21+K21)>=C21,"0:00",C21-F21)) -> 0:00
A22: =CHOOSE(WEEKDAY(B22),"Dimanche","Lundi","Mardi","Mercredi","Jeudi","Vendredi","Samedi") -> Mercredi | B22: =DATE(An,4,ROW(18:48)) -> 41746 | C22: =IFERROR((VLOOKUP(B22,Fériés:Fériés,2,0)),VLOOKUP(A22,Année!$C$2:$C$8:'Année'!$D$2:$D$8,2,0)) -> 0.32291667 | F22: =IF(K22="",C22,0) -> 0.32291667 | J22: =IF(C22=0,VLOOKUP(A22,Horaires,2,FALSE)," ") | L22: =IF(A22="dimanche","",IF(A22="samedi","",IF(F22<=0,"",(IF(H22="",F22-C22,H22-C22))+(I22+K22+N22)))) -> 0 | M22: =IF(D22="","",IF(AND(A22="Dimanche",D22>0),SUM(D22*2.5+(E22+F22+G22)*2),IF(A22="samedi",SUM(D22*2.5,E22*1.25,G22*1.25,F22*1.25),SUM(D22*2.5,E22*1.25,G22*1.25,)))) | N22: =IF(F22="","",IF((F22+I22+K22)>=C22,"0:00",C22-F22)) -> 0:00
A23: =CHOOSE(WEEKDAY(B23),"Dimanche","Lundi","Mardi","Mercredi","Jeudi","Vendredi","Samedi") -> Jeudi | B23: =DATE(An,4,ROW(19:49)) -> 41747 | C23: =IFERROR((VLOOKUP(B23,Fériés:Fériés,2,0)),VLOOKUP(A23,Année!$C$2:$C$8:'Année'!$D$2:$D$8,2,0)) -> 0.32291667 | F23: =IF(K23="",C23,0) -> 0.32291667 | J23: =IF(C23=0,VLOOKUP(A23,Horaires,2,FALSE)," ") | L23: =IF(A23="dimanche","",IF(A23="samedi","",IF(F23<=0,"",(IF(H23="",F23-C23,H23-C23))+(I23+K23+N23)))) -> 0 | M23: =IF(D23="","",IF(AND(A23="Dimanche",D23>0),SUM(D23*2.5+(E23+F23+G23)*2),IF(A23="samedi",SUM(D23*2.5,E23*1.25,G23*1.25,F23*1.25),SUM(D23*2.5,E23*1.25,G23*1.25,)))) | N23: =IF(F23="","",IF((F23+I23+K23)>=C23,"0:00",C23-F23)) -> 0:00
A24: =CHOOSE(WEEKDAY(B24),"Dimanche","Lundi","Mardi","Mercredi","Jeudi","Vendredi","Samedi") -> Vendredi | B24: =DATE(An,4,ROW(20:50)) -> 41748 | C24: =IFERROR((VLOOKUP(B24,Fériés:Fériés,2,0)),VLOOKUP(A24,Année!$C$2:$C$8:'Année'!$D$2:$D$8,2,0)) -> 0.16666667 | F24: =IF(K24="",C24,0) -> 0.16666667 | J24: =IF(C24=0,VLOOKUP(A24,Horaires,2,FALSE)," ") | L24: =IF(A24="dimanche","",IF(A24="samedi","",IF(F24<=0,"",(IF(H24="",F24-C24,H24-C24))+(I24+K24+N24)))) -> 0 | M24: =IF(D24="","",IF(AND(A24="Dimanche",D24>0),SUM(D24*2.5+(E24+F24+G24)*2),IF(A24="samedi",SUM(D24*2.5,E24*1.25,G24*1.25,F24*1.25),SUM(D24*2.5,E24*1.25,G24*1.25,)))) | N24: =IF(F24="","",IF((F24+I24+K24)>=C24,"0:00",C24-F24)) -> 0:00
A25: =CHOOSE(WEEKDAY(B25),"Dimanche","Lundi","Mardi","Mercredi","Jeudi","Vendredi","Samedi") -> Samedi | B25: =DATE(An,4,ROW(21:51)) -> 41749 | C25: =IFERROR((VLOOKUP(B25,Fériés:Fériés,2,0)),VLOOKUP(A25,Année!$C$2:$C$8:'Année'!$D$2:$D$8,2,0)) -> 0 | F25: =IF(K25="",C25,0) -> 0 | J25: =IF(C25=0,VLOOKUP(A25,Horaires,2,FALSE)," ") -> 0 | L25: =IF(A25="dimanche","",IF(A25="samedi","",IF(F25<=0,"",(IF(H25="",F25-C25,H25-C25))+(I25+K25+N25)))) | M25: =IF(D25="","",IF(AND(A25="Dimanche",D25>0),SUM(D25*2.5+(E25+F25+G25)*2),IF(A25="samedi",SUM(D25*2.5,E25*1.25,G25*1.25,F25*1.25),SUM(D25*2.5,E25*1.25,G25*1.25,)))) | N25: =IF(F25="","",IF((F25+I25+K25)>=C25,"0:00",C25-F25)) -> 0:00
A26: =CHOOSE(WEEKDAY(B26),"Dimanche","Lundi","Mardi","Mercredi","Jeudi","Vendredi","Samedi") -> Dimanche | B26: =DATE(An,4,ROW(22:52)) -> 41750 | C26: =IFERROR((VLOOKUP(B26,Fériés:Fériés,2,0)),VLOOKUP(A26,Année!$C$2:$C$8:'Année'!$D$2:$D$8,2,0)) -> 0 | F26: =IF(K26="",C26,0) -> 0 | J26: =IF(C26=0,VLOOKUP(A26,Horaires,2,FALSE)," ") -> 0 | L26: =IF(A26="dimanche","",IF(A26="samedi","",IF(F26<=0,"",(IF(H26="",F26-C26,H26-C26))+(I26+K26+N26)))) | M26: =IF(D26="","",IF(AND(A26="Dimanche",D26>0),SUM(D26*2.5+(E26+F26+G26)*2),IF(A26="samedi",SUM(D26*2.5,E26*1.25,G26*1.25,F26*1.25),SUM(D26*2.5,E26*1.25,G26*1.25,)))) | N26: =IF(F26="","",IF((F26+I26+K26)>=C26,"0:00",C26-F26)) -> 0:00
A27: =CHOOSE(WEEKDAY(B27),"Dimanche","Lundi","Mardi","Mercredi","Jeudi","Vendredi","Samedi") -> Lundi | B27: =DATE(An,4,ROW(23:53)) -> 41751 | C27: =IFERROR((VLOOKUP(B27,Fériés:Fériés,2,0)),VLOOKUP(A27,Année!$C$2:$C$8:'Année'!$D$2:$D$8,2,0)) -> 0.32291667 | F27: =IF(K27="",C27,0) -> 0.32291667 | J27: =IF(C27=0,VLOOKUP(A27,Horaires,2,FALSE)," ") | L27: =IF(A27="dimanche","",IF(A27="samedi","",IF(F27<=0,"",(IF(H27="",F27-C27,H27-C27))+(I27+K27+N27)))) -> 0 | M27: =IF(D27="","",IF(AND(A27="Dimanche",D27>0),SUM(D27*2.5+(E27+F27+G27)*2),IF(A27="samedi",SUM(D27*2.5,E27*1.25,G27*1.25,F27*1.25),SUM(D27*2.5,E27*1.25,G27*1.25,)))) | N27: =IF(F27="","",IF((F27+I27+K27)>=C27,"0:00",C27-F27)) -> 0:00
A28: =CHOOSE(WEEKDAY(B28),"Dimanche","Lundi","Mardi","Mercredi","Jeudi","Vendredi","Samedi") -> Mardi | B28: =DATE(An,4,ROW(24:54)) -> 41752 | C28: =IFERROR((VLOOKUP(B28,Fériés:Fériés,2,0)),VLOOKUP(A28,Année!$C$2:$C$8:'Année'!$D$2:$D$8,2,0)) -> 0.32291667 | F28: =IF(K28="",C28,0) -> 0.32291667 | J28: =IF(C28=0,VLOOKUP(A28,Horaires,2,FALSE)," ") | L28: =IF(A28="dimanche","",IF(A28="samedi","",IF(F28<=0,"",(IF(H28="",F28-C28,H28-C28))+(I28+K28+N28)))) -> 0 | M28: =IF(D28="","",IF(AND(A28="Dimanche",D28>0),SUM(D28*2.5+(E28+F28+G28)*2),IF(A28="samedi",SUM(D28*2.5,E28*1.25,G28*1.25,F28*1.25),SUM(D28*2.5,E28*1.25,G28*1.25,)))) | N28: =IF(F28="","",IF((F28+I28+K28)>=C28,"0:00",C28-F28)) -> 0:00
A29: =CHOOSE(WEEKDAY(B29),"Dimanche","Lundi","Mardi","Mercredi","Jeudi","Vendredi","Samedi") -> Mercredi | B29: =DATE(An,4,ROW(25:55)) -> 41753 | C29: =IFERROR((VLOOKUP(B29,Fériés:Fériés,2,0)),VLOOKUP(A29,Année!$C$2:$C$8:'Année'!$D$2:$D$8,2,0)) -> 0.32291667 | F29: =IF(K29="",C29,0) -> 0.32291667 | J29: =IF(C29=0,VLOOKUP(A29,Horaires,2,FALSE)," ") | L29: =IF(A29="dimanche","",IF(A29="samedi","",IF(F29<=0,"",(IF(H29="",F29-C29,H29-C29))+(I29+K29+N29)))) -> 0 | M29: =IF(D29="","",IF(AND(A29="Dimanche",D29>0),SUM(D29*2.5+(E29+F29+G29)*2),IF(A29="samedi",SUM(D29*2.5,E29*1.25,G29*1.25,F29*1.25),SUM(D29*2.5,E29*1.25,G29*1.25,)))) | N29: =IF(F29="","",IF((F29+I29+K29)>=C29,"0:00",C29-F29)) -> 0:00
A30: =CHOOSE(WEEKDAY(B30),"Dimanche","Lundi","Mardi","Mercredi","Jeudi","Vendredi","Samedi") -> Jeudi | B30: =DATE(An,4,ROW(26:56)) -> 41754 | C30: =IFERROR((VLOOKUP(B30,Fériés:Fériés,2,0)),VLOOKUP(A30,Année!$C$2:$C$8:'Année'!$D$2:$D$8,2,0)) -> 0.32291667 | F30: =IF(K30="",C30,0) -> 0.32291667 | J30: =IF(C30=0,VLOOKUP(A30,Horaires,2,FALSE)," ") | L30: =IF(A30="dimanche","",IF(A30="samedi","",IF(F30<=0,"",(IF(H30="",F30-C30,H30-C30))+(I30+K30+N30)))) -> 0 | M30: =IF(D30="","",IF(AND(A30="Dimanche",D30>0),SUM(D30*2.5+(E30+F30+G30)*2),IF(A30="samedi",SUM(D30*2.5,E30*1.25,G30*1.25,F30*1.25),SUM(D30*2.5,E30*1.25,G30*1.25,)))) | N30: =IF(F30="","",IF((F30+I30+K30)>=C30,"0:00",C30-F30)) -> 0:00
A31: =CHOOSE(WEEKDAY(B31),"Dimanche","Lundi","Mardi","Mercredi","Jeudi","Vendredi","Samedi") -> Vendredi | B31: =DATE(An,4,ROW(27:57)) -> 41755 | C31: =IFERROR((VLOOKUP(B31,Fériés:Fériés,2,0)),VLOOKUP(A31,Année!$C$2:$C$8:'Année'!$D$2:$D$8,2,0)) -> 0.16666667 | F31: =IF(K31="",C31,0) -> 0.16666667 | J31: =IF(C31=0,VLOOKUP(A31,Horaires,2,FALSE)," ") | L31: =IF(A31="dimanche","",IF(A31="samedi","",IF(F31<=0,"",(IF(H31="",F31-C31,H31-C31))+(I31+K31+N31)))) -> 0 | M31: =IF(D31="","",IF(AND(A31="Dimanche",D31>0),SUM(D31*2.5+(E31+F31+G31)*2),IF(A31="samedi",SUM(D31*2.5,E31*1.25,G31*1.25,F31*1.25),SUM(D31*2.5,E31*1.25,G31*1.25,)))) | N31: =IF(F31="","",IF((F31+I31+K31)>=C31,"0:00",C31-F31)) -> 0:00
A32: =CHOOSE(WEEKDAY(B32),"Dimanche","Lundi","Mardi","Mercredi","Jeudi","Vendredi","Samedi") -> Samedi | B32: =DATE(An,4,ROW(28:58)) -> 41756 | C32: =IFERROR((VLOOKUP(B32,Fériés:Fériés,2,0)),VLOOKUP(A32,Année!$C$2:$C$8:'Année'!$D$2:$D$8,2,0)) -> 0 | F32: =IF(K32="",C32,0) -> 0 | J32: =IF(C32=0,VLOOKUP(A32,Horaires,2,FALSE)," ") -> 0 | L32: =IF(A32="dimanche","",IF(A32="samedi","",IF(F32<=0,"",(IF(H32="",F32-C32,H32-C32))+(I32+K32+N32)))) | M32: =IF(D32="","",IF(AND(A32="Dimanche",D32>0),SUM(D32*2.5+(E32+F32+G32)*2),IF(A32="samedi",SUM(D32*2.5,E32*1.25,G32*1.25,F32*1.25),SUM(D32*2.5,E32*1.25,G32*1.25,)))) | N32: =IF(F32="","",IF((F32+I32+K32)>=C32,"0:00",C32-F32)) -> 0:00
A33: =CHOOSE(WEEKDAY(B33),"Dimanche","Lundi","Mardi","Mercredi","Jeudi","Vendredi","Samedi") -> Dimanche | B33: =DATE(An,4,ROW(29:59)) -> 41757 | C33: =IFERROR((VLOOKUP(B33,Fériés:Fériés,2,0)),VLOOKUP(A33,Année!$C$2:$C$8:'Année'!$D$2:$D$8,2,0)) -> 0 | F33: =IF(K33="",C33,0) -> 0 | J33: =IF(C33=0,VLOOKUP(A33,Horaires,2,FALSE)," ") -> 0 | L33: =IF(A33="dimanche","",IF(A33="samedi","",IF(F33<=0,"",(IF(H33="",F33-C33,H33-C33))+(I33+K33+N33)))) | M33: =IF(D33="","",IF(AND(A33="Dimanche",D33>0),SUM(D33*2.5+(E33+F33+G33)*2),IF(A33="samedi",SUM(D33*2.5,E33*1.25,G33*1.25,F33*1.25),SUM(D33*2.5,E33*1.25,G33*1.25,)))) | N33: =IF(F33="","",IF((F33+I33+K33)>=C33,"0:00",C33-F33)) -> 0:00
A34: =CHOOSE(WEEKDAY(B34),"Dimanche","Lundi","Mardi","Mercredi","Jeudi","Vendredi","Samedi") -> Lundi | B34: =DATE(An,4,ROW(30:60)) -> 41758 | C34: =IFERROR((VLOOKUP(B34,Fériés:Fériés,2,0)),VLOOKUP(A34,Année!$C$2:$C$8:'Année'!$D$2:$D$8,2,0)) -> 0.32291667 | F34: =IF(K34="",C34,0) -> 0.32291667 | J34: =IF(C34=0,VLOOKUP(A34,Horaires,2,FALSE)," ") | L34: =IF(A34="dimanche","",IF(A34="samedi","",IF(F34<=0,"",(IF(H34="",F34-C34,H34-C34))+(I34+K34+N34)))) -> 0 | M34: =IF(D34="","",IF(AND(A34="Dimanche",D34>0),SUM(D34*2.5+(E34+F34+G34)*2),IF(A34="samedi",SUM(D34*2.5,E34*1.25,G34*1.25,F34*1.25),SUM(D34*2.5,E34*1.25,G34*1.25,)))) | N34: =IF(F34="","",IF((F34+I34+K34)>=C34,"0:00",C34-F34)) -> 0:00
L35: =IF(A35="dimanche","",IF(A35="samedi","",IF(F35<=0,"",(IF(H35="",F35-C35,H35-C35))+(I35+J35+K35+N35)))) | M35: =IF(D35="","",IF(AND(A35="Dimanche",D35>0),SUM(D35:G35)*2,IF(A35="samedi",SUM(D35*2.5,E35*1.25,G35*1.25,F35),SUM(D35*2.5,E35*1.25,G35*1.25,)))) | N35: =IF(F35="","",IF((F35+I35+J35+K35)>=C35,"0:00",C35-F35))
A38: Totaux : | C38: =SUM(C5:C37) -> 5.8333333 | D38: =SUM(D5:D37) -> 0 | E38: =SUM(E5:E37) -> 0 | F38: =SUM(F5:F37) -> 5.8333333 | G38: =SUM(G5:G37) -> 0 | H38: =SUM(H5:H37) -> 0 | I38: =SUM(I5:I37) -> 0 | J38: =SUM(J5:J37) -> 0.32291667 | ... N38: =SUM(N5:N37) -> 0

Sheet Mai
A1: =DATE(Année!B1,5,1) -> 41759
A3: Dates : | C3: Heures à faire: | D3: Heures faites: | I3: ASA | J3: Jours Fériés | K3: Congés | L3: Heures Supp | M3: Heures Neige | N3: Récup Heures Neige
D4: 22hà3h30à6h (X2,5) | E4: 6hà7h30 (X1,25) | F4: 7h30à16h45 (X1) | G4: 16h45à22h (X1,25) | H4: Heures pointées Bâtiment
A5: =CHOOSE(WEEKDAY(B5),"Dimanche","Lundi","Mardi","Mercredi","Jeudi","Vendredi","Samedi") -> Mardi | B5: =DATE(An,5,ROW(1:31)) -> 41759 | C5: =IFERROR((VLOOKUP(B5,Fériés:Fériés,2,0)),VLOOKUP(A5,Année!$C$2:$C$8:'Année'!$D$2:$D$8,2,0)) -> 0 | F5: =IF(K5="",C5,0) -> 0 | J5: =IF(C5=0,VLOOKUP(A5,Horaires,2,FALSE)," ") -> 0.32291667 | L5: =IF(A5="dimanche","",IF(A5="samedi","",IF(F5<=0,"",(IF(H5="",F5-C5,H5-C5))+(I5+K5+N5)))) | M5: =IF(D5="","",IF(AND(A5="Dimanche",D5>0),SUM(D5*2.5+(E5+F5+G5)*2),IF(A5="samedi",SUM(D5*2.5,E5*1.25,G5*1.25,F5*1.25),SUM(D5*2.5,E5*1.25,G5*1.25,)))) | N5: =IF(F5="","",IF((F5+I5+K5)>=C5,"0:00",C5-F5)) -> 0:00
A6: =CHOOSE(WEEKDAY(B6),"Dimanche","Lundi","Mardi","Mercredi","Jeudi","Vendredi","Samedi") -> Mercredi | B6: =DATE(An,5,ROW(2:32)) -> 41760 | C6: =IFERROR((VLOOKUP(B6,Fériés:Fériés,2,0)),VLOOKUP(A6,Année!$C$2:$C$8:'Année'!$D$2:$D$8,2,0)) -> 0.32291667 | F6: =IF(K6="",C6,0) -> 0.32291667 | J6: =IF(C6=0,VLOOKUP(A6,Horaires,2,FALSE)," ") | L6: =IF(A6="dimanche","",IF(A6="samedi","",IF(F6<=0,"",(IF(H6="",F6-C6,H6-C6))+(I6+K6+N6)))) -> 0 | M6: =IF(D6="","",IF(AND(A6="Dimanche",D6>0),SUM(D6*2.5+(E6+F6+G6)*2),IF(A6="samedi",SUM(D6*2.5,E6*1.25,G6*1.25,F6*1.25),SUM(D6*2.5,E6*1.25,G6*1.25,)))) | N6: =IF(F6="","",IF((F6+I6+K6)>=C6,"0:00",C6-F6)) -> 0:00
A7: =CHOOSE(WEEKDAY(B7),"Dimanche","Lundi","Mardi","Mercredi","Jeudi","Vendredi","Samedi") -> Jeudi | B7: =DATE(An,5,ROW(3:33)) -> 41761 | C7: =IFERROR((VLOOKUP(B7,Fériés:Fériés,2,0)),VLOOKUP(A7,Année!$C$2:$C$8:'Année'!$D$2:$D$8,2,0)) -> 0.32291667 | F7: =IF(K7="",C7,0) -> 0.32291667 | J7: =IF(C7=0,VLOOKUP(A7,Horaires,2,FALSE)," ") | L7: =IF(A7="dimanche","",IF(A7="samedi","",IF(F7<=0,"",(IF(H7="",F7-C7,H7-C7))+(I7+K7+N7)))) -> 0 | M7: =IF(D7="","",IF(AND(A7="Dimanche",D7>0),SUM(D7*2.5+(E7+F7+G7)*2),IF(A7="samedi",SUM(D7*2.5,E7*1.25,G7*1.25,F7*1.25),SUM(D7*2.5,E7*1.25,G7*1.25,)))) | N7: =IF(F7="","",IF((F7+I7+K7)>=C7,"0:00",C7-F7)) -> 0:00
A8: =CHOOSE(WEEKDAY(B8),"Dimanche","Lundi","Mardi","Mercredi","Jeudi","Vendredi","Samedi") -> Vendredi | B8: =DATE(An,5,ROW(4:34)) -> 41762 | C8: =IFERROR((VLOOKUP(B8,Fériés:Fériés,2,0)),VLOOKUP(A8,Année!$C$2:$C$8:'Année'!$D$2:$D$8,2,0)) -> 0.16666667 | F8: =IF(K8="",C8,0) -> 0.16666667 | J8: =IF(C8=0,VLOOKUP(A8,Horaires,2,FALSE)," ") | L8: =IF(A8="dimanche","",IF(A8="samedi","",IF(F8<=0,"",(IF(H8="",F8-C8,H8-C8))+(I8+K8+N8)))) -> 0 | M8: =IF(D8="","",IF(AND(A8="Dimanche",D8>0),SUM(D8*2.5+(E8+F8+G8)*2),IF(A8="samedi",SUM(D8*2.5,E8*1.25,G8*1.25,F8*1.25),SUM(D8*2.5,E8*1.25,G8*1.25,)))) | N8: =IF(F8="","",IF((F8+I8+K8)>=C8,"0:00",C8-F8)) -> 0:00
A9: =CHOOSE(WEEKDAY(B9),"Dimanche","Lundi","Mardi","Mercredi","Jeudi","Vendredi","Samedi") -> Samedi | B9: =DATE(An,5,ROW(5:35)) -> 41763 | C9: =IFERROR((VLOOKUP(B9,Fériés:Fériés,2,0)),VLOOKUP(A9,Année!$C$2:$C$8:'Année'!$D$2:$D$8,2,0)) -> 0 | F9: =IF(K9="",C9,0) -> 0 | J9: =IF(C9=0,VLOOKUP(A9,Horaires,2,FALSE)," ") -> 0 | L9: =IF(A9="dimanche","",IF(A9="samedi","",IF(F9<=0,"",(IF(H9="",F9-C9,H9-C9))+(I9+K9+N9)))) | M9: =IF(D9="","",IF(AND(A9="Dimanche",D9>0),SUM(D9*2.5+(E9+F9+G9)*2),IF(A9="samedi",SUM(D9*2.5,E9*1.25,G9*1.25,F9*1.25),SUM(D9*2.5,E9*1.25,G9*1.25,)))) | N9: =IF(F9="","",IF((F9+I9+K9)>=C9,"0:00",C9-F9)) -> 0:00
A10: =CHOOSE(WEEKDAY(B10),"Dimanche","Lundi","Mardi","Mercredi","Jeudi","Vendredi","Samedi") -> Dimanche | B10: =DATE(An,5,ROW(6:36)) -> 41764 | C10: =IFERROR((VLOOKUP(B10,Fériés:Fériés,2,0)),VLOOKUP(A10,Année!$C$2:$C$8:'Année'!$D$2:$D$8,2,0)) -> 0 | F10: =IF(K10="",C10,0) -> 0 | J10: =IF(C10=0,VLOOKUP(A10,Horaires,2,FALSE)," ") -> 0 | L10: =IF(A10="dimanche","",IF(A10="samedi","",IF(F10<=0,"",(IF(H10="",F10-C10,H10-C10))+(I10+K10+N10)))) | M10: =IF(D10="","",IF(AND(A10="Dimanche",D10>0),SUM(D10*2.5+(E10+F10+G10)*2),IF(A10="samedi",SUM(D10*2.5,E10*1.25,G10*1.25,F10*1.25),SUM(D10*2.5,E10*1.25,G10*1.25,)))) | N10: =IF(F10="","",IF((F10+I10+K10)>=C10,"0:00",C10-F10)) -> 0:00
A11: =CHOOSE(WEEKDAY(B11),"Dimanche","Lundi","Mardi","Mercredi","Jeudi","Vendredi","Samedi") -> Lundi | B11: =DATE(An,5,ROW(7:37)) -> 41765 | C11: =IFERROR((VLOOKUP(B11,Fériés:Fériés,2,0)),VLOOKUP(A11,Année!$C$2:$C$8:'Année'!$D$2:$D$8,2,0)) -> 0.32291667 | F11: =IF(K11="",C11,0) -> 0.32291667 | J11: =IF(C11=0,VLOOKUP(A11,Horaires,2,FALSE)," ") | L11: =IF(A11="dimanche","",IF(A11="samedi","",IF(F11<=0,"",(IF(H11="",F11-C11,H11-C11))+(I11+K11+N11)))) -> 0 | M11: =IF(D11="","",IF(AND(A11="Dimanche",D11>0),SUM(D11*2.5+(E11+F11+G11)*2),IF(A11="samedi",SUM(D11*2.5,E11*1.25,G11*1.25,F11*1.25),SUM(D11*2.5,E11*1.25,G11*1.25,)))) | N11: =IF(F11="","",IF((F11+I11+K11)>=C11,"0:00",C11-F11)) -> 0:00
A12: =CHOOSE(WEEKDAY(B12),"Dimanche","Lundi","Mardi","Mercredi","Jeudi","Vendredi","Samedi") -> Mardi | B12: =DATE(An,5,ROW(8:38)) -> 41766 | C12: =IFERROR((VLOOKUP(B12,Fériés:Fériés,2,0)),VLOOKUP(A12,Année!$C$2:$C$8:'Année'!$D$2:$D$8,2,0)) -> 0 | F12: =IF(K12="",C12,0) -> 0 | J12: =IF(C12=0,VLOOKUP(A12,Horaires,2,FALSE)," ") -> 0.32291667 | L12: =IF(A12="dimanche","",IF(A12="samedi","",IF(F12<=0,"",(IF(H12="",F12-C12,H12-C12))+(I12+K12+N12)))) | M12: =IF(D12="","",IF(AND(A12="Dimanche",D12>0),SUM(D12*2.5+(E12+F12+G12)*2),IF(A12="samedi",SUM(D12*2.5,E12*1.25,G12*1.25,F12*1.25),SUM(D12*2.5,E12*1.25,G12*1.25,)))) | N12: =IF(F12="","",IF((F12+I12+K12)>=C12,"0:00",C12-F12)) -> 0:00
A13: =CHOOSE(WEEKDAY(B13),"Dimanche","Lundi","Mardi","Mercredi","Jeudi","Vendredi","Samedi") -> Mercredi | B13: =DATE(An,5,ROW(9:39)) -> 41767 | C13: =IFERROR((VLOOKUP(B13,Fériés:Fériés,2,0)),VLOOKUP(A13,Année!$C$2:$C$8:'Année'!$D$2:$D$8,2,0)) -> 0.32291667 | F13: =IF(K13="",C13,0) -> 0.32291667 | J13: =IF(C13=0,VLOOKUP(A13,Horaires,2,FALSE)," ") | L13: =IF(A13="dimanche","",IF(A13="samedi","",IF(F13<=0,"",(IF(H13="",F13-C13,H13-C13))+(I13+K13+N13)))) -> 0 | M13: =IF(D13="","",IF(AND(A13="Dimanche",D13>0),SUM(D13*2.5+(E13+F13+G13)*2),IF(A13="samedi",SUM(D13*2.5,E13*1.25,G13*1.25,F13*1.25),SUM(D13*2.5,E13*1.25,G13*1.25,)))) | N13: =IF(F13="","",IF((F13+I13+K13)>=C13,"0:00",C13-F13)) -> 0:00
A14: =CHOOSE(WEEKDAY(B14),"Dimanche","Lundi","Mardi","Mercredi","Jeudi","Vendredi","Samedi") -> Jeudi | B14: =DATE(An,5,ROW(10:40)) -> 41768 | C14: =IFERROR((VLOOKUP(B14,Fériés:Fériés,2,0)),VLOOKUP(A14,Année!$C$2:$C$8:'Année'!$D$2:$D$8,2,0)) -> 0 | F14: =IF(K14="",C14,0) -> 0 | J14: =IF(C14=0,VLOOKUP(A14,Horaires,2,FALSE)," ") -> 0.32291667 | L14: =IF(A14="dimanche","",IF(A14="samedi","",IF(F14<=0,"",(IF(H14="",F14-C14,H14-C14))+(I14+K14+N14)))) | M14: =IF(D14="","",IF(AND(A14="Dimanche",D14>0),SUM(D14*2.5+(E14+F14+G14)*2),IF(A14="samedi",SUM(D14*2.5,E14*1.25,G14*1.25,F14*1.25),SUM(D14*2.5,E14*1.25,G14*1.25,)))) | N14: =IF(F14="","",IF((F14+I14+K14)>=C14,"0:00",C14-F14)) -> 0:00
A15: =CHOOSE(WEEKDAY(B15),"Dimanche","Lundi","Mardi","Mercredi","Jeudi","Vendredi","Samedi") -> Vendredi | B15: =DATE(An,5,ROW(11:41)) -> 41769 | C15: =IFERROR((VLOOKUP(B15,Fériés:Fériés,2,0)),VLOOKUP(A15,Année!$C$2:$C$8:'Année'!$D$2:$D$8,2,0)) -> 0.16666667 | F15: =IF(K15="",C15,0) -> 0 | J15: =IF(C15=0,VLOOKUP(A15,Horaires,2,FALSE)," ") | K15: 0.16666667 | L15: =IF(A15="dimanche","",IF(A15="samedi","",IF(F15<=0,"",(IF(H15="",F15-C15,H15-C15))+(I15+K15+N15)))) | M15: =IF(D15="","",IF(AND(A15="Dimanche",D15>0),SUM(D15*2.5+(E15+F15+G15)*2),IF(A15="samedi",SUM(D15*2.5,E15*1.25,G15*1.25,F15*1.25),SUM(D15*2.5,E15*1.25,G15*1.25,)))) | N15: =IF(F15="","",IF((F15+I15+K15)>=C15,"0:00",C15-F15)) -> 0:00
A16: =CHOOSE(WEEKDAY(B16),"Dimanche","Lundi","Mardi","Mercredi","Jeudi","Vendredi","Samedi") -> Samedi | B16: =DATE(An,5,ROW(12:42)) -> 41770 | C16: =IFERROR((VLOOKUP(B16,Fériés:Fériés,2,0)),VLOOKUP(A16,Année!$C$2:$C$8:'Année'!$D$2:$D$8,2,0)) -> 0 | F16: =IF(K16="",C16,0) -> 0 | J16: =IF(C16=0,VLOOKUP(A16,Horaires,2,FALSE)," ") -> 0 | L16: =IF(A16="dimanche","",IF(A16="samedi","",IF(F16<=0,"",(IF(H16="",F16-C16,H16-C16))+(I16+K16+N16)))) | M16: =IF(D16="","",IF(AND(A16="Dimanche",D16>0),SUM(D16*2.5+(E16+F16+G16)*2),IF(A16="samedi",SUM(D16*2.5,E16*1.25,G16*1.25,F16*1.25),SUM(D16*2.5,E16*1.25,G16*1.25,)))) | N16: =IF(F16="","",IF((F16+I16+K16)>=C16,"0:00",C16-F16)) -> 0:00
A17: =CHOOSE(WEEKDAY(B17),"Dimanche","Lundi","Mardi","Mercredi","Jeudi","Vendredi","Samedi") -> Dimanche | B17: =DATE(An,5,ROW(13:43)) -> 41771 | C17: =IFERROR((VLOOKUP(B17,Fériés:Fériés,2,0)),VLOOKUP(A17,Année!$C$2:$C$8:'Année'!$D$2:$D$8,2,0)) -> 0 | F17: =IF(K17="",C17,0) -> 0 | J17: =IF(C17=0,VLOOKUP(A17,Horaires,2,FALSE)," ") -> 0 | L17: =IF(A17="dimanche","",IF(A17="samedi","",IF(F17<=0,"",(IF(H17="",F17-C17,H17-C17))+(I17+K17+N17)))) | M17: =IF(D17="","",IF(AND(A17="Dimanche",D17>0),SUM(D17*2.5+(E17+F17+G17)*2),IF(A17="samedi",SUM(D17*2.5,E17*1.25,G17*1.25,F17*1.25),SUM(D17*2.5,E17*1.25,G17*1.25,)))) | N17: =IF(F17="","",IF((F17+I17+K17)>=C17,"0:00",C17-F17)) -> 0:00
A18: =CHOOSE(WEEKDAY(B18),"Dimanche","Lundi","Mardi","Mercredi","Jeudi","Vendredi","Samedi") -> Lundi | B18: =DATE(An,5,ROW(14:44)) -> 41772 | C18: =IFERROR((VLOOKUP(B18,Fériés:Fériés,2,0)),VLOOKUP(A18,Année!$C$2:$C$8:'Année'!$D$2:$D$8,2,0)) -> 0.32291667 | F18: =IF(K18="",C18,0) -> 0 | J18: =IF(C18=0,VLOOKUP(A18,Horaires,2,FALSE)," ") | K18: 0.32291667 | L18: =IF(A18="dimanche","",IF(A18="samedi","",IF(F18<=0,"",(IF(H18="",F18-C18,H18-C18))+(I18+K18+N18)))) | M18: =IF(D18="","",IF(AND(A18="Dimanche",D18>0),SUM(D18*2.5+(E18+F18+G18)*2),IF(A18="samedi",SUM(D18*2.5,E18*1.25,G18*1.25,F18*1.25),SUM(D18*2.5,E18*1.25,G18*1.25,)))) | N18: =IF(F18="","",IF((F18+I18+K18)>=C18,"0:00",C18-F18)) -> 0:00
A19: =CHOOSE(WEEKDAY(B19),"Dimanche","Lundi","Mardi","Mercredi","Jeudi","Vendredi","Samedi") -> Mardi | B19: =DATE(An,5,ROW(15:45)) -> 41773 | C19: =IFERROR((VLOOKUP(B19,Fériés:Fériés,2,0)),VLOOKUP(A19,Année!$C$2:$C$8:'Année'!$D$2:$D$8,2,0)) -> 0.32291667 | F19: =IF(K19="",C19,0) -> 0.32291667 | J19: =IF(C19=0,VLOOKUP(A19,Horaires,2,FALSE)," ") | L19: =IF(A19="dimanche","",IF(A19="samedi","",IF(F19<=0,"",(IF(H19="",F19-C19,H19-C19))+(I19+K19+N19)))) -> 0 | M19: =IF(D19="","",IF(AND(A19="Dimanche",D19>0),SUM(D19*2.5+(E19+F19+G19)*2),IF(A19="samedi",SUM(D19*2.5,E19*1.25,G19*1.25,F19*1.25),SUM(D19*2.5,E19*1.25,G19*1.25,)))) | N19: =IF(F19="","",IF((F19+I19+K19)>=C19,"0:00",C19-F19)) -> 0:00
A20: =CHOOSE(WEEKDAY(B20),"Dimanche","Lundi","Mardi","Mercredi","Jeudi","Vendredi","Samedi") -> Mercredi | B20: =DATE(An,5,ROW(16:46)) -> 41774 | C20: =IFERROR((VLOOKUP(B20,Fériés:Fériés,2,0)),VLOOKUP(A20,Année!$C$2:$C$8:'Année'!$D$2:$D$8,2,0)) -> 0.32291667 | F20: =IF(K20="",C20,0) -> 0.32291667 | J20: =IF(C20=0,VLOOKUP(A20,Horaires,2,FALSE)," ") | L20: =IF(A20="dimanche","",IF(A20="samedi","",IF(F20<=0,"",(IF(H20="",F20-C20,H20-C20))+(I20+K20+N20)))) -> 0 | M20: =IF(D20="","",IF(AND(A20="Dimanche",D20>0),SUM(D20*2.5+(E20+F20+G20)*2),IF(A20="samedi",SUM(D20*2.5,E20*1.25,G20*1.25,F20*1.25),SUM(D20*2.5,E20*1.25,G20*1.25,)))) | N20: =IF(F20="","",IF((F20+I20+K20)>=C20,"0:00",C20-F20)) -> 0:00
A21: =CHOOSE(WEEKDAY(B21),"Dimanche","Lundi","Mardi","Mercredi","Jeudi","Vendredi","Samedi") -> Jeudi | B21: =DATE(An,5,ROW(17:47)) -> 41775 | C21: =IFERROR((VLOOKUP(B21,Fériés:Fériés,2,0)),VLOOKUP(A21,Année!$C$2:$C$8:'Année'!$D$2:$D$8,2,0)) -> 0.32291667 | F21: =IF(K21="",C21,0) -> 0.32291667 | J21: =IF(C21=0,VLOOKUP(A21,Horaires,2,FALSE)," ") | L21: =IF(A21="dimanche","",IF(A21="samedi","",IF(F21<=0,"",(IF(H21="",F21-C21,H21-C21))+(I21+K21+N21)))) -> 0 | M21: =IF(D21="","",IF(AND(A21="Dimanche",D21>0),SUM(D21*2.5+(E21+F21+G21)*2),IF(A21="samedi",SUM(D21*2.5,E21*1.25,G21*1.25,F21*1.25),SUM(D21*2.5,E21*1.25,G21*1.25,)))) | N21: =IF(F21="","",IF((F21+I21+K21)>=C21,"0:00",C21-F21)) -> 0:00
A22: =CHOOSE(WEEKDAY(B22),"Dimanche","Lundi","Mardi","Mercredi","Jeudi","Vendredi","Samedi") -> Vendredi | B22: =DATE(An,5,ROW(18:48)) -> 41776 | C22: =IFERROR((VLOOKUP(B22,Fériés:Fériés,2,0)),VLOOKUP(A22,Année!$C$2:$C$8:'Année'!$D$2:$D$8,2,0)) -> 0.16666667 | F22: =IF(K22="",C22,0) -> 0.16666667 | J22: =IF(C22=0,VLOOKUP(A22,Horaires,2,FALSE)," ") | L22: =IF(A22="dimanche","",IF(A22="samedi","",IF(F22<=0,"",(IF(H22="",F22-C22,H22-C22))+(I22+K22+N22)))) -> 0 | M22: =IF(D22="","",IF(AND(A22="Dimanche",D22>0),SUM(D22*2.5+(E22+F22+G22)*2),IF(A22="samedi",SUM(D22*2.5,E22*1.25,G22*1.25,F22*1.25),SUM(D22*2.5,E22*1.25,G22*1.25,)))) | N22: =IF(F22="","",IF((F22+I22+K22)>=C22,"0:00",C22-F22)) -> 0:00
A23: =CHOOSE(WEEKDAY(B23),"Dimanche","Lundi","Mardi","Mercredi","Jeudi","Vendredi","Samedi") -> Samedi | B23: =DATE(An,5,ROW(19:49)) -> 41777 | C23: =IFERROR((VLOOKUP(B23,Fériés:Fériés,2,0)),VLOOKUP(A23,Année!$C$2:$C$8:'Année'!$D$2:$D$8,2,0)) -> 0 | F23: =IF(K23="",C23,0) -> 0 | J23: =IF(C23=0,VLOOKUP(A23,Horaires,2,FALSE)," ") -> 0 | L23: =IF(A23="dimanche","",IF(A23="samedi","",IF(F23<=0,"",(IF(H23="",F23-C23,H23-C23))+(I23+K23+N23)))) | M23: =IF(D23="","",IF(AND(A23="Dimanche",D23>0),SUM(D23*2.5+(E23+F23+G23)*2),IF(A23="samedi",SUM(D23*2.5,E23*1.25,G23*1.25,F23*1.25),SUM(D23*2.5,E23*1.25,G23*1.25,)))) | N23: =IF(F23="","",IF((F23+I23+K23)>=C23,"0:00",C23-F23)) -> 0:00
A24: =CHOOSE(WEEKDAY(B24),"Dimanche","Lundi","Mardi","Mercredi","Jeudi","Vendredi","Samedi") -> Dimanche | B24: =DATE(An,5,ROW(20:50)) -> 41778 | C24: =IFERROR((VLOOKUP(B24,Fériés:Fériés,2,0)),VLOOKUP(A24,Année!$C$2:$C$8:'Année'!$D$2:$D$8,2,0)) -> 0 | F24: =IF(K24="",C24,0) -> 0 | J24: =IF(C24=0,VLOOKUP(A24,Horaires,2,FALSE)," ") -> 0 | L24: =IF(A24="dimanche","",IF(A24="samedi","",IF(F24<=0,"",(IF(H24="",F24-C24,H24-C24))+(I24+K24+N24)))) | M24: =IF(D24="","",IF(AND(A24="Dimanche",D24>0),SUM(D24*2.5+(E24+F24+G24)*2),IF(A24="samedi",SUM(D24*2.5,E24*1.25,G24*1.25,F24*1.25),SUM(D24*2.5,E24*1.25,G24*1.25,)))) | N24: =IF(F24="","",IF((F24+I24+K24)>=C24,"0:00",C24-F24)) -> 0:00
A25: =CHOOSE(WEEKDAY(B25),"Dimanche","Lundi","Mardi","Mercredi","Jeudi","Vendredi","Samedi") -> Lundi | B25: =DATE(An,5,ROW(21:51)) -> 41779 | C25: =IFERROR((VLOOKUP(B25,Fériés:Fériés,2,0)),VLOOKUP(A25,Année!$C$2:$C$8:'Année'!$D$2:$D$8,2,0)) -> 0.32291667 | F25: =IF(K25="",C25,0) -> 0.32291667 | J25: =IF(C25=0,VLOOKUP(A25,Horaires,2,FALSE)," ") | L25: =IF(A25="dimanche","",IF(A25="samedi","",IF(F25<=0,"",(IF(H25="",F25-C25,H25-C25))+(I25+K25+N25)))) -> 0 | M25: =IF(D25="","",IF(AND(A25="Dimanche",D25>0),SUM(D25*2.5+(E25+F25+G25)*2),IF(A25="samedi",SUM(D25*2.5,E25*1.25,G25*1.25,F25*1.25),SUM(D25*2.5,E25*1.25,G25*1.25,)))) | N25: =IF(F25="","",IF((F25+I25+K25)>=C25,"0:00",C25-F25)) -> 0:00
A26: =CHOOSE(WEEKDAY(B26),"Dimanche","Lundi","Mardi","Mercredi","Jeudi","Vendredi","Samedi") -> Mardi | B26: =DATE(An,5,ROW(22:52)) -> 41780 | C26: =IFERROR((VLOOKUP(B26,Fériés:Fériés,2,0)),VLOOKUP(A26,Année!$C$2:$C$8:'Année'!$D$2:$D$8,2,0)) -> 0.32291667 | F26: =IF(K26="",C26,0) -> 0.32291667 | J26: =IF(C26=0,VLOOKUP(A26,Horaires,2,FALSE)," ") | L26: =IF(A26="dimanche","",IF(A26="samedi","",IF(F26<=0,"",(IF(H26="",F26-C26,H26-C26))+(I26+K26+N26)))) -> 0 | M26: =IF(D26="","",IF(AND(A26="Dimanche",D26>0),SUM(D26*2.5+(E26+F26+G26)*2),IF(A26="samedi",SUM(D26*2.5,E26*1.25,G26*1.25,F26*1.25),SUM(D26*2.5,E26*1.25,G26*1.25,)))) | N26: =IF(F26="","",IF((F26+I26+K26)>=C26,"0:00",C26-F26)) -> 0:00
A27: =CHOOSE(WEEKDAY(B27),"Dimanche","Lundi","Mardi","Mercredi","Jeudi","Vendredi","Samedi") -> Mercredi | B27: =DATE(An,5,ROW(23:53)) -> 41781 | C27: =IFERROR((VLOOKUP(B27,Fériés:Fériés,2,0)),VLOOKUP(A27,Année!$C$2:$C$8:'Année'!$D$2:$D$8,2,0)) -> 0.32291667 | F27: =IF(K27="",C27,0) -> 0.32291667 | J27: =IF(C27=0,VLOOKUP(A27,Horaires,2,FALSE)," ") | L27: =IF(A27="dimanche","",IF(A27="samedi","",IF(F27<=0,"",(IF(H27="",F27-C27,H27-C27))+(I27+K27+N27)))) -> 0 | M27: =IF(D27="","",IF(AND(A27="Dimanche",D27>0),SUM(D27*2.5+(E27+F27+G27)*2),IF(A27="samedi",SUM(D27*2.5,E27*1.25,G27*1.25,F27*1.25),SUM(D27*2.5,E27*1.25,G27*1.25,)))) | N27: =IF(F27="","",IF((F27+I27+K27)>=C27,"0:00",C27-F27)) -> 0:00
A28: =CHOOSE(WEEKDAY(B28),"Dimanche","Lundi","Mardi","Mercredi","Jeudi","Vendredi","Samedi") -> Jeudi | B28: =DATE(An,5,ROW(24:54)) -> 41782 | C28: =IFERROR((VLOOKUP(B28,Fériés:Fériés,2,0)),VLOOKUP(A28,Année!$C$2:$C$8:'Année'!$D$2:$D$8,2,0)) -> 0.32291667 | F28: =IF(K28="",C28,0) -> 0.32291667 | J28: =IF(C28=0,VLOOKUP(A28,Horaires,2,FALSE)," ") | L28: =IF(A28="dimanche","",IF(A28="samedi","",IF(F28<=0,"",(IF(H28="",F28-C28,H28-C28))+(I28+K28+N28)))) -> 0 | M28: =IF(D28="","",IF(AND(A28="Dimanche",D28>0),SUM(D28*2.5+(E28+F28+G28)*2),IF(A28="samedi",SUM(D28*2.5,E28*1.25,G28*1.25,F28*1.25),SUM(D28*2.5,E28*1.25,G28*1.25,)))) | N28: =IF(F28="","",IF((F28+I28+K28)>=C28,"0:00",C28-F28)) -> 0:00
A29: =CHOOSE(WEEKDAY(B29),"Dimanche","Lundi","Mardi","Mercredi","Jeudi","Vendredi","Samedi") -> Vendredi | B29: =DATE(An,5,ROW(25:55)) -> 41783 | C29: =IFERROR((VLOOKUP(B29,Fériés:Fériés,2,0)),VLOOKUP(A29,Année!$C$2:$C$8:'Année'!$D$2:$D$8,2,0)) -> 0.16666667 | F29: =IF(K29="",C29,0) -> 0.16666667 | J29: =IF(C29=0,VLOOKUP(A29,Horaires,2,FALSE)," ") | L29: =IF(A29="dimanche","",IF(A29="samedi","",IF(F29<=0,"",(IF(H29="",F29-C29,H29-C29))+(I29+K29+N29)))) -> 0 | M29: =IF(D29="","",IF(AND(A29="Dimanche",D29>0),SUM(D29*2.5+(E29+F29+G29)*2),IF(A29="samedi",SUM(D29*2.5,E29*1.25,G29*1.25,F29*1.25),SUM(D29*2.5,E29*1.25,G29*1.25,)))) | N29: =IF(F29="","",IF((F29+I29+K29)>=C29,"0:00",C29-F29)) -> 0:00
A30: =CHOOSE(WEEKDAY(B30),"Dimanche","Lundi","Mardi","Mercredi","Jeudi","Vendredi","Samedi") -> Samedi | B30: =DATE(An,5,ROW(26:56)) -> 41784 | C30: =IFERROR((VLOOKUP(B30,Fériés:Fériés,2,0)),VLOOKUP(A30,Année!$C$2:$C$8:'Année'!$D$2:$D$8,2,0)) -> 0 | F30: =IF(K30="",C30,0) -> 0 | J30: =IF(C30=0,VLOOKUP(A30,Horaires,2,FALSE)," ") -> 0 | L30: =IF(A30="dimanche","",IF(A30="samedi","",IF(F30<=0,"",(IF(H30="",F30-C30,H30-C30))+(I30+K30+N30)))) | M30: =IF(D30="","",IF(AND(A30="Dimanche",D30>0),SUM(D30*2.5+(E30+F30+G30)*2),IF(A30="samedi",SUM(D30*2.5,E30*1.25,G30*1.25,F30*1.25),SUM(D30*2.5,E30*1.25,G30*1.25,)))) | N30: =IF(F30="","",IF((F30+I30+K30)>=C30,"0:00",C30-F30)) -> 0:00
A31: =CHOOSE(WEEKDAY(B31),"Dimanche","Lundi","Mardi","Mercredi","Jeudi","Vendredi","Samedi") -> Dimanche | B31: =DATE(An,5,ROW(27:57)) -> 41785 | C31: =IFERROR((VLOOKUP(B31,Fériés:Fériés,2,0)),VLOOKUP(A31,Année!$C$2:$C$8:'Année'!$D$2:$D$8,2,0)) -> 0 | F31: =IF(K31="",C31,0) -> 0 | J31: =IF(C31=0,VLOOKUP(A31,Horaires,2,FALSE)," ") -> 0 | L31: =IF(A31="dimanche","",IF(A31="samedi","",IF(F31<=0,"",(IF(H31="",F31-C31,H31-C31))+(I31+K31+N31)))) | M31: =IF(D31="","",IF(AND(A31="Dimanche",D31>0),SUM(D31*2.5+(E31+F31+G31)*2),IF(A31="samedi",SUM(D31*2.5,E31*1.25,G31*1.25,F31*1.25),SUM(D31*2.5,E31*1.25,G31*1.25,)))) | N31: =IF(F31="","",IF((F31+I31+K31)>=C31,"0:00",C31-F31)) -> 0:00
A32: =CHOOSE(WEEKDAY(B32),"Dimanche","Lundi","Mardi","Mercredi","Jeudi","Vendredi","Samedi") -> Lundi | B32: =DATE(An,5,ROW(28:58)) -> 41786 | C32: =IFERROR((VLOOKUP(B32,Fériés:Fériés,2,0)),VLOOKUP(A32,Année!$C$2:$C$8:'Année'!$D$2:$D$8,2,0)) -> 0.32291667 | F32: =IF(K32="",C32,0) -> 0.32291667 | J32: =IF(C32=0,VLOOKUP(A32,Horaires,2,FALSE)," ") | L32: =IF(A32="dimanche","",IF(A32="samedi","",IF(F32<=0,"",(IF(H32="",F32-C32,H32-C32))+(I32+K32+N32)))) -> 0 | M32: =IF(D32="","",IF(AND(A32="Dimanche",D32>0),SUM(D32*2.5+(E32+F32+G32)*2),IF(A32="samedi",SUM(D32*2.5,E32*1.25,G32*1.25,F32*1.25),SUM(D32*2.5,E32*1.25,G32*1.25,)))) | N32: =IF(F32="","",IF((F32+I32+K32)>=C32,"0:00",C32-F32)) -> 0:00
A33: =CHOOSE(WEEKDAY(B33),"Dimanche","Lundi","Mardi","Mercredi","Jeudi","Vendredi","Samedi") -> Mardi | B33: =DATE(An,5,ROW(29:59)) -> 41787 | C33: =IFERROR((VLOOKUP(B33,Fériés:Fériés,2,0)),VLOOKUP(A33,Année!$C$2:$C$8:'Année'!$D$2:$D$8,2,0)) -> 0.32291667 | F33: =IF(K33="",C33,0) -> 0.32291667 | J33: =IF(C33=0,VLOOKUP(A33,Horaires,2,FALSE)," ") | L33: =IF(A33="dimanche","",IF(A33="samedi","",IF(F33<=0,"",(IF(H33="",F33-C33,H33-C33))+(I33+K33+N33)))) -> 0 | M33: =IF(D33="","",IF(AND(A33="Dimanche",D33>0),SUM(D33*2.5+(E33+F33+G33)*2),IF(A33="samedi",SUM(D33*2.5,E33*1.25,G33*1.25,F33*1.25),SUM(D33*2.5,E33*1.25,G33*1.25,)))) | N33: =IF(F33="","",IF((F33+I33+K33)>=C33,"0:00",C33-F33)) -> 0:00
A34: =CHOOSE(WEEKDAY(B34),"Dimanche","Lundi","Mardi","Mercredi","Jeudi","Vendredi","Samedi") -> Mercredi | B34: =DATE(An,5,ROW(30:60)) -> 41788 | C34: =IFERROR((VLOOKUP(B34,Fériés:Fériés,2,0)),VLOOKUP(A34,Année!$C$2:$C$8:'Année'!$D$2:$D$8,2,0)) -> 0.32291667 | F34: =IF(K34="",C34,0) -> 0.32291667 | J34: =IF(C34=0,VLOOKUP(A34,Horaires,2,FALSE)," ") | L34: =IF(A34="dimanche","",IF(A34="samedi","",IF(F34<=0,"",(IF(H34="",F34-C34,H34-C34))+(I34+K34+N34)))) -> 0 | M34: =IF(D34="","",IF(AND(A34="Dimanche",D34>0),SUM(D34*2.5+(E34+F34+G34)*2),IF(A34="samedi",SUM(D34*2.5,E34*1.25,G34*1.25,F34*1.25),SUM(D34*2.5,E34*1.25,G34*1.25,)))) | N34: =IF(F34="","",IF((F34+I34+K34)>=C34,"0:00",C34-F34)) -> 0:00
A35: =CHOOSE(WEEKDAY(B35),"Dimanche","Lundi","Mardi","Mercredi","Jeudi","Vendredi","Samedi") -> Jeudi | B35: =DATE(An,5,ROW(31:61)) -> 41789 | C35: =IFERROR((VLOOKUP(B35,Fériés:Fériés,2,0)),VLOOKUP(A35,Année!$C$2:$C$8:'Année'!$D$2:$D$8,2,0)) -> 0.32291667 | F35: =IF(K35="",C35,0) -> 0.32291667 | J35: =IF(C35=0,VLOOKUP(A35,Horaires,2,FALSE)," ") | L35: =IF(A35="dimanche","",IF(A35="samedi","",IF(F35<=0,"",(IF(H35="",F35-C35,H35-C35))+(I35+K35+N35)))) -> 0 | M35: =IF(D35="","",IF(AND(A35="Dimanche",D35>0),SUM(D35*2.5+(E35+F35+G35)*2),IF(A35="samedi",SUM(D35*2.5,E35*1.25,G35*1.25,F35*1.25),SUM(D35*2.5,E35*1.25,G35*1.25,)))) | N35: =IF(F35="","",IF((F35+I35+K35)>=C35,"0:00",C35-F35)) -> 0:00
A38: Totaux : | C38: =SUM(C5:C37) -> 5.8333333 | D38: =SUM(D5:D37) -> 0 | E38: =SUM(E5:E37) -> 0 | F38: =SUM(F5:F37) -> 5.34375 | G38: =SUM(G5:G37) -> 0 | H38: =SUM(H5:H37) -> 0 | I38: =SUM(I5:I37) -> 0 | J38: =SUM(J5:J37) -> 0.96875 | ... N38: =SUM(N5:N37) -> 0

Sheet Juin
A1: =DATE(Année!B1,6,1) -> 41790
A3: Dates : | C3: Heures à faire: | D3: Heures faites: | I3: ASA | J3: Jours Fériés | K3: Congés | L3: Heures Supp | M3: Heures Neige | N3: Récup Heures Neige
D4: 22hà3h30à6h (X2,5) | E4: 6hà7h30 (X1,25) | F4: 7h30à16h45 (X1) | G4: 16h45à22h (X1,25) | H4: Heures pointées Bâtiment
A5: =CHOOSE(WEEKDAY(B5),"Dimanche","Lundi","Mardi","Mercredi","Jeudi","Vendredi","Samedi") -> Vendredi | B5: =DATE(An,6,ROW(1:31)) -> 41790 | C5: =IFERROR((VLOOKUP(B5,Fériés:Fériés,2,0)),VLOOKUP(A5,Année!$C$2:$C$8:'Année'!$D$2:$D$8,2,0)) -> 0.16666667 | F5: =IF(K5="",C5,0) -> 0.16666667 | J5: =IF(C5=0,VLOOKUP(A5,Horaires,2,FALSE)," ") | L5: =IF(A5="dimanche","",IF(A5="samedi","",IF(F5<=0,"",(IF(H5="",F5-C5,H5-C5))+(I5+K5+N5)))) -> 0 | M5: =IF(D5="","",IF(AND(A5="Dimanche",D5>0),SUM(D5*2.5+(E5+F5+G5)*2),IF(A5="samedi",SUM(D5*2.5,E5*1.25,G5*1.25,F5*1.25),SUM(D5*2.5,E5*1.25,G5*1.25,)))) | N5: =IF(F5="","",IF((F5+I5+K5)>=C5,"0:00",C5-F5)) -> 0:00
A6: =CHOOSE(WEEKDAY(B6),"Dimanche","Lundi","Mardi","Mercredi","Jeudi","Vendredi","Samedi") -> Samedi | B6: =DATE(An,6,ROW(2:32)) -> 41791 | C6: =IFERROR((VLOOKUP(B6,Fériés:Fériés,2,0)),VLOOKUP(A6,Année!$C$2:$C$8:'Année'!$D$2:$D$8,2,0)) -> 0 | F6: =IF(K6="",C6,0) -> 0 | J6: =IF(C6=0,VLOOKUP(A6,Horaires,2,FALSE)," ") -> 0 | L6: =IF(A6="dimanche","",IF(A6="samedi","",IF(F6<=0,"",(IF(H6="",F6-C6,H6-C6))+(I6+K6+N6)))) | M6: =IF(D6="","",IF(AND(A6="Dimanche",D6>0),SUM(D6*2.5+(E6+F6+G6)*2),IF(A6="samedi",SUM(D6*2.5,E6*1.25,G6*1.25,F6*1.25),SUM(D6*2.5,E6*1.25,G6*1.25,)))) | N6: =IF(F6="","",IF((F6+I6+K6)>=C6,"0:00",C6-F6)) -> 0:00
A7: =CHOOSE(WEEKDAY(B7),"Dimanche","Lundi","Mardi","Mercredi","Jeudi","Vendredi","Samedi") -> Dimanche | B7: =DATE(An,6,ROW(3:33)) -> 41792 | C7: =IFERROR((VLOOKUP(B7,Fériés:Fériés,2,0)),VLOOKUP(A7,Année!$C$2:$C$8:'Année'!$D$2:$D$8,2,0)) -> 0 | F7: =IF(K7="",C7,0) -> 0 | J7: =IF(C7=0,VLOOKUP(A7,Horaires,2,FALSE)," ") -> 0 | L7: =IF(A7="dimanche","",IF(A7="samedi","",IF(F7<=0,"",(IF(H7="",F7-C7,H7-C7))+(I7+K7+N7)))) | M7: =IF(D7="","",IF(AND(A7="Dimanche",D7>0),SUM(D7*2.5+(E7+F7+G7)*2),IF(A7="samedi",SUM(D7*2.5,E7*1.25,G7*1.25,F7*1.25),SUM(D7*2.5,E7*1.25,G7*1.25,)))) | N7: =IF(F7="","",IF((F7+I7+K7)>=C7,"0:00",C7-F7)) -> 0:00
A8: =CHOOSE(WEEKDAY(B8),"Dimanche","Lundi","Mardi","Mercredi","Jeudi","Vendredi","Samedi") -> Lundi | B8: =DATE(An,6,ROW(4:34)) -> 41793 | C8: =IFERROR((VLOOKUP(B8,Fériés:Fériés,2,0)),VLOOKUP(A8,Année!$C$2:$C$8:'Année'!$D$2:$D$8,2,0)) -> 0.32291667 | F8: =IF(K8="",C8,0) -> 0.32291667 | J8: =IF(C8=0,VLOOKUP(A8,Horaires,2,FALSE)," ") | L8: =IF(A8="dimanche","",IF(A8="samedi","",IF(F8<=0,"",(IF(H8="",F8-C8,H8-C8))+(I8+K8+N8)))) -> 0 | M8: =IF(D8="","",IF(AND(A8="Dimanche",D8>0),SUM(D8*2.5+(E8+F8+G8)*2),IF(A8="samedi",SUM(D8*2.5,E8*1.25,G8*1.25,F8*1.25),SUM(D8*2.5,E8*1.25,G8*1.25,)))) | N8: =IF(F8="","",IF((F8+I8+K8)>=C8,"0:00",C8-F8)) -> 0:00
A9: =CHOOSE(WEEKDAY(B9),"Dimanche","Lundi","Mardi","Mercredi","Jeudi","Vendredi","Samedi") -> Mardi | B9: =DATE(An,6,ROW(5:35)) -> 41794 | C9: =IFERROR((VLOOKUP(B9,Fériés:Fériés,2,0)),VLOOKUP(A9,Année!$C$2:$C$8:'Année'!$D$2:$D$8,2,0)) -> 0.32291667 | F9: =IF(K9="",C9,0) -> 0.32291667 | J9: =IF(C9=0,VLOOKUP(A9,Horaires,2,FALSE)," ") | L9: =IF(A9="dimanche","",IF(A9="samedi","",IF(F9<=0,"",(IF(H9="",F9-C9,H9-C9))+(I9+K9+N9)))) -> 0 | M9: =IF(D9="","",IF(AND(A9="Dimanche",D9>0),SUM(D9*2.5+(E9+F9+G9)*2),IF(A9="samedi",SUM(D9*2.5,E9*1.25,G9*1.25,F9*1.25),SUM(D9*2.5,E9*1.25,G9*1.25,)))) | N9: =IF(F9="","",IF((F9+I9+K9)>=C9,"0:00",C9-F9)) -> 0:00
A10: =CHOOSE(WEEKDAY(B10),"Dimanche","Lundi","Mardi","Mercredi","Jeudi","Vendredi","Samedi") -> Mercredi | B10: =DATE(An,6,ROW(6:36)) -> 41795 | C10: =IFERROR((VLOOKUP(B10,Fériés:Fériés,2,0)),VLOOKUP(A10,Année!$C$2:$C$8:'Année'!$D$2:$D$8,2,0)) -> 0.32291667 | F10: =IF(K10="",C10,0) -> 0.32291667 | J10: =IF(C10=0,VLOOKUP(A10,Horaires,2,FALSE)," ") | L10: =IF(A10="dimanche","",IF(A10="samedi","",IF(F10<=0,"",(IF(H10="",F10-C10,H10-C10))+(I10+K10+N10)))) -> 0 | M10: =IF(D10="","",IF(AND(A10="Dimanche",D10>0),SUM(D10*2.5+(E10+F10+G10)*2),IF(A10="samedi",SUM(D10*2.5,E10*1.25,G10*1.25,F10*1.25),SUM(D10*2.5,E10*1.25,G10*1.25,)))) | N10: =IF(F10="","",IF((F10+I10+K10)>=C10,"0:00",C10-F10)) -> 0:00
A11: =CHOOSE(WEEKDAY(B11),"Dimanche","Lundi","Mardi","Mercredi","Jeudi","Vendredi","Samedi") -> Jeudi | B11: =DATE(An,6,ROW(7:37)) -> 41796 | C11: =IFERROR((VLOOKUP(B11,Fériés:Fériés,2,0)),VLOOKUP(A11,Année!$C$2:$C$8:'Année'!$D$2:$D$8,2,0)) -> 0.32291667 | F11: =IF(K11="",C11,0) -> 0.32291667 | J11: =IF(C11=0,VLOOKUP(A11,Horaires,2,FALSE)," ") | L11: =IF(A11="dimanche","",IF(A11="samedi","",IF(F11<=0,"",(IF(H11="",F11-C11,H11-C11))+(I11+K11+N11)))) -> 0 | M11: =IF(D11="","",IF(AND(A11="Dimanche",D11>0),SUM(D11*2.5+(E11+F11+G11)*2),IF(A11="samedi",SUM(D11*2.5,E11*1.25,G11*1.25,F11*1.25),SUM(D11*2.5,E11*1.25,G11*1.25,)))) | N11: =IF(F11="","",IF((F11+I11+K11)>=C11,"0:00",C11-F11)) -> 0:00
A12: =CHOOSE(WEEKDAY(B12),"Dimanche","Lundi","Mardi","Mercredi","Jeudi","Vendredi","Samedi") -> Vendredi | B12: =DATE(An,6,ROW(8:38)) -> 41797 | C12: =IFERROR((VLOOKUP(B12,Fériés:Fériés,2,0)),VLOOKUP(A12,Année!$C$2:$C$8:'Année'!$D$2:$D$8,2,0)) -> 0.16666667 | F12: =IF(K12="",C12,0) -> 0.16666667 | J12: =IF(C12=0,VLOOKUP(A12,Horaires,2,FALSE)," ") | L12: =IF(A12="dimanche","",IF(A12="samedi","",IF(F12<=0,"",(IF(H12="",F12-C12,H12-C12))+(I12+K12+N12)))) -> 0 | M12: =IF(D12="","",IF(AND(A12="Dimanche",D12>0),SUM(D12*2.5+(E12+F12+G12)*2),IF(A12="samedi",SUM(D12*2.5,E12*1.25,G12*1.25,F12*1.25),SUM(D12*2.5,E12*1.25,G12*1.25,)))) | N12: =IF(F12="","",IF((F12+I12+K12)>=C12,"0:00",C12-F12)) -> 0:00
A13: =CHOOSE(WEEKDAY(B13),"Dimanche","Lundi","Mardi","Mercredi","Jeudi","Vendredi","Samedi") -> Samedi | B13: =DATE(An,6,ROW(9:39)) -> 41798 | C13: =IFERROR((VLOOKUP(B13,Fériés:Fériés,2,0)),VLOOKUP(A13,Année!$C$2:$C$8:'Année'!$D$2:$D$8,2,0)) -> 0 | F13: =IF(K13="",C13,0) -> 0 | J13: =IF(C13=0,VLOOKUP(A13,Horaires,2,FALSE)," ") -> 0 | L13: =IF(A13="dimanche","",IF(A13="samedi","",IF(F13<=0,"",(IF(H13="",F13-C13,H13-C13))+(I13+K13+N13)))) | M13: =IF(D13="","",IF(AND(A13="Dimanche",D13>0),SUM(D13*2.5+(E13+F13+G13)*2),IF(A13="samedi",SUM(D13*2.5,E13*1.25,G13*1.25,F13*1.25),SUM(D13*2.5,E13*1.25,G13*1.25,)))) | N13: =IF(F13="","",IF((F13+I13+K13)>=C13,"0:00",C13-F13)) -> 0:00
A14: =CHOOSE(WEEKDAY(B14),"Dimanche","Lundi","Mardi","Mercredi","Jeudi","Vendredi","Samedi") -> Dimanche | B14: =DATE(An,6,ROW(10:40)) -> 41799 | C14: =IFERROR((VLOOKUP(B14,Fériés:Fériés,2,0)),VLOOKUP(A14,Année!$C$2:$C$8:'Année'!$D$2:$D$8,2,0)) -> 0 | F14: =IF(K14="",C14,0) -> 0 | J14: =IF(C14=0,VLOOKUP(A14,Horaires,2,FALSE)," ") -> 0 | L14: =IF(A14="dimanche","",IF(A14="samedi","",IF(F14<=0,"",(IF(H14="",F14-C14,H14-C14))+(I14+K14+N14)))) | M14: =IF(D14="","",IF(AND(A14="Dimanche",D14>0),SUM(D14*2.5+(E14+F14+G14)*2),IF(A14="samedi",SUM(D14*2.5,E14*1.25,G14*1.25,F14*1.25),SUM(D14*2.5,E14*1.25,G14*1.25,)))) | N14: =IF(F14="","",IF((F14+I14+K14)>=C14,"0:00",C14-F14)) -> 0:00
A15: =CHOOSE(WEEKDAY(B15),"Dimanche","Lundi","Mardi","Mercredi","Jeudi","Vendredi","Samedi") -> Lundi | B15: =DATE(An,6,ROW(11:41)) -> 41800 | C15: =IFERROR((VLOOKUP(B15,Fériés:Fériés,2,0)),VLOOKUP(A15,Année!$C$2:$C$8:'Année'!$D$2:$D$8,2,0)) -> 0.32291667 | F15: =IF(K15="",C15,0) -> 0.32291667 | J15: =IF(C15=0,VLOOKUP(A15,Horaires,2,FALSE)," ") | L15: =IF(A15="dimanche","",IF(A15="samedi","",IF(F15<=0,"",(IF(H15="",F15-C15,H15-C15))+(I15+K15+N15)))) -> 0 | M15: =IF(D15="","",IF(AND(A15="Dimanche",D15>0),SUM(D15*2.5+(E15+F15+G15)*2),IF(A15="samedi",SUM(D15*2.5,E15*1.25,G15*1.25,F15*1.25),SUM(D15*2.5,E15*1.25,G15*1.25,)))) | N15: =IF(F15="","",IF((F15+I15+K15)>=C15,"0:00",C15-F15)) -> 0:00
A16: =CHOOSE(WEEKDAY(B16),"Dimanche","Lundi","Mardi","Mercredi","Jeudi","Vendredi","Samedi") -> Mardi | B16: =DATE(An,6,ROW(12:42)) -> 41801 | C16: =IFERROR((VLOOKUP(B16,Fériés:Fériés,2,0)),VLOOKUP(A16,Année!$C$2:$C$8:'Année'!$D$2:$D$8,2,0)) -> 0.32291667 | F16: =IF(K16="",C16,0) -> 0.32291667 | J16: =IF(C16=0,VLOOKUP(A16,Horaires,2,FALSE)," ") | L16: =IF(A16="dimanche","",IF(A16="samedi","",IF(F16<=0,"",(IF(H16="",F16-C16,H16-C16))+(I16+K16+N16)))) -> 0 | M16: =IF(D16="","",IF(AND(A16="Dimanche",D16>0),SUM(D16*2.5+(E16+F16+G16)*2),IF(A16="samedi",SUM(D16*2.5,E16*1.25,G16*1.25,F16*1.25),SUM(D16*2.5,E16*1.25,G16*1.25,)))) | N16: =IF(F16="","",IF((F16+I16+K16)>=C16,"0:00",C16-F16)) -> 0:00
A17: =CHOOSE(WEEKDAY(B17),"Dimanche","Lundi","Mardi","Mercredi","Jeudi","Vendredi","Samedi") -> Mercredi | B17: =DATE(An,6,ROW(13:43)) -> 41802 | C17: =IFERROR((VLOOKUP(B17,Fériés:Fériés,2,0)),VLOOKUP(A17,Année!$C$2:$C$8:'Année'!$D$2:$D$8,2,0)) -> 0.32291667 | F17: =IF(K17="",C17,0) -> 0.32291667 | J17: =IF(C17=0,VLOOKUP(A17,Horaires,2,FALSE)," ") | L17: =IF(A17="dimanche","",IF(A17="samedi","",IF(F17<=0,"",(IF(H17="",F17-C17,H17-C17))+(I17+K17+N17)))) -> 0 | M17: =IF(D17="","",IF(AND(A17="Dimanche",D17>0),SUM(D17*2.5+(E17+F17+G17)*2),IF(A17="samedi",SUM(D17*2.5,E17*1.25,G17*1.25,F17*1.25),SUM(D17*2.5,E17*1.25,G17*1.25,)))) | N17: =IF(F17="","",IF((F17+I17+K17)>=C17,"0:00",C17-F17)) -> 0:00
A18: =CHOOSE(WEEKDAY(B18),"Dimanche","Lundi","Mardi","Mercredi","Jeudi","Vendredi","Samedi") -> Jeudi | B18: =DATE(An,6,ROW(14:44)) -> 41803 | C18: =IFERROR((VLOOKUP(B18,Fériés:Fériés,2,0)),VLOOKUP(A18,Année!$C$2:$C$8:'Année'!$D$2:$D$8,2,0)) -> 0.32291667 | F18: =IF(K18="",C18,0) -> 0.32291667 | J18: =IF(C18=0,VLOOKUP(A18,Horaires,2,FALSE)," ") | L18: =IF(A18="dimanche","",IF(A18="samedi","",IF(F18<=0,"",(IF(H18="",F18-C18,H18-C18))+(I18+K18+N18)))) -> 0 | M18: =IF(D18="","",IF(AND(A18="Dimanche",D18>0),SUM(D18*2.5+(E18+F18+G18)*2),IF(A18="samedi",SUM(D18*2.5,E18*1.25,G18*1.25,F18*1.25),SUM(D18*2.5,E18*1.25,G18*1.25,)))) | N18: =IF(F18="","",IF((F18+I18+K18)>=C18,"0:00",C18-F18)) -> 0:00
A19: =CHOOSE(WEEKDAY(B19),"Dimanche","Lundi","Mardi","Mercredi","Jeudi","Vendredi","Samedi") -> Vendredi | B19: =DATE(An,6,ROW(15:45)) -> 41804 | C19: =IFERROR((VLOOKUP(B19,Fériés:Fériés,2,0)),VLOOKUP(A19,Année!$C$2:$C$8:'Année'!$D$2:$D$8,2,0)) -> 0.16666667 | F19: =IF(K19="",C19,0) -> 0.16666667 | J19: =IF(C19=0,VLOOKUP(A19,Horaires,2,FALSE)," ") | L19: =IF(A19="dimanche","",IF(A19="samedi","",IF(F19<=0,"",(IF(H19="",F19-C19,H19-C19))+(I19+K19+N19)))) -> 0 | M19: =IF(D19="","",IF(AND(A19="Dimanche",D19>0),SUM(D19*2.5+(E19+F19+G19)*2),IF(A19="samedi",SUM(D19*2.5,E19*1.25,G19*1.25,F19*1.25),SUM(D19*2.5,E19*1.25,G19*1.25,)))) | N19: =IF(F19="","",IF((F19+I19+K19)>=C19,"0:00",C19-F19)) -> 0:00
A20: =CHOOSE(WEEKDAY(B20),"Dimanche","Lundi","Mardi","Mercredi","Jeudi","Vendredi","Samedi") -> Samedi | B20: =DATE(An,6,ROW(16:46)) -> 41805 | C20: =IFERROR((VLOOKUP(B20,Fériés:Fériés,2,0)),VLOOKUP(A20,Année!$C$2:$C$8:'Année'!$D$2:$D$8,2,0)) -> 0 | F20: =IF(K20="",C20,0) -> 0 | J20: =IF(C20=0,VLOOKUP(A20,Horaires,2,FALSE)," ") -> 0 | L20: =IF(A20="dimanche","",IF(A20="samedi","",IF(F20<=0,"",(IF(H20="",F20-C20,H20-C20))+(I20+K20+N20)))) | M20: =IF(D20="","",IF(AND(A20="Dimanche",D20>0),SUM(D20*2.5+(E20+F20+G20)*2),IF(A20="samedi",SUM(D20*2.5,E20*1.25,G20*1.25,F20*1.25),SUM(D20*2.5,E20*1.25,G20*1.25,)))) | N20: =IF(F20="","",IF((F20+I20+K20)>=C20,"0:00",C20-F20)) -> 0:00
A21: =CHOOSE(WEEKDAY(B21),"Dimanche","Lundi","Mardi","Mercredi","Jeudi","Vendredi","Samedi") -> Dimanche | B21: =DATE(An,6,ROW(17:47)) -> 41806 | C21: =IFERROR((VLOOKUP(B21,Fériés:Fériés,2,0)),VLOOKUP(A21,Année!$C$2:$C$8:'Année'!$D$2:$D$8,2,0)) -> 0 | F21: =IF(K21="",C21,0) -> 0 | J21: =IF(C21=0,VLOOKUP(A21,Horaires,2,FALSE)," ") -> 0 | L21: =IF(A21="dimanche","",IF(A21="samedi","",IF(F21<=0,"",(IF(H21="",F21-C21,H21-C21))+(I21+K21+N21)))) | M21: =IF(D21="","",IF(AND(A21="Dimanche",D21>0),SUM(D21*2.5+(E21+F21+G21)*2),IF(A21="samedi",SUM(D21*2.5,E21*1.25,G21*1.25,F21*1.25),SUM(D21*2.5,E21*1.25,G21*1.25,)))) | N21: =IF(F21="","",IF((F21+I21+K21)>=C21,"0:00",C21-F21)) -> 0:00
A22: =CHOOSE(WEEKDAY(B22),"Dimanche","Lundi","Mardi","Mercredi","Jeudi","Vendredi","Samedi") -> Lundi | B22: =DATE(An,6,ROW(18:48)) -> 41807 | C22: =IFERROR((VLOOKUP(B22,Fériés:Fériés,2,0)),VLOOKUP(A22,Année!$C$2:$C$8:'Année'!$D$2:$D$8,2,0)) -> 0.32291667 | F22: =IF(K22="",C22,0) -> 0.32291667 | J22: =IF(C22=0,VLOOKUP(A22,Horaires,2,FALSE)," ") | L22: =IF(A22="dimanche","",IF(A22="samedi","",IF(F22<=0,"",(IF(H22="",F22-C22,H22-C22))+(I22+K22+N22)))) -> 0 | M22: =IF(D22="","",IF(AND(A22="Dimanche",D22>0),SUM(D22*2.5+(E22+F22+G22)*2),IF(A22="samedi",SUM(D22*2.5,E22*1.25,G22*1.25,F22*1.25),SUM(D22*2.5,E22*1.25,G22*1.25,)))) | N22: =IF(F22="","",IF((F22+I22+K22)>=C22,"0:00",C22-F22)) -> 0:00
A23: =CHOOSE(WEEKDAY(B23),"Dimanche","Lundi","Mardi","Mercredi","Jeudi","Vendredi","Samedi") -> Mardi | B23: =DATE(An,6,ROW(19:49)) -> 41808 | C23: =IFERROR((VLOOKUP(B23,Fériés:Fériés,2,0)),VLOOKUP(A23,Année!$C$2:$C$8:'Année'!$D$2:$D$8,2,0)) -> 0.32291667 | F23: =IF(K23="",C23,0) -> 0.32291667 | J23: =IF(C23=0,VLOOKUP(A23,Horaires,2,FALSE)," ") | L23: =IF(A23="dimanche","",IF(A23="samedi","",IF(F23<=0,"",(IF(H23="",F23-C23,H23-C23))+(I23+K23+N23)))) -> 0 | M23: =IF(D23="","",IF(AND(A23="Dimanche",D23>0),SUM(D23*2.5+(E23+F23+G23)*2),IF(A23="samedi",SUM(D23*2.5,E23*1.25,G23*1.25,F23*1.25),SUM(D23*2.5,E23*1.25,G23*1.25,)))) | N23: =IF(F23="","",IF((F23+I23+K23)>=C23,"0:00",C23-F23)) -> 0:00
A24: =CHOOSE(WEEKDAY(B24),"Dimanche","Lundi","Mardi","Mercredi","Jeudi","Vendredi","Samedi") -> Mercredi | B24: =DATE(An,6,ROW(20:50)) -> 41809 | C24: =IFERROR((VLOOKUP(B24,Fériés:Fériés,2,0)),VLOOKUP(A24,Année!$C$2:$C$8:'Année'!$D$2:$D$8,2,0)) -> 0.32291667 | F24: =IF(K24="",C24,0) -> 0.32291667 | J24: =IF(C24=0,VLOOKUP(A24,Horaires,2,FALSE)," ") | L24: =IF(A24="dimanche","",IF(A24="samedi","",IF(F24<=0,"",(IF(H24="",F24-C24,H24-C24))+(I24+K24+N24)))) -> 0 | M24: =IF(D24="","",IF(AND(A24="Dimanche",D24>0),SUM(D24*2.5+(E24+F24+G24)*2),IF(A24="samedi",SUM(D24*2.5,E24*1.25,G24*1.25,F24*1.25),SUM(D24*2.5,E24*1.25,G24*1.25,)))) | N24: =IF(F24="","",IF((F24+I24+K24)>=C24,"0:00",C24-F24)) -> 0:00
A25: =CHOOSE(WEEKDAY(B25),"Dimanche","Lundi","Mardi","Mercredi","Jeudi","Vendredi","Samedi") -> Jeudi | B25: =DATE(An,6,ROW(21:51)) -> 41810 | C25: =IFERROR((VLOOKUP(B25,Fériés:Fériés,2,0)),VLOOKUP(A25,Année!$C$2:$C$8:'Année'!$D$2:$D$8,2,0)) -> 0.32291667 | F25: =IF(K25="",C25,0) -> 0.32291667 | J25: =IF(C25=0,VLOOKUP(A25,Horaires,2,FALSE)," ") | L25: =IF(A25="dimanche","",IF(A25="samedi","",IF(F25<=0,"",(IF(H25="",F25-C25,H25-C25))+(I25+K25+N25)))) -> 0 | M25: =IF(D25="","",IF(AND(A25="Dimanche",D25>0),SUM(D25*2.5+(E25+F25+G25)*2),IF(A25="samedi",SUM(D25*2.5,E25*1.25,G25*1.25,F25*1.25),SUM(D25*2.5,E25*1.25,G25*1.25,)))) | N25: =IF(F25="","",IF((F25+I25+K25)>=C25,"0:00",C25-F25)) -> 0:00
A26: =CHOOSE(WEEKDAY(B26),"Dimanche","Lundi","Mardi","Mercredi","Jeudi","Vendredi","Samedi") -> Vendredi | B26: =DATE(An,6,ROW(22:52)) -> 41811 | C26: =IFERROR((VLOOKUP(B26,Fériés:Fériés,2,0)),VLOOKUP(A26,Année!$C$2:$C$8:'Année'!$D$2:$D$8,2,0)) -> 0.16666667 | F26: =IF(K26="",C26,0) -> 0.16666667 | J26: =IF(C26=0,VLOOKUP(A26,Horaires,2,FALSE)," ") | L26: =IF(A26="dimanche","",IF(A26="samedi","",IF(F26<=0,"",(IF(H26="",F26-C26,H26-C26))+(I26+K26+N26)))) -> 0 | M26: =IF(D26="","",IF(AND(A26="Dimanche",D26>0),SUM(D26*2.5+(E26+F26+G26)*2),IF(A26="samedi",SUM(D26*2.5,E26*1.25,G26*1.25,F26*1.25),SUM(D26*2.5,E26*1.25,G26*1.25,)))) | N26: =IF(F26="","",IF((F26+I26+K26)>=C26,"0:00",C26-F26)) -> 0:00
A27: =CHOOSE(WEEKDAY(B27),"Dimanche","Lundi","Mardi","Mercredi","Jeudi","Vendredi","Samedi") -> Samedi | B27: =DATE(An,6,ROW(23:53)) -> 41812 | C27: =IFERROR((VLOOKUP(B27,Fériés:Fériés,2,0)),VLOOKUP(A27,Année!$C$2:$C$8:'Année'!$D$2:$D$8,2,0)) -> 0 | F27: =IF(K27="",C27,0) -> 0 | J27: =IF(C27=0,VLOOKUP(A27,Horaires,2,FALSE)," ") -> 0 | L27: =IF(A27="dimanche","",IF(A27="samedi","",IF(F27<=0,"",(IF(H27="",F27-C27,H27-C27))+(I27+K27+N27)))) | M27: =IF(D27="","",IF(AND(A27="Dimanche",D27>0),SUM(D27*2.5+(E27+F27+G27)*2),IF(A27="samedi",SUM(D27*2.5,E27*1.25,G27*1.25,F27*1.25),SUM(D27*2.5,E27*1.25,G27*1.25,)))) | N27: =IF(F27="","",IF((F27+I27+K27)>=C27,"0:00",C27-F27)) -> 0:00
A28: =CHOOSE(WEEKDAY(B28),"Dimanche","Lundi","Mardi","Mercredi","Jeudi","Vendredi","Samedi") -> Dimanche | B28: =DATE(An,6,ROW(24:54)) -> 41813 | C28: =IFERROR((VLOOKUP(B28,Fériés:Fériés,2,0)),VLOOKUP(A28,Année!$C$2:$C$8:'Année'!$D$2:$D$8,2,0)) -> 0 | F28: =IF(K28="",C28,0) -> 0 | J28: =IF(C28=0,VLOOKUP(A28,Horaires,2,FALSE)," ") -> 0 | L28: =IF(A28="dimanche","",IF(A28="samedi","",IF(F28<=0,"",(IF(H28="",F28-C28,H28-C28))+(I28+K28+N28)))) | M28: =IF(D28="","",IF(AND(A28="Dimanche",D28>0),SUM(D28*2.5+(E28+F28+G28)*2),IF(A28="samedi",SUM(D28*2.5,E28*1.25,G28*1.25,F28*1.25),SUM(D28*2.5,E28*1.25,G28*1.25,)))) | N28: =IF(F28="","",IF((F28+I28+K28)>=C28,"0:00",C28-F28)) -> 0:00
A29: =CHOOSE(WEEKDAY(B29),"Dimanche","Lundi","Mardi","Mercredi","Jeudi","Vendredi","Samedi") -> Lundi | B29: =DATE(An,6,ROW(25:55)) -> 41814 | C29: =IFERROR((VLOOKUP(B29,Fériés:Fériés,2,0)),VLOOKUP(A29,Année!$C$2:$C$8:'Année'!$D$2:$D$8,2,0)) -> 0.32291667 | F29: =IF(K29="",C29,0) -> 0.32291667 | J29: =IF(C29=0,VLOOKUP(A29,Horaires,2,FALSE)," ") | L29: =IF(A29="dimanche","",IF(A29="samedi","",IF(F29<=0,"",(IF(H29="",F29-C29,H29-C29))+(I29+K29+N29)))) -> 0 | M29: =IF(D29="","",IF(AND(A29="Dimanche",D29>0),SUM(D29*2.5+(E29+F29+G29)*2),IF(A29="samedi",SUM(D29*2.5,E29*1.25,G29*1.25,F29*1.25),SUM(D29*2.5,E29*1.25,G29*1.25,)))) | N29: =IF(F29="","",IF((F29+I29+K29)>=C29,"0:00",C29-F29)) -> 0:00
A30: =CHOOSE(WEEKDAY(B30),"Dimanche","Lundi","Mardi","Mercredi","Jeudi","Vendredi","Samedi") -> Mardi | B30: =DATE(An,6,ROW(26:56)) -> 41815 | C30: =IFERROR((VLOOKUP(B30,Fériés:Fériés,2,0)),VLOOKUP(A30,Année!$C$2:$C$8:'Année'!$D$2:$D$8,2,0)) -> 0.32291667 | F30: =IF(K30="",C30,0) -> 0.32291667 | J30: =IF(C30=0,VLOOKUP(A30,Horaires,2,FALSE)," ") | L30: =IF(A30="dimanche","",IF(A30="samedi","",IF(F30<=0,"",(IF(H30="",F30-C30,H30-C30))+(I30+K30+N30)))) -> 0 | M30: =IF(D30="","",IF(AND(A30="Dimanche",D30>0),SUM(D30*2.5+(E30+F30+G30)*2),IF(A30="samedi",SUM(D30*2.5,E30*1.25,G30*1.25,F30*1.25),SUM(D30*2.5,E30*1.25,G30*1.25,)))) | N30: =IF(F30="","",IF((F30+I30+K30)>=C30,"0:00",C30-F30)) -> 0:00
A31: =CHOOSE(WEEKDAY(B31),"Dimanche","Lundi","Mardi","Mercredi","Jeudi","Vendredi","Samedi") -> Mercredi | B31: =DATE(An,6,ROW(27:57)) -> 41816 | C31: =IFERROR((VLOOKUP(B31,Fériés:Fériés,2,0)),VLOOKUP(A31,Année!$C$2:$C$8:'Année'!$D$2:$D$8,2,0)) -> 0.32291667 | F31: =IF(K31="",C31,0) -> 0.32291667 | J31: =IF(C31=0,VLOOKUP(A31,Horaires,2,FALSE)," ") | L31: =IF(A31="dimanche","",IF(A31="samedi","",IF(F31<=0,"",(IF(H31="",F31-C31,H31-C31))+(I31+K31+N31)))) -> 0 | M31: =IF(D31="","",IF(AND(A31="Dimanche",D31>0),SUM(D31*2.5+(E31+F31+G31)*2),IF(A31="samedi",SUM(D31*2.5,E31*1.25,G31*1.25,F31*1.25),SUM(D31*2.5,E31*1.25,G31*1.25,)))) | N31: =IF(F31="","",IF((F31+I31+K31)>=C31,"0:00",C31-F31)) -> 0:00
A32: =CHOOSE(WEEKDAY(B32),"Dimanche","Lundi","Mardi","Mercredi","Jeudi","Vendredi","Samedi") -> Jeudi | B32: =DATE(An,6,ROW(28:58)) -> 41817 | C32: =IFERROR((VLOOKUP(B32,Fériés:Fériés,2,0)),VLOOKUP(A32,Année!$C$2:$C$8:'Année'!$D$2:$D$8,2,0)) -> 0.32291667 | F32: =IF(K32="",C32,0) -> 0.32291667 | J32: =IF(C32=0,VLOOKUP(A32,Horaires,2,FALSE)," ") | L32: =IF(A32="dimanche","",IF(A32="samedi","",IF(F32<=0,"",(IF(H32="",F32-C32,H32-C32))+(I32+K32+N32)))) -> 0 | M32: =IF(D32="","",IF(AND(A32="Dimanche",D32>0),SUM(D32*2.5+(E32+F32+G32)*2),IF(A32="samedi",SUM(D32*2.5,E32*1.25,G32*1.25,F32*1.25),SUM(D32*2.5,E32*1.25,G32*1.25,)))) | N32: =IF(F32="","",IF((F32+I32+K32)>=C32,"0:00",C32-F32)) -> 0:00
A33: =CHOOSE(WEEKDAY(B33),"Dimanche","Lundi","Mardi","Mercredi","Jeudi","Vendredi","Samedi") -> Vendredi | B33: =DATE(An,6,ROW(29:59)) -> 41818 | C33: =IFERROR((VLOOKUP(B33,Fériés:Fériés,2,0)),VLOOKUP(A33,Année!$C$2:$C$8:'Année'!$D$2:$D$8,2,0)) -> 0.16666667 | F33: =IF(K33="",C33,0) -> 0.16666667 | J33: =IF(C33=0,VLOOKUP(A33,Horaires,2,FALSE)," ") | L33: =IF(A33="dimanche","",IF(A33="samedi","",IF(F33<=0,"",(IF(H33="",F33-C33,H33-C33))+(I33+K33+N33)))) -> 0 | M33: =IF(D33="","",IF(AND(A33="Dimanche",D33>0),SUM(D33*2.5+(E33+F33+G33)*2),IF(A33="samedi",SUM(D33*2.5,E33*1.25,G33*1.25,F33*1.25),SUM(D33*2.5,E33*1.25,G33*1.25,)))) | N33: =IF(F33="","",IF((F33+I33+K33)>=C33,"0:00",C33-F33)) -> 0:00
A34: =CHOOSE(WEEKDAY(B34),"Dimanche","Lundi","Mardi","Mercredi","Jeudi","Vendredi","Samedi") -> Samedi | B34: =DATE(An,6,ROW(30:60)) -> 41819 | C34: =IFERROR((VLOOKUP(B34,Fériés:Fériés,2,0)),VLOOKUP(A34,Année!$C$2:$C$8:'Année'!$D$2:$D$8,2,0)) -> 0 | F34: =IF(K34="",C34,0) -> 0 | J34: =IF(C34=0,VLOOKUP(A34,Horaires,2,FALSE)," ") -> 0 | L34: =IF(A34="dimanche","",IF(A34="samedi","",IF(F34<=0,"",(IF(H34="",F34-C34,H34-C34))+(I34+K34+N34)))) | M34: =IF(D34="","",IF(AND(A34="Dimanche",D34>0),SUM(D34*2.5+(E34+F34+G34)*2),IF(A34="samedi",SUM(D34*2.5,E34*1.25,G34*1.25,F34*1.25),SUM(D34*2.5,E34*1.25,G34*1.25,)))) | N34: =IF(F34="","",IF((F34+I34+K34)>=C34,"0:00",C34-F34)) -> 0:00
L35: =IF(A35="dimanche","",IF(A35="samedi","",IF(F35<=0,"",(IF(H35="",F35-C35,H35-C35))+(I35+K35+N35)))) | M35: =IF(D35="","",IF(AND(A35="Dimanche",D35>0),SUM(D35:G35)*2,IF(A35="samedi",SUM(D35*2.5,E35*1.25,G35*1.25,F35),SUM(D35*2.5,E35*1.25,G35*1.25,)))) | N35: =IF(F35="","",IF((F35+I35+K35)>=C35,"0:00",C35-F35))
A38: Totaux : | C38: =SUM(C5:C37) -> 6 | D38: =SUM(D5:D37) -> 0 | E38: =SUM(E5:E37) -> 0 | F38: =SUM(F5:F37) -> 6 | G38: =SUM(G5:G37) -> 0 | H38: =SUM(H5:H37) -> 0 | I38: =SUM(I5:I37) -> 0 | J38: =SUM(J5:J37) -> 0 | ... N38: =SUM(N5:N37) -> 0

Sheet Juillet
A1: =DATE(Année!B1,7,1) -> 41820
A3: Dates : | C3: Heures à faire: | D3: Heures faites: | I3: ASA | J3: Jours Fériés | K3: Congés | L3: Heures Supp | M3: Heures Neige | N3: Récup Heures Neige
D4: 22hà3h30à6h (X2,5) | E4: 6hà7h30 (X1,25) | F4: 7h30à16h45 (X1) | G4: 16h45à22h (X1,25) | H4: Heures pointées Bâtiment
A5: =CHOOSE(WEEKDAY(B5),"Dimanche","Lundi","Mardi","Mercredi","Jeudi","Vendredi","Samedi") -> Dimanche | B5: =DATE(An,7,ROW(1:31)) -> 41820 | C5: =IFERROR((VLOOKUP(B5,Fériés:Fériés,2,0)),VLOOKUP(A5,Année!$C$2:$C$8:'Année'!$D$2:$D$8,2,0)) -> 0 | F5: =IF(K5="",C5,0) -> 0 | J5: =IF(C5=0,VLOOKUP(A5,Horaires,2,FALSE)," ") -> 0 | L5: =IF(A5="dimanche","",IF(A5="samedi","",IF(F5<=0,"",(IF(H5="",F5-C5,H5-C5))+(I5+K5+N5)))) | M5: =IF(D5="","",IF(AND(A5="Dimanche",D5>0),SUM(D5*2.5+(E5+F5+G5)*2),IF(A5="samedi",SUM(D5*2.5,E5*1.25,G5*1.25,F5*1.25),SUM(D5*2.5,E5*1.25,G5*1.25,)))) | N5: =IF(F5="","",IF((F5+I5+K5)>=C5,"0:00",C5-F5)) -> 0:00
A6: =CHOOSE(WEEKDAY(B6),"Dimanche","Lundi","Mardi","Mercredi","Jeudi","Vendredi","Samedi") -> Lundi | B6: =DATE(An,7,ROW(2:32)) -> 41821 | C6: =IFERROR((VLOOKUP(B6,Fériés:Fériés,2,0)),VLOOKUP(A6,Année!$C$2:$C$8:'Année'!$D$2:$D$8,2,0)) -> 0.32291667 | F6: =IF(K6="",C6,0) -> 0.32291667 | J6: =IF(C6=0,VLOOKUP(A6,Horaires,2,FALSE)," ") | L6: =IF(A6="dimanche","",IF(A6="samedi","",IF(F6<=0,"",(IF(H6="",F6-C6,H6-C6))+(I6+K6+N6)))) -> 0 | M6: =IF(D6="","",IF(AND(A6="Dimanche",D6>0),SUM(D6*2.5+(E6+F6+G6)*2),IF(A6="samedi",SUM(D6*2.5,E6*1.25,G6*1.25,F6*1.25),SUM(D6*2.5,E6*1.25,G6*1.25,)))) | N6: =IF(F6="","",IF((F6+I6+K6)>=C6,"0:00",C6-F6)) -> 0:00
A7: =CHOOSE(WEEKDAY(B7),"Dimanche","Lundi","Mardi","Mercredi","Jeudi","Vendredi","Samedi") -> Mardi | B7: =DATE(An,7,ROW(3:33)) -> 41822 | C7: =IFERROR((VLOOKUP(B7,Fériés:Fériés,2,0)),VLOOKUP(A7,Année!$C$2:$C$8:'Année'!$D$2:$D$8,2,0)) -> 0.32291667 | F7: =IF(K7="",C7,0) -> 0.32291667 | J7: =IF(C7=0,VLOOKUP(A7,Horaires,2,FALSE)," ") | L7: =IF(A7="dimanche","",IF(A7="samedi","",IF(F7<=0,"",(IF(H7="",F7-C7,H7-C7))+(I7+K7+N7)))) -> 0 | M7: =IF(D7="","",IF(AND(A7="Dimanche",D7>0),SUM(D7*2.5+(E7+F7+G7)*2),IF(A7="samedi",SUM(D7*2.5,E7*1.25,G7*1.25,F7*1.25),SUM(D7*2.5,E7*1.25,G7*1.25,)))) | N7: =IF(F7="","",IF((F7+I7+K7)>=C7,"0:00",C7-F7)) -> 0:00
A8: =CHOOSE(WEEKDAY(B8),"Dimanche","Lundi","Mardi","Mercredi","Jeudi","Vendredi","Samedi") -> Mercredi | B8: =DATE(An,7,ROW(4:34)) -> 41823 | C8: =IFERROR((VLOOKUP(B8,Fériés:Fériés,2,0)),VLOOKUP(A8,Année!$C$2:$C$8:'Année'!$D$2:$D$8,2,0)) -> 0.32291667 | F8: =IF(K8="",C8,0) -> 0.32291667 | J8: =IF(C8=0,VLOOKUP(A8,Horaires,2,FALSE)," ") | L8: =IF(A8="dimanche","",IF(A8="samedi","",IF(F8<=0,"",(IF(H8="",F8-C8,H8-C8))+(I8+K8+N8)))) -> 0 | M8: =IF(D8="","",IF(AND(A8="Dimanche",D8>0),SUM(D8*2.5+(E8+F8+G8)*2),IF(A8="samedi",SUM(D8*2.5,E8*1.25,G8*1.25,F8*1.25),SUM(D8*2.5,E8*1.25,G8*1.25,)))) | N8: =IF(F8="","",IF((F8+I8+K8)>=C8,"0:00",C8-F8)) -> 0:00
A9: =CHOOSE(WEEKDAY(B9),"Dimanche","Lundi","Mardi","Mercredi","Jeudi","Vendredi","Samedi") -> Jeudi | B9: =DATE(An,7,ROW(5:35)) -> 41824 | C9: =IFERROR((VLOOKUP(B9,Fériés:Fériés,2,0)),VLOOKUP(A9,Année!$C$2:$C$8:'Année'!$D$2:$D$8,2,0)) -> 0.32291667 | F9: =IF(K9="",C9,0) -> 0.32291667 | J9: =IF(C9=0,VLOOKUP(A9,Horaires,2,FALSE)," ") | L9: =IF(A9="dimanche","",IF(A9="samedi","",IF(F9<=0,"",(IF(H9="",F9-C9,H9-C9))+(I9+K9+N9)))) -> 0 | M9: =IF(D9="","",IF(AND(A9="Dimanche",D9>0),SUM(D9*2.5+(E9+F9+G9)*2),IF(A9="samedi",SUM(D9*2.5,E9*1.25,G9*1.25,F9*1.25),SUM(D9*2.5,E9*1.25,G9*1.25,)))) | N9: =IF(F9="","",IF((F9+I9+K9)>=C9,"0:00",C9-F9)) -> 0:00
A10: =CHOOSE(WEEKDAY(B10),"Dimanche","Lundi","Mardi","Mercredi","Jeudi","Vendredi","Samedi") -> Vendredi | B10: =DATE(An,7,ROW(6:36)) -> 41825 | C10: =IFERROR((VLOOKUP(B10,Fériés:Fériés,2,0)),VLOOKUP(A10,Année!$C$2:$C$8:'Année'!$D$2:$D$8,2,0)) -> 0.16666667 | F10: =IF(K10="",C10,0) -> 0.16666667 | J10: =IF(C10=0,VLOOKUP(A10,Horaires,2,FALSE)," ") | L10: =IF(A10="dimanche","",IF(A10="samedi","",IF(F10<=0,"",(IF(H10="",F10-C10,H10-C10))+(I10+K10+N10)))) -> 0 | M10: =IF(D10="","",IF(AND(A10="Dimanche",D10>0),SUM(D10*2.5+(E10+F10+G10)*2),IF(A10="samedi",SUM(D10*2.5,E10*1.25,G10*1.25,F10*1.25),SUM(D10*2.5,E10*1.25,G10*1.25,)))) | N10: =IF(F10="","",IF((F10+I10+K10)>=C10,"0:00",C10-F10)) -> 0:00
A11: =CHOOSE(WEEKDAY(B11),"Dimanche","Lundi","Mardi","Mercredi","Jeudi","Vendredi","Samedi") -> Samedi | B11: =DATE(An,7,ROW(7:37)) -> 41826 | C11: =IFERROR((VLOOKUP(B11,Fériés:Fériés,2,0)),VLOOKUP(A11,Année!$C$2:$C$8:'Année'!$D$2:$D$8,2,0)) -> 0 | F11: =IF(K11="",C11,0) -> 0 | J11: =IF(C11=0,VLOOKUP(A11,Horaires,2,FALSE)," ") -> 0 | L11: =IF(A11="dimanche","",IF(A11="samedi","",IF(F11<=0,"",(IF(H11="",F11-C11,H11-C11))+(I11+K11+N11)))) | M11: =IF(D11="","",IF(AND(A11="Dimanche",D11>0),SUM(D11*2.5+(E11+F11+G11)*2),IF(A11="samedi",SUM(D11*2.5,E11*1.25,G11*1.25,F11*1.25),SUM(D11*2.5,E11*1.25,G11*1.25,)))) | N11: =IF(F11="","",IF((F11+I11+K11)>=C11,"0:00",C11-F11)) -> 0:00
A12: =CHOOSE(WEEKDAY(B12),"Dimanche","Lundi","Mardi","Mercredi","Jeudi","Vendredi","Samedi") -> Dimanche | B12: =DATE(An,7,ROW(8:38)) -> 41827 | C12: =IFERROR((VLOOKUP(B12,Fériés:Fériés,2,0)),VLOOKUP(A12,Année!$C$2:$C$8:'Année'!$D$2:$D$8,2,0)) -> 0 | F12: =IF(K12="",C12,0) -> 0 | J12: =IF(C12=0,VLOOKUP(A12,Horaires,2,FALSE)," ") -> 0 | L12: =IF(A12="dimanche","",IF(A12="samedi","",IF(F12<=0,"",(IF(H12="",F12-C12,H12-C12))+(I12+K12+N12)))) | M12: =IF(D12="","",IF(AND(A12="Dimanche",D12>0),SUM(D12*2.5+(E12+F12+G12)*2),IF(A12="samedi",SUM(D12*2.5,E12*1.25,G12*1.25,F12*1.25),SUM(D12*2.5,E12*1.25,G12*1.25,)))) | N12: =IF(F12="","",IF((F12+I12+K12)>=C12,"0:00",C12-F12)) -> 0:00
A13: =CHOOSE(WEEKDAY(B13),"Dimanche","Lundi","Mardi","Mercredi","Jeudi","Vendredi","Samedi") -> Lundi | B13: =DATE(An,7,ROW(9:39)) -> 41828 | C13: =IFERROR((VLOOKUP(B13,Fériés:Fériés,2,0)),VLOOKUP(A13,Année!$C$2:$C$8:'Année'!$D$2:$D$8,2,0)) -> 0.32291667 | F13: =IF(K13="",C13,0) -> 0.32291667 | J13: =IF(C13=0,VLOOKUP(A13,Horaires,2,FALSE)," ") | L13: =IF(A13="dimanche","",IF(A13="samedi","",IF(F13<=0,"",(IF(H13="",F13-C13,H13-C13))+(I13+K13+N13)))) -> 0 | M13: =IF(D13="","",IF(AND(A13="Dimanche",D13>0),SUM(D13*2.5+(E13+F13+G13)*2),IF(A13="samedi",SUM(D13*2.5,E13*1.25,G13*1.25,F13*1.25),SUM(D13*2.5,E13*1.25,G13*1.25,)))) | N13: =IF(F13="","",IF((F13+I13+K13)>=C13,"0:00",C13-F13)) -> 0:00
A14: =CHOOSE(WEEKDAY(B14),"Dimanche","Lundi","Mardi","Mercredi","Jeudi","Vendredi","Samedi") -> Mardi | B14: =DATE(An,7,ROW(10:40)) -> 41829 | C14: =IFERROR((VLOOKUP(B14,Fériés:Fériés,2,0)),VLOOKUP(A14,Année!$C$2:$C$8:'Année'!$D$2:$D$8,2,0)) -> 0.32291667 | F14: =IF(K14="",C14,0) -> 0.32291667 | J14: =IF(C14=0,VLOOKUP(A14,Horaires,2,FALSE)," ") | L14: =IF(A14="dimanche","",IF(A14="samedi","",IF(F14<=0,"",(IF(H14="",F14-C14,H14-C14))+(I14+K14+N14)))) -> 0 | M14: =IF(D14="","",IF(AND(A14="Dimanche",D14>0),SUM(D14*2.5+(E14+F14+G14)*2),IF(A14="samedi",SUM(D14*2.5,E14*1.25,G14*1.25,F14*1.25),SUM(D14*2.5,E14*1.25,G14*1.25,)))) | N14: =IF(F14="","",IF((F14+I14+K14)>=C14,"0:00",C14-F14)) -> 0:00
A15: =CHOOSE(WEEKDAY(B15),"Dimanche","Lundi","Mardi","Mercredi","Jeudi","Vendredi","Samedi") -> Mercredi | B15: =DATE(An,7,ROW(11:41)) -> 41830 | C15: =IFERROR((VLOOKUP(B15,Fériés:Fériés,2,0)),VLOOKUP(A15,Année!$C$2:$C$8:'Année'!$D$2:$D$8,2,0)) -> 0.32291667 | F15: =IF(K15="",C15,0) -> 0.32291667 | J15: =IF(C15=0,VLOOKUP(A15,Horaires,2,FALSE)," ") | L15: =IF(A15="dimanche","",IF(A15="samedi","",IF(F15<=0,"",(IF(H15="",F15-C15,H15-C15))+(I15+K15+N15)))) -> 0 | M15: =IF(D15="","",IF(AND(A15="Dimanche",D15>0),SUM(D15*2.5+(E15+F15+G15)*2),IF(A15="samedi",SUM(D15*2.5,E15*1.25,G15*1.25,F15*1.25),SUM(D15*2.5,E15*1.25,G15*1.25,)))) | N15: =IF(F15="","",IF((F15+I15+K15)>=C15,"0:00",C15-F15)) -> 0:00
A16: =CHOOSE(WEEKDAY(B16),"Dimanche","Lundi","Mardi","Mercredi","Jeudi","Vendredi","Samedi") -> Jeudi | B16: =DATE(An,7,ROW(12:42)) -> 41831 | C16: =IFERROR((VLOOKUP(B16,Fériés:Fériés,2,0)),VLOOKUP(A16,Année!$C$2:$C$8:'Année'!$D$2:$D$8,2,0)) -> 0.32291667 | F16: =IF(K16="",C16,0) -> 0.32291667 | J16: =IF(C16=0,VLOOKUP(A16,Horaires,2,FALSE)," ") | L16: =IF(A16="dimanche","",IF(A16="samedi","",IF(F16<=0,"",(IF(H16="",F16-C16,H16-C16))+(I16+K16+N16)))) -> 0 | M16: =IF(D16="","",IF(AND(A16="Dimanche",D16>0),SUM(D16*2.5+(E16+F16+G16)*2),IF(A16="samedi",SUM(D16*2.5,E16*1.25,G16*1.25,F16*1.25),SUM(D16*2.5,E16*1.25,G16*1.25,)))) | N16: =IF(F16="","",IF((F16+I16+K16)>=C16,"0:00",C16-F16)) -> 0:00
A17: =CHOOSE(WEEKDAY(B17),"Dimanche","Lundi","Mardi","Mercredi","Jeudi","Vendredi","Samedi") -> Vendredi | B17: =DATE(An,7,ROW(13:43)) -> 41832 | C17: =IFERROR((VLOOKUP(B17,Fériés:Fériés,2,0)),VLOOKUP(A17,Année!$C$2:$C$8:'Année'!$D$2:$D$8,2,0)) -> 0.16666667 | F17: =IF(K17="",C17,0) -> 0.16666667 | J17: =IF(C17=0,VLOOKUP(A17,Horaires,2,FALSE)," ") | L17: =IF(A17="dimanche","",IF(A17="samedi","",IF(F17<=0,"",(IF(H17="",F17-C17,H17-C17))+(I17+K17+N17)))) -> 0 | M17: =IF(D17="","",IF(AND(A17="Dimanche",D17>0),SUM(D17*2.5+(E17+F17+G17)*2),IF(A17="samedi",SUM(D17*2.5,E17*1.25,G17*1.25,F17*1.25),SUM(D17*2.5,E17*1.25,G17*1.25,)))) | N17: =IF(F17="","",IF((F17+I17+K17)>=C17,"0:00",C17-F17)) -> 0:00
A18: =CHOOSE(WEEKDAY(B18),"Dimanche","Lundi","Mardi","Mercredi","Jeudi","Vendredi","Samedi") -> Samedi | B18: =DATE(An,7,ROW(14:44)) -> 41833 | C18: =IFERROR((VLOOKUP(B18,Fériés:Fériés,2,0)),VLOOKUP(A18,Année!$C$2:$C$8:'Année'!$D$2:$D$8,2,0)) -> 0 | F18: =IF(K18="",C18,0) -> 0 | J18: =IF(C18=0,VLOOKUP(A18,Horaires,2,FALSE)," ") -> 0 | L18: =IF(A18="dimanche","",IF(A18="samedi","",IF(F18<=0,"",(IF(H18="",F18-C18,H18-C18))+(I18+K18+N18)))) | M18: =IF(D18="","",IF(AND(A18="Dimanche",D18>0),SUM(D18*2.5+(E18+F18+G18)*2),IF(A18="samedi",SUM(D18*2.5,E18*1.25,G18*1.25,F18*1.25),SUM(D18*2.5,E18*1.25,G18*1.25,)))) | N18: =IF(F18="","",IF((F18+I18+K18)>=C18,"0:00",C18-F18)) -> 0:00
A19: =CHOOSE(WEEKDAY(B19),"Dimanche","Lundi","Mardi","Mercredi","Jeudi","Vendredi","Samedi") -> Dimanche | B19: =DATE(An,7,ROW(15:45)) -> 41834 | C19: =IFERROR((VLOOKUP(B19,Fériés:Fériés,2,0)),VLOOKUP(A19,Année!$C$2:$C$8:'Année'!$D$2:$D$8,2,0)) -> 0 | F19: =IF(K19="",C19,0) -> 0 | J19: =IF(C19=0,VLOOKUP(A19,Horaires,2,FALSE)," ") -> 0 | L19: =IF(A19="dimanche","",IF(A19="samedi","",IF(F19<=0,"",(IF(H19="",F19-C19,H19-C19))+(I19+K19+N19)))) | M19: =IF(D19="","",IF(AND(A19="Dimanche",D19>0),SUM(D19*2.5+(E19+F19+G19)*2),IF(A19="samedi",SUM(D19*2.5,E19*1.25,G19*1.25,F19*1.25),SUM(D19*2.5,E19*1.25,G19*1.25,)))) | N19: =IF(F19="","",IF((F19+I19+K19)>=C19,"0:00",C19-F19)) -> 0:00
A20: =CHOOSE(WEEKDAY(B20),"Dimanche","Lundi","Mardi","Mercredi","Jeudi","Vendredi","Samedi") -> Lundi | B20: =DATE(An,7,ROW(16:46)) -> 41835 | C20: =IFERROR((VLOOKUP(B20,Fériés:Fériés,2,0)),VLOOKUP(A20,Année!$C$2:$C$8:'Année'!$D$2:$D$8,2,0)) -> 0.32291667 | F20: =IF(K20="",C20,0) -> 0.32291667 | J20: =IF(C20=0,VLOOKUP(A20,Horaires,2,FALSE)," ") | L20: =IF(A20="dimanche","",IF(A20="samedi","",IF(F20<=0,"",(IF(H20="",F20-C20,H20-C20))+(I20+K20+N20)))) -> 0 | M20: =IF(D20="","",IF(AND(A20="Dimanche",D20>0),SUM(D20*2.5+(E20+F20+G20)*2),IF(A20="samedi",SUM(D20*2.5,E20*1.25,G20*1.25,F20*1.25),SUM(D20*2.5,E20*1.25,G20*1.25,)))) | N20: =IF(F20="","",IF((F20+I20+K20)>=C20,"0:00",C20-F20)) -> 0:00
A21: =CHOOSE(WEEKDAY(B21),"Dimanche","Lundi","Mardi","Mercredi","Jeudi","Vendredi","Samedi") -> Mardi | B21: =DATE(An,7,ROW(17:47)) -> 41836 | C21: =IFERROR((VLOOKUP(B21,Fériés:Fériés,2,0)),VLOOKUP(A21,Année!$C$2:$C$8:'Année'!$D$2:$D$8,2,0)) -> 0.32291667 | F21: =IF(K21="",C21,0) -> 0.32291667 | J21: =IF(C21=0,VLOOKUP(A21,Horaires,2,FALSE)," ") | L21: =IF(A21="dimanche","",IF(A21="samedi","",IF(F21<=0,"",(IF(H21="",F21-C21,H21-C21))+(I21+K21+N21)))) -> 0 | M21: =IF(D21="","",IF(AND(A21="Dimanche",D21>0),SUM(D21*2.5+(E21+F21+G21)*2),IF(A21="samedi",SUM(D21*2.5,E21*1.25,G21*1.25,F21*1.25),SUM(D21*2.5,E21*1.25,G21*1.25,)))) | N21: =IF(F21="","",IF((F21+I21+K21)>=C21,"0:00",C21-F21)) -> 0:00
A22: =CHOOSE(WEEKDAY(B22),"Dimanche","Lundi","Mardi","Mercredi","Jeudi","Vendredi","Samedi") -> Mercredi | B22: =DATE(An,7,ROW(18:48)) -> 41837 | C22: =IFERROR((VLOOKUP(B22,Fériés:Fériés,2,0)),VLOOKUP(A22,Année!$C$2:$C$8:'Année'!$D$2:$D$8,2,0)) -> 0.32291667 | F22: =IF(K22="",C22,0) -> 0.32291667 | J22: =IF(C22=0,VLOOKUP(A22,Horaires,2,FALSE)," ") | L22: =IF(A22="dimanche","",IF(A22="samedi","",IF(F22<=0,"",(IF(H22="",F22-C22,H22-C22))+(I22+K22+N22)))) -> 0 | M22: =IF(D22="","",IF(AND(A22="Dimanche",D22>0),SUM(D22*2.5+(E22+F22+G22)*2),IF(A22="samedi",SUM(D22*2.5,E22*1.25,G22*1.25,F22*1.25),SUM(D22*2.5,E22*1.25,G22*1.25,)))) | N22: =IF(F22="","",IF((F22+I22+K22)>=C22,"0:00",C22-F22)) -> 0:00
A23: =CHOOSE(WEEKDAY(B23),"Dimanche","Lundi","Mardi","Mercredi","Jeudi","Vendredi","Samedi") -> Jeudi | B23: =DATE(An,7,ROW(19:49)) -> 41838 | C23: =IFERROR((VLOOKUP(B23,Fériés:Fériés,2,0)),VLOOKUP(A23,Année!$C$2:$C$8:'Année'!$D$2:$D$8,2,0)) -> 0.32291667 | F23: =IF(K23="",C23,0) -> 0.32291667 | J23: =IF(C23=0,VLOOKUP(A23,Horaires,2,FALSE)," ") | L23: =IF(A23="dimanche","",IF(A23="samedi","",IF(F23<=0,"",(IF(H23="",F23-C23,H23-C23))+(I23+K23+N23)))) -> 0 | M23: =IF(D23="","",IF(AND(A23="Dimanche",D23>0),SUM(D23*2.5+(E23+F23+G23)*2),IF(A23="samedi",SUM(D23*2.5,E23*1.25,G23*1.25,F23*1.25),SUM(D23*2.5,E23*1.25,G23*1.25,)))) | N23: =IF(F23="","",IF((F23+I23+K23)>=C23,"0:00",C23-F23)) -> 0:00
A24: =CHOOSE(WEEKDAY(B24),"Dimanche","Lundi","Mardi","Mercredi","Jeudi","Vendredi","Samedi") -> Vendredi | B24: =DATE(An,7,ROW(20:50)) -> 41839 | C24: =IFERROR((VLOOKUP(B24,Fériés:Fériés,2,0)),VLOOKUP(A24,Année!$C$2:$C$8:'Année'!$D$2:$D$8,2,0)) -> 0.16666667 | F24: =IF(K24="",C24,0) -> 0.16666667 | J24: =IF(C24=0,VLOOKUP(A24,Horaires,2,FALSE)," ") | L24: =IF(A24="dimanche","",IF(A24="samedi","",IF(F24<=0,"",(IF(H24="",F24-C24,H24-C24))+(I24+K24+N24)))) -> 0 | M24: =IF(D24="","",IF(AND(A24="Dimanche",D24>0),SUM(D24*2.5+(E24+F24+G24)*2),IF(A24="samedi",SUM(D24*2.5,E24*1.25,G24*1.25,F24*1.25),SUM(D24*2.5,E24*1.25,G24*1.25,)))) | N24: =IF(F24="","",IF((F24+I24+K24)>=C24,"0:00",C24-F24)) -> 0:00
A25: =CHOOSE(WEEKDAY(B25),"Dimanche","Lundi","Mardi","Mercredi","Jeudi","Vendredi","Samedi") -> Samedi | B25: =DATE(An,7,ROW(21:51)) -> 41840 | C25: =IFERROR((VLOOKUP(B25,Fériés:Fériés,2,0)),VLOOKUP(A25,Année!$C$2:$C$8:'Année'!$D$2:$D$8,2,0)) -> 0 | F25: =IF(K25="",C25,0) -> 0 | J25: =IF(C25=0,VLOOKUP(A25,Horaires,2,FALSE)," ") -> 0 | L25: =IF(A25="dimanche","",IF(A25="samedi","",IF(F25<=0,"",(IF(H25="",F25-C25,H25-C25))+(I25+K25+N25)))) | M25: =IF(D25="","",IF(AND(A25="Dimanche",D25>0),SUM(D25*2.5+(E25+F25+G25)*2),IF(A25="samedi",SUM(D25*2.5,E25*1.25,G25*1.25,F25*1.25),SUM(D25*2.5,E25*1.25,G25*1.25,)))) | N25: =IF(F25="","",IF((F25+I25+K25)>=C25,"0:00",C25-F25)) -> 0:00
A26: =CHOOSE(WEEKDAY(B26),"Dimanche","Lundi","Mardi","Mercredi","Jeudi","Vendredi","Samedi") -> Dimanche | B26: =DATE(An,7,ROW(22:52)) -> 41841 | C26: =IFERROR((VLOOKUP(B26,Fériés:Fériés,2,0)),VLOOKUP(A26,Année!$C$2:$C$8:'Année'!$D$2:$D$8,2,0)) -> 0 | F26: =IF(K26="",C26,0) -> 0 | J26: =IF(C26=0,VLOOKUP(A26,Horaires,2,FALSE)," ") -> 0 | L26: =IF(A26="dimanche","",IF(A26="samedi","",IF(F26<=0,"",(IF(H26="",F26-C26,H26-C26))+(I26+K26+N26)))) | M26: =IF(D26="","",IF(AND(A26="Dimanche",D26>0),SUM(D26*2.5+(E26+F26+G26)*2),IF(A26="samedi",SUM(D26*2.5,E26*1.25,G26*1.25,F26*1.25),SUM(D26*2.5,E26*1.25,G26*1.25,)))) | N26: =IF(F26="","",IF((F26+I26+K26)>=C26,"0:00",C26-F26)) -> 0:00
A27: =CHOOSE(WEEKDAY(B27),"Dimanche","Lundi","Mardi","Mercredi","Jeudi","Vendredi","Samedi") -> Lundi | B27: =DATE(An,7,ROW(23:53)) -> 41842 | C27: =IFERROR((VLOOKUP(B27,Fériés:Fériés,2,0)),VLOOKUP(A27,Année!$C$2:$C$8:'Année'!$D$2:$D$8,2,0)) -> 0.32291667 | F27: =IF(K27="",C27,0) -> 0.32291667 | J27: =IF(C27=0,VLOOKUP(A27,Horaires,2,FALSE)," ") | L27: =IF(A27="dimanche","",IF(A27="samedi","",IF(F27<=0,"",(IF(H27="",F27-C27,H27-C27))+(I27+K27+N27)))) -> 0 | M27: =IF(D27="","",IF(AND(A27="Dimanche",D27>0),SUM(D27*2.5+(E27+F27+G27)*2),IF(A27="samedi",SUM(D27*2.5,E27*1.25,G27*1.25,F27*1.25),SUM(D27*2.5,E27*1.25,G27*1.25,)))) | N27: =IF(F27="","",IF((F27+I27+K27)>=C27,"0:00",C27-F27)) -> 0:00
A28: =CHOOSE(WEEKDAY(B28),"Dimanche","Lundi","Mardi","Mercredi","Jeudi","Vendredi","Samedi") -> Mardi | B28: =DATE(An,7,ROW(24:54)) -> 41843 | C28: =IFERROR((VLOOKUP(B28,Fériés:Fériés,2,0)),VLOOKUP(A28,Année!$C$2:$C$8:'Année'!$D$2:$D$8,2,0)) -> 0.32291667 | F28: =IF(K28="",C28,0) -> 0.32291667 | J28: =IF(C28=0,VLOOKUP(A28,Horaires,2,FALSE)," ") | L28: =IF(A28="dimanche","",IF(A28="samedi","",IF(F28<=0,"",(IF(H28="",F28-C28,H28-C28))+(I28+K28+N28)))) -> 0 | M28: =IF(D28="","",IF(AND(A28="Dimanche",D28>0),SUM(D28*2.5+(E28+F28+G28)*2),IF(A28="samedi",SUM(D28*2.5,E28*1.25,G28*1.25,F28*1.25),SUM(D28*2.5,E28*1.25,G28*1.25,)))) | N28: =IF(F28="","",IF((F28+I28+K28)>=C28,"0:00",C28-F28)) -> 0:00
A29: =CHOOSE(WEEKDAY(B29),"Dimanche","Lundi","Mardi","Mercredi","Jeudi","Vendredi","Samedi") -> Mercredi | B29: =DATE(An,7,ROW(25:55)) -> 41844 | C29: =IFERROR((VLOOKUP(B29,Fériés:Fériés,2,0)),VLOOKUP(A29,Année!$C$2:$C$8:'Année'!$D$2:$D$8,2,0)) -> 0.32291667 | F29: =IF(K29="",C29,0) -> 0.32291667 | J29: =IF(C29=0,VLOOKUP(A29,Horaires,2,FALSE)," ") | L29: =IF(A29="dimanche","",IF(A29="samedi","",IF(F29<=0,"",(IF(H29="",F29-C29,H29-C29))+(I29+K29+N29)))) -> 0 | M29: =IF(D29="","",IF(AND(A29="Dimanche",D29>0),SUM(D29*2.5+(E29+F29+G29)*2),IF(A29="samedi",SUM(D29*2.5,E29*1.25,G29*1.25,F29*1.25),SUM(D29*2.5,E29*1.25,G29*1.25,)))) | N29: =IF(F29="","",IF((F29+I29+K29)>=C29,"0:00",C29-F29)) -> 0:00
A30: =CHOOSE(WEEKDAY(B30),"Dimanche","Lundi","Mardi","Mercredi","Jeudi","Vendredi","Samedi") -> Jeudi | B30: =DATE(An,7,ROW(26:56)) -> 41845 | C30: =IFERROR((VLOOKUP(B30,Fériés:Fériés,2,0)),VLOOKUP(A30,Année!$C$2:$C$8:'Année'!$D$2:$D$8,2,0)) -> 0.32291667 | F30: =IF(K30="",C30,0) -> 0.32291667 | J30: =IF(C30=0,VLOOKUP(A30,Horaires,2,FALSE)," ") | L30: =IF(A30="dimanche","",IF(A30="samedi","",IF(F30<=0,"",(IF(H30="",F30-C30,H30-C30))+(I30+K30+N30)))) -> 0 | M30: =IF(D30="","",IF(AND(A30="Dimanche",D30>0),SUM(D30*2.5+(E30+F30+G30)*2),IF(A30="samedi",SUM(D30*2.5,E30*1.25,G30*1.25,F30*1.25),SUM(D30*2.5,E30*1.25,G30*1.25,)))) | N30: =IF(F30="","",IF((F30+I30+K30)>=C30,"0:00",C30-F30)) -> 0:00
A31: =CHOOSE(WEEKDAY(B31),"Dimanche","Lundi","Mardi","Mercredi","Jeudi","Vendredi","Samedi") -> Vendredi | B31: =DATE(An,7,ROW(27:57)) -> 41846 | C31: =IFERROR((VLOOKUP(B31,Fériés:Fériés,2,0)),VLOOKUP(A31,Année!$C$2:$C$8:'Année'!$D$2:$D$8,2,0)) -> 0.16666667 | F31: =IF(K31="",C31,0) -> 0.16666667 | J31: =IF(C31=0,VLOOKUP(A31,Horaires,2,FALSE)," ") | L31: =IF(A31="dimanche","",IF(A31="samedi","",IF(F31<=0,"",(IF(H31="",F31-C31,H31-C31))+(I31+K31+N31)))) -> 0 | M31: =IF(D31="","",IF(AND(A31="Dimanche",D31>0),SUM(D31*2.5+(E31+F31+G31)*2),IF(A31="samedi",SUM(D31*2.5,E31*1.25,G31*1.25,F31*1.25),SUM(D31*2.5,E31*1.25,G31*1.25,)))) | N31: =IF(F31="","",IF((F31+I31+K31)>=C31,"0:00",C31-F31)) -> 0:00
A32: =CHOOSE(WEEKDAY(B32),"Dimanche","Lundi","Mardi","Mercredi","Jeudi","Vendredi","Samedi") -> Samedi | B32: =DATE(An,7,ROW(28:58)) -> 41847 | C32: =IFERROR((VLOOKUP(B32,Fériés:Fériés,2,0)),VLOOKUP(A32,Année!$C$2:$C$8:'Année'!$D$2:$D$8,2,0)) -> 0 | F32: =IF(K32="",C32,0) -> 0 | J32: =IF(C32=0,VLOOKUP(A32,Horaires,2,FALSE)," ") -> 0 | L32: =IF(A32="dimanche","",IF(A32="samedi","",IF(F32<=0,"",(IF(H32="",F32-C32,H32-C32))+(I32+K32+N32)))) | M32: =IF(D32="","",IF(AND(A32="Dimanche",D32>0),SUM(D32*2.5+(E32+F32+G32)*2),IF(A32="samedi",SUM(D32*2.5,E32*1.25,G32*1.25,F32*1.25),SUM(D32*2.5,E32*1.25,G32*1.25,)))) | N32: =IF(F32="","",IF((F32+I32+K32)>=C32,"0:00",C32-F32)) -> 0:00
A33: =CHOOSE(WEEKDAY(B33),"Dimanche","Lundi","Mardi","Mercredi","Jeudi","Vendredi","Samedi") -> Dimanche | B33: =DATE(An,7,ROW(29:59)) -> 41848 | C33: =IFERROR((VLOOKUP(B33,Fériés:Fériés,2,0)),VLOOKUP(A33,Année!$C$2:$C$8:'Année'!$D$2:$D$8,2,0)) -> 0 | F33: =IF(K33="",C33,0) -> 0 | J33: =IF(C33=0,VLOOKUP(A33,Horaires,2,FALSE)," ") -> 0 | L33: =IF(A33="dimanche","",IF(A33="samedi","",IF(F33<=0,"",(IF(H33="",F33-C33,H33-C33))+(I33+K33+N33)))) | M33: =IF(D33="","",IF(AND(A33="Dimanche",D33>0),SUM(D33*2.5+(E33+F33+G33)*2),IF(A33="samedi",SUM(D33*2.5,E33*1.25,G33*1.25,F33*1.25),SUM(D33*2.5,E33*1.25,G33*1.25,)))) | N33: =IF(F33="","",IF((F33+I33+K33)>=C33,"0:00",C33-F33)) -> 0:00
A34: =CHOOSE(WEEKDAY(B34),"Dimanche","Lundi","Mardi","Mercredi","Jeudi","Vendredi","Samedi") -> Lundi | B34: =DATE(An,7,ROW(30:60)) -> 41849 | C34: =IFERROR((VLOOKUP(B34,Fériés:Fériés,2,0)),VLOOKUP(A34,Année!$C$2:$C$8:'Année'!$D$2:$D$8,2,0)) -> 0.32291667 | F34: =IF(K34="",C34,0) -> 0 | J34: =IF(C34=0,VLOOKUP(A34,Horaires,2,FALSE)," ") | K34: 0.32291667 | L34: =IF(A34="dimanche","",IF(A34="samedi","",IF(F34<=0,"",(IF(H34="",F34-C34,H34-C34))+(I34+K34+N34)))) | M34: =IF(D34="","",IF(AND(A34="Dimanche",D34>0),SUM(D34*2.5+(E34+F34+G34)*2),IF(A34="samedi",SUM(D34*2.5,E34*1.25,G34*1.25,F34*1.25),SUM(D34*2.5,E34*1.25,G34*1.25,)))) | N34: =IF(F34="","",IF((F34+I34+K34)>=C34,"0:00",C34-F34)) -> 0:00
A35: =CHOOSE(WEEKDAY(B35),"Dimanche","Lundi","Mardi","Mercredi","Jeudi","Vendredi","Samedi") -> Mardi | B35: =DATE(An,7,ROW(31:61)) -> 41850 | C35: =IFERROR((VLOOKUP(B35,Fériés:Fériés,2,0)),VLOOKUP(A35,Année!$C$2:$C$8:'Année'!$D$2:$D$8,2,0)) -> 0.32291667 | F35: =IF(K35="",C35,0) -> 0 | J35: =IF(C35=0,VLOOKUP(A35,Horaires,2,FALSE)," ") | K35: 0.32291667 | L35: =IF(A35="dimanche","",IF(A35="samedi","",IF(F35<=0,"",(IF(H35="",F35-C35,H35-C35))+(I35+K35+N35)))) | M35: =IF(D35="","",IF(AND(A35="Dimanche",D35>0),SUM(D35*2.5+(E35+F35+G35)*2),IF(A35="samedi",SUM(D35*2.5,E35*1.25,G35*1.25,F35*1.25),SUM(D35*2.5,E35*1.25,G35*1.25,)))) | N35: =IF(F35="","",IF((F35+I35+K35)>=C35,"0:00",C35-F35)) -> 0:00
A38: Totaux : | C38: =SUM(C5:C37) -> 6.4791667 | D38: =SUM(D5:D37) -> 0 | E38: =SUM(E5:E37) -> 0 | F38: =SUM(F5:F37) -> 5.8333333 | G38: =SUM(G5:G37) -> 0 | H38: =SUM(H5:H37) -> 0 | I38: =SUM(I5:I37) -> 0 | J38: =SUM(J5:J37) -> 0 | ... N38: =SUM(N5:N37) -> 0

Sheet Août
A1: =DATE(Année!B1,8,1) -> 41851
A3: Dates : | C3: Heures à faire: | D3: Heures faites: | I3: ASA | J3: Jours Fériés | K3: Congés | L3: Heures Supp | M3: Heures Neige | N3: Récup Heures Neige
D4: 22hà3h30à6h (X2,5) | E4: 6hà7h30 (X1,25) | F4: 7h30à16h45 (X1) | G4: 16h45à22h (X1,25) | H4: Heures pointées Bâtiment
A5: =CHOOSE(WEEKDAY(B5),"Dimanche","Lundi","Mardi","Mercredi","Jeudi","Vendredi","Samedi") -> Mercredi | B5: =DATE(An,8,ROW(1:31)) -> 41851 | C5: =IFERROR((VLOOKUP(B5,Fériés:Fériés,2,0)),VLOOKUP(A5,Année!$C$2:$C$8:'Année'!$D$2:$D$8,2,0)) -> 0.32291667 | F5: =IF(K5="",C5,0) -> 0 | J5: =IF(C5=0,VLOOKUP(A5,Horaires,2,FALSE)," ") | K5: 0.32291667 | L5: =IF(A5="dimanche","",IF(A5="samedi","",IF(F5<=0,"",(IF(H5="",F5-C5,H5-C5))+(I5+K5+N5)))) | M5: =IF(D5="","",IF(AND(A5="Dimanche",D5>0),SUM(D5*2.5+(E5+F5+G5)*2),IF(A5="samedi",SUM(D5*2.5,E5*1.25,G5*1.25,F5*1.25),SUM(D5*2.5,E5*1.25,G5*1.25,)))) | N5: =IF(F5="","",IF((F5+I5+K5)>=C5,"0:00",C5-F5)) -> 0:00
A6: =CHOOSE(WEEKDAY(B6),"Dimanche","Lundi","Mardi","Mercredi","Jeudi","Vendredi","Samedi") -> Jeudi | B6: =DATE(An,8,ROW(2:32)) -> 41852 | C6: =IFERROR((VLOOKUP(B6,Fériés:Fériés,2,0)),VLOOKUP(A6,Année!$C$2:$C$8:'Année'!$D$2:$D$8,2,0)) -> 0.32291667 | F6: =IF(K6="",C6,0) -> 0 | J6: =IF(C6=0,VLOOKUP(A6,Horaires,2,FALSE)," ") | K6: 0.32291667 | L6: =IF(A6="dimanche","",IF(A6="samedi","",IF(F6<=0,"",(IF(H6="",F6-C6,H6-C6))+(I6+K6+N6)))) | M6: =IF(D6="","",IF(AND(A6="Dimanche",D6>0),SUM(D6*2.5+(E6+F6+G6)*2),IF(A6="samedi",SUM(D6*2.5,E6*1.25,G6*1.25,F6*1.25),SUM(D6*2.5,E6*1.25,G6*1.25,)))) | N6: =IF(F6="","",IF((F6+I6+K6)>=C6,"0:00",C6-F6)) -> 0:00
A7: =CHOOSE(WEEKDAY(B7),"Dimanche","Lundi","Mardi","Mercredi","Jeudi","Vendredi","Samedi") -> Vendredi | B7: =DATE(An,8,ROW(3:33)) -> 41853 | C7: =IFERROR((VLOOKUP(B7,Fériés:Fériés,2,0)),VLOOKUP(A7,Année!$C$2:$C$8:'Année'!$D$2:$D$8,2,0)) -> 0.16666667 | F7: =IF(K7="",C7,0) -> 0 | J7: =IF(C7=0,VLOOKUP(A7,Horaires,2,FALSE)," ") | K7: 0.16666667 | L7: =IF(A7="dimanche","",IF(A7="samedi","",IF(F7<=0,"",(IF(H7="",F7-C7,H7-C7))+(I7+K7+N7)))) | M7: =IF(D7="","",IF(AND(A7="Dimanche",D7>0),SUM(D7*2.5+(E7+F7+G7)*2),IF(A7="samedi",SUM(D7*2.5,E7*1.25,G7*1.25,F7*1.25),SUM(D7*2.5,E7*1.25,G7*1.25,)))) | N7: =IF(F7="","",IF((F7+I7+K7)>=C7,"0:00",C7-F7)) -> 0:00
A8: =CHOOSE(WEEKDAY(B8),"Dimanche","Lundi","Mardi","Mercredi","Jeudi","Vendredi","Samedi") -> Samedi | B8: =DATE(An,8,ROW(4:34)) -> 41854 | C8: =IFERROR((VLOOKUP(B8,Fériés:Fériés,2,0)),VLOOKUP(A8,Année!$C$2:$C$8:'Année'!$D$2:$D$8,2,0)) -> 0 | F8: =IF(K8="",C8,0) -> 0 | J8: =IF(C8=0,VLOOKUP(A8,Horaires,2,FALSE)," ") -> 0 | L8: =IF(A8="dimanche","",IF(A8="samedi","",IF(F8<=0,"",(IF(H8="",F8-C8,H8-C8))+(I8+K8+N8)))) | M8: =IF(D8="","",IF(AND(A8="Dimanche",D8>0),SUM(D8*2.5+(E8+F8+G8)*2),IF(A8="samedi",SUM(D8*2.5,E8*1.25,G8*1.25,F8*1.25),SUM(D8*2.5,E8*1.25,G8*1.25,)))) | N8: =IF(F8="","",IF((F8+I8+K8)>=C8,"0:00",C8-F8)) -> 0:00
A9: =CHOOSE(WEEKDAY(B9),"Dimanche","Lundi","Mardi","Mercredi","Jeudi","Vendredi","Samedi") -> Dimanche | B9: =DATE(An,8,ROW(5:35)) -> 41855 | C9: =IFERROR((VLOOKUP(B9,Fériés:Fériés,2,0)),VLOOKUP(A9,Année!$C$2:$C$8:'Année'!$D$2:$D$8,2,0)) -> 0 | F9: =IF(K9="",C9,0) -> 0 | J9: =IF(C9=0,VLOOKUP(A9,Horaires,2,FALSE)," ") -> 0 | L9: =IF(A9="dimanche","",IF(A9="samedi","",IF(F9<=0,"",(IF(H9="",F9-C9,H9-C9))+(I9+K9+N9)))) | M9: =IF(D9="","",IF(AND(A9="Dimanche",D9>0),SUM(D9*2.5+(E9+F9+G9)*2),IF(A9="samedi",SUM(D9*2.5,E9*1.25,G9*1.25,F9*1.25),SUM(D9*2.5,E9*1.25,G9*1.25,)))) | N9: =IF(F9="","",IF((F9+I9+K9)>=C9,"0:00",C9-F9)) -> 0:00
A10: =CHOOSE(WEEKDAY(B10),"Dimanche","Lundi","Mardi","Mercredi","Jeudi","Vendredi","Samedi") -> Lundi | B10: =DATE(An,8,ROW(6:36)) -> 41856 | C10: =IFERROR((VLOOKUP(B10,Fériés:Fériés,2,0)),VLOOKUP(A10,Année!$C$2:$C$8:'Année'!$D$2:$D$8,2,0)) -> 0.32291667 | F10: =IF(K10="",C10,0) -> 0 | J10: =IF(C10=0,VLOOKUP(A10,Horaires,2,FALSE)," ") | K10: 0.32291667 | L10: =IF(A10="dimanche","",IF(A10="samedi","",IF(F10<=0,"",(IF(H10="",F10-C10,H10-C10))+(I10+K10+N10)))) | M10: =IF(D10="","",IF(AND(A10="Dimanche",D10>0),SUM(D10*2.5+(E10+F10+G10)*2),IF(A10="samedi",SUM(D10*2.5,E10*1.25,G10*1.25,F10*1.25),SUM(D10*2.5,E10*1.25,G10*1.25,)))) | N10: =IF(F10="","",IF((F10+I10+K10)>=C10,"0:00",C10-F10)) -> 0:00
A11: =CHOOSE(WEEKDAY(B11),"Dimanche","Lundi","Mardi","Mercredi","Jeudi","Vendredi","Samedi") -> Mardi | B11: =DATE(An,8,ROW(7:37)) -> 41857 | C11: =IFERROR((VLOOKUP(B11,Fériés:Fériés,2,0)),VLOOKUP(A11,Année!$C$2:$C$8:'Année'!$D$2:$D$8,2,0)) -> 0.32291667 | F11: =IF(K11="",C11,0) -> 0 | J11: =IF(C11=0,VLOOKUP(A11,Horaires,2,FALSE)," ") | K11: 0.32291667 | L11: =IF(A11="dimanche","",IF(A11="samedi","",IF(F11<=0,"",(IF(H11="",F11-C11,H11-C11))+(I11+K11+N11)))) | M11: =IF(D11="","",IF(AND(A11="Dimanche",D11>0),SUM(D11*2.5+(E11+F11+G11)*2),IF(A11="samedi",SUM(D11*2.5,E11*1.25,G11*1.25,F11*1.25),SUM(D11*2.5,E11*1.25,G11*1.25,)))) | N11: =IF(F11="","",IF((F11+I11+K11)>=C11,"0:00",C11-F11)) -> 0:00
A12: =CHOOSE(WEEKDAY(B12),"Dimanche","Lundi","Mardi","Mercredi","Jeudi","Vendredi","Samedi") -> Mercredi | B12: =DATE(An,8,ROW(8:38)) -> 41858 | C12: =IFERROR((VLOOKUP(B12,Fériés:Fériés,2,0)),VLOOKUP(A12,Année!$C$2:$C$8:'Année'!$D$2:$D$8,2,0)) -> 0.32291667 | F12: =IF(K12="",C12,0) -> 0 | J12: =IF(C12=0,VLOOKUP(A12,Horaires,2,FALSE)," ") | K12: 0.32291667 | L12: =IF(A12="dimanche","",IF(A12="samedi","",IF(F12<=0,"",(IF(H12="",F12-C12,H12-C12))+(I12+K12+N12)))) | M12: =IF(D12="","",IF(AND(A12="Dimanche",D12>0),SUM(D12*2.5+(E12+F12+G12)*2),IF(A12="samedi",SUM(D12*2.5,E12*1.25,G12*1.25,F12*1.25),SUM(D12*2.5,E12*1.25,G12*1.25,)))) | N12: =IF(F12="","",IF((F12+I12+K12)>=C12,"0:00",C12-F12)) -> 0:00
A13: =CHOOSE(WEEKDAY(B13),"Dimanche","Lundi","Mardi","Mercredi","Jeudi","Vendredi","Samedi") -> Jeudi | B13: =DATE(An,8,ROW(9:39)) -> 41859 | C13: =IFERROR((VLOOKUP(B13,Fériés:Fériés,2,0)),VLOOKUP(A13,Année!$C$2:$C$8:'Année'!$D$2:$D$8,2,0)) -> 0.32291667 | F13: =IF(K13="",C13,0) -> 0 | J13: =IF(C13=0,VLOOKUP(A13,Horaires,2,FALSE)," ") | K13: 0.32291667 | L13: =IF(A13="dimanche","",IF(A13="samedi","",IF(F13<=0,"",(IF(H13="",F13-C13,H13-C13))+(I13+K13+N13)))) | M13: =IF(D13="","",IF(AND(A13="Dimanche",D13>0),SUM(D13*2.5+(E13+F13+G13)*2),IF(A13="samedi",SUM(D13*2.5,E13*1.25,G13*1.25,F13*1.25),SUM(D13*2.5,E13*1.25,G13*1.25,)))) | N13: =IF(F13="","",IF((F13+I13+K13)>=C13,"0:00",C13-F13)) -> 0:00
A14: =CHOOSE(WEEKDAY(B14),"Dimanche","Lundi","Mardi","Mercredi","Jeudi","Vendredi","Samedi") -> Vendredi | B14: =DATE(An,8,ROW(10:40)) -> 41860 | C14: =IFERROR((VLOOKUP(B14,Fériés:Fériés,2,0)),VLOOKUP(A14,Année!$C$2:$C$8:'Année'!$D$2:$D$8,2,0)) -> 0.16666667 | F14: =IF(K14="",C14,0) -> 0 | J14: =IF(C14=0,VLOOKUP(A14,Horaires,2,FALSE)," ") | K14: 0.16666667 | L14: =IF(A14="dimanche","",IF(A14="samedi","",IF(F14<=0,"",(IF(H14="",F14-C14,H14-C14))+(I14+K14+N14)))) | M14: =IF(D14="","",IF(AND(A14="Dimanche",D14>0),SUM(D14*2.5+(E14+F14+G14)*2),IF(A14="samedi",SUM(D14*2.5,E14*1.25,G14*1.25,F14*1.25),SUM(D14*2.5,E14*1.25,G14*1.25,)))) | N14: =IF(F14="","",IF((F14+I14+K14)>=C14,"0:00",C14-F14)) -> 0:00
A15: =CHOOSE(WEEKDAY(B15),"Dimanche","Lundi","Mardi","Mercredi","Jeudi","Vendredi","Samedi") -> Samedi | B15: =DATE(An,8,ROW(11:41)) -> 41861 | C15: =IFERROR((VLOOKUP(B15,Fériés:Fériés,2,0)),VLOOKUP(A15,Année!$C$2:$C$8:'Année'!$D$2:$D$8,2,0)) -> 0 | F15: =IF(K15="",C15,0) -> 0 | J15: =IF(C15=0,VLOOKUP(A15,Horaires,2,FALSE)," ") -> 0 | L15: =IF(A15="dimanche","",IF(A15="samedi","",IF(F15<=0,"",(IF(H15="",F15-C15,H15-C15))+(I15+K15+N15)))) | M15: =IF(D15="","",IF(AND(A15="Dimanche",D15>0),SUM(D15*2.5+(E15+F15+G15)*2),IF(A15="samedi",SUM(D15*2.5,E15*1.25,G15*1.25,F15*1.25),SUM(D15*2.5,E15*1.25,G15*1.25,)))) | N15: =IF(F15="","",IF((F15+I15+K15)>=C15,"0:00",C15-F15)) -> 0:00
A16: =CHOOSE(WEEKDAY(B16),"Dimanche","Lundi","Mardi","Mercredi","Jeudi","Vendredi","Samedi") -> Dimanche | B16: =DATE(An,8,ROW(12:42)) -> 41862 | C16: =IFERROR((VLOOKUP(B16,Fériés:Fériés,2,0)),VLOOKUP(A16,Année!$C$2:$C$8:'Année'!$D$2:$D$8,2,0)) -> 0 | F16: =IF(K16="",C16,0) -> 0 | J16: =IF(C16=0,VLOOKUP(A16,Horaires,2,FALSE)," ") -> 0 | L16: =IF(A16="dimanche","",IF(A16="samedi","",IF(F16<=0,"",(IF(H16="",F16-C16,H16-C16))+(I16+K16+N16)))) | M16: =IF(D16="","",IF(AND(A16="Dimanche",D16>0),SUM(D16*2.5+(E16+F16+G16)*2),IF(A16="samedi",SUM(D16*2.5,E16*1.25,G16*1.25,F16*1.25),SUM(D16*2.5,E16*1.25,G16*1.25,)))) | N16: =IF(F16="","",IF((F16+I16+K16)>=C16,"0:00",C16-F16)) -> 0:00
A17: =CHOOSE(WEEKDAY(B17),"Dimanche","Lundi","Mardi","Mercredi","Jeudi","Vendredi","Samedi") -> Lundi | B17: =DATE(An,8,ROW(13:43)) -> 41863 | C17: =IFERROR((VLOOKUP(B17,Fériés:Fériés,2,0)),VLOOKUP(A17,Année!$C$2:$C$8:'Année'!$D$2:$D$8,2,0)) -> 0.32291667 | F17: =IF(K17="",C17,0) -> 0 | J17: =IF(C17=0,VLOOKUP(A17,Horaires,2,FALSE)," ") | K17: 0.32291667 | L17: =IF(A17="dimanche","",IF(A17="samedi","",IF(F17<=0,"",(IF(H17="",F17-C17,H17-C17))+(I17+K17+N17)))) | M17: =IF(D17="","",IF(AND(A17="Dimanche",D17>0),SUM(D17*2.5+(E17+F17+G17)*2),IF(A17="samedi",SUM(D17*2.5,E17*1.25,G17*1.25,F17*1.25),SUM(D17*2.5,E17*1.25,G17*1.25,)))) | N17: =IF(F17="","",IF((F17+I17+K17)>=C17,"0:00",C17-F17)) -> 0:00
A18: =CHOOSE(WEEKDAY(B18),"Dimanche","Lundi","Mardi","Mercredi","Jeudi","Vendredi","Samedi") -> Mardi | B18: =DATE(An,8,ROW(14:44)) -> 41864 | C18: =IFERROR((VLOOKUP(B18,Fériés:Fériés,2,0)),VLOOKUP(A18,Année!$C$2:$C$8:'Année'!$D$2:$D$8,2,0)) -> 0.32291667 | F18: =IF(K18="",C18,0) -> 0 | J18: =IF(C18=0,VLOOKUP(A18,Horaires,2,FALSE)," ") | K18: 0.32291667 | L18: =IF(A18="dimanche","",IF(A18="samedi","",IF(F18<=0,"",(IF(H18="",F18-C18,H18-C18))+(I18+K18+N18)))) | M18: =IF(D18="","",IF(AND(A18="Dimanche",D18>0),SUM(D18*2.5+(E18+F18+G18)*2),IF(A18="samedi",SUM(D18*2.5,E18*1.25,G18*1.25,F18*1.25),SUM(D18*2.5,E18*1.25,G18*1.25,)))) | N18: =IF(F18="","",IF((F18+I18+K18)>=C18,"0:00",C18-F18)) -> 0:00
A19: =CHOOSE(WEEKDAY(B19),"Dimanche","Lundi","Mardi","Mercredi","Jeudi","Vendredi","Samedi") -> Mercredi | B19: =DATE(An,8,ROW(15:45)) -> 41865 | C19: =IFERROR((VLOOKUP(B19,Fériés:Fériés,2,0)),VLOOKUP(A19,Année!$C$2:$C$8:'Année'!$D$2:$D$8,2,0)) -> 0 | F19: =IF(K19="",C19,0) -> 0 | J19: =IF(C19=0,VLOOKUP(A19,Horaires,2,FALSE)," ") -> 0.32291667 | L19: =IF(A19="dimanche","",IF(A19="samedi","",IF(F19<=0,"",(IF(H19="",F19-C19,H19-C19))+(I19+K19+N19)))) | M19: =IF(D19="","",IF(AND(A19="Dimanche",D19>0),SUM(D19*2.5+(E19+F19+G19)*2),IF(A19="samedi",SUM(D19*2.5,E19*1.25,G19*1.25,F19*1.25),SUM(D19*2.5,E19*1.25,G19*1.25,)))) | N19: =IF(F19="","",IF((F19+I19+K19)>=C19,"0:00",C19-F19)) -> 0:00
A20: =CHOOSE(WEEKDAY(B20),"Dimanche","Lundi","Mardi","Mercredi","Jeudi","Vendredi","Samedi") -> Jeudi | B20: =DATE(An,8,ROW(16:46)) -> 41866 | C20: =IFERROR((VLOOKUP(B20,Fériés:Fériés,2,0)),VLOOKUP(A20,Année!$C$2:$C$8:'Année'!$D$2:$D$8,2,0)) -> 0.32291667 | F20: =IF(K20="",C20,0) -> 0 | J20: =IF(C20=0,VLOOKUP(A20,Horaires,2,FALSE)," ") | K20: 0.32291667 | L20: =IF(A20="dimanche","",IF(A20="samedi","",IF(F20<=0,"",(IF(H20="",F20-C20,H20-C20))+(I20+K20+N20)))) | M20: =IF(D20="","",IF(AND(A20="Dimanche",D20>0),SUM(D20*2.5+(E20+F20+G20)*2),IF(A20="samedi",SUM(D20*2.5,E20*1.25,G20*1.25,F20*1.25),SUM(D20*2.5,E20*1.25,G20*1.25,)))) | N20: =IF(F20="","",IF((F20+I20+K20)>=C20,"0:00",C20-F20)) -> 0:00
A21: =CHOOSE(WEEKDAY(B21),"Dimanche","Lundi","Mardi","Mercredi","Jeudi","Vendredi","Samedi") -> Vendredi | B21: =DATE(An,8,ROW(17:47)) -> 41867 | C21: =IFERROR((VLOOKUP(B21,Fériés:Fériés,2,0)),VLOOKUP(A21,Année!$C$2:$C$8:'Année'!$D$2:$D$8,2,0)) -> 0.16666667 | F21: =IF(K21="",C21,0) -> 0 | J21: =IF(C21=0,VLOOKUP(A21,Horaires,2,FALSE)," ") | K21: 0.16666667 | L21: =IF(A21="dimanche","",IF(A21="samedi","",IF(F21<=0,"",(IF(H21="",F21-C21,H21-C21))+(I21+K21+N21)))) | M21: =IF(D21="","",IF(AND(A21="Dimanche",D21>0),SUM(D21*2.5+(E21+F21+G21)*2),IF(A21="samedi",SUM(D21*2.5,E21*1.25,G21*1.25,F21*1.25),SUM(D21*2.5,E21*1.25,G21*1.25,)))) | N21: =IF(F21="","",IF((F21+I21+K21)>=C21,"0:00",C21-F21)) -> 0:00
A22: =CHOOSE(WEEKDAY(B22),"Dimanche","Lundi","Mardi","Mercredi","Jeudi","Vendredi","Samedi") -> Samedi | B22: =DATE(An,8,ROW(18:48)) -> 41868 | C22: =IFERROR((VLOOKUP(B22,Fériés:Fériés,2,0)),VLOOKUP(A22,Année!$C$2:$C$8:'Année'!$D$2:$D$8,2,0)) -> 0 | F22: =IF(K22="",C22,0) -> 0 | J22: =IF(C22=0,VLOOKUP(A22,Horaires,2,FALSE)," ") -> 0 | L22: =IF(A22="dimanche","",IF(A22="samedi","",IF(F22<=0,"",(IF(H22="",F22-C22,H22-C22))+(I22+K22+N22)))) | M22: =IF(D22="","",IF(AND(A22="Dimanche",D22>0),SUM(D22*2.5+(E22+F22+G22)*2),IF(A22="samedi",SUM(D22*2.5,E22*1.25,G22*1.25,F22*1.25),SUM(D22*2.5,E22*1.25,G22*1.25,)))) | N22: =IF(F22="","",IF((F22+I22+K22)>=C22,"0:00",C22-F22)) -> 0:00
A23: =CHOOSE(WEEKDAY(B23),"Dimanche","Lundi","Mardi","Mercredi","Jeudi","Vendredi","Samedi") -> Dimanche | B23: =DATE(An,8,ROW(19:49)) -> 41869 | C23: =IFERROR((VLOOKUP(B23,Fériés:Fériés,2,0)),VLOOKUP(A23,Année!$C$2:$C$8:'Année'!$D$2:$D$8,2,0)) -> 0 | F23: =IF(K23="",C23,0) -> 0 | J23: =IF(C23=0,VLOOKUP(A23,Horaires,2,FALSE)," ") -> 0 | L23: =IF(A23="dimanche","",IF(A23="samedi","",IF(F23<=0,"",(IF(H23="",F23-C23,H23-C23))+(I23+K23+N23)))) | M23: =IF(D23="","",IF(AND(A23="Dimanche",D23>0),SUM(D23*2.5+(E23+F23+G23)*2),IF(A23="samedi",SUM(D23*2.5,E23*1.25,G23*1.25,F23*1.25),SUM(D23*2.5,E23*1.25,G23*1.25,)))) | N23: =IF(F23="","",IF((F23+I23+K23)>=C23,"0:00",C23-F23)) -> 0:00
A24: =CHOOSE(WEEKDAY(B24),"Dimanche","Lundi","Mardi","Mercredi","Jeudi","Vendredi","Samedi") -> Lundi | B24: =DATE(An,8,ROW(20:50)) -> 41870 | C24: =IFERROR((VLOOKUP(B24,Fériés:Fériés,2,0)),VLOOKUP(A24,Année!$C$2:$C$8:'Année'!$D$2:$D$8,2,0)) -> 0.32291667 | F24: =IF(K24="",C24,0) -> 0.32291667 | J24: =IF(C24=0,VLOOKUP(A24,Horaires,2,FALSE)," ") | L24: =IF(A24="dimanche","",IF(A24="samedi","",IF(F24<=0,"",(IF(H24="",F24-C24,H24-C24))+(I24+K24+N24)))) -> 0 | M24: =IF(D24="","",IF(AND(A24="Dimanche",D24>0),SUM(D24*2.5+(E24+F24+G24)*2),IF(A24="samedi",SUM(D24*2.5,E24*1.25,G24*1.25,F24*1.25),SUM(D24*2.5,E24*1.25,G24*1.25,)))) | N24: =IF(F24="","",IF((F24+I24+K24)>=C24,"0:00",C24-F24)) -> 0:00
A25: =CHOOSE(WEEKDAY(B25),"Dimanche","Lundi","Mardi","Mercredi","Jeudi","Vendredi","Samedi") -> Mardi | B25: =DATE(An,8,ROW(21:51)) -> 41871 | C25: =IFERROR((VLOOKUP(B25,Fériés:Fériés,2,0)),VLOOKUP(A25,Année!$C$2:$C$8:'Année'!$D$2:$D$8,2,0)) -> 0.32291667 | F25: =IF(K25="",C25,0) -> 0.32291667 | J25: =IF(C25=0,VLOOKUP(A25,Horaires,2,FALSE)," ") | L25: =IF(A25="dimanche","",IF(A25="samedi","",IF(F25<=0,"",(IF(H25="",F25-C25,H25-C25))+(I25+K25+N25)))) -> 0 | M25: =IF(D25="","",IF(AND(A25="Dimanche",D25>0),SUM(D25*2.5+(E25+F25+G25)*2),IF(A25="samedi",SUM(D25*2.5,E25*1.25,G25*1.25,F25*1.25),SUM(D25*2.5,E25*1.25,G25*1.25,)))) | N25: =IF(F25="","",IF((F25+I25+K25)>=C25,"0:00",C25-F25)) -> 0:00
A26: =CHOOSE(WEEKDAY(B26),"Dimanche","Lundi","Mardi","Mercredi","Jeudi","Vendredi","Samedi") -> Mercredi | B26: =DATE(An,8,ROW(22:52)) -> 41872 | C26: =IFERROR((VLOOKUP(B26,Fériés:Fériés,2,0)),VLOOKUP(A26,Année!$C$2:$C$8:'Année'!$D$2:$D$8,2,0)) -> 0.32291667 | F26: =IF(K26="",C26,0) -> 0.32291667 | J26: =IF(C26=0,VLOOKUP(A26,Horaires,2,FALSE)," ") | L26: =IF(A26="dimanche","",IF(A26="samedi","",IF(F26<=0,"",(IF(H26="",F26-C26,H26-C26))+(I26+K26+N26)))) -> 0 | M26: =IF(D26="","",IF(AND(A26="Dimanche",D26>0),SUM(D26*2.5+(E26+F26+G26)*2),IF(A26="samedi",SUM(D26*2.5,E26*1.25,G26*1.25,F26*1.25),SUM(D26*2.5,E26*1.25,G26*1.25,)))) | N26: =IF(F26="","",IF((F26+I26+K26)>=C26,"0:00",C26-F26)) -> 0:00
A27: =CHOOSE(WEEKDAY(B27),"Dimanche","Lundi","Mardi","Mercredi","Jeudi","Vendredi","Samedi") -> Jeudi | B27: =DATE(An,8,ROW(23:53)) -> 41873 | C27: =IFERROR((VLOOKUP(B27,Fériés:Fériés,2,0)),VLOOKUP(A27,Année!$C$2:$C$8:'Année'!$D$2:$D$8,2,0)) -> 0.32291667 | F27: =IF(K27="",C27,0) -> 0.32291667 | J27: =IF(C27=0,VLOOKUP(A27,Horaires,2,FALSE)," ") | L27: =IF(A27="dimanche","",IF(A27="samedi","",IF(F27<=0,"",(IF(H27="",F27-C27,H27-C27))+(I27+K27+N27)))) -> 0 | M27: =IF(D27="","",IF(AND(A27="Dimanche",D27>0),SUM(D27*2.5+(E27+F27+G27)*2),IF(A27="samedi",SUM(D27*2.5,E27*1.25,G27*1.25,F27*1.25),SUM(D27*2.5,E27*1.25,G27*1.25,)))) | N27: =IF(F27="","",IF((F27+I27+K27)>=C27,"0:00",C27-F27)) -> 0:00
A28: =CHOOSE(WEEKDAY(B28),"Dimanche","Lundi","Mardi","Mercredi","Jeudi","Vendredi","Samedi") -> Vendredi | B28: =DATE(An,8,ROW(24:54)) -> 41874 | C28: =IFERROR((VLOOKUP(B28,Fériés:Fériés,2,0)),VLOOKUP(A28,Année!$C$2:$C$8:'Année'!$D$2:$D$8,2,0)) -> 0.16666667 | F28: =IF(K28="",C28,0) -> 0.16666667 | J28: =IF(C28=0,VLOOKUP(A28,Horaires,2,FALSE)," ") | L28: =IF(A28="dimanche","",IF(A28="samedi","",IF(F28<=0,"",(IF(H28="",F28-C28,H28-C28))+(I28+K28+N28)))) -> 0 | M28: =IF(D28="","",IF(AND(A28="Dimanche",D28>0),SUM(D28*2.5+(E28+F28+G28)*2),IF(A28="samedi",SUM(D28*2.5,E28*1.25,G28*1.25,F28*1.25),SUM(D28*2.5,E28*1.25,G28*1.25,)))) | N28: =IF(F28="","",IF((F28+I28+K28)>=C28,"0:00",C28-F28)) -> 0:00
A29: =CHOOSE(WEEKDAY(B29),"Dimanche","Lundi","Mardi","Mercredi","Jeudi","Vendredi","Samedi") -> Samedi | B29: =DATE(An,8,ROW(25:55)) -> 41875 | C29: =IFERROR((VLOOKUP(B29,Fériés:Fériés,2,0)),VLOOKUP(A29,Année!$C$2:$C$8:'Année'!$D$2:$D$8,2,0)) -> 0 | F29: =IF(K29="",C29,0) -> 0 | J29: =IF(C29=0,VLOOKUP(A29,Horaires,2,FALSE)," ") -> 0 | L29: =IF(A29="dimanche","",IF(A29="samedi","",IF(F29<=0,"",(IF(H29="",F29-C29,H29-C29))+(I29+K29+N29)))) | M29: =IF(D29="","",IF(AND(A29="Dimanche",D29>0),SUM(D29*2.5+(E29+F29+G29)*2),IF(A29="samedi",SUM(D29*2.5,E29*1.25,G29*1.25,F29*1.25),SUM(D29*2.5,E29*1.25,G29*1.25,)))) | N29: =IF(F29="","",IF((F29+I29+K29)>=C29,"0:00",C29-F29)) -> 0:00
A30: =CHOOSE(WEEKDAY(B30),"Dimanche","Lundi","Mardi","Mercredi","Jeudi","Vendredi","Samedi") -> Dimanche | B30: =DATE(An,8,ROW(26:56)) -> 41876 | C30: =IFERROR((VLOOKUP(B30,Fériés:Fériés,2,0)),VLOOKUP(A30,Année!$C$2:$C$8:'Année'!$D$2:$D$8,2,0)) -> 0 | F30: =IF(K30="",C30,0) -> 0 | J30: =IF(C30=0,VLOOKUP(A30,Horaires,2,FALSE)," ") -> 0 | L30: =IF(A30="dimanche","",IF(A30="samedi","",IF(F30<=0,"",(IF(H30="",F30-C30,H30-C30))+(I30+K30+N30)))) | M30: =IF(D30="","",IF(AND(A30="Dimanche",D30>0),SUM(D30*2.5+(E30+F30+G30)*2),IF(A30="samedi",SUM(D30*2.5,E30*1.25,G30*1.25,F30*1.25),SUM(D30*2.5,E30*1.25,G30*1.25,)))) | N30: =IF(F30="","",IF((F30+I30+K30)>=C30,"0:00",C30-F30)) -> 0:00
A31: =CHOOSE(WEEKDAY(B31),"Dimanche","Lundi","Mardi","Mercredi","Jeudi","Vendredi","Samedi") -> Lundi | B31: =DATE(An,8,ROW(27:57)) -> 41877 | C31: =IFERROR((VLOOKUP(B31,Fériés:Fériés,2,0)),VLOOKUP(A31,Année!$C$2:$C$8:'Année'!$D$2:$D$8,2,0)) -> 0.32291667 | F31: =IF(K31="",C31,0) -> 0.32291667 | J31: =IF(C31=0,VLOOKUP(A31,Horaires,2,FALSE)," ") | L31: =IF(A31="dimanche","",IF(A31="samedi","",IF(F31<=0,"",(IF(H31="",F31-C31,H31-C31))+(I31+K31+N31)))) -> 0 | M31: =IF(D31="","",IF(AND(A31="Dimanche",D31>0),SUM(D31*2.5+(E31+F31+G31)*2),IF(A31="samedi",SUM(D31*2.5,E31*1.25,G31*1.25,F31*1.25),SUM(D31*2.5,E31*1.25,G31*1.25,)))) | N31: =IF(F31="","",IF((F31+I31+K31)>=C31,"0:00",C31-F31)) -> 0:00
A32: =CHOOSE(WEEKDAY(B32),"Dimanche","Lundi","Mardi","Mercredi","Jeudi","Vendredi","Samedi") -> Mardi | B32: =DATE(An,8,ROW(28:58)) -> 41878 | C32: =IFERROR((VLOOKUP(B32,Fériés:Fériés,2,0)),VLOOKUP(A32,Année!$C$2:$C$8:'Année'!$D$2:$D$8,2,0)) -> 0.32291667 | F32: =IF(K32="",C32,0) -> 0.32291667 | J32: =IF(C32=0,VLOOKUP(A32,Horaires,2,FALSE)," ") | L32: =IF(A32="dimanche","",IF(A32="samedi","",IF(F32<=0,"",(IF(H32="",F32-C32,H32-C32))+(I32+K32+N32)))) -> 0 | M32: =IF(D32="","",IF(AND(A32="Dimanche",D32>0),SUM(D32*2.5+(E32+F32+G32)*2),IF(A32="samedi",SUM(D32*2.5,E32*1.25,G32*1.25,F32*1.25),SUM(D32*2.5,E32*1.25,G32*1.25,)))) | N32: =IF(F32="","",IF((F32+I32+K32)>=C32,"0:00",C32-F32)) -> 0:00
A33: =CHOOSE(WEEKDAY(B33),"Dimanche","Lundi","Mardi","Mercredi","Jeudi","Vendredi","Samedi") -> Mercredi | B33: =DATE(An,8,ROW(29:59)) -> 41879 | C33: =IFERROR((VLOOKUP(B33,Fériés:Fériés,2,0)),VLOOKUP(A33,Année!$C$2:$C$8:'Année'!$D$2:$D$8,2,0)) -> 0.32291667 | F33: =IF(K33="",C33,0) -> 0.32291667 | J33: =IF(C33=0,VLOOKUP(A33,Horaires,2,FALSE)," ") | L33: =IF(A33="dimanche","",IF(A33="samedi","",IF(F33<=0,"",(IF(H33="",F33-C33,H33-C33))+(I33+K33+N33)))) -> 0 | M33: =IF(D33="","",IF(AND(A33="Dimanche",D33>0),SUM(D33*2.5+(E33+F33+G33)*2),IF(A33="samedi",SUM(D33*2.5,E33*1.25,G33*1.25,F33*1.25),SUM(D33*2.5,E33*1.25,G33*1.25,)))) | N33: =IF(F33="","",IF((F33+I33+K33)>=C33,"0:00",C33-F33)) -> 0:00
A34: =CHOOSE(WEEKDAY(B34),"Dimanche","Lundi","Mardi","Mercredi","Jeudi","Vendredi","Samedi") -> Jeudi | B34: =DATE(An,8,ROW(30:60)) -> 41880 | C34: =IFERROR((VLOOKUP(B34,Fériés:Fériés,2,0)),VLOOKUP(A34,Année!$C$2:$C$8:'Année'!$D$2:$D$8,2,0)) -> 0.32291667 | F34: =IF(K34="",C34,0) -> 0.32291667 | J34: =IF(C34=0,VLOOKUP(A34,Horaires,2,FALSE)," ") | L34: =IF(A34="dimanche","",IF(A34="samedi","",IF(F34<=0,"",(IF(H34="",F34-C34,H34-C34))+(I34+K34+N34)))) -> 0 | M34: =IF(D34="","",IF(AND(A34="Dimanche",D34>0),SUM(D34*2.5+(E34+F34+G34)*2),IF(A34="samedi",SUM(D34*2.5,E34*1.25,G34*1.25,F34*1.25),SUM(D34*2.5,E34*1.25,G34*1.25,)))) | N34: =IF(F34="","",IF((F34+I34+K34)>=C34,"0:00",C34-F34)) -> 0:00
A35: =CHOOSE(WEEKDAY(B35),"Dimanche","Lundi","Mardi","Mercredi","Jeudi","Vendredi","Samedi") -> Vendredi | B35: =DATE(An,8,ROW(31:61)) -> 41881 | C35: =IFERROR((VLOOKUP(B35,Fériés:Fériés,2,0)),VLOOKUP(A35,Année!$C$2:$C$8:'Année'!$D$2:$D$8,2,0)) -> 0.16666667 | F35: =IF(K35="",C35,0) -> 0.16666667 | J35: =IF(C35=0,VLOOKUP(A35,Horaires,2,FALSE)," ") | L35: =IF(A35="dimanche","",IF(A35="samedi","",IF(F35<=0,"",(IF(H35="",F35-C35,H35-C35))+(I35+K35+N35)))) -> 0 | M35: =IF(D35="","",IF(AND(A35="Dimanche",D35>0),SUM(D35*2.5+(E35+F35+G35)*2),IF(A35="samedi",SUM(D35*2.5,E35*1.25,G35*1.25,F35*1.25),SUM(D35*2.5,E35*1.25,G35*1.25,)))) | N35: =IF(F35="","",IF((F35+I35+K35)>=C35,"0:00",C35-F35)) -> 0:00
A38: Totaux : | C38: =SUM(C5:C37) -> 6.3229167 | D38: =SUM(D5:D37) -> 0 | E38: =SUM(E5:E37) -> 0 | F38: =SUM(F5:F37) -> 2.9166667 | G38: =SUM(G5:G37) -> 0 | H38: =SUM(H5:H37) -> 0 | I38: =SUM(I5:I37) -> 0 | J38: =SUM(J5:J37) -> 0.32291667 | ... N38: =SUM(N5:N37) -> 0

Sheet Septembre
A1: =DATE(Année!B1,9,1) -> 41882
A3: Dates : | C3: Heures à faire: | D3: Heures faites: | I3: ASA | J3: Jours Fériés | K3: Congés | L3: Heures Supp | M3: Heures Neige | N3: Récup Heures Neige
D4: 22hà3h30à6h (X2,5) | E4: 6hà7h30 (X1,25) | F4: 7h30à16h45 (X1) | G4: 16h45à22h (X1,25) | H4: Heures pointées Bâtiment
A5: =CHOOSE(WEEKDAY(B5),"Dimanche","Lundi","Mardi","Mercredi","Jeudi","Vendredi","Samedi") -> Samedi | B5: =DATE(An,9,ROW(1:31)) -> 41882 | C5: =IFERROR((VLOOKUP(B5,Fériés:Fériés,2,0)),VLOOKUP(A5,Année!$C$2:$C$8:'Année'!$D$2:$D$8,2,0)) -> 0 | F5: =IF(K5="",C5,0) -> 0 | J5: =IF(C5=0,VLOOKUP(A5,Horaires,2,FALSE)," ") -> 0 | L5: =IF(A5="dimanche","",IF(A5="samedi","",IF(F5<=0,"",(IF(H5="",F5-C5,H5-C5))+(I5+K5+N5)))) | M5: =IF(D5="","",IF(AND(A5="Dimanche",D5>0),SUM(D5*2.5+(E5+F5+G5)*2),IF(A5="samedi",SUM(D5*2.5,E5*1.25,G5*1.25,F5*1.25),SUM(D5*2.5,E5*1.25,G5*1.25,)))) | N5: =IF(F5="","",IF((F5+I5+K5)>=C5,"0:00",C5-F5)) -> 0:00
A6: =CHOOSE(WEEKDAY(B6),"Dimanche","Lundi","Mardi","Mercredi","Jeudi","Vendredi","Samedi") -> Dimanche | B6: =DATE(An,9,ROW(2:32)) -> 41883 | C6: =IFERROR((VLOOKUP(B6,Fériés:Fériés,2,0)),VLOOKUP(A6,Année!$C$2:$C$8:'Année'!$D$2:$D$8,2,0)) -> 0 | F6: =IF(K6="",C6,0) -> 0 | J6: =IF(C6=0,VLOOKUP(A6,Horaires,2,FALSE)," ") -> 0 | L6: =IF(A6="dimanche","",IF(A6="samedi","",IF(F6<=0,"",(IF(H6="",F6-C6,H6-C6))+(I6+K6+N6)))) | M6: =IF(D6="","",IF(AND(A6="Dimanche",D6>0),SUM(D6*2.5+(E6+F6+G6)*2),IF(A6="samedi",SUM(D6*2.5,E6*1.25,G6*1.25,F6*1.25),SUM(D6*2.5,E6*1.25,G6*1.25,)))) | N6: =IF(F6="","",IF((F6+I6+K6)>=C6,"0:00",C6-F6)) -> 0:00
A7: =CHOOSE(WEEKDAY(B7),"Dimanche","Lundi","Mardi","Mercredi","Jeudi","Vendredi","Samedi") -> Lundi | B7: =DATE(An,9,ROW(3:33)) -> 41884 | C7: =IFERROR((VLOOKUP(B7,Fériés:Fériés,2,0)),VLOOKUP(A7,Année!$C$2:$C$8:'Année'!$D$2:$D$8,2,0)) -> 0.32291667 | F7: =IF(K7="",C7,0) -> 0.32291667 | J7: =IF(C7=0,VLOOKUP(A7,Horaires,2,FALSE)," ") | L7: =IF(A7="dimanche","",IF(A7="samedi","",IF(F7<=0,"",(IF(H7="",F7-C7,H7-C7))+(I7+K7+N7)))) -> 0 | M7: =IF(D7="","",IF(AND(A7="Dimanche",D7>0),SUM(D7*2.5+(E7+F7+G7)*2),IF(A7="samedi",SUM(D7*2.5,E7*1.25,G7*1.25,F7*1.25),SUM(D7*2.5,E7*1.25,G7*1.25,)))) | N7: =IF(F7="","",IF((F7+I7+K7)>=C7,"0:00",C7-F7)) -> 0:00
A8: =CHOOSE(WEEKDAY(B8),"Dimanche","Lundi","Mardi","Mercredi","Jeudi","Vendredi","Samedi") -> Mardi | B8: =DATE(An,9,ROW(4:34)) -> 41885 | C8: =IFERROR((VLOOKUP(B8,Fériés:Fériés,2,0)),VLOOKUP(A8,Année!$C$2:$C$8:'Année'!$D$2:$D$8,2,0)) -> 0.32291667 | F8: =IF(K8="",C8,0) -> 0.32291667 | J8: =IF(C8=0,VLOOKUP(A8,Horaires,2,FALSE)," ") | L8: =IF(A8="dimanche","",IF(A8="samedi","",IF(F8<=0,"",(IF(H8="",F8-C8,H8-C8))+(I8+K8+N8)))) -> 0 | M8: =IF(D8="","",IF(AND(A8="Dimanche",D8>0),SUM(D8*2.5+(E8+F8+G8)*2),IF(A8="samedi",SUM(D8*2.5,E8*1.25,G8*1.25,F8*1.25),SUM(D8*2.5,E8*1.25,G8*1.25,)))) | N8: =IF(F8="","",IF((F8+I8+K8)>=C8,"0:00",C8-F8)) -> 0:00
A9: =CHOOSE(WEEKDAY(B9),"Dimanche","Lundi","Mardi","Mercredi","Jeudi","Vendredi","Samedi") -> Mercredi | B9: =DATE(An,9,ROW(5:35)) -> 41886 | C9: =IFERROR((VLOOKUP(B9,Fériés:Fériés,2,0)),VLOOKUP(A9,Année!$C$2:$C$8:'Année'!$D$2:$D$8,2,0)) -> 0.32291667 | F9: =IF(K9="",C9,0) -> 0.32291667 | J9: =IF(C9=0,VLOOKUP(A9,Horaires,2,FALSE)," ") | L9: =IF(A9="dimanche","",IF(A9="samedi","",IF(F9<=0,"",(IF(H9="",F9-C9,H9-C9))+(I9+K9+N9)))) -> 0 | M9: =IF(D9="","",IF(AND(A9="Dimanche",D9>0),SUM(D9*2.5+(E9+F9+G9)*2),IF(A9="samedi",SUM(D9*2.5,E9*1.25,G9*1.25,F9*1.25),SUM(D9*2.5,E9*1.25,G9*1.25,)))) | N9: =IF(F9="","",IF((F9+I9+K9)>=C9,"0:00",C9-F9)) -> 0:00
A10: =CHOOSE(WEEKDAY(B10),"Dimanche","Lundi","Mardi","Mercredi","Jeudi","Vendredi","Samedi") -> Jeudi | B10: =DATE(An,9,ROW(6:36)) -> 41887 | C10: =IFERROR((VLOOKUP(B10,Fériés:Fériés,2,0)),VLOOKUP(A10,Année!$C$2:$C$8:'Année'!$D$2:$D$8,2,0)) -> 0.32291667 | F10: =IF(K10="",C10,0) -> 0.32291667 | J10: =IF(C10=0,VLOOKUP(A10,Horaires,2,FALSE)," ") | L10: =IF(A10="dimanche","",IF(A10="samedi","",IF(F10<=0,"",(IF(H10="",F10-C10,H10-C10))+(I10+K10+N10)))) -> 0 | M10: =IF(D10="","",IF(AND(A10="Dimanche",D10>0),SUM(D10*2.5+(E10+F10+G10)*2),IF(A10="samedi",SUM(D10*2.5,E10*1.25,G10*1.25,F10*1.25),SUM(D10*2.5,E10*1.25,G10*1.25,)))) | N10: =IF(F10="","",IF((F10+I10+K10)>=C10,"0:00",C10-F10)) -> 0:00
A11: =CHOOSE(WEEKDAY(B11),"Dimanche","Lundi","Mardi","Mercredi","Jeudi","Vendredi","Samedi") -> Vendredi | B11: =DATE(An,9,ROW(7:37)) -> 41888 | C11: =IFERROR((VLOOKUP(B11,Fériés:Fériés,2,0)),VLOOKUP(A11,Année!$C$2:$C$8:'Année'!$D$2:$D$8,2,0)) -> 0.16666667 | F11: =IF(K11="",C11,0) -> 0.16666667 | J11: =IF(C11=0,VLOOKUP(A11,Horaires,2,FALSE)," ") | L11: =IF(A11="dimanche","",IF(A11="samedi","",IF(F11<=0,"",(IF(H11="",F11-C11,H11-C11))+(I11+K11+N11)))) -> 0 | M11: =IF(D11="","",IF(AND(A11="Dimanche",D11>0),SUM(D11*2.5+(E11+F11+G11)*2),IF(A11="samedi",SUM(D11*2.5,E11*1.25,G11*1.25,F11*1.25),SUM(D11*2.5,E11*1.25,G11*1.25,)))) | N11: =IF(F11="","",IF((F11+I11+K11)>=C11,"0:00",C11-F11)) -> 0:00
A12: =CHOOSE(WEEKDAY(B12),"Dimanche","Lundi","Mardi","Mercredi","Jeudi","Vendredi","Samedi") -> Samedi | B12: =DATE(An,9,ROW(8:38)) -> 41889 | C12: =IFERROR((VLOOKUP(B12,Fériés:Fériés,2,0)),VLOOKUP(A12,Année!$C$2:$C$8:'Année'!$D$2:$D$8,2,0)) -> 0 | F12: =IF(K12="",C12,0) -> 0 | J12: =IF(C12=0,VLOOKUP(A12,Horaires,2,FALSE)," ") -> 0 | L12: =IF(A12="dimanche","",IF(A12="samedi","",IF(F12<=0,"",(IF(H12="",F12-C12,H12-C12))+(I12+K12+N12)))) | M12: =IF(D12="","",IF(AND(A12="Dimanche",D12>0),SUM(D12*2.5+(E12+F12+G12)*2),IF(A12="samedi",SUM(D12*2.5,E12*1.25,G12*1.25,F12*1.25),SUM(D12*2.5,E12*1.25,G12*1.25,)))) | N12: =IF(F12="","",IF((F12+I12+K12)>=C12,"0:00",C12-F12)) -> 0:00
A13: =CHOOSE(WEEKDAY(B13),"Dimanche","Lundi","Mardi","Mercredi","Jeudi","Vendredi","Samedi") -> Dimanche | B13: =DATE(An,9,ROW(9:39)) -> 41890 | C13: =IFERROR((VLOOKUP(B13,Fériés:Fériés,2,0)),VLOOKUP(A13,Année!$C$2:$C$8:'Année'!$D$2:$D$8,2,0)) -> 0 | F13: =IF(K13="",C13,0) -> 0 | J13: =IF(C13=0,VLOOKUP(A13,Horaires,2,FALSE)," ") -> 0 | L13: =IF(A13="dimanche","",IF(A13="samedi","",IF(F13<=0,"",(IF(H13="",F13-C13,H13-C13))+(I13+K13+N13)))) | M13: =IF(D13="","",IF(AND(A13="Dimanche",D13>0),SUM(D13*2.5+(E13+F13+G13)*2),IF(A13="samedi",SUM(D13*2.5,E13*1.25,G13*1.25,F13*1.25),SUM(D13*2.5,E13*1.25,G13*1.25,)))) | N13: =IF(F13="","",IF((F13+I13+K13)>=C13,"0:00",C13-F13)) -> 0:00
A14: =CHOOSE(WEEKDAY(B14),"Dimanche","Lundi","Mardi","Mercredi","Jeudi","Vendredi","Samedi") -> Lundi | B14: =DATE(An,9,ROW(10:40)) -> 41891 | C14: =IFERROR((VLOOKUP(B14,Fériés:Fériés,2,0)),VLOOKUP(A14,Année!$C$2:$C$8:'Année'!$D$2:$D$8,2,0)) -> 0.32291667 | F14: =IF(K14="",C14,0) -> 0.32291667 | J14: =IF(C14=0,VLOOKUP(A14,Horaires,2,FALSE)," ") | L14: =IF(A14="dimanche","",IF(A14="samedi","",IF(F14<=0,"",(IF(H14="",F14-C14,H14-C14))+(I14+K14+N14)))) -> 0 | M14: =IF(D14="","",IF(AND(A14="Dimanche",D14>0),SUM(D14*2.5+(E14+F14+G14)*2),IF(A14="samedi",SUM(D14*2.5,E14*1.25,G14*1.25,F14*1.25),SUM(D14*2.5,E14*1.25,G14*1.25,)))) | N14: =IF(F14="","",IF((F14+I14+K14)>=C14,"0:00",C14-F14)) -> 0:00
A15: =CHOOSE(WEEKDAY(B15),"Dimanche","Lundi","Mardi","Mercredi","Jeudi","Vendredi","Samedi") -> Mardi | B15: =DATE(An,9,ROW(11:41)) -> 41892 | C15: =IFERROR((VLOOKUP(B15,Fériés:Fériés,2,0)),VLOOKUP(A15,Année!$C$2:$C$8:'Année'!$D$2:$D$8,2,0)) -> 0.32291667 | F15: =IF(K15="",C15,0) -> 0.32291667 | J15: =IF(C15=0,VLOOKUP(A15,Horaires,2,FALSE)," ") | L15: =IF(A15="dimanche","",IF(A15="samedi","",IF(F15<=0,"",(IF(H15="",F15-C15,H15-C15))+(I15+K15+N15)))) -> 0 | M15: =IF(D15="","",IF(AND(A15="Dimanche",D15>0),SUM(D15*2.5+(E15+F15+G15)*2),IF(A15="samedi",SUM(D15*2.5,E15*1.25,G15*1.25,F15*1.25),SUM(D15*2.5,E15*1.25,G15*1.25,)))) | N15: =IF(F15="","",IF((F15+I15+K15)>=C15,"0:00",C15-F15)) -> 0:00
A16: =CHOOSE(WEEKDAY(B16),"Dimanche","Lundi","Mardi","Mercredi","Jeudi","Vendredi","Samedi") -> Mercredi | B16: =DATE(An,9,ROW(12:42)) -> 41893 | C16: =IFERROR((VLOOKUP(B16,Fériés:Fériés,2,0)),VLOOKUP(A16,Année!$C$2:$C$8:'Année'!$D$2:$D$8,2,0)) -> 0.32291667 | F16: =IF(K16="",C16,0) -> 0.32291667 | J16: =IF(C16=0,VLOOKUP(A16,Horaires,2,FALSE)," ") | L16: =IF(A16="dimanche","",IF(A16="samedi","",IF(F16<=0,"",(IF(H16="",F16-C16,H16-C16))+(I16+K16+N16)))) -> 0 | M16: =IF(D16="","",IF(AND(A16="Dimanche",D16>0),SUM(D16*2.5+(E16+F16+G16)*2),IF(A16="samedi",SUM(D16*2.5,E16*1.25,G16*1.25,F16*1.25),SUM(D16*2.5,E16*1.25,G16*1.25,)))) | N16: =IF(F16="","",IF((F16+I16+K16)>=C16,"0:00",C16-F16)) -> 0:00
A17: =CHOOSE(WEEKDAY(B17),"Dimanche","Lundi","Mardi","Mercredi","Jeudi","Vendredi","Samedi") -> Jeudi | B17: =DATE(An,9,ROW(13:43)) -> 41894 | C17: =IFERROR((VLOOKUP(B17,Fériés:Fériés,2,0)),VLOOKUP(A17,Année!$C$2:$C$8:'Année'!$D$2:$D$8,2,0)) -> 0.32291667 | F17: =IF(K17="",C17,0) -> 0.32291667 | J17: =IF(C17=0,VLOOKUP(A17,Horaires,2,FALSE)," ") | L17: =IF(A17="dimanche","",IF(A17="samedi","",IF(F17<=0,"",(IF(H17="",F17-C17,H17-C17))+(I17+K17+N17)))) -> 0 | M17: =IF(D17="","",IF(AND(A17="Dimanche",D17>0),SUM(D17*2.5+(E17+F17+G17)*2),IF(A17="samedi",SUM(D17*2.5,E17*1.25,G17*1.25,F17*1.25),SUM(D17*2.5,E17*1.25,G17*1.25,)))) | N17: =IF(F17="","",IF((F17+I17+K17)>=C17,"0:00",C17-F17)) -> 0:00
A18: =CHOOSE(WEEKDAY(B18),"Dimanche","Lundi","Mardi","Mercredi","Jeudi","Vendredi","Samedi") -> Vendredi | B18: =DATE(An,9,ROW(14:44)) -> 41895 | C18: =IFERROR((VLOOKUP(B18,Fériés:Fériés,2,0)),VLOOKUP(A18,Année!$C$2:$C$8:'Année'!$D$2:$D$8,2,0)) -> 0.16666667 | F18: =IF(K18="",C18,0) -> 0.16666667 | J18: =IF(C18=0,VLOOKUP(A18,Horaires,2,FALSE)," ") | L18: =IF(A18="dimanche","",IF(A18="samedi","",IF(F18<=0,"",(IF(H18="",F18-C18,H18-C18))+(I18+K18+N18)))) -> 0 | M18: =IF(D18="","",IF(AND(A18="Dimanche",D18>0),SUM(D18*2.5+(E18+F18+G18)*2),IF(A18="samedi",SUM(D18*2.5,E18*1.25,G18*1.25,F18*1.25),SUM(D18*2.5,E18*1.25,G18*1.25,)))) | N18: =IF(F18="","",IF((F18+I18+K18)>=C18,"0:00",C18-F18)) -> 0:00
A19: =CHOOSE(WEEKDAY(B19),"Dimanche","Lundi","Mardi","Mercredi","Jeudi","Vendredi","Samedi") -> Samedi | B19: =DATE(An,9,ROW(15:45)) -> 41896 | C19: =IFERROR((VLOOKUP(B19,Fériés:Fériés,2,0)),VLOOKUP(A19,Année!$C$2:$C$8:'Année'!$D$2:$D$8,2,0)) -> 0 | F19: =IF(K19="",C19,0) -> 0 | J19: =IF(C19=0,VLOOKUP(A19,Horaires,2,FALSE)," ") -> 0 | L19: =IF(A19="dimanche","",IF(A19="samedi","",IF(F19<=0,"",(IF(H19="",F19-C19,H19-C19))+(I19+K19+N19)))) | M19: =IF(D19="","",IF(AND(A19="Dimanche",D19>0),SUM(D19*2.5+(E19+F19+G19)*2),IF(A19="samedi",SUM(D19*2.5,E19*1.25,G19*1.25,F19*1.25),SUM(D19*2.5,E19*1.25,G19*1.25,)))) | N19: =IF(F19="","",IF((F19+I19+K19)>=C19,"0:00",C19-F19)) -> 0:00
A20: =CHOOSE(WEEKDAY(B20),"Dimanche","Lundi","Mardi","Mercredi","Jeudi","Vendredi","Samedi") -> Dimanche | B20: =DATE(An,9,ROW(16:46)) -> 41897 | C20: =IFERROR((VLOOKUP(B20,Fériés:Fériés,2,0)),VLOOKUP(A20,Année!$C$2:$C$8:'Année'!$D$2:$D$8,2,0)) -> 0 | F20: =IF(K20="",C20,0) -> 0 | J20: =IF(C20=0,VLOOKUP(A20,Horaires,2,FALSE)," ") -> 0 | L20: =IF(A20="dimanche","",IF(A20="samedi","",IF(F20<=0,"",(IF(H20="",F20-C20,H20-C20))+(I20+K20+N20)))) | M20: =IF(D20="","",IF(AND(A20="Dimanche",D20>0),SUM(D20*2.5+(E20+F20+G20)*2),IF(A20="samedi",SUM(D20*2.5,E20*1.25,G20*1.25,F20*1.25),SUM(D20*2.5,E20*1.25,G20*1.25,)))) | N20: =IF(F20="","",IF((F20+I20+K20)>=C20,"0:00",C20-F20)) -> 0:00
A21: =CHOOSE(WEEKDAY(B21),"Dimanche","Lundi","Mardi","Mercredi","Jeudi","Vendredi","Samedi") -> Lundi | B21: =DATE(An,9,ROW(17:47)) -> 41898 | C21: =IFERROR((VLOOKUP(B21,Fériés:Fériés,2,0)),VLOOKUP(A21,Année!$C$2:$C$8:'Année'!$D$2:$D$8,2,0)) -> 0.32291667 | F21: =IF(K21="",C21,0) -> 0.32291667 | J21: =IF(C21=0,VLOOKUP(A21,Horaires,2,FALSE)," ") | L21: =IF(A21="dimanche","",IF(A21="samedi","",IF(F21<=0,"",(IF(H21="",F21-C21,H21-C21))+(I21+K21+N21)))) -> 0 | M21: =IF(D21="","",IF(AND(A21="Dimanche",D21>0),SUM(D21*2.5+(E21+F21+G21)*2),IF(A21="samedi",SUM(D21*2.5,E21*1.25,G21*1.25,F21*1.25),SUM(D21*2.5,E21*1.25,G21*1.25,)))) | N21: =IF(F21="","",IF((F21+I21+K21)>=C21,"0:00",C21-F21)) -> 0:00
A22: =CHOOSE(WEEKDAY(B22),"Dimanche","Lundi","Mardi","Mercredi","Jeudi","Vendredi","Samedi") -> Mardi | B22: =DATE(An,9,ROW(18:48)) -> 41899 | C22: =IFERROR((VLOOKUP(B22,Fériés:Fériés,2,0)),VLOOKUP(A22,Année!$C$2:$C$8:'Année'!$D$2:$D$8,2,0)) -> 0.32291667 | F22: =IF(K22="",C22,0) -> 0.32291667 | J22: =IF(C22=0,VLOOKUP(A22,Horaires,2,FALSE)," ") | L22: =IF(A22="dimanche","",IF(A22="samedi","",IF(F22<=0,"",(IF(H22="",F22-C22,H22-C22))+(I22+K22+N22)))) -> 0 | M22: =IF(D22="","",IF(AND(A22="Dimanche",D22>0),SUM(D22*2.5+(E22+F22+G22)*2),IF(A22="samedi",SUM(D22*2.5,E22*1.25,G22*1.25,F22*1.25),SUM(D22*2.5,E22*1.25,G22*1.25,)))) | N22: =IF(F22="","",IF((F22+I22+K22)>=C22,"0:00",C22-F22)) -> 0:00
A23: =CHOOSE(WEEKDAY(B23),"Dimanche","Lundi","Mardi","Mercredi","Jeudi","Vendredi","Samedi") -> Mercredi | B23: =DATE(An,9,ROW(19:49)) -> 41900 | C23: =IFERROR((VLOOKUP(B23,Fériés:Fériés,2,0)),VLOOKUP(A23,Année!$C$2:$C$8:'Année'!$D$2:$D$8,2,0)) -> 0.32291667 | F23: =IF(K23="",C23,0) -> 0.32291667 | J23: =IF(C23=0,VLOOKUP(A23,Horaires,2,FALSE)," ") | L23: =IF(A23="dimanche","",IF(A23="samedi","",IF(F23<=0,"",(IF(H23="",F23-C23,H23-C23))+(I23+K23+N23)))) -> 0 | M23: =IF(D23="","",IF(AND(A23="Dimanche",D23>0),SUM(D23*2.5+(E23+F23+G23)*2),IF(A23="samedi",SUM(D23*2.5,E23*1.25,G23*1.25,F23*1.25),SUM(D23*2.5,E23*1.25,G23*1.25,)))) | N23: =IF(F23="","",IF((F23+I23+K23)>=C23,"0:00",C23-F23)) -> 0:00
A24: =CHOOSE(WEEKDAY(B24),"Dimanche","Lundi","Mardi","Mercredi","Jeudi","Vendredi","Samedi") -> Jeudi | B24: =DATE(An,9,ROW(20:50)) -> 41901 | C24: =IFERROR((VLOOKUP(B24,Fériés:Fériés,2,0)),VLOOKUP(A24,Année!$C$2:$C$8:'Année'!$D$2:$D$8,2,0)) -> 0.32291667 | F24: =IF(K24="",C24,0) -> 0.32291667 | J24: =IF(C24=0,VLOOKUP(A24,Horaires,2,FALSE)," ") | L24: =IF(A24="dimanche","",IF(A24="samedi","",IF(F24<=0,"",(IF(H24="",F24-C24,H24-C24))+(I24+K24+N24)))) -> 0 | M24: =IF(D24="","",IF(AND(A24="Dimanche",D24>0),SUM(D24*2.5+(E24+F24+G24)*2),IF(A24="samedi",SUM(D24*2.5,E24*1.25,G24*1.25,F24*1.25),SUM(D24*2.5,E24*1.25,G24*1.25,)))) | N24: =IF(F24="","",IF((F24+I24+K24)>=C24,"0:00",C24-F24)) -> 0:00
A25: =CHOOSE(WEEKDAY(B25),"Dimanche","Lundi","Mardi","Mercredi","Jeudi","Vendredi","Samedi") -> Vendredi | B25: =DATE(An,9,ROW(21:51)) -> 41902 | C25: =IFERROR((VLOOKUP(B25,Fériés:Fériés,2,0)),VLOOKUP(A25,Année!$C$2:$C$8:'Année'!$D$2:$D$8,2,0)) -> 0.16666667 | F25: =IF(K25="",C25,0) -> 0.16666667 | J25: =IF(C25=0,VLOOKUP(A25,Horaires,2,FALSE)," ") | L25: =IF(A25="dimanche","",IF(A25="samedi","",IF(F25<=0,"",(IF(H25="",F25-C25,H25-C25))+(I25+K25+N25)))) -> 0 | M25: =IF(D25="","",IF(AND(A25="Dimanche",D25>0),SUM(D25*2.5+(E25+F25+G25)*2),IF(A25="samedi",SUM(D25*2.5,E25*1.25,G25*1.25,F25*1.25),SUM(D25*2.5,E25*1.25,G25*1.25,)))) | N25: =IF(F25="","",IF((F25+I25+K25)>=C25,"0:00",C25-F25)) -> 0:00
A26: =CHOOSE(WEEKDAY(B26),"Dimanche","Lundi","Mardi","Mercredi","Jeudi","Vendredi","Samedi") -> Samedi | B26: =DATE(An,9,ROW(22:52)) -> 41903 | C26: =IFERROR((VLOOKUP(B26,Fériés:Fériés,2,0)),VLOOKUP(A26,Année!$C$2:$C$8:'Année'!$D$2:$D$8,2,0)) -> 0 | F26: =IF(K26="",C26,0) -> 0 | J26: =IF(C26=0,VLOOKUP(A26,Horaires,2,FALSE)," ") -> 0 | L26: =IF(A26="dimanche","",IF(A26="samedi","",IF(F26<=0,"",(IF(H26="",F26-C26,H26-C26))+(I26+K26+N26)))) | M26: =IF(D26="","",IF(AND(A26="Dimanche",D26>0),SUM(D26*2.5+(E26+F26+G26)*2),IF(A26="samedi",SUM(D26*2.5,E26*1.25,G26*1.25,F26*1.25),SUM(D26*2.5,E26*1.25,G26*1.25,)))) | N26: =IF(F26="","",IF((F26+I26+K26)>=C26,"0:00",C26-F26)) -> 0:00
A27: =CHOOSE(WEEKDAY(B27),"Dimanche","Lundi","Mardi","Mercredi","Jeudi","Vendredi","Samedi") -> Dimanche | B27: =DATE(An,9,ROW(23:53)) -> 41904 | C27: =IFERROR((VLOOKUP(B27,Fériés:Fériés,2,0)),VLOOKUP(A27,Année!$C$2:$C$8:'Année'!$D$2:$D$8,2,0)) -> 0 | F27: =IF(K27="",C27,0) -> 0 | J27: =IF(C27=0,VLOOKUP(A27,Horaires,2,FALSE)," ") -> 0 | L27: =IF(A27="dimanche","",IF(A27="samedi","",IF(F27<=0,"",(IF(H27="",F27-C27,H27-C27))+(I27+K27+N27)))) | M27: =IF(D27="","",IF(AND(A27="Dimanche",D27>0),SUM(D27*2.5+(E27+F27+G27)*2),IF(A27="samedi",SUM(D27*2.5,E27*1.25,G27*1.25,F27*1.25),SUM(D27*2.5,E27*1.25,G27*1.25,)))) | N27: =IF(F27="","",IF((F27+I27+K27)>=C27,"0:00",C27-F27)) -> 0:00
A28: =CHOOSE(WEEKDAY(B28),"Dimanche","Lundi","Mardi","Mercredi","Jeudi","Vendredi","Samedi") -> Lundi | B28: =DATE(An,9,ROW(24:54)) -> 41905 | C28: =IFERROR((VLOOKUP(B28,Fériés:Fériés,2,0)),VLOOKUP(A28,Année!$C$2:$C$8:'Année'!$D$2:$D$8,2,0)) -> 0.32291667 | F28: =IF(K28="",C28,0) -> 0.32291667 | J28: =IF(C28=0,VLOOKUP(A28,Horaires,2,FALSE)," ") | L28: =IF(A28="dimanche","",IF(A28="samedi","",IF(F28<=0,"",(IF(H28="",F28-C28,H28-C28))+(I28+K28+N28)))) -> 0 | M28: =IF(D28="","",IF(AND(A28="Dimanche",D28>0),SUM(D28*2.5+(E28+F28+G28)*2),IF(A28="samedi",SUM(D28*2.5,E28*1.25,G28*1.25,F28*1.25),SUM(D28*2.5,E28*1.25,G28*1.25,)))) | N28: =IF(F28="","",IF((F28+I28+K28)>=C28,"0:00",C28-F28)) -> 0:00
A29: =CHOOSE(WEEKDAY(B29),"Dimanche","Lundi","Mardi","Mercredi","Jeudi","Vendredi","Samedi") -> Mardi | B29: =DATE(An,9,ROW(25:55)) -> 41906 | C29: =IFERROR((VLOOKUP(B29,Fériés:Fériés,2,0)),VLOOKUP(A29,Année!$C$2:$C$8:'Année'!$D$2:$D$8,2,0)) -> 0.32291667 | F29: =IF(K29="",C29,0) -> 0.32291667 | J29: =IF(C29=0,VLOOKUP(A29,Horaires,2,FALSE)," ") | L29: =IF(A29="dimanche","",IF(A29="samedi","",IF(F29<=0,"",(IF(H29="",F29-C29,H29-C29))+(I29+K29+N29)))) -> 0 | M29: =IF(D29="","",IF(AND(A29="Dimanche",D29>0),SUM(D29*2.5+(E29+F29+G29)*2),IF(A29="samedi",SUM(D29*2.5,E29*1.25,G29*1.25,F29*1.25),SUM(D29*2.5,E29*1.25,G29*1.25,)))) | N29: =IF(F29="","",IF((F29+I29+K29)>=C29,"0:00",C29-F29)) -> 0:00
A30: =CHOOSE(WEEKDAY(B30),"Dimanche","Lundi","Mardi","Mercredi","Jeudi","Vendredi","Samedi") -> Mercredi | B30: =DATE(An,9,ROW(26:56)) -> 41907 | C30: =IFERROR((VLOOKUP(B30,Fériés:Fériés,2,0)),VLOOKUP(A30,Année!$C$2:$C$8:'Année'!$D$2:$D$8,2,0)) -> 0.32291667 | F30: =IF(K30="",C30,0) -> 0.32291667 | J30: =IF(C30=0,VLOOKUP(A30,Horaires,2,FALSE)," ") | L30: =IF(A30="dimanche","",IF(A30="samedi","",IF(F30<=0,"",(IF(H30="",F30-C30,H30-C30))+(I30+K30+N30)))) -> 0 | M30: =IF(D30="","",IF(AND(A30="Dimanche",D30>0),SUM(D30*2.5+(E30+F30+G30)*2),IF(A30="samedi",SUM(D30*2.5,E30*1.25,G30*1.25,F30*1.25),SUM(D30*2.5,E30*1.25,G30*1.25,)))) | N30: =IF(F30="","",IF((F30+I30+K30)>=C30,"0:00",C30-F30)) -> 0:00
A31: =CHOOSE(WEEKDAY(B31),"Dimanche","Lundi","Mardi","Mercredi","Jeudi","Vendredi","Samedi") -> Jeudi | B31: =DATE(An,9,ROW(27:57)) -> 41908 | C31: =IFERROR((VLOOKUP(B31,Fériés:Fériés,2,0)),VLOOKUP(A31,Année!$C$2:$C$8:'Année'!$D$2:$D$8,2,0)) -> 0.32291667 | F31: =IF(K31="",C31,0) -> 0.32291667 | J31: =IF(C31=0,VLOOKUP(A31,Horaires,2,FALSE)," ") | L31: =IF(A31="dimanche","",IF(A31="samedi","",IF(F31<=0,"",(IF(H31="",F31-C31,H31-C31))+(I31+K31+N31)))) -> 0 | M31: =IF(D31="","",IF(AND(A31="Dimanche",D31>0),SUM(D31*2.5+(E31+F31+G31)*2),IF(A31="samedi",SUM(D31*2.5,E31*1.25,G31*1.25,F31*1.25),SUM(D31*2.5,E31*1.25,G31*1.25,)))) | N31: =IF(F31="","",IF((F31+I31+K31)>=C31,"0:00",C31-F31)) -> 0:00
A32: =CHOOSE(WEEKDAY(B32),"Dimanche","Lundi","Mardi","Mercredi","Jeudi","Vendredi","Samedi") -> Vendredi | B32: =DATE(An,9,ROW(28:58)) -> 41909 | C32: =IFERROR((VLOOKUP(B32,Fériés:Fériés,2,0)),VLOOKUP(A32,Année!$C$2:$C$8:'Année'!$D$2:$D$8,2,0)) -> 0.16666667 | F32: =IF(K32="",C32,0) -> 0.16666667 | J32: =IF(C32=0,VLOOKUP(A32,Horaires,2,FALSE)," ") | L32: =IF(A32="dimanche","",IF(A32="samedi","",IF(F32<=0,"",(IF(H32="",F32-C32,H32-C32))+(I32+K32+N32)))) -> 0 | M32: =IF(D32="","",IF(AND(A32="Dimanche",D32>0),SUM(D32*2.5+(E32+F32+G32)*2),IF(A32="samedi",SUM(D32*2.5,E32*1.25,G32*1.25,F32*1.25),SUM(D32*2.5,E32*1.25,G32*1.25,)))) | N32: =IF(F32="","",IF((F32+I32+K32)>=C32,"0:00",C32-F32)) -> 0:00
A33: =CHOOSE(WEEKDAY(B33),"Dimanche","Lundi","Mardi","Mercredi","Jeudi","Vendredi","Samedi") -> Samedi | B33: =DATE(An,9,ROW(29:59)) -> 41910 | C33: =IFERROR((VLOOKUP(B33,Fériés:Fériés,2,0)),VLOOKUP(A33,Année!$C$2:$C$8:'Année'!$D$2:$D$8,2,0)) -> 0 | F33: =IF(K33="",C33,0) -> 0 | J33: =IF(C33=0,VLOOKUP(A33,Horaires,2,FALSE)," ") -> 0 | L33: =IF(A33="dimanche","",IF(A33="samedi","",IF(F33<=0,"",(IF(H33="",F33-C33,H33-C33))+(I33+K33+N33)))) | M33: =IF(D33="","",IF(AND(A33="Dimanche",D33>0),SUM(D33*2.5+(E33+F33+G33)*2),IF(A33="samedi",SUM(D33*2.5,E33*1.25,G33*1.25,F33*1.25),SUM(D33*2.5,E33*1.25,G33*1.25,)))) | N33: =IF(F33="","",IF((F33+I33+K33)>=C33,"0:00",C33-F33)) -> 0:00
A34: =CHOOSE(WEEKDAY(B34),"Dimanche","Lundi","Mardi","Mercredi","Jeudi","Vendredi","Samedi") -> Dimanche | B34: =DATE(An,9,ROW(30:60)) -> 41911 | C34: =IFERROR((VLOOKUP(B34,Fériés:Fériés,2,0)),VLOOKUP(A34,Année!$C$2:$C$8:'Année'!$D$2:$D$8,2,0)) -> 0 | F34: =IF(K34="",C34,0) -> 0 | J34: =IF(C34=0,VLOOKUP(A34,Horaires,2,FALSE)," ") -> 0 | L34: =IF(A34="dimanche","",IF(A34="samedi","",IF(F34<=0,"",(IF(H34="",F34-C34,H34-C34))+(I34+K34+N34)))) | M34: =IF(D34="","",IF(AND(A34="Dimanche",D34>0),SUM(D34*2.5+(E34+F34+G34)*2),IF(A34="samedi",SUM(D34*2.5,E34*1.25,G34*1.25,F34*1.25),SUM(D34*2.5,E34*1.25,G34*1.25,)))) | N34: =IF(F34="","",IF((F34+I34+K34)>=C34,"0:00",C34-F34)) -> 0:00
