Workbook
Name Comm: [1]Feuil1!$B$1:$B$5
Name RPITM: '[2]Tableur Données'!$C$2:$C$4
Name VTC: '[2]Tableur Données'!$B$1:$B$27

Sheet Janvier
A2: SUIVIE CLIENT 2017
A5: MOIS | B5: Nombres | C5: DATE | D5: N° CLIENT | E5: N° BC | F5: NOM | G5: PRENOM | H5: VTC | I5: ORIGINE | J5: DATE DE LIVRAISON | K5: TYPE DE TRAVAUX | L5: MONTANT DOSSIER ANNULER | M5: VALEUR TVA | N5: MONTANT TTC | O5: MONTANT TVA | P5: MONTANT HT | Q5: TOTAL PAYER | R5: RESTE A VERSER | S5: MONTANT DOSSIER POSE | T5: DATE COURRIER ANNULATION | U5: DATE COURRIER FACTURES | V5: DATE COURRIER DIVERS | W5: OBSERVATIONS
A6: JANVIER | B6: 1 | K6: Peinture | L6: 0 | M6: 0.1 | N6: 0 | O6: =N6-P6 -> 0 | P6: =N6/1.1 -> 0 | Q6: 0 | R6: =N6-Q6 -> 0 | S6: 0
B7: 2 | K7: Peinture, Plomberie | L7: 0 | M7: 0.1 | N7: 0 | O7: =N7-P7 -> 0 | P7: =N7/1.1 -> 0 | Q7: 0 | R7: =N7-Q7 -> 0 | S7: 0
B8: 3 | K8: Menuiserie | L8: 0 | M8: 0.1 | N8: 0 | O8: =N8-P8 -> 0 | P8: =N8/1.1 -> 0 | Q8: 0 | R8: =N8-Q8 -> 0 | S8: 0
B9: 4 | K9: Plomberie | L9: 0 | M9: 0.1 | N9: 0 | O9: =N9-P9 -> 0 | P9: =N9/1.1 -> 0 | Q9: 0 | R9: =N9-Q9 -> 0 | S9: 0
B10: 5 | L10: 0 | M10: 0.1 | N10: 0 | O10: =N10-P10 -> 0 | P10: =N10/1.1 -> 0 | Q10: 0 | R10: =N10-Q10 -> 0 | S10: 0
B11: 6 | L11: 0 | M11: 0.1 | N11: 0 | O11: =N11-P11 -> 0 | P11: =N11/1.1 -> 0 | Q11: 0 | R11: =N11-Q11 -> 0 | S11: 0
B12: 7 | L12: 0 | M12: 0.1 | N12: 0 | O12: =N12-P12 -> 0 | P12: =N12/1.1 -> 0 | Q12: 0 | R12: =N12-Q12 -> 0 | S12: 0
B13: 8 | L13: 0 | M13: 0.1 | N13: 0 | O13: =N13-P13 -> 0 | P13: =N13/1.1 -> 0 | Q13: 0 | R13: =N13-Q13 -> 0 | S13: 0
B14: 9 | L14: 0 | M14: 0.1 | N14: 0 | O14: =N14-P14 -> 0 | P14: =N14/1.1 -> 0 | Q14: 0 | R14: =N14-Q14 -> 0 | S14: 0
B15: 10 | L15: 0 | M15: 0.1 | N15: 0 | O15: =N15-P15 -> 0 | P15: =N15/1.1 -> 0 | Q15: 0 | R15: =N15-Q15 -> 0 | S15: 0
B16: 11 | L16: 0 | M16: 0.1 | N16: 0 | O16: =N16-P16 -> 0 | P16: =N16/1.1 -> 0 | Q16: 0 | R16: =N16-Q16 -> 0 | S16: 0
B17: 12 | L17: 0 | M17: 0.1 | N17: 0 | O17: =N17-P17 -> 0 | P17: =N17/1.1 -> 0 | Q17: 0 | R17: =N17-Q17 -> 0 | S17: 0
B18: 13 | L18: 0 | M18: 0.1 | N18: 0 | O18: =N18-P18 -> 0 | P18: =N18/1.1 -> 0 | Q18: 0 | R18: =N18-Q18 -> 0 | S18: 0
B19: 14 | L19: 0 | M19: 0.1 | N19: 0 | O19: =N19-P19 -> 0 | P19: =N19/1.1 -> 0 | Q19: 0 | R19: =N19-Q19 -> 0 | S19: 0
B20: 15 | L20: 0 | M20: 0.1 | N20: 0 | O20: =N20-P20 -> 0 | P20: =N20/1.1 -> 0 | Q20: 0 | R20: =N20-Q20 -> 0 | S20: 0
B21: 16 | L21: 0 | M21: 0.1 | N21: 0 | O21: =N21-P21 -> 0 | P21: =N21/1.1 -> 0 | Q21: 0 | R21: =N21-Q21 -> 0 | S21: 0
... B44: 39 | L44: 0 | M44: 0.1 | N44: 0 | O44: =N44-P44 -> 0 | P44: =N44/1.1 -> 0 | Q44: 0 | R44: =N44-Q44 -> 0 | S44: 0
B45: 40 | L45: 0 | M45: 0.1 | N45: 0 | O45: 0 | P45: =N45/1.1 -> 0 | Q45: 0 | R45: 0 | S45: 0
L46: =SUM(L6:L45) -> 0 | N46: =SUM(N6:N45) -> 0 | O46: =SUM(O6:O45) -> 0 | P46: =SUM(P6:P45) -> 0 | Q46: =SUM(Q6:Q45) -> 0 | R46: =SUM(R6:R45) -> 0 | S46: =SUM(S6:S45) -> 0
B47: DOSSIER EN COURS | D47: 0 | E47: 0 | G47: TOTAL SANS ANNULATION | I47: =E51-E50 -> 0
B48: DOSSIER EN PAUSE | D48: 0 | E48: =N37 -> 0
B49: DOSSIER REALISES | D49: 0 | E49: =S46 -> 0
B50: DOSSIER ANNULE | D50: 0 | E50: =L46 -> 0
B51: TOTAL | D51: 0 | E51: =E49+E47+E50 -> 0
B53: MONTANT TVA | D53: =O46 -> 0
B55: TYPE DE TRAVAUX | D55: NOMBRE DE VENTES
B56: Peinture | D56: =COUNTIF($K$6:$K$45,"*" & B56 & "*") -> 2
B57: Electricité | D57: =COUNTIF($K$6:$K$45,"*" & B57 & "*") -> 0
B58: Stores | D58: =COUNTIF($K$6:$K$45,"*" & B58 & "*") -> 0
B59: Menuiserie | D59: =COUNTIF($K$6:$K$45,"*" & B59 & "*") -> 1
B60: Cabine de douche | D60: =COUNTIF($K$6:$K$45,"*" & B60 & "*") -> 0
B61: Plomberie | D61: =COUNTIF($K$6:$K$45,"*" & B61 & "*") -> 2
B62: Maçonnerie | D62: =COUNTIF($K$6:$K$45,"*" & B62 & "*") -> 0
B63: Fenêtres | D63: =COUNTIF($K$6:$K$45,"*" & B63 & "*") -> 0
B64: Volets | D64: =COUNTIF($K$6:$K$45,"*" & B64 & "*") -> 0
B65: Alarme | D65: =COUNTIF($K$6:$K$45,"*" & B65 & "*") -> 0
B66: Cuisine | D66: =COUNTIF($K$6:$K$45,"*" & B66 & "*") -> 0
B67: Salle de Bain | D67: =COUNTIF($K$6:$K$45,"*" & B67 & "*") -> 0
...

Sheet Fevrier
A2: SUIVIE CLIENT 2017
A5: MOIS | B5: Nombres | C5: DATE | D5: N° CLIENT | E5: N° BC | F5: NOM | G5: PRENOM | H5: VTC | I5: ORIGINE | J5: DATE DE LIVRAISON | K5: TYPE DE TRAVAUX | L5: MONTANT DOSSIER ANNULER | M5: VALEUR TVA | N5: MONTANT TTC | O5: MONTANT TVA | P5: MONTANT HT | Q5: TOTAL PAYER | R5: RESTE A VERSER | S5: MONTANT DOSSIER POSE | T5: DATE COURRIER ANNULATION | U5: DATE COURRIER FACTURES | V5: DATE COURRIER DIVERS | W5: OBSERVATIONS
A6: FEVRIER | B6: 1 | L6: 0 | M6: 0.1 | N6: 0 | O6: =N6-P6 -> 0 | P6: =N6/1.1 -> 0 | Q6: 0 | R6: =N6-Q6 -> 0 | S6: 0
B7: 2 | L7: 0 | M7: 0.1 | N7: 0 | O7: =N7-P7 -> 0 | P7: =N7/1.1 -> 0 | Q7: 0 | R7: =N7-Q7 -> 0 | S7: 0
B8: 3 | L8: 0 | M8: 0.1 | N8: 0 | O8: =N8-P8 -> 0 | P8: =N8/1.1 -> 0 | Q8: 0 | R8: =N8-Q8 -> 0 | S8: 0
B9: 4 | L9: 0 | M9: 0.1 | N9: 0 | O9: =N9-P9 -> 0 | P9: =N9/1.1 -> 0 | Q9: 0 | R9: =N9-Q9 -> 0 | S9: 0
B10: 5 | L10: 0 | M10: 0.1 | N10: 0 | O10: =N10-P10 -> 0 | P10: =N10/1.1 -> 0 | Q10: 0 | R10: =N10-Q10 -> 0 | S10: 0
B11: 6 | L11: 0 | M11: 0.1 | N11: 0 | O11: =N11-P11 -> 0 | P11: =N11/1.1 -> 0 | Q11: 0 | R11: =N11-Q11 -> 0 | S11: 0
B12: 7 | L12: 0 | M12: 0.1 | N12: 0 | O12: =N12-P12 -> 0 | P12: =N12/1.1 -> 0 | Q12: 0 | R12: =N12-Q12 -> 0 | S12: 0
B13: 8 | L13: 0 | M13: 0.1 | N13: 0 | O13: =N13-P13 -> 0 | P13: =N13/1.1 -> 0 | Q13: 0 | R13: =N13-Q13 -> 0 | S13: 0
B14: 9 | L14: 0 | M14: 0.1 | N14: 0 | O14: =N14-P14 -> 0 | P14: =N14/1.1 -> 0 | Q14: 0 | R14: =N14-Q14 -> 0 | S14: 0
B15: 10 | L15: 0 | M15: 0.1 | N15: 0 | O15: =N15-P15 -> 0 | P15: =N15/1.1 -> 0 | Q15: 0 | R15: =N15-Q15 -> 0 | S15: 0
B16: 11 | L16: 0 | M16: 0.1 | N16: 0 | O16: =N16-P16 -> 0 | P16: =N16/1.1 -> 0 | Q16: 0 | R16: =N16-Q16 -> 0 | S16: 0
B17: 12 | L17: 0 | M17: 0.1 | N17: 0 | O17: =N17-P17 -> 0 | P17: =N17/1.1 -> 0 | Q17: 0 | R17: =N17-Q17 -> 0 | S17: 0
B18: 13 | L18: 0 | M18: 0.1 | N18: 0 | O18: =N18-P18 -> 0 | P18: =N18/1.1 -> 0 | Q18: 0 | R18: =N18-Q18 -> 0 | S18: 0
... B44: 39 | L44: 0 | M44: 0.1 | N44: 0 | O44: =N44-P44 -> 0 | P44: =N44/1.1 -> 0 | Q44: 0 | R44: =N44-Q44 -> 0 | S44: 0
B45: 40 | L45: 0 | M45: 0 | N45: 0 | O45: 0 | P45: =N45/1.1 -> 0 | Q45: 0 | R45: 0 | S45: 0
L46: =SUM(L6:L45) -> 0 | N46: =SUM(N6:N45) -> 0 | O46: =N46-P46 -> 0 | P46: =SUM(P6:P45) -> 0 | Q46: =SUM(Q6:Q45) -> 0 | R46: =SUM(R6:R45) -> 0 | S46: =SUM(S6:S45) -> 0
B47: DOSSIER EN COURS | D47: 0 | E47: =E51-E50-E49 -> 0 | G47: TOTAL AVEC ANNULATION | I47: =E51-E50 -> 0
B48: DOSSIER EN PAUSE | D48: 0 | E48: 0
B49: DOSSIER REALISES | D49: 0 | E49: =S46 -> 0
B50: DOSSIER ANNULE | D50: 0 | E50: =L46 -> 0
B51: TOTAL | D51: =D47+D48+D49+D50 -> 0 | E51: =N46 -> 0
B53: MONTANT TVA | D53: =O46 -> 0
B55: TYPE DE TRAVAUX | D55: NOMBRE DE VENTES
B56: Peinture
B57: Electricité
B58: Stores
B59: Menuiserie
B60: Cabine de douche
B61: Plomberie
B62: Maçonnerie
B63: Fenêtres
B64: Volets
B65: Alarme
B66: Tapisserie
B67: Porte blindé
B68: Revêtement de sol

Sheet Mars
A2: SUIVIE CLIENT 2017
A5: MOIS | B5: Nombres | C5: DATE | D5: N° CLIENT | E5: N° BC | F5: NOM | G5: PRENOM | H5: VTC | I5: ORIGINE | J5: DATE DE LIVRAISON | K5: TYPE DE TRAVAUX | L5: MONTANT DOSSIER ANNULER | M5: VALEUR TVA | N5: MONTANT TTC | O5: MONTANT TVA | P5: MONTANT HT | Q5: TOTAL PAYER | R5: RESTE A VERSER | S5: MONTANT DOSSIER POSE | T5: DATE COURRIER ANNULATION | U5: DATE COURRIER FACTURES | V5: DATE COURRIER DIVERS | W5: OBSERVATIONS
A6: MARS | B6: 1 | L6: 0 | M6: 0.1 | N6: 0 | O6: =N6-P6 -> 0 | P6: =N6/1.1 -> 0 | Q6: 0 | R6: =N6-Q6 -> 0 | S6: 0
B7: 2 | L7: 0 | M7: 0.1 | N7: 0 | O7: =N7-P7 -> 0 | P7: =N7/1.1 -> 0 | Q7: 0 | R7: =N7-Q7 -> 0 | S7: 0
B8: 3 | L8: 0 | M8: 0.1 | N8: 0 | O8: =N8-P8 -> 0 | P8: =N8/1.1 -> 0 | Q8: 0 | R8: =N8-Q8 -> 0 | S8: 0
B9: 4 | L9: 0 | M9: 0.1 | N9: 0 | O9: =N9-P9 -> 0 | P9: =N9/1.1 -> 0 | Q9: 0 | R9: =N9-Q9 -> 0 | S9: 0
B10: 5 | L10: 0 | M10: 0.1 | N10: 0 | O10: =N10-P10 -> 0 | P10: =N10/1.1 -> 0 | Q10: 0 | R10: =N10-Q10 -> 0 | S10: 0
B11: 6 | L11: 0 | M11: 0.1 | N11: 0 | O11: =N11-P11 -> 0 | P11: =N11/1.1 -> 0 | Q11: 0 | R11: =N11-Q11 -> 0 | S11: 0
B12: 7 | L12: 0 | M12: 0.1 | N12: 0 | O12: =N12-P12 -> 0 | P12: =N12/1.1 -> 0 | Q12: 0 | R12: =N12-Q12 -> 0 | S12: 0
B13: 8 | L13: 0 | M13: 0.1 | N13: 0 | O13: =N13-P13 -> 0 | P13: =N13/1.1 -> 0 | Q13: 0 | R13: =N13-Q13 -> 0 | S13: 0
B14: 9 | L14: 0 | M14: 0.1 | N14: 0 | O14: =N14-P14 -> 0 | P14: =N14/1.1 -> 0 | Q14: 0 | R14: =N14-Q14 -> 0 | S14: 0
B15: 10 | L15: 0 | M15: 0.1 | N15: 0 | O15: =N15-P15 -> 0 | P15: =N15/1.1 -> 0 | Q15: 0 | R15: =N15-Q15 -> 0 | S15: 0
B16: 11 | L16: 0 | M16: 0.1 | N16: 0 | O16: =N16-P16 -> 0 | P16: =N16/1.1 -> 0 | Q16: 0 | R16: =N16-Q16 -> 0 | S16: 0
B17: 12 | L17: 0 | M17: 0.1 | N17: 0 | O17: =N17-P17 -> 0 | P17: =N17/1.1 -> 0 | Q17: 0 | R17: =N17-Q17 -> 0 | S17: 0
B18: 13 | L18: 0 | M18: 0.1 | N18: 0 | O18: =N18-P18 -> 0 | P18: =N18/1.1 -> 0 | Q18: 0 | R18: =N18-Q18 -> 0 | S18: 0
... B45: 40 | L45: 0 | M45: 0.1 | N45: 0 | O45: =N45-P45 -> 0 | P45: =N45/1.1 -> 0 | Q45: 0 | R45: =N45-Q45 -> 0 | S45: 0
L46: =SUM(L6:L45) -> 0 | N46: =SUM(N6:N45) -> 0 | O46: =N46-P46 -> 0 | P46: =SUM(P6:P45) -> 0 | Q46: =SUM(Q6:Q45) -> 0 | R46: =SUM(R6:R45) -> 0 | S46: =SUM(S6:S45) -> 0
B47: DOSSIER EN COURS | D47: 0 | E47: =N46-E49-E50 -> 0 | G47: TOTAL AVEC ANNULATION | I47: =E51-E50 -> 0
B48: DOSSIER EN PAUSE | D48: 0 | E48: 0
B49: DOSSIER REALISES | D49: 0 | E49: =S46 -> 0
B50: DOSSIER ANNULE | D50: 0 | E50: =L46 -> 0
B51: TOTAL | D51: =D47+D48+D49+D50 -> 0 | E51: =N46 -> 0
B53: MONTANT TVA | D53: =O46 -> 0
B55: TYPE DE TRAVAUX | D55: NOMBRE DE VENTES
B56: Peinture | D56: 0
B57: Electricité | D57: =COUNTIF(K6:K43,"Electricite") -> 0
B58: Stores | D58: =COUNTIF(K6:K43,"StoreS") -> 0
B59: Menuiserie | D59: =COUNTIF(K6:K43,"Menuiserie") -> 0
B60: Cabine de douche | D60: =COUNTIF(K10:K49,"douche") -> 0
B61: Plomberie | D61: =COUNTIF(K6:K43,"Plomberie") -> 0
B62: Maçonnerie | D62: =COUNTIF(K6:K43,"Maçonnerie") -> 0
B63: Fenêtres | D63: =COUNTIF(K6:K43,"Fenêtres") -> 0
B64: Volets | D64: =4 -> 4
B65: Alarme | D65: =COUNTIF(K6:K43,"Alarme") -> 0
B66: Revêtement de sol | D66: =COUNTIF(K6:K43,"sol") -> 0

Sheet Avril
A2: SUIVIE CLIENT 2017
A5: MOIS | B5: Nombres | C5: DATE | D5: N° CLIENT | E5: N° BC | F5: NOM | G5: PRENOM | H5: VTC | I5: ORIGINE | J5: DATE DE LIVRAISON | K5: TYPE DE TRAVAUX | L5: MONTANT DOSSIER ANNULER | M5: VALEUR TVA | N5: MONTANT TTC | O5: MONTANT TVA | P5: MONTANT HT | Q5: TOTAL PAYER | R5: RESTE A VERSER | S5: MONTANT DOSSIER POSE | T5: DATE COURRIER ANNULATION | U5: DATE COURRIER FACTURES | V5: DATE COURRIER DIVERS | W5: OBSERVATIONS
A6: AVRIL | B6: 1 | L6: 0 | M6: 0.1 | N6: 0 | O6: =N6-P6 -> 0 | P6: =N6/1.1 -> 0 | Q6: 0 | R6: =N6-Q6 -> 0 | S6: 0
B7: 2 | L7: 0 | M7: 0.1 | N7: 0 | O7: =N7-P7 -> 0 | P7: =N7/1.1 -> 0 | Q7: 0 | R7: =N7-Q7 -> 0 | S7: 0
B8: 3 | L8: 0 | M8: 0.1 | N8: 0 | O8: =N8-P8 -> 0 | P8: =N8/1.1 -> 0 | Q8: 0 | R8: =N8-Q8 -> 0 | S8: 0
B9: 4 | L9: 0 | M9: 0.1 | N9: 0 | O9: =N9-P9 -> 0 | P9: =N9/1.1 -> 0 | Q9: 0 | R9: =N9-Q9 -> 0 | S9: 0
B10: 5 | L10: 0 | M10: 0.1 | N10: 0 | O10: =N10-P10 -> 0 | P10: =N10/1.1 -> 0 | Q10: 0 | R10: =N10-Q10 -> 0 | S10: 0
B11: 6 | L11: 0 | M11: 0.1 | N11: 0 | O11: =N11-P11 -> 0 | P11: =N11/1.1 -> 0 | Q11: 0 | R11: =N11-Q11 -> 0 | S11: 0
B12: 7 | L12: 0 | M12: 0.1 | N12: 0 | O12: =N12-P12 -> 0 | P12: =N12/1.1 -> 0 | Q12: 0 | R12: =N12-Q12 -> 0 | S12: 0
B13: 8 | L13: 0 | M13: 0.1 | N13: 0 | O13: =N13-P13 -> 0 | P13: =N13/1.1 -> 0 | Q13: 0 | R13: =N13-Q13 -> 0 | S13: 0
B14: 9 | L14: 0 | M14: 0.1 | N14: 0 | O14: =N14-P14 -> 0 | P14: =N14/1.1 -> 0 | Q14: 0 | R14: =N14-Q14 -> 0 | S14: 0
B15: 10 | L15: 0 | M15: 0.1 | N15: 0 | O15: =N15-P15 -> 0 | P15: =N15/1.1 -> 0 | Q15: 0 | R15: =N15-Q15 -> 0 | S15: 0
B16: 11 | L16: 0 | M16: 0.1 | N16: 0 | O16: =N16-P16 -> 0 | P16: =N16/1.1 -> 0 | Q16: 0 | R16: =N16-Q16 -> 0 | S16: 0
B17: 12 | L17: 0 | M17: 0.1 | N17: 0 | O17: =N17-P17 -> 0 | P17: =N17/1.1 -> 0 | Q17: 0 | R17: =N17-Q17 -> 0 | S17: 0
B18: 13 | L18: 0 | M18: 0.1 | N18: 0 | O18: =N18-P18 -> 0 | P18: =N18/1.1 -> 0 | Q18: 0 | R18: =N18-Q18 -> 0 | S18: 0
... B45: 40 | L45: 0 | M45: 0.1 | N45: 0 | O45: =N45-P45 -> 0 | P45: =N45/1.1 -> 0 | Q45: 0 | R45: =N45-Q45 -> 0 | S45: 0
L46: =SUM(L6:L45) -> 0 | N46: =SUM(N6:N45) -> 0 | O46: =N46-P46 -> 0 | P46: =SUM(P6:P45) -> 0 | Q46: =SUM(Q6:Q45) -> 0 | R46: =SUM(R6:R45) -> 0 | S46: =SUM(S6:S45) -> 0
B47: DOSSIER EN COURS | D47: 0 | E47: 0 | G47: TOTAL AVEC ANNULATION | I47: =E51-E50 -> 0
B48: DOSSIER EN PAUSE | D48: 0 | E48: 0
B49: DOSSIER REALISES | D49: 0 | E49: =S46 -> 0
B50: DOSSIER ANNULE | D50: 0 | E50: =L46 -> 0
B51: TOTAL | D51: =D47+D48+D49+D50 -> 0 | E51: =N46 -> 0
B53: MONTANT TVA | D53: =O46 -> 0
B55: TYPE DE TRAVAUX | D55: NOMBRE DE VENTES
B56: Peinture | D56: 0
B57: Electricité | D57: =COUNTIF(K6:K45,"Electricite") -> 0
B58: Stores | D58: 0
B59: Menuiserie | D59: 0
B60: Cabine de douche | D60: =COUNTIF(K10:K49,"douche") -> 0
B61: Plomberie | D61: 0
B62: Maçonnerie | D62: 0
B63: Fenêtres | D63: 0
B64: Volets | D64: =COUNTIF(K6:K45,"Volets") -> 0
B65: Alarme | D65: =COUNTIF(K6:K45,"Alarme") -> 0
B66: Revêtement de sol | D66: 0

Sheet Mai
A2: SUIVIE CLIENT 2017
A5: MOIS | B5: Nombres | C5: DATE | D5: N° CLIENT | E5: N° BC | F5: NOM | G5: PRENOM | H5: VTC | I5: ORIGINE | J5: DATE DE LIVRAISON | K5: TYPE DE TRAVAUX | L5: MONTANT DOSSIER ANNULER | M5: VALEUR TVA | N5: MONTANT TTC | O5: MONTANT TVA | P5: MONTANT HT | Q5: TOTAL PAYER | R5: RESTE A VERSER | S5: MONTANT DOSSIER POSE | T5: DATE COURRIER ANNULATION | U5: DATE COURRIER FACTURES | V5: DATE COURRIER DIVERS | W5: OBSERVATIONS
A6: MAI | B6: 1 | L6: 0 | M6: 0.1 | N6: 0 | O6: =N6-P6 -> 0 | P6: =N6/1.1 -> 0 | Q6: 0 | R6: =N6-Q6 -> 0 | S6: 0
B7: 2 | L7: 0 | M7: 0.1 | N7: 0 | O7: =N7-P7 -> 0 | P7: =N7/1.1 -> 0 | Q7: 0 | R7: =N7-Q7 -> 0 | S7: 0
B8: 3 | L8: 0 | M8: 0.1 | N8: 0 | O8: =N8-P8 -> 0 | P8: =N8/1.1 -> 0 | Q8: 0 | R8: =N8-Q8 -> 0 | S8: 0
B9: 4 | L9: 0 | M9: 0.1 | N9: 0 | O9: =N9-P9 -> 0 | P9: =N9/1.1 -> 0 | Q9: 0 | R9: =N9-Q9 -> 0 | S9: 0
B10: 5 | L10: 0 | M10: 0.1 | N10: 0 | O10: =N10-P10 -> 0 | P10: =N10/1.1 -> 0 | Q10: 0 | R10: =N10-Q10 -> 0 | S10: 0
B11: 6 | L11: 0 | M11: 0.1 | N11: 0 | O11: =N11-P11 -> 0 | P11: =N11/1.1 -> 0 | Q11: 0 | R11: =N11-Q11 -> 0 | S11: 0
B12: 7 | L12: 0 | M12: 0.1 | N12: 0 | O12: =N12-P12 -> 0 | P12: =N12/1.1 -> 0 | Q12: 0 | R12: =N12-Q12 -> 0 | S12: 0
B13: 8 | L13: 0 | M13: 0.1 | N13: 0 | O13: =N13-P13 -> 0 | P13: =N13/1.1 -> 0 | Q13: 0 | R13: =N13-Q13 -> 0 | S13: 0
B14: 9 | L14: 0 | M14: 0.1 | N14: 0 | O14: =N14-P14 -> 0 | P14: =N14/1.1 -> 0 | Q14: 0 | R14: =N14-Q14 -> 0 | S14: 0
B15: 10 | L15: 0 | M15: 0.1 | N15: 0 | O15: =N15-P15 -> 0 | P15: =N15/1.1 -> 0 | Q15: 0 | R15: =N15-Q15 -> 0 | S15: 0
B16: 11 | L16: 0 | M16: 0.1 | N16: 0 | O16: =N16-P16 -> 0 | P16: =N16/1.1 -> 0 | Q16: 0 | R16: =N16-Q16 -> 0 | S16: 0
B17: 12 | L17: 0 | M17: 0.1 | N17: 0 | O17: =N17-P17 -> 0 | P17: =N17/1.1 -> 0 | Q17: 0 | R17: =N17-Q17 -> 0 | S17: 0
B18: 13 | L18: 0 | M18: 0.1 | N18: 0 | O18: =N18-P18 -> 0 | P18: =N18/1.1 -> 0 | Q18: 0 | R18: =N18-Q18 -> 0 | S18: 0
... B45: 40 | L45: 0 | M45: 0.1 | N45: 0 | O45: =N45-P45 -> 0 | P45: =N45/1.1 -> 0 | Q45: 0 | R45: =N45-Q45 -> 0 | S45: 0
L46: =SUM(L6:L45) -> 0 | N46: =SUM(N6:N45) -> 0 | O46: =N46-P46 -> 0 | P46: =SUM(P6:P45) -> 0 | Q46: =SUM(Q6:Q45) -> 0 | R46: =SUM(R6:R45) -> 0 | S46: =SUM(S6:S45) -> 0
B47: DOSSIER EN COURS | D47: 0 | E47: =N15+N35+N39 -> 0 | G47: TOTAL AVEC ANNULATION | I47: =E51-E50 -> 0
B48: DOSSIER EN PAUSE | D48: 0 | E48: =N17+N31 -> 0
B49: DOSSIER REALISES | D49: 0 | E49: =S46 -> 0
B50: DOSSIER ANNULE | D50: 0 | E50: =L46 -> 0
B51: TOTAL | D51: =D47+D48+D49+D50 -> 0 | E51: =N46 -> 0
B53: MONTANT TVA | D53: =O46 -> 0
B55: TYPE DE TRAVAUX | D55: NOMBRE DE VENTES
B56: Peinture | D56: =COUNTIF(K6:K45,"Peinture") -> 0
B57: Electricité | D57: =COUNTIF(K6:K45,"Electricite") -> 0
B58: Stores | D58: =COUNTIF(K6:K45,"Store") -> 0
B59: Menuiserie | D59: =COUNTIF(K6:K45,"Menuiserie") -> 0
B60: Cabine de douche | D60: =COUNTIF(K10:K49,"douche") -> 0
B61: Plomberie | D61: =COUNTIF(K6:K45,"Plomberie") -> 0
B62: Maçonnerie | D62: =COUNTIF(K6:K45,"Maçonnerie") -> 0
B63: Fenêtres | D63: =COUNTIF(K6:K45,"fenetre") -> 0
B64: Volets | D64: =COUNTIF(K6:K45,"Volets") -> 0
B65: Alarme | D65: =COUNTIF(K6:K45,"Alarme") -> 0
B66: Revêtement de sol | D66: =COUNTIF(K6:K45,"sol") -> 0

Sheet Juin
A2: SUIVIE CLIENT 2016
A5: MOIS | B5: Nombres | C5: DATE | D5: N° CLIENT | E5: N° BC | F5: NOM | G5: PRENOM | H5: VTC | I5: ORIGINE | J5: DATE DE LIVRAISON | K5: TYPE DE TRAVAUX | L5: MONTANT DOSSIER ANNULER | M5: VALEUR TVA | N5: MONTANT TTC | O5: MONTANT TVA | P5: MONTANT HT | Q5: TOTAL PAYER | R5: RESTE A VERSER | S5: MONTANT DOSSIER POSE | T5: DATE COURRIER ANNULATION | U5: DATE COURRIER FACTURES | V5: DATE COURRIER DIVERS | W5: OBSERVATIONS
A6: JUIN
L31: =SUM(L6:L30) -> 0 | N31: =SUM(N6:N30) -> 0 | O31: =SUM(O6:O30) -> 0 | P31: =SUM(P6:P30) -> 0 | Q31: =SUM(Q6:Q30) -> 0 | R31: =SUM(R6:R30) -> 0 | S31: =SUM(S6:S30) -> 0
B32: DOSSIER EN COURS | D32: 0 | E32: =N6+N7 -> 0 | G32: TOTAL AVEC ANNULATION | I32: =E36-E35 -> 0
B33: DOSSIER EN PAUSE | D33: 0 | E33: 0
B34: DOSSIER REALISES | D34: 0 | E34: =S31 -> 0
B35: DOSSIER ANNULE | D35: 0 | E35: =L31 -> 0
B36: TOTAL | D36: 0 | E36: =N31 -> 0
B38: MONTANT TVA | D38: =O31 -> 0
B40: TYPE DE TRAVAUX | D40: NOMBRE DE VENTES
B41: Peinture | D41: =COUNTIF(K6:K30,"Peinture") -> 0
B42: Electricité | D42: =COUNTIF(K6:K30,"Electricite") -> 0
B43: Stores | D43: =COUNTIF(K6:K30,"Store") -> 0
B44: Menuiserie | D44: =COUNTIF(K6:K30,"Menuiserie") -> 0
B45: Cabine de douche | D45: =COUNTIF(K10:K34,"douche") -> 0
B46: Plomberie | D46: =COUNTIF(K6:K30,"Plomberie") -> 0
B47: Maçonnerie | D47: =COUNTIF(K6:K30,"Maçonnerie") -> 0
B48: Fenêtres | D48: =COUNTIF(K6:K30,"fenetre") -> 0
B49: Volets | D49: =COUNTIF(K6:K30,"Volets") -> 0
B50: Alarme | D50: =COUNTIF(K6:K30,"Alarme") -> 0
B51: Revêtement de sol | D51: =COUNTIF(K6:K30,"sol") -> 0

Sheet Juillet
A2: SUIVIE CLIENT 2016
A5: MOIS | B5: Nombres | C5: DATE | D5: N° CLIENT | E5: N° BC | F5: NOM | G5: PRENOM | H5: VTC | I5: ORIGINE | J5: DATE DE LIVRAISON | K5: RDV METRAGE | L5: PIT | M5: TYPE DE TRAVAUX | N5: SURFACE | O5: BAREME | P5: MONTANT DOSSIER ANNULER | Q5: VALEUR TVA | R5: MONTANT TTC | S5: MONTANT TVA | T5: MONTANT HT | U5: TOTAL PAYER | V5: RESTE A VERSER | W5: MONTANT DOSSIER POSE | X5: DATE COURRIER ANNULATION | Y5: DATE COURRIER FACTURES | Z5: DATE COURRIER DIVERS | AA5: OBSERVATIONS
A6: JUILLET
P22: =SUM(P6:P21) -> 0 | R22: =SUM(R6:R21) -> 0 | S22: =SUM(S6:S21) -> 0 | T22: =SUM(T6:T21) -> 0 | U22: =SUM(U6:U21) -> 0 | V22: =SUM(V6:V21) -> 0 | W22: =SUM(W6:W21) -> 0
B23: DOSSIER EN COURS | D23: 0 | E23: =R6+R7 -> 0 | G23: TOTAL AVEC ANNULATION | I23: =E27-E26 -> 0
B24: DOSSIER EN PAUSE | D24: 0 | E24: 0
B25: DOSSIER REALISES | D25: 0 | E25: =W22 -> 0
B26: DOSSIER ANNULE | D26: 0 | E26: =P22 -> 0
B27: TOTAL | D27: =D23+D24+D25+D26 -> 0 | E27: =R22 -> 0
B29: MONTANT TVA | D29: =S22 -> 0
B31: TYPE DE TRAVAUX | D31: NOMBRE DE VENTES
B32: Peinture | D32: =COUNTIF(M6:M21,"Peinture") -> 0
B33: Electricité | D33: =COUNTIF(M6:M21,"Electricite") -> 0
B34: Stores | D34: =COUNTIF(M6:M21,"Store") -> 0
B35: Menuiserie | D35: =COUNTIF(M6:M21,"Menuiserie") -> 0
B36: Cabine de douche | D36: =COUNTIF(M10:M25,"douche") -> 0
B37: Plomberie | D37: =COUNTIF(M6:M21,"Plomberie") -> 0
B38: Maçonnerie | D38: =COUNTIF(M6:M21,"Maçonnerie") -> 0
B39: Fenêtres | D39: =COUNTIF(M6:M21,"fenetre") -> 0
B40: Volets | D40: =COUNTIF(M6:M21,"Volets") -> 0
B41: Alarme | D41: =COUNTIF(M6:M21,"Alarme") -> 0
B42: Revêtement de sol | D42: =COUNTIF(M6:M21,"sol") -> 0

Sheet Aout
A2: SUIVIE CLIENT 2016
A5: MOIS | B5: Nombres | C5: DATE | D5: N° CLIENT | E5: N° BC | F5: NOM | G5: PRENOM | H5: VTC | I5: ORIGINE | J5: DATE DE LIVRAISON | K5: RDV METRAGE | L5: TYPE DE TRAVAUX | M5: MONTANT DOSSIER ANNULER | N5: VALEUR TVA | O5: MONTANT TTC | P5: MONTANT TVA | Q5: MONTANT HT | R5: TOTAL PAYER | S5: RESTE A VERSER | T5: MONTANT DOSSIER POSE | U5: DATE COURRIER ANNULATION | V5: DATE COURRIER FACTURES | W5: DATE COURRIER DIVERS | X5: OBSERVATIONS
A6: AOUT | B6: 1 | D6: PA0 | I6: RP / TM | M6: 0 | N6: 0.1 | O6: 0 | P6: =O6-Q6 -> 0 | Q6: =O6/1.1 -> 0 | R6: 0 | S6: =O6-R6 -> 0 | T6: 0
B7: 2 | D7: PA0 | I7: RP / TM | M7: 0 | N7: 0.1 | O7: 0 | P7: =O7-Q7 -> 0 | Q7: =O7/1.1 -> 0 | R7: 0 | S7: =O7-R7 -> 0 | T7: 0
B8: 3 | D8: PA0 | I8: RP / TM | M8: 0 | N8: 0.1 | O8: 0 | P8: =O8-Q8 -> 0 | Q8: =O8/1.1 -> 0 | R8: 0 | S8: =O8-R8 -> 0 | T8: 0
B9: 4 | D9: PA0 | I9: RP / TM | M9: 0 | N9: 0.1 | O9: 0 | P9: =O9-Q9 -> 0 | Q9: =O9/1.1 -> 0 | R9: 0 | S9: =O9-R9 -> 0 | T9: 0
B10: 5 | D10: PA0 | I10: RP / TM | M10: 0 | N10: 0.1 | O10: 0 | P10: =O10-Q10 -> 0 | Q10: =O10/1.1 -> 0 | R10: 0 | S10: =O10-R10 -> 0 | T10: 0
B11: 6 | D11: PA0 | I11: RP / TM | M11: 0 | N11: 0.1 | O11: 0 | P11: =O11-Q11 -> 0 | Q11: =O11/1.1 -> 0 | R11: 0 | S11: =O11-R11 -> 0 | T11: 0
B12: 7 | D12: PA0 | I12: RP / TM | M12: 0 | N12: 0.1 | O12: 0 | P12: =O12-Q12 -> 0 | Q12: =O12/1.1 -> 0 | R12: 0 | S12: =O12-R12 -> 0 | T12: 0
B13: 8 | D13: PA0 | I13: RP / TM | M13: 0 | N13: 0.1 | O13: 0 | P13: =O13-Q13 -> 0 | Q13: =O13/1.1 -> 0 | R13: 0 | S13: =O13-R13 -> 0 | T13: 0
B14: 9 | D14: PA0 | I14: RP / TM | M14: 0 | N14: 0.1 | O14: 0 | P14: =O14-Q14 -> 0 | Q14: =O14/1.1 -> 0 | R14: 0 | S14: =O14-R14 -> 0 | T14: 0
B15: 10 | D15: PA0 | I15: RP / TM | M15: 0 | N15: 0.1 | O15: 0 | P15: =O15-Q15 -> 0 | Q15: =O15/1.1 -> 0 | R15: 0 | S15: =O15-R15 -> 0 | T15: 0
B16: 11 | D16: PA0 | I16: RP / TM | M16: 0 | N16: 0.1 | O16: 0 | P16: =O16-Q16 -> 0 | Q16: =O16/1.1 -> 0 | R16: 0 | S16: =O16-R16 -> 0 | T16: 0
B17: 12 | D17: PA0 | I17: RP / TM | M17: 0 | N17: 0.1 | O17: 0 | P17: =O17-Q17 -> 0 | Q17: =O17/1.1 -> 0 | R17: 0 | S17: =O17-R17 -> 0 | T17: 0
B18: 13 | D18: PA0 | I18: RP / TM | M18: 0 | N18: 0.1 | O18: 0 | P18: =O18-Q18 -> 0 | Q18: =O18/1.1 -> 0 | R18: 0 | S18: =O18-R18 -> 0 | T18: 0
... B35: 30 | D35: PA0 | I35: RP / TM | M35: 0 | N35: 0.1 | O35: 0 | P35: =O35-Q35 -> 0 | Q35: =O35/1.1 -> 0 | R35: 0 | S35: =O35-R35 -> 0 | T35: 0
M36: =SUM(M6:M35) -> 0 | O36: =SUM(O6:O35) -> 0 | P36: =SUM(P6:P35) -> 0 | Q36: =SUM(Q6:Q35) -> 0 | R36: =SUM(R6:R35) -> 0 | S36: =SUM(S6:S35) -> 0 | T36: =SUM(T6:T35) -> 0
B37: DOSSIER EN COURS | D37: 0 | E37: =O6+O7 -> 0 | G37: TOTAL AVEC ANNULATION | I37: =E41-E40 -> 0
B38: DOSSIER EN PAUSE | D38: 0 | E38: 0
B39: DOSSIER REALISES | D39: 0 | E39: =T36 -> 0
B40: DOSSIER ANNULE | D40: 0 | E40: =M36 -> 0
B41: TOTAL | D41: =D37+D38+D39+D40 -> 0 | E41: =O36 -> 0
B43: MONTANT TVA | D43: =P36 -> 0
B45: TYPE DE TRAVAUX | D45: NOMBRE DE VENTES
B46: Peinture | D46: =COUNTIF(L6:L35,"Peinture") -> 0
B47: Electricité | D47: =COUNTIF(L6:L35,"Electricite") -> 0
B48: Stores | D48: =COUNTIF(L6:L35,"Store") -> 0
B49: Menuiserie | D49: =COUNTIF(L6:L35,"Menuiserie") -> 0
B50: Cabine de douche | D50: =COUNTIF(L10:L39,"douche") -> 0
B51: Plomberie | D51: =COUNTIF(L6:L35,"Plomberie") -> 0
B52: Maçonnerie | D52: =COUNTIF(L6:L35,"Maçonnerie") -> 0
B53: Fenêtres | D53: =COUNTIF(L6:L35,"fenetre") -> 0
B54: Volets | D54: =COUNTIF(L6:L35,"Volets") -> 0
B55: Alarme | D55: =COUNTIF(L6:L35,"Alarme") -> 0
B56: Revêtement de sol | D56: =COUNTIF(L6:L35,"sol") -> 0

Sheet Septembre
A2: SUIVIE CLIENT 2016
A5: MOIS | B5: Nombres | C5: DATE | D5: N° CLIENT | E5: N° BC | F5: NOM | G5: PRENOM | H5: VTC | I5: ORIGINE | J5: DATE DE LIVRAISON | K5: RDV METRAGE | L5: PIT | M5: TYPE DE TRAVAUX | N5: SURFACE | O5: MONTANT DOSSIER ANNULER | P5: VALEUR TVA | Q5: MONTANT TTC | R5: MONTANT TVA | S5: MONTANT HT | T5: TOTAL PAYER | U5: RESTE A VERSER | V5: MONTANT DOSSIER POSE | W5: DATE COURRIER ANNULATION | X5: DATE COURRIER FACTURES | Y5: DATE COURRIER DIVERS | Z5: OBSERVATIONS
A6: SEPTEMBRE | B6: 1
B7: 2
B8: 3
B9: 4
B10: 5
B11: 6
B12: 7
B13: 8
B14: 9
B15: 10
B16: 11
B17: 12
B18: 13
... B29: 24
O30: =SUM(O6:O29) -> 0 | Q30: =SUM(Q6:Q29) -> 0 | R30: =SUM(R6:R29) -> 0 | S30: =SUM(S6:S29) -> 0 | T30: =SUM(T6:T29) -> 0 | U30: =SUM(U6:U29) -> 0 | V30: =SUM(V6:V29) -> 0
B31: DOSSIER EN COURS | D31: 0 | E31: =Q6+Q7 -> 0 | G31: TOTAL AVEC ANNULATION | I31: =E35-E34 -> 0
B32: DOSSIER EN PAUSE | D32: 0 | E32: 0
B33: DOSSIER REALISES | D33: 0 | E33: =V30 -> 0
B34: DOSSIER ANNULE | D34: 0 | E34: =O30 -> 0
B35: TOTAL | D35: =D31+D32+D33+D34 -> 0 | E35: =Q30 -> 0
B37: MONTANT TVA | D37: =R30 -> 0
B39: TYPE DE TRAVAUX | D39: NOMBRE DE VENTES
B40: Peinture | D40: =COUNTIF(M6:M29,"Peinture") -> 0
B41: Electricité | D41: =COUNTIF(M6:M29,"Electricite") -> 0
B42: Stores | D42: =COUNTIF(M6:M29,"Store") -> 0
B43: Menuiserie | D43: =COUNTIF(M6:M29,"Menuiserie") -> 0
B44: Cabine de douche | D44: =COUNTIF(M10:M33,"douche") -> 0
B45: Plomberie | D45: =COUNTIF(M6:M29,"Plomberie") -> 0
B46: Maçonnerie | D46: =COUNTIF(M6:M29,"Maçonnerie") -> 0
B47: Fenêtres | D47: =COUNTIF(M6:M29,"fenetre") -> 0
B48: Volets | D48: =COUNTIF(M6:M29,"Volets") -> 0
B49: Alarme | D49: =COUNTIF(M6:M29,"Alarme") -> 0
B50: Revêtement de sol | D50: =COUNTIF(M6:M29,"sol") -> 0

Sheet Octobre
A2: SUIVIE CLIENT 2016
A5: MOIS | B5: Nombres | C5: DATE | D5: N° CLIENT | E5: N° BC | F5: NOM | G5: PRENOM | H5: VTC | I5: ORIGINE | J5: DATE DE LIVRAISON | K5: RDV METRAGE | L5: PIT | M5: TYPE DE TRAVAUX | N5: SURFACE | O5: LA DATE DU COMMISSION DES VTC | P5: MONTANT DOSSIER ANNULER | Q5: VALEUR TVA | R5: MONTANT TTC | S5: MONTANT TVA | T5: MONTANT HT | U5: TOTAL PAYER | V5: RESTE A VERSER | W5: MONTANT DOSSIER POSE | X5: DATE COURRIER ANNULATION | Y5: DATE COURRIER FACTURES | Z5: DATE COURRIER DIVERS | AA5: OBSERVATIONS
A6: OCTOBRE | B6: 1
B7: 2
B8: 3
B9: 4
B10: 5
B11: 6
B12: 7
B13: 8
B14: 9
B15: 10
B16: 11
B17: 12
B18: 13
... B32: 27
P33: =SUM(P6:P32) -> 0 | R33: =SUM(R6:R32) -> 0 | S33: =SUM(S6:S32) -> 0 | T33: =SUM(T6:T32) -> 0 | U33: =SUM(U6:U32) -> 0 | V33: =SUM(V6:V32) -> 0 | W33: =SUM(W6:W32) -> 0
B34: DOSSIER EN COURS | D34: 0 | E34: =R9+R17+R18+R22+R24+R25+R28+R29+R30+R32 -> 0 | G34: TOTAL AVEC ANNULATION | I34: =E38-E37 -> 0
B35: DOSSIER EN PAUSE | D35: 0 | E35: 0
B36: DOSSIER REALISES | D36: 0 | E36: =W33 -> 0
B37: DOSSIER ANNULE | D37: 0 | E37: =P33 -> 0
B38: TOTAL | D38: =D34+D35+D36+D37 -> 0 | E38: =R33 -> 0
B40: MONTANT TVA | D40: =S33 -> 0
B42: TYPE DE TRAVAUX | D42: NOMBRE DE VENTES
B43: Peinture | D43: 9
B44: Electricité | D44: 3
B45: Stores | D45: 2
B46: Menuiserie | D46: =COUNTIF(M6:M32,"Menuiserie") -> 0
B47: Cabine de douche | D47: =COUNTIF(M10:M36,"douche") -> 0
B48: Plomberie | D48: =COUNTIF(M6:M32,"Plomberie") -> 0
B49: Maçonnerie | D49: =COUNTIF(M6:M32,"Maçonnerie") -> 0
B50: Fenêtres | D50: =COUNTIF(M6:M32,"fenetre") -> 0
B51: Volets | D51: =COUNTIF(M6:M32,"Volets") -> 0
B52: Alarme | D52: =COUNTIF(M6:M32,"Alarme") -> 0
B53: Revêtement de sol | D53: =COUNTIF(M6:M32,"sol") -> 0

Sheet Novembre
A2: SUIVIE CLIENT 2016
A5: MOIS | B5: Nombres | C5: DATE | D5: N° CLIENT | E5: N° BC | F5: NOM | G5: PRENOM | H5: VTC | I5: ORIGINE | J5: DATE DE LIVRAISON | K5: RDV METRAGE | L5: PIT | M5: TYPE DE TRAVAUX | N5: SURFACE | O5: MONTANT DOSSIER ANNULER | P5: VALEUR TVA | Q5: MONTANT TTC | R5: MONTANT TVA | S5: MONTANT HT | T5: TOTAL PAYER | U5: RESTE A VERSER | V5: MONTANT DOSSIER POSE | W5: DATE COURRIER ANNULATION | X5: DATE COURRIER FACTURES | Y5: DATE COURRIER DIVERS | Z5: OBSERVATIONS
A6: NOVEMBRE | B6: 1
B7: 2
B8: 3
B9: 4
B10: 5
B11: 6
B12: 7
B13: 8
B14: 9
B15: 10
B16: 11
B17: 12
B18: 13
... B24: 19
O25: =SUM(O6:O24) -> 0 | Q25: =SUM(Q6:Q24) -> 0 | R25: =SUM(R6:R24) -> 0 | S25: =SUM(S6:S24) -> 0 | T25: =SUM(T6:T24) -> 0 | U25: =SUM(U6:U24) -> 0 | V25: =SUM(V6:V24) -> 0
B26: DOSSIER EN COURS | D26: 0 | E26: =Q25 -> 0 | G26: TOTAL AVEC ANNULATION | I26: =E30-E29 -> 0
B27: DOSSIER EN PAUSE | D27: 0 | E27: 0
B28: DOSSIER REALISES | D28: 0 | E28: =V25 -> 0
B29: DOSSIER ANNULE | D29: 0 | E29: =O25 -> 0
B30: TOTAL | D30: =D26+D27+D28+D29 -> 0 | E30: =Q25 -> 0
B32: MONTANT TVA | D32: =R25 -> 0
B34: TYPE DE TRAVAUX | D34: NOMBRE DE VENTES
B35: Peinture | D35: =COUNTIF(M6:M24,"Peinture") -> 0
B36: Electricité | D36: =COUNTIF(M6:M24,"Electricite") -> 0
B37: Stores | D37: =COUNTIF(M6:M24,"Store") -> 0
B38: Menuiserie | D38: =COUNTIF(M6:M24,"Menuiserie") -> 0
B39: Cabine de douche | D39: =COUNTIF(M10:M28,"douche") -> 0
B40: Plomberie | D40: =COUNTIF(M6:M24,"Plomberie") -> 0
B41: Maçonnerie | D41: =COUNTIF(M6:M24,"Maçonnerie") -> 0
B42: Fenêtres | D42: =COUNTIF(M6:M24,"fenetre") -> 0
B43: Volets | D43: =COUNTIF(M6:M24,"Volets") -> 0
B44: Alarme | D44: =COUNTIF(M6:M24,"Alarme") -> 0
B45: Revêtement de sol | D45: =COUNTIF(M6:M24,"sol") -> 0

Sheet Décembre
A2: SUIVIE CLIENT 2016
A5: MOIS | B5: Nombres | C5: DATE | D5: N° CLIENT | E5: N° BC | F5: NOM | G5: PRENOM | H5: VTC | I5: ORIGINE | J5: DATE DE LIVRAISON | K5: TYPE DE TRAVAUX | L5: MONTANT DOSSIER ANNULER | M5: VALEUR TVA | N5: MONTANT TTC | O5: MONTANT TVA | P5: MONTANT HT | Q5: TOTAL PAYER | R5: RESTE A VERSER | S5: MONTANT DOSSIER POSE | T5: DATE COURRIER ANNULATION | U5: DATE COURRIER FACTURES | V5: DATE COURRIER DIVERS | W5: OBSERVATIONS
A6: DECEMBRE | B6: 1
B7: 2
B8: 3
B9: 4
B10: 5
B11: 6
B12: 7
B13: 8
B14: 9
B15: 10
B16: 11
B17: 12
B18: 13
... B28: 23
B29: 24 | D29: PA0 | I29: RP / TM | L29: 0 | M29: 0.1 | N29: 0 | O29: =N29-P29 -> 0 | P29: =N29/1.1 -> 0 | Q29: 0 | R29: =N29-Q29 -> 0 | S29: 0
B30: 25 | D30: PA0 | I30: RP / TM | L30: 0 | M30: 0.1 | N30: 0 | O30: =N30-P30 -> 0 | P30: =N30/1.1 -> 0 | Q30: 0 | R30: =N30-Q30 -> 0 | S30: 0
B31: 26 | D31: PA0 | I31: RP / TM | L31: 0 | M31: 0.1 | N31: 0 | O31: =N31-P31 -> 0 | P31: =N31/1.1 -> 0 | Q31: 0 | R31: =N31-Q31 -> 0 | S31: 0
B32: 27 | D32: PA0 | I32: RP / TM | L32: 0 | M32: 0.1 | N32: 0 | O32: =N32-P32 -> 0 | P32: =N32/1.1 -> 0 | Q32: 0 | R32: =N32-Q32 -> 0 | S32: 0
B33: 28 | D33: PA0 | I33: RP / TM | L33: 0 | M33: 0.1 | N33: 0 | O33: =N33-P33 -> 0 | P33: =N33/1.1 -> 0 | Q33: 0 | R33: =N33-Q33 -> 0 | S33: 0
B34: 29 | D34: PA0 | I34: RP / TM | L34: 0 | M34: 0.1 | N34: 0 | O34: =N34-P34 -> 0 | P34: =N34/1.1 -> 0 | Q34: 0 | R34: =N34-Q34 -> 0 | S34: 0
B35: 30 | D35: PA0 | I35: RP / TM | L35: 0 | M35: 0.1 | N35: 0 | O35: =N35-P35 -> 0 | P35: =N35/1.1 -> 0 | Q35: 0 | R35: =N35-Q35 -> 0 | S35: 0
L36: =SUM(L6:L35) -> 0 | N36: =SUM(N6:N35) -> 0 | O36: =SUM(O6:O35) -> 0 | P36: =SUM(P6:P35) -> 0 | Q36: =SUM(Q6:Q35) -> 0 | R36: =SUM(R6:R35) -> 0 | S36: =SUM(S6:S35) -> 0
B37: DOSSIER EN COURS | D37: 20 | E37: =N36 -> 0 | G37: TOTAL AVEC ANNULATION | I37: =E41-E40 -> 0
B38: DOSSIER EN PAUSE | D38: 0 | E38: 0
B39: DOSSIER REALISES | D39: 1 | E39: =S36 -> 0
B40: DOSSIER ANNULE | D40: 2 | E40: =L36 -> 0
B41: TOTAL | D41: =D37+D38+D39+D40 -> 23 | E41: =N36 -> 0
B43: MONTANT TVA | D43: =O36 -> 0
B45: TYPE DE TRAVAUX | D45: NOMBRE DE VENTES
B46: Peinture | D46: =COUNTIF(K6:K35,"Peinture") -> 0
B47: Electricité | D47: =COUNTIF(K6:K35,"Electricite") -> 0
B48: Stores | D48: =COUNTIF(K6:K35,"Store") -> 0
B49: Menuiserie | D49: =COUNTIF(K6:K35,"Menuiserie") -> 0
B50: Cabine de douche | D50: =COUNTIF(K10:K39,"douche") -> 0
B51: Plomberie | D51: =COUNTIF(K6:K35,"Plomberie") -> 0
B52: Maçonnerie | D52: =COUNTIF(K6:K35,"Maçonnerie") -> 0
B53: Fenêtres | D53: =COUNTIF(K6:K35,"fenetre") -> 0
B54: Volets | D54: =COUNTIF(K6:K35,"Volets") -> 0
...

Sheet Année 2016
B1: BILAN 2016
C4: DOSSIER EN COURS | E4: DOSSIER EN PAUSE | G4: DOSSIER REALISES | I4: DOSSIER ANNULE | K4: TOTAL
B5: JANVIER | C5: =Janvier!D47 -> 0 | D5: =Janvier!E47 -> 0 | E5: =Janvier!D48 -> 0 | F5: 0 | G5: =Janvier!D49 -> 0 | H5: =Janvier!E49 -> 0 | I5: =Janvier!D50 -> 0 | J5: =Janvier!E50 -> 0 | K5: =D5+H5+F5 -> 0
B6: FÉVRIER | C6: =Fevrier!D47 -> 0 | D6: =Fevrier!E47 -> 0 | E6: 0 | F6: 0 | G6: =Fevrier!D49 -> 0 | H6: =Fevrier!E49 -> 0 | I6: =Fevrier!D50 -> 0 | J6: =Fevrier!E50 -> 0 | K6: =D6+H6+F6 -> 0
B7: MARS | C7: =Mars!D47 -> 0 | D7: =Mars!E47 -> 0 | E7: 0 | F7: 0 | G7: =Mars!D49 -> 0 | H7: =Mars!E49 -> 0 | I7: =Mars!D50 -> 0 | J7: =Mars!E50 -> 0 | K7: =D7+H7+F7 -> 0
B8: AVRIL | C8: =Avril!D47 -> 0 | D8: =Avril!E47 -> 0 | E8: 2 | F8: 0 | G8: =Avril!D49 -> 0 | H8: =Avril!E49 -> 0 | I8: =Avril!D50 -> 0 | J8: =Avril!E50 -> 0 | K8: =D8+H8+F8 -> 0
B9: MAI | C9: =Mai!D47 -> 0 | D9: =Mai!E47 -> 0 | E9: =Mai!D48 -> 0 | F9: =Mai!E48 -> 0 | G9: =Mai!D49 -> 0 | H9: =Mai!E49 -> 0 | I9: =Mai!D50 -> 0 | J9: =Mai!E50 -> 0 | K9: =D9+H9+F9 -> 0
B10: JUIN | C10: =Juin!D32 -> 0 | D10: =Juin!E32 -> 0 | E10: 0 | F10: =Janvier!E53 -> 0 | G10: =Juin!D34 -> 0 | H10: =Juin!E34 -> 0 | I10: =Juin!D35 -> 0 | J10: =Juin!E35 -> 0 | K10: =D10+H10+F10 -> 0
B11: JUILLET | C11: =Fevrier!D52 -> 0 | D11: =Juillet!E23 -> 0 | E11: 0 | F11: =Janvier!E54 -> 0 | G11: =Juillet!D25 -> 0 | H11: =Juillet!E25 -> 0 | I11: =Juillet!D26 -> 0 | J11: =Juillet!E26 -> 0 | K11: =D11+H11+F11 -> 0
B12: AOÛT | C12: 0 | D12: 0 | E12: 0 | F12: =Janvier!E55 -> 0 | G12: 0 | H12: 0 | I12: 0 | J12: 0 | K12: =D12+H12+F12 -> 0
B13: SEPTEMBRE | C13: =Septembre!D31 -> 0 | D13: =Septembre!E31 -> 0 | E13: 0 | F13: =Janvier!E56 -> 0 | G13: =Septembre!D33 -> 0 | H13: =Septembre!E33 -> 0 | I13: =Septembre!D34 -> 0 | J13: =Septembre!E34 -> 0 | K13: =D13+H13+F13 -> 0
B14: OCTOBRE | C14: =Octobre!D34 -> 0 | D14: =Octobre!E34 -> 0 | E14: 0 | F14: =Janvier!E57 -> 0 | G14: =Octobre!D36 -> 0 | H14: =Octobre!E36 -> 0 | I14: =Octobre!D37 -> 0 | J14: =Octobre!E37 -> 0 | K14: =D14+H14+F14 -> 0
B15: NOVEMBRE | C15: =Novembre!D26 -> 0 | D15: =Novembre!E26 -> 0 | E15: 0 | F15: =Janvier!E58 -> 0 | G15: =Novembre!D28 -> 0 | H15: =Novembre!E28 -> 0 | I15: =Novembre!D29 -> 0 | J15: =Novembre!E29 -> 0 | K15: =D15+H15+F15 -> 0
B16: DÉCEMBRE | C16: =Décembre!D37 -> 20 | D16: =Décembre!E37 -> 0 | E16: 0 | F16: =Janvier!E59 -> 0 | G16: =Décembre!D39 -> 1 | H16: =Décembre!E39 -> 0 | I16: =Décembre!D40 -> 2 | J16: =Décembre!E40 -> 0 | K16: =D16+H16+F16 -> 0
B17: TOTAL | C17: =SUM(C5:C16) -> 20 | D17: =SUM(D5:D16) -> 0 | E17: =SUM(E5:E16) -> 2 | F17: =SUM(F5:F16) -> 0 | G17: =SUM(G5:G16) -> 1 | H17: =SUM(H5:H16) -> 0 | I17: =SUM(I5:I16) -> 2 | J17: =SUM(J5:J16) -> 0 | K17: =SUM(K5:K16) -> 0
B20: TYPE DE TRAVAUX | D20: NOMBRE DE VENTES | F20: TOTAL ANNEE 2016 avec annulation | I20: =K17 -> 0
B21: Peinture
B22: Electricité | F22: NOMBRES TOTAL DE DOSSSIER 2016 avec annulation | I22: =C17+E17+G17 -> 23
B23: Stores
B24: Menuiserie
B25: Cabine de douche | F25: ANNULATION | I25: =J17 -> 0
B26: Plomberie
B27: Maçonnerie
B28: Fenêtres | F28: TOTAL AVEC ANNULATION | I28: =K17+J17 -> 0
B29: Volets
B30: Alarme
B31: Revêtement de sol
