Workbook

Sheet Total
A1: Année | B1: Janvier | C1: Février | D1: Mars | E1: Avril | F1: Mai | G1: Juin | H1: Juillet | I1: Août | J1: Septembre | K1: Octobre | L1: Novembre | M1: Décembre
A2: 2019 | B2: 1 | C2: 2 | D2: 3 | E2: 4 | F2: 5 | G2: 6 | H2: 7 | I2: 8 | J2: 9 | K2: 10 | L2: 11 | M2: 12
A3: COMPTE PERSO
A4: Shopping | B4: =SUMPRODUCT(Import!$C$2:$C$1000*(Import!$B$2:$B$1000=$A4)*(YEAR(Import!$A$2:$A$1000)=$A$2)*(MONTH(Import!$A$2:$A$1000)=B$2)) -> 15 | C4: =SUMPRODUCT(Import!$C$2:$C$1000*(Import!$B$2:$B$1000=$A4)*(YEAR(Import!$A$2:$A$1000)=$A$2)*(MONTH(Import!$A$2:$A$1000)=C$2)) -> 25 | D4: =SUMPRODUCT(Import!$C$2:$C$1000*(Import!$B$2:$B$1000=$A4)*(YEAR(Import!$A$2:$A$1000)=$A$2)*(MONTH(Import!$A$2:$A$1000)=D$2)) -> 35 | E4: =SUMPRODUCT(Import!$C$2:$C$1000*(Import!$B$2:$B$1000=$A4)*(YEAR(Import!$A$2:$A$1000)=$A$2)*(MONTH(Import!$A$2:$A$1000)=E$2)) -> 0 | F4: =SUMPRODUCT(Import!$C$2:$C$1000*(Import!$B$2:$B$1000=$A4)*(YEAR(Import!$A$2:$A$1000)=$A$2)*(MONTH(Import!$A$2:$A$1000)=F$2)) -> 0 | G4: =SUMPRODUCT(Import!$C$2:$C$1000*(Import!$B$2:$B$1000=$A4)*(YEAR(Import!$A$2:$A$1000)=$A$2)*(MONTH(Import!$A$2:$A$1000)=G$2)) -> 0 | H4: =SUMPRODUCT(Import!$C$2:$C$1000*(Import!$B$2:$B$1000=$A4)*(YEAR(Import!$A$2:$A$1000)=$A$2)*(MONTH(Import!$A$2:$A$1000)=H$2)) -> 0 | I4: =SUMPRODUCT(Import!$C$2:$C$1000*(Import!$B$2:$B$1000=$A4)*(YEAR(Import!$A$2:$A$1000)=$A$2)*(MONTH(Import!$A$2:$A$1000)=I$2)) -> 0 | ... M4: =SUMPRODUCT(Import!$C$2:$C$1000*(Import!$B$2:$B$1000=$A4)*(YEAR(Import!$A$2:$A$1000)=$A$2)*(MONTH(Import!$A$2:$A$1000)=M$2)) -> 0
A5: Alimentation | B5: =SUMPRODUCT(Import!$C$2:$C$1000*(Import!$B$2:$B$1000=$A5)*(YEAR(Import!$A$2:$A$1000)=$A$2)*(MONTH(Import!$A$2:$A$1000)=B$2)) -> 20 | C5: =SUMPRODUCT(Import!$C$2:$C$1000*(Import!$B$2:$B$1000=$A5)*(YEAR(Import!$A$2:$A$1000)=$A$2)*(MONTH(Import!$A$2:$A$1000)=C$2)) -> 30 | D5: =SUMPRODUCT(Import!$C$2:$C$1000*(Import!$B$2:$B$1000=$A5)*(YEAR(Import!$A$2:$A$1000)=$A$2)*(MONTH(Import!$A$2:$A$1000)=D$2)) -> 10 | E5: =SUMPRODUCT(Import!$C$2:$C$1000*(Import!$B$2:$B$1000=$A5)*(YEAR(Import!$A$2:$A$1000)=$A$2)*(MONTH(Import!$A$2:$A$1000)=E$2)) -> 0 | F5: =SUMPRODUCT(Import!$C$2:$C$1000*(Import!$B$2:$B$1000=$A5)*(YEAR(Import!$A$2:$A$1000)=$A$2)*(MONTH(Import!$A$2:$A$1000)=F$2)) -> 0 | G5: =SUMPRODUCT(Import!$C$2:$C$1000*(Import!$B$2:$B$1000=$A5)*(YEAR(Import!$A$2:$A$1000)=$A$2)*(MONTH(Import!$A$2:$A$1000)=G$2)) -> 0 | H5: =SUMPRODUCT(Import!$C$2:$C$1000*(Import!$B$2:$B$1000=$A5)*(YEAR(Import!$A$2:$A$1000)=$A$2)*(MONTH(Import!$A$2:$A$1000)=H$2)) -> 0 | I5: =SUMPRODUCT(Import!$C$2:$C$1000*(Import!$B$2:$B$1000=$A5)*(YEAR(Import!$A$2:$A$1000)=$A$2)*(MONTH(Import!$A$2:$A$1000)=I$2)) -> 0 | ... M5: =SUMPRODUCT(Import!$C$2:$C$1000*(Import!$B$2:$B$1000=$A5)*(YEAR(Import!$A$2:$A$1000)=$A$2)*(MONTH(Import!$A$2:$A$1000)=M$2)) -> 0
A6: Total | B6: =SUM(B4:B5) -> 35 | C6: =SUM(C4:C5) -> 55 | D6: =SUM(D4:D5) -> 45 | E6: =SUM(E4:E5) -> 0 | F6: =SUM(F4:F5) -> 0 | G6: =SUM(G4:G5) -> 0 | H6: =SUM(H4:H5) -> 0 | I6: =SUM(I4:I5) -> 0 | ... M6: =SUM(M4:M5) -> 0

Sheet Import
A1: Date | B1: Catégorie | C1: Montant
A2: 43529 | B2: Alimentation | C2: 10
A3: 43469 | B3: Alimentation | C3: 20
A4: 43475 | B4: Shopping | C4: 15
A5: 43512 | B5: Alimentation | C5: 30
A6: 43513 | B6: Shopping | C6: 25
A7: 43525 | B7: Shopping | C7: 35
