Workbook

Sheet N-1_P2+P3
A1: Section de Référence | B1: Agence | C1: Plan Agence | D1: Libellé Agence | E1: Plan Projet | F1: Type | G1: Plan Article | H1: Numéro de BC | I1: Statut Contrôle budgétaire | J1: Date BC | K1: Société | L1: Fournisseur | M1: Référence pièce | N1: Montant HT | O1: Code Produit | P1: Désignation | Q1: Opérateur | R1: Statut facturation | S1: Numéro de facture | T1: Comptabilise | U1: Section Analytique Commande | V1: Code sectionFact | W1: Code Catégorie Stat | X1: Libellé Catégorie Statistique | Y1: Etat livraison | Z1: Statut de comptabilisation | AA1: Libelle Produit | AB1: Raison sociale Fournisseur

Sheet N_P2+P3
A1: Section de Référence | B1: Agence | C1: Plan Agence | D1: Libellé Agence | E1: Plan Projet | F1: Type | G1: Plan Article | H1: Numéro de BC | I1: Statut Contrôle budgétaire | J1: Date BC | K1: Société | L1: Fournisseur | M1: Référence pièce | N1: Montant HT | O1: Code Produit | P1: Désignation | Q1: Opérateur | R1: Statut facturation | S1: Numéro de facture | T1: Comptabilise | U1: Section Analytique Commande | V1: Code sectionFact | W1: Code Catégorie Stat | X1: Libellé Catégorie Statistique | Y1: Etat livraison | Z1: Statut de comptabilisation | AA1: Libelle Produit | AB1: Raison sociale Fournisseur
A2: NOMAE001-SASAF000-AUP2 | B2: NO | C2: NOMAE001 | D2: MAEV Exploit | E2: SASAF000 | F2: EXPLOIT | G2: AUP2 | H2: CDFRN 01/17-00001 | I2: OK | J2: 42737 | K2: MAEV | L2: CHIMIRECVALRECOIS | N2: 717.88 | O2: DDAN | P2: TRAITEMENT DES DIS (DECHETS DANGEREUX - DECHETS INDUSTRIELS SPECIAUX) | Q2: amelie.fortin | R2: Totalement facturé | S2: FACFR 01/17-00018 | T2: Oui | U2: NOMAE001-SASAF000-AUP2 | V2: NOMAE001-SASAF000-AUP2 | W2: TDC | X2: 3- EVACUATION ET TRAITEMENT DE | Y2: Livraison immédiate | Z2: Ecritures générées | AA2: TRAITEMENT ET EVACUATION DES D | AB2: CHIMIREC VALRECOISE
A3: NOMAE001-SASAF000-AUP2 | B3: NO | C3: NOMAE001 | D3: MAEV Exploit | E3: SASAF000 | F3: EXPLOIT | G3: AUP2 | H3: CDFRN 01/17-00002 | I3: OK | J3: 42737 | K3: MAEV | L3: BOULEY | N3: 291.7 | O3: OUTA | P3: AUTRE OUTILLAGE | Q3: amelie.fortin | R3: Totalement facturé | S3: FACFR 01/17-00006 | T3: Oui | U3: NOMAE001-SASAF000-AUP2 | V3: NOMAE001-SASAF000-AUP2 | W3: OUT | X3: 1 - OUTILLAGE ET QUINCAILLERIE | Y3: Livraison immédiate | Z3: Ecritures générées | AA3: OUTILLAGE | AB3: STE DES ETS BOULEY HORS PROCEDURE ACHATS
A4: NOMAE001-SASAF000-AUP2 | B4: NO | C4: NOMAE001 | D4: MAEV Exploit | E4: SASAF000 | F4: EXPLOIT | G4: AUP2 | H4: CDFRN 01/17-00003 | I4: OK | J4: 42737 | K4: MAEV | L4: BOULEY | N4: 121.72 | O4: QUIN | P4: QUINCALLERIE | Q4: amelie.fortin | R4: Totalement facturé | S4: FACFR 02/17-00050 | T4: Oui | U4: NOMAE001-SASAF000-AUP2 | V4: NOMAE001-SASAF000-AUP2 | W4: OUT | X4: 1 - OUTILLAGE ET QUINCAILLERIE | Y4: Livraison immédiate | Z4: Ecritures générées | AA4: QUINCAILLERIE, PETIT MATÉRIEL | AB4: STE DES ETS BOULEY HORS PROCEDURE ACHATS
A5: NOMAE001-SASAF000-AUP2 | B5: NO | C5: NOMAE001 | D5: MAEV Exploit | E5: SASAF000 | F5: EXPLOIT | G5: AUP2 | H5: CDFRN 01/17-00004 | I5: OK | J5: 42737 | K5: MAEV | L5: NOLLET | N5: 206.76 | O5: FUSI | P5: FUSIBLE | Q5: amelie.fortin | R5: Totalement facturé | S5: FACFR 01/17-00040 | T5: Oui | U5: NOMAE001-SASAF000-AUP2 | V5: NOMAE001-SASAF000-AUP2 | W5: MEL | X5: 1 - MATERIEL ELECTRIQUE | Y5: Livraison immédiate | Z5: Ecritures générées | AA5: FUSIBLE | AB5: NOLLET HORS PROCEDURE ACHATS
A6: NOMAE001-SASAF000-AUP2 | B6: NO | C6: NOMAE001 | D6: MAEV Exploit | E6: SASAF000 | F6: EXPLOIT | G6: AUP2 | H6: CDFRN 01/17-00005 | I6: OK | J6: 42737 | K6: MAEV | L6: DESAUTEL | N6: 367.65 | O6: ACON | P6: ESSAIS ET ANALYSES EN VUE DE LA DÉLIVRANCE D'UNE ATTESTATION DE CONFORMITÉ (CERTIFICATION, NORMES, C | Q6: amelie.fortin | R6: Totalement facturé | S6: FACFR 03/17-00085 | T6: Oui | U6: NOMAE001-SASAF000-AUP2 | V6: NOMAE001-SASAF000-AUP2 | W6: CONT REG | X6: 3- CONTRÔLES RÉGLEMENTAIRES ET | Y6: Livraison immédiate | Z6: Ecritures générées | AA6: CONTROLES REGLEMENTAIRES | AB6: DESAUTEL
A7: NOMAE001-SASAF000-AUP2 | B7: NO | C7: NOMAE001 | D7: MAEV Exploit | E7: SASAF000 | F7: EXPLOIT | G7: AUP2 | H7: CDFRN 01/17-00005 | I7: OK | J7: 42737 | K7: MAEV | L7: DESAUTEL | N7: 35.6 | O7: ACON | P7: ESSAIS ET ANALYSES EN VUE DE LA DÉLIVRANCE D'UNE ATTESTATION DE CONFORMITÉ (CERTIFICATION, NORMES, C | Q7: amelie.fortin | R7: Totalement facturé | T7: Non | U7: NOMAE001-SASAF000-AUP2 | W7: CONT REG | X7: 3- CONTRÔLES RÉGLEMENTAIRES ET | Y7: Livraison différée | AA7: CONTROLES REGLEMENTAIRES | AB7: DESAUTEL
A8: NOMAE001-SASAF000-AUP2 | B8: NO | C8: NOMAE001 | D8: MAEV Exploit | E8: SASAF000 | F8: EXPLOIT | G8: AUP2 | H8: CDFRN 01/17-00006 | I8: OK | J8: 42737 | K8: MAEV | L8: FRADELEC | N8: 269.2 | O8: PMSA | P8: AUTRE PRESTATION MANUELLE SPECIALISEE | Q8: amelie.fortin | R8: Totalement facturé | S8: FACFR 01/17-00028 | T8: Oui | U8: NOMAE001-SASAF000-AUP2 | V8: NOMAE001-SASAF000-AUP2 | W8: ST TUY | X8: 2 - SOUS TRAITANCE TUYAUTERIE | Y8: Livraison immédiate | Z8: Ecritures générées | AA8: AUTRE PRESTATION MANUELLE SPEC | AB8: FRADELEC
A9: NOMAE001-SASAF000-AUP2 | B9: NO | C9: NOMAE001 | D9: MAEV Exploit | E9: SASAF000 | F9: EXPLOIT | G9: AUP2 | H9: CDFRN 01/17-00007 | I9: OK | J9: 42744 | K9: MAEV | L9: THOUMYRE | N9: 1378.5 | O9: PMSA | P9: AUTRE PRESTATION MANUELLE SPECIALISEE | Q9: amelie.fortin | R9: Totalement facturé | S9: FACFR 02/17-00039 | T9: Oui | U9: NOMAE001-SASAF000-AUP2 | V9: NOMAE001-SASAF000-AUP2 | W9: ST TUY | X9: 2 - SOUS TRAITANCE TUYAUTERIE | Y9: Livraison immédiate | Z9: Ecritures générées | AA9: AUTRE PRESTATION MANUELLE SPEC | AB9: THOUMYRE
A10: NOMAE001-SASAF000-AUP2 | B10: NO | C10: NOMAE001 | D10: MAEV Exploit | E10: SASAF000 | F10: EXPLOIT | G10: AUP2 | H10: CDFRN 01/17-00008 | I10: OK | J10: 42746 | K10: MAEV | L10: KILOUTOU | N10: 43.08 | O10: EMAN | P10: ENGIN DE MANUTENTION | Q10: noemi.rubino | R10: Non facturé | T10: Non | U10: NOMAE001-SASAF000-AUP2 | W10: VEE | X10: 4 - VEHICULES ET ENGINS | Y10: Livraison immédiate | AA10: ENGIN DE MANUTENTION | AB10: KILOUTOU
A11: NOMAE001-SASAF000-AUP2 | B11: NO | C11: NOMAE001 | D11: MAEV Exploit | E11: SASAF000 | F11: EXPLOIT | G11: AUP2 | H11: CDFRN 01/17-00009 | I11: OK | J11: 42747 | K11: MAEV | L11: APAVENO | N11: 723.73 | O11: ACON | P11: ESSAIS ET ANALYSES EN VUE DE LA DÉLIVRANCE D'UNE ATTESTATION DE CONFORMITÉ (CERTIFICATION, NORMES, C | Q11: noemi.rubino | R11: Totalement facturé | S11: FACFR 01/17-00017 | T11: Oui | U11: NOMAE001-SASAF000-AUP2 | V11: NOMAE001-SASAF000-AUP2 | W11: CONT REG | X11: 3- CONTRÔLES RÉGLEMENTAIRES ET | Y11: Livraison immédiate | Z11: Ecritures générées | AA11: CONTROLES REGLEMENTAIRES | AB11: APAVE NORD OUEST
A12: NOMAE001-SASAF000-AUP2 | B12: NO | C12: NOMAE001 | D12: MAEV Exploit | E12: SASAF000 | F12: EXPLOIT | G12: AUP2 | H12: CDFRN 01/17-00010 | I12: OK | J12: 42747 | K12: MAEV | L12: CHIMIREC | N12: 828.96 | O12: LREM | P12: LOCATION REMORQUE - BENNE | Q12: noemi.rubino | R12: Non facturé | T12: Non | U12: NOMAE001-SASAF000-AUP2 | W12: BAU | X12: 4- LOCATIONS ET BAUX | Y12: Livraison différée | AA12: LOCATION REMORQUE - BENNE | AB12: CHIMIREC
A13: NOMAE001-SASAF000-AUP2 | B13: NO | C13: NOMAE001 | D13: MAEV Exploit | E13: SASAF000 | F13: EXPLOIT | G13: AUP2 | H13: CDFRN 01/17-00012 | I13: OK | J13: 42751 | K13: MAEV | L13: DESAUTEL | N13: 349.85 | O13: ACON | P13: ESSAIS ET ANALYSES EN VUE DE LA DÉLIVRANCE D'UNE ATTESTATION DE CONFORMITÉ (CERTIFICATION, NORMES, C | Q13: noemi.rubino | R13: Totalement facturé | S13: FACFR 03/17-00086 | T13: Oui | U13: NOMAE001-SASAF000-AUP2 | V13: NOMAE001-SASAF000-AUP2 | W13: CONT REG | X13: 3- CONTRÔLES RÉGLEMENTAIRES ET | Y13: Livraison immédiate | Z13: Ecritures générées | AA13: CONTROLES REGLEMENTAIRES | AB13: DESAUTEL
A14: NOMAE001-SASAF000-AUP2 | B14: NO | C14: NOMAE001 | D14: MAEV Exploit | E14: SASAF000 | F14: EXPLOIT | G14: AUP2 | H14: CDFRN 01/17-00012 | I14: OK | J14: 42751 | K14: MAEV | L14: DESAUTEL | N14: 127.63 | O14: ACON | P14: ESSAIS ET ANALYSES EN VUE DE LA DÉLIVRANCE D'UNE ATTESTATION DE CONFORMITÉ (CERTIFICATION, NORMES, C | Q14: noemi.rubino | R14: Totalement facturé | T14: Non | U14: NOMAE001-SASAF000-AUP2 | W14: CONT REG | X14: 3- CONTRÔLES RÉGLEMENTAIRES ET | Y14: Livraison différée | AA14: CONTROLES REGLEMENTAIRES | AB14: DESAUTEL
A15: NOMAE001-SASAF000-AUP2 | B15: NO | C15: NOMAE001 | D15: MAEV Exploit | E15: SASAF000 | F15: EXPLOIT | G15: AUP2 | H15: CDFRN 01/17-00013 | I15: OK | J15: 42752 | K15: MAEV | L15: DMAE | N15: 136.47 | O15: PMSA | P15: AUTRE PRESTATION MANUELLE SPECIALISEE | Q15: amelie.fortin | R15: Totalement facturé | S15: FACFR 01/17-00026 | T15: Oui | U15: NOMAE001-SASAF000-AUP2 | V15: NOMAE001-SASAF000-AUP2 | W15: ST TUY | X15: 2 - SOUS TRAITANCE TUYAUTERIE | Y15: Livraison immédiate | Z15: Ecritures générées | AA15: AUTRE PRESTATION MANUELLE SPEC | AB15: DMAE
A16: NOMAE001-SASAF000-BOIS | B16: NO | C16: NOMAE001 | D16: MAEV Exploit | E16: SASAF000 | F16: EXPLOIT | G16: BOIS | H16: CDFRN 01/17-00014 | I16: OK | J16: 42752 | K16: MAEV | L16: BIOCOMBUSTIBLES | N16: 156746.31 | O16: BOIA | P16: AUTRE BOIS | Q16: amelie.fortin | R16: Totalement facturé | S16: FACFR 01/17-00021 | T16: Oui | U16: NOMAE001-SASAF000-BOIS | V16: NOMAE001-SASAF000-BOIS | W16: ENE | X16: 5- ENERGIE | Y16: Livraison immédiate | Z16: Ecritures générées | AA16: AUTRE BOIS | AB16: BIOCOMBUSTIBLES
A17: NOMAE001-SASAF000-AUP2 | B17: NO | C17: NOMAE001 | D17: MAEV Exploit | E17: SASAF000 | F17: EXPLOIT | G17: AUP2 | H17: CDFRN 01/17-00015 | I17: OK | J17: 42753 | K17: MAEV | L17: BOULEY | N17: 266.22 | O17: OUTA | P17: AUTRE OUTILLAGE | Q17: amelie.fortin | R17: Totalement facturé | S17: FACFR 01/17-00023 | T17: Oui | U17: NOMAE001-SASAF000-AUP2 | V17: NOMAE001-SASAF000-AUP2 | W17: OUT | X17: 1 - OUTILLAGE ET QUINCAILLERIE | Y17: Livraison immédiate | Z17: Ecritures générées | AA17: OUTILLAGE | AB17: STE DES ETS BOULEY HORS PROCEDURE ACHATS
A18: NOMAE001-SASAF000-AUP2 | B18: NO | C18: NOMAE001 | D18: MAEV Exploit | E18: SASAF000 | F18: EXPLOIT | G18: AUP2 | H18: CDFRN 01/17-00015 | I18: OK | J18: 42753 | K18: MAEV | L18: BOULEY | N18: 345.52 | O18: OUTA | P18: AUTRE OUTILLAGE | Q18: amelie.fortin | R18: Totalement facturé | S18: FACFR 02/17-00051 | T18: Oui | U18: NOMAE001-SASAF000-AUP2 | V18: NOMAE001-SASAF000-AUP2 | W18: OUT | X18: 1 - OUTILLAGE ET QUINCAILLERIE | Y18: Livraison immédiate | Z18: Ecritures générées | AA18: OUTILLAGE | AB18: STE DES ETS BOULEY HORS PROCEDURE ACHATS
A19: NOMAE001-SASAF000-AUP2 | B19: NO | C19: NOMAE001 | D19: MAEV Exploit | E19: SASAF000 | F19: EXPLOIT | G19: AUP2 | H19: CDFRN 01/17-00016 | I19: OK | J19: 42753 | K19: MAEV | L19: ANJAC | N19: 178.2 | O19: OUTA | P19: AUTRE OUTILLAGE | Q19: amelie.fortin | R19: Totalement facturé | S19: FACFR 01/17-00035 | T19: Oui | U19: NOMAE001-SASAF000-AUP2 | V19: NOMAE001-SASAF000-AUP2 | W19: OUT | X19: 1 - OUTILLAGE ET QUINCAILLERIE | Y19: Livraison immédiate | Z19: Ecritures générées | AA19: OUTILLAGE | AB19: ANJAC MABILLE HORS PROCEDURE ACHATS
A20: NOMAE001-SASAF000-COP2 | B20: NO | C20: NOMAE001 | D20: MAEV Exploit | E20: SASAF000 | F20: EXPLOIT | G20: COP2 | H20: CDFRN 01/17-00017 | I20: OK | J20: 42758 | K20: MAEV | L20: TOTAL | N20: 1828.1 | O20: MOTE | P20: MOTEUR DE COGENERATION ET PIECES DETACHEES | Q20: amelie.fortin | R20: Totalement facturé | S20: FACFR 01/17-00034 | T20: Oui | U20: NOMAE001-SASAF000-COP2 | V20: NOMAE001-SASAF000-COP2 | W20: MOT | X20: 1- MOTEURS ET TURBINES | Y20: Livraison immédiate | Z20: Ecritures générées | AA20: MOTEUR DE COGENERATION ET PIE | AB20: TOTAL
A21: NOMAE001-SASAF000-AUP2 | B21: NO | C21: NOMAE001 | D21: MAEV Exploit | E21: SASAF000 | F21: EXPLOIT | G21: AUP2 | H21: CDFRN 01/17-00234 | I21: OK | J21: 42738 | K21: CORIANCE | L21: KILOUTOU | N21: 570.15 | O21: EMAN | P21: ENGIN DE MANUTENTION | Q21: noemi.rubino | R21: Non facturé | T21: Non | U21: NOMAE001-SASAF000-AUP2 | W21: VEE | X21: 4 - VEHICULES ET ENGINS | Y21: Livraison immédiate | AA21: ENGIN DE MANUTENTION | AB21: KILOUTOU
A22: NOMAE001-SASAF000-AUP2 | B22: NO | C22: NOMAE001 | D22: MAEV Exploit | E22: SASAF000 | F22: EXPLOIT | G22: AUP2 | H22: CDFRN 02/17-00018 | I22: OK | J22: 42767 | K22: MAEV | L22: FRADELEC | N22: 182.4 | O22: PMSA | P22: AUTRE PRESTATION MANUELLE SPECIALISEE | Q22: noemi.rubino | R22: Totalement facturé | S22: FACFR 02/17-00027 | T22: Oui | U22: NOMAE001-SASAF000-AUP2 | V22: NOMAE001-SASAF000-AUP2 | W22: ST TUY | X22: 2 - SOUS TRAITANCE TUYAUTERIE | Y22: Livraison immédiate | Z22: Ecritures générées | AA22: AUTRE PRESTATION MANUELLE SPEC | AB22: FRADELEC
A23: NOMAE001-SASAF000-AUP2 | B23: NO | C23: NOMAE001 | D23: MAEV Exploit | E23: SASAF000 | F23: EXPLOIT | G23: AUP2 | H23: CDFRN 02/17-00019 | I23: OK | J23: 42767 | K23: MAEV | L23: MECAELEC | N23: 243.91 | O23: ETAB | P23: ETABLI | Q23: noemi.rubino | R23: Non facturé | T23: Non | U23: NOMAE001-SASAF000-AUP2 | W23: AMI | X23: 4- AMENAGEMENT INTERIEUR | Y23: Livraison immédiate | AA23: MOBILIER ATELIER | AB23: MECAELEC
A24: NOMAE001-SASAF000-AUP2 | B24: NO | C24: NOMAE001 | D24: MAEV Exploit | E24: SASAF000 | F24: EXPLOIT | G24: AUP2 | H24: CDFRN 02/17-00020 | I24: OK | J24: 42768 | K24: MAEV | L24: SOLSTICE | N24: 3742.24 | O24: PMSA | P24: AUTRE PRESTATION MANUELLE SPECIALISEE | Q24: noemi.rubino | R24: Totalement facturé | S24: FACFR 10/17-00225 | T24: Oui | U24: NOMAE001-SASAF000-AUP2 | V24: NOMAE001-SASAF000-AUP2 | W24: ST TUY | X24: 2 - SOUS TRAITANCE TUYAUTERIE | Y24: Livraison immédiate | Z24: Ecritures générées | AA24: AUTRE PRESTATION MANUELLE SPEC | AB24: SOLSTICE
A25: NOMAE001-SASAF000-AUP2 | B25: NO | C25: NOMAE001 | D25: MAEV Exploit | E25: SASAF000 | F25: EXPLOIT | G25: AUP2 | H25: CDFRN 02/17-00021 | I25: OK | J25: 42769 | K25: MAEV | L25: EMTC | N25: 720 | O25: PMSA | P25: AUTRE PRESTATION MANUELLE SPECIALISEE | Q25: noemi.rubino | R25: Totalement facturé | S25: FACFR 02/17-00041 | T25: Oui | U25: NOMAE001-SASAF000-AUP2 | V25: NOMAE001-SASAF000-AUP2 | W25: ST TUY | X25: 2 - SOUS TRAITANCE TUYAUTERIE | Y25: Livraison immédiate | Z25: Ecritures générées | AA25: AUTRE PRESTATION MANUELLE SPEC | AB25: EMTC
A26: NOMAE001-SASAF000-AUP2 | B26: NO | C26: NOMAE001 | D26: MAEV Exploit | E26: SASAF000 | F26: EXPLOIT | G26: AUP2 | H26: CDFRN 02/17-00022 | I26: OK | J26: 42769 | K26: MAEV | L26: PLUGINDUSTRY | N26: 862.8 | O26: PMSA | P26: AUTRE PRESTATION MANUELLE SPECIALISEE | Q26: noemi.rubino | R26: Totalement facturé | S26: FACFR 02/17-00053 | T26: Oui | U26: NOMAE001-SASAF000-AUP2 | V26: NOMAE001-SASAF000-AUP2 | W26: ST TUY | X26: 2 - SOUS TRAITANCE TUYAUTERIE | Y26: Livraison immédiate | Z26: Ecritures générées | AA26: AUTRE PRESTATION MANUELLE SPEC | AB26: PLUG INDUSTRY
A27: NOMAE001-SASAF000-AUP2 | B27: NO | C27: NOMAE001 | D27: MAEV Exploit | E27: SASAF000 | F27: EXPLOIT | G27: AUP2 | H27: CDFRN 02/17-00022 | I27: OK | J27: 42769 | K27: MAEV | L27: PLUGINDUSTRY | N27: 341.92 | O27: PMSA | P27: AUTRE PRESTATION MANUELLE SPECIALISEE | Q27: noemi.rubino | R27: Totalement facturé | S27: FACFR 02/17-00054 | T27: Oui | U27: NOMAE001-SASAF000-AUP2 | V27: NOMAE001-SASAF000-AUP2 | W27: ST TUY | X27: 2 - SOUS TRAITANCE TUYAUTERIE | Y27: Livraison immédiate | Z27: Ecritures générées | AA27: AUTRE PRESTATION MANUELLE SPEC | AB27: PLUG INDUSTRY
A28: NOMAE001-SASAF000-AUP2 | B28: NO | C28: NOMAE001 | D28: MAEV Exploit | E28: SASAF000 | F28: EXPLOIT | G28: AUP2 | H28: CDFRN 02/17-00023 | I28: OK | J28: 42769 | K28: MAEV | L28: ORTEC | N28: 862.49 | O28: ACON | P28: ESSAIS ET ANALYSES EN VUE DE LA DÉLIVRANCE D'UNE ATTESTATION DE CONFORMITÉ (CERTIFICATION, NORMES, C | Q28: noemi.rubino | R28: Totalement facturé | S28: FACFR 02/17-00065 | T28: Oui | U28: NOMAE001-SASAF000-AUP2 | V28: NOMAE001-SASAF000-AUP2 | W28: CONT REG | X28: 3- CONTRÔLES RÉGLEMENTAIRES ET | Y28: Livraison immédiate | Z28: Ecritures générées | AA28: CONTROLES REGLEMENTAIRES | AB28: ORTEC
A29: NOMAE001-SASAF000-AUP2 | B29: NO | C29: NOMAE001 | D29: MAEV Exploit | E29: SASAF000 | F29: EXPLOIT | G29: AUP2 | H29: CDFRN 02/17-00024 | I29: OK | J29: 42772 | K29: MAEV | L29: DIAP | N29: 225 | O29: QUIN | P29: QUINCALLERIE | Q29: noemi.rubino | R29: Totalement facturé | S29: FACFR 02/17-00045 | T29: Oui | U29: NOMAE001-SASAF000-AUP2 | V29: NOMAE001-SASAF000-AUP2 | W29: OUT | X29: 1 - OUTILLAGE ET QUINCAILLERIE | Y29: Livraison immédiate | Z29: Ecritures générées | AA29: QUINCAILLERIE, PETIT MATÉRIEL | AB29: DIAP FRANCE HORS PROCEDURE ACHATS
A30: NOMAE001-SASAF000-COP2 | B30: NO | C30: NOMAE001 | D30: MAEV Exploit | E30: SASAF000 | F30: EXPLOIT | G30: COP2 | H30: CDFRN 02/17-00026 | I30: OK | J30: 42773 | K30: MAEV | L30: NOLLET | N30: 600.44 | O30: CMPR | P30: MAINTENANCE PREVENTIVE COGENERATION | Q30: amelie.fortin | R30: Totalement facturé | S30: FACFR 02/17-00067 | T30: Oui | U30: NOMAE001-SASAF000-COP2 | V30: NOMAE001-SASAF000-COP2 | W30: COG | X30: 3- COGENERATION | Y30: Livraison immédiate | Z30: Ecritures générées | AA30: MAINTENANCE PREVENTIVE ET CUR | AB30: NOLLET HORS PROCEDURE ACHATS
A31: NOMAE001-SASAF000-AUP2 | B31: NO | C31: NOMAE001 | D31: MAEV Exploit | E31: SASAF000 | F31: EXPLOIT | G31: AUP2 | H31: CDFRN 02/17-00027 | I31: OK | J31: 42780 | K31: MAEV | L31: BOULEY | N31: 48.27 | O31: OUTA | P31: AUTRE OUTILLAGE | Q31: amelie.fortin | R31: Totalement facturé | S31: FACFR 02/17-00049 | T31: Oui | U31: NOMAE001-SASAF000-AUP2 | V31: NOMAE001-SASAF000-AUP2 | W31: OUT | X31: 1 - OUTILLAGE ET QUINCAILLERIE | Y31: Livraison immédiate | Z31: Ecritures générées | AA31: OUTILLAGE | AB31: STE DES ETS BOULEY HORS PROCEDURE ACHATS
A32: NOMAE001-SASAF000-AUP2 | B32: NO | C32: NOMAE001 | D32: MAEV Exploit | E32: SASAF000 | F32: EXPLOIT | G32: AUP2 | H32: CDFRN 02/17-00027 | I32: OK | J32: 42780 | K32: MAEV | L32: BOULEY | N32: 2237.25 | O32: OUTA | P32: AUTRE OUTILLAGE | Q32: amelie.fortin | R32: Totalement facturé | S32: FACFR 03/17-00089 | T32: Oui | U32: NOMAE001-SASAF000-AUP2 | V32: NOMAE001-SASAF000-AUP2 | W32: OUT | X32: 1 - OUTILLAGE ET QUINCAILLERIE | Y32: Livraison immédiate | Z32: Ecritures générées | AA32: OUTILLAGE | AB32: STE DES ETS BOULEY HORS PROCEDURE ACHATS
A33: NOMAE001-SASAF000-AUP2 | B33: NO | C33: NOMAE001 | D33: MAEV Exploit | E33: SASAF000 | F33: EXPLOIT | G33: AUP2 | H33: CDFRN 02/17-00028 | I33: OK | J33: 42780 | K33: MAEV | L33: AIR NORMAND | N33: 535 | O33: MCOA | P33: AUTRE MESURE OU CONTROLE | Q33: amelie.fortin | R33: Totalement facturé | S33: FACFR 02/17-00042 | T33: Oui | U33: NOMAE001-SASAF000-AUP2 | V33: NOMAE001-SASAF000-AUP2 | W33: CONT REG | X33: 3- CONTRÔLES RÉGLEMENTAIRES ET | Y33: Livraison immédiate | Z33: Ecritures générées | AA33: CONTRÔLE ET ANALYSES ENVIRONNE | AB33: AIR NORMAND
A34: NOMAE001-SASAF000-AUP2 | B34: NO | C34: NOMAE001 | D34: MAEV Exploit | E34: SASAF000 | F34: EXPLOIT | G34: AUP2 | H34: CDFRN 02/17-00029 | I34: OK | J34: 42780 | K34: MAEV | L34: CHIMIRECVALRECOIS | N34: 828.96 | O34: DDAN | P34: TRAITEMENT DES DIS (DECHETS DANGEREUX - DECHETS INDUSTRIELS SPECIAUX) | Q34: amelie.fortin | R34: Totalement facturé | S34: FACFR 02/17-00043 | T34: Oui | U34: NOMAE001-SASAF000-AUP2 | V34: NOMAE001-SASAF000-AUP2 | W34: TDC | X34: 3- EVACUATION ET TRAITEMENT DE | Y34: Livraison immédiate | Z34: Ecritures générées | AA34: TRAITEMENT ET EVACUATION DES D | AB34: CHIMIREC VALRECOISE
A35: NOMAE001-SASAF000-AUP2 | B35: NO | C35: NOMAE001 | D35: MAEV Exploit | E35: SASAF000 | F35: EXPLOIT | G35: AUP2 | H35: CDFRN 02/17-00030 | I35: OK | J35: 42780 | K35: MAEV | L35: CHIMIRECVALRECOIS | N35: 170 | O35: DDAN | P35: TRAITEMENT DES DIS (DECHETS DANGEREUX - DECHETS INDUSTRIELS SPECIAUX) | Q35: amelie.fortin | R35: Totalement facturé | S35: FACFR 02/17-00044 | T35: Oui | U35: NOMAE001-SASAF000-AUP2 | V35: NOMAE001-SASAF000-AUP2 | W35: TDC | X35: 3- EVACUATION ET TRAITEMENT DE | Y35: Livraison immédiate | Z35: Ecritures générées | AA35: TRAITEMENT ET EVACUATION DES D | AB35: CHIMIREC VALRECOISE
... A40: NOMAE001-SASAF000-COP2 | B40: NO | C40: NOMAE001 | D40: MAEV Exploit | E40: SASAF000 | F40: EXPLOIT | G40: COP2 | H40: CDFRN 02/17-00035 | I40: OK | J40: 42786 | K40: MAEV | L40: ESSO | N40: 4177.22 | O40: HUIL | P40: HUILE | Q40: amelie.fortin | R40: Totalement facturé | S40: FACFR 03/17-00087 | T40: Oui | U40: NOMAE001-SASAF000-COP2 | V40: NOMAE001-SASAF000-COP2 | W40: MOT | X40: 1- MOTEURS ET TURBINES | Y40: Livraison immédiate | Z40: Ecritures générées | AA40: HUILE | AB40: ESSO SAF
A41: NOMAE001-SASAF000-COP2 | B41: NO | C41: NOMAE001 | D41: MAEV Exploit | E41: SASAF000 | F41: EXPLOIT | G41: COP2 | H41: CDFRN 02/17-00035 | I41: OK | J41: 42786 | K41: MAEV | L41: ESSO | N41: 7.03 | O41: HUIL | P41: HUILE | Q41: amelie.fortin | R41: Totalement facturé | T41: Non | U41: NOMAE001-SASAF000-COP2 | W41: MOT | X41: 1- MOTEURS ET TURBINES | Y41: Livraison différée | AA41: HUILE | AB41: ESSO SAF
A42: NOMAE001-SASAF000-AUP2 | B42: NO | C42: NOMAE001 | D42: MAEV Exploit | E42: SASAF000 | F42: EXPLOIT | G42: AUP2 | H42: CDFRN 02/17-00037 | I42: OK | J42: 42788 | K42: MAEV | L42: BOULEY | N42: 79.68 | O42: QUIN | P42: QUINCALLERIE | Q42: amelie.fortin | R42: Totalement facturé | S42: FACFR 02/17-00048 | T42: Oui | U42: NOMAE001-SASAF000-AUP2 | V42: NOMAE001-SASAF000-AUP2 | W42: OUT | X42: 1 - OUTILLAGE ET QUINCAILLERIE | Y42: Livraison immédiate | Z42: Ecritures générées | AA42: QUINCAILLERIE, PETIT MATÉRIEL | AB42: STE DES ETS BOULEY HORS PROCEDURE ACHATS
A43: NOMAE001-SASAF000-AUP2 | B43: NO | C43: NOMAE001 | D43: MAEV Exploit | E43: SASAF000 | F43: EXPLOIT | G43: AUP2 | H43: CDFRN 02/17-00037 | I43: OK | J43: 42788 | K43: MAEV | L43: BOULEY | N43: 399.07 | O43: QUIN | P43: QUINCALLERIE | Q43: amelie.fortin | R43: Totalement facturé | S43: FACFR 02/17-00059 | T43: Oui | U43: NOMAE001-SASAF000-AUP2 | V43: NOMAE001-SASAF000-AUP2 | W43: OUT | X43: 1 - OUTILLAGE ET QUINCAILLERIE | Y43: Livraison immédiate | Z43: Ecritures générées | AA43: QUINCAILLERIE, PETIT MATÉRIEL | AB43: STE DES ETS BOULEY HORS PROCEDURE ACHATS
A44: NOMAE001-SASAF000-AUP2 | B44: NO | C44: NOMAE001 | D44: MAEV Exploit | E44: SASAF000 | F44: EXPLOIT | G44: AUP2 | H44: CDFRN 02/17-00037 | I44: OK | J44: 42788 | K44: MAEV | L44: BOULEY | N44: 79.76 | O44: QUIN | P44: QUINCALLERIE | Q44: amelie.fortin | R44: Totalement facturé | S44: FACFR 03/17-00074 | T44: Oui | U44: NOMAE001-SASAF000-AUP2 | V44: NOMAE001-SASAF000-AUP2 | W44: OUT | X44: 1 - OUTILLAGE ET QUINCAILLERIE | Y44: Livraison immédiate | Z44: Ecritures générées | AA44: QUINCAILLERIE, PETIT MATÉRIEL | AB44: STE DES ETS BOULEY HORS PROCEDURE ACHATS
A45: NOMAE001-SASAF000-AUP2 | B45: NO | C45: NOMAE001 | D45: MAEV Exploit | E45: SASAF000 | F45: EXPLOIT | G45: AUP2 | H45: CDFRN 02/17-00038 | I45: OK | J45: 42789 | K45: MAEV | L45: BOULEY | N45: 653.6 | O45: QUIN | P45: QUINCALLERIE | Q45: amelie.fortin | R45: Totalement facturé | S45: FACFR 03/17-00070 | T45: Oui | U45: NOMAE001-SASAF000-AUP2 | V45: NOMAE001-SASAF000-AUP2 | W45: OUT | X45: 1 - OUTILLAGE ET QUINCAILLERIE | Y45: Livraison immédiate | Z45: Ecritures générées | AA45: QUINCAILLERIE, PETIT MATÉRIEL | AB45: STE DES ETS BOULEY HORS PROCEDURE ACHATS
A46: NOMAE001-SASAF000-AUP2 | B46: NO | C46: NOMAE001 | D46: MAEV Exploit | E46: SASAF000 | F46: EXPLOIT | G46: AUP2 | H46: CDFRN 02/17-00039 | I46: OK | J46: 42794 | K46: MAEV | L46: PLUGINDUSTRY | N46: 685.6 | O46: QUIN | P46: QUINCALLERIE | Q46: amelie.fortin | R46: Totalement facturé | S46: FACFR 04/17-00099 | T46: Oui | U46: NOMAE001-SASAF000-AUP2 | V46: NOMAE001-SASAF000-AUP2 | W46: OUT | X46: 1 - OUTILLAGE ET QUINCAILLERIE | Y46: Livraison immédiate | Z46: Ecritures générées | AA46: QUINCAILLERIE, PETIT MATÉRIEL | AB46: PLUG INDUSTRY
A47: NOMAE001-SASAF000-AUP2 | B47: NO | C47: NOMAE001 | D47: MAEV Exploit | E47: SASAF000 | F47: EXPLOIT | G47: AUP2 | H47: CDFRN 02/17-00040 | I47: OK | J47: 42794 | K47: MAEV | L47: BOULEY | N47: 150 | O47: QUIN | P47: QUINCALLERIE | Q47: amelie.fortin | R47: Totalement facturé | S47: FACFR 02/17-00057 | T47: Oui | U47: NOMAE001-SASAF000-AUP2 | V47: NOMAE001-SASAF000-AUP2 | W47: OUT | X47: 1 - OUTILLAGE ET QUINCAILLERIE | Y47: Livraison immédiate | Z47: Ecritures générées | AA47: QUINCAILLERIE, PETIT MATÉRIEL | AB47: STE DES ETS BOULEY HORS PROCEDURE ACHATS
A48: NOMAE001-SASAF000-AUP2 | B48: NO | C48: NOMAE001 | D48: MAEV Exploit | E48: SASAF000 | F48: EXPLOIT | G48: AUP2 | H48: CDFRN 02/17-00040 | I48: OK | J48: 42794 | K48: MAEV | L48: BOULEY | N48: 300 | O48: QUIN | P48: QUINCALLERIE | Q48: amelie.fortin | R48: Totalement facturé | S48: FACFR 03/17-00080 | T48: Oui | U48: NOMAE001-SASAF000-AUP2 | V48: NOMAE001-SASAF000-AUP2 | W48: OUT | X48: 1 - OUTILLAGE ET QUINCAILLERIE | Y48: Livraison immédiate | Z48: Ecritures générées | AA48: QUINCAILLERIE, PETIT MATÉRIEL | AB48: STE DES ETS BOULEY HORS PROCEDURE ACHATS
A49: NOMAE001-SASAF000-AUP2 | B49: NO | C49: NOMAE001 | D49: MAEV Exploit | E49: SASAF000 | F49: EXPLOIT | G49: AUP2 | H49: CDFRN 02/17-01169 | I49: OK | J49: 42767 | K49: CORIANCE | L49: MULTIRESEAUX | N49: 4396 | O49: BATI | P49: BATIMENT | Q49: noemi.rubino | R49: Totalement facturé | S49: FACFR 02/17-01756 | T49: Oui | U49: NOMAE001-SASAF000-AUP2 | V49: NOMAE001-SASAF000-AUP2 | W49: GCV | X49: 2- GENIE CIVIL - VRD | Y49: Livraison immédiate | Z49: Ecritures générées | AA49: GROS OEUVRE CONSTRUCTION DE BA | AB49: MULTI RESEAUX HORS PROCEDURE ACHATS
A50: NOMAE001-SASAF000-GEAU | B50: NO | C50: NOMAE001 | D50: MAEV Exploit | E50: SASAF000 | F50: EXPLOIT | G50: GEAU | H50: CDFRN 02/17-01172 | I50: OK | J50: 42767 | K50: CORIANCE | L50: FRADELEC | N50: 548.13 | O50: VARI | P50: VARIATEUR DE VITESSE | Q50: noemi.rubino | R50: Totalement facturé | S50: FACFR 03/17-03230 | T50: Oui | U50: NOMAE001-SASAF000-GEAU | V50: NOMAE001-SASAF000-GEAU | W50: MEL | X50: 1 - MATERIEL ELECTRIQUE | Y50: Livraison immédiate | Z50: Ecritures générées | AA50: VARIATEUR DE VITESSE | AB50: FRADELEC
A51: NOMAE001-SASAF000-COP2 | B51: NO | C51: NOMAE001 | D51: MAEV Exploit | E51: SASAF000 | F51: EXPLOIT | G51: COP2 | H51: CDFRN 03/17-00041 | I51: OK | J51: 42796 | K51: MAEV | L51: BUREAUVERITAS | N51: 4000 | O51: ACON | P51: ESSAIS ET ANALYSES EN VUE DE LA DÉLIVRANCE D'UNE ATTESTATION DE CONFORMITÉ (CERTIFICATION, NORMES, C | Q51: noemi.rubino | R51: Totalement facturé | S51: FACFR 03/17-00081 | T51: Oui | U51: NOMAE001-SASAF000-COP2 | V51: NOMAE001-SASAF000-COP2 | W51: CONT REG | X51: 3- CONTRÔLES RÉGLEMENTAIRES ET | Y51: Livraison immédiate | Z51: Ecritures générées | AA51: CONTROLES REGLEMENTAIRES | AB51: BUREAU VERITAS
A52: NOMAE001-SASAF000-AUP2 | B52: NO | C52: NOMAE001 | D52: MAEV Exploit | E52: SASAF000 | F52: EXPLOIT | G52: AUP2 | H52: CDFRN 03/17-00042 | I52: OK | J52: 42796 | K52: MAEV | L52: VBI | N52: 3610 | O52: OUTA | P52: AUTRE OUTILLAGE | Q52: noemi.rubino | R52: Totalement facturé | S52: FACFR 03/17-00092 | T52: Oui | U52: NOMAE001-SASAF000-AUP2 | V52: NOMAE001-SASAF000-AUP2 | W52: OUT | X52: 1 - OUTILLAGE ET QUINCAILLERIE | Y52: Livraison immédiate | Z52: Ecritures générées | AA52: OUTILLAGE | AB52: VBI
A53: NOMAE001-SASAF000-AUP2 | B53: NO | C53: NOMAE001 | D53: MAEV Exploit | E53: SASAF000 | F53: EXPLOIT | G53: AUP2 | H53: CDFRN 03/17-00043 | I53: OK | J53: 42800 | K53: MAEV | L53: ORTECENV | N53: 5260.18 | O53: RAMO | P53: RAMONAGE | Q53: amelie.fortin | R53: Totalement facturé | S53: FACFR 03/17-00071 | T53: Oui | U53: NOMAE001-SASAF000-AUP2 | V53: NOMAE001-SASAF000-AUP2 | W53: RAMO | X53: 3 - RAMONAGE - NETTOYAGE DE VM | Y53: Livraison immédiate | Z53: Ecritures générées | AA53: RAMONAGE - NETTOYAGE VMC | AB53: ORTEC ENVIRONNEMENT
... A67: NOMAE001-SASAF000-AUP2 | B67: NO | C67: NOMAE001 | D67: MAEV Exploit | E67: SASAF000 | F67: EXPLOIT | G67: AUP2 | H67: CDFRN 03/17-00046 | I67: OK | J67: 42801 | K67: MAEV | L67: SAFETYKLEEN | N67: 166.13 | O67: PMSA | P67: AUTRE PRESTATION MANUELLE SPECIALISEE | Q67: amelie.fortin | R67: Totalement facturé | S67: FACFR 11/17-00271 | T67: Oui | U67: NOMAE001-SASAF000-AUP2 | V67: NOMAE001-SASAF000-AUP2 | W67: ST TUY | X67: 2 - SOUS TRAITANCE TUYAUTERIE | Y67: Livraison immédiate | Z67: Ecritures générées | AA67: AUTRE PRESTATION MANUELLE SPEC | AB67: SAFETY KLEEN
A68: NOMAE001-SASAF000-AUP2 | B68: NO | C68: NOMAE001 | D68: MAEV Exploit | E68: SASAF000 | F68: EXPLOIT | G68: AUP2 | H68: CDFRN 03/17-00046 | I68: OK | J68: 42801 | K68: MAEV | L68: SAFETYKLEEN | N68: 332.26 | O68: PMSA | P68: AUTRE PRESTATION MANUELLE SPECIALISEE | Q68: amelie.fortin | R68: Totalement facturé | T68: Non | U68: NOMAE001-SASAF000-AUP2 | W68: ST TUY | X68: 2 - SOUS TRAITANCE TUYAUTERIE | Y68: Livraison différée | AA68: AUTRE PRESTATION MANUELLE SPEC | AB68: SAFETY KLEEN
A69: NOMAE001-SASAF000-AUP2 | B69: NO | C69: NOMAE001 | D69: MAEV Exploit | E69: SASAF000 | F69: EXPLOIT | G69: AUP2 | H69: CDFRN 03/17-00047 | I69: OK | J69: 42801 | K69: MAEV | L69: CHIMIRECVALRECOIS | N69: 491.12 | O69: DDAN | P69: TRAITEMENT DES DIS (DECHETS DANGEREUX - DECHETS INDUSTRIELS SPECIAUX) | Q69: amelie.fortin | R69: Totalement facturé | S69: FACFR 03/17-00062 | T69: Oui | U69: NOMAE001-SASAF000-AUP2 | V69: NOMAE001-SASAF000-AUP2 | W69: TDC | X69: 3- EVACUATION ET TRAITEMENT DE | Y69: Livraison immédiate | Z69: Ecritures générées | AA69: TRAITEMENT ET EVACUATION DES D | AB69: CHIMIREC VALRECOISE
A70: NOMAE001-SASAF000-AUP2 | B70: NO | C70: NOMAE001 | D70: MAEV Exploit | E70: SASAF000 | F70: EXPLOIT | G70: AUP2 | H70: CDFRN 03/17-00048 | I70: OK | J70: 42803 | K70: MAEV | L70: SARTVONRHOR | N70: 950 | O70: PMSA | P70: AUTRE PRESTATION MANUELLE SPECIALISEE | Q70: noemi.rubino | R70: Totalement facturé | S70: FACFR 05/17-00126 | T70: Oui | U70: NOMAE001-SASAF000-AUP2 | V70: NOMAE001-SASAF000-AUP2 | W70: ST TUY | X70: 2 - SOUS TRAITANCE TUYAUTERIE | Y70: Livraison immédiate | Z70: Ecritures générées | AA70: AUTRE PRESTATION MANUELLE SPEC | AB70: SART VON RHOR SAS
A71: NOMAE001-SASAF000-BOIS | B71: NO | C71: NOMAE001 | D71: MAEV Exploit | E71: SASAF000 | F71: EXPLOIT | G71: BOIS | H71: CDFRN 03/17-00049 | I71: OK | J71: 42804 | K71: MAEV | L71: BIOCOMBUSTIBLES | N71: 139328.09 | O71: BOIA | P71: AUTRE BOIS | Q71: noemi.rubino | R71: Totalement facturé | S71: FACFR 03/17-00072 | T71: Oui | U71: NOMAE001-SASAF000-BOIS | V71: NOMAE001-SASAF000-BOIS | W71: ENE | X71: 5- ENERGIE | Y71: Livraison immédiate | Z71: Ecritures générées | AA71: AUTRE BOIS | AB71: BIOCOMBUSTIBLES
A72: NOMAE001-SASAF000-AUP2 | B72: NO | C72: NOMAE001 | D72: MAEV Exploit | E72: SASAF000 | F72: EXPLOIT | G72: AUP2 | H72: CDFRN 03/17-00050 | I72: OK | J72: 42807 | K72: MAEV | L72: KILOUTOU | N72: 324 | O72: EMAN | P72: ENGIN DE MANUTENTION | Q72: noemi.rubino | R72: Non facturé | T72: Non | U72: NOMAE001-SASAF000-AUP2 | W72: VEE | X72: 4 - VEHICULES ET ENGINS | Y72: Livraison différée | AA72: ENGIN DE MANUTENTION | AB72: KILOUTOU
A73: NOMAE001-SASAF000-COP2 | B73: NO | C73: NOMAE001 | D73: MAEV Exploit | E73: SASAF000 | F73: EXPLOIT | G73: COP2 | H73: CDFRN 03/17-00052 | I73: OK | J73: 42807 | K73: MAEV | L73: ESSO | N73: 1943.7 | O73: HUIL | P73: HUILE | Q73: noemi.rubino | R73: Totalement facturé | S73: FACFR 03/17-00076 | T73: Oui | U73: NOMAE001-SASAF000-COP2 | V73: NOMAE001-SASAF000-COP2 | W73: MOT | X73: 1- MOTEURS ET TURBINES | Y73: Livraison immédiate | Z73: Ecritures générées | AA73: HUILE | AB73: ESSO SAF
A74: NOMAE001-SASAF000-COP2 | B74: NO | C74: NOMAE001 | D74: MAEV Exploit | E74: SASAF000 | F74: EXPLOIT | G74: COP2 | H74: CDFRN 03/17-00052 | I74: OK | J74: 42807 | K74: MAEV | L74: ESSO | N74: 49.5 | O74: HUIL | P74: HUILE | Q74: noemi.rubino | R74: Totalement facturé | T74: Non | U74: NOMAE001-SASAF000-COP2 | W74: MOT | X74: 1- MOTEURS ET TURBINES | Y74: Livraison différée | AA74: HUILE | AB74: ESSO SAF
A75: NOMAE001-SASAF000-AUP2 | B75: NO | C75: NOMAE001 | D75: MAEV Exploit | E75: SASAF000 | F75: EXPLOIT | G75: AUP2 | H75: CDFRN 03/17-00054 | I75: OK | J75: 42808 | K75: MAEV | L75: ARCINFO | N75: 340 | O75: LILI | P75: LICENCES ET LOGICIELS INFO. | Q75: amelie.fortin | R75: Non facturé | T75: Non | U75: NOMAE001-SASAF000-AUP2 | W75: SIT | X75: 4- INFORMATIQUE ET TELEPHONIE | Y75: Livraison immédiate | AA75: LICENCES ET LOGICIELS INFO. | AB75: ARC INFO
A76: NOMAE001-SASAF000-AUP2 | B76: NO | C76: NOMAE001 | D76: MAEV Exploit | E76: SASAF000 | F76: EXPLOIT | G76: AUP2 | H76: CDFRN 03/17-00055 | I76: OK | J76: 42808 | K76: MAEV | L76: ARCINFO | N76: 294 | O76: LILI | P76: LICENCES ET LOGICIELS INFO. | Q76: amelie.fortin | R76: Non facturé | T76: Non | U76: NOMAE001-SASAF000-AUP2 | W76: SIT | X76: 4- INFORMATIQUE ET TELEPHONIE | Y76: Livraison immédiate | AA76: LICENCES ET LOGICIELS INFO. | AB76: ARC INFO
A77: NOMAE001-SASAF000-AUP2 | B77: NO | C77: NOMAE001 | D77: MAEV Exploit | E77: SASAF000 | F77: EXPLOIT | G77: AUP2 | H77: CDFRN 03/17-00058 | I77: OK | J77: 42814 | K77: MAEV | L77: BOULEY | N77: 254.72 | O77: QUIN | P77: QUINCALLERIE | Q77: amelie.fortin | R77: Totalement facturé | S77: FACFR 03/17-00088 | T77: Oui | U77: NOMAE001-SASAF000-AUP2 | V77: NOMAE001-SASAF000-AUP2 | W77: OUT | X77: 1 - OUTILLAGE ET QUINCAILLERIE | Y77: Livraison immédiate | Z77: Ecritures générées | AA77: QUINCAILLERIE, PETIT MATÉRIEL | AB77: STE DES ETS BOULEY HORS PROCEDURE ACHATS
A78: NOMAE001-SASAF000-AUP2 | B78: NO | C78: NOMAE001 | D78: MAEV Exploit | E78: SASAF000 | F78: EXPLOIT | G78: AUP2 | H78: CDFRN 03/17-00059 | I78: OK | J78: 42814 | K78: MAEV | L78: BUREAUVERITAS | N78: 350 | O78: ACON | P78: ESSAIS ET ANALYSES EN VUE DE LA DÉLIVRANCE D'UNE ATTESTATION DE CONFORMITÉ (CERTIFICATION, NORMES, C | Q78: amelie.fortin | R78: Totalement facturé | S78: FACFR 06/17-00141 | T78: Oui | U78: NOMAE001-SASAF000-AUP2 | V78: NOMAE001-SASAF000-AUP2 | W78: CONT REG | X78: 3- CONTRÔLES RÉGLEMENTAIRES ET | Y78: Livraison immédiate | Z78: Ecritures générées | AA78: CONTROLES REGLEMENTAIRES | AB78: BUREAU VERITAS
A79: NOMAE001-SASAF000-AUP2 | B79: NO | C79: NOMAE001 | D79: MAEV Exploit | E79: SASAF000 | F79: EXPLOIT | G79: AUP2 | H79: CDFRN 03/17-00060 | I79: OK | J79: 42814 | K79: MAEV | L79: DEMAY | N79: 65.14 | O79: QUIN | P79: QUINCALLERIE | Q79: amelie.fortin | R79: Totalement facturé | S79: FACFR 03/17-00090 | T79: Oui | U79: NOMAE001-SASAF000-AUP2 | V79: NOMAE001-SASAF000-AUP2 | W79: OUT | X79: 1 - OUTILLAGE ET QUINCAILLERIE | Y79: Livraison immédiate | Z79: Ecritures générées | AA79: QUINCAILLERIE, PETIT MATÉRIEL | AB79: DEMAY LESIEUR
A80: NOMAE001-SASAF000-AUP2 | B80: NO | C80: NOMAE001 | D80: MAEV Exploit | E80: SASAF000 | F80: EXPLOIT | G80: AUP2 | H80: CDFRN 03/17-00061 | I80: OK | J80: 42815 | K80: MAEV | L80: SETIN | N80: 376 | O80: QUIN | P80: QUINCALLERIE | Q80: amelie.fortin | R80: Totalement facturé | S80: FACFR 11/17-00266 | T80: Oui | U80: NOMAE001-SASAF000-AUP2 | V80: NOMAE001-SASAF000-AUP2 | W80: OUT | X80: 1 - OUTILLAGE ET QUINCAILLERIE | Y80: Livraison immédiate | Z80: Session | AA80: QUINCAILLERIE, PETIT MATÉRIEL | AB80: QUINCAILLERIE SETIN HORS PROCEDURE ACHATS
A81: NOMAE001-SASAF000-GEAU | B81: NO | C81: NOMAE001 | D81: MAEV Exploit | E81: SASAF000 | F81: EXPLOIT | G81: GEAU | H81: CDFRN 03/17-02320 | I81: OK | J81: 42800 | K81: CORIANCE | L81: THOUMYRE | N81: 4316.54 | O81: CLOT | P81: CLOTURES - PORTAILS - PORTES - VOLETS | Q81: amelie.fortin | R81: Totalement facturé | S81: FACFR 03/17-03809 | T81: Oui | U81: NOMAE001-SASAF000-GEAU | V81: NOMAE001-SASAF000-GEAU | W81: MAINT | X81: 3- MAINTENANCES DIVERSES | Y81: Livraison immédiate | Z81: Ecritures générées | AA81: MAINTENANCE PORTE ET PORTAIL | AB81: THOUMYRE
A82: NOMAE001-SASAF000-GEAU | B82: NO | C82: NOMAE001 | D82: MAEV Exploit | E82: SASAF000 | F82: EXPLOIT | G82: GEAU | H82: CDFRN 03/17-02321 | I82: OK | J82: 42800 | K82: CORIANCE | L82: FRADELEC | N82: 5592.01 | O82: DISJ | P82: DISJONCTEUR | Q82: amelie.fortin | R82: Totalement facturé | S82: FACFR 07/17-07753 | T82: Oui | U82: NOMAE001-SASAF000-GEAU | V82: NOMAE001-SASAF000-GEAU | W82: MEL | X82: 1 - MATERIEL ELECTRIQUE | Y82: Livraison immédiate | Z82: Ecritures générées | AA82: DISJONCTEUR | AB82: FRADELEC
A83: NOMAE001-SASAF000-GEAU | B83: NO | C83: NOMAE001 | D83: MAEV Exploit | E83: SASAF000 | F83: EXPLOIT | G83: GEAU | H83: CDFRN 03/17-02493 | I83: OK | J83: 42803 | K83: CORIANCE | L83: SARTVONRHOR | N83: 2386 | O83: SMOT | P83: SERVOMOTEUR | Q83: noemi.rubino | R83: Totalement facturé | S83: FACFR 05/17-05548 | T83: Oui | U83: NOMAE001-SASAF000-GEAU | V83: NOMAE001-SASAF000-GEAU | W83: RGT | X83: 1- REGULATION ET GTC | Y83: Livraison immédiate | Z83: Ecritures générées | AA83: SERVOMOTEUR | AB83: SART VON RHOR SAS
A84: NOMAE001-SASAF000-GEAU | B84: NO | C84: NOMAE001 | D84: MAEV Exploit | E84: SASAF000 | F84: EXPLOIT | G84: GEAU | H84: CDFRN 03/17-02880 | I84: OK | J84: 42815 | K84: CORIANCE | L84: ATELIERTECHNIQUE | N84: 2842 | O84: CBIO | P84: CHAUDIERE BIOMASSE | Q84: amelie.fortin | R84: Totalement facturé | S84: FACFR 03/17-03408 | T84: Oui | U84: NOMAE001-SASAF000-GEAU | V84: NOMAE001-SASAF000-GEAU | W84: CHAU | X84: 1- CHAUDIERES | Y84: Livraison immédiate | Z84: Ecritures générées | AA84: CHAUDIERE BIOMASSE | AB84: ATELIER TECHNIQUE DE BOBINAGE
A85: NOMAE001-SASAF000-COP3 | B85: NO | C85: NOMAE001 | D85: MAEV Exploit | E85: SASAF000 | F85: EXPLOIT | G85: COP3 | H85: CDFRN 03/17-02881 | I85: OK | J85: 42815 | K85: CORIANCE | L85: ATELIERTECHNIQUE | N85: 478 | O85: AFRI | P85: AEROREFRIGERANT | Q85: amelie.fortin | R85: Totalement facturé | S85: FACFR 03/17-03501 | T85: Oui | U85: NOMAE001-SASAF000-COP3 | V85: NOMAE001-SASAF000-COP3 | W85: PRO | X85: PRODUCTION | Y85: Livraison immédiate | Z85: Ecritures générées | AA85: AEROREFRIGERANT | AB85: ATELIER TECHNIQUE DE BOBINAGE
A86: NOMAE001-SASAF000-AUP2 | B86: NO | C86: NOMAE001 | D86: MAEV Exploit | E86: SASAF000 | F86: EXPLOIT | G86: AUP2 | H86: CDFRN 04/17-00067 | I86: OK | J86: 42828 | K86: MAEV | L86: ANJAC | N86: 1373.25 | O86: QUIN | P86: QUINCALLERIE | Q86: amelie.fortin | R86: Totalement facturé | S86: FACFR 04/17-00111 | T86: Oui | U86: NOMAE001-SASAF000-AUP2 | V86: NOMAE001-SASAF000-AUP2 | W86: OUT | X86: 1 - OUTILLAGE ET QUINCAILLERIE | Y86: Livraison immédiate | Z86: Ecritures générées | AA86: QUINCAILLERIE, PETIT MATÉRIEL | AB86: ANJAC MABILLE HORS PROCEDURE ACHATS
A87: NOMAE001-SASAF000-AUP2 | B87: NO | C87: NOMAE001 | D87: MAEV Exploit | E87: SASAF000 | F87: EXPLOIT | G87: AUP2 | H87: CDFRN 04/17-00067 | I87: OK | J87: 42828 | K87: MAEV | L87: ANJAC | N87: 323.24 | O87: QUIN | P87: QUINCALLERIE | Q87: amelie.fortin | R87: Totalement facturé | S87: FACFR 04/17-00112 | T87: Oui | U87: NOMAE001-SASAF000-AUP2 | V87: NOMAE001-SASAF000-AUP2 | W87: OUT | X87: 1 - OUTILLAGE ET QUINCAILLERIE | Y87: Livraison immédiate | Z87: Ecritures générées | AA87: QUINCAILLERIE, PETIT MATÉRIEL | AB87: ANJAC MABILLE HORS PROCEDURE ACHATS
A88: NOMAE001-SASAF000-AUP2 | B88: NO | C88: NOMAE001 | D88: MAEV Exploit | E88: SASAF000 | F88: EXPLOIT | G88: AUP2 | H88: CDFRN 04/17-00067 | I88: OK | J88: 42828 | K88: MAEV | L88: ANJAC | N88: 162.61 | O88: QUIN | P88: QUINCALLERIE | Q88: amelie.fortin | R88: Totalement facturé | S88: FACFR 10/17-00219 | T88: Oui | U88: NOMAE001-SASAF000-AUP2 | V88: NOMAE001-SASAF000-AUP2 | W88: OUT | X88: 1 - OUTILLAGE ET QUINCAILLERIE | Y88: Livraison immédiate | Z88: Ecritures générées | AA88: QUINCAILLERIE, PETIT MATÉRIEL | AB88: ANJAC MABILLE HORS PROCEDURE ACHATS
... A103: NOMAE001-SASAF000-AUP2 | B103: NO | C103: NOMAE001 | D103: MAEV Exploit | E103: SASAF000 | F103: EXPLOIT | G103: AUP2 | H103: CDFRN 04/17-00081 | I103: OK | J103: 42849 | K103: MAEV | L103: DIEHL | N103: 900 | O103: ACON | P103: CONTROLES REGLEMENTAIRES | Q103: amelie.fortin | R103: Totalement facturé | S103: FACFR 06/17-00136 | T103: Oui | U103: NOMAE001-SASAF000-AUP2 | V103: NOMAE001-SASAF000-AUP2 | W103: CONT REG | X103: 3- CONTRÔLES RÉGLEMENTAIRES ET | Y103: Livraison immédiate | Z103: Ecritures générées | AA103: CONTROLES REGLEMENTAIRES | AB103: DIEHL METERING
A104: NOMAE001-SASAF000-AUP2 | B104: NO | C104: NOMAE001 | D104: MAEV Exploit | E104: SASAF000 | F104: EXPLOIT | G104: AUP2 | H104: CDFRN 04/17-00082 | I104: OK | J104: 42850 | K104: MAEV | L104: CGR | N104: 397.02 | O104: QUIN | P104: QUINCAILLERIE, PETIT MATÉRIEL ET PRODUIT D'ENTRETIEN | Q104: amelie.fortin | R104: Non facturé | T104: Non | U104: NOMAE001-SASAF000-AUP2 | W104: OUT | X104: 1 - OUTILLAGE ET QUINCAILLERIE | Y104: Livraison différée | AA104: QUINCAILLERIE, PETIT MATÉRIEL | AB104: CGR
A105: NOMAE001-SASAF000-AUP2 | B105: NO | C105: NOMAE001 | D105: MAEV Exploit | E105: SASAF000 | F105: EXPLOIT | G105: AUP2 | H105: CDFRN 04/17-00083 | I105: OK | J105: 42850 | K105: MAEV | L105: CHIMIRECVALRECOIS | N105: 119 | O105: LREM | P105: LOCATION REMORQUE - BENNE | Q105: amelie.fortin | R105: Totalement facturé | S105: FACFR 04/17-00096 | T105: Oui | U105: NOMAE001-SASAF000-AUP2 | V105: NOMAE001-SASAF000-AUP2 | W105: BAU | X105: 4- LOCATIONS ET BAUX | Y105: Livraison immédiate | Z105: Ecritures générées | AA105: LOCATION REMORQUE - BENNE | AB105: CHIMIREC VALRECOISE
A106: NOMAE001-SASAF000-AUP2 | B106: NO | C106: NOMAE001 | D106: MAEV Exploit | E106: SASAF000 | F106: EXPLOIT | G106: AUP2 | H106: CDFRN 04/17-00083 | I106: OK | J106: 42850 | K106: MAEV | L106: CHIMIRECVALRECOIS | N106: 60 | O106: LREM | P106: LOCATION REMORQUE - BENNE | Q106: amelie.fortin | R106: Totalement facturé | S106: FACFR 04/17-00097 | T106: Oui | U106: NOMAE001-SASAF000-AUP2 | V106: NOMAE001-SASAF000-AUP2 | W106: BAU | X106: 4- LOCATIONS ET BAUX | Y106: Livraison immédiate | Z106: Ecritures générées | AA106: LOCATION REMORQUE - BENNE | AB106: CHIMIREC VALRECOISE
A107: NOMAE001-SASAF000-AUP2 | B107: NO | C107: NOMAE001 | D107: MAEV Exploit | E107: SASAF000 | F107: EXPLOIT | G107: AUP2 | H107: CDFRN 04/17-00086 | I107: OK | J107: 42850 | K107: MAEV | L107: DESAUTEL | N107: 388.01 | O107: EXTI | P107: MAINTENANCE EXTINCTEUR - PROTECTION INCENDIE | Q107: amelie.fortin | R107: Non facturé | T107: Non | U107: NOMAE001-SASAF000-AUP2 | W107: MAINT | X107: 3- MAINTENANCES DIVERSES | Y107: Livraison différée | AA107: MAINTENANCE EXTINCTEUR - PROTE | AB107: DESAUTEL
A108: NOMAE001-SASAF000-AUP2 | B108: NO | C108: NOMAE001 | D108: MAEV Exploit | E108: SASAF000 | F108: EXPLOIT | G108: AUP2 | H108: CDFRN 04/17-00087 | I108: OK | J108: 42851 | K108: MAEV | L108: VIESSMANNINDFR | N108: 3017.5 | O108: REPCHAU | P108: MAINTENANCE REPARATIONS CHAUFFAGE PLOMBERIE VMC | Q108: amelie.fortin | R108: Totalement facturé | S108: FACFR 04/17-00109 | T108: Oui | U108: NOMAE001-SASAF000-AUP2 | V108: NOMAE001-SASAF000-AUP2 | W108: MAINT | X108: 3- MAINTENANCES DIVERSES | Y108: Livraison immédiate | Z108: Ecritures générées | AA108: MAINTENANCE REPARATIONS CHAUFF | AB108: VIESSMANN INDUSTRIE FRANCE
A109: NOMAE001-SASAF000-AUP2 | B109: NO | C109: NOMAE001 | D109: MAEV Exploit | E109: SASAF000 | F109: EXPLOIT | G109: AUP2 | H109: CDFRN 04/17-00087 | I109: OK | J109: 42851 | K109: MAEV | L109: VIESSMANNINDFR | N109: 3017.5 | O109: REPCHAU | P109: MAINTENANCE REPARATIONS CHAUFFAGE PLOMBERIE VMC | Q109: amelie.fortin | R109: Totalement facturé | S109: FACFR 07/17-00155 | T109: Oui | U109: NOMAE001-SASAF000-AUP2 | V109: NOMAE001-SASAF000-AUP2 | W109: MAINT | X109: 3- MAINTENANCES DIVERSES | Y109: Livraison immédiate | Z109: Ecritures générées | AA109: MAINTENANCE REPARATIONS CHAUFF | AB109: VIESSMANN INDUSTRIE FRANCE
A110: NOMAE001-SASAF000-AUP2 | B110: NO | C110: NOMAE001 | D110: MAEV Exploit | E110: SASAF000 | F110: EXPLOIT | G110: AUP2 | H110: CDFRN 04/17-00088 | I110: OK | J110: 42851 | K110: MAEV | L110: APAVENO | N110: 378.2 | O110: ACON | P110: CONTROLES REGLEMENTAIRES | Q110: amelie.fortin | R110: Non facturé | T110: Non | U110: NOMAE001-SASAF000-AUP2 | W110: CONT REG | X110: 3- CONTRÔLES RÉGLEMENTAIRES ET | Y110: Livraison différée | AA110: CONTROLES REGLEMENTAIRES | AB110: APAVE NORD OUEST
A111: NOMAE001-SASAF000-AUP2 | B111: NO | C111: NOMAE001 | D111: MAEV Exploit | E111: SASAF000 | F111: EXPLOIT | G111: AUP2 | H111: CDFRN 04/17-00089 | I111: OK | J111: 42851 | K111: MAEV | L111: APAVENO | N111: 2126.2 | O111: ACON | P111: CONTROLES REGLEMENTAIRES | Q111: amelie.fortin | R111: Non facturé | T111: Non | U111: NOMAE001-SASAF000-AUP2 | W111: CONT REG | X111: 3- CONTRÔLES RÉGLEMENTAIRES ET | Y111: Livraison différée | AA111: CONTROLES REGLEMENTAIRES | AB111: APAVE NORD OUEST
A112: NOMAE001-SASAF000-AUP2 | B112: NO | C112: NOMAE001 | D112: MAEV Exploit | E112: SASAF000 | F112: EXPLOIT | G112: AUP2 | H112: CDFRN 04/17-00090 | I112: OK | J112: 42852 | K112: MAEV | L112: KILOUTOU | N112: 196.95 | O112: EMAN | P112: ENGIN DE MANUTENTION | Q112: amelie.fortin | R112: Non facturé | T112: Non | U112: NOMAE001-SASAF000-AUP2 | W112: VEE | X112: 4 - VEHICULES ET ENGINS | Y112: Livraison différée | AA112: ENGIN DE MANUTENTION | AB112: KILOUTOU
A113: NOMAE001-SASAF000-AUP2 | B113: NO | C113: NOMAE001 | D113: MAEV Exploit | E113: SASAF000 | F113: EXPLOIT | G113: AUP2 | H113: CDFRN 04/17-00091 | I113: OK | J113: 42852 | K113: MAEV | L113: KILOUTOU | N113: 327.42 | O113: EMAN | P113: ENGIN DE MANUTENTION | Q113: amelie.fortin | R113: Non facturé | T113: Non | U113: NOMAE001-SASAF000-AUP2 | W113: VEE | X113: 4 - VEHICULES ET ENGINS | Y113: Livraison immédiate | AA113: ENGIN DE MANUTENTION | AB113: KILOUTOU
A114: NOMAE001-SASAF000-AUP2 | B114: NO | C114: NOMAE001 | D114: MAEV Exploit | E114: SASAF000 | F114: EXPLOIT | G114: AUP2 | H114: CDFRN 04/17-00092 | I114: OK | J114: 42853 | K114: MAEV | L114: SETAENVIRONNEMENT | N114: 1000 | O114: QUIN | P114: QUINCAILLERIE, PETIT MATÉRIEL ET PRODUIT D'ENTRETIEN | Q114: amelie.fortin | R114: Totalement facturé | S114: FACFR 04/17-00108 | T114: Oui | U114: NOMAE001-SASAF000-AUP2 | V114: NOMAE001-SASAF000-AUP2 | W114: OUT | X114: 1 - OUTILLAGE ET QUINCAILLERIE | Y114: Livraison immédiate | Z114: Ecritures générées | AA114: QUINCAILLERIE, PETIT MATÉRIEL | AB114: SETA ENVIRONNEMENT
A115: NOMAE001-SASAF000-AUP2 | B115: NO | C115: NOMAE001 | D115: MAEV Exploit | E115: SASAF000 | F115: EXPLOIT | G115: AUP2 | H115: CDFRN 04/17-00093 | I115: OK | J115: 42853 | K115: MAEV | L115: BOULEY | N115: 145 | O115: BRET | P115: BAC DE RETENTION | Q115: amelie.fortin | R115: Totalement facturé | S115: FACFR 05/17-00119 | T115: Oui | U115: NOMAE001-SASAF000-AUP2 | V115: NOMAE001-SASAF000-AUP2 | W115: STO | X115: 1- STOCKAGE | Y115: Livraison immédiate | Z115: Ecritures générées | AA115: BAC DE RETENTION | AB115: STE DES ETS BOULEY HORS PROCEDURE ACHATS
A116: NOMAE001-SASAF000-GEAU | B116: NO | C116: NOMAE001 | D116: MAEV Exploit | E116: SASAF000 | F116: EXPLOIT | G116: GEAU | H116: CDFRN 04/17-03348 | I116: OK | J116: 42828 | K116: CORIANCE | L116: ANJAC | N116: 2434.42 | O116: CGAZ | P116: CHAUDIERE GAZ | Q116: amelie.fortin | R116: Totalement facturé | S116: FACFR 04/17-05004 | T116: Oui | U116: NOMAE001-SASAF000-GEAU | V116: NOMAE001-SASAF000-GEAU | W116: CHAU | X116: 1- CHAUDIERES | Y116: Livraison immédiate | Z116: Ecritures générées | AA116: CHAUDIERE GAZ | AB116: ANJAC MABILLE HORS PROCEDURE ACHATS
A117: NOMAE001-SASAF000-GEAU | B117: NO | C117: NOMAE001 | D117: MAEV Exploit | E117: SASAF000 | F117: EXPLOIT | G117: GEAU | H117: CDFRN 04/17-03968 | I117: OK | J117: 42852 | K117: CORIANCE | L117: MULTIRESEAUX | N117: 5800 | O117: BATI | P117: GROS OEUVRE CONSTRUCTION DE BATIMENTTRAVAUX DE MACONNERIE | Q117: amelie.fortin | R117: Totalement facturé | S117: FACFR 05/17-05032 | T117: Oui | U117: NOMAE001-SASAF000-GEAU | V117: NOMAE001-SASAF000-GEAU | W117: GCV | X117: 2- GENIE CIVIL - VRD | Y117: Livraison immédiate | Z117: Ecritures générées | AA117: GROS OEUVRE CONSTRUCTION DE BA | AB117: MULTI RESEAUX HORS PROCEDURE ACHATS
A118: NOMAE001-SASAF000-GEAU | B118: NO | C118: NOMAE001 | D118: MAEV Exploit | E118: SASAF000 | F118: EXPLOIT | G118: GEAU | H118: CDFRN 04/17-04017 | I118: OK | J118: 42853 | K118: CORIANCE | L118: SIGNALSSETON | N118: 4017.2 | O118: BATI | P118: GROS OEUVRE CONSTRUCTION DE BATIMENTTRAVAUX DE MACONNERIe | Q118: amelie.fortin | R118: Totalement facturé | S118: FACFR 05/17-05178 | T118: Oui | U118: NOMAE001-SASAF000-GEAU | V118: NOMAE001-SASAF000-GEAU | W118: GCV | X118: 2- GENIE CIVIL - VRD | Y118: Livraison immédiate | Z118: Ecritures générées | AA118: GROS OEUVRE CONSTRUCTION DE BA | AB118: SIGNALS SETON BRADY BIG
A119: NOMAE001-SASAF000-GEAU | B119: NO | C119: NOMAE001 | D119: MAEV Exploit | E119: SASAF000 | F119: EXPLOIT | G119: GEAU | H119: CDFRN 04/17-04018 | I119: OK | J119: 42853 | K119: CORIANCE | L119: BOULEY | N119: 4307.7 | O119: BRET | P119: BAC DE RETENTION | Q119: amelie.fortin | R119: Totalement facturé | S119: FACFR 06/17-06859 | T119: Oui | U119: NOMAE001-SASAF000-GEAU | V119: NOMAE001-SASAF000-GEAU | W119: STO | X119: 1- STOCKAGE | Y119: Livraison immédiate | Z119: Ecritures générées | AA119: BAC DE RETENTION | AB119: STE DES ETS BOULEY HORS PROCEDURE ACHATS
A120: NOMAE001-SASAF000-AUP2 | B120: NO | C120: NOMAE001 | D120: MAEV Exploit | E120: SASAF000 | F120: EXPLOIT | G120: AUP2 | H120: CDFRN 05/17-00094 | I120: OK | J120: 42858 | K120: MAEV | L120: ANJAC | N120: 50.5 | O120: CABL | P120: CABLES | Q120: noemi.rubino | R120: Totalement facturé | S120: FACFR 05/17-00132 | T120: Oui | U120: NOMAE001-SASAF000-AUP2 | V120: NOMAE001-SASAF000-AUP2 | W120: MEL | X120: 1 - MATERIEL ELECTRIQUE | Y120: Livraison immédiate | Z120: Ecritures générées | AA120: CABLES | AB120: ANJAC MABILLE HORS PROCEDURE ACHATS
A121: NOMAE001-SASAF000-AUP2 | B121: NO | C121: NOMAE001 | D121: MAEV Exploit | E121: SASAF000 | F121: EXPLOIT | G121: AUP2 | H121: CDFRN 05/17-00095 | I121: OK | J121: 42858 | K121: MAEV | L121: SODIMPAL | N121: 353.5 | O121: IMPR | P121: IMPRESSION ET REPROGRAPHIE | Q121: noemi.rubino | R121: Non facturé | T121: Non | U121: NOMAE001-SASAF000-AUP2 | W121: GIR | X121: 4- CHAINE GRAPHIQUE, DIMPRESSI | Y121: Livraison immédiate | AA121: IMPRESSION ET REPROGRAPHIE | AB121: SODIMPAL
A122: NOMAE001-SASAF000-AUP2 | B122: NO | C122: NOMAE001 | D122: MAEV Exploit | E122: SASAF000 | F122: EXPLOIT | G122: AUP2 | H122: CDFRN 05/17-00096 | I122: OK | J122: 42864 | K122: MAEV | L122: CHIMIRECVALRECOIS | N122: 529.45 | O122: DDAN | P122: TRAITEMENT ET EVACUATION DES DID | Q122: amelie.fortin | R122: Totalement facturé | S122: FACFR 05/17-00115 | T122: Oui | U122: NOMAE001-SASAF000-AUP2 | V122: NOMAE001-SASAF000-AUP2 | W122: TDC | X122: 3- EVACUATION ET TRAITEMENT DE | Y122: Livraison immédiate | Z122: Ecritures générées | AA122: TRAITEMENT ET EVACUATION DES D | AB122: CHIMIREC VALRECOISE
A123: NOMAE001-SASAF000-AUP2 | B123: NO | C123: NOMAE001 | D123: MAEV Exploit | E123: SASAF000 | F123: EXPLOIT | G123: AUP2 | H123: CDFRN 05/17-00097 | I123: OK | J123: 42866 | K123: MAEV | L123: CHIMIRECVALRECOIS | N123: 60 | O123: LREM | P123: LOCATION REMORQUE - BENNE | Q123: amelie.fortin | R123: Totalement facturé | S123: FACFR 05/17-00114 | T123: Oui | U123: NOMAE001-SASAF000-AUP2 | V123: NOMAE001-SASAF000-AUP2 | W123: BAU | X123: 4- LOCATIONS ET BAUX | Y123: Livraison immédiate | Z123: Ecritures générées | AA123: LOCATION REMORQUE - BENNE | AB123: CHIMIREC VALRECOISE
A124: NOMAE001-SASAF000-AUP2 | B124: NO | C124: NOMAE001 | D124: MAEV Exploit | E124: SASAF000 | F124: EXPLOIT | G124: AUP2 | H124: CDFRN 05/17-00098 | I124: OK | J124: 42870 | K124: MAEV | L124: ARES PRO | N124: 75 | O124: EPVA | P124: EQUIPEMENTS DE PROTECTION INDIVIDUELLE (EPI) | Q124: amelie.fortin | R124: Non facturé | T124: Non | U124: NOMAE001-SASAF000-AUP2 | W124: EPV | X124: 4- EPI ET VETEMENTS DE TRAVAIL | Y124: Livraison différée | AA124: EQUIPEMENTS DE PROTECTION INDI | AB124: ARES PRO HORS PROCEDURE ACHATS
A125: NOMAE001-SASAF000-AUP2 | B125: NO | C125: NOMAE001 | D125: MAEV Exploit | E125: SASAF000 | F125: EXPLOIT | G125: AUP2 | H125: CDFRN 05/17-00099 | I125: OK | J125: 42870 | K125: MAEV | L125: SIGNALSSETON | N125: 68.22 | O125: QUIN | P125: QUINCAILLERIE, PETIT MATÉRIEL ET PRODUIT D'ENTRETIEN | Q125: amelie.fortin | R125: Totalement facturé | S125: FACFR 05/17-00127 | T125: Oui | U125: NOMAE001-SASAF000-AUP2 | V125: NOMAE001-SASAF000-AUP2 | W125: OUT | X125: 1 - OUTILLAGE ET QUINCAILLERIE | Y125: Livraison immédiate | Z125: Ecritures générées | AA125: QUINCAILLERIE, PETIT MATÉRIEL | AB125: SIGNALS SETON BRADY BIG
A126: NOMAE001-SASAF000-AUP2 | B126: NO | C126: NOMAE001 | D126: MAEV Exploit | E126: SASAF000 | F126: EXPLOIT | G126: AUP2 | H126: CDFRN 05/17-00100 | I126: OK | J126: 42870 | K126: MAEV | L126: SIGNALSSETON | N126: 259.23 | O126: QUIN | P126: QUINCAILLERIE, PETIT MATÉRIEL ET PRODUIT D'ENTRETIEN | Q126: amelie.fortin | R126: Totalement facturé | S126: FACFR 05/17-00128 | T126: Oui | U126: NOMAE001-SASAF000-AUP2 | V126: NOMAE001-SASAF000-AUP2 | W126: OUT | X126: 1 - OUTILLAGE ET QUINCAILLERIE | Y126: Livraison immédiate | Z126: Ecritures générées | AA126: QUINCAILLERIE, PETIT MATÉRIEL | AB126: SIGNALS SETON BRADY BIG
A127: NOMAE001-SASAF000-AUP2 | B127: NO | C127: NOMAE001 | D127: MAEV Exploit | E127: SASAF000 | F127: EXPLOIT | G127: AUP2 | H127: CDFRN 05/17-00101 | I127: OK | J127: 42870 | K127: MAEV | L127: BACHELET | N127: 111.64 | O127: DSIN | P127: DESINFECTION, DERATISATION, DESINSECTISATION | Q127: amelie.fortin | R127: Totalement facturé | S127: FACFR 08/17-00180 | T127: Oui | U127: NOMAE001-SASAF000-AUP2 | V127: NOMAE001-SASAF000-AUP2 | W127: NET | X127: 3- NETTOYAGE - DECONTAMINATION | Y127: Livraison immédiate | Z127: Ecritures générées | AA127: DESINFECTION, DERATISATION DES | AB127: BACHELET BONNEFOND
A128: NOMAE001-SASAF000-AUP2 | B128: NO | C128: NOMAE001 | D128: MAEV Exploit | E128: SASAF000 | F128: EXPLOIT | G128: AUP2 | H128: CDFRN 05/17-00101 | I128: OK | J128: 42870 | K128: MAEV | L128: BACHELET | N128: 111.64 | O128: DSIN | P128: DESINFECTION, DERATISATION, DESINSECTISATION | Q128: amelie.fortin | R128: Totalement facturé | S128: FACFR 05/17-00116 | T128: Oui | U128: NOMAE001-SASAF000-AUP2 | V128: NOMAE001-SASAF000-AUP2 | W128: NET | X128: 3- NETTOYAGE - DECONTAMINATION | Y128: Livraison immédiate | Z128: Ecritures générées | AA128: DESINFECTION, DERATISATION DES | AB128: BACHELET BONNEFOND
A129: NOMAE001-SASAF000-AUP2 | B129: NO | C129: NOMAE001 | D129: MAEV Exploit | E129: SASAF000 | F129: EXPLOIT | G129: AUP2 | H129: CDFRN 05/17-00101 | I129: OK | J129: 42870 | K129: MAEV | L129: BACHELET | N129: 111.64 | O129: DSIN | P129: DESINFECTION, DERATISATION, DESINSECTISATION | Q129: amelie.fortin | R129: Totalement facturé | S129: FACFR 11/17-00272 | T129: Oui | U129: NOMAE001-SASAF000-AUP2 | V129: NOMAE001-SASAF000-AUP2 | W129: NET | X129: 3- NETTOYAGE - DECONTAMINATION | Y129: Livraison immédiate | Z129: Ecritures générées | AA129: DESINFECTION, DERATISATION DES | AB129: BACHELET BONNEFOND
A130: NOMAE001-SASAF000-AUP2 | B130: NO | C130: NOMAE001 | D130: MAEV Exploit | E130: SASAF000 | F130: EXPLOIT | G130: AUP2 | H130: CDFRN 05/17-00101 | I130: OK | J130: 42870 | K130: MAEV | L130: BACHELET | N130: 111.64 | O130: DSIN | P130: DESINFECTION, DERATISATION, DESINSECTISATION | Q130: amelie.fortin | R130: Totalement facturé | T130: Non | U130: NOMAE001-SASAF000-AUP2 | W130: NET | X130: 3- NETTOYAGE - DECONTAMINATION | Y130: Livraison différée | AA130: DESINFECTION, DERATISATION DES | AB130: BACHELET BONNEFOND
A131: NOMAE001-SASAF000-AUP2 | B131: NO | C131: NOMAE001 | D131: MAEV Exploit | E131: SASAF000 | F131: EXPLOIT | G131: AUP2 | H131: CDFRN 05/17-00102 | I131: OK | J131: 42870 | K131: MAEV | L131: ANJAC | N131: 54.78 | O131: CABL | P131: CABLES | Q131: amelie.fortin | R131: Totalement facturé | S131: FACFR 05/17-00133 | T131: Oui | U131: NOMAE001-SASAF000-AUP2 | V131: NOMAE001-SASAF000-AUP2 | W131: MEL | X131: 1 - MATERIEL ELECTRIQUE | Y131: Livraison immédiate | Z131: Ecritures générées | AA131: CABLES | AB131: ANJAC MABILLE HORS PROCEDURE ACHATS
...

Sheet RECAPITULATIF
A1: ='N_P2+P3'!G1 -> Plan Article | B1: ='N_P2+P3'!N1 -> Montant HT | F1: Récapitulatif Plan Article | G1: Récapitulatif Montant HT
A2: ='N_P2+P3'!G2 -> AUP2 | B2: ='N_P2+P3'!N2 -> 717.88 | F2: AUP2 | G2: =SUMIF(A:A,"="&F2,B:B) -> 157008.51
A3: ='N_P2+P3'!G3 -> AUP2 | B3: ='N_P2+P3'!N3 -> 291.7 | F3: COP2 | G3: =SUMIF(A:A,"="&F3,B:B) -> 33079.56
A4: ='N_P2+P3'!G4 -> AUP2 | B4: ='N_P2+P3'!N4 -> 121.72 | F4: BOIS | G4: =SUMIF(A:A,"="&F4,B:B) -> 1023879.1
A5: ='N_P2+P3'!G5 -> AUP2 | B5: ='N_P2+P3'!N5 -> 206.76 | F5: PRP3 | G5: =SUMIF(A:A,"="&F5,B:B) -> 27221
A6: ='N_P2+P3'!G6 -> AUP2 | B6: ='N_P2+P3'!N6 -> 367.65 | F6: COP3 | G6: =SUMIF(A:A,"="&F6,B:B) -> 15820.5
A7: ='N_P2+P3'!G7 -> AUP2 | B7: ='N_P2+P3'!N7 -> 35.6 | F7: GEAU | G7: =SUMIF(A:A,"="&F7,B:B) -> 88634.32
A8: ='N_P2+P3'!G8 -> AUP2 | B8: ='N_P2+P3'!N8 -> 269.2 | F8: FUIT | G8: =SUMIF(A:A,"="&F8,B:B) -> 30782.71
A9: ='N_P2+P3'!G9 -> AUP2 | B9: ='N_P2+P3'!N9 -> 1378.5
A10: ='N_P2+P3'!G10 -> AUP2 | B10: ='N_P2+P3'!N10 -> 43.08
A11: ='N_P2+P3'!G11 -> AUP2 | B11: ='N_P2+P3'!N11 -> 723.73
A12: ='N_P2+P3'!G12 -> AUP2 | B12: ='N_P2+P3'!N12 -> 828.96
A13: ='N_P2+P3'!G13 -> AUP2 | B13: ='N_P2+P3'!N13 -> 349.85
A14: ='N_P2+P3'!G14 -> AUP2 | B14: ='N_P2+P3'!N14 -> 127.63
A15: ='N_P2+P3'!G15 -> AUP2 | B15: ='N_P2+P3'!N15 -> 136.47
A16: ='N_P2+P3'!G16 -> BOIS | B16: ='N_P2+P3'!N16 -> 156746.31
A17: ='N_P2+P3'!G17 -> AUP2 | B17: ='N_P2+P3'!N17 -> 266.22
A18: ='N_P2+P3'!G18 -> AUP2 | B18: ='N_P2+P3'!N18 -> 345.52
A19: ='N_P2+P3'!G19 -> AUP2 | B19: ='N_P2+P3'!N19 -> 178.2
A20: ='N_P2+P3'!G20 -> COP2 | B20: ='N_P2+P3'!N20 -> 1828.1
... A1000: ='N_P2+P3'!G1000 -> 0 | B1000: ='N_P2+P3'!N1000 -> 0

Sheet GRAPHIQUE
