Workbook

Sheet N-1_P2+P3
A1: Section de Référence | B1: Agence | C1: Plan Agence | D1: Libellé Agence | E1: Plan Projet | F1: Type | G1: Plan Article | H1: Numéro de BC | I1: Statut Contrôle budgétaire | J1: Date BC | K1: Société | L1: Fournisseur | M1: Référence pièce | N1: Montant HT | O1: Code Produit | P1: Désignation | Q1: Opérateur | R1: Statut facturation | S1: Numéro de facture | T1: Comptabilise | U1: Section Analytique Commande | V1: Code sectionFact | W1: Code Catégorie Stat | X1: Libellé Catégorie Statistique | Y1: Etat livraison | Z1: Statut de comptabilisation | AA1: Libelle Produit | AB1: Raison sociale Fournisseur

Sheet N_P2+P3
A1: Section de Référence | B1: Agence | C1: Plan Agence | D1: Libellé Agence | E1: Plan Projet | F1: Type | G1: Plan Article | H1: Numéro de BC | I1: Statut Contrôle budgétaire | J1: Date BC | K1: Société | L1: Fournisseur | M1: Référence pièce | N1: Montant HT | O1: Code Produit | P1: Désignation | Q1: Opérateur | R1: Statut facturation | S1: Numéro de facture | T1: Comptabilise | U1: Section Analytique Commande | V1: Code sectionFact | W1: Code Catégorie Stat | X1: Libellé Catégorie Statistique | Y1: Etat livraison | Z1: Statut de comptabilisation | AA1: Libelle Produit | AB1: Raison sociale Fournisseur
A2: NOMAE001-SASAF000-AUP2 | B2: NO | C2: NOMAE001 | D2: MAEV Exploit | E2: SASAF000 | F2: EXPLOIT | G2: AUP2 | H2: CDFRN 01/17-00001 | I2: OK | J2: 42737 | K2: MAEV | L2: CHIMIRECVALRECOIS | N2: 717.88 | O2: DDAN | P2: TRAITEMENT DES DIS (DECHETS DANGEREUX - DECHETS INDUSTRIELS SPECIAUX) | Q2: amelie.fortin | R2: Totalement facturé | S2: FACFR 01/17-00018 | T2: Oui | U2: NOMAE001-SASAF000-AUP2 | V2: NOMAE001-SASAF000-AUP2 | W2: TDC | X2: 3- EVACUATION ET TRAITEMENT DE | Y2: Livraison immédiate | Z2: Ecritures générées | AA2: TRAITEMENT ET EVACUATION DES D | AB2: CHIMIREC VALRECOISE
A3: NOMAE001-SASAF000-AUP2 | B3: NO | C3: NOMAE001 | D3: MAEV Exploit | E3: SASAF000 | F3: EXPLOIT | G3: AUP2 | H3: CDFRN 01/17-00002 | I3: OK | J3: 42737 | K3: MAEV | L3: BOULEY | N3: 291.7 | O3: OUTA | P3: AUTRE OUTILLAGE | Q3: amelie.fortin | R3: Totalement facturé | S3: FACFR 01/17-00006 | T3: Oui | U3: NOMAE001-SASAF000-AUP2 | V3: NOMAE001-SASAF000-AUP2 | W3: OUT | X3: 1 - OUTILLAGE ET QUINCAILLERIE | Y3: Livraison immédiate | Z3: Ecritures générées | AA3: OUTILLAGE | AB3: STE DES ETS BOULEY HORS PROCEDURE ACHATS
A4: NOMAE001-SASAF000-AUP2 | B4: NO | C4: NOMAE001 | D4: MAEV Exploit | E4: SASAF000 | F4: EXPLOIT | G4: AUP2 | H4: CDFRN 01/17-00003 | I4: OK | J4: 42737 | K4: MAEV | L4: BOULEY | N4: 121.72 | O4: QUIN | P4: QUINCALLERIE | Q4: amelie.fortin | R4: Totalement facturé | S4: FACFR 02/17-00050 | T4: Oui | U4: NOMAE001-SASAF000-AUP2 | V4: NOMAE001-SASAF000-AUP2 | W4: OUT | X4: 1 - OUTILLAGE ET QUINCAILLERIE | Y4: Livraison immédiate | Z4: Ecritures générées | AA4: QUINCAILLERIE, PETIT MATÉRIEL | AB4: STE DES ETS BOULEY HORS PROCEDURE ACHATS
A5: NOMAE001-SASAF000-AUP2 | B5: NO | C5: NOMAE001 | D5: MAEV Exploit | E5: SASAF000 | F5: EXPLOIT | G5: AUP2 | H5: CDFRN 01/17-00004 | I5: OK | J5: 42737 | K5: MAEV | L5: NOLLET | N5: 206.76 | O5: FUSI | P5: FUSIBLE | Q5: amelie.fortin | R5: Totalement facturé | S5: FACFR 01/17-00040 | T5: Oui | U5: NOMAE001-SASAF000-AUP2 | V5: NOMAE001-SASAF000-AUP2 | W5: MEL | X5: 1 - MATERIEL ELECTRIQUE | Y5: Livraison immédiate | Z5: Ecritures générées | AA5: FUSIBLE | AB5: NOLLET HORS PROCEDURE ACHATS
A6: NOMAE001-SASAF000-AUP2 | B6: NO | C6: NOMAE001 | D6: MAEV Exploit | E6: SASAF000 | F6: EXPLOIT | G6: AUP2 | H6: CDFRN 01/17-00005 | I6: OK | J6: 42737 | K6: MAEV | L6: DESAUTEL | N6: 367.65 | O6: ACON | P6: ESSAIS ET ANALYSES EN VUE DE LA DÉLIVRANCE D'UNE ATTESTATION DE CONFORMITÉ (CERTIFICATION, NORMES, C | Q6: amelie.fortin | R6: Totalement facturé | S6: FACFR 03/17-00085 | T6: Oui | U6: NOMAE001-SASAF000-AUP2 | V6: NOMAE001-SASAF000-AUP2 | W6: CONT REG | X6: 3- CONTRÔLES RÉGLEMENTAIRES ET | Y6: Livraison immédiate | Z6: Ecritures générées | AA6: CONTROLES REGLEMENTAIRES | AB6: DESAUTEL
A7: NOMAE001-SASAF000-AUP2 | B7: NO | C7: NOMAE001 | D7: MAEV Exploit | E7: SASAF000 | F7: EXPLOIT | G7: AUP2 | H7: CDFRN 01/17-00005 | I7: OK | J7: 42737 | K7: MAEV | L7: DESAUTEL | N7: 35.6 | O7: ACON | P7: ESSAIS ET ANALYSES EN VUE DE LA DÉLIVRANCE D'UNE ATTESTATION DE CONFORMITÉ (CERTIFICATION, NORMES, C | Q7: amelie.fortin | R7: Totalement facturé | T7: Non | U7: NOMAE001-SASAF000-AUP2 | W7: CONT REG | X7: 3- CONTRÔLES RÉGLEMENTAIRES ET | Y7: Livraison différée | AA7: CONTROLES REGLEMENTAIRES | AB7: DESAUTEL
A8: NOMAE001-SASAF000-AUP2 | B8: NO | C8: NOMAE001 | D8: MAEV Exploit | E8: SASAF000 | F8: EXPLOIT | G8: AUP2 | H8: CDFRN 01/17-00006 | I8: OK | J8: 42737 | K8: MAEV | L8: FRADELEC | N8: 269.2 | O8: PMSA | P8: AUTRE PRESTATION MANUELLE SPECIALISEE | Q8: amelie.fortin | R8: Totalement facturé | S8: FACFR 01/17-00028 | T8: Oui | U8: NOMAE001-SASAF000-AUP2 | V8: NOMAE001-SASAF000-AUP2 | W8: ST TUY | X8: 2 - SOUS TRAITANCE TUYAUTERIE | Y8: Livraison immédiate | Z8: Ecritures générées | AA8: AUTRE PRESTATION MANUELLE SPEC | AB8: FRADELEC
A9: NOMAE001-SASAF000-AUP2 | B9: NO | C9: NOMAE001 | D9: MAEV Exploit | E9: SASAF000 | F9: EXPLOIT | G9: AUP2 | H9: CDFRN 01/17-00007 | I9: OK | J9: 42744 | K9: MAEV | L9: THOUMYRE | N9: 1378.5 | O9: PMSA | P9: AUTRE PRESTATION MANUELLE SPECIALISEE | Q9: amelie.fortin | R9: Totalement facturé | S9: FACFR 02/17-00039 | T9: Oui | U9: NOMAE001-SASAF000-AUP2 | V9: NOMAE001-SASAF000-AUP2 | W9: ST TUY | X9: 2 - SOUS TRAITANCE TUYAUTERIE | Y9: Livraison immédiate | Z9: Ecritures générées | AA9: AUTRE PRESTATION MANUELLE SPEC | AB9: THOUMYRE
A10: NOMAE001-SASAF000-AUP2 | B10: NO | C10: NOMAE001 | D10: MAEV Exploit | E10: SASAF000 | F10: EXPLOIT | G10: AUP2 | H10: CDFRN 01/17-00008 | I10: OK | J10: 42746 | K10: MAEV | L10: KILOUTOU | N10: 43.08 | O10: EMAN | P10: ENGIN DE MANUTENTION | Q10: noemi.rubino | R10: Non facturé | T10: Non | U10: NOMAE001-SASAF000-AUP2 | W10: VEE | X10: 4 - VEHICULES ET ENGINS | Y10: Livraison immédiate | AA10: ENGIN DE MANUTENTION | AB10: KILOUTOU
A11: NOMAE001-SASAF000-AUP2 | B11: NO | C11: NOMAE001 | D11: MAEV Exploit | E11: SASAF000 | F11: EXPLOIT | G11: AUP2 | H11: CDFRN 01/17-00009 | I11: OK | J11: 42747 | K11: MAEV | L11: APAVENO | N11: 723.73 | O11: ACON | P11: ESSAIS ET ANALYSES EN VUE DE LA DÉLIVRANCE D'UNE ATTESTATION DE CONFORMITÉ (CERTIFICATION, NORMES, C | Q11: noemi.rubino | R11: Totalement facturé | S11: FACFR 01/17-00017 | T11: Oui | U11: NOMAE001-SASAF000-AUP2 | V11: NOMAE001-SASAF000-AUP2 | W11: CONT REG | X11: 3- CONTRÔLES RÉGLEMENTAIRES ET | Y11: Livraison immédiate | Z11: Ecritures générées | AA11: CONTROLES REGLEMENTAIRES | AB11: APAVE NORD OUEST
A12: NOMAE001-SASAF000-AUP2 | B12: NO | C12: NOMAE001 | D12: MAEV Exploit | E12: SASAF000 | F12: EXPLOIT | G12: AUP2 | H12: CDFRN 01/17-00010 | I12: OK | J12: 42747 | K12: MAEV | L12: CHIMIREC | N12: 828.96 | O12: LREM | P12: LOCATION REMORQUE - BENNE | Q12: noemi.rubino | R12: Non facturé | T12: Non | U12: NOMAE001-SASAF000-AUP2 | W12: BAU | X12: 4- LOCATIONS ET BAUX | Y12: Livraison différée | AA12: LOCATION REMORQUE - BENNE | AB12: CHIMIREC
A13: NOMAE001-SASAF000-AUP2 | B13: NO | C13: NOMAE001 | D13: MAEV Exploit | E13: SASAF000 | F13: EXPLOIT | G13: AUP2 | H13: CDFRN 01/17-00012 | I13: OK | J13: 42751 | K13: MAEV | L13: DESAUTEL | N13: 349.85 | O13: ACON | P13: ESSAIS ET ANALYSES EN VUE DE LA DÉLIVRANCE D'UNE ATTESTATION DE CONFORMITÉ (CERTIFICATION, NORMES, C | Q13: noemi.rubino | R13: Totalement facturé | S13: FACFR 03/17-00086 | T13: Oui | U13: NOMAE001-SASAF000-AUP2 | V13: NOMAE001-SASAF000-AUP2 | W13: CONT REG | X13: 3- CONTRÔLES RÉGLEMENTAIRES ET | Y13: Livraison immédiate | Z13: Ecritures générées | AA13: CONTROLES REGLEMENTAIRES | AB13: DESAUTEL
A14: NOMAE001-SASAF000-AUP2 | B14: NO | C14: NOMAE001 | D14: MAEV Exploit | E14: SASAF000 | F14: EXPLOIT | G14: AUP2 | H14: CDFRN 01/17-00012 | I14: OK | J14: 42751 | K14: MAEV | L14: DESAUTEL | N14: 127.63 | O14: ACON | P14: ESSAIS ET ANALYSES EN VUE DE LA DÉLIVRANCE D'UNE ATTESTATION DE CONFORMITÉ (CERTIFICATION, NORMES, C | Q14: noemi.rubino | R14: Totalement facturé | T14: Non | U14: NOMAE001-SASAF000-AUP2 | W14: CONT REG | X14: 3- CONTRÔLES RÉGLEMENTAIRES ET | Y14: Livraison différée | AA14: CONTROLES REGLEMENTAIRES | AB14: DESAUTEL
A15: NOMAE001-SASAF000-AUP2 | B15: NO | C15: NOMAE001 | D15: MAEV Exploit | E15: SASAF000 | F15: EXPLOIT | G15: AUP2 | H15: CDFRN 01/17-00013 | I15: OK | J15: 42752 | K15: MAEV | L15: DMAE | N15: 136.47 | O15: PMSA | P15: AUTRE PRESTATION MANUELLE SPECIALISEE | Q15: amelie.fortin | R15: Totalement facturé | S15: FACFR 01/17-00026 | T15: Oui | U15: NOMAE001-SASAF000-AUP2 | V15: NOMAE001-SASAF000-AUP2 | W15: ST TUY | X15: 2 - SOUS TRAITANCE TUYAUTERIE | Y15: Livraison immédiate | Z15: Ecritures générées | AA15: AUTRE PRESTATION MANUELLE SPEC | AB15: DMAE
A16: NOMAE001-SASAF000-BOIS | B16: NO | C16: NOMAE001 | D16: MAEV Exploit | E16: SASAF000 | F16: EXPLOIT | G16: BOIS | H16: CDFRN 01/17-00014 | I16: OK | J16: 42752 | K16: MAEV | L16: BIOCOMBUSTIBLES | N16: 156746.31 | O16: BOIA | P16: AUTRE BOIS | Q16: amelie.fortin | R16: Totalement facturé | S16: FACFR 01/17-00021 | T16: Oui | U16: NOMAE001-SASAF000-BOIS | V16: NOMAE001-SASAF000-BOIS | W16: ENE | X16: 5- ENERGIE | Y16: Livraison immédiate | Z16: Ecritures générées | AA16: AUTRE BOIS | AB16: BIOCOMBUSTIBLES
A17: NOMAE001-SASAF000-AUP2 | B17: NO | C17: NOMAE001 | D17: MAEV Exploit | E17: SASAF000 | F17: EXPLOIT | G17: AUP2 | H17: CDFRN 01/17-00015 | I17: OK | J17: 42753 | K17: MAEV | L17: BOULEY | N17: 266.22 | O17: OUTA | P17: AUTRE OUTILLAGE | Q17: amelie.fortin | R17: Totalement facturé | S17: FACFR 01/17-00023 | T17: Oui | U17: NOMAE001-SASAF000-AUP2 | V17: NOMAE001-SASAF000-AUP2 | W17: OUT | X17: 1 - OUTILLAGE ET QUINCAILLERIE | Y17: Livraison immédiate | Z17: Ecritures générées | AA17: OUTILLAGE | AB17: STE DES ETS BOULEY HORS PROCEDURE ACHATS
A18: NOMAE001-SASAF000-AUP2 | B18: NO | C18: NOMAE001 | D18: MAEV Exploit | E18: SASAF000 | F18: EXPLOIT | G18: AUP2 | H18: CDFRN 01/17-00015 | I18: OK | J18: 42753 | K18: MAEV | L18: BOULEY | N18: 345.52 | O18: OUTA | P18: AUTRE OUTILLAGE | Q18: amelie.fortin | R18: Totalement facturé | S18: FACFR 02/17-00051 | T18: Oui | U18: NOMAE001-SASAF000-AUP2 | V18: NOMAE001-SASAF000-AUP2 | W18: OUT | X18: 1 - OUTILLAGE ET QUINCAILLERIE | Y18: Livraison immédiate | Z18: Ecritures générées | AA18: OUTILLAGE | AB18: STE DES ETS BOULEY HORS PROCEDURE ACHATS
A19: NOMAE001-SASAF000-AUP2 | B19: NO | C19: NOMAE001 | D19: MAEV Exploit | E19: SASAF000 | F19: EXPLOIT | G19: AUP2 | H19: CDFRN 01/17-00016 | I19: OK | J19: 42753 | K19: MAEV | L19: ANJAC | N19: 178.2 | O19: OUTA | P19: AUTRE OUTILLAGE | Q19: amelie.fortin | R19: Totalement facturé | S19: FACFR 01/17-00035 | T19: Oui | U19: NOMAE001-SASAF000-AUP2 | V19: NOMAE001-SASAF000-AUP2 | W19: OUT | X19: 1 - OUTILLAGE ET QUINCAILLERIE | Y19: Livraison immédiate | Z19: Ecritures générées | AA19: OUTILLAGE | AB19: ANJAC MABILLE HORS PROCEDURE ACHATS
A20: NOMAE001-SASAF000-COP2 | B20: NO | C20: NOMAE001 | D20: MAEV Exploit | E20: SASAF000 | F20: EXPLOIT | G20: COP2 | H20: CDFRN 01/17-00017 | I20: OK | J20: 42758 | K20: MAEV | L20: TOTAL | N20: 1828.1 | O20: MOTE | P20: MOTEUR DE COGENERATION ET PIECES DETACHEES | Q20: amelie.fortin | R20: Totalement facturé | S20: FACFR 01/17-00034 | T20: Oui | U20: NOMAE001-SASAF000-COP2 | V20: NOMAE001-SASAF000-COP2 | W20: MOT | X20: 1- MOTEURS ET TURBINES | Y20: Livraison immédiate | Z20: Ecritures générées | AA20: MOTEUR DE COGENERATION ET PIE | AB20: TOTAL
A21: NOMAE001-SASAF000-AUP2 | B21: NO | C21: NOMAE001 | D21: MAEV Exploit | E21: SASAF000 | F21: EXPLOIT | G21: AUP2 | H21: CDFRN 01/17-00234 | I21: OK | J21: 42738 | K21: CORIANCE | L21: KILOUTOU | N21: 570.15 | O21: EMAN | P21: ENGIN DE MANUTENTION | Q21: noemi.rubino | R21: Non facturé | T21: Non | U21: NOMAE001-SASAF000-AUP2 | W21: VEE | X21: 4 - VEHICULES ET ENGINS | Y21: Livraison immédiate | AA21: ENGIN DE MANUTENTION | AB21: KILOUTOU
A22: NOMAE001-SASAF000-AUP2 | B22: NO | C22: NOMAE001 | D22: MAEV Exploit | E22: SASAF000 | F22: EXPLOIT | G22: AUP2 | H22: CDFRN 02/17-00018 | I22: OK | J22: 42767 | K22: MAEV | L22: FRADELEC | N22: 182.4 | O22: PMSA | P22: AUTRE PRESTATION MANUELLE SPECIALISEE | Q22: noemi.rubino | R22: Totalement facturé | S22: FACFR 02/17-00027 | T22: Oui | U22: NOMAE001-SASAF000-AUP2 | V22: NOMAE001-SASAF000-AUP2 | W22: ST TUY | X22: 2 - SOUS TRAITANCE TUYAUTERIE | Y22: Livraison immédiate | Z22: Ecritures générées | AA22: AUTRE PRESTATION MANUELLE SPEC | AB22: FRADELEC
A23: NOMAE001-SASAF000-AUP2 | B23: NO | C23: NOMAE001 | D23: MAEV Exploit | E23: SASAF000 | F23: EXPLOIT | G23: AUP2 | H23: CDFRN 02/17-00019 | I23: OK | J23: 42767 | K23: MAEV | L23: MECAELEC | N23: 243.91 | O23: ETAB | P23: ETABLI | Q23: noemi.rubino | R23: Non facturé | T23: Non | U23: NOMAE001-SASAF000-AUP2 | W23: AMI | X23: 4- AMENAGEMENT INTERIEUR | Y23: Livraison immédiate | AA23: MOBILIER ATELIER | AB23: MECAELEC
A24: NOMAE001-SASAF000-AUP2 | B24: NO | C24: NOMAE001 | D24: MAEV Exploit | E24: SASAF000 | F24: EXPLOIT | G24: AUP2 | H24: CDFRN 02/17-00020 | I24: OK | J24: 42768 | K24: MAEV | L24: SOLSTICE | N24: 3742.24 | O24: PMSA | P24: AUTRE PRESTATION MANUELLE SPECIALISEE | Q24: noemi.rubino | R24: Totalement facturé | S24: FACFR 10/17-00225 | T24: Oui | U24: NOMAE001-SASAF000-AUP2 | V24: NOMAE001-SASAF000-AUP2 | W24: ST TUY | X24: 2 - SOUS TRAITANCE TUYAUTERIE | Y24: Livraison immédiate | Z24: Ecritures générées | AA24: AUTRE PRESTATION MANUELLE SPEC | AB24: SOLSTICE
A25: NOMAE001-SASAF000-AUP2 | B25: NO | C25: NOMAE001 | D25: MAEV Exploit | E25: SASAF000 | F25: EXPLOIT | G25: AUP2 | H25: CDFRN 02/17-00021 | I25: OK | J25: 42769 | K25: MAEV | L25: EMTC | N25: 720 | O25: PMSA | P25: AUTRE PRESTATION MANUELLE SPECIALISEE | Q25: noemi.rubino | R25: Totalement facturé | S25: FACFR 02/17-00041 | T25: Oui | U25: NOMAE001-SASAF000-AUP2 | V25: NOMAE001-SASAF000-AUP2 | W25: ST TUY | X25: 2 - SOUS TRAITANCE TUYAUTERIE | Y25: Livraison immédiate | Z25: Ecritures générées | AA25: AUTRE PRESTATION MANUELLE SPEC | AB25: EMTC
A26: NOMAE001-SASAF000-AUP2 | B26: NO | C26: NOMAE001 | D26: MAEV Exploit | E26: SASAF000 | F26: EXPLOIT | G26: AUP2 | H26: CDFRN 02/17-00022 | I26: OK | J26: 42769 | K26: MAEV | L26: PLUGINDUSTRY | N26: 862.8 | O26: PMSA | P26: AUTRE PRESTATION MANUELLE SPECIALISEE | Q26: noemi.rubino | R26: Totalement facturé | S26: FACFR 02/17-00053 | T26: Oui | U26: NOMAE001-SASAF000-AUP2 | V26: NOMAE001-SASAF000-AUP2 | W26: ST TUY | X26: 2 - SOUS TRAITANCE TUYAUTERIE | Y26: Livraison immédiate | Z26: Ecritures générées | AA26: AUTRE PRESTATION MANUELLE SPEC | AB26: PLUG INDUSTRY
A27: NOMAE001-SASAF000-AUP2 | B27: NO | C27: NOMAE001 | D27: MAEV Exploit | E27: SASAF000 | F27: EXPLOIT | G27: AUP2 | H27: CDFRN 02/17-00022 | I27: OK | J27: 42769 | K27: MAEV | L27: PLUGINDUSTRY | N27: 341.92 | O27: PMSA | P27: AUTRE PRESTATION MANUELLE SPECIALISEE | Q27: noemi.rubino | R27: Totalement facturé | S27: FACFR 02/17-00054 | T27: Oui | U27: NOMAE001-SASAF000-AUP2 | V27: NOMAE001-SASAF000-AUP2 | W27: ST TUY | X27: 2 - SOUS TRAITANCE TUYAUTERIE | Y27: Livraison immédiate | Z27: Ecritures générées | AA27: AUTRE PRESTATION MANUELLE SPEC | AB27: PLUG INDUSTRY
A28: NOMAE001-SASAF000-AUP2 | B28: NO | C28: NOMAE001 | D28: MAEV Exploit | E28: SASAF000 | F28: EXPLOIT | G28: AUP2 | H28: CDFRN 02/17-00023 | I28: OK | J28: 42769 | K28: MAEV | L28: ORTEC | N28: 862.49 | O28: ACON | P28: ESSAIS ET ANALYSES EN VUE DE LA DÉLIVRANCE D'UNE ATTESTATION DE CONFORMITÉ (CERTIFICATION, NORMES, C | Q28: noemi.rubino | R28: Totalement facturé | S28: FACFR 02/17-00065 | T28: Oui | U28: NOMAE001-SASAF000-AUP2 | V28: NOMAE001-SASAF000-AUP2 | W28: CONT REG | X28: 3- CONTRÔLES RÉGLEMENTAIRES ET | Y28: Livraison immédiate | Z28: Ecritures générées | AA28: CONTROLES REGLEMENTAIRES | AB28: ORTEC
A29: NOMAE001-SASAF000-AUP2 | B29: NO | C29: NOMAE001 | D29: MAEV Exploit | E29: SASAF000 | F29: EXPLOIT | G29: AUP2 | H29: CDFRN 02/17-00024 | I29: OK | J29: 42772 | K29: MAEV | L29: DIAP | N29: 225 | O29: QUIN | P29: QUINCALLERIE | Q29: noemi.rubino | R29: Totalement facturé | S29: FACFR 02/17-00045 | T29: Oui | U29: NOMAE001-SASAF000-AUP2 | V29: NOMAE001-SASAF000-AUP2 | W29: OUT | X29: 1 - OUTILLAGE ET QUINCAILLERIE | Y29: Livraison immédiate | Z29: Ecritures générées | AA29: QUINCAILLERIE, PETIT MATÉRIEL | AB29: DIAP FRANCE HORS PROCEDURE ACHATS
A30: NOMAE001-SASAF000-COP2 | B30: NO | C30: NOMAE001 | D30: MAEV Exploit | E30: SASAF000 | F30: EXPLOIT | G30: COP2 | H30: CDFRN 02/17-00026 | I30: OK | J30: 42773 | K30: MAEV | L30: NOLLET | N30: 600.44 | O30: CMPR | P30: MAINTENANCE PREVENTIVE COGENERATION | Q30: amelie.fortin | R30: Totalement facturé | S30: FACFR 02/17-00067 | T30: Oui | U30: NOMAE001-SASAF000-COP2 | V30: NOMAE001-SASAF000-COP2 | W30: COG | X30: 3- COGENERATION | Y30: Livraison immédiate | Z30: Ecritures générées | AA30: MAINTENANCE PREVENTIVE ET CUR | AB30: NOLLET HORS PROCEDURE ACHATS
A31: NOMAE001-SASAF000-AUP2 | B31: NO | C31: NOMAE001 | D31: MAEV Exploit | E31: SASAF000 | F31: EXPLOIT | G31: AUP2 | H31: CDFRN 02/17-00027 | I31: OK | J31: 42780 | K31: MAEV | L31: BOULEY | N31: 48.27 | O31: OUTA | P31: AUTRE OUTILLAGE | Q31: amelie.fortin | R31: Totalement facturé | S31: FACFR 02/17-00049 | T31: Oui | U31: NOMAE001-SASAF000-AUP2 | V31: NOMAE001-SASAF000-AUP2 | W31: OUT | X31: 1 - OUTILLAGE ET QUINCAILLERIE | Y31: Livraison immédiate | Z31: Ecritures générées | AA31: OUTILLAGE | AB31: STE DES ETS BOULEY HORS PROCEDURE ACHATS
A32: NOMAE001-SASAF000-AUP2 | B32: NO | C32: NOMAE001 | D32: MAEV Exploit | E32: SASAF000 | F32: EXPLOIT | G32: AUP2 | H32: CDFRN 02/17-00027 | I32: OK | J32: 42780 | K32: MAEV | L32: BOULEY | N32: 2237.25 | O32: OUTA | P32: AUTRE OUTILLAGE | Q32: amelie.fortin | R32: Totalement facturé | S32: FACFR 03/17-00089 | T32: Oui | U32: NOMAE001-SASAF000-AUP2 | V32: NOMAE001-SASAF000-AUP2 | W32: OUT | X32: 1 - OUTILLAGE ET QUINCAILLERIE | Y32: Livraison immédiate | Z32: Ecritures générées | AA32: OUTILLAGE | AB32: STE DES ETS BOULEY HORS PROCEDURE ACHATS
A33: NOMAE001-SASAF000-AUP2 | B33: NO | C33: NOMAE001 | D33: MAEV Exploit | E33: SASAF000 | F33: EXPLOIT | G33: AUP2 | H33: CDFRN 02/17-00028 | I33: OK | J33: 42780 | K33: MAEV | L33: AIR NORMAND | N33: 535 | O33: MCOA | P33: AUTRE MESURE OU CONTROLE | Q33: amelie.fortin | R33: Totalement facturé | S33: FACFR 02/17-00042 | T33: Oui | U33: NOMAE001-SASAF000-AUP2 | V33: NOMAE001-SASAF000-AUP2 | W33: CONT REG | X33: 3- CONTRÔLES RÉGLEMENTAIRES ET | Y33: Livraison immédiate | Z33: Ecritures générées | AA33: CONTRÔLE ET ANALYSES ENVIRONNE | AB33: AIR NORMAND
A34: NOMAE001-SASAF000-AUP2 | B34: NO | C34: NOMAE001 | D34: MAEV Exploit | E34: SASAF000 | F34: EXPLOIT | G34: AUP2 | H34: CDFRN 02/17-00029 | I34: OK | J34: 42780 | K34: MAEV | L34: CHIMIRECVALRECOIS | N34: 828.96 | O34: DDAN | P34: TRAITEMENT DES DIS (DECHETS DANGEREUX - DECHETS INDUSTRIELS SPECIAUX) | Q34: amelie.fortin | R34: Totalement facturé | S34: FACFR 02/17-00043 | T34: Oui | U34: NOMAE001-SASAF000-AUP2 | V34: NOMAE001-SASAF000-AUP2 | W34: TDC | X34: 3- EVACUATION ET TRAITEMENT DE | Y34: Livraison immédiate | Z34: Ecritures générées | AA34: TRAITEMENT ET EVACUATION DES D | AB34: CHIMIREC VALRECOISE
A35: NOMAE001-SASAF000-AUP2 | B35: NO | C35: NOMAE001 | D35: MAEV Exploit | E35: SASAF000 | F35: EXPLOIT | G35: AUP2 | H35: CDFRN 02/17-00030 | I35: OK | J35: 42780 | K35: MAEV | L35: CHIMIRECVALRECOIS | N35: 170 | O35: DDAN | P35: TRAITEMENT DES DIS (DECHETS DANGEREUX - DECHETS INDUSTRIELS SPECIAUX) | Q35: amelie.fortin | R35: Totalement facturé | S35: FACFR 02/17-00044 | T35: Oui | U35: NOMAE001-SASAF000-AUP2 | V35: NOMAE001-SASAF000-AUP2 | W35: TDC | X35: 3- EVACUATION ET TRAITEMENT DE | Y35: Livraison immédiate | Z35: Ecritures générées | AA35: TRAITEMENT ET EVACUATION DES D | AB35: CHIMIREC VALRECOISE
... A40: NOMAE001-SASAF000-COP2 | B40: NO | C40: NOMAE001 | D40: MAEV Exploit | E40: SASAF000 | F40: EXPLOIT | G40: COP2 | H40: CDFRN 02/17-00035 | I40: OK | J40: 42786 | K40: MAEV | L40: ESSO | N40: 4177.22 | O40: HUIL | P40: HUILE | Q40: amelie.fortin | R40: Totalement facturé | S40: FACFR 03/17-00087 | T40: Oui | U40: NOMAE001-SASAF000-COP2 | V40: NOMAE001-SASAF000-COP2 | W40: MOT | X40: 1- MOTEURS ET TURBINES | Y40: Livraison immédiate | Z40: Ecritures générées | AA40: HUILE | AB40: ESSO SAF
A41: NOMAE001-SASAF000-COP2 | B41: NO | C41: NOMAE001 | D41: MAEV Exploit | E41: SASAF000 | F41: EXPLOIT | G41: COP2 | H41: CDFRN 02/17-00035 | I41: OK | J41: 42786 | K41: MAEV | L41: ESSO | N41: 7.03 | O41: HUIL | P41: HUILE | Q41: amelie.fortin | R41: Totalement facturé | T41: Non | U41: NOMAE001-SASAF000-COP2 | W41: MOT | X41: 1- MOTEURS ET TURBINES | Y41: Livraison différée | AA41: HUILE | AB41: ESSO SAF
A42: NOMAE001-SASAF000-AUP2 | B42: NO | C42: NOMAE001 | D42: MAEV Exploit | E42: SASAF000 | F42: EXPLOIT | G42: AUP2 | H42: CDFRN 02/17-00037 | I42: OK | J42: 42788 | K42: MAEV | L42: BOULEY | N42: 79.68 | O42: QUIN | P42: QUINCALLERIE | Q42: amelie.fortin | R42: Totalement facturé | S42: FACFR 02/17-00048 | T42: Oui | U42: NOMAE001-SASAF000-AUP2 | V42: NOMAE001-SASAF000-AUP2 | W42: OUT | X42: 1 - OUTILLAGE ET QUINCAILLERIE | Y42: Livraison immédiate | Z42: Ecritures générées | AA42: QUINCAILLERIE, PETIT MATÉRIEL | AB42: STE DES ETS BOULEY HORS PROCEDURE ACHATS
A43: NOMAE001-SASAF000-AUP2 | B43: NO | C43: NOMAE001 | D43: MAEV Exploit | E43: SASAF000 | F43: EXPLOIT | G43: AUP2 | H43: CDFRN 02/17-00037 | I43: OK | J43: 42788 | K43: MAEV | L43: BOULEY | N43: 399.07 | O43: QUIN | P43: QUINCALLERIE | Q43: amelie.fortin | R43: Totalement facturé | S43: FACFR 02/17-00059 | T43: Oui | U43: NOMAE001-SASAF000-AUP2 | V43: NOMAE001-SASAF000-AUP2 | W43: OUT | X43: 1 - OUTILLAGE ET QUINCAILLERIE | Y43: Livraison immédiate | Z43: Ecritures générées | AA43: QUINCAILLERIE, PETIT MATÉRIEL | AB43: STE DES ETS BOULEY HORS PROCEDURE ACHATS
A44: NOMAE001-SASAF000-AUP2 | B44: NO | C44: NOMAE001 | D44: MAEV Exploit | E44: SASAF000 | F44: EXPLOIT | G44: AUP2 | H44: CDFRN 02/17-00037 | I44: OK | J44: 42788 | K44: MAEV | L44: BOULEY | N44: 79.76 | O44: QUIN | P44: QUINCALLERIE | Q44: amelie.fortin | R44: Totalement facturé | S44: FACFR 03/17-00074 | T44: Oui | U44: NOMAE001-SASAF000-AUP2 | V44: NOMAE001-SASAF000-AUP2 | W44: OUT | X44: 1 - OUTILLAGE ET QUINCAILLERIE | Y44: Livraison immédiate | Z44: Ecritures générées | AA44: QUINCAILLERIE, PETIT MATÉRIEL | AB44: STE DES ETS BOULEY HORS PROCEDURE ACHATS
...

Sheet RECAPITULATIF
A1: ='N_P2+P3'!G1 -> Plan Article | B1: ='N_P2+P3'!N1 -> Montant HT | F1: Récapitulatif Plan Article | G1: Récapitulatif Montant HT
A2: ='N_P2+P3'!G2 -> AUP2 | B2: ='N_P2+P3'!N2 -> 717.88 | F2: AUP2 | G2: =SUMIF(A:A,"="&F2,B:B) -> 157008.51
A3: ='N_P2+P3'!G3 -> AUP2 | B3: ='N_P2+P3'!N3 -> 291.7 | F3: COP2 | G3: =SUMIF(A:A,"="&F3,B:B) -> 33079.56
A4: ='N_P2+P3'!G4 -> AUP2 | B4: ='N_P2+P3'!N4 -> 121.72 | F4: BOIS | G4: =SUMIF(A:A,"="&F4,B:B) -> 1023879.1
A5: ='N_P2+P3'!G5 -> AUP2 | B5: ='N_P2+P3'!N5 -> 206.76 | F5: PRP3 | G5: =SUMIF(A:A,"="&F5,B:B) -> 27221
A6: ='N_P2+P3'!G6 -> AUP2 | B6: ='N_P2+P3'!N6 -> 367.65 | F6: COP3 | G6: =SUMIF(A:A,"="&F6,B:B) -> 15820.5
A7: ='N_P2+P3'!G7 -> AUP2 | B7: ='N_P2+P3'!N7 -> 35.6 | F7: GEAU | G7: =SUMIF(A:A,"="&F7,B:B) -> 88634.32
A8: ='N_P2+P3'!G8 -> AUP2 | B8: ='N_P2+P3'!N8 -> 269.2 | F8: FUIT | G8: =SUMIF(A:A,"="&F8,B:B) -> 30782.71
A9: ='N_P2+P3'!G9 -> AUP2 | B9: ='N_P2+P3'!N9 -> 1378.5
A10: ='N_P2+P3'!G10 -> AUP2 | B10: ='N_P2+P3'!N10 -> 43.08
A11: ='N_P2+P3'!G11 -> AUP2 | B11: ='N_P2+P3'!N11 -> 723.73
A12: ='N_P2+P3'!G12 -> AUP2 | B12: ='N_P2+P3'!N12 -> 828.96
A13: ='N_P2+P3'!G13 -> AUP2 | B13: ='N_P2+P3'!N13 -> 349.85
A14: ='N_P2+P3'!G14 -> AUP2 | B14: ='N_P2+P3'!N14 -> 127.63
A15: ='N_P2+P3'!G15 -> AUP2 | B15: ='N_P2+P3'!N15 -> 136.47
A16: ='N_P2+P3'!G16 -> BOIS | B16: ='N_P2+P3'!N16 -> 156746.31
A17: ='N_P2+P3'!G17 -> AUP2 | B17: ='N_P2+P3'!N17 -> 266.22
A18: ='N_P2+P3'!G18 -> AUP2 | B18: ='N_P2+P3'!N18 -> 345.52
A19: ='N_P2+P3'!G19 -> AUP2 | B19: ='N_P2+P3'!N19 -> 178.2
A20: ='N_P2+P3'!G20 -> COP2 | B20: ='N_P2+P3'!N20 -> 1828.1
... A1000: ='N_P2+P3'!G1000 -> 0 | B1000: ='N_P2+P3'!N1000 -> 0

Sheet GRAPHIQUE
