Workbook

Sheet Config
H2: TOTAL DES JOURS ANNUEL 2018 (1er Juin au 31 Mai)
B3: EFFECTIF | D3: Début d'année : | E3: 43101 | H3: MA | I3: CP | J3: RC | K3: ND | L3: CV | M3: NC | N3: DR | O3: CPA
B4: Employé 1 | H4: =SUMPRODUCT(COUNTIF(INDIRECT($D$6:$D$17&"!F"&ROW(A11)&":AJ"&ROW(A11)),H$3)) -> 2 | I4: =SUMPRODUCT(COUNTIF(INDIRECT($D$6:$D$17&"!F"&ROW(B11)&":AJ"&ROW(B11)),I$3)) -> 0 | J4: =SUMPRODUCT(COUNTIF(INDIRECT($D$6:$D$17&"!F"&ROW(C11)&":AJ"&ROW(C11)),J$3)) -> 0 | K4: =SUMPRODUCT(COUNTIF(INDIRECT($D$6:$D$17&"!F"&ROW(D11)&":AJ"&ROW(D11)),K$3)) -> 2 | L4: =SUMPRODUCT(COUNTIF(INDIRECT($D$6:$D$17&"!F"&ROW(E11)&":AJ"&ROW(E11)),L$3)) -> 0 | M4: =SUMPRODUCT(COUNTIF(INDIRECT($D$6:$D$17&"!F"&ROW(F11)&":AJ"&ROW(F11)),M$3)) -> 0 | N4: =SUMPRODUCT(COUNTIF(INDIRECT($D$6:$D$17&"!F"&ROW(G11)&":AJ"&ROW(G11)),N$3)) -> 0 | O4: =SUMPRODUCT(COUNTIF(INDIRECT($D$6:$D$17&"!F"&ROW(H11)&":AJ"&ROW(H11)),O$3)) -> 0
B5: Employé 2 | D5: Mois | E5: Début de mois | F5: Fin de mois | H5: =SUMPRODUCT(COUNTIF(INDIRECT($D$6:$D$17&"!F"&ROW(A12)&":AJ"&ROW(A12)),H$3)) -> 0 | I5: =SUMPRODUCT(COUNTIF(INDIRECT($D$6:$D$17&"!F"&ROW(B12)&":AJ"&ROW(B12)),I$3)) -> 0 | J5: =SUMPRODUCT(COUNTIF(INDIRECT($D$6:$D$17&"!F"&ROW(C12)&":AJ"&ROW(C12)),J$3)) -> 0 | K5: =SUMPRODUCT(COUNTIF(INDIRECT($D$6:$D$17&"!F"&ROW(D12)&":AJ"&ROW(D12)),K$3)) -> 0 | L5: =SUMPRODUCT(COUNTIF(INDIRECT($D$6:$D$17&"!F"&ROW(E12)&":AJ"&ROW(E12)),L$3)) -> 0 | M5: =SUMPRODUCT(COUNTIF(INDIRECT($D$6:$D$17&"!F"&ROW(F12)&":AJ"&ROW(F12)),M$3)) -> 0 | N5: =SUMPRODUCT(COUNTIF(INDIRECT($D$6:$D$17&"!F"&ROW(G12)&":AJ"&ROW(G12)),N$3)) -> 0 | O5: =SUMPRODUCT(COUNTIF(INDIRECT($D$6:$D$17&"!F"&ROW(H12)&":AJ"&ROW(H12)),O$3)) -> 0
B6: Employé 3 | D6: Janvier | E6: =E3 -> 43101 | F6: =EOMONTH(E6,0) -> 43131 | H6: =SUMPRODUCT(COUNTIF(INDIRECT($D$6:$D$17&"!F"&ROW(A13)&":AJ"&ROW(A13)),H$3)) -> 0 | I6: =SUMPRODUCT(COUNTIF(INDIRECT($D$6:$D$17&"!F"&ROW(B13)&":AJ"&ROW(B13)),I$3)) -> 0 | J6: =SUMPRODUCT(COUNTIF(INDIRECT($D$6:$D$17&"!F"&ROW(C13)&":AJ"&ROW(C13)),J$3)) -> 0 | K6: =SUMPRODUCT(COUNTIF(INDIRECT($D$6:$D$17&"!F"&ROW(D13)&":AJ"&ROW(D13)),K$3)) -> 0 | L6: =SUMPRODUCT(COUNTIF(INDIRECT($D$6:$D$17&"!F"&ROW(E13)&":AJ"&ROW(E13)),L$3)) -> 0 | M6: =SUMPRODUCT(COUNTIF(INDIRECT($D$6:$D$17&"!F"&ROW(F13)&":AJ"&ROW(F13)),M$3)) -> 0 | N6: =SUMPRODUCT(COUNTIF(INDIRECT($D$6:$D$17&"!F"&ROW(G13)&":AJ"&ROW(G13)),N$3)) -> 0 | O6: =SUMPRODUCT(COUNTIF(INDIRECT($D$6:$D$17&"!F"&ROW(H13)&":AJ"&ROW(H13)),O$3)) -> 0
B7: Employé 4 | D7: Février | E7: =EDATE(E6,1) -> 43132 | F7: =EOMONTH(E7,0) -> 43159 | H7: =SUMPRODUCT(COUNTIF(INDIRECT($D$6:$D$17&"!F"&ROW(A14)&":AJ"&ROW(A14)),H$3)) -> 0 | I7: =SUMPRODUCT(COUNTIF(INDIRECT($D$6:$D$17&"!F"&ROW(B14)&":AJ"&ROW(B14)),I$3)) -> 0 | J7: =SUMPRODUCT(COUNTIF(INDIRECT($D$6:$D$17&"!F"&ROW(C14)&":AJ"&ROW(C14)),J$3)) -> 0 | K7: =SUMPRODUCT(COUNTIF(INDIRECT($D$6:$D$17&"!F"&ROW(D14)&":AJ"&ROW(D14)),K$3)) -> 0 | L7: =SUMPRODUCT(COUNTIF(INDIRECT($D$6:$D$17&"!F"&ROW(E14)&":AJ"&ROW(E14)),L$3)) -> 0 | M7: =SUMPRODUCT(COUNTIF(INDIRECT($D$6:$D$17&"!F"&ROW(F14)&":AJ"&ROW(F14)),M$3)) -> 0 | N7: =SUMPRODUCT(COUNTIF(INDIRECT($D$6:$D$17&"!F"&ROW(G14)&":AJ"&ROW(G14)),N$3)) -> 0 | O7: =SUMPRODUCT(COUNTIF(INDIRECT($D$6:$D$17&"!F"&ROW(H14)&":AJ"&ROW(H14)),O$3)) -> 0
B8: Employé 5 | D8: Mars | E8: =EDATE(E7,1) -> 43160 | F8: =EOMONTH(E8,0) -> 43190 | H8: =SUMPRODUCT(COUNTIF(INDIRECT($D$6:$D$17&"!F"&ROW(A15)&":AJ"&ROW(A15)),H$3)) -> 0 | I8: =SUMPRODUCT(COUNTIF(INDIRECT($D$6:$D$17&"!F"&ROW(B15)&":AJ"&ROW(B15)),I$3)) -> 0 | J8: =SUMPRODUCT(COUNTIF(INDIRECT($D$6:$D$17&"!F"&ROW(C15)&":AJ"&ROW(C15)),J$3)) -> 0 | K8: =SUMPRODUCT(COUNTIF(INDIRECT($D$6:$D$17&"!F"&ROW(D15)&":AJ"&ROW(D15)),K$3)) -> 0 | L8: =SUMPRODUCT(COUNTIF(INDIRECT($D$6:$D$17&"!F"&ROW(E15)&":AJ"&ROW(E15)),L$3)) -> 0 | M8: =SUMPRODUCT(COUNTIF(INDIRECT($D$6:$D$17&"!F"&ROW(F15)&":AJ"&ROW(F15)),M$3)) -> 0 | N8: =SUMPRODUCT(COUNTIF(INDIRECT($D$6:$D$17&"!F"&ROW(G15)&":AJ"&ROW(G15)),N$3)) -> 0 | O8: =SUMPRODUCT(COUNTIF(INDIRECT($D$6:$D$17&"!F"&ROW(H15)&":AJ"&ROW(H15)),O$3)) -> 0
B9: Employé 6 | D9: Avril | E9: =EDATE(E8,1) -> 43191 | F9: =EOMONTH(E9,0) -> 43220 | H9: =SUMPRODUCT(COUNTIF(INDIRECT($D$6:$D$17&"!F"&ROW(A16)&":AJ"&ROW(A16)),H$3)) -> 0 | I9: =SUMPRODUCT(COUNTIF(INDIRECT($D$6:$D$17&"!F"&ROW(B16)&":AJ"&ROW(B16)),I$3)) -> 0 | J9: =SUMPRODUCT(COUNTIF(INDIRECT($D$6:$D$17&"!F"&ROW(C16)&":AJ"&ROW(C16)),J$3)) -> 0 | K9: =SUMPRODUCT(COUNTIF(INDIRECT($D$6:$D$17&"!F"&ROW(D16)&":AJ"&ROW(D16)),K$3)) -> 0 | L9: =SUMPRODUCT(COUNTIF(INDIRECT($D$6:$D$17&"!F"&ROW(E16)&":AJ"&ROW(E16)),L$3)) -> 0 | M9: =SUMPRODUCT(COUNTIF(INDIRECT($D$6:$D$17&"!F"&ROW(F16)&":AJ"&ROW(F16)),M$3)) -> 0 | N9: =SUMPRODUCT(COUNTIF(INDIRECT($D$6:$D$17&"!F"&ROW(G16)&":AJ"&ROW(G16)),N$3)) -> 0 | O9: =SUMPRODUCT(COUNTIF(INDIRECT($D$6:$D$17&"!F"&ROW(H16)&":AJ"&ROW(H16)),O$3)) -> 0
B10: Employé 7 | D10: Mai | E10: =EDATE(E9,1) -> 43221 | F10: =EOMONTH(E10,0) -> 43251 | H10: =SUMPRODUCT(COUNTIF(INDIRECT($D$6:$D$17&"!F"&ROW(A17)&":AJ"&ROW(A17)),H$3)) -> 0 | I10: =SUMPRODUCT(COUNTIF(INDIRECT($D$6:$D$17&"!F"&ROW(B17)&":AJ"&ROW(B17)),I$3)) -> 0 | J10: =SUMPRODUCT(COUNTIF(INDIRECT($D$6:$D$17&"!F"&ROW(C17)&":AJ"&ROW(C17)),J$3)) -> 0 | K10: =SUMPRODUCT(COUNTIF(INDIRECT($D$6:$D$17&"!F"&ROW(D17)&":AJ"&ROW(D17)),K$3)) -> 0 | L10: =SUMPRODUCT(COUNTIF(INDIRECT($D$6:$D$17&"!F"&ROW(E17)&":AJ"&ROW(E17)),L$3)) -> 0 | M10: =SUMPRODUCT(COUNTIF(INDIRECT($D$6:$D$17&"!F"&ROW(F17)&":AJ"&ROW(F17)),M$3)) -> 0 | N10: =SUMPRODUCT(COUNTIF(INDIRECT($D$6:$D$17&"!F"&ROW(G17)&":AJ"&ROW(G17)),N$3)) -> 0 | O10: =SUMPRODUCT(COUNTIF(INDIRECT($D$6:$D$17&"!F"&ROW(H17)&":AJ"&ROW(H17)),O$3)) -> 0
B11: Employé 8 | D11: Juin | E11: =EDATE(E10,1) -> 43252 | F11: =EOMONTH(E11,0) -> 43281 | H11: =SUMPRODUCT(COUNTIF(INDIRECT($D$6:$D$17&"!F"&ROW(A18)&":AJ"&ROW(A18)),H$3)) -> 0 | I11: =SUMPRODUCT(COUNTIF(INDIRECT($D$6:$D$17&"!F"&ROW(B18)&":AJ"&ROW(B18)),I$3)) -> 0 | J11: =SUMPRODUCT(COUNTIF(INDIRECT($D$6:$D$17&"!F"&ROW(C18)&":AJ"&ROW(C18)),J$3)) -> 0 | K11: =SUMPRODUCT(COUNTIF(INDIRECT($D$6:$D$17&"!F"&ROW(D18)&":AJ"&ROW(D18)),K$3)) -> 0 | L11: =SUMPRODUCT(COUNTIF(INDIRECT($D$6:$D$17&"!F"&ROW(E18)&":AJ"&ROW(E18)),L$3)) -> 0 | M11: =SUMPRODUCT(COUNTIF(INDIRECT($D$6:$D$17&"!F"&ROW(F18)&":AJ"&ROW(F18)),M$3)) -> 0 | N11: =SUMPRODUCT(COUNTIF(INDIRECT($D$6:$D$17&"!F"&ROW(G18)&":AJ"&ROW(G18)),N$3)) -> 0 | O11: =SUMPRODUCT(COUNTIF(INDIRECT($D$6:$D$17&"!F"&ROW(H18)&":AJ"&ROW(H18)),O$3)) -> 0
B12: Employé 9 | D12: Juillet | E12: =EDATE(E11,1) -> 43282 | F12: =EOMONTH(E12,0) -> 43312 | H12: =SUMPRODUCT(COUNTIF(INDIRECT($D$6:$D$17&"!F"&ROW(A19)&":AJ"&ROW(A19)),H$3)) -> 0 | I12: =SUMPRODUCT(COUNTIF(INDIRECT($D$6:$D$17&"!F"&ROW(B19)&":AJ"&ROW(B19)),I$3)) -> 2 | J12: =SUMPRODUCT(COUNTIF(INDIRECT($D$6:$D$17&"!F"&ROW(C19)&":AJ"&ROW(C19)),J$3)) -> 0 | K12: =SUMPRODUCT(COUNTIF(INDIRECT($D$6:$D$17&"!F"&ROW(D19)&":AJ"&ROW(D19)),K$3)) -> 2 | L12: =SUMPRODUCT(COUNTIF(INDIRECT($D$6:$D$17&"!F"&ROW(E19)&":AJ"&ROW(E19)),L$3)) -> 0 | M12: =SUMPRODUCT(COUNTIF(INDIRECT($D$6:$D$17&"!F"&ROW(F19)&":AJ"&ROW(F19)),M$3)) -> 0 | N12: =SUMPRODUCT(COUNTIF(INDIRECT($D$6:$D$17&"!F"&ROW(G19)&":AJ"&ROW(G19)),N$3)) -> 0 | O12: =SUMPRODUCT(COUNTIF(INDIRECT($D$6:$D$17&"!F"&ROW(H19)&":AJ"&ROW(H19)),O$3)) -> 0
B13: Employé 10 | D13: Août | E13: =EDATE(E12,1) -> 43313 | F13: =EOMONTH(E13,0) -> 43343 | H13: =SUMPRODUCT(COUNTIF(INDIRECT($D$6:$D$17&"!F"&ROW(A20)&":AJ"&ROW(A20)),H$3)) -> 0 | I13: =SUMPRODUCT(COUNTIF(INDIRECT($D$6:$D$17&"!F"&ROW(B20)&":AJ"&ROW(B20)),I$3)) -> 0 | J13: =SUMPRODUCT(COUNTIF(INDIRECT($D$6:$D$17&"!F"&ROW(C20)&":AJ"&ROW(C20)),J$3)) -> 0 | K13: =SUMPRODUCT(COUNTIF(INDIRECT($D$6:$D$17&"!F"&ROW(D20)&":AJ"&ROW(D20)),K$3)) -> 0 | L13: =SUMPRODUCT(COUNTIF(INDIRECT($D$6:$D$17&"!F"&ROW(E20)&":AJ"&ROW(E20)),L$3)) -> 0 | M13: =SUMPRODUCT(COUNTIF(INDIRECT($D$6:$D$17&"!F"&ROW(F20)&":AJ"&ROW(F20)),M$3)) -> 0 | N13: =SUMPRODUCT(COUNTIF(INDIRECT($D$6:$D$17&"!F"&ROW(G20)&":AJ"&ROW(G20)),N$3)) -> 0 | O13: =SUMPRODUCT(COUNTIF(INDIRECT($D$6:$D$17&"!F"&ROW(H20)&":AJ"&ROW(H20)),O$3)) -> 0
B14: Employé 11 | D14: Septembre | E14: =EDATE(E13,1) -> 43344 | F14: =EOMONTH(E14,0) -> 43373 | H14: =SUMPRODUCT(COUNTIF(INDIRECT($D$6:$D$17&"!F"&ROW(A21)&":AJ"&ROW(A21)),H$3)) -> 0 | I14: =SUMPRODUCT(COUNTIF(INDIRECT($D$6:$D$17&"!F"&ROW(B21)&":AJ"&ROW(B21)),I$3)) -> 0 | J14: =SUMPRODUCT(COUNTIF(INDIRECT($D$6:$D$17&"!F"&ROW(C21)&":AJ"&ROW(C21)),J$3)) -> 0 | K14: =SUMPRODUCT(COUNTIF(INDIRECT($D$6:$D$17&"!F"&ROW(D21)&":AJ"&ROW(D21)),K$3)) -> 0 | L14: =SUMPRODUCT(COUNTIF(INDIRECT($D$6:$D$17&"!F"&ROW(E21)&":AJ"&ROW(E21)),L$3)) -> 0 | M14: =SUMPRODUCT(COUNTIF(INDIRECT($D$6:$D$17&"!F"&ROW(F21)&":AJ"&ROW(F21)),M$3)) -> 0 | N14: =SUMPRODUCT(COUNTIF(INDIRECT($D$6:$D$17&"!F"&ROW(G21)&":AJ"&ROW(G21)),N$3)) -> 0 | O14: =SUMPRODUCT(COUNTIF(INDIRECT($D$6:$D$17&"!F"&ROW(H21)&":AJ"&ROW(H21)),O$3)) -> 0
B15: Employé 12 | D15: Octobre | E15: =EDATE(E14,1) -> 43374 | F15: =EOMONTH(E15,0) -> 43404 | H15: =SUMPRODUCT(COUNTIF(INDIRECT($D$6:$D$17&"!F"&ROW(A22)&":AJ"&ROW(A22)),H$3)) -> 0 | I15: =SUMPRODUCT(COUNTIF(INDIRECT($D$6:$D$17&"!F"&ROW(B22)&":AJ"&ROW(B22)),I$3)) -> 0 | J15: =SUMPRODUCT(COUNTIF(INDIRECT($D$6:$D$17&"!F"&ROW(C22)&":AJ"&ROW(C22)),J$3)) -> 0 | K15: =SUMPRODUCT(COUNTIF(INDIRECT($D$6:$D$17&"!F"&ROW(D22)&":AJ"&ROW(D22)),K$3)) -> 0 | L15: =SUMPRODUCT(COUNTIF(INDIRECT($D$6:$D$17&"!F"&ROW(E22)&":AJ"&ROW(E22)),L$3)) -> 0 | M15: =SUMPRODUCT(COUNTIF(INDIRECT($D$6:$D$17&"!F"&ROW(F22)&":AJ"&ROW(F22)),M$3)) -> 0 | N15: =SUMPRODUCT(COUNTIF(INDIRECT($D$6:$D$17&"!F"&ROW(G22)&":AJ"&ROW(G22)),N$3)) -> 0 | O15: =SUMPRODUCT(COUNTIF(INDIRECT($D$6:$D$17&"!F"&ROW(H22)&":AJ"&ROW(H22)),O$3)) -> 0
B16: Employé 13 | D16: Novembre | E16: =EDATE(E15,1) -> 43405 | F16: =EOMONTH(E16,0) -> 43434 | H16: =SUMPRODUCT(COUNTIF(INDIRECT($D$6:$D$17&"!F"&ROW(A23)&":AJ"&ROW(A23)),H$3)) -> 0 | I16: =SUMPRODUCT(COUNTIF(INDIRECT($D$6:$D$17&"!F"&ROW(B23)&":AJ"&ROW(B23)),I$3)) -> 0 | J16: =SUMPRODUCT(COUNTIF(INDIRECT($D$6:$D$17&"!F"&ROW(C23)&":AJ"&ROW(C23)),J$3)) -> 0 | K16: =SUMPRODUCT(COUNTIF(INDIRECT($D$6:$D$17&"!F"&ROW(D23)&":AJ"&ROW(D23)),K$3)) -> 0 | L16: =SUMPRODUCT(COUNTIF(INDIRECT($D$6:$D$17&"!F"&ROW(E23)&":AJ"&ROW(E23)),L$3)) -> 0 | M16: =SUMPRODUCT(COUNTIF(INDIRECT($D$6:$D$17&"!F"&ROW(F23)&":AJ"&ROW(F23)),M$3)) -> 0 | N16: =SUMPRODUCT(COUNTIF(INDIRECT($D$6:$D$17&"!F"&ROW(G23)&":AJ"&ROW(G23)),N$3)) -> 0 | O16: =SUMPRODUCT(COUNTIF(INDIRECT($D$6:$D$17&"!F"&ROW(H23)&":AJ"&ROW(H23)),O$3)) -> 0
B17: Employé 14 | D17: Décembre | E17: =EDATE(E16,1) -> 43435 | F17: =EOMONTH(E17,0) -> 43465 | H17: =SUMPRODUCT(COUNTIF(INDIRECT($D$6:$D$17&"!F"&ROW(A24)&":AJ"&ROW(A24)),H$3)) -> 0 | I17: =SUMPRODUCT(COUNTIF(INDIRECT($D$6:$D$17&"!F"&ROW(B24)&":AJ"&ROW(B24)),I$3)) -> 0 | J17: =SUMPRODUCT(COUNTIF(INDIRECT($D$6:$D$17&"!F"&ROW(C24)&":AJ"&ROW(C24)),J$3)) -> 0 | K17: =SUMPRODUCT(COUNTIF(INDIRECT($D$6:$D$17&"!F"&ROW(D24)&":AJ"&ROW(D24)),K$3)) -> 0 | L17: =SUMPRODUCT(COUNTIF(INDIRECT($D$6:$D$17&"!F"&ROW(E24)&":AJ"&ROW(E24)),L$3)) -> 0 | M17: =SUMPRODUCT(COUNTIF(INDIRECT($D$6:$D$17&"!F"&ROW(F24)&":AJ"&ROW(F24)),M$3)) -> 0 | N17: =SUMPRODUCT(COUNTIF(INDIRECT($D$6:$D$17&"!F"&ROW(G24)&":AJ"&ROW(G24)),N$3)) -> 0 | O17: =SUMPRODUCT(COUNTIF(INDIRECT($D$6:$D$17&"!F"&ROW(H24)&":AJ"&ROW(H24)),O$3)) -> 0
B18: Employé 15 | H18: =SUMPRODUCT(COUNTIF(INDIRECT($D$6:$D$17&"!F"&ROW(A25)&":AJ"&ROW(A25)),H$3)) -> 0 | I18: =SUMPRODUCT(COUNTIF(INDIRECT($D$6:$D$17&"!F"&ROW(B25)&":AJ"&ROW(B25)),I$3)) -> 0 | J18: =SUMPRODUCT(COUNTIF(INDIRECT($D$6:$D$17&"!F"&ROW(C25)&":AJ"&ROW(C25)),J$3)) -> 0 | K18: =SUMPRODUCT(COUNTIF(INDIRECT($D$6:$D$17&"!F"&ROW(D25)&":AJ"&ROW(D25)),K$3)) -> 0 | L18: =SUMPRODUCT(COUNTIF(INDIRECT($D$6:$D$17&"!F"&ROW(E25)&":AJ"&ROW(E25)),L$3)) -> 0 | M18: =SUMPRODUCT(COUNTIF(INDIRECT($D$6:$D$17&"!F"&ROW(F25)&":AJ"&ROW(F25)),M$3)) -> 0 | N18: =SUMPRODUCT(COUNTIF(INDIRECT($D$6:$D$17&"!F"&ROW(G25)&":AJ"&ROW(G25)),N$3)) -> 0 | O18: =SUMPRODUCT(COUNTIF(INDIRECT($D$6:$D$17&"!F"&ROW(H25)&":AJ"&ROW(H25)),O$3)) -> 0
B19: Employé 16 | H19: =SUMPRODUCT(COUNTIF(INDIRECT($D$6:$D$17&"!F"&ROW(A26)&":AJ"&ROW(A26)),H$3)) -> 0 | I19: =SUMPRODUCT(COUNTIF(INDIRECT($D$6:$D$17&"!F"&ROW(B26)&":AJ"&ROW(B26)),I$3)) -> 0 | J19: =SUMPRODUCT(COUNTIF(INDIRECT($D$6:$D$17&"!F"&ROW(C26)&":AJ"&ROW(C26)),J$3)) -> 0 | K19: =SUMPRODUCT(COUNTIF(INDIRECT($D$6:$D$17&"!F"&ROW(D26)&":AJ"&ROW(D26)),K$3)) -> 0 | L19: =SUMPRODUCT(COUNTIF(INDIRECT($D$6:$D$17&"!F"&ROW(E26)&":AJ"&ROW(E26)),L$3)) -> 0 | M19: =SUMPRODUCT(COUNTIF(INDIRECT($D$6:$D$17&"!F"&ROW(F26)&":AJ"&ROW(F26)),M$3)) -> 0 | N19: =SUMPRODUCT(COUNTIF(INDIRECT($D$6:$D$17&"!F"&ROW(G26)&":AJ"&ROW(G26)),N$3)) -> 0 | O19: =SUMPRODUCT(COUNTIF(INDIRECT($D$6:$D$17&"!F"&ROW(H26)&":AJ"&ROW(H26)),O$3)) -> 0
B20: Employé 17 | H20: =SUMPRODUCT(COUNTIF(INDIRECT($D$6:$D$17&"!F"&ROW(A27)&":AJ"&ROW(A27)),H$3)) -> 2 | I20: =SUMPRODUCT(COUNTIF(INDIRECT($D$6:$D$17&"!F"&ROW(B27)&":AJ"&ROW(B27)),I$3)) -> 2 | J20: =SUMPRODUCT(COUNTIF(INDIRECT($D$6:$D$17&"!F"&ROW(C27)&":AJ"&ROW(C27)),J$3)) -> 0 | K20: =SUMPRODUCT(COUNTIF(INDIRECT($D$6:$D$17&"!F"&ROW(D27)&":AJ"&ROW(D27)),K$3)) -> 0 | L20: =SUMPRODUCT(COUNTIF(INDIRECT($D$6:$D$17&"!F"&ROW(E27)&":AJ"&ROW(E27)),L$3)) -> 0 | M20: =SUMPRODUCT(COUNTIF(INDIRECT($D$6:$D$17&"!F"&ROW(F27)&":AJ"&ROW(F27)),M$3)) -> 0 | N20: =SUMPRODUCT(COUNTIF(INDIRECT($D$6:$D$17&"!F"&ROW(G27)&":AJ"&ROW(G27)),N$3)) -> 0 | O20: =SUMPRODUCT(COUNTIF(INDIRECT($D$6:$D$17&"!F"&ROW(H27)&":AJ"&ROW(H27)),O$3)) -> 0
D22: Date | E22: Jours Fériés
D23: 43101 | E23: Jour de L'an
D24: 43192 | E24: Lundi de Pâques
D25: 43209 | E25: Vendredi Saint
D26: 43221 | E26: Fête du Travail
D27: 43228 | E27: Victoire 1945
D28: 43230 | E28: Ascension
D29: 43241 | E29: Pentecôte
D30: 43295 | E30: Fête Nationale
D31: 43327 | E31: Assomption
D32: 43405 | E32: Toussaint
D33: 43415 | E33: Armistice
D34: 43459 | E34: Noêl
D35: 43460 | E35: 2ème Jour de Noël

Sheet Janvier
A1: =Config!E6 -> 43101
A2: =Config!F6 -> 43131
F3: =A1 -> 43101 | G3: =F3+1 -> 43102 | H3: =G3+1 -> 43103 | I3: =H3+1 -> 43104 | J3: =I3+1 -> 43105 | K3: =J3+1 -> 43106 | L3: =K3+1 -> 43107 | M3: =L3+1 -> 43108 | N3: =M3+1 -> 43109 | ... AG3: =AF3+1 -> 43128 | AH3: =IFERROR(IF(AG3+1>A2,"",AG3+1),"") -> 43129 | AI3: =IFERROR(IF(AH3+1>A2,"",AH3+1),"") -> 43130 | AJ3: =IFERROR(IF(AI3+1>A2,"",AI3+1),"") -> 43131
B4: =TEXT(A1,"mmmmmmmmmmmmmm") -> janvier
F9: =DAY(F3) -> 1 | G9: =DAY(G3) -> 2 | H9: =DAY(H3) -> 3 | I9: =DAY(I3) -> 4 | J9: =DAY(J3) -> 5 | K9: =DAY(K3) -> 6 | L9: =DAY(L3) -> 7 | M9: =DAY(M3) -> 8 | ... AG9: =DAY(AG3) -> 28 | AH9: =IFERROR(DAY(AH3),"") -> 29 | AI9: =IFERROR(DAY(AI3),"") -> 30 | AJ9: =IFERROR(DAY(AJ3),"") -> 31
B10: EFFECTIF | C10: Maladie | D10: Vacances | E10: RC | F10: =IFERROR(WEEKDAY(F3),"") -> 2 | G10: =IFERROR(WEEKDAY(G3),"") -> 3 | H10: =IFERROR(WEEKDAY(H3),"") -> 4 | I10: =IFERROR(WEEKDAY(I3),"") -> 5 | J10: =IFERROR(WEEKDAY(J3),"") -> 6 | K10: =IFERROR(WEEKDAY(K3),"") -> 7 | L10: =IFERROR(WEEKDAY(L3),"") -> 1 | M10: =IFERROR(WEEKDAY(M3),"") -> 2 | ... AJ10: =IFERROR(WEEKDAY(AJ3),"") -> 4
B11: =IF(Config!B4<>"",Config!B4,"") -> Employé 1 | C11: =IF(B11="","",COUNTIF(F11:AJ11,"MA")) -> 2 | D11: =IF(B11="","",COUNTIF(F11:AJ11,"CP")) -> 0 | E11: =IF(B11="","",COUNTIF(F11:AJ11,"RC")) -> 0 | F11: MA | G11: MA
B12: =IF(Config!B5<>"",Config!B5,"") -> Employé 2 | C12: =IF(B12="","",COUNTIF(F12:AJ12,"MA")) -> 0 | D12: =IF(B12="","",COUNTIF(F12:AJ12,"CP")) -> 0 | E12: =IF(B12="","",COUNTIF(F12:AJ12,"RC")) -> 0
B13: =IF(Config!B6<>"",Config!B6,"") -> Employé 3 | C13: =IF(B13="","",COUNTIF(F13:AJ13,"MA")) -> 0 | D13: =IF(B13="","",COUNTIF(F13:AJ13,"CP")) -> 0 | E13: =IF(B13="","",COUNTIF(F13:AJ13,"RC")) -> 0
B14: =IF(Config!B7<>"",Config!B7,"") -> Employé 4 | C14: =IF(B14="","",COUNTIF(F14:AJ14,"MA")) -> 0 | D14: =IF(B14="","",COUNTIF(F14:AJ14,"CP")) -> 0 | E14: =IF(B14="","",COUNTIF(F14:AJ14,"RC")) -> 0
B15: =IF(Config!B8<>"",Config!B8,"") -> Employé 5 | C15: =IF(B15="","",COUNTIF(F15:AJ15,"MA")) -> 0 | D15: =IF(B15="","",COUNTIF(F15:AJ15,"CP")) -> 0 | E15: =IF(B15="","",COUNTIF(F15:AJ15,"RC")) -> 0
B16: =IF(Config!B9<>"",Config!B9,"") -> Employé 6 | C16: =IF(B16="","",COUNTIF(F16:AJ16,"MA")) -> 0 | D16: =IF(B16="","",COUNTIF(F16:AJ16,"CP")) -> 0 | E16: =IF(B16="","",COUNTIF(F16:AJ16,"RC")) -> 0
B17: =IF(Config!B10<>"",Config!B10,"") -> Employé 7 | C17: =IF(B17="","",COUNTIF(F17:AJ17,"MA")) -> 0 | D17: =IF(B17="","",COUNTIF(F17:AJ17,"CP")) -> 0 | E17: =IF(B17="","",COUNTIF(F17:AJ17,"RC")) -> 0
B18: =IF(Config!B11<>"",Config!B11,"") -> Employé 8 | C18: =IF(B18="","",COUNTIF(F18:AJ18,"MA")) -> 0 | D18: =IF(B18="","",COUNTIF(F18:AJ18,"CP")) -> 0 | E18: =IF(B18="","",COUNTIF(F18:AJ18,"RC")) -> 0
B19: =IF(Config!B12<>"",Config!B12,"") -> Employé 9 | C19: =IF(B19="","",COUNTIF(F19:AJ19,"MA")) -> 0 | D19: =IF(B19="","",COUNTIF(F19:AJ19,"CP")) -> 0 | E19: =IF(B19="","",COUNTIF(F19:AJ19,"RC")) -> 0 | I19: ND | J19: ND
B20: =IF(Config!B13<>"",Config!B13,"") -> Employé 10 | C20: =IF(B20="","",COUNTIF(F20:AJ20,"MA")) -> 0 | D20: =IF(B20="","",COUNTIF(F20:AJ20,"CP")) -> 0 | E20: =IF(B20="","",COUNTIF(F20:AJ20,"RC")) -> 0
B21: =IF(Config!B14<>"",Config!B14,"") -> Employé 11 | C21: =IF(B21="","",COUNTIF(F21:AJ21,"MA")) -> 0 | D21: =IF(B21="","",COUNTIF(F21:AJ21,"CP")) -> 0 | E21: =IF(B21="","",COUNTIF(F21:AJ21,"RC")) -> 0
B22: =IF(Config!B15<>"",Config!B15,"") -> Employé 12 | C22: =IF(B22="","",COUNTIF(F22:AJ22,"MA")) -> 0 | D22: =IF(B22="","",COUNTIF(F22:AJ22,"CP")) -> 0 | E22: =IF(B22="","",COUNTIF(F22:AJ22,"RC")) -> 0
B23: =IF(Config!B16<>"",Config!B16,"") -> Employé 13 | C23: =IF(B23="","",COUNTIF(F23:AJ23,"MA")) -> 0 | D23: =IF(B23="","",COUNTIF(F23:AJ23,"CP")) -> 0 | E23: =IF(B23="","",COUNTIF(F23:AJ23,"RC")) -> 0
B24: =IF(Config!B17<>"",Config!B17,"") -> Employé 14 | C24: =IF(B24="","",COUNTIF(F24:AJ24,"MA")) -> 0 | D24: =IF(B24="","",COUNTIF(F24:AJ24,"CP")) -> 0 | E24: =IF(B24="","",COUNTIF(F24:AJ24,"RC")) -> 0
B25: =IF(Config!B18<>"",Config!B18,"") -> Employé 15 | C25: =IF(B25="","",COUNTIF(F25:AJ25,"MA")) -> 0 | D25: =IF(B25="","",COUNTIF(F25:AJ25,"CP")) -> 0 | E25: =IF(B25="","",COUNTIF(F25:AJ25,"RC")) -> 0
B26: =IF(Config!B19<>"",Config!B19,"") -> Employé 16 | C26: =IF(B26="","",COUNTIF(F26:AJ26,"MA")) -> 0 | D26: =IF(B26="","",COUNTIF(F26:AJ26,"CP")) -> 0 | E26: =IF(B26="","",COUNTIF(F26:AJ26,"RC")) -> 0
B27: =IF(Config!B20<>"",Config!B20,"") -> Employé 17 | C27: =IF(B27="","",COUNTIF(F27:AJ27,"MA")) -> 0 | D27: =IF(B27="","",COUNTIF(F27:AJ27,"CP")) -> 2 | E27: =IF(B27="","",COUNTIF(F27:AJ27,"RC")) -> 0 | H27: CP | I27: CP
F29: CP | G29: Vacances | L29: RC | M29: Récupération | R29: MA | S29: Maladie | Y29: Week-end
F31: ND | G31: Jour non décompté | L31: DR | M31: Demande de Repos | R31: CPA | S31: Congés Paternité | Y31: Jours Fériés
F33: CV | G33: Congé Validé | L33: NC | M33: Ne pas Changer

Sheet Février
A1: =Config!E7 -> 43132
A2: =Config!F7 -> 43159
F3: =A1 -> 43132 | G3: =F3+1 -> 43133 | H3: =G3+1 -> 43134 | I3: =H3+1 -> 43135 | J3: =I3+1 -> 43136 | K3: =J3+1 -> 43137 | L3: =K3+1 -> 43138 | M3: =L3+1 -> 43139 | N3: =M3+1 -> 43140 | ... AG3: =AF3+1 -> 43159 | AH3: =IFERROR(IF(AG3+1>A2,"",AG3+1),"") | AI3: =IFERROR(IF(AH3+1>A2,"",AH3+1),"") | AJ3: =IFERROR(IF(AI3+1>A2,"",AI3+1),"")
B4: =TEXT(A1,"mmmmmmmmmmmmmm") -> février
F9: =DAY(F3) -> 1 | G9: =DAY(G3) -> 2 | H9: =DAY(H3) -> 3 | I9: =DAY(I3) -> 4 | J9: =DAY(J3) -> 5 | K9: =DAY(K3) -> 6 | L9: =DAY(L3) -> 7 | M9: =DAY(M3) -> 8 | ... AG9: =DAY(AG3) -> 28 | AH9: =IFERROR(DAY(AH3),"") | AI9: =IFERROR(DAY(AI3),"") | AJ9: =IFERROR(DAY(AJ3),"")
B10: EFFECTIF | C10: Maladie | D10: Vacances | E10: RC | F10: =IFERROR(WEEKDAY(F3),"") -> 5 | G10: =IFERROR(WEEKDAY(G3),"") -> 6 | H10: =IFERROR(WEEKDAY(H3),"") -> 7 | I10: =IFERROR(WEEKDAY(I3),"") -> 1 | J10: =IFERROR(WEEKDAY(J3),"") -> 2 | K10: =IFERROR(WEEKDAY(K3),"") -> 3 | L10: =IFERROR(WEEKDAY(L3),"") -> 4 | M10: =IFERROR(WEEKDAY(M3),"") -> 5 | ... AJ10: =IFERROR(WEEKDAY(AJ3),"")
B11: =IF(Config!B4<>"",Config!B4,"") -> Employé 1 | C11: =IF(B11="","",COUNTIF(F11:AJ11,"MA")) -> 0 | D11: =IF(B11="","",COUNTIF(F11:AJ11,"CP")) -> 0 | E11: =IF(B11="","",COUNTIF(F11:AJ11,"RC")) -> 0
B12: =IF(Config!B5<>"",Config!B5,"") -> Employé 2 | C12: =IF(B12="","",COUNTIF(F12:AJ12,"MA")) -> 0 | D12: =IF(B12="","",COUNTIF(F12:AJ12,"CP")) -> 0 | E12: =IF(B12="","",COUNTIF(F12:AJ12,"RC")) -> 0
B13: =IF(Config!B6<>"",Config!B6,"") -> Employé 3 | C13: =IF(B13="","",COUNTIF(F13:AJ13,"MA")) -> 0 | D13: =IF(B13="","",COUNTIF(F13:AJ13,"CP")) -> 0 | E13: =IF(B13="","",COUNTIF(F13:AJ13,"RC")) -> 0
B14: =IF(Config!B7<>"",Config!B7,"") -> Employé 4 | C14: =IF(B14="","",COUNTIF(F14:AJ14,"MA")) -> 0 | D14: =IF(B14="","",COUNTIF(F14:AJ14,"CP")) -> 0 | E14: =IF(B14="","",COUNTIF(F14:AJ14,"RC")) -> 0
B15: =IF(Config!B8<>"",Config!B8,"") -> Employé 5 | C15: =IF(B15="","",COUNTIF(F15:AJ15,"MA")) -> 0 | D15: =IF(B15="","",COUNTIF(F15:AJ15,"CP")) -> 0 | E15: =IF(B15="","",COUNTIF(F15:AJ15,"RC")) -> 0
B16: =IF(Config!B9<>"",Config!B9,"") -> Employé 6 | C16: =IF(B16="","",COUNTIF(F16:AJ16,"MA")) -> 0 | D16: =IF(B16="","",COUNTIF(F16:AJ16,"CP")) -> 0 | E16: =IF(B16="","",COUNTIF(F16:AJ16,"RC")) -> 0
B17: =IF(Config!B10<>"",Config!B10,"") -> Employé 7 | C17: =IF(B17="","",COUNTIF(F17:AJ17,"MA")) -> 0 | D17: =IF(B17="","",COUNTIF(F17:AJ17,"CP")) -> 0 | E17: =IF(B17="","",COUNTIF(F17:AJ17,"RC")) -> 0
B18: =IF(Config!B11<>"",Config!B11,"") -> Employé 8 | C18: =IF(B18="","",COUNTIF(F18:AJ18,"MA")) -> 0 | D18: =IF(B18="","",COUNTIF(F18:AJ18,"CP")) -> 0 | E18: =IF(B18="","",COUNTIF(F18:AJ18,"RC")) -> 0
B19: =IF(Config!B12<>"",Config!B12,"") -> Employé 9 | C19: =IF(B19="","",COUNTIF(F19:AJ19,"MA")) -> 0 | D19: =IF(B19="","",COUNTIF(F19:AJ19,"CP")) -> 0 | E19: =IF(B19="","",COUNTIF(F19:AJ19,"RC")) -> 0
B20: =IF(Config!B13<>"",Config!B13,"") -> Employé 10 | C20: =IF(B20="","",COUNTIF(F20:AJ20,"MA")) -> 0 | D20: =IF(B20="","",COUNTIF(F20:AJ20,"CP")) -> 0 | E20: =IF(B20="","",COUNTIF(F20:AJ20,"RC")) -> 0
B21: =IF(Config!B14<>"",Config!B14,"") -> Employé 11 | C21: =IF(B21="","",COUNTIF(F21:AJ21,"MA")) -> 0 | D21: =IF(B21="","",COUNTIF(F21:AJ21,"CP")) -> 0 | E21: =IF(B21="","",COUNTIF(F21:AJ21,"RC")) -> 0
B22: =IF(Config!B15<>"",Config!B15,"") -> Employé 12 | C22: =IF(B22="","",COUNTIF(F22:AJ22,"MA")) -> 0 | D22: =IF(B22="","",COUNTIF(F22:AJ22,"CP")) -> 0 | E22: =IF(B22="","",COUNTIF(F22:AJ22,"RC")) -> 0
... B27: =IF(Config!B20<>"",Config!B20,"") -> Employé 17 | C27: =IF(B27="","",COUNTIF(F27:AJ27,"MA")) -> 0 | D27: =IF(B27="","",COUNTIF(F27:AJ27,"CP")) -> 0 | E27: =IF(B27="","",COUNTIF(F27:AJ27,"RC")) -> 0
F29: CP | G29: Vacances | L29: RC | M29: Récupération | R29: MA | S29: Maladie | Y29: Week-end
F31: ND | G31: Jour non décompté | L31: DR | M31: Demande de Repos | R31: CPA | S31: Congés Paternité | Y31: Jours Fériés
F33: CV | G33: Congé Validé | L33: NC | M33: Ne pas Changer

Sheet Mars
A1: =Config!E8 -> 43160
A2: =Config!F8 -> 43190
F3: =A1 -> 43160 | G3: =F3+1 -> 43161 | H3: =G3+1 -> 43162 | I3: =H3+1 -> 43163 | J3: =I3+1 -> 43164 | K3: =J3+1 -> 43165 | L3: =K3+1 -> 43166 | M3: =L3+1 -> 43167 | N3: =M3+1 -> 43168 | ... AG3: =AF3+1 -> 43187 | AH3: =IFERROR(IF(AG3+1>A2,"",AG3+1),"") -> 43188 | AI3: =IFERROR(IF(AH3+1>A2,"",AH3+1),"") -> 43189 | AJ3: =IFERROR(IF(AI3+1>A2,"",AI3+1),"") -> 43190
B4: =TEXT(A1,"mmmmmmmmmmmmmm") -> mars
F9: =DAY(F3) -> 1 | G9: =DAY(G3) -> 2 | H9: =DAY(H3) -> 3 | I9: =DAY(I3) -> 4 | J9: =DAY(J3) -> 5 | K9: =DAY(K3) -> 6 | L9: =DAY(L3) -> 7 | M9: =DAY(M3) -> 8 | ... AG9: =DAY(AG3) -> 28 | AH9: =IFERROR(DAY(AH3),"") -> 29 | AI9: =IFERROR(DAY(AI3),"") -> 30 | AJ9: =IFERROR(DAY(AJ3),"") -> 31
B10: EFFECTIF | C10: Maladie | D10: Vacances | E10: RC | F10: =IFERROR(WEEKDAY(F3),"") -> 5 | G10: =IFERROR(WEEKDAY(G3),"") -> 6 | H10: =IFERROR(WEEKDAY(H3),"") -> 7 | I10: =IFERROR(WEEKDAY(I3),"") -> 1 | J10: =IFERROR(WEEKDAY(J3),"") -> 2 | K10: =IFERROR(WEEKDAY(K3),"") -> 3 | L10: =IFERROR(WEEKDAY(L3),"") -> 4 | M10: =IFERROR(WEEKDAY(M3),"") -> 5 | ... AJ10: =IFERROR(WEEKDAY(AJ3),"") -> 7
B11: =IF(Config!B4<>"",Config!B4,"") -> Employé 1 | C11: =IF(B11="","",COUNTIF(F11:AJ11,"MA")) -> 0 | D11: =IF(B11="","",COUNTIF(F11:AJ11,"CP")) -> 0 | E11: =IF(B11="","",COUNTIF(F11:AJ11,"RC")) -> 0
B12: =IF(Config!B5<>"",Config!B5,"") -> Employé 2 | C12: =IF(B12="","",COUNTIF(F12:AJ12,"MA")) -> 0 | D12: =IF(B12="","",COUNTIF(F12:AJ12,"CP")) -> 0 | E12: =IF(B12="","",COUNTIF(F12:AJ12,"RC")) -> 0
B13: =IF(Config!B6<>"",Config!B6,"") -> Employé 3 | C13: =IF(B13="","",COUNTIF(F13:AJ13,"MA")) -> 0 | D13: =IF(B13="","",COUNTIF(F13:AJ13,"CP")) -> 0 | E13: =IF(B13="","",COUNTIF(F13:AJ13,"RC")) -> 0
B14: =IF(Config!B7<>"",Config!B7,"") -> Employé 4 | C14: =IF(B14="","",COUNTIF(F14:AJ14,"MA")) -> 0 | D14: =IF(B14="","",COUNTIF(F14:AJ14,"CP")) -> 0 | E14: =IF(B14="","",COUNTIF(F14:AJ14,"RC")) -> 0
B15: =IF(Config!B8<>"",Config!B8,"") -> Employé 5 | C15: =IF(B15="","",COUNTIF(F15:AJ15,"MA")) -> 0 | D15: =IF(B15="","",COUNTIF(F15:AJ15,"CP")) -> 0 | E15: =IF(B15="","",COUNTIF(F15:AJ15,"RC")) -> 0
B16: =IF(Config!B9<>"",Config!B9,"") -> Employé 6 | C16: =IF(B16="","",COUNTIF(F16:AJ16,"MA")) -> 0 | D16: =IF(B16="","",COUNTIF(F16:AJ16,"CP")) -> 0 | E16: =IF(B16="","",COUNTIF(F16:AJ16,"RC")) -> 0
B17: =IF(Config!B10<>"",Config!B10,"") -> Employé 7 | C17: =IF(B17="","",COUNTIF(F17:AJ17,"MA")) -> 0 | D17: =IF(B17="","",COUNTIF(F17:AJ17,"CP")) -> 0 | E17: =IF(B17="","",COUNTIF(F17:AJ17,"RC")) -> 0
B18: =IF(Config!B11<>"",Config!B11,"") -> Employé 8 | C18: =IF(B18="","",COUNTIF(F18:AJ18,"MA")) -> 0 | D18: =IF(B18="","",COUNTIF(F18:AJ18,"CP")) -> 0 | E18: =IF(B18="","",COUNTIF(F18:AJ18,"RC")) -> 0
B19: =IF(Config!B12<>"",Config!B12,"") -> Employé 9 | C19: =IF(B19="","",COUNTIF(F19:AJ19,"MA")) -> 0 | D19: =IF(B19="","",COUNTIF(F19:AJ19,"CP")) -> 0 | E19: =IF(B19="","",COUNTIF(F19:AJ19,"RC")) -> 0
B20: =IF(Config!B13<>"",Config!B13,"") -> Employé 10 | C20: =IF(B20="","",COUNTIF(F20:AJ20,"MA")) -> 0 | D20: =IF(B20="","",COUNTIF(F20:AJ20,"CP")) -> 0 | E20: =IF(B20="","",COUNTIF(F20:AJ20,"RC")) -> 0
B21: =IF(Config!B14<>"",Config!B14,"") -> Employé 11 | C21: =IF(B21="","",COUNTIF(F21:AJ21,"MA")) -> 0 | D21: =IF(B21="","",COUNTIF(F21:AJ21,"CP")) -> 0 | E21: =IF(B21="","",COUNTIF(F21:AJ21,"RC")) -> 0
B22: =IF(Config!B15<>"",Config!B15,"") -> Employé 12 | C22: =IF(B22="","",COUNTIF(F22:AJ22,"MA")) -> 0 | D22: =IF(B22="","",COUNTIF(F22:AJ22,"CP")) -> 0 | E22: =IF(B22="","",COUNTIF(F22:AJ22,"RC")) -> 0
... B27: =IF(Config!B20<>"",Config!B20,"") -> Employé 17 | C27: =IF(B27="","",COUNTIF(F27:AJ27,"MA")) -> 0 | D27: =IF(B27="","",COUNTIF(F27:AJ27,"CP")) -> 0 | E27: =IF(B27="","",COUNTIF(F27:AJ27,"RC")) -> 0
F29: CP | G29: Vacances | L29: RC | M29: Récupération | R29: MA | S29: Maladie | Y29: Week-end
F31: ND | G31: Jour non décompté | L31: DR | M31: Demande de Repos | R31: CPA | S31: Congés Paternité | Y31: Jours Fériés
F33: CV | G33: Congé Validé | L33: NC | M33: Ne pas Changer

Sheet Avril
A1: =Config!E9 -> 43191
A2: =Config!F9 -> 43220
F3: =A1 -> 43191 | G3: =F3+1 -> 43192 | H3: =G3+1 -> 43193 | I3: =H3+1 -> 43194 | J3: =I3+1 -> 43195 | K3: =J3+1 -> 43196 | L3: =K3+1 -> 43197 | M3: =L3+1 -> 43198 | N3: =M3+1 -> 43199 | ... AG3: =AF3+1 -> 43218 | AH3: =IFERROR(IF(AG3+1>A2,"",AG3+1),"") -> 43219 | AI3: =IFERROR(IF(AH3+1>A2,"",AH3+1),"") -> 43220 | AJ3: =IFERROR(IF(AI3+1>A2,"",AI3+1),"")
B4: =TEXT(A1,"mmmmmmmmmmmmmm") -> avril
F9: =DAY(F3) -> 1 | G9: =DAY(G3) -> 2 | H9: =DAY(H3) -> 3 | I9: =DAY(I3) -> 4 | J9: =DAY(J3) -> 5 | K9: =DAY(K3) -> 6 | L9: =DAY(L3) -> 7 | M9: =DAY(M3) -> 8 | ... AG9: =DAY(AG3) -> 28 | AH9: =IFERROR(DAY(AH3),"") -> 29 | AI9: =IFERROR(DAY(AI3),"") -> 30 | AJ9: =IFERROR(DAY(AJ3),"")
B10: EFFECTIF | C10: Maladie | D10: Vacances | E10: RC | F10: =IFERROR(WEEKDAY(F3),"") -> 1 | G10: =IFERROR(WEEKDAY(G3),"") -> 2 | H10: =IFERROR(WEEKDAY(H3),"") -> 3 | I10: =IFERROR(WEEKDAY(I3),"") -> 4 | J10: =IFERROR(WEEKDAY(J3),"") -> 5 | K10: =IFERROR(WEEKDAY(K3),"") -> 6 | L10: =IFERROR(WEEKDAY(L3),"") -> 7 | M10: =IFERROR(WEEKDAY(M3),"") -> 1 | ... AJ10: =IFERROR(WEEKDAY(AJ3),"")
B11: =IF(Config!B4<>"",Config!B4,"") -> Employé 1 | C11: =IF(B11="","",COUNTIF(F11:AJ11,"MA")) -> 0 | D11: =IF(B11="","",COUNTIF(F11:AJ11,"CP")) -> 0 | E11: =IF(B11="","",COUNTIF(F11:AJ11,"RC")) -> 0
B12: =IF(Config!B5<>"",Config!B5,"") -> Employé 2 | C12: =IF(B12="","",COUNTIF(F12:AJ12,"MA")) -> 0 | D12: =IF(B12="","",COUNTIF(F12:AJ12,"CP")) -> 0 | E12: =IF(B12="","",COUNTIF(F12:AJ12,"RC")) -> 0
B13: =IF(Config!B6<>"",Config!B6,"") -> Employé 3 | C13: =IF(B13="","",COUNTIF(F13:AJ13,"MA")) -> 0 | D13: =IF(B13="","",COUNTIF(F13:AJ13,"CP")) -> 0 | E13: =IF(B13="","",COUNTIF(F13:AJ13,"RC")) -> 0
B14: =IF(Config!B7<>"",Config!B7,"") -> Employé 4 | C14: =IF(B14="","",COUNTIF(F14:AJ14,"MA")) -> 0 | D14: =IF(B14="","",COUNTIF(F14:AJ14,"CP")) -> 0 | E14: =IF(B14="","",COUNTIF(F14:AJ14,"RC")) -> 0
B15: =IF(Config!B8<>"",Config!B8,"") -> Employé 5 | C15: =IF(B15="","",COUNTIF(F15:AJ15,"MA")) -> 0 | D15: =IF(B15="","",COUNTIF(F15:AJ15,"CP")) -> 0 | E15: =IF(B15="","",COUNTIF(F15:AJ15,"RC")) -> 0
B16: =IF(Config!B9<>"",Config!B9,"") -> Employé 6 | C16: =IF(B16="","",COUNTIF(F16:AJ16,"MA")) -> 0 | D16: =IF(B16="","",COUNTIF(F16:AJ16,"CP")) -> 0 | E16: =IF(B16="","",COUNTIF(F16:AJ16,"RC")) -> 0
B17: =IF(Config!B10<>"",Config!B10,"") -> Employé 7 | C17: =IF(B17="","",COUNTIF(F17:AJ17,"MA")) -> 0 | D17: =IF(B17="","",COUNTIF(F17:AJ17,"CP")) -> 0 | E17: =IF(B17="","",COUNTIF(F17:AJ17,"RC")) -> 0
B18: =IF(Config!B11<>"",Config!B11,"") -> Employé 8 | C18: =IF(B18="","",COUNTIF(F18:AJ18,"MA")) -> 0 | D18: =IF(B18="","",COUNTIF(F18:AJ18,"CP")) -> 0 | E18: =IF(B18="","",COUNTIF(F18:AJ18,"RC")) -> 0
B19: =IF(Config!B12<>"",Config!B12,"") -> Employé 9 | C19: =IF(B19="","",COUNTIF(F19:AJ19,"MA")) -> 0 | D19: =IF(B19="","",COUNTIF(F19:AJ19,"CP")) -> 0 | E19: =IF(B19="","",COUNTIF(F19:AJ19,"RC")) -> 0
B20: =IF(Config!B13<>"",Config!B13,"") -> Employé 10 | C20: =IF(B20="","",COUNTIF(F20:AJ20,"MA")) -> 0 | D20: =IF(B20="","",COUNTIF(F20:AJ20,"CP")) -> 0 | E20: =IF(B20="","",COUNTIF(F20:AJ20,"RC")) -> 0
B21: =IF(Config!B14<>"",Config!B14,"") -> Employé 11 | C21: =IF(B21="","",COUNTIF(F21:AJ21,"MA")) -> 0 | D21: =IF(B21="","",COUNTIF(F21:AJ21,"CP")) -> 0 | E21: =IF(B21="","",COUNTIF(F21:AJ21,"RC")) -> 0
B22: =IF(Config!B15<>"",Config!B15,"") -> Employé 12 | C22: =IF(B22="","",COUNTIF(F22:AJ22,"MA")) -> 0 | D22: =IF(B22="","",COUNTIF(F22:AJ22,"CP")) -> 0 | E22: =IF(B22="","",COUNTIF(F22:AJ22,"RC")) -> 0
... B27: =IF(Config!B20<>"",Config!B20,"") -> Employé 17 | C27: =IF(B27="","",COUNTIF(F27:AJ27,"MA")) -> 0 | D27: =IF(B27="","",COUNTIF(F27:AJ27,"CP")) -> 0 | E27: =IF(B27="","",COUNTIF(F27:AJ27,"RC")) -> 0
F29: CP | G29: Vacances | L29: RC | M29: Récupération | R29: MA | S29: Maladie | Y29: Week-end
F31: ND | G31: Jour non décompté | L31: DR | M31: Demande de Repos | R31: CPA | S31: Congés Paternité | Y31: Jours Fériés
F33: CV | G33: Congé Validé | L33: NC | M33: Ne pas Changer

Sheet Mai
A1: =Config!E10 -> 43221
A2: =Config!F10 -> 43251
F3: =A1 -> 43221 | G3: =F3+1 -> 43222 | H3: =G3+1 -> 43223 | I3: =H3+1 -> 43224 | J3: =I3+1 -> 43225 | K3: =J3+1 -> 43226 | L3: =K3+1 -> 43227 | M3: =L3+1 -> 43228 | N3: =M3+1 -> 43229 | ... AG3: =AF3+1 -> 43248 | AH3: =IFERROR(IF(AG3+1>A2,"",AG3+1),"") -> 43249 | AI3: =IFERROR(IF(AH3+1>A2,"",AH3+1),"") -> 43250 | AJ3: =IFERROR(IF(AI3+1>A2,"",AI3+1),"") -> 43251
B4: =TEXT(A1,"mmmmmmmmmmmmmm") -> mai
F9: =DAY(F3) -> 1 | G9: =DAY(G3) -> 2 | H9: =DAY(H3) -> 3 | I9: =DAY(I3) -> 4 | J9: =DAY(J3) -> 5 | K9: =DAY(K3) -> 6 | L9: =DAY(L3) -> 7 | M9: =DAY(M3) -> 8 | ... AG9: =DAY(AG3) -> 28 | AH9: =IFERROR(DAY(AH3),"") -> 29 | AI9: =IFERROR(DAY(AI3),"") -> 30 | AJ9: =IFERROR(DAY(AJ3),"") -> 31
B10: EFFECTIF | C10: Maladie | D10: Vacances | E10: RC | F10: =IFERROR(WEEKDAY(F3),"") -> 3 | G10: =IFERROR(WEEKDAY(G3),"") -> 4 | H10: =IFERROR(WEEKDAY(H3),"") -> 5 | I10: =IFERROR(WEEKDAY(I3),"") -> 6 | J10: =IFERROR(WEEKDAY(J3),"") -> 7 | K10: =IFERROR(WEEKDAY(K3),"") -> 1 | L10: =IFERROR(WEEKDAY(L3),"") -> 2 | M10: =IFERROR(WEEKDAY(M3),"") -> 3 | ... AJ10: =IFERROR(WEEKDAY(AJ3),"") -> 5
B11: =IF(Config!B4<>"",Config!B4,"") -> Employé 1 | C11: =IF(B11="","",COUNTIF(F11:AJ11,"MA")) -> 0 | D11: =IF(B11="","",COUNTIF(F11:AJ11,"CP")) -> 0 | E11: =IF(B11="","",COUNTIF(F11:AJ11,"RC")) -> 0
B12: =IF(Config!B5<>"",Config!B5,"") -> Employé 2 | C12: =IF(B12="","",COUNTIF(F12:AJ12,"MA")) -> 0 | D12: =IF(B12="","",COUNTIF(F12:AJ12,"CP")) -> 0 | E12: =IF(B12="","",COUNTIF(F12:AJ12,"RC")) -> 0
B13: =IF(Config!B6<>"",Config!B6,"") -> Employé 3 | C13: =IF(B13="","",COUNTIF(F13:AJ13,"MA")) -> 0 | D13: =IF(B13="","",COUNTIF(F13:AJ13,"CP")) -> 0 | E13: =IF(B13="","",COUNTIF(F13:AJ13,"RC")) -> 0
B14: =IF(Config!B7<>"",Config!B7,"") -> Employé 4 | C14: =IF(B14="","",COUNTIF(F14:AJ14,"MA")) -> 0 | D14: =IF(B14="","",COUNTIF(F14:AJ14,"CP")) -> 0 | E14: =IF(B14="","",COUNTIF(F14:AJ14,"RC")) -> 0
B15: =IF(Config!B8<>"",Config!B8,"") -> Employé 5 | C15: =IF(B15="","",COUNTIF(F15:AJ15,"MA")) -> 0 | D15: =IF(B15="","",COUNTIF(F15:AJ15,"CP")) -> 0 | E15: =IF(B15="","",COUNTIF(F15:AJ15,"RC")) -> 0
B16: =IF(Config!B9<>"",Config!B9,"") -> Employé 6 | C16: =IF(B16="","",COUNTIF(F16:AJ16,"MA")) -> 0 | D16: =IF(B16="","",COUNTIF(F16:AJ16,"CP")) -> 0 | E16: =IF(B16="","",COUNTIF(F16:AJ16,"RC")) -> 0
B17: =IF(Config!B10<>"",Config!B10,"") -> Employé 7 | C17: =IF(B17="","",COUNTIF(F17:AJ17,"MA")) -> 0 | D17: =IF(B17="","",COUNTIF(F17:AJ17,"CP")) -> 0 | E17: =IF(B17="","",COUNTIF(F17:AJ17,"RC")) -> 0
B18: =IF(Config!B11<>"",Config!B11,"") -> Employé 8 | C18: =IF(B18="","",COUNTIF(F18:AJ18,"MA")) -> 0 | D18: =IF(B18="","",COUNTIF(F18:AJ18,"CP")) -> 0 | E18: =IF(B18="","",COUNTIF(F18:AJ18,"RC")) -> 0
B19: =IF(Config!B12<>"",Config!B12,"") -> Employé 9 | C19: =IF(B19="","",COUNTIF(F19:AJ19,"MA")) -> 0 | D19: =IF(B19="","",COUNTIF(F19:AJ19,"CP")) -> 0 | E19: =IF(B19="","",COUNTIF(F19:AJ19,"RC")) -> 0
B20: =IF(Config!B13<>"",Config!B13,"") -> Employé 10 | C20: =IF(B20="","",COUNTIF(F20:AJ20,"MA")) -> 0 | D20: =IF(B20="","",COUNTIF(F20:AJ20,"CP")) -> 0 | E20: =IF(B20="","",COUNTIF(F20:AJ20,"RC")) -> 0
B21: =IF(Config!B14<>"",Config!B14,"") -> Employé 11 | C21: =IF(B21="","",COUNTIF(F21:AJ21,"MA")) -> 0 | D21: =IF(B21="","",COUNTIF(F21:AJ21,"CP")) -> 0 | E21: =IF(B21="","",COUNTIF(F21:AJ21,"RC")) -> 0
B22: =IF(Config!B15<>"",Config!B15,"") -> Employé 12 | C22: =IF(B22="","",COUNTIF(F22:AJ22,"MA")) -> 0 | D22: =IF(B22="","",COUNTIF(F22:AJ22,"CP")) -> 0 | E22: =IF(B22="","",COUNTIF(F22:AJ22,"RC")) -> 0
... B27: =IF(Config!B20<>"",Config!B20,"") -> Employé 17 | C27: =IF(B27="","",COUNTIF(F27:AJ27,"MA")) -> 0 | D27: =IF(B27="","",COUNTIF(F27:AJ27,"CP")) -> 0 | E27: =IF(B27="","",COUNTIF(F27:AJ27,"RC")) -> 0
F29: CP | G29: Vacances | L29: RC | M29: Récupération | R29: MA | S29: Maladie | Y29: Week-end
F31: ND | G31: Jour non décompté | L31: DR | M31: Demande de Repos | R31: CPA | S31: Congés Paternité | Y31: Jours Fériés
F33: CV | G33: Congé Validé | L33: NC | M33: Ne pas Changer

Sheet Juin
A1: =Config!E11 -> 43252
A2: =Config!F11 -> 43281
F3: =A1 -> 43252 | G3: =F3+1 -> 43253 | H3: =G3+1 -> 43254 | I3: =H3+1 -> 43255 | J3: =I3+1 -> 43256 | K3: =J3+1 -> 43257 | L3: =K3+1 -> 43258 | M3: =L3+1 -> 43259 | N3: =M3+1 -> 43260 | ... AG3: =AF3+1 -> 43279 | AH3: =IFERROR(IF(AG3+1>A2,"",AG3+1),"") -> 43280 | AI3: =IFERROR(IF(AH3+1>A2,"",AH3+1),"") -> 43281 | AJ3: =IFERROR(IF(AI3+1>A2,"",AI3+1),"")
B4: =TEXT(A1,"mmmmmmmmmmmmmm") -> juin
F9: =DAY(F3) -> 1 | G9: =DAY(G3) -> 2 | H9: =DAY(H3) -> 3 | I9: =DAY(I3) -> 4 | J9: =DAY(J3) -> 5 | K9: =DAY(K3) -> 6 | L9: =DAY(L3) -> 7 | M9: =DAY(M3) -> 8 | ... AG9: =DAY(AG3) -> 28 | AH9: =IFERROR(DAY(AH3),"") -> 29 | AI9: =IFERROR(DAY(AI3),"") -> 30 | AJ9: =IFERROR(DAY(AJ3),"")
B10: EFFECTIF | C10: Maladie | D10: Vacances | E10: RC | F10: =IFERROR(WEEKDAY(F3),"") -> 6 | G10: =IFERROR(WEEKDAY(G3),"") -> 7 | H10: =IFERROR(WEEKDAY(H3),"") -> 1 | I10: =IFERROR(WEEKDAY(I3),"") -> 2 | J10: =IFERROR(WEEKDAY(J3),"") -> 3 | K10: =IFERROR(WEEKDAY(K3),"") -> 4 | L10: =IFERROR(WEEKDAY(L3),"") -> 5 | M10: =IFERROR(WEEKDAY(M3),"") -> 6 | ... AJ10: =IFERROR(WEEKDAY(AJ3),"")
B11: =IF(Config!B4<>"",Config!B4,"") -> Employé 1 | C11: =IF(B11="","",COUNTIF(F11:AJ11,"MA")) -> 0 | D11: =IF(B11="","",COUNTIF(F11:AJ11,"CP")) -> 0 | E11: =IF(B11="","",COUNTIF(F11:AJ11,"RC")) -> 0
B12: =IF(Config!B5<>"",Config!B5,"") -> Employé 2 | C12: =IF(B12="","",COUNTIF(F12:AJ12,"MA")) -> 0 | D12: =IF(B12="","",COUNTIF(F12:AJ12,"CP")) -> 0 | E12: =IF(B12="","",COUNTIF(F12:AJ12,"RC")) -> 0
B13: =IF(Config!B6<>"",Config!B6,"") -> Employé 3 | C13: =IF(B13="","",COUNTIF(F13:AJ13,"MA")) -> 0 | D13: =IF(B13="","",COUNTIF(F13:AJ13,"CP")) -> 0 | E13: =IF(B13="","",COUNTIF(F13:AJ13,"RC")) -> 0
B14: =IF(Config!B7<>"",Config!B7,"") -> Employé 4 | C14: =IF(B14="","",COUNTIF(F14:AJ14,"MA")) -> 0 | D14: =IF(B14="","",COUNTIF(F14:AJ14,"CP")) -> 0 | E14: =IF(B14="","",COUNTIF(F14:AJ14,"RC")) -> 0
B15: =IF(Config!B8<>"",Config!B8,"") -> Employé 5 | C15: =IF(B15="","",COUNTIF(F15:AJ15,"MA")) -> 0 | D15: =IF(B15="","",COUNTIF(F15:AJ15,"CP")) -> 0 | E15: =IF(B15="","",COUNTIF(F15:AJ15,"RC")) -> 0
B16: =IF(Config!B9<>"",Config!B9,"") -> Employé 6 | C16: =IF(B16="","",COUNTIF(F16:AJ16,"MA")) -> 0 | D16: =IF(B16="","",COUNTIF(F16:AJ16,"CP")) -> 0 | E16: =IF(B16="","",COUNTIF(F16:AJ16,"RC")) -> 0
B17: =IF(Config!B10<>"",Config!B10,"") -> Employé 7 | C17: =IF(B17="","",COUNTIF(F17:AJ17,"MA")) -> 0 | D17: =IF(B17="","",COUNTIF(F17:AJ17,"CP")) -> 0 | E17: =IF(B17="","",COUNTIF(F17:AJ17,"RC")) -> 0
B18: =IF(Config!B11<>"",Config!B11,"") -> Employé 8 | C18: =IF(B18="","",COUNTIF(F18:AJ18,"MA")) -> 0 | D18: =IF(B18="","",COUNTIF(F18:AJ18,"CP")) -> 0 | E18: =IF(B18="","",COUNTIF(F18:AJ18,"RC")) -> 0
B19: =IF(Config!B12<>"",Config!B12,"") -> Employé 9 | C19: =IF(B19="","",COUNTIF(F19:AJ19,"MA")) -> 0 | D19: =IF(B19="","",COUNTIF(F19:AJ19,"CP")) -> 0 | E19: =IF(B19="","",COUNTIF(F19:AJ19,"RC")) -> 0
B20: =IF(Config!B13<>"",Config!B13,"") -> Employé 10 | C20: =IF(B20="","",COUNTIF(F20:AJ20,"MA")) -> 0 | D20: =IF(B20="","",COUNTIF(F20:AJ20,"CP")) -> 0 | E20: =IF(B20="","",COUNTIF(F20:AJ20,"RC")) -> 0
B21: =IF(Config!B14<>"",Config!B14,"") -> Employé 11 | C21: =IF(B21="","",COUNTIF(F21:AJ21,"MA")) -> 0 | D21: =IF(B21="","",COUNTIF(F21:AJ21,"CP")) -> 0 | E21: =IF(B21="","",COUNTIF(F21:AJ21,"RC")) -> 0
B22: =IF(Config!B15<>"",Config!B15,"") -> Employé 12 | C22: =IF(B22="","",COUNTIF(F22:AJ22,"MA")) -> 0 | D22: =IF(B22="","",COUNTIF(F22:AJ22,"CP")) -> 0 | E22: =IF(B22="","",COUNTIF(F22:AJ22,"RC")) -> 0
... B27: =IF(Config!B20<>"",Config!B20,"") -> Employé 17 | C27: =IF(B27="","",COUNTIF(F27:AJ27,"MA")) -> 0 | D27: =IF(B27="","",COUNTIF(F27:AJ27,"CP")) -> 0 | E27: =IF(B27="","",COUNTIF(F27:AJ27,"RC")) -> 0
F29: CP | G29: Vacances | L29: RC | M29: Récupération | R29: MA | S29: Maladie | Y29: Week-end
F31: ND | G31: Jour non décompté | L31: DR | M31: Demande de Repos | R31: CPA | S31: Congés Paternité | Y31: Jours Fériés
F33: CV | G33: Congé Validé | L33: NC | M33: Ne pas Changer

Sheet Juillet
A1: =Config!E12 -> 43282
A2: =Config!F12 -> 43312
F3: =A1 -> 43282 | G3: =F3+1 -> 43283 | H3: =G3+1 -> 43284 | I3: =H3+1 -> 43285 | J3: =I3+1 -> 43286 | K3: =J3+1 -> 43287 | L3: =K3+1 -> 43288 | M3: =L3+1 -> 43289 | N3: =M3+1 -> 43290 | ... AG3: =AF3+1 -> 43309 | AH3: =IFERROR(IF(AG3+1>A2,"",AG3+1),"") -> 43310 | AI3: =IFERROR(IF(AH3+1>A2,"",AH3+1),"") -> 43311 | AJ3: =IFERROR(IF(AI3+1>A2,"",AI3+1),"") -> 43312
B4: =TEXT(A1,"mmmmmmmmmmmmmm") -> juillet
F9: =DAY(F3) -> 1 | G9: =DAY(G3) -> 2 | H9: =DAY(H3) -> 3 | I9: =DAY(I3) -> 4 | J9: =DAY(J3) -> 5 | K9: =DAY(K3) -> 6 | L9: =DAY(L3) -> 7 | M9: =DAY(M3) -> 8 | ... AG9: =DAY(AG3) -> 28 | AH9: =IFERROR(DAY(AH3),"") -> 29 | AI9: =IFERROR(DAY(AI3),"") -> 30 | AJ9: =IFERROR(DAY(AJ3),"") -> 31
B10: EFFECTIF | C10: Maladie | D10: Vacances | E10: RC | F10: =IFERROR(WEEKDAY(F3),"") -> 1 | G10: =IFERROR(WEEKDAY(G3),"") -> 2 | H10: =IFERROR(WEEKDAY(H3),"") -> 3 | I10: =IFERROR(WEEKDAY(I3),"") -> 4 | J10: =IFERROR(WEEKDAY(J3),"") -> 5 | K10: =IFERROR(WEEKDAY(K3),"") -> 6 | L10: =IFERROR(WEEKDAY(L3),"") -> 7 | M10: =IFERROR(WEEKDAY(M3),"") -> 1 | ... AJ10: =IFERROR(WEEKDAY(AJ3),"") -> 3
B11: =IF(Config!B4<>"",Config!B4,"") -> Employé 1 | C11: =IF(B11="","",COUNTIF(F11:AJ11,"MA")) -> 0 | D11: =IF(B11="","",COUNTIF(F11:AJ11,"CP")) -> 0 | E11: =IF(B11="","",COUNTIF(F11:AJ11,"RC")) -> 0
B12: =IF(Config!B5<>"",Config!B5,"") -> Employé 2 | C12: =IF(B12="","",COUNTIF(F12:AJ12,"MA")) -> 0 | D12: =IF(B12="","",COUNTIF(F12:AJ12,"CP")) -> 0 | E12: =IF(B12="","",COUNTIF(F12:AJ12,"RC")) -> 0
B13: =IF(Config!B6<>"",Config!B6,"") -> Employé 3 | C13: =IF(B13="","",COUNTIF(F13:AJ13,"MA")) -> 0 | D13: =IF(B13="","",COUNTIF(F13:AJ13,"CP")) -> 0 | E13: =IF(B13="","",COUNTIF(F13:AJ13,"RC")) -> 0
B14: =IF(Config!B7<>"",Config!B7,"") -> Employé 4 | C14: =IF(B14="","",COUNTIF(F14:AJ14,"MA")) -> 0 | D14: =IF(B14="","",COUNTIF(F14:AJ14,"CP")) -> 0 | E14: =IF(B14="","",COUNTIF(F14:AJ14,"RC")) -> 0
B15: =IF(Config!B8<>"",Config!B8,"") -> Employé 5 | C15: =IF(B15="","",COUNTIF(F15:AJ15,"MA")) -> 0 | D15: =IF(B15="","",COUNTIF(F15:AJ15,"CP")) -> 0 | E15: =IF(B15="","",COUNTIF(F15:AJ15,"RC")) -> 0
B16: =IF(Config!B9<>"",Config!B9,"") -> Employé 6 | C16: =IF(B16="","",COUNTIF(F16:AJ16,"MA")) -> 0 | D16: =IF(B16="","",COUNTIF(F16:AJ16,"CP")) -> 0 | E16: =IF(B16="","",COUNTIF(F16:AJ16,"RC")) -> 0
B17: =IF(Config!B10<>"",Config!B10,"") -> Employé 7 | C17: =IF(B17="","",COUNTIF(F17:AJ17,"MA")) -> 0 | D17: =IF(B17="","",COUNTIF(F17:AJ17,"CP")) -> 0 | E17: =IF(B17="","",COUNTIF(F17:AJ17,"RC")) -> 0
B18: =IF(Config!B11<>"",Config!B11,"") -> Employé 8 | C18: =IF(B18="","",COUNTIF(F18:AJ18,"MA")) -> 0 | D18: =IF(B18="","",COUNTIF(F18:AJ18,"CP")) -> 0 | E18: =IF(B18="","",COUNTIF(F18:AJ18,"RC")) -> 0
B19: =IF(Config!B12<>"",Config!B12,"") -> Employé 9 | C19: =IF(B19="","",COUNTIF(F19:AJ19,"MA")) -> 0 | D19: =IF(B19="","",COUNTIF(F19:AJ19,"CP")) -> 0 | E19: =IF(B19="","",COUNTIF(F19:AJ19,"RC")) -> 0
B20: =IF(Config!B13<>"",Config!B13,"") -> Employé 10 | C20: =IF(B20="","",COUNTIF(F20:AJ20,"MA")) -> 0 | D20: =IF(B20="","",COUNTIF(F20:AJ20,"CP")) -> 0 | E20: =IF(B20="","",COUNTIF(F20:AJ20,"RC")) -> 0
B21: =IF(Config!B14<>"",Config!B14,"") -> Employé 11 | C21: =IF(B21="","",COUNTIF(F21:AJ21,"MA")) -> 0 | D21: =IF(B21="","",COUNTIF(F21:AJ21,"CP")) -> 0 | E21: =IF(B21="","",COUNTIF(F21:AJ21,"RC")) -> 0
B22: =IF(Config!B15<>"",Config!B15,"") -> Employé 12 | C22: =IF(B22="","",COUNTIF(F22:AJ22,"MA")) -> 0 | D22: =IF(B22="","",COUNTIF(F22:AJ22,"CP")) -> 0 | E22: =IF(B22="","",COUNTIF(F22:AJ22,"RC")) -> 0
... B27: =IF(Config!B20<>"",Config!B20,"") -> Employé 17 | C27: =IF(B27="","",COUNTIF(F27:AJ27,"MA")) -> 0 | D27: =IF(B27="","",COUNTIF(F27:AJ27,"CP")) -> 0 | E27: =IF(B27="","",COUNTIF(F27:AJ27,"RC")) -> 0
F29: CP | G29: Vacances | L29: RC | M29: Récupération | R29: MA | S29: Maladie | Y29: Week-end
F31: ND | G31: Jour non décompté | L31: DR | M31: Demande de Repos | R31: CPA | S31: Congés Paternité | Y31: Jours Fériés
F33: CV | G33: Congé Validé | L33: NC | M33: Ne pas Changer

Sheet Août
A1: =Config!E13 -> 43313
A2: =Config!F13 -> 43343
F3: =A1 -> 43313 | G3: =F3+1 -> 43314 | H3: =G3+1 -> 43315 | I3: =H3+1 -> 43316 | J3: =I3+1 -> 43317 | K3: =J3+1 -> 43318 | L3: =K3+1 -> 43319 | M3: =L3+1 -> 43320 | N3: =M3+1 -> 43321 | ... AG3: =AF3+1 -> 43340 | AH3: =IFERROR(IF(AG3+1>A2,"",AG3+1),"") -> 43341 | AI3: =IFERROR(IF(AH3+1>A2,"",AH3+1),"") -> 43342 | AJ3: =IFERROR(IF(AI3+1>A2,"",AI3+1),"") -> 43343
B4: =TEXT(A1,"mmmmmmmmmmmmmm") -> août
F9: =DAY(F3) -> 1 | G9: =DAY(G3) -> 2 | H9: =DAY(H3) -> 3 | I9: =DAY(I3) -> 4 | J9: =DAY(J3) -> 5 | K9: =DAY(K3) -> 6 | L9: =DAY(L3) -> 7 | M9: =DAY(M3) -> 8 | ... AG9: =DAY(AG3) -> 28 | AH9: =IFERROR(DAY(AH3),"") -> 29 | AI9: =IFERROR(DAY(AI3),"") -> 30 | AJ9: =IFERROR(DAY(AJ3),"") -> 31
B10: EFFECTIF | C10: Maladie | D10: Vacances | E10: RC | F10: =IFERROR(WEEKDAY(F3),"") -> 4 | G10: =IFERROR(WEEKDAY(G3),"") -> 5 | H10: =IFERROR(WEEKDAY(H3),"") -> 6 | I10: =IFERROR(WEEKDAY(I3),"") -> 7 | J10: =IFERROR(WEEKDAY(J3),"") -> 1 | K10: =IFERROR(WEEKDAY(K3),"") -> 2 | L10: =IFERROR(WEEKDAY(L3),"") -> 3 | M10: =IFERROR(WEEKDAY(M3),"") -> 4 | ... AJ10: =IFERROR(WEEKDAY(AJ3),"") -> 6
B11: =IF(Config!B4<>"",Config!B4,"") -> Employé 1 | C11: =IF(B11="","",COUNTIF(F11:AJ11,"MA")) -> 0 | D11: =IF(B11="","",COUNTIF(F11:AJ11,"CP")) -> 0 | E11: =IF(B11="","",COUNTIF(F11:AJ11,"RC")) -> 0
B12: =IF(Config!B5<>"",Config!B5,"") -> Employé 2 | C12: =IF(B12="","",COUNTIF(F12:AJ12,"MA")) -> 0 | D12: =IF(B12="","",COUNTIF(F12:AJ12,"CP")) -> 0 | E12: =IF(B12="","",COUNTIF(F12:AJ12,"RC")) -> 0
B13: =IF(Config!B6<>"",Config!B6,"") -> Employé 3 | C13: =IF(B13="","",COUNTIF(F13:AJ13,"MA")) -> 0 | D13: =IF(B13="","",COUNTIF(F13:AJ13,"CP")) -> 0 | E13: =IF(B13="","",COUNTIF(F13:AJ13,"RC")) -> 0
B14: =IF(Config!B7<>"",Config!B7,"") -> Employé 4 | C14: =IF(B14="","",COUNTIF(F14:AJ14,"MA")) -> 0 | D14: =IF(B14="","",COUNTIF(F14:AJ14,"CP")) -> 0 | E14: =IF(B14="","",COUNTIF(F14:AJ14,"RC")) -> 0
B15: =IF(Config!B8<>"",Config!B8,"") -> Employé 5 | C15: =IF(B15="","",COUNTIF(F15:AJ15,"MA")) -> 0 | D15: =IF(B15="","",COUNTIF(F15:AJ15,"CP")) -> 0 | E15: =IF(B15="","",COUNTIF(F15:AJ15,"RC")) -> 0
B16: =IF(Config!B9<>"",Config!B9,"") -> Employé 6 | C16: =IF(B16="","",COUNTIF(F16:AJ16,"MA")) -> 0 | D16: =IF(B16="","",COUNTIF(F16:AJ16,"CP")) -> 0 | E16: =IF(B16="","",COUNTIF(F16:AJ16,"RC")) -> 0
B17: =IF(Config!B10<>"",Config!B10,"") -> Employé 7 | C17: =IF(B17="","",COUNTIF(F17:AJ17,"MA")) -> 0 | D17: =IF(B17="","",COUNTIF(F17:AJ17,"CP")) -> 0 | E17: =IF(B17="","",COUNTIF(F17:AJ17,"RC")) -> 0
B18: =IF(Config!B11<>"",Config!B11,"") -> Employé 8 | C18: =IF(B18="","",COUNTIF(F18:AJ18,"MA")) -> 0 | D18: =IF(B18="","",COUNTIF(F18:AJ18,"CP")) -> 0 | E18: =IF(B18="","",COUNTIF(F18:AJ18,"RC")) -> 0
B19: =IF(Config!B12<>"",Config!B12,"") -> Employé 9 | C19: =IF(B19="","",COUNTIF(F19:AJ19,"MA")) -> 0 | D19: =IF(B19="","",COUNTIF(F19:AJ19,"CP")) -> 0 | E19: =IF(B19="","",COUNTIF(F19:AJ19,"RC")) -> 0
B20: =IF(Config!B13<>"",Config!B13,"") -> Employé 10 | C20: =IF(B20="","",COUNTIF(F20:AJ20,"MA")) -> 0 | D20: =IF(B20="","",COUNTIF(F20:AJ20,"CP")) -> 0 | E20: =IF(B20="","",COUNTIF(F20:AJ20,"RC")) -> 0
B21: =IF(Config!B14<>"",Config!B14,"") -> Employé 11 | C21: =IF(B21="","",COUNTIF(F21:AJ21,"MA")) -> 0 | D21: =IF(B21="","",COUNTIF(F21:AJ21,"CP")) -> 0 | E21: =IF(B21="","",COUNTIF(F21:AJ21,"RC")) -> 0
B22: =IF(Config!B15<>"",Config!B15,"") -> Employé 12 | C22: =IF(B22="","",COUNTIF(F22:AJ22,"MA")) -> 0 | D22: =IF(B22="","",COUNTIF(F22:AJ22,"CP")) -> 0 | E22: =IF(B22="","",COUNTIF(F22:AJ22,"RC")) -> 0
... B27: =IF(Config!B20<>"",Config!B20,"") -> Employé 17 | C27: =IF(B27="","",COUNTIF(F27:AJ27,"MA")) -> 0 | D27: =IF(B27="","",COUNTIF(F27:AJ27,"CP")) -> 0 | E27: =IF(B27="","",COUNTIF(F27:AJ27,"RC")) -> 0
F29: CP | G29: Vacances | L29: RC | M29: Récupération | R29: MA | S29: Maladie | Y29: Week-end
F31: ND | G31: Jour non décompté | L31: DR | M31: Demande de Repos | R31: CPA | S31: Congés Paternité | Y31: Jours Fériés
F33: CV | G33: Congé Validé | L33: NC | M33: Ne pas Changer

Sheet Septembre
A1: =Config!E14 -> 43344
A2: =Config!F14 -> 43373
F3: =A1 -> 43344 | G3: =F3+1 -> 43345 | H3: =G3+1 -> 43346 | I3: =H3+1 -> 43347 | J3: =I3+1 -> 43348 | K3: =J3+1 -> 43349 | L3: =K3+1 -> 43350 | M3: =L3+1 -> 43351 | N3: =M3+1 -> 43352 | ... AG3: =AF3+1 -> 43371 | AH3: =IFERROR(IF(AG3+1>A2,"",AG3+1),"") -> 43372 | AI3: =IFERROR(IF(AH3+1>A2,"",AH3+1),"") -> 43373 | AJ3: =IFERROR(IF(AI3+1>A2,"",AI3+1),"")
B4: =TEXT(A1,"mmmmmmmmmmmmmm") -> septembre
F9: =DAY(F3) -> 1 | G9: =DAY(G3) -> 2 | H9: =DAY(H3) -> 3 | I9: =DAY(I3) -> 4 | J9: =DAY(J3) -> 5 | K9: =DAY(K3) -> 6 | L9: =DAY(L3) -> 7 | M9: =DAY(M3) -> 8 | ... AG9: =DAY(AG3) -> 28 | AH9: =IFERROR(DAY(AH3),"") -> 29 | AI9: =IFERROR(DAY(AI3),"") -> 30 | AJ9: =IFERROR(DAY(AJ3),"")
B10: EFFECTIF | C10: Maladie | D10: Vacances | E10: RC | F10: =IFERROR(WEEKDAY(F3),"") -> 7 | G10: =IFERROR(WEEKDAY(G3),"") -> 1 | H10: =IFERROR(WEEKDAY(H3),"") -> 2 | I10: =IFERROR(WEEKDAY(I3),"") -> 3 | J10: =IFERROR(WEEKDAY(J3),"") -> 4 | K10: =IFERROR(WEEKDAY(K3),"") -> 5 | L10: =IFERROR(WEEKDAY(L3),"") -> 6 | M10: =IFERROR(WEEKDAY(M3),"") -> 7 | ... AJ10: =IFERROR(WEEKDAY(AJ3),"")
B11: =IF(Config!B4<>"",Config!B4,"") -> Employé 1 | C11: =IF(B11="","",COUNTIF(F11:AJ11,"MA")) -> 0 | D11: =IF(B11="","",COUNTIF(F11:AJ11,"CP")) -> 0 | E11: =IF(B11="","",COUNTIF(F11:AJ11,"RC")) -> 0
B12: =IF(Config!B5<>"",Config!B5,"") -> Employé 2 | C12: =IF(B12="","",COUNTIF(F12:AJ12,"MA")) -> 0 | D12: =IF(B12="","",COUNTIF(F12:AJ12,"CP")) -> 0 | E12: =IF(B12="","",COUNTIF(F12:AJ12,"RC")) -> 0
B13: =IF(Config!B6<>"",Config!B6,"") -> Employé 3 | C13: =IF(B13="","",COUNTIF(F13:AJ13,"MA")) -> 0 | D13: =IF(B13="","",COUNTIF(F13:AJ13,"CP")) -> 0 | E13: =IF(B13="","",COUNTIF(F13:AJ13,"RC")) -> 0
B14: =IF(Config!B7<>"",Config!B7,"") -> Employé 4 | C14: =IF(B14="","",COUNTIF(F14:AJ14,"MA")) -> 0 | D14: =IF(B14="","",COUNTIF(F14:AJ14,"CP")) -> 0 | E14: =IF(B14="","",COUNTIF(F14:AJ14,"RC")) -> 0
B15: =IF(Config!B8<>"",Config!B8,"") -> Employé 5 | C15: =IF(B15="","",COUNTIF(F15:AJ15,"MA")) -> 0 | D15: =IF(B15="","",COUNTIF(F15:AJ15,"CP")) -> 0 | E15: =IF(B15="","",COUNTIF(F15:AJ15,"RC")) -> 0
B16: =IF(Config!B9<>"",Config!B9,"") -> Employé 6 | C16: =IF(B16="","",COUNTIF(F16:AJ16,"MA")) -> 0 | D16: =IF(B16="","",COUNTIF(F16:AJ16,"CP")) -> 0 | E16: =IF(B16="","",COUNTIF(F16:AJ16,"RC")) -> 0
B17: =IF(Config!B10<>"",Config!B10,"") -> Employé 7 | C17: =IF(B17="","",COUNTIF(F17:AJ17,"MA")) -> 0 | D17: =IF(B17="","",COUNTIF(F17:AJ17,"CP")) -> 0 | E17: =IF(B17="","",COUNTIF(F17:AJ17,"RC")) -> 0
B18: =IF(Config!B11<>"",Config!B11,"") -> Employé 8 | C18: =IF(B18="","",COUNTIF(F18:AJ18,"MA")) -> 0 | D18: =IF(B18="","",COUNTIF(F18:AJ18,"CP")) -> 0 | E18: =IF(B18="","",COUNTIF(F18:AJ18,"RC")) -> 0
B19: =IF(Config!B12<>"",Config!B12,"") -> Employé 9 | C19: =IF(B19="","",COUNTIF(F19:AJ19,"MA")) -> 0 | D19: =IF(B19="","",COUNTIF(F19:AJ19,"CP")) -> 0 | E19: =IF(B19="","",COUNTIF(F19:AJ19,"RC")) -> 0
B20: =IF(Config!B13<>"",Config!B13,"") -> Employé 10 | C20: =IF(B20="","",COUNTIF(F20:AJ20,"MA")) -> 0 | D20: =IF(B20="","",COUNTIF(F20:AJ20,"CP")) -> 0 | E20: =IF(B20="","",COUNTIF(F20:AJ20,"RC")) -> 0
B21: =IF(Config!B14<>"",Config!B14,"") -> Employé 11 | C21: =IF(B21="","",COUNTIF(F21:AJ21,"MA")) -> 0 | D21: =IF(B21="","",COUNTIF(F21:AJ21,"CP")) -> 0 | E21: =IF(B21="","",COUNTIF(F21:AJ21,"RC")) -> 0
B22: =IF(Config!B15<>"",Config!B15,"") -> Employé 12 | C22: =IF(B22="","",COUNTIF(F22:AJ22,"MA")) -> 0 | D22: =IF(B22="","",COUNTIF(F22:AJ22,"CP")) -> 0 | E22: =IF(B22="","",COUNTIF(F22:AJ22,"RC")) -> 0
... B27: =IF(Config!B20<>"",Config!B20,"") -> Employé 17 | C27: =IF(B27="","",COUNTIF(F27:AJ27,"MA")) -> 0 | D27: =IF(B27="","",COUNTIF(F27:AJ27,"CP")) -> 0 | E27: =IF(B27="","",COUNTIF(F27:AJ27,"RC")) -> 0
F29: CP | G29: Vacances | L29: RC | M29: Récupération | R29: MA | S29: Maladie | Y29: Week-end
F31: ND | G31: Jour non décompté | L31: DR | M31: Demande de Repos | R31: CPA | S31: Congés Paternité | Y31: Jours Fériés
F33: CV | G33: Congé Validé | L33: NC | M33: Ne pas Changer

Sheet Octobre
A1: =Config!E15 -> 43374
A2: =Config!F15 -> 43404
F3: =A1 -> 43374 | G3: =F3+1 -> 43375 | H3: =G3+1 -> 43376 | I3: =H3+1 -> 43377 | J3: =I3+1 -> 43378 | K3: =J3+1 -> 43379 | L3: =K3+1 -> 43380 | M3: =L3+1 -> 43381 | N3: =M3+1 -> 43382 | ... AG3: =AF3+1 -> 43401 | AH3: =IFERROR(IF(AG3+1>A2,"",AG3+1),"") -> 43402 | AI3: =IFERROR(IF(AH3+1>A2,"",AH3+1),"") -> 43403 | AJ3: =IFERROR(IF(AI3+1>A2,"",AI3+1),"") -> 43404
B4: =TEXT(A1,"mmmmmmmmmmmmmm") -> octobre
F9: =DAY(F3) -> 1 | G9: =DAY(G3) -> 2 | H9: =DAY(H3) -> 3 | I9: =DAY(I3) -> 4 | J9: =DAY(J3) -> 5 | K9: =DAY(K3) -> 6 | L9: =DAY(L3) -> 7 | M9: =DAY(M3) -> 8 | ... AG9: =DAY(AG3) -> 28 | AH9: =IFERROR(DAY(AH3),"") -> 29 | AI9: =IFERROR(DAY(AI3),"") -> 30 | AJ9: =IFERROR(DAY(AJ3),"") -> 31
B10: EFFECTIF | C10: Maladie | D10: Vacances | E10: RC | F10: =IFERROR(WEEKDAY(F3),"") -> 2 | G10: =IFERROR(WEEKDAY(G3),"") -> 3 | H10: =IFERROR(WEEKDAY(H3),"") -> 4 | I10: =IFERROR(WEEKDAY(I3),"") -> 5 | J10: =IFERROR(WEEKDAY(J3),"") -> 6 | K10: =IFERROR(WEEKDAY(K3),"") -> 7 | L10: =IFERROR(WEEKDAY(L3),"") -> 1 | M10: =IFERROR(WEEKDAY(M3),"") -> 2 | ... AJ10: =IFERROR(WEEKDAY(AJ3),"") -> 4
B11: =IF(Config!B4<>"",Config!B4,"") -> Employé 1 | C11: =IF(B11="","",COUNTIF(F11:AJ11,"MA")) -> 0 | D11: =IF(B11="","",COUNTIF(F11:AJ11,"CP")) -> 0 | E11: =IF(B11="","",COUNTIF(F11:AJ11,"RC")) -> 0
B12: =IF(Config!B5<>"",Config!B5,"") -> Employé 2 | C12: =IF(B12="","",COUNTIF(F12:AJ12,"MA")) -> 0 | D12: =IF(B12="","",COUNTIF(F12:AJ12,"CP")) -> 0 | E12: =IF(B12="","",COUNTIF(F12:AJ12,"RC")) -> 0
B13: =IF(Config!B6<>"",Config!B6,"") -> Employé 3 | C13: =IF(B13="","",COUNTIF(F13:AJ13,"MA")) -> 0 | D13: =IF(B13="","",COUNTIF(F13:AJ13,"CP")) -> 0 | E13: =IF(B13="","",COUNTIF(F13:AJ13,"RC")) -> 0
B14: =IF(Config!B7<>"",Config!B7,"") -> Employé 4 | C14: =IF(B14="","",COUNTIF(F14:AJ14,"MA")) -> 0 | D14: =IF(B14="","",COUNTIF(F14:AJ14,"CP")) -> 0 | E14: =IF(B14="","",COUNTIF(F14:AJ14,"RC")) -> 0
B15: =IF(Config!B8<>"",Config!B8,"") -> Employé 5 | C15: =IF(B15="","",COUNTIF(F15:AJ15,"MA")) -> 0 | D15: =IF(B15="","",COUNTIF(F15:AJ15,"CP")) -> 0 | E15: =IF(B15="","",COUNTIF(F15:AJ15,"RC")) -> 0
B16: =IF(Config!B9<>"",Config!B9,"") -> Employé 6 | C16: =IF(B16="","",COUNTIF(F16:AJ16,"MA")) -> 0 | D16: =IF(B16="","",COUNTIF(F16:AJ16,"CP")) -> 0 | E16: =IF(B16="","",COUNTIF(F16:AJ16,"RC")) -> 0
B17: =IF(Config!B10<>"",Config!B10,"") -> Employé 7 | C17: =IF(B17="","",COUNTIF(F17:AJ17,"MA")) -> 0 | D17: =IF(B17="","",COUNTIF(F17:AJ17,"CP")) -> 0 | E17: =IF(B17="","",COUNTIF(F17:AJ17,"RC")) -> 0
B18: =IF(Config!B11<>"",Config!B11,"") -> Employé 8 | C18: =IF(B18="","",COUNTIF(F18:AJ18,"MA")) -> 0 | D18: =IF(B18="","",COUNTIF(F18:AJ18,"CP")) -> 0 | E18: =IF(B18="","",COUNTIF(F18:AJ18,"RC")) -> 0
B19: =IF(Config!B12<>"",Config!B12,"") -> Employé 9 | C19: =IF(B19="","",COUNTIF(F19:AJ19,"MA")) -> 0 | D19: =IF(B19="","",COUNTIF(F19:AJ19,"CP")) -> 0 | E19: =IF(B19="","",COUNTIF(F19:AJ19,"RC")) -> 0
B20: =IF(Config!B13<>"",Config!B13,"") -> Employé 10 | C20: =IF(B20="","",COUNTIF(F20:AJ20,"MA")) -> 0 | D20: =IF(B20="","",COUNTIF(F20:AJ20,"CP")) -> 0 | E20: =IF(B20="","",COUNTIF(F20:AJ20,"RC")) -> 0
B21: =IF(Config!B14<>"",Config!B14,"") -> Employé 11 | C21: =IF(B21="","",COUNTIF(F21:AJ21,"MA")) -> 0 | D21: =IF(B21="","",COUNTIF(F21:AJ21,"CP")) -> 0 | E21: =IF(B21="","",COUNTIF(F21:AJ21,"RC")) -> 0
B22: =IF(Config!B15<>"",Config!B15,"") -> Employé 12 | C22: =IF(B22="","",COUNTIF(F22:AJ22,"MA")) -> 0 | D22: =IF(B22="","",COUNTIF(F22:AJ22,"CP")) -> 0 | E22: =IF(B22="","",COUNTIF(F22:AJ22,"RC")) -> 0
... B27: =IF(Config!B20<>"",Config!B20,"") -> Employé 17 | C27: =IF(B27="","",COUNTIF(F27:AJ27,"MA")) -> 0 | D27: =IF(B27="","",COUNTIF(F27:AJ27,"CP")) -> 0 | E27: =IF(B27="","",COUNTIF(F27:AJ27,"RC")) -> 0
F29: CP | G29: Vacances | L29: RC | M29: Récupération | R29: MA | S29: Maladie | Y29: Week-end
F31: ND | G31: Jour non décompté | L31: DR | M31: Demande de Repos | R31: CPA | S31: Congés Paternité | Y31: Jours Fériés
F33: CV | G33: Congé Validé | L33: NC | M33: Ne pas Changer

Sheet Novembre
A1: =Config!E16 -> 43405
A2: =Config!F16 -> 43434
F3: =A1 -> 43405 | G3: =F3+1 -> 43406 | H3: =G3+1 -> 43407 | I3: =H3+1 -> 43408 | J3: =I3+1 -> 43409 | K3: =J3+1 -> 43410 | L3: =K3+1 -> 43411 | M3: =L3+1 -> 43412 | N3: =M3+1 -> 43413 | ... AG3: =AF3+1 -> 43432 | AH3: =IFERROR(IF(AG3+1>A2,"",AG3+1),"") -> 43433 | AI3: =IFERROR(IF(AH3+1>A2,"",AH3+1),"") -> 43434 | AJ3: =IFERROR(IF(AI3+1>A2,"",AI3+1),"")
B4: =TEXT(A1,"mmmmmmmmmmmmmm") -> novembre
F9: =DAY(F3) -> 1 | G9: =DAY(G3) -> 2 | H9: =DAY(H3) -> 3 | I9: =DAY(I3) -> 4 | J9: =DAY(J3) -> 5 | K9: =DAY(K3) -> 6 | L9: =DAY(L3) -> 7 | M9: =DAY(M3) -> 8 | ... AG9: =DAY(AG3) -> 28 | AH9: =IFERROR(DAY(AH3),"") -> 29 | AI9: =IFERROR(DAY(AI3),"") -> 30 | AJ9: =IFERROR(DAY(AJ3),"")
B10: EFFECTIF | C10: Maladie | D10: Vacances | E10: RC | F10: =IFERROR(WEEKDAY(F3),"") -> 5 | G10: =IFERROR(WEEKDAY(G3),"") -> 6 | H10: =IFERROR(WEEKDAY(H3),"") -> 7 | I10: =IFERROR(WEEKDAY(I3),"") -> 1 | J10: =IFERROR(WEEKDAY(J3),"") -> 2 | K10: =IFERROR(WEEKDAY(K3),"") -> 3 | L10: =IFERROR(WEEKDAY(L3),"") -> 4 | M10: =IFERROR(WEEKDAY(M3),"") -> 5 | ... AJ10: =IFERROR(WEEKDAY(AJ3),"")
B11: =IF(Config!B4<>"",Config!B4,"") -> Employé 1 | C11: =IF(B11="","",COUNTIF(F11:AJ11,"MA")) -> 0 | D11: =IF(B11="","",COUNTIF(F11:AJ11,"CP")) -> 0 | E11: =IF(B11="","",COUNTIF(F11:AJ11,"RC")) -> 0
B12: =IF(Config!B5<>"",Config!B5,"") -> Employé 2 | C12: =IF(B12="","",COUNTIF(F12:AJ12,"MA")) -> 0 | D12: =IF(B12="","",COUNTIF(F12:AJ12,"CP")) -> 0 | E12: =IF(B12="","",COUNTIF(F12:AJ12,"RC")) -> 0
B13: =IF(Config!B6<>"",Config!B6,"") -> Employé 3 | C13: =IF(B13="","",COUNTIF(F13:AJ13,"MA")) -> 0 | D13: =IF(B13="","",COUNTIF(F13:AJ13,"CP")) -> 0 | E13: =IF(B13="","",COUNTIF(F13:AJ13,"RC")) -> 0
B14: =IF(Config!B7<>"",Config!B7,"") -> Employé 4 | C14: =IF(B14="","",COUNTIF(F14:AJ14,"MA")) -> 0 | D14: =IF(B14="","",COUNTIF(F14:AJ14,"CP")) -> 0 | E14: =IF(B14="","",COUNTIF(F14:AJ14,"RC")) -> 0
B15: =IF(Config!B8<>"",Config!B8,"") -> Employé 5 | C15: =IF(B15="","",COUNTIF(F15:AJ15,"MA")) -> 0 | D15: =IF(B15="","",COUNTIF(F15:AJ15,"CP")) -> 0 | E15: =IF(B15="","",COUNTIF(F15:AJ15,"RC")) -> 0
B16: =IF(Config!B9<>"",Config!B9,"") -> Employé 6 | C16: =IF(B16="","",COUNTIF(F16:AJ16,"MA")) -> 0 | D16: =IF(B16="","",COUNTIF(F16:AJ16,"CP")) -> 0 | E16: =IF(B16="","",COUNTIF(F16:AJ16,"RC")) -> 0
B17: =IF(Config!B10<>"",Config!B10,"") -> Employé 7 | C17: =IF(B17="","",COUNTIF(F17:AJ17,"MA")) -> 0 | D17: =IF(B17="","",COUNTIF(F17:AJ17,"CP")) -> 0 | E17: =IF(B17="","",COUNTIF(F17:AJ17,"RC")) -> 0
B18: =IF(Config!B11<>"",Config!B11,"") -> Employé 8 | C18: =IF(B18="","",COUNTIF(F18:AJ18,"MA")) -> 0 | D18: =IF(B18="","",COUNTIF(F18:AJ18,"CP")) -> 0 | E18: =IF(B18="","",COUNTIF(F18:AJ18,"RC")) -> 0
B19: =IF(Config!B12<>"",Config!B12,"") -> Employé 9 | C19: =IF(B19="","",COUNTIF(F19:AJ19,"MA")) -> 0 | D19: =IF(B19="","",COUNTIF(F19:AJ19,"CP")) -> 0 | E19: =IF(B19="","",COUNTIF(F19:AJ19,"RC")) -> 0
B20: =IF(Config!B13<>"",Config!B13,"") -> Employé 10 | C20: =IF(B20="","",COUNTIF(F20:AJ20,"MA")) -> 0 | D20: =IF(B20="","",COUNTIF(F20:AJ20,"CP")) -> 0 | E20: =IF(B20="","",COUNTIF(F20:AJ20,"RC")) -> 0
B21: =IF(Config!B14<>"",Config!B14,"") -> Employé 11 | C21: =IF(B21="","",COUNTIF(F21:AJ21,"MA")) -> 0 | D21: =IF(B21="","",COUNTIF(F21:AJ21,"CP")) -> 0 | E21: =IF(B21="","",COUNTIF(F21:AJ21,"RC")) -> 0
B22: =IF(Config!B15<>"",Config!B15,"") -> Employé 12 | C22: =IF(B22="","",COUNTIF(F22:AJ22,"MA")) -> 0 | D22: =IF(B22="","",COUNTIF(F22:AJ22,"CP")) -> 0 | E22: =IF(B22="","",COUNTIF(F22:AJ22,"RC")) -> 0
... B27: =IF(Config!B20<>"",Config!B20,"") -> Employé 17 | C27: =IF(B27="","",COUNTIF(F27:AJ27,"MA")) -> 0 | D27: =IF(B27="","",COUNTIF(F27:AJ27,"CP")) -> 0 | E27: =IF(B27="","",COUNTIF(F27:AJ27,"RC")) -> 0
F29: CP | G29: Vacances | L29: RC | M29: Récupération | R29: MA | S29: Maladie | Y29: Week-end
F31: ND | G31: Jour non décompté | L31: DR | M31: Demande de Repos | R31: CPA | S31: Congés Paternité | Y31: Jours Fériés
F33: CV | G33: Congé Validé | L33: NC | M33: Ne pas Changer

Sheet Décembre
A1: =Config!E17 -> 43435
A2: =Config!F17 -> 43465
F3: =A1 -> 43435 | G3: =F3+1 -> 43436 | H3: =G3+1 -> 43437 | I3: =H3+1 -> 43438 | J3: =I3+1 -> 43439 | K3: =J3+1 -> 43440 | L3: =K3+1 -> 43441 | M3: =L3+1 -> 43442 | N3: =M3+1 -> 43443 | ... AG3: =AF3+1 -> 43462 | AH3: =IFERROR(IF(AG3+1>A2,"",AG3+1),"") -> 43463 | AI3: =IFERROR(IF(AH3+1>A2,"",AH3+1),"") -> 43464 | AJ3: =IFERROR(IF(AI3+1>A2,"",AI3+1),"") -> 43465
B4: =TEXT(A1,"mmmmmmmmmmmmmm") -> décembre
F9: =DAY(F3) -> 1 | G9: =DAY(G3) -> 2 | H9: =DAY(H3) -> 3 | I9: =DAY(I3) -> 4 | J9: =DAY(J3) -> 5 | K9: =DAY(K3) -> 6 | L9: =DAY(L3) -> 7 | M9: =DAY(M3) -> 8 | ... AG9: =DAY(AG3) -> 28 | AH9: =IFERROR(DAY(AH3),"") -> 29 | AI9: =IFERROR(DAY(AI3),"") -> 30 | AJ9: =IFERROR(DAY(AJ3),"") -> 31
