Workbook

Sheet Normes automatiques
A1: Tentative EXEMPLE
C2: Résultat
A3: Âge du patient | B3: 71 | C3: =3*((B3>60)+(B3>70))+B4 -> 9
A4: NSC | B4: 3
A5: Score au MMSE | B5: 25 | C5: =INDEX(MMSE!B9:J9,1,C3) -> 27.1
A6: Score à la MOCA | B6: 20 | C6: =INDEX(MOCA!B9:J9,1,C3) -> 22.8
A7: Score à la dénomination de Benton V. A | B7: 32 | C7: =INDEX('Déno de Boston'!C9:K9,1,C3) -> 26.2
A8: Score à la dénomination de Benton V. C | C8: =INDEX('Déno de Boston'!C20:K20,1,C3) -> 17.7
A9: Score à la figure de Rey - Copie | B9: 30 | C9: =INDEX('Figure de Rey'!C9:K9,1,C3) -> 28.6
A10: Score à la figure de Rey - Différé | B10: 10 | C10: =INDEX('Figure de Rey'!C21:K21,1,C3) -> 9.2
A11: Score à la figure de Rey - "Différé - Copie" | B11: -20 | C11: =INDEX('Figure de Rey'!C32:K32,1,C3) -> -23.5
A12: Score au test des portes - Partie A | B12: 10 | C12: =INDEX('Test des portes'!C10:K10,1,C3) -> 7.1
A13: Score au test des portes - Partie B | B13: 5 | C13: =INDEX('Test des portes'!C21:K21,1,C3) -> 3.1
A14: Score au test des portes - Partie B+A | B14: 15 | C14: =INDEX('Test des portes'!C32:K32,1,C3) -> 11.7
A15: Somme des 3 rappels libres RL/RI-16 | B15: 28 | C15: =INDEX('RLRI-16'!C9:K9,1,C3) -> 18.8
A16: Somme des 3 rappels totaux RL/RI-16 | B16: 36 | C16: =INDEX('RLRI-16'!C20:K20,1,C3) -> 40
A17: Score aux Codes | B17: 40 | C17: =INDEX(Codes!B9:J9,1,C3) -> 40.1
A18: Score aux fluences Animaux | B18: 10 | C18: =INDEX(Fluences!C9:K9,1,C3) -> 13.2
A19: Score Fluence P | B19: 12 | C19: =INDEX(Fluences!C20:K20,1,C3) -> 8.9
A20: Score Fluence V | C20: =INDEX(Fluences!C31:K31,1,C3) -> 7.6
A21: Score Fluence R | C21: =INDEX(Fluences!C42:K42,1,C3) -> 8
A22: Score Fluence PVR | C22: =INDEX(Fluences!C53:K53,1,C3) -> 26
A23: Score Fluence B | C23: =INDEX(Fluences!C64:K64,1,C3) -> 8.4
A24: Score Fluence L | C24: =INDEX(Fluences!C75:K75,1,C3) -> 6.4
A25: Score Fluence T | C25: =INDEX(Fluences!C86:K86,1,C3) -> 7.2
A26: Score Fluence BLT | C26: =INDEX(Fluences!C97:K97,1,C3) -> 24

Sheet MMSE
A1: MMSE
A3: Tranche d'âge | B3: 40-60 ans | E3: 61-70 ans | H3: 71-85 ans
A4: Niveau scolaire | B4: 1 | C4: 2 | D4: 3 | E4: 1 | F4: 2 | G4: 3 | H4: 1 | I4: 2 | J4: 3
A5: Moyenne | B5: 28 | C5: 28.6 | D5: 29.4 | E5: 28 | F5: 28.8 | G5: 29.1 | H5: 27.9 | I5: 28.5 | J5: 29.1
A6: DS | B6: 1.8 | C6: 1.4 | D6: 0.8 | E6: 1.6 | F6: 1.3 | G6: 0.9 | H6: 1.9 | I6: 1.4 | J6: 1.1
A7: Médiane | B7: 28.5 | C7: 29 | D7: 30 | E7: 28 | F7: 29 | G7: 29 | H7: 28 | I7: 29 | J7: 29
A8: IIQ | B8: 2 | C8: 2 | D8: 1 | E8: 2 | F8: 2 | G8: 1 | H8: 2 | I8: 2 | J8: 2
A9: C5 | B9: 24.7 | C9: 26 | D9: 27.1 | E9: 24.7 | F9: 26 | G9: 27.1 | H9: 24.7 | I9: 26 | J9: 27.1
A10: -1DS | B10: 26.3 | C10: 27.4 | D10: 28.3 | E10: 26.3 | F10: 27.4 | G10: 28.3 | H10: 26.3 | I10: 27.4 | J10: 28.3
A11: -1,5DS | B11: 24.9 | C11: 26.2 | D11: 27.3 | E11: 24.9 | F11: 26.2 | G11: 27.3 | H11: 24.9 | I11: 26.2 | J11: 27.3
A12: -1,98DS | B12: 23.5 | C12: 24.9 | D12: 26.1 | E12: 23.5 | F12: 24.9 | G12: 26.1 | H12: 23.5 | I12: 24.9 | J12: 26.1

Sheet MOCA
A1: MOCA
A3: Tranche d'âge | B3: 40-60 ans | E3: 61-70 ans | H3: 71-85 ans
A4: Niveau scolaire | B4: 1 | C4: 2 | D4: 3 | E4: 1 | F4: 2 | G4: 3 | H4: 1 | I4: 2 | J4: 3
A5: Moyenne | B5: 25.9 | C5: 26.9 | D5: 27.9 | E5: 25.3 | F5: 26.7 | G5: 27.4 | H5: 24.3 | I5: 25.4 | J5: 27.6
A6: DS | B6: 2.7 | C6: 2.2 | D6: 1.7 | E6: 2.9 | F6: 2.4 | G6: 1.7 | H6: 3 | I6: 2.6 | J6: 2.1
A7: Médiane | B7: 26 | C7: 27 | D7: 28 | E7: 26 | F7: 27 | G7: 27 | H7: 25 | I7: 25 | J7: 28
A8: IIQ | B8: 3.2 | C8: 4 | D8: 2 | E8: 4 | F8: 3 | G8: 3 | H8: 3 | I8: 5 | J8: 3
A9: C5 | B9: 21.4 | C9: 22.6 | D9: 23.8 | E9: 20.8 | F9: 22 | G9: 23.2 | H9: 20.4 | I9: 21.6 | J9: 22.8
A10: -1DS | B10: 23.4 | C10: 24.5 | D10: 25.7 | E10: 22.8 | F10: 23.9 | G10: 25.1 | H10: 22.4 | I10: 23.6 | J10: 24.7
A11: -1,5DS | B11: 22.2 | C11: 23.4 | D11: 24.6 | E11: 21.6 | F11: 22.8 | G11: 24 | H11: 21.2 | I11: 22.4 | J11: 23.6
A12: -1,98DS | B12: 21 | C12: 22.2 | D12: 23.4 | E12: 20.4 | F12: 21.6 | G12: 22.8 | H12: 20 | I12: 21.2 | J12: 22.4

Sheet Déno de Boston
A1: Dénomination orale : Test de dénomination abrégé de Boston versions A et C
A3: VERSION A | B3: Tranche d'âge | C3: 40-60 ans | F3: 61-70 ans | I3: 71-85 ans
B4: Niveau scolaire | C4: 1 | D4: 2 | E4: 3 | F4: 1 | G4: 2 | H4: 3 | I4: 1 | J4: 2 | K4: 3
B5: Moyenne | C5: 30.5 | D5: 32 | E5: 32.7 | F5: 30.5 | G5: 31.5 | H5: 32.2 | I5: 28.2 | J5: 29.4 | K5: 31.5
B6: DS | C6: 3.9 | D6: 2.4 | E6: 1.7 | F6: 2.9 | G6: 2.4 | H6: 2.1 | I6: 3.6 | J6: 3.3 | K6: 1.9
B7: Médiane | C7: 32 | D7: 33 | E7: 33 | F7: 31 | G7: 32 | H7: 33 | I7: 29 | J7: 30 | K7: 32
B8: IIQ | C8: 4 | D8: 3 | E8: 2 | F8: 4.3 | G8: 3 | H8: 3 | I8: 6 | J8: 4 | K8: 3
B9: C5 | C9: 25.4 | D9: 27.1 | E9: 28.7 | F9: 23.6 | G9: 25.5 | H9: 27.2 | I9: 22.4 | J9: 24.3 | K9: 26.2
B10: -1DS | C10: 28.3 | D10: 29.8 | E10: 31.1 | F10: 26.8 | G10: 28.4 | H10: 29.9 | I10: 25.7 | J10: 27.4 | K10: 29
B11: -1,5DS | C11: 26.1 | D11: 27.8 | E11: 29.4 | F11: 24.4 | G11: 26.2 | H11: 27.9 | I11: 23.2 | J11: 25.1 | K11: 26.9
B12: -1,98DS | C12: 23.8 | D12: 25.7 | E12: 27.4 | F12: 22 | G12: 24 | H12: 25.8 | I12: 20.7 | J12: 22.7 | K12: 24.7
A14: VERSION C | B14: Tranche d'âge | C14: 40-60 ans | F14: 61-70 ans | I14: 71-85 ans
B15: Niveau scolaire | C15: 1 | D15: 2 | E15: 3 | F15: 1 | G15: 2 | H15: 3 | I15: 1 | J15: 2 | K15: 3
B16: Moyenne | C16: 18.4 | D16: 19.4 | E16: 19.6 | F16: 18.9 | G16: 19.4 | H16: 19.4 | I16: 18.7 | J16: 19.1 | K16: 19.5
B17: DS | C17: 1.9 | D17: 0.9 | E17: 0.6 | F17: 1.2 | G17: 0.7 | H17: 0.9 | I17: 1.4 | J17: 1.3 | K17: 0.7
B18: Médiane | C18: 19 | D18: 20 | E18: 20 | F18: 19 | G18: 20 | H18: 20 | I18: 19 | J18: 20 | K18: 20
B19: IIQ | C19: 2 | D19: 1 | E19: 1 | F19: 2 | G19: 1 | H19: 1 | I19: 2 | J19: 1 | K19: 1
B20: C5 | C20: 16.2 | D20: 17 | E20: 17.7 | F20: 16.2 | G20: 17 | H20: 17.7 | I20: 16.2 | J20: 17 | K20: 17.7
B21: -1DS | C21: 17.7 | D21: 18.3 | E21: 18.8 | F21: 17.7 | G21: 18.3 | H21: 18.8 | I21: 17.7 | J21: 18.3 | K21: 18.8
B22: -1,5DS | C22: 16.6 | D22: 17.4 | E22: 18 | F22: 16.6 | G22: 17.4 | H22: 18 | I22: 16.6 | J22: 17.4 | K22: 18
B23: -1,98DS | C23: 15.5 | D23: 16.3 | E23: 17.1 | F23: 15.5 | G23: 16.3 | H23: 17.1 | I23: 15.5 | J23: 16.3 | K23: 17.1

Sheet Figure de Rey
A1: Figure de REY (3 tableaux)
A3: Copie | B3: Tranche d'âge | C3: 40-60 ans | F3: 61-70 ans | I3: 71-85 ans
B4: Niveau scolaire | C4: 1 | D4: 2 | E4: 3 | F4: 1 | G4: 2 | H4: 3 | I4: 1 | J4: 2 | K4: 3
B5: Moyenne | C5: 32.8 | D5: 33.5 | E5: 34.3 | F5: 32.2 | G5: 33.1 | H5: 33.7 | I5: 30.9 | J5: 32.3 | K5: 33.7
B6: DS | C6: 2.6 | D6: 2.3 | E6: 1.8 | F6: 3.4 | G6: 2.2 | H6: 2.6 | I6: 3.3 | J6: 2.9 | K6: 2.7
B7: Médiane | C7: 33 | D7: 34 | E7: 35 | F7: 33 | G7: 34 | H7: 34 | I7: 31 | J7: 33 | K7: 34
B8: IIQ | C8: 3 | D8: 3 | E8: 2 | F8: 3.8 | G8: 3 | H8: 3 | I8: 4.8 | J8: 3 | K8: 2
B9: C5 | C9: 27.5 | D9: 29 | E9: 30.4 | F9: 26.3 | G9: 27.9 | H9: 29.4 | I9: 25.5 | J9: 27.1 | K9: 28.6
B10: -1DS | C10: 30.1 | D10: 31.4 | E10: 32.5 | F10: 29 | G10: 30.4 | H10: 31.7 | I10: 28.2 | J10: 29.7 | K10: 31
B11: -1,5DS | C11: 28 | D11: 29.4 | E11: 30.8 | F11: 26.8 | G11: 28.3 | H11: 29.8 | I11: 26 | J11: 27.6 | K11: 29.1
B12: -1,98DS | C12: 25.8 | D12: 27.4 | E12: 28.9 | F12: 24.5 | G12: 26.2 | H12: 27.7 | I12: 23.6 | J12: 25.3 | K12: 27
A15: Différé | B15: Tranche d'âge | C15: 40-60 ans | F15: 61-70 ans | I15: 71-85 ans
B16: Niveau scolaire | C16: 1 | D16: 2 | E16: 3 | F16: 1 | G16: 2 | H16: 3 | I16: 1 | J16: 2 | K16: 3
B17: Moyenne | C17: 18.6 | D17: 18.9 | E17: 21.3 | F17: 16.8 | G17: 18 | H17: 19.8 | I17: 13.8 | J17: 16 | K17: 18.9
B18: DS | C18: 5.5 | D18: 6 | E18: 5.3 | F18: 4.9 | G18: 5.8 | H18: 6.1 | I18: 4.6 | J18: 5.5 | K18: 6.1
B19: Médiane | C19: 18.3 | D19: 19 | E19: 21 | F19: 17.3 | G19: 18 | H19: 20 | I19: 13.5 | J19: 15.5 | K19: 19
B20: IIQ | C20: 6.6 | D20: 8 | E20: 6 | F20: 7.4 | G20: 7 | H20: 7 | I20: 6 | J20: 7.9 | K20: 10
B21: C5 | C21: 8.9 | D21: 10.6 | E21: 12.3 | F21: 7.1 | G21: 8.8 | H21: 10.5 | I21: 5.8 | J21: 7.5 | K21: 9.2
B22: -1DS | C22: 12.4 | D22: 14.1 | E22: 15.8 | F22: 10.5 | G22: 12.2 | H22: 13.9 | I22: 9.3 | J22: 11 | K22: 12.7
B23: -1,5DS | C23: 9.6 | D23: 11.3 | E23: 13 | F23: 7.7 | G23: 9.4 | H23: 11.1 | I23: 6.5 | J23: 8.2 | K23: 9.9
B24: -1,98DS | C24: 6.9 | D24: 8.6 | E24: 10.3 | F24: 5.1 | G24: 6.8 | H24: 8.4 | I24: 3.8 | J24: 5.5 | K24: 7.2
A26: Différé - Copie | B26: Tranche d'âge | C26: 40-60 ans | F26: 61-70 ans | I26: 71-85 ans
B27: Niveau scolaire | C27: 1 | D27: 2 | E27: 3 | F27: 1 | G27: 2 | H27: 3 | I27: 1 | J27: 2 | K27: 3
B28: Moyenne | C28: -14.2 | D28: -14.6 | E28: -13 | F28: -15.4 | G28: -15.1 | H28: -14 | I28: -17.1 | J28: -16.4 | K28: -14.8
B29: DS | C29: 5.1 | D29: 5.5 | E29: 4.8 | F29: 4.7 | G29: 5.5 | H29: 5.5 | I29: 4.2 | J29: 4.9 | K29: 5.9
B30: Médiane | C30: -15 | D30: -14.5 | E30: -13 | F30: -15 | G30: -15 | H30: -13.5 | I30: -17 | J30: -16.5 | K30: -15
B31: IIQ | C31: 6.1 | D31: 7.5 | E31: 6.1 | F31: 7.1 | G31: 6 | H31: 6.5 | I31: 6.5 | J31: 6.8 | K31: 9.5
B32: C5 | C32: -23.1 | D32: -22.4 | E32: -21.6 | F32: -24.3 | G32: -23.5 | H32: -22.7 | I32: -25 | J32: -24.2 | K32: -23.5
B33: -1DS | C33: -19.9 | D33: -19.1 | E33: -18.3 | F33: -21 | G33: -20.2 | H33: -19.4 | I33: -21.8 | J33: -21 | K33: -20.2
B34: -1,5DS | C34: -22.4 | D34: -21.7 | E34: -20.9 | F34: -23.6 | G34: -22.8 | H34: -22 | I34: -24.3 | J34: -23.6 | K34: -22.8
B35: -1,98DS | C35: -24.9 | D35: -24.1 | E35: -23.3 | F35: -26 | G35: -25.3 | H35: -24.5 | I35: -26.8 | J35: -26 | K35: -25.2

Sheet Test des portes
A1: Test des portes de Baddeley (3 tableaux)
A4: Partie A | B4: Tranche d'âge | C4: 40-60 ans | F4: 61-70 ans | I4: 71-85 ans
B5: Niveau scolaire | C5: 1 | D5: 2 | E5: 3 | F5: 1 | G5: 2 | H5: 3 | I5: 1 | J5: 2 | K5: 3
B6: Moyenne | C6: 10.4 | D6: 10.6 | E6: 10.9 | F6: 10.4 | G6: 10.6 | H6: 10.6 | I6: 9.7 | J6: 9.4 | K6: 10.3
B7: DS | C7: 1.4 | D7: 1.4 | E7: 1.4 | F7: 1.6 | G7: 1.4 | H7: 1.4 | I7: 1.8 | J7: 2 | K7: 1.6
B8: Médiane | C8: 10.5 | D8: 11 | E8: 11 | F8: 11 | G8: 1 | H8: 11 | I8: 10 | J8: 10 | K8: 11
B9: IIQ | C9: 1.25 | D9: 2 | E9: 2 | F9: 1 | G9: 2 | H9: 2 | I9: 2 | J9: 3 | K9: 2
B10: C5 | C10: 7.5 | D10: 7.9 | E10: 8.3 | F10: 6.7 | G10: 7.1 | H10: 7.6 | I10: 6.2 | J10: 6.6 | K10: 7.1
B11: -1DS | C11: 9 | D11: 9.4 | E11: 9.7 | F11: 8.3 | G11: 8.7 | H11: 9.1 | I11: 7.9 | J11: 8.3 | K11: 8.7
B12: -1,5DS | C12: 7.8 | D12: 8.2 | E12: 8.6 | F12: 7.1 | G12: 7.5 | H12: 7.9 | I12: 6.6 | J12: 7 | K12: 7.4
B13: -1,98DS | C13: 6.5 | D13: 6.9 | E13: 7.4 | F13: 5.8 | G13: 6.2 | H13: 6.6 | I13: 5.3 | J13: 5.7 | K13: 6.1
A15: Partie B | B15: Tranche d'âge | C15: 40-60 ans | F15: 61-70 ans | I15: 71-85 ans
B16: Niveau scolaire | C16: 1 | D16: 2 | E16: 3 | F16: 1 | G16: 2 | H16: 3 | I16: 1 | J16: 2 | K16: 3
B17: Moyenne | C17: 6.5 | D17: 7.1 | E17: 7.6 | F17: 6.7 | G17: 6.5 | H17: 7 | I17: 5.7 | J17: 6 | K17: 6.8
B18: DS | C18: 2.3 | D18: 2.2 | E18: 2.1 | F18: 2.1 | G18: 2.3 | H18: 1.9 | I18: 2 | J18: 1.9 | K18: 1.9
B19: Médiane | C19: 6 | D19: 7 | E19: 8 | F19: 7 | G19: 6 | H19: 7 | I19: 6 | J19: 6 | K19: 7
B20: IIQ | C20: 3 | D20: 3 | E20: 3 | F20: 3 | G20: 3 | H20: 2 | I20: 3 | J20: 3 | K20: 2
B21: C5 | C21: 3.3 | D21: 3.7 | E21: 4.1 | F21: 2.8 | G21: 3.1 | H21: 3.5 | I21: 2.4 | J21: 2.8 | K21: 3.1
B22: -1DS | C22: 4.6 | D22: 5 | E22: 5.4 | F22: 4 | G22: 4.4 | H22: 4.8 | I22: 3.6 | J22: 4 | K22: 4.4
B23: -1,5DS | C23: 3.5 | D23: 3.9 | E23: 4.3 | F23: 3 | G23: 3.3 | H23: 3.7 | I23: 2.6 | J23: 2.9 | K23: 3.3
B24: -1,98DS | C24: 2.6 | D24: 2.9 | E24: 3.2 | F24: 2.1 | G24: 2.4 | H24: 2.7 | I24: 1.8 | J24: 2 | K24: 2.3
A26: Parties A+B | B26: Tranche d'âge | C26: 40-60 ans | F26: 61-70 ans | I26: 71-85 ans
B27: Niveau scolaire | C27: 1 | D27: 2 | E27: 3 | F27: 1 | G27: 2 | H27: 3 | I27: 1 | J27: 2 | K27: 3
B28: Moyenne | C28: 16.9 | D28: 17.8 | E28: 18.5 | F28: 17.1 | G28: 17.2 | H28: 17.6 | I28: 15.3 | J28: 15.4 | K28: 17.1
B29: DS | C29: 3 | D29: 2.9 | E29: 2.9 | F29: 3.1 | G29: 3 | H29: 2.8 | I29: 3.2 | J29: 3.3 | K29: 2.8
B30: Médiane | C30: 17 | D30: 18 | E30: 19 | F30: 18 | G30: 17 | H30: 18 | I30: 16 | J30: 15 | K30: 17
B31: IIQ | C31: 4 | D31: 4 | E31: 4 | F31: 4 | G31: 4 | H31: 4 | I31: 4 | J31: 5 | K31: 4
B32: C5 | C32: 12.3 | D32: 13 | E32: 13.6 | F32: 11.1 | G32: 11.8 | H32: 12.5 | I32: 10.3 | J32: 11 | K32: 11.7
B33: -1DS | C33: 14.3 | D33: 15 | E33: 15.6 | F33: 13.1 | G33: 13.8 | H33: 14.5 | I33: 12.3 | J33: 13 | K33: 13.7
B34: -1,5DS | C34: 12.5 | D34: 13.2 | E34: 13.9 | F34: 11.3 | G34: 12 | H34: 12.7 | I34: 10.6 | J34: 11.2 | K34: 11.9
B35: -1,98DS | C35: 10.9 | D35: 11.6 | E35: 12.2 | F35: 9.7 | G35: 10.4 | H35: 11 | I35: 8.9 | J35: 9.6 | K35: 10.3

Sheet RLRI-16
A1: RL/RI-16
A3: Somme des 3 rappels libres | B3: Tranche d'âge | C3: 40-60 ans | F3: 61-70 ans | I3: 71-85 ans
B4: Niveau scolaire | C4: 1 | D4: 2 | E4: 3 | F4: 1 | G4: 2 | H4: 3 | I4: 1 | J4: 2 | K4: 3
B5: Moyenne | C5: 31 | D5: 32.8 | E5: 34.4 | F5: 29.5 | G5: 30.2 | H5: 30.2 | I5: 25.3 | J5: 27.1 | K5: 30.4
B6: DS | C6: 6 | D6: 5.7 | E6: 4.7 | F6: 6.2 | G6: 6.2 | H6: 5.2 | I6: 6.2 | J6: 6.2 | K6: 6.4
B7: Médiane | C7: 32 | D7: 33 | E7: 35 | F7: 29.5 | G7: 30 | H7: 30 | I7: 25 | J7: 27 | K7: 31
B8: IIQ | C8: 8 | D8: 8 | E8: 7 | F8: 8 | G8: 6 | H8: 7 | I8: 9.5 | J8: 8 | K8: 9
B9: C5 | C9: 21.1 | D9: 22.6 | E9: 24.2 | F9: 18 | G9: 19.4 | H9: 20.9 | I9: 15.9 | J9: 17.4 | K9: 18.8
B10: -1DS | C10: 25.6 | D10: 27.1 | E10: 28.6 | F10: 22.4 | G10: 23.9 | H10: 25.4 | I10: 20.3 | J10: 21.8 | K10: 23.3
B11: -1,5DS | C11: 22.5 | D11: 24 | E11: 25.5 | F11: 19.3 | G11: 20.8 | H11: 22.3 | I11: 17.2 | J11: 18.7 | K11: 20.2
B12: -1,98DS | C12: 19.5 | D12: 21 | E12: 22.5 | F12: 16.4 | G12: 17.9 | H12: 19.3 | I12: 14.4 | J12: 15.8 | K12: 17.3
A14: Somme des 3 rappels totaux | B14: Tranche d'âge | C14: 40-60 ans | F14: 61-70 ans | I14: 71-85 ans
B15: Niveau scolaire | C15: 1 | D15: 2 | E15: 3 | F15: 1 | G15: 2 | H15: 3 | I15: 1 | J15: 2 | K15: 3
B16: Moyenne | C16: 44.5 | D16: 45.9 | E16: 46.5 | F16: 45.5 | G16: 45.2 | H16: 45.6 | I16: 44.3 | J16: 45.1 | K16: 46.1
B17: DS | C17: 4.9 | D17: 3.1 | E17: 2.2 | F17: 2.7 | G17: 3.5 | H17: 2.5 | I17: 3.5 | J17: 2.9 | K17: 2.6
B18: Médiane | C18: 46 | D18: 47 | E18: 47 | F18: 46 | G18: 46 | H18: 46 | I18: 45 | J18: 46 | K18: 47
B19: IIQ | C19: 3 | D19: 3 | E19: 2 | F19: 2 | G19: 3.5 | H19: 3 | I19: 4.5 | J19: 5 | K19: 2.3
B20: C5 | C20: 38.6 | D20: 39.8 | E20: 41 | F20: 38 | G20: 39.2 | H20: 40.4 | I20: 37.6 | J20: 38.8 | K20: 40
B21: -1DS | C21: 42.4 | D21: 43.4 | E21: 44.2 | F21: 41.9 | G21: 42.9 | H21: 43.8 | I21: 41.5 | J21: 42.6 | K21: 43.5
B22: -1,5DS | C22: 40 | D22: 41.1 | E22: 42.1 | F22: 39.4 | G22: 40.5 | H22: 41.6 | I22: 39 | J22: 40.1 | K22: 41.3
B23: -1,98DS | C23: 37.3 | D23: 38.5 | E23: 39.7 | F23: 36.6 | G23: 37.9 | H23: 39.2 | I23: 36.2 | J23: 37.5 | K23: 38.8

Sheet Codes
A1: Subtest des codes
A3: Tranche d'âge | B3: 40-60 ans | E3: 61-70 ans | H3: 71-85 ans
A4: Niveau scolaire | B4: 1 | C4: 2 | D4: 3 | E4: 1 | F4: 2 | G4: 3 | H4: 1 | I4: 2 | J4: 3
A5: Moyenne | B5: 57.7 | C5: 65.9 | D5: 76.4 | E5: 53.2 | F5: 61.1 | G5: 67 | H5: 41.7 | I5: 51 | J5: 58.9
A6: DS | B6: 14.3 | C6: 12.9 | D6: 12.9 | E6: 10.6 | F6: 12.1 | G6: 12.8 | H6: 10.5 | I6: 12.9 | J6: 13.4
A7: Médiane | B7: 56.5 | C7: 65 | D7: 76.5 | E7: 53 | F7: 61 | G7: 69 | H7: 41 | I7: 51 | J7: 61
A8: IIQ | B8: 18.25 | C8: 16 | D8: 20.3 | E8: 14 | F8: 16 | G8: 20 | H8: 14 | I8: 15 | J8: 18.3
A9: C5 | B9: 39.9 | C9: 47.8 | D9: 55.7 | E9: 30.5 | F9: 38.5 | G9: 46.4 | H9: 24.3 | I9: 32.2 | J9: 40.1
A10: -1DS | B10: 47.4 | C10: 55.4 | D10: 63.3 | E10: 38.1 | F10: 46 | G10: 53.9 | H10: 31.8 | I10: 39.8 | J10: 47.7
A11: -1,5DS | B11: 41.2 | C11: 49.2 | D11: 57.1 | E11: 31.9 | F11: 39.8 | G11: 47.7 | H11: 25.6 | I11: 33.6 | J11: 41.5
A12: -1,98DS | B12: 35.3 | C12: 43.2 | D12: 51.1 | E12: 25.9 | F12: 33.8 | G12: 41.8 | H12: 19.7 | I12: 27.6 | J12: 35.5

Sheet Fluences
A1: Fluences (Animaux ; PVR ; BLT) 9 tableaux
A3: Animaux | B3: Tranche d'âge | C3: 40-60 ans | F3: 61-70 ans | I3: 71-85 ans
B4: Niveau scolaire | C4: 1 | D4: 2 | E4: 3 | F4: 1 | G4: 2 | H4: 3 | I4: 1 | J4: 2 | K4: 3
B5: Moyenne | C5: 18.9 | D5: 20.6 | E5: 22.8 | F5: 17.8 | G5: 20.4 | H5: 21 | I5: 17.3 | J5: 18.2 | K5: 20.5
B6: DS | C6: 4.5 | D6: 4.4 | E6: 5.5 | F6: 4.6 | G6: 4.6 | H6: 4.7 | I6: 4.4 | J6: 4.5 | K6: 5.3
B7: Médiane | C7: 19 | D7: 21 | E7: 22 | F7: 17 | G7: 20 | H7: 21 | I7: 16.5 | J7: 18 | K7: 21
B8: IIQ | C8: 6 | D8: 6.5 | E8: 8 | F8: 6 | G8: 6 | H8: 7 | I8: 6 | J8: 6.5 | K8: 7
B9: C5 | C9: 11.7 | D9: 13.4 | E9: 15.1 | F9: 10.6 | G9: 12.3 | H9: 13.9 | I9: 9.8 | J9: 11.5 | K9: 13.2
B10: -1DS | C10: 14.4 | D10: 16.1 | E10: 17.7 | F10: 13.2 | G10: 14.9 | H10: 16.6 | I10: 12.5 | J10: 14.1 | K10: 15.8
B11: -1,5DS | C11: 12 | D11: 13.7 | E11: 15.4 | F11: 10.9 | G11: 12.5 | H11: 14.2 | I11: 10.1 | J11: 11.8 | K11: 13.4
B12: -1,98DS | C12: 9.7 | D12: 11.4 | E12: 13.1 | F12: 8.6 | G12: 10.2 | H12: 11.9 | I12: 7.8 | J12: 9.5 | K12: 11.1
A14: Fluences P | B14: Tranche d'âge | C14: 40-60 ans | F14: 61-70 ans | I14: 71-85 ans
B15: Niveau scolaire | C15: 1 | D15: 2 | E15: 3 | F15: 1 | G15: 2 | H15: 3 | I15: 1 | J15: 2 | K15: 3
B16: Moyenne | C16: 12.5 | D16: 14 | E16: 16.7 | F16: 11.6 | G16: 14.2 | H16: 15.4 | I16: 11.1 | J16: 13 | K16: 15.6
B17: DS | C17: 4.2 | D17: 4.2 | E17: 4.3 | F17: 3.6 | G17: 4.6 | H17: 4.2 | I17: 3.7 | J17: 4.3 | K17: 4.2
B18: Médiane | C18: 12 | D18: 14 | E18: 17 | F18: 12 | G18: 14 | H18: 15 | I18: 11 | J18: 13 | K18: 15
B19: IIQ | C19: 5.2 | D19: 5 | E19: 6 | F19: 5 | G19: 6 | H19: 5 | I19: 5 | J19: 6 | K19: 7
B20: C5 | C20: 5.6 | D20: 7.7 | E20: 9.8 | F20: 5.1 | G20: 7.2 | H20: 9.3 | I20: 4.7 | J20: 6.8 | K20: 8.9
B21: -1DS | C21: 8 | D21: 10.1 | E21: 12.2 | F21: 7.4 | G21: 9.5 | H21: 11.6 | I21: 7.1 | J21: 9.2 | K21: 11.3
B22: -1,5DS | C22: 5.9 | D22: 8 | E22: 10.1 | F22: 5.3 | G22: 7.4 | H22: 9.5 | I22: 5 | J22: 7.1 | K22: 9.2
B23: -1,98DS | C23: 3.8 | D23: 5.9 | E23: 8 | F23: 3.3 | G23: 5.4 | H23: 7.5 | I23: 3 | J23: 5.1 | K23: 7.1
A25: Fluences V | B25: Tranche d'âge | C25: 40-60 ans | F25: 61-70 ans | I25: 71-85 ans
B26: Niveau scolaire | C26: 1 | D26: 2 | E26: 3 | F26: 1 | G26: 2 | H26: 3 | I26: 1 | J26: 2 | K26: 3
B27: Moyenne | C27: 10.5 | D27: 11.3 | E27: 13 | F27: 9.5 | G27: 11.6 | H27: 12.8 | I27: 9.1 | J27: 11 | K27: 13.1
B28: DS | C28: 3.9 | D28: 3.3 | E28: 3.4 | F28: 3.1 | G28: 4 | H28: 3.7 | I28: 3.2 | J28: 3.7 | K28: 3.8
B29: Médiane | C29: 10.5 | D29: 11 | E29: 13 | F29: 9.5 | G29: 11 | H29: 13 | I29: 9 | J29: 11 | K29: 13
B30: IIQ | C30: 7 | D30: 4.2 | E30: 4 | F30: 5 | G30: 6 | H30: 4 | I30: 5 | J30: 5.5 | K30: 4
B31: C5 | C31: 4.4 | D31: 6 | E31: 7.6 | F31: 4.4 | G31: 6 | H31: 7.6 | I31: 4.4 | J31: 6 | K31: 7.6
B32: -1DS | C32: 6.1 | D32: 7.8 | E32: 9.4 | F32: 6.1 | G32: 7.8 | H32: 9.4 | I32: 6.1 | J32: 7.8 | K32: 9.4
B33: -1,5DS | C33: 4.4 | D33: 6 | E33: 7.6 | F33: 4.4 | G33: 6 | H33: 7.6 | I33: 4.4 | J33: 6 | K33: 7.6
B34: -1,98DS | C34: 2.6 | D34: 4.3 | E34: 5.9 | F34: 2.6 | G34: 4.3 | H34: 5.9 | I34: 2.6 | J34: 4.3 | K34: 5.9
A36: Fluences R | B36: Tranche d'âge | C36: 40-60 ans | F36: 61-70 ans | I36: 71-85 ans
B37: Niveau scolaire | C37: 1 | D37: 2 | E37: 3 | F37: 1 | G37: 2 | H37: 3 | I37: 1 | J37: 2 | K37: 3
B38: Moyenne | C38: 10.8 | D38: 11.8 | E38: 14.5 | F38: 9.7 | G38: 12.6 | H38: 14.1 | I38: 9.3 | J38: 11 | K38: 14.4
B39: DS | C39: 3.9 | D39: 3.9 | E39: 3.9 | F39: 3.5 | G39: 4.3 | H39: 4.6 | I39: 3.8 | J39: 3.9 | K39: 4.5
B40: Médiane | C40: 11 | D40: 12 | E40: 14 | F40: 9.5 | G40: 12.5 | H40: 14 | I40: 9 | J40: 11 | K40: 14
B41: IIQ | C41: 6 | D41: 5 | E41: 5 | F41: 5 | G41: 5.25 | H41: 7 | I41: 5 | J41: 6 | K41: 6
B42: C5 | C42: 3.6 | D42: 5.8 | E42: 8 | F42: 3.6 | G42: 5.8 | H42: 8 | I42: 3.6 | J42: 5.8 | K42: 8
B43: -1DS | C43: 5.7 | D43: 7.9 | E43: 10.2 | F43: 5.7 | G43: 7.9 | H43: 10.2 | I43: 5.7 | J43: 7.9 | K43: 10.2
B44: -1,5DS | C44: 3.7 | D44: 5.9 | E44: 8.1 | F44: 3.7 | G44: 5.9 | H44: 8.1 | I44: 3.7 | J44: 5.9 | K44: 8.1
...
