Workbook

Sheet fichier de base
A1: Matricule | B1: Rubrique | C1: Libellé | D1: Période | E1: Info Complémentaire | F1: Base | G1: Taux Salarial | H1: Taux Salarial forcé | I1: Montant Salarial | J1: Taux Patronal | K1: Montant Patronal | L1: Taux Global | M1: Montant Global
A2: 201606 | B2: 9990 | C2: BRUT | D2: 44075 | E2: 1941.32
A3: 202557 | B3: 9990 | C3: BRUT | D3: 44075 | E3: 790.6
A4: 200009 | B4: 9990 | C4: BRUT | D4: 44075 | E4: -803.57
A5: 202230 | B5: 9990 | C5: BRUT | D5: 44075 | E5: 5701
A6: 201874 | B6: 9990 | C6: BRUT | D6: 44075 | E6: 1364.11
A7: 200027 | B7: 9990 | C7: BRUT | D7: 44075 | E7: 2724.82
A8: 200035 | B8: 9990 | C8: BRUT | D8: 44075 | E8: 2011.1
A9: 202431 | B9: 9990 | C9: BRUT | D9: 44075 | E9: 2755.41
A10: 202375 | B10: 9990 | C10: BRUT | D10: 44075 | E10: 5160
A11: 202074 | B11: 9990 | C11: BRUT | D11: 44075 | E11: 1205.92
A12: 200048 | B12: 9990 | C12: BRUT | D12: 44075 | E12: 1285.74
A13: 201685 | B13: 9990 | C13: BRUT | D13: 44075 | E13: 1643.78
... A44: 202330 | B44: 9990 | C44: BRUT | D44: 44075 | E44: 1897.87
A45: 202222 | B45: 9990 | C45: BRUT | D45: 44075
A46: 200244 | B46: 9990 | C46: BRUT | D46: 44075 | E46: 2521.66
A47: 202342 | B47: 9990 | C47: BRUT | D47: 44075 | E47: 2092.22
A48: 202588 | B48: 9990 | C48: BRUT | D48: 44075 | E48: 1579.49
A49: 201756 | B49: 9990 | C49: BRUT | D49: 44075 | E49: 1669.23
A50: 201998 | B50: 9990 | C50: BRUT | D50: 44075 | E50: 648.84
A51: 200259 | B51: 9990 | C51: BRUT | D51: 44075 | E51: 1939.92
A52: 202343 | B52: 9990 | C52: BRUT | D52: 44075 | E52: 1456
A53: 200267 | B53: 9990 | C53: BRUT | D53: 44075 | E53: 1144.45
A54: 202254 | B54: 9990 | C54: BRUT | D54: 44075 | E54: 734.4
A55: 200276 | B55: 9990 | C55: BRUT | D55: 44075 | E55: 1783.65
A56: 202590 | B56: 9990 | C56: BRUT | D56: 44075 | E56: 1221.58
A57: 200277 | B57: 9990 | C57: BRUT | D57: 44075 | E57: 1943.51
... A214: 201171 | B214: 9990 | C214: BRUT | D214: 44075 | E214: 766.86
A215: 201177 | B215: 9990 | C215: BRUT | D215: 44075
A216: 201606 | B216: 11018 | C216: Accident du travail | D216: 44075 | E216: 2.6
A217: 202557 | B217: 11018 | C217: Accident du travail | D217: 44075 | E217: 2.6
A218: 200009 | B218: 11018 | C218: Accident du travail | D218: 44075 | E218: 2.6
A219: 202230 | B219: 11018 | C219: Accident du travail | D219: 44075 | E219: 2.6
A220: 201874 | B220: 11018 | C220: Accident du travail | D220: 44075 | E220: 2.6
A221: 200027 | B221: 11018 | C221: Accident du travail | D221: 44075 | E221: 2.6
A222: 200035 | B222: 11018 | C222: Accident du travail | D222: 44075 | E222: 2.6
A223: 202431 | B223: 11018 | C223: Accident du travail | D223: 44075 | E223: 0.72
A224: 202375 | B224: 11018 | C224: Accident du travail | D224: 44075 | E224: 2.6
A225: 202074 | B225: 11018 | C225: Accident du travail | D225: 44075 | E225: 2.6
A226: 200048 | B226: 11018 | C226: Accident du travail | D226: 44075 | E226: 2.6
...

Sheet résultat attendu
A1: Matricule | B1: Rubrique | C1: Libellé | D1: Montant Salarial
A2: 201606 | B2: 9990 | C2: BRUT | D2: 2923.7 | E2: accident du travail | F2: =VLOOKUP($A2,'fichier de base'!$A$216:$E$427,5,FALSE) -> 2.6 | G2: =VLOOKUP($A2,'fichier de base'!$A$903:$E$1105,3,) -> PAS (taux personnalisé) | H2: =VLOOKUP($A2,'fichier de base'!$A$903:$E$1105,5,) -> -2171.84
A3: 202557 | B3: 9990 | C3: BRUT | D3: 1941.32 | E3: accident du travail | F3: =VLOOKUP($A3,'fichier de base'!$A$216:$E$427,5,FALSE) -> 2.6 | G3: =VLOOKUP($A3,'fichier de base'!$A$903:$E$1105,3,) -> PAS (taux personnalisé) | H3: =VLOOKUP($A3,'fichier de base'!$A$903:$E$1105,5,) -> -1398.45
A4: 200009 | B4: 9990 | C4: BRUT | D4: 790.6 | E4: accident du travail | F4: =VLOOKUP($A4,'fichier de base'!$A$216:$E$427,5,FALSE) -> 2.6 | G4: =VLOOKUP($A4,'fichier de base'!$A$903:$E$1105,3,) -> PAS (taux personnalisé) | H4: =VLOOKUP($A4,'fichier de base'!$A$903:$E$1105,5,) -> -560.58
A5: 202230 | B5: 9990 | C5: BRUT | D5: -803.57 | E5: accident du travail | F5: =VLOOKUP($A5,'fichier de base'!$A$216:$E$427,5,FALSE) -> 2.6 | G5: =VLOOKUP($A5,'fichier de base'!$A$903:$E$1105,3,) -> PAS (taux personnalisé) | H5: =VLOOKUP($A5,'fichier de base'!$A$903:$E$1105,5,) -> -1727.11
A6: 201874 | B6: 9990 | C6: BRUT | D6: 5701 | E6: accident du travail | F6: =VLOOKUP($A6,'fichier de base'!$A$216:$E$427,5,FALSE) -> 2.6 | G6: =VLOOKUP($A6,'fichier de base'!$A$903:$E$1105,3,) -> PAS (taux personnalisé) | H6: =VLOOKUP($A6,'fichier de base'!$A$903:$E$1105,5,) -> -4628.22
A7: 200027 | B7: 9990 | C7: BRUT | D7: 1364.11 | E7: accident du travail | F7: =VLOOKUP($A7,'fichier de base'!$A$216:$E$427,5,FALSE) -> 2.6 | G7: =VLOOKUP($A7,'fichier de base'!$A$903:$E$1105,3,) -> PAS (taux personnalisé) | H7: =VLOOKUP($A7,'fichier de base'!$A$903:$E$1105,5,) -> -911.01
A8: 200035 | B8: 9990 | C8: BRUT | D8: 2724.82 | E8: accident du travail | F8: =VLOOKUP($A8,'fichier de base'!$A$216:$E$427,5,FALSE) -> 2.6 | G8: =VLOOKUP($A8,'fichier de base'!$A$903:$E$1105,3,) -> PAS (taux personnalisé) | H8: =VLOOKUP($A8,'fichier de base'!$A$903:$E$1105,5,) -> -1967.03
A9: 202431 | B9: 9990 | C9: BRUT | D9: 2011.1 | E9: accident du travail | F9: =VLOOKUP($A9,'fichier de base'!$A$216:$E$427,5,FALSE) -> 0.72 | G9: =VLOOKUP($A9,'fichier de base'!$A$903:$E$1105,3,) -> PAS (taux personnalisé) | H9: =VLOOKUP($A9,'fichier de base'!$A$903:$E$1105,5,) -> -1463
A10: 202375 | B10: 9990 | C10: BRUT | D10: 2755.41 | E10: accident du travail | F10: =VLOOKUP($A10,'fichier de base'!$A$216:$E$427,5,FALSE) -> 2.6 | G10: =VLOOKUP($A10,'fichier de base'!$A$903:$E$1105,3,) -> PAS (taux personnalisé) | H10: =VLOOKUP($A10,'fichier de base'!$A$903:$E$1105,5,) -> -1637.61
A11: 202074 | B11: 9990 | C11: BRUT | D11: 5160 | E11: accident du travail | F11: =VLOOKUP($A11,'fichier de base'!$A$216:$E$427,5,FALSE) -> 2.6 | G11: =VLOOKUP($A11,'fichier de base'!$A$903:$E$1105,3,) -> PAS (taux personnalisé) | H11: =VLOOKUP($A11,'fichier de base'!$A$903:$E$1105,5,) -> -4191.39
A12: 200048 | B12: 9990 | C12: BRUT | D12: 1205.92 | E12: accident du travail | F12: =VLOOKUP($A12,'fichier de base'!$A$216:$E$427,5,FALSE) -> 2.6 | G12: =VLOOKUP($A12,'fichier de base'!$A$903:$E$1105,3,) -> PAS (taux personnalisé) | H12: =VLOOKUP($A12,'fichier de base'!$A$903:$E$1105,5,) -> -1001.47
A13: 201685 | B13: 9990 | C13: BRUT | D13: 1285.74 | E13: accident du travail | F13: =VLOOKUP($A13,'fichier de base'!$A$216:$E$427,5,FALSE) -> 2.6 | G13: =VLOOKUP($A13,'fichier de base'!$A$903:$E$1105,3,) -> PAS (taux personnalisé) | H13: =VLOOKUP($A13,'fichier de base'!$A$903:$E$1105,5,) -> -838.99
... A45: 202222 | B45: 9990 | C45: BRUT | D45: 1897.87 | E45: accident du travail | F45: =VLOOKUP($A45,'fichier de base'!$A$216:$E$427,5,FALSE) -> 2.6 | G45: =VLOOKUP($A45,'fichier de base'!$A$903:$E$1105,3,) -> PAS (taux personnalisé) | H45: =VLOOKUP($A45,'fichier de base'!$A$903:$E$1105,5,) -> -1389.43
A46: 200244 | B46: 9990 | C46: BRUT | E46: accident du travail | F46: =VLOOKUP($A46,'fichier de base'!$A$216:$E$427,5,FALSE) -> 2.6 | G46: =VLOOKUP($A46,'fichier de base'!$A$903:$E$1105,3,) -> PAS (taux personnalisé) | H46: =VLOOKUP($A46,'fichier de base'!$A$903:$E$1105,5,) -> 0
A47: 202342 | B47: 9990 | C47: BRUT | D47: 2521.66 | E47: accident du travail | F47: =VLOOKUP($A47,'fichier de base'!$A$216:$E$427,5,FALSE) -> 2.6 | G47: =VLOOKUP($A47,'fichier de base'!$A$903:$E$1105,3,) -> PAS (taux personnalisé) | H47: =VLOOKUP($A47,'fichier de base'!$A$903:$E$1105,5,) -> -1792.97
A48: 202588 | B48: 9990 | C48: BRUT | D48: 2092.22 | E48: accident du travail | F48: =VLOOKUP($A48,'fichier de base'!$A$216:$E$427,5,FALSE) -> 2.6 | G48: =VLOOKUP($A48,'fichier de base'!$A$903:$E$1105,3,) -> PAS (taux personnalisé) | H48: =VLOOKUP($A48,'fichier de base'!$A$903:$E$1105,5,) -> -1522.4
A49: 201756 | B49: 9990 | C49: BRUT | D49: 1579.49 | E49: accident du travail | F49: =VLOOKUP($A49,'fichier de base'!$A$216:$E$427,5,FALSE) -> 2.6 | G49: =VLOOKUP($A49,'fichier de base'!$A$903:$E$1105,3,) -> PAS (taux personnalisé) | H49: =VLOOKUP($A49,'fichier de base'!$A$903:$E$1105,5,) -> -978.63
A50: 201998 | B50: 9990 | C50: BRUT | D50: 1669.23 | E50: accident du travail | F50: =VLOOKUP($A50,'fichier de base'!$A$216:$E$427,5,FALSE) -> 0.72 | G50: =VLOOKUP($A50,'fichier de base'!$A$903:$E$1105,3,) -> PAS (taux personnalisé) | H50: =VLOOKUP($A50,'fichier de base'!$A$903:$E$1105,5,) -> -1357.5
A51: 200259 | B51: 9990 | C51: BRUT | D51: 648.84 | E51: accident du travail | F51: =VLOOKUP($A51,'fichier de base'!$A$216:$E$427,5,FALSE) -> 2.6 | G51: =VLOOKUP($A51,'fichier de base'!$A$903:$E$1105,3,) -> PAS (taux personnalisé) | H51: =VLOOKUP($A51,'fichier de base'!$A$903:$E$1105,5,) -> -352.28
A52: 202343 | B52: 9990 | C52: BRUT | D52: 1939.92 | E52: accident du travail | F52: =VLOOKUP($A52,'fichier de base'!$A$216:$E$427,5,FALSE) -> 2.6 | G52: =VLOOKUP($A52,'fichier de base'!$A$903:$E$1105,3,) -> PAS (taux personnalisé) | H52: =VLOOKUP($A52,'fichier de base'!$A$903:$E$1105,5,) -> -1579.15
A53: 200267 | B53: 9990 | C53: BRUT | D53: 1456 | E53: accident du travail | F53: =VLOOKUP($A53,'fichier de base'!$A$216:$E$427,5,FALSE) -> 2.6 | G53: =VLOOKUP($A53,'fichier de base'!$A$903:$E$1105,3,) -> PAS (taux personnalisé) | H53: =VLOOKUP($A53,'fichier de base'!$A$903:$E$1105,5,) -> -1002.35
A54: 202254 | B54: 9990 | C54: BRUT | D54: 1144.45 | E54: accident du travail | F54: =VLOOKUP($A54,'fichier de base'!$A$216:$E$427,5,FALSE) -> 2.6 | G54: =VLOOKUP($A54,'fichier de base'!$A$903:$E$1105,3,) -> PAS (taux personnalisé) | H54: =VLOOKUP($A54,'fichier de base'!$A$903:$E$1105,5,) -> -732.14
A55: 200276 | B55: 9990 | C55: BRUT | D55: 734.4 | E55: accident du travail | F55: =VLOOKUP($A55,'fichier de base'!$A$216:$E$427,5,FALSE) -> 2.6 | G55: =VLOOKUP($A55,'fichier de base'!$A$903:$E$1105,3,) -> PAS (taux personnalisé) | H55: =VLOOKUP($A55,'fichier de base'!$A$903:$E$1105,5,) -> -426.16
A56: 202590 | B56: 9990 | C56: BRUT | D56: 1783.65 | E56: accident du travail | F56: =VLOOKUP($A56,'fichier de base'!$A$216:$E$427,5,FALSE) -> 2.6 | G56: =VLOOKUP($A56,'fichier de base'!$A$903:$E$1105,3,) -> PAS (taux personnalisé) | H56: =VLOOKUP($A56,'fichier de base'!$A$903:$E$1105,5,) -> -1302.63
A57: 200277 | B57: 9990 | C57: BRUT | D57: 1221.58 | E57: accident du travail | F57: =VLOOKUP($A57,'fichier de base'!$A$216:$E$427,5,FALSE) -> 2.6 | G57: =VLOOKUP($A57,'fichier de base'!$A$903:$E$1105,3,) -> PAS (taux personnalisé) | H57: =VLOOKUP($A57,'fichier de base'!$A$903:$E$1105,5,) -> -834.02
A58: 202423 | B58: 9990 | C58: BRUT | D58: 1943.51 | E58: accident du travail | F58: =VLOOKUP($A58,'fichier de base'!$A$216:$E$427,5,FALSE) -> 2.6 | G58: =VLOOKUP($A58,'fichier de base'!$A$903:$E$1105,3,) -> PAS (taux personnalisé) | H58: =VLOOKUP($A58,'fichier de base'!$A$903:$E$1105,5,) -> -1413.54
... A215: 201177 | B215: 9990 | C215: BRUT | D215: 766.86 | E215: accident du travail | F215: =VLOOKUP($A215,'fichier de base'!$A$216:$E$427,5,FALSE) -> 2.6 | G215: =VLOOKUP($A215,'fichier de base'!$A$903:$E$1105,3,) -> PAS (taux personnalisé) | H215: =VLOOKUP($A215,'fichier de base'!$A$903:$E$1105,5,) -> -454.16
