Workbook

Sheet fichier de base
A1: Matricule | B1: Rubrique | C1: Libellé | D1: Période | E1: Info Complémentaire | F1: Base | G1: Taux Salarial | H1: Taux Salarial forcé | I1: Montant Salarial | J1: Taux Patronal | K1: Montant Patronal | L1: Taux Global | M1: Montant Global
A2: 201606 | B2: 9990 | C2: BRUT | D2: 44075 | E2: 1941.32
A3: 202557 | B3: 9990 | C3: BRUT | D3: 44075 | E3: 790.6
A4: 200009 | B4: 9990 | C4: BRUT | D4: 44075 | E4: -803.57
A5: 202230 | B5: 9990 | C5: BRUT | D5: 44075 | E5: 5701
A6: 201874 | B6: 9990 | C6: BRUT | D6: 44075 | E6: 1364.11
A7: 200027 | B7: 9990 | C7: BRUT | D7: 44075 | E7: 2724.82
A8: 200035 | B8: 9990 | C8: BRUT | D8: 44075 | E8: 2011.1
A9: 202431 | B9: 9990 | C9: BRUT | D9: 44075 | E9: 2755.41
A10: 202375 | B10: 9990 | C10: BRUT | D10: 44075 | E10: 5160
A11: 202074 | B11: 9990 | C11: BRUT | D11: 44075 | E11: 1205.92
A12: 200048 | B12: 9990 | C12: BRUT | D12: 44075 | E12: 1285.74
A13: 201685 | B13: 9990 | C13: BRUT | D13: 44075 | E13: 1643.78
... A44: 202330 | B44: 9990 | C44: BRUT | D44: 44075 | E44: 1897.87
A45: 202222 | B45: 9990 | C45: BRUT | D45: 44075
A46: 200244 | B46: 9990 | C46: BRUT | D46: 44075 | E46: 2521.66
A47: 202342 | B47: 9990 | C47: BRUT | D47: 44075 | E47: 2092.22
A48: 202588 | B48: 9990 | C48: BRUT | D48: 44075 | E48: 1579.49
A49: 201756 | B49: 9990 | C49: BRUT | D49: 44075 | E49: 1669.23
A50: 201998 | B50: 9990 | C50: BRUT | D50: 44075 | E50: 648.84
A51: 200259 | B51: 9990 | C51: BRUT | D51: 44075 | E51: 1939.92
A52: 202343 | B52: 9990 | C52: BRUT | D52: 44075 | E52: 1456
A53: 200267 | B53: 9990 | C53: BRUT | D53: 44075 | E53: 1144.45
A54: 202254 | B54: 9990 | C54: BRUT | D54: 44075 | E54: 734.4
A55: 200276 | B55: 9990 | C55: BRUT | D55: 44075 | E55: 1783.65
A56: 202590 | B56: 9990 | C56: BRUT | D56: 44075 | E56: 1221.58
A57: 200277 | B57: 9990 | C57: BRUT | D57: 44075 | E57: 1943.51
... A214: 201171 | B214: 9990 | C214: BRUT | D214: 44075 | E214: 766.86
A215: 201177 | B215: 9990 | C215: BRUT | D215: 44075
A216: 201606 | B216: 11018 | C216: Accident du travail | D216: 44075 | E216: 2.6
A217: 202557 | B217: 11018 | C217: Accident du travail | D217: 44075 | E217: 2.6
A218: 200009 | B218: 11018 | C218: Accident du travail | D218: 44075 | E218: 2.6
A219: 202230 | B219: 11018 | C219: Accident du travail | D219: 44075 | E219: 2.6
A220: 201874 | B220: 11018 | C220: Accident du travail | D220: 44075 | E220: 2.6
A221: 200027 | B221: 11018 | C221: Accident du travail | D221: 44075 | E221: 2.6
A222: 200035 | B222: 11018 | C222: Accident du travail | D222: 44075 | E222: 2.6
A223: 202431 | B223: 11018 | C223: Accident du travail | D223: 44075 | E223: 0.72
A224: 202375 | B224: 11018 | C224: Accident du travail | D224: 44075 | E224: 2.6
A225: 202074 | B225: 11018 | C225: Accident du travail | D225: 44075 | E225: 2.6
A226: 200048 | B226: 11018 | C226: Accident du travail | D226: 44075 | E226: 2.6
A227: 201685 | B227: 11018 | C227: Accident du travail | D227: 44075 | E227: 2.6
... A427: 201177 | B427: 11018 | C427: Accident du travail | D427: 44075 | E427: 2.6
A428: 201606 | B428: 14010 | C428: Retraite Employé - Tranche 1 | D428: 44075 | F428: -2923.7 | G428: 3.4 | I428: -99.41 | J428: 4.47 | K428: -130.69 | L428: 7.87 | M428: -230.1
A429: 202557 | B429: 14010 | C429: Retraite Employé - Tranche 1 | D429: 44075 | F429: -1941.32 | G429: 3.4 | I429: -66 | J429: 4.47 | K429: -86.78 | L429: 7.87 | M429: -152.78
A430: 200009 | B430: 14010 | C430: Retraite Employé - Tranche 1 | D430: 44075 | F430: -790.6 | G430: 3.4 | I430: -26.88 | J430: 4.47 | K430: -35.34 | L430: 7.87 | M430: -62.22
A431: 202230 | B431: 14010 | C431: Retraite Employé - Tranche 1 | D431: 44075 | F431: 803.57 | G431: 3.4 | I431: 27.32 | J431: 4.47 | K431: 35.92 | L431: 7.87 | M431: 63.24
A432: 200027 | B432: 14010 | C432: Retraite Employé - Tranche 1 | D432: 44075 | F432: -1364.11 | G432: 3.4 | I432: -46.38 | J432: 4.47 | K432: -60.98 | L432: 7.87 | M432: -107.36
A433: 200035 | B433: 14010 | C433: Retraite Employé - Tranche 1 | D433: 44075 | F433: -2724.82 | G433: 3.4 | I433: -92.64 | J433: 4.47 | K433: -121.8 | L433: 7.87 | M433: -214.44
A434: 202431 | B434: 14010 | C434: Retraite Employé - Tranche 1 | D434: 44075 | F434: -2011.1 | G434: 3.4 | I434: -68.38 | J434: 4.47 | K434: -89.89 | L434: 7.87 | M434: -158.27
A435: 202375 | B435: 14010 | C435: Retraite Employé - Tranche 1 | D435: 44075 | F435: -2755.41 | G435: 3.4 | I435: -93.68 | J435: 4.47 | K435: -123.17 | L435: 7.87 | M435: -216.85
A436: 202452 | B436: 14010 | C436: Retraite Employé - Tranche 1 | D436: 44075 | F436: -1643.78 | G436: 3.4 | I436: -55.89 | J436: 4.47 | K436: -73.48 | L436: 7.87 | M436: -129.37
A437: 200073 | B437: 14010 | C437: Retraite Employé - Tranche 1 | D437: 44075 | F437: -1735.3 | G437: 3.4 | I437: -59 | J437: 4.47 | K437: -77.57 | L437: 7.87 | M437: -136.57
A438: 202420 | B438: 14010 | C438: Retraite Employé - Tranche 1 | D438: 44075 | F438: -2318.68 | G438: 3.4 | I438: -78.84 | J438: 4.47 | K438: -103.64 | L438: 7.87 | M438: -182.48
A439: 200074 | B439: 14010 | C439: Retraite Employé - Tranche 1 | D439: 44075 | F439: -1742 | G439: 3.4 | I439: -59.23 | J439: 4.47 | K439: -77.87 | L439: 7.87 | M439: -137.1
... A460: 202222 | B460: 14010 | C460: Retraite Employé - Tranche 1 | D460: 44075 | F460: -1897.87 | G460: 3.4 | I460: -64.53 | J460: 4.47 | K460: -84.83 | L460: 7.87 | M460: -149.36
A461: 200244 | B461: 14010 | C461: Retraite Employé - Tranche 1 | D461: 44075 | G461: 3.4 | J461: 4.47 | L461: 7.87
A462: 202342 | B462: 14010 | C462: Retraite Employé - Tranche 1 | D462: 44075 | F462: -2521.66 | G462: 3.4 | I462: -85.74 | J462: 4.47 | K462: -112.71 | L462: 7.87 | M462: -198.45
A463: 202588 | B463: 14010 | C463: Retraite Employé - Tranche 1 | D463: 44075 | F463: -2092.22 | G463: 3.4 | I463: -71.14 | J463: 4.47 | K463: -93.52 | L463: 7.87 | M463: -164.66
A464: 201756 | B464: 14010 | C464: Retraite Employé - Tranche 1 | D464: 44075 | F464: -1579.49 | G464: 3.4 | I464: -53.7 | J464: 4.47 | K464: -70.61 | L464: 7.87 | M464: -124.31
A465: 200259 | B465: 14010 | C465: Retraite Employé - Tranche 1 | D465: 44075 | F465: -648.84 | G465: 3.4 | I465: -22.06 | J465: 4.47 | K465: -29 | L465: 7.87 | M465: -51.06
A466: 200267 | B466: 14010 | C466: Retraite Employé - Tranche 1 | D466: 44075 | F466: -1456 | G466: 3.4 | I466: -49.5 | J466: 4.47 | K466: -65.09 | L466: 7.87 | M466: -114.59
A467: 200276 | B467: 14010 | C467: Retraite Employé - Tranche 1 | D467: 44075 | F467: -734.4 | G467: 3.4 | I467: -24.97 | J467: 4.47 | K467: -32.83 | L467: 7.87 | M467: -57.8
A468: 202590 | B468: 14010 | C468: Retraite Employé - Tranche 1 | D468: 44075 | F468: -1783.65 | G468: 3.4 | I468: -60.64 | J468: 4.47 | K468: -79.73 | L468: 7.87 | M468: -140.37
A469: 200277 | B469: 14010 | C469: Retraite Employé - Tranche 1 | D469: 44075 | F469: -1221.58 | G469: 3.4 | I469: -41.53 | J469: 4.47 | K469: -54.61 | L469: 7.87 | M469: -96.14
A470: 202423 | B470: 14010 | C470: Retraite Employé - Tranche 1 | D470: 44075 | F470: -1943.51 | G470: 3.4 | I470: -66.08 | J470: 4.47 | K470: -86.87 | L470: 7.87 | M470: -152.95
A471: 200286 | B471: 14010 | C471: Retraite Employé - Tranche 1 | D471: 44075 | F471: -732.18 | G471: 3.4 | I471: -24.89 | J471: 4.47 | K471: -32.73 | L471: 7.87 | M471: -57.62
A472: 202226 | B472: 14010 | C472: Retraite Employé - Tranche 1 | D472: 44075 | F472: -2262.18 | G472: 3.4 | I472: -76.91 | J472: 4.47 | K472: -101.12 | L472: 7.87 | M472: -178.03
A473: 202275 | B473: 14010 | C473: Retraite Employé - Tranche 1 | D473: 44075 | F473: -2095.21 | G473: 3.4 | I473: -71.24 | J473: 4.47 | K473: -93.65 | L473: 7.87 | M473: -164.89
... A604: 201177 | B604: 14010 | C604: Retraite Employé - Tranche 1 | D604: 44075 | F604: -766.86 | G604: 3.4 | I604: -26.07 | J604: 4.47 | K604: -34.28 | L604: 7.87 | M604: -60.35
A605: 201606 | B605: 14012 | C605: Retraite Employé - Tranche 2 | D605: 44075 | G605: 8.89 | J605: 12.7 | L605: 21.59
A606: 202557 | B606: 14012 | C606: Retraite Employé - Tranche 2 | D606: 44075 | G606: 8.89 | J606: 12.7 | L606: 21.59
A607: 200009 | B607: 14012 | C607: Retraite Employé - Tranche 2 | D607: 44075 | G607: 8.89 | J607: 12.7 | L607: 21.59
A608: 202230 | B608: 14012 | C608: Retraite Employé - Tranche 2 | D608: 44075 | G608: 8.89 | J608: 12.7 | L608: 21.59
A609: 200027 | B609: 14012 | C609: Retraite Employé - Tranche 2 | D609: 44075 | G609: 8.89 | J609: 12.7 | L609: 21.59
A610: 200035 | B610: 14012 | C610: Retraite Employé - Tranche 2 | D610: 44075 | G610: 8.89 | J610: 12.7 | L610: 21.59
A611: 202431 | B611: 14012 | C611: Retraite Employé - Tranche 2 | D611: 44075 | G611: 8.89 | J611: 12.7 | L611: 21.59
A612: 202375 | B612: 14012 | C612: Retraite Employé - Tranche 2 | D612: 44075 | G612: 8.89 | J612: 12.7 | L612: 21.59
A613: 202452 | B613: 14012 | C613: Retraite Employé - Tranche 2 | D613: 44075 | G613: 8.89 | J613: 12.7 | L613: 21.59
A614: 200073 | B614: 14012 | C614: Retraite Employé - Tranche 2 | D614: 44075 | G614: 8.89 | J614: 12.7 | L614: 21.59
A615: 202420 | B615: 14012 | C615: Retraite Employé - Tranche 2 | D615: 44075 | G615: 8.89 | J615: 12.7 | L615: 21.59
A616: 200074 | B616: 14012 | C616: Retraite Employé - Tranche 2 | D616: 44075 | G616: 8.89 | J616: 12.7 | L616: 21.59
... A663: 201382 | B663: 14012 | C663: Retraite Employé - Tranche 2 | D663: 44075 | G663: 8.89 | J663: 12.7 | L663: 21.59
A664: 202556 | B664: 14012 | C664: Retraite Employé - Tranche 2 | D664: 44075 | F664: -3.18 | G664: 8.89 | I664: -0.28 | J664: 12.7 | K664: -0.41 | L664: 21.59 | M664: -0.69
A665: 200484 | B665: 14012 | C665: Retraite Employé - Tranche 2 | D665: 44075 | G665: 8.89 | J665: 12.7 | L665: 21.59
A666: 202591 | B666: 14012 | C666: Retraite Employé - Tranche 2 | D666: 44075 | G666: 8.89 | J666: 12.7 | L666: 21.59
A667: 202231 | B667: 14012 | C667: Retraite Employé - Tranche 2 | D667: 44075 | G667: 8.89 | J667: 12.7 | L667: 21.59
A668: 202332 | B668: 14012 | C668: Retraite Employé - Tranche 2 | D668: 44075 | G668: 8.89 | J668: 12.7 | L668: 21.59
A669: 200498 | B669: 14012 | C669: Retraite Employé - Tranche 2 | D669: 44075 | G669: 8.89 | J669: 12.7 | L669: 21.59
A670: 201301 | B670: 14012 | C670: Retraite Employé - Tranche 2 | D670: 44075 | G670: 8.89 | J670: 12.7 | L670: 21.59
A671: 200504 | B671: 14012 | C671: Retraite Employé - Tranche 2 | D671: 44075 | G671: 8.89 | J671: 12.7 | L671: 21.59
A672: 200514 | B672: 14012 | C672: Retraite Employé - Tranche 2 | D672: 44075 | G672: 8.89 | J672: 12.7 | L672: 21.59
A673: 202196 | B673: 14012 | C673: Retraite Employé - Tranche 2 | D673: 44075 | G673: 8.89 | J673: 12.7 | L673: 21.59
A674: 201196 | B674: 14012 | C674: Retraite Employé - Tranche 2 | D674: 44075 | G674: 8.89 | J674: 12.7 | L674: 21.59
A675: 202124 | B675: 14012 | C675: Retraite Employé - Tranche 2 | D675: 44075 | G675: 8.89 | J675: 12.7 | L675: 21.59
A676: 202545 | B676: 14012 | C676: Retraite Employé - Tranche 2 | D676: 44075 | G676: 8.89 | J676: 12.7 | L676: 21.59
... A697: 202501 | B697: 14012 | C697: Retraite Employé - Tranche 2 | D697: 44075 | G697: 8.89 | J697: 12.7 | L697: 21.59
A698: 201375 | B698: 14012 | C698: Retraite Employé - Tranche 2 | D698: 44075 | F698: 224.65 | G698: 8.89 | I698: 19.97 | J698: 12.7 | K698: 28.54 | L698: 21.59 | M698: 48.51
A699: 201612 | B699: 14012 | C699: Retraite Employé - Tranche 2 | D699: 44075 | G699: 8.89 | J699: 12.7 | L699: 21.59
A700: 200663 | B700: 14012 | C700: Retraite Employé - Tranche 2 | D700: 44075 | G700: 8.89 | J700: 12.7 | L700: 21.59
A701: 202064 | B701: 14012 | C701: Retraite Employé - Tranche 2 | D701: 44075 | G701: 8.89 | J701: 12.7 | L701: 21.59
...

Sheet résultat attendu
A1: Matricule | B1: Rubrique | C1: Libellé | D1: Montant Salarial
A2: 201606 | B2: 9990 | C2: BRUT | D2: 2923.7 | E2: accident du travail | F2: =VLOOKUP($A2,'fichier de base'!$A$216:$E$427,5,FALSE) -> 2.6 | G2: =VLOOKUP($A2,'fichier de base'!$A$903:$E$1105,3,) -> PAS (taux personnalisé) | H2: =VLOOKUP($A2,'fichier de base'!$A$903:$E$1105,5,) -> -2171.84
A3: 202557 | B3: 9990 | C3: BRUT | D3: 1941.32 | E3: accident du travail | F3: =VLOOKUP($A3,'fichier de base'!$A$216:$E$427,5,FALSE) -> 2.6 | G3: =VLOOKUP($A3,'fichier de base'!$A$903:$E$1105,3,) -> PAS (taux personnalisé) | H3: =VLOOKUP($A3,'fichier de base'!$A$903:$E$1105,5,) -> -1398.45
A4: 200009 | B4: 9990 | C4: BRUT | D4: 790.6 | E4: accident du travail | F4: =VLOOKUP($A4,'fichier de base'!$A$216:$E$427,5,FALSE) -> 2.6 | G4: =VLOOKUP($A4,'fichier de base'!$A$903:$E$1105,3,) -> PAS (taux personnalisé) | H4: =VLOOKUP($A4,'fichier de base'!$A$903:$E$1105,5,) -> -560.58
A5: 202230 | B5: 9990 | C5: BRUT | D5: -803.57 | E5: accident du travail | F5: =VLOOKUP($A5,'fichier de base'!$A$216:$E$427,5,FALSE) -> 2.6 | G5: =VLOOKUP($A5,'fichier de base'!$A$903:$E$1105,3,) -> PAS (taux personnalisé) | H5: =VLOOKUP($A5,'fichier de base'!$A$903:$E$1105,5,) -> -1727.11
A6: 201874 | B6: 9990 | C6: BRUT | D6: 5701 | E6: accident du travail | F6: =VLOOKUP($A6,'fichier de base'!$A$216:$E$427,5,FALSE) -> 2.6 | G6: =VLOOKUP($A6,'fichier de base'!$A$903:$E$1105,3,) -> PAS (taux personnalisé) | H6: =VLOOKUP($A6,'fichier de base'!$A$903:$E$1105,5,) -> -4628.22
A7: 200027 | B7: 9990 | C7: BRUT | D7: 1364.11 | E7: accident du travail | F7: =VLOOKUP($A7,'fichier de base'!$A$216:$E$427,5,FALSE) -> 2.6 | G7: =VLOOKUP($A7,'fichier de base'!$A$903:$E$1105,3,) -> PAS (taux personnalisé) | H7: =VLOOKUP($A7,'fichier de base'!$A$903:$E$1105,5,) -> -911.01
A8: 200035 | B8: 9990 | C8: BRUT | D8: 2724.82 | E8: accident du travail | F8: =VLOOKUP($A8,'fichier de base'!$A$216:$E$427,5,FALSE) -> 2.6 | G8: =VLOOKUP($A8,'fichier de base'!$A$903:$E$1105,3,) -> PAS (taux personnalisé) | H8: =VLOOKUP($A8,'fichier de base'!$A$903:$E$1105,5,) -> -1967.03
A9: 202431 | B9: 9990 | C9: BRUT | D9: 2011.1 | E9: accident du travail | F9: =VLOOKUP($A9,'fichier de base'!$A$216:$E$427,5,FALSE) -> 0.72 | G9: =VLOOKUP($A9,'fichier de base'!$A$903:$E$1105,3,) -> PAS (taux personnalisé) | H9: =VLOOKUP($A9,'fichier de base'!$A$903:$E$1105,5,) -> -1463
A10: 202375 | B10: 9990 | C10: BRUT | D10: 2755.41 | E10: accident du travail | F10: =VLOOKUP($A10,'fichier de base'!$A$216:$E$427,5,FALSE) -> 2.6 | G10: =VLOOKUP($A10,'fichier de base'!$A$903:$E$1105,3,) -> PAS (taux personnalisé) | H10: =VLOOKUP($A10,'fichier de base'!$A$903:$E$1105,5,) -> -1637.61
A11: 202074 | B11: 9990 | C11: BRUT | D11: 5160 | E11: accident du travail | F11: =VLOOKUP($A11,'fichier de base'!$A$216:$E$427,5,FALSE) -> 2.6 | G11: =VLOOKUP($A11,'fichier de base'!$A$903:$E$1105,3,) -> PAS (taux personnalisé) | H11: =VLOOKUP($A11,'fichier de base'!$A$903:$E$1105,5,) -> -4191.39
A12: 200048 | B12: 9990 | C12: BRUT | D12: 1205.92 | E12: accident du travail | F12: =VLOOKUP($A12,'fichier de base'!$A$216:$E$427,5,FALSE) -> 2.6 | G12: =VLOOKUP($A12,'fichier de base'!$A$903:$E$1105,3,) -> PAS (taux personnalisé) | H12: =VLOOKUP($A12,'fichier de base'!$A$903:$E$1105,5,) -> -1001.47
A13: 201685 | B13: 9990 | C13: BRUT | D13: 1285.74 | E13: accident du travail | F13: =VLOOKUP($A13,'fichier de base'!$A$216:$E$427,5,FALSE) -> 2.6 | G13: =VLOOKUP($A13,'fichier de base'!$A$903:$E$1105,3,) -> PAS (taux personnalisé) | H13: =VLOOKUP($A13,'fichier de base'!$A$903:$E$1105,5,) -> -838.99
... A45: 202222 | B45: 9990 | C45: BRUT | D45: 1897.87 | E45: accident du travail | F45: =VLOOKUP($A45,'fichier de base'!$A$216:$E$427,5,FALSE) -> 2.6 | G45: =VLOOKUP($A45,'fichier de base'!$A$903:$E$1105,3,) -> PAS (taux personnalisé) | H45: =VLOOKUP($A45,'fichier de base'!$A$903:$E$1105,5,) -> -1389.43
A46: 200244 | B46: 9990 | C46: BRUT | E46: accident du travail | F46: =VLOOKUP($A46,'fichier de base'!$A$216:$E$427,5,FALSE) -> 2.6 | G46: =VLOOKUP($A46,'fichier de base'!$A$903:$E$1105,3,) -> PAS (taux personnalisé) | H46: =VLOOKUP($A46,'fichier de base'!$A$903:$E$1105,5,) -> 0
A47: 202342 | B47: 9990 | C47: BRUT | D47: 2521.66 | E47: accident du travail | F47: =VLOOKUP($A47,'fichier de base'!$A$216:$E$427,5,FALSE) -> 2.6 | G47: =VLOOKUP($A47,'fichier de base'!$A$903:$E$1105,3,) -> PAS (taux personnalisé) | H47: =VLOOKUP($A47,'fichier de base'!$A$903:$E$1105,5,) -> -1792.97
A48: 202588 | B48: 9990 | C48: BRUT | D48: 2092.22 | E48: accident du travail | F48: =VLOOKUP($A48,'fichier de base'!$A$216:$E$427,5,FALSE) -> 2.6 | G48: =VLOOKUP($A48,'fichier de base'!$A$903:$E$1105,3,) -> PAS (taux personnalisé) | H48: =VLOOKUP($A48,'fichier de base'!$A$903:$E$1105,5,) -> -1522.4
A49: 201756 | B49: 9990 | C49: BRUT | D49: 1579.49 | E49: accident du travail | F49: =VLOOKUP($A49,'fichier de base'!$A$216:$E$427,5,FALSE) -> 2.6 | G49: =VLOOKUP($A49,'fichier de base'!$A$903:$E$1105,3,) -> PAS (taux personnalisé) | H49: =VLOOKUP($A49,'fichier de base'!$A$903:$E$1105,5,) -> -978.63
A50: 201998 | B50: 9990 | C50: BRUT | D50: 1669.23 | E50: accident du travail | F50: =VLOOKUP($A50,'fichier de base'!$A$216:$E$427,5,FALSE) -> 0.72 | G50: =VLOOKUP($A50,'fichier de base'!$A$903:$E$1105,3,) -> PAS (taux personnalisé) | H50: =VLOOKUP($A50,'fichier de base'!$A$903:$E$1105,5,) -> -1357.5
A51: 200259 | B51: 9990 | C51: BRUT | D51: 648.84 | E51: accident du travail | F51: =VLOOKUP($A51,'fichier de base'!$A$216:$E$427,5,FALSE) -> 2.6 | G51: =VLOOKUP($A51,'fichier de base'!$A$903:$E$1105,3,) -> PAS (taux personnalisé) | H51: =VLOOKUP($A51,'fichier de base'!$A$903:$E$1105,5,) -> -352.28
A52: 202343 | B52: 9990 | C52: BRUT | D52: 1939.92 | E52: accident du travail | F52: =VLOOKUP($A52,'fichier de base'!$A$216:$E$427,5,FALSE) -> 2.6 | G52: =VLOOKUP($A52,'fichier de base'!$A$903:$E$1105,3,) -> PAS (taux personnalisé) | H52: =VLOOKUP($A52,'fichier de base'!$A$903:$E$1105,5,) -> -1579.15
A53: 200267 | B53: 9990 | C53: BRUT | D53: 1456 | E53: accident du travail | F53: =VLOOKUP($A53,'fichier de base'!$A$216:$E$427,5,FALSE) -> 2.6 | G53: =VLOOKUP($A53,'fichier de base'!$A$903:$E$1105,3,) -> PAS (taux personnalisé) | H53: =VLOOKUP($A53,'fichier de base'!$A$903:$E$1105,5,) -> -1002.35
A54: 202254 | B54: 9990 | C54: BRUT | D54: 1144.45 | E54: accident du travail | F54: =VLOOKUP($A54,'fichier de base'!$A$216:$E$427,5,FALSE) -> 2.6 | G54: =VLOOKUP($A54,'fichier de base'!$A$903:$E$1105,3,) -> PAS (taux personnalisé) | H54: =VLOOKUP($A54,'fichier de base'!$A$903:$E$1105,5,) -> -732.14
A55: 200276 | B55: 9990 | C55: BRUT | D55: 734.4 | E55: accident du travail | F55: =VLOOKUP($A55,'fichier de base'!$A$216:$E$427,5,FALSE) -> 2.6 | G55: =VLOOKUP($A55,'fichier de base'!$A$903:$E$1105,3,) -> PAS (taux personnalisé) | H55: =VLOOKUP($A55,'fichier de base'!$A$903:$E$1105,5,) -> -426.16
A56: 202590 | B56: 9990 | C56: BRUT | D56: 1783.65 | E56: accident du travail | F56: =VLOOKUP($A56,'fichier de base'!$A$216:$E$427,5,FALSE) -> 2.6 | G56: =VLOOKUP($A56,'fichier de base'!$A$903:$E$1105,3,) -> PAS (taux personnalisé) | H56: =VLOOKUP($A56,'fichier de base'!$A$903:$E$1105,5,) -> -1302.63
A57: 200277 | B57: 9990 | C57: BRUT | D57: 1221.58 | E57: accident du travail | F57: =VLOOKUP($A57,'fichier de base'!$A$216:$E$427,5,FALSE) -> 2.6 | G57: =VLOOKUP($A57,'fichier de base'!$A$903:$E$1105,3,) -> PAS (taux personnalisé) | H57: =VLOOKUP($A57,'fichier de base'!$A$903:$E$1105,5,) -> -834.02
A58: 202423 | B58: 9990 | C58: BRUT | D58: 1943.51 | E58: accident du travail | F58: =VLOOKUP($A58,'fichier de base'!$A$216:$E$427,5,FALSE) -> 2.6 | G58: =VLOOKUP($A58,'fichier de base'!$A$903:$E$1105,3,) -> PAS (taux personnalisé) | H58: =VLOOKUP($A58,'fichier de base'!$A$903:$E$1105,5,) -> -1413.54
... A215: 201177 | B215: 9990 | C215: BRUT | D215: 766.86 | E215: accident du travail | F215: =VLOOKUP($A215,'fichier de base'!$A$216:$E$427,5,FALSE) -> 2.6 | G215: =VLOOKUP($A215,'fichier de base'!$A$903:$E$1105,3,) -> PAS (taux personnalisé) | H215: =VLOOKUP($A215,'fichier de base'!$A$903:$E$1105,5,) -> -454.16
