Workbook

Sheet MARCHE
E3: Key | F3: Regroupement Mercure | G3: Market | H3: Super Market | I3: Responsable
E4: =G4&H4 -> AMERIQUEAMERIQUES | F4: AMERIQUE CA -AMC | G4: AMERIQUE | H4: AMERIQUES | I4: =VLOOKUP(ClientMercure[[#This Row],[Key]],'Liste Responsable TAD'!$A$4:$G$15,4,0) -> PERSONNE 9
E5: =G5&H5 -> AMERIQUEAMERIQUES | F5: AMERICA DUTY FREE -AMD | G5: AMERIQUE | H5: AMERIQUES | I5: =VLOOKUP(ClientMercure[[#This Row],[Key]],'Liste Responsable TAD'!$A$4:$G$15,4,0) -> PERSONNE 9
E6: =G6&H6 -> AMERIQUEAMERIQUES | F6: AMERICA CONTRACTS -AMH | G6: AMERIQUE | H6: AMERIQUES | I6: =VLOOKUP(ClientMercure[[#This Row],[Key]],'Liste Responsable TAD'!$A$4:$G$15,4,0) -> PERSONNE 9
E7: =G7&H7 -> AMERIQUEAMERIQUES | F7: HERMES OF PARIS USA RETAIL -HA | G7: AMERIQUE | H7: AMERIQUES | I7: =VLOOKUP(ClientMercure[[#This Row],[Key]],'Liste Responsable TAD'!$A$4:$G$15,4,0) -> PERSONNE 9
E8: =G8&H8 -> AMERIQUEAMERIQUES | F8: SOUTHAM LM -HC | G8: AMERIQUE | H8: AMERIQUES | I8: =VLOOKUP(ClientMercure[[#This Row],[Key]],'Liste Responsable TAD'!$A$4:$G$15,4,0) -> PERSONNE 9
E9: =G9&H9 -> AMERIQUEAMERIQUES | F9: MEXICO LOCAL MARKET -HD | G9: AMERIQUE | H9: AMERIQUES | I9: =VLOOKUP(ClientMercure[[#This Row],[Key]],'Liste Responsable TAD'!$A$4:$G$15,4,0) -> PERSONNE 9
E10: =G10&H10 -> AMERIQUEAMERIQUES | F10: ARGENTINA LOCAL MARKET -HE | G10: AMERIQUE | H10: AMERIQUES | I10: =VLOOKUP(ClientMercure[[#This Row],[Key]],'Liste Responsable TAD'!$A$4:$G$15,4,0) -> PERSONNE 9
E11: =G11&H11 -> AMERIQUEAMERIQUES | F11: BRAZIL LOCAL MARKET -HF | G11: AMERIQUE | H11: AMERIQUES | I11: =VLOOKUP(ClientMercure[[#This Row],[Key]],'Liste Responsable TAD'!$A$4:$G$15,4,0) -> PERSONNE 9
E12: =G12&H12 -> AMERIQUEAMERIQUES | F12: GRUPO WISA -HH | G12: AMERIQUE | H12: AMERIQUES | I12: =VLOOKUP(ClientMercure[[#This Row],[Key]],'Liste Responsable TAD'!$A$4:$G$15,4,0) -> PERSONNE 9
E13: =G13&H13 -> AMERIQUEAMERIQUES | F13: CENTAM LM -HJ | G13: AMERIQUE | H13: AMERIQUES | I13: =VLOOKUP(ClientMercure[[#This Row],[Key]],'Liste Responsable TAD'!$A$4:$G$15,4,0) -> PERSONNE 9
E14: =G14&H14 -> AMERIQUEAMERIQUES | F14: MAGH USA (HOP WHS) -HL | G14: AMERIQUE | H14: AMERIQUES | I14: =VLOOKUP(ClientMercure[[#This Row],[Key]],'Liste Responsable TAD'!$A$4:$G$15,4,0) -> PERSONNE 9
E15: =G15&H15 -> AMERIQUEAMERIQUES | F15: CARRIBBEAN -IC | G15: AMERIQUE | H15: AMERIQUES | I15: =VLOOKUP(ClientMercure[[#This Row],[Key]],'Liste Responsable TAD'!$A$4:$G$15,4,0) -> PERSONNE 9
... E78: =G78&H78 -> MOPOMOPO | F78: LEBANON -ES | G78: MOPO | H78: MOPO | I78: =VLOOKUP(ClientMercure[[#This Row],[Key]],'Liste Responsable TAD'!$A$4:$G$15,4,0) -> PERSONNE 2

Sheet Product List
B3: Nbre de Produit à forecaster | D3: Premier MOIS FCST
B4: 10 | D4: 43040
B10: CLIENT MERCURE | C10: Market | D10: Super Market | E10: SKU CODE | F10: NAME FR | G10: NAME EN | H10: BNPE/CEDF | I10: DESCRIPTION | J10: PRICE (indicative) | K10: MAD | L10: =D4 -> 43040 | M10: =EDATE(L10,1) -> 43070 | N10: =EDATE(M10,1) -> 43101 | O10: =EDATE(N10,1) -> 43132 | P10: =EDATE(O10,1) -> 43160 | Q10: =EDATE(P10,1) -> 43191 | R10: =EDATE(Q10,1) -> 43221 | S10: =EDATE(R10,1) -> 43252 | T10: =EDATE(S10,1) -> 43282 | ... Z10: =EDATE(Y10,1) -> 43466 | AA10: TOTAL
E11: Code 1 | F11: NOM 1 | G11: NAME 1 | H11: BNPE 1 | I11: Description 1 | J11: Price 1 | K11: DATE 1
E12: Code 2 | F12: NOM 2 | G12: NAME 2 | H12: BNPE 2 | I12: Description 2 | J12: Price 2 | K12: DATE 2
E13: Code 3 | F13: NOM 3 | G13: NAME 3 | H13: BNPE 3 | I13: Description 3 | J13: Price 3 | K13: DATE 3
E14: Code 4 | F14: NOM 4 | G14: NAME 4 | H14: BNPE 4 | I14: Description 4 | J14: Price 4 | K14: DATE 4
E15: Code 5 | F15: NOM 5 | G15: NAME 5 | H15: BNPE 5 | I15: Description 5 | J15: Price 5 | K15: DATE 5

Sheet RESULTAT
B10: CLIENT MERCURE | C10: Market | D10: Super Market | E10: SKU CODE | F10: NAME FR | G10: NAME EN | H10: BNPE/CEDF | I10: DESCRIPTION | J10: PRICE (indicative) | K10: MAD | L10: =D4 -> 0 | M10: =EDATE(L10,1) -> 31 | N10: =EDATE(M10,1) -> 59 | O10: =EDATE(N10,1) -> 88 | P10: =EDATE(O10,1) -> 119 | Q10: =EDATE(P10,1) -> 149 | R10: =EDATE(Q10,1) -> 180 | S10: =EDATE(R10,1) -> 210 | T10: =EDATE(S10,1) -> 241 | ... Z10: =EDATE(Y10,1) -> 425 | AA10: TOTAL

Sheet Exemple resultat espèré
B10: CLIENT MERCURE | C10: Market | D10: Super Market | E10: SKU CODE | F10: NAME FR | G10: NAME EN | H10: BNPE/CEDF | I10: DESCRIPTION | J10: PRICE (indicative) | K10: MAD | L10: =D4 -> 0 | M10: =EDATE(L10,1) -> 31 | N10: =EDATE(M10,1) -> 59 | O10: =EDATE(N10,1) -> 88 | P10: =EDATE(O10,1) -> 119 | Q10: =EDATE(P10,1) -> 149 | R10: =EDATE(Q10,1) -> 180 | S10: =EDATE(R10,1) -> 210 | T10: =EDATE(S10,1) -> 241 | ... Z10: =EDATE(Y10,1) -> 425 | AA10: TOTAL
B11: AMERIQUE CA -AMC | C11: AMERIQUE | D11: AMERIQUES | E11: Code 1 | F11: NOM 1 | G11: NAME 1 | H11: BNPE 1 | I11: Description 1 | J11: Price 1 | K11: DATE 1
B12: AMERIQUE CA -AMC | C12: AMERIQUE | D12: AMERIQUES | E12: Code 2 | F12: NOM 2 | G12: NAME 2 | H12: BNPE 2 | I12: Description 2 | J12: Price 2 | K12: DATE 2
B13: AMERIQUE CA -AMC | C13: AMERIQUE | D13: AMERIQUES | E13: Code 3 | F13: NOM 3 | G13: NAME 3 | H13: BNPE 3 | I13: Description 3 | J13: Price 3 | K13: DATE 3
B14: AMERIQUE CA -AMC | C14: AMERIQUE | D14: AMERIQUES | E14: Code 4 | F14: NOM 4 | G14: NAME 4 | H14: BNPE 4 | I14: Description 4 | J14: Price 4 | K14: DATE 4
B15: AMERIQUE CA -AMC | C15: AMERIQUE | D15: AMERIQUES | E15: Code 5 | F15: NOM 5 | G15: NAME 5 | H15: BNPE 5 | I15: Description 5 | J15: Price 5 | K15: DATE 5
B16: AMERICA DUTY FREE -AMD | C16: AMERIQUE | D16: AMERIQUES | E16: Code 1 | F16: NOM 1 | G16: NAME 1 | H16: BNPE 1 | I16: Description 1 | J16: Price 1 | K16: DATE 1
B17: AMERICA DUTY FREE -AMD | C17: AMERIQUE | D17: AMERIQUES | E17: Code 2 | F17: NOM 2 | G17: NAME 2 | H17: BNPE 2 | I17: Description 2 | J17: Price 2 | K17: DATE 2
B18: AMERICA DUTY FREE -AMD | C18: AMERIQUE | D18: AMERIQUES | E18: Code 3 | F18: NOM 3 | G18: NAME 3 | H18: BNPE 3 | I18: Description 3 | J18: Price 3 | K18: DATE 3
B19: AMERICA DUTY FREE -AMD | C19: AMERIQUE | D19: AMERIQUES | E19: Code 4 | F19: NOM 4 | G19: NAME 4 | H19: BNPE 4 | I19: Description 4 | J19: Price 4 | K19: DATE 4
B20: AMERICA DUTY FREE -AMD | C20: AMERIQUE | D20: AMERIQUES | E20: Code 5 | F20: NOM 5 | G20: NAME 5 | H20: BNPE 5 | I20: Description 5 | J20: Price 5 | K20: DATE 5
E22: ect …

Sheet Liste Responsable TAD
A4: Key | B4: Market | C4: Super Market | D4: Responsible | E4: TAB Name | F4: COMPILED O/N | G4: TTL
A5: =B5&C5 -> ASIEASIE | B5: ASIE | C5: ASIE | D5: PERSONNE 1 | E5: TAD ASIE | F5: N | G5: =SUMIF(MARCHE!$I$3:$I$78,'Liste Responsable TAD'!D5,MARCHE!$J$3:$J$78) -> 0
A6: =B6&C6 -> MOPOMOPO | B6: MOPO | C6: MOPO | D6: PERSONNE 2 | E6: TAD MOPO | F6: N | G6: =SUMIF(MARCHE!$I$3:$I$78,'Liste Responsable TAD'!D6,MARCHE!$J$3:$J$78) -> 0
A7: =B7&C7 -> CANADAAMERIQUES | B7: CANADA | C7: AMERIQUES | D7: PERSONNE 3 | E7: TAD CANADA | F7: N | G7: =SUMIF(MARCHE!$I$3:$I$78,'Liste Responsable TAD'!D7,MARCHE!$J$3:$J$78) -> 0
A8: =B8&C8 -> FR/BNLFR/BNL | B8: FR/BNL | C8: FR/BNL | D8: PERSONNE 4 | E8: TAD FR BNL | F8: N | G8: =SUMIF(MARCHE!$I$3:$I$78,'Liste Responsable TAD'!D8,MARCHE!$J$3:$J$78) -> 0
A9: =B9&C9 -> EUROPE TREUR/AFR | B9: EUROPE TR | C9: EUR/AFR | D9: PERSONNE 5 | E9: TAD EUROPE TR | F9: N | G9: =SUMIF(MARCHE!$I$3:$I$78,'Liste Responsable TAD'!D9,MARCHE!$J$3:$J$78) -> 0
A10: =B10&C10 -> BU NORDEUR/AFR | B10: BU NORD | C10: EUR/AFR | D10: PERSONNE 6 | E10: TAD BU NORD | F10: N | G10: =SUMIF(MARCHE!$I$3:$I$78,'Liste Responsable TAD'!D10,MARCHE!$J$3:$J$78) -> 0
A11: =B11&C11 -> BU SUDEUR/AFR | B11: BU SUD | C11: EUR/AFR | D11: PERSONNE 7 | E11: TAD BU SUD | F11: N | G11: =SUMIF(MARCHE!$I$3:$I$78,'Liste Responsable TAD'!D11,MARCHE!$J$3:$J$78) -> 0
A12: =B12&C12 -> BPI USAMERIQUES | B12: BPI US | C12: AMERIQUES | D12: PERSONNE 8 | E12: TAD BPI | F12: N | G12: =SUMIF(MARCHE!$I$3:$I$78,'Liste Responsable TAD'!D12,MARCHE!$J$3:$J$78) -> 0
A13: =B13&C13 -> AMERIQUEAMERIQUES | B13: AMERIQUE | C13: AMERIQUES | D13: PERSONNE 9 | E13: TAD AMERIQUES | F13: N | G13: =SUMIF(MARCHE!$I$3:$I$78,'Liste Responsable TAD'!D13,MARCHE!$J$3:$J$78) -> 0
A14: =B14&C14 -> HotelEUR/AFR | B14: Hotel | C14: EUR/AFR | D14: PERSONNE 10 | E14: TAD Europe Hotel | F14: N | G14: =SUMIF(MARCHE!$I$3:$I$78,'Liste Responsable TAD'!D14,MARCHE!$J$3:$J$78) -> 0
A15: =B15&C15 -> UKEUR/AFR | B15: UK | C15: EUR/AFR | D15: PERSONNE 11 | E15: TAD UK | F15: N | G15: =SUMIF(MARCHE!$I$3:$I$78,'Liste Responsable TAD'!D15,MARCHE!$J$3:$J$78) -> 0
A21: Zone | B21: Market
A22: AMERIQUE | B22: AMERIQUES
A23: ASIE | B23: ASIE
A24: BPI US | B24: AMERIQUES
A25: BU NORD | B25: EUR/AFR
A26: BU SUD | B26: EUR/AFR
A27: CANADA | B27: AMERIQUES
A28: EUROPE TR | B28: EUR/AFR
A29: FR/BNL | B29: FR/BNL
A30: MOPO | B30: MOPO
A31: UK | B31: EUR/AFR

Sheet TAD UK
E3: TURN AROUND DOCUMENT
E5: Due Date : | F5: 42993
B7: CLIENT MERCURE | C7: Market | D7: Super Market | E7: SKU CODE | F7: NAME FR | G7: NAME EN | H7: BNPE/CEDF | I7: DESCRIPTION | J7: PRICE (indicative) | K7: MAD | L7: 43009 | M7: 43040 | N7: 43070 | O7: 43101 | P7: 43132 | Q7: 43160 | R7: 43191 | S7: 43221 | T7: 43252 | U7: 43282 | V7: 43313 | W7: 43344 | X7: 43374 | Y7: 43405 | Z7: 43435 | AA7: TOTAL

Sheet TAD Europe Hotel
E3: TURN AROUND DOCUMENT
E5: Due Date : | F5: 42993
B7: CLIENT MERCURE | C7: Market | D7: Super Market | E7: SKU CODE | F7: NAME FR | G7: NAME EN | H7: BNPE/CEDF | I7: DESCRIPTION | J7: PRICE (indicative) | K7: MAD | L7: 43009 | M7: 43040 | N7: 43070 | O7: 43101 | P7: 43132 | Q7: 43160 | R7: 43191 | S7: 43221 | T7: 43252 | U7: 43282 | V7: 43313 | W7: 43344 | X7: 43374 | Y7: 43405 | Z7: 43435 | AA7: TOTAL

Sheet TAD MOPO
E3: TURN AROUND DOCUMENT
E5: Due Date : | F5: 42993
B7: CLIENT MERCURE | C7: Market | D7: Super Market | E7: SKU CODE | F7: NAME FR | G7: NAME EN | H7: BNPE/CEDF | I7: DESCRIPTION | J7: PRICE (indicative) | K7: MAD | L7: 43009 | M7: 43040 | N7: 43070 | O7: 43101 | P7: 43132 | Q7: 43160 | R7: 43191 | S7: 43221 | T7: 43252 | U7: 43282 | V7: 43313 | W7: 43344 | X7: 43374 | Y7: 43405 | Z7: 43435 | AA7: TOTAL

Sheet TAD FR BNL
E3: TURN AROUND DOCUMENT
E5: Due Date : | F5: 42993
B7: CLIENT MERCURE | C7: Market | D7: Super Market | E7: SKU CODE | F7: NAME FR | G7: NAME EN | H7: BNPE/CEDF | I7: DESCRIPTION | J7: PRICE (indicative) | K7: MAD | L7: 43009 | M7: 43040 | N7: 43070 | O7: 43101 | P7: 43132 | Q7: 43160 | R7: 43191 | S7: 43221 | T7: 43252 | U7: 43282 | V7: 43313 | W7: 43344 | X7: 43374 | Y7: 43405 | Z7: 43435 | AA7: TOTAL

Sheet TAD EUROPE TR
E3: TURN AROUND DOCUMENT
E5: Due Date : | F5: 42993
B7: CLIENT MERCURE | C7: Market | D7: Super Market | E7: SKU CODE | F7: NAME FR | G7: NAME EN | H7: BNPE/CEDF | I7: DESCRIPTION | J7: PRICE (indicative) | K7: MAD | L7: 43009 | M7: 43040 | N7: 43070 | O7: 43101 | P7: 43132 | Q7: 43160 | R7: 43191 | S7: 43221 | T7: 43252 | U7: 43282 | V7: 43313 | W7: 43344 | X7: 43374 | Y7: 43405 | Z7: 43435 | AA7: TOTAL

Sheet TAD CANADA
E3: TURN AROUND DOCUMENT
E5: Due Date : | F5: 42993
B7: CLIENT MERCURE | C7: Market | D7: Super Market | E7: SKU CODE | F7: NAME FR | G7: NAME EN | H7: BNPE/CEDF | I7: DESCRIPTION | J7: PRICE (indicative) | K7: MAD | L7: 43009 | M7: 43040 | N7: 43070 | O7: 43101 | P7: 43132 | Q7: 43160 | R7: 43191 | S7: 43221 | T7: 43252 | U7: 43282 | V7: 43313 | W7: 43344 | X7: 43374 | Y7: 43405 | Z7: 43435 | AA7: TOTAL

Sheet TAD BU SUD
E3: TURN AROUND DOCUMENT
E5: Due Date : | F5: 42993
B7: CLIENT MERCURE | C7: Market | D7: Super Market | E7: SKU CODE | F7: NAME FR | G7: NAME EN | H7: BNPE/CEDF | I7: DESCRIPTION | J7: PRICE (indicative) | K7: MAD | L7: 43009 | M7: 43040 | N7: 43070 | O7: 43101 | P7: 43132 | Q7: 43160 | R7: 43191 | S7: 43221 | T7: 43252 | U7: 43282 | V7: 43313 | W7: 43344 | X7: 43374 | Y7: 43405 | Z7: 43435 | AA7: TOTAL

Sheet TAD BU NORD
E3: TURN AROUND DOCUMENT
E5: Due Date : | F5: 42993
B7: CLIENT MERCURE | C7: Market | D7: Super Market | E7: SKU CODE | F7: NAME FR | G7: NAME EN | H7: BNPE/CEDF | I7: DESCRIPTION | J7: PRICE (indicative) | K7: MAD | L7: 43009 | M7: 43040 | N7: 43070 | O7: 43101 | P7: 43132 | Q7: 43160 | R7: 43191 | S7: 43221 | T7: 43252 | U7: 43282 | V7: 43313 | W7: 43344 | X7: 43374 | Y7: 43405 | Z7: 43435 | AA7: TOTAL

Sheet TAD BPI
E3: TURN AROUND DOCUMENT
E5: Due Date : | F5: 42993
B7: CLIENT MERCURE | C7: Market | D7: Super Market | E7: SKU CODE | F7: NAME FR | G7: NAME EN | H7: BNPE/CEDF | I7: DESCRIPTION | J7: PRICE (indicative) | K7: MAD | L7: 43009 | M7: 43040 | N7: 43070 | O7: 43101 | P7: 43132 | Q7: 43160 | R7: 43191 | S7: 43221 | T7: 43252 | U7: 43282 | V7: 43313 | W7: 43344 | X7: 43374 | Y7: 43405 | Z7: 43435 | AA7: TOTAL

Sheet TAD ASIE
E3: TURN AROUND DOCUMENT
E5: Due Date : | F5: 42993
B7: CLIENT MERCURE | C7: Market | D7: Super Market | E7: SKU CODE | F7: NAME FR | G7: NAME EN | H7: BNPE/CEDF | I7: DESCRIPTION | J7: PRICE (indicative) | K7: MAD | L7: 43009 | M7: 43040 | N7: 43070 | O7: 43101 | P7: 43132 | Q7: 43160 | R7: 43191 | S7: 43221 | T7: 43252 | U7: 43282 | V7: 43313 | W7: 43344 | X7: 43374 | Y7: 43405 | Z7: 43435 | AA7: TOTAL

Sheet TAD AMERIQUES
E3: TURN AROUND DOCUMENT
E5: Due Date : | F5: 42993
B7: CLIENT MERCURE | C7: Market | D7: Super Market | E7: SKU CODE | F7: NAME FR | G7: NAME EN | H7: BNPE/CEDF | I7: DESCRIPTION | J7: PRICE (indicative) | K7: MAD | L7: 43009 | M7: 43040 | N7: 43070 | O7: 43101 | P7: 43132 | Q7: 43160 | R7: 43191 | S7: 43221 | T7: 43252 | U7: 43282 | V7: 43313 | W7: 43344 | X7: 43374 | Y7: 43405 | Z7: 43435 | AA7: TOTAL
