Workbook

Sheet Sheet3
B1: W07 | C1: LINE | D1: Number of week in BACKLOG
B2: {=_xlfn.UNIQUE(_xlfn._xlws.FILTER(Sheet1!A:A,Sheet1!B:B=Sheet3!$B$1))} -> 0072117772/50 | C2: =VLOOKUP(B2,Sheet1!$A:$W,3,0) -> CESL | D2: =COUNTIF(Sheet1!A:A,Sheet3!B2) -> 1
B3: 0072117956/10 | C3: =VLOOKUP(B3,Sheet1!$A:$W,3,0) -> CESL | D3: =COUNTIF(Sheet1!A:A,Sheet3!B3) -> 1
B4: 0072119876/30 | C4: =VLOOKUP(B4,Sheet1!$A:$W,3,0) -> CESL | D4: =COUNTIF(Sheet1!A:A,Sheet3!B4) -> 2
B5: 0072120034/20 | C5: =VLOOKUP(B5,Sheet1!$A:$W,3,0) -> CESL | D5: =COUNTIF(Sheet1!A:A,Sheet3!B5) -> 1
B6: 0072120038/10 | C6: =VLOOKUP(B6,Sheet1!$A:$W,3,0) -> CESL | D6: =COUNTIF(Sheet1!A:A,Sheet3!B6) -> 1
B7: 0072120182/10 | C7: =VLOOKUP(B7,Sheet1!$A:$W,3,0) -> CESL | D7: =COUNTIF(Sheet1!A:A,Sheet3!B7) -> 1
B8: 0030003020/52 | C8: =VLOOKUP(B8,Sheet1!$A:$W,3,0) -> GLA | D8: =COUNTIF(Sheet1!A:A,Sheet3!B8) -> 1
B9: 0030003392/224 | C9: =VLOOKUP(B9,Sheet1!$A:$W,3,0) -> GLA | D9: =COUNTIF(Sheet1!A:A,Sheet3!B9) -> 1
B10: 0030003605/14 | C10: =VLOOKUP(B10,Sheet1!$A:$W,3,0) -> GLA | D10: =COUNTIF(Sheet1!A:A,Sheet3!B10) -> 4
B11: 0030003803/77 | C11: =VLOOKUP(B11,Sheet1!$A:$W,3,0) -> GLA | D11: =COUNTIF(Sheet1!A:A,Sheet3!B11) -> 2
B12: 0030004000/37 | C12: =VLOOKUP(B12,Sheet1!$A:$W,3,0) -> GLA | D12: =COUNTIF(Sheet1!A:A,Sheet3!B12) -> 1
B13: 0030004415/23 | C13: =VLOOKUP(B13,Sheet1!$A:$W,3,0) -> GLA | D13: =COUNTIF(Sheet1!A:A,Sheet3!B13) -> 1
B14: 0030004815/4 | C14: =VLOOKUP(B14,Sheet1!$A:$W,3,0) -> GLA | D14: =COUNTIF(Sheet1!A:A,Sheet3!B14) -> 2
... B80: 02009533/2 | C80: =VLOOKUP(B80,Sheet1!$A:$W,3,0) -> CASH | D80: =COUNTIF(Sheet1!A:A,Sheet3!B80) -> 3

Sheet Sheet2
A3: Row Labels | B3: Count of LINE | C3: Sum of Open [t]
A4: W01 | B4: 57 | C4: 708111
A5: CASH | B5: 37 | C5: 444836
A6: GLA | B6: 20 | C6: 263275
A7: W02 | B7: 101 | C7: 960997
A8: CASH | B8: 77 | C8: 746649
A9: CESL | B9: 5 | C9: 36127
A10: GLA | B10: 19 | C10: 178221
A11: W03 | B11: 126 | C11: 1341321
A12: CASH | B12: 77 | C12: 846368
A13: CESL | B13: 8 | C13: 80871
A14: GLA | B14: 41 | C14: 414082
A15: W04 | B15: 207 | C15: 2043995
... A31: Grand Total | B31: 821 | C31: 8384432

Sheet Sheet1
A1: DISPLAY NAME | B1: WEEK | C1: LINE | D1: Order | E1: Line | F1: from Stock | G1: PIR | H1: Material | I1: Weight [t] | J1: Open [t] | K1: Capacity due date | L1: Lead time | M1: Week | N1: Production due date | O1: Customer due date | P1: Order Weight [t] | Q1: Open [t]2 | R1: Alloy | S1: Gauge | T1: Width | U1: Surface | V1: Coating | W1: Campaign
A2: =D2&"/"&E2 -> 0030004360/36 | B2: W01 | C2: CASH | D2: 0030004360 | E2: 36 | G2: X | H2: 01326546 | I2: 9551 | J2: 9551 | K2: 20.12.2021 | L2: 5 | M2: 202151 | N2: 25.12.2021 | O2: 25.12.2021 | P2: 9000 | Q2: 9000 | R2: 6723LQ | S2: 1150 | T2: 1630 | U2: ED | V2: 700M
A3: =D3&"/"&E3 -> 0030004849/61 | B3: W01 | C3: CASH | D3: 0030004849 | E3: 61 | H3: 01326432 | I3: 9186 | J3: 9186 | K3: 27.12.2021 | L3: 5 | M3: 202152 | N3: 01.01.2022 | O3: 01.01.2022 | P3: 8600 | Q3: 8600 | R3: 0044AU | S3: 1150 | T3: 1570 | U3: ED | V3: 745L | W3: AU - Outer Skin
A4: =D4&"/"&E4 -> 0030006724/10 | B4: W01 | C4: CASH | D4: 0030006724 | E4: 10 | H4: 01353619 | I4: 18727 | J4: 8427 | K4: 27.12.2021 | L4: 5 | M4: 202152 | N4: 01.01.2022 | O4: 01.01.2022 | P4: 16600 | Q4: 16600 | R4: 0044AU | S4: 1000 | T4: 1520 | U4: ED | V4: 751L | W4: AU - Outer Skin
A5: =D5&"/"&E5 -> 0030006822/218 | B5: W01 | C5: CASH | D5: 0030006822 | E5: 218 | H5: 01356868 | I5: 20078 | J5: 8834 | K5: 27.12.2021 | L5: 4 | M5: 202152 | N5: 31.12.2021 | O5: 31.12.2021 | P5: 19000 | Q5: 19000 | R5: 0047AU | S5: 1000 | T5: 1727 | U5: EA | V5: 742L | W5: AU - Outer Skin
A6: =D6&"/"&E6 -> 0030006837/27 | B6: W01 | C6: CASH | D6: 0030006837 | E6: 27 | H6: 01353049 | I6: 27752 | J6: 17484 | K6: 27.12.2021 | L6: 5 | M6: 202152 | N6: 01.01.2022 | O6: 01.01.2022 | P6: 24600 | Q6: 24600 | R6: 0044AU | S6: 1000 | T6: 1520 | U6: ED | V6: 751L | W6: AU - Outer Skin
A7: =D7&"/"&E7 -> 0030007109/34 | B7: W01 | C7: CASH | D7: 0030007109 | E7: 34 | H7: 01360767 | I7: 18727 | J7: 8427 | K7: 20.12.2021 | L7: 5 | M7: 202151 | N7: 25.12.2021 | O7: 25.12.2021 | P7: 16600 | Q7: 16600 | R7: 0044AU | S7: 1000 | T7: 1520 | U7: ED | V7: 751L | W7: AU - Outer Skin
A8: =D8&"/"&E8 -> 0030007126/13 | B8: W01 | C8: CASH | D8: 0030007126 | E8: 13 | H8: 01361677 | I8: 30349 | J8: 11533 | K8: 20.12.2021 | L8: 4 | M8: 202151 | N8: 24.12.2021 | O8: 24.12.2021 | P8: 28500 | Q8: 10805 | R8: 0047AU | S8: 1150 | T8: 1720 | U8: ED | V8: 732L | W8: AU - Outer Skin
A9: =D9&"/"&E9 -> 0030007298/34 | B9: W01 | C9: CASH | D9: 0030007298 | E9: 34 | H9: 01367199 | I9: 19606 | J9: 9215 | K9: 27.12.2021 | L9: 4 | M9: 202152 | N9: 31.12.2021 | O9: 31.12.2021 | P9: 18400 | Q9: 18400 | R9: 0047AU | S9: 1200 | T9: 1673 | U9: ED | V9: 772L | W9: AU - Outer Skin
A10: =D10&"/"&E10 -> 0030007396/20 | B10: W01 | C10: CASH | D10: 0030007396 | E10: 20 | G10: X | H10: 01369799 | I10: 7424 | J10: 7424 | K10: 20.12.2021 | L10: 5 | M10: 202151 | N10: 25.12.2021 | O10: 25.12.2021 | P10: 6300 | Q10: 6300 | R10: 6723LQ | S10: 2000 | T10: 1145 | U10: MF | V10: 801L
A11: =D11&"/"&E11 -> 0030007416/161 | B11: W01 | C11: CASH | D11: 0030007416 | E11: 161 | H11: 01370395 | I11: 8732 | J11: 8732 | K11: 20.12.2021 | L11: 5 | M11: 202151 | N11: 25.12.2021 | O11: 25.12.2021 | P11: 8000 | Q11: 8000 | R11: 0012LQ | S11: 1500 | T11: 1465 | U11: ED | V11: 745L
A12: =D12&"/"&E12 -> 0030007416/162 | B12: W01 | C12: CASH | D12: 0030007416 | E12: 162 | H12: 01370395 | I12: 17464 | J12: 8383 | K12: 20.12.2021 | L12: 5 | M12: 202151 | N12: 25.12.2021 | O12: 25.12.2021 | P12: 16000 | Q12: 7740 | R12: 0012LQ | S12: 1500 | T12: 1465 | U12: ED | V12: 745L
A13: =D13&"/"&E13 -> 0030007740/77 | B13: W01 | C13: CASH | D13: 0030007740 | E13: 77 | H13: 01375565 | I13: 7575 | J13: 7575 | K13: 27.12.2021 | L13: 5 | M13: 202152 | N13: 01.01.2022 | O13: 01.01.2022 | P13: 6500 | Q13: 6500 | R13: 6721LQ | S13: 2500 | T13: 1175 | U13: ED | V13: 701L
A14: =D14&"/"&E14 -> 0030007759/71 | B14: W01 | C14: CASH | D14: 0030007759 | E14: 71 | H14: 01375297 | I14: 75386 | J14: 61817 | K14: 21.12.2021 | L14: 6 | M14: 202151 | N14: 27.12.2021 | O14: 27.12.2021 | P14: 68200 | Q14: 68200 | R14: 0013AU | S14: 1100 | T14: 1120 | U14: EA | V14: 751L | W14: AU - Outer Skin
A15: =D15&"/"&E15 -> 0030007950/76 | B15: W01 | C15: CASH | D15: 0030007950 | E15: 76 | H15: 01382254 | I15: 49787 | J15: 9460 | K15: 20.12.2021 | L15: 5 | M15: 202151 | N15: 25.12.2021 | O15: 25.12.2021 | P15: 46000 | Q15: 46000 | R15: 0013AU | S15: 1150 | T15: 1664 | U15: ET | V15: 707L | W15: AU - Outer Skin
A16: =D16&"/"&E16 -> 0030007962/3 | B16: W01 | C16: CASH | D16: 0030007962 | E16: 3 | H16: 01382647 | I16: 11647 | J16: 11647 | K16: 20.12.2021 | L16: 5 | M16: 202151 | N16: 25.12.2021 | O16: 25.12.2021 | P16: 10500 | Q16: 10500 | R16: 6505LQ | S16: 0.800 | T16: 1905 | U16: ED | V16: 749L
A17: =D17&"/"&E17 -> 0030008001/24 | B17: W01 | C17: CASH | D17: 0030008001 | E17: 24 | H17: 01383554 | I17: 28507 | J17: 18244 | K17: 20.12.2021 | L17: 5 | M17: 202151 | N17: 25.12.2021 | O17: 25.12.2021 | P17: 27300 | Q17: 27300 | R17: 0013AU | S17: 1000 | T17: 1650 | U17: EA | V17: 745L | W17: AU - Outer Skin
A18: =D18&"/"&E18 -> 0072111386/10 | B18: W01 | C18: CASH | D18: 0072111386 | E18: 10 | H18: 01379532 | I18: 10173 | J18: 10173 | K18: 31.12.2021 | L18: 5 | M18: 202152 | N18: 05.01.2022* | O18: 30.08.2021 | P18: 8000 | Q18: 8000 | R18: 0045LQ | S18: 3000 | T18: 1360 | U18: MF | V18: 401L
A19: =D19&"/"&E19 -> 0072113240/30 | B19: W01 | C19: CASH | D19: 0072113240 | E19: 30 | H19: 01380566 | I19: 278022 | J19: 11121 | K19: 22.12.2021 | L19: 4 | M19: 202151 | N19: 26.12.2021* | O19: 11.10.2021 | P19: 260000 | Q19: 10585 | R19: 6508LQ | S19: 0.910 | T19: 1474.2 | U19: MF | V19: 401L
A20: =D20&"/"&E20 -> 0072113719/10 | B20: W01 | C20: CASH | D20: 0072113719 | E20: 10 | H20: 01380820 | I20: 21096 | J20: 6751 | K20: 01.01.2022 | L20: 4 | M20: 202152 | N20: 05.01.2022* | O20: 18.10.2021 | P20: 19720 | Q20: 6300 | R20: 0047AU | S20: 0.950 | T20: 1283 | U20: ED | V20: 411L | W20: AU - Outer Skin
A21: =D21&"/"&E21 -> 0072113720/20 | B21: W01 | C21: CASH | D21: 0072113720 | E21: 20 | H21: 01380822 | I21: 7866 | J21: 7866 | K21: 25.12.2021 | L21: 4 | M21: 202151 | N21: 29.12.2021* | O21: 13.12.2021 | P21: 7500 | Q21: 7500 | R21: 0047AU | S21: 0.950 | T21: 1416 | U21: ED | V21: 411L | W21: AU - Outer Skin
A22: =D22&"/"&E22 -> 0072113721/20 | B22: W01 | C22: CASH | D22: 0072113721 | E22: 20 | H22: 01380831 | I22: 8151 | J22: 8151 | K22: 25.12.2021 | L22: 4 | M22: 202151 | N22: 29.12.2021* | O22: 13.12.2021 | P22: 7500 | Q22: 7500 | R22: 0047AU | S22: 0.950 | T22: 1451 | U22: ED | V22: 411L | W22: AU - Outer Skin
A23: =D23&"/"&E23 -> 0072114828/20 | B23: W01 | C23: CASH | D23: 0072114828 | E23: 20 | H23: 01326968 | I23: 13008 | J23: 13008 | K23: 21.12.2021 | L23: 8 | M23: 202151 | N23: 29.12.2021* | O23: 20.12.2021 | P23: 8128 | Q23: 8128 | R23: 0042LQ | S23: 1500 | T23: 463 | U23: ED | V23: 411L
A24: =D24&"/"&E24 -> 0072114831/30 | B24: W01 | C24: CASH | D24: 0072114831 | E24: 30 | H24: 01329391 | I24: 10270 | J24: 10270 | K24: 01.01.2022 | L24: 5 | M24: 202152 | N24: 06.01.2022* | O24: 01.01.2022 | P24: 9000 | Q24: 9000 | R24: 0042LQ | S24: 1200 | T24: 550 | U24: MF | V24: 410L
A25: =D25&"/"&E25 -> 0072115609/30 | B25: W01 | C25: CASH | D25: 0072115609 | E25: 30 | H25: 01381024 | I25: 9305 | J25: 9305 | K25: 31.12.2021 | L25: 5 | M25: 202152 | N25: 05.01.2022* | O25: 18.10.2021 | P25: 8000 | Q25: 8000 | R25: 0045LQ | S25: 2600 | T25: 1540 | U25: ED | V25: 401L
A26: =D26&"/"&E26 -> 0072115609/10 | B26: W01 | C26: CASH | D26: 0072115609 | E26: 10 | H26: 01376044 | I26: 8456 | J26: 8456 | K26: 25.12.2021 | L26: 6 | M26: 202151 | N26: 31.12.2021* | O26: 18.10.2021 | P26: 8000 | Q26: 8000 | R26: 0045LQ | S26: 3000 | T26: 1560 | U26: MF | V26: 401L
A27: =D27&"/"&E27 -> 0072115617/50 | B27: W01 | C27: CASH | D27: 0072115617 | E27: 50 | H27: 01381024 | I27: 9305 | J27: 9305 | K27: 31.12.2021 | L27: 5 | M27: 202152 | N27: 05.01.2022* | O27: 18.10.2021 | P27: 8000 | Q27: 8000 | R27: 0045LQ | S27: 2600 | T27: 1540 | U27: ED | V27: 401L
A28: =D28&"/"&E28 -> 0072115617/60 | B28: W01 | C28: CASH | D28: 0072115617 | E28: 60 | H28: 01381024 | I28: 9305 | J28: 9305 | K28: 25.12.2021 | L28: 5 | M28: 202151 | N28: 30.12.2021* | O28: 15.11.2021 | P28: 8000 | Q28: 8000 | R28: 0045LQ | S28: 2600 | T28: 1540 | U28: ED | V28: 401L
A29: =D29&"/"&E29 -> 0072115617/20 | B29: W01 | C29: CASH | D29: 0072115617 | E29: 20 | H29: 01376044 | I29: 8456 | J29: 8456 | K29: 01.01.2022 | L29: 6 | M29: 202152 | N29: 07.01.2022* | O29: 15.11.2021 | P29: 8000 | Q29: 8000 | R29: 0045LQ | S29: 3000 | T29: 1560 | U29: MF | V29: 401L
A30: =D30&"/"&E30 -> 0072115617/10 | B30: W01 | C30: CASH | D30: 0072115617 | E30: 10 | H30: 01376044 | I30: 8456 | J30: 8456 | K30: 01.01.2022 | L30: 6 | M30: 202152 | N30: 07.01.2022* | O30: 18.10.2021 | P30: 8000 | Q30: 8000 | R30: 0045LQ | S30: 3000 | T30: 1560 | U30: MF | V30: 401L
A31: =D31&"/"&E31 -> 0072116092/30 | B31: W01 | C31: CASH | D31: 0072116092 | E31: 30 | H31: 01360884 | I31: 9209 | J31: 9209 | K31: 20.12.2021 | L31: 4 | M31: 202151 | N31: 24.12.2021* | O31: 13.12.2021 | P31: 8600 | Q31: 8600 | R31: 0047AU | S31: 1000 | T31: 1790 | U31: ED | V31: 411L | W31: AU - Outer Skin
A32: =D32&"/"&E32 -> 0072116189/20 | B32: W01 | C32: CASH | D32: 0072116189 | E32: 20 | H32: 01374872 | I32: 48136 | J32: 6258 | K32: 02.01.2022 | L32: 5 | M32: 202152 | N32: 07.01.2022* | O32: 10.01.2022 | P32: 45000 | Q32: 5805 | R32: 6508AU | S32: 0.950 | T32: 1283 | U32: ED | V32: 411L | W32: AU - Outer Skin
A33: =D33&"/"&E33 -> 0072116190/20 | B33: W01 | C33: CASH | D33: 0072116190 | E33: 20 | H33: 01374872 | I33: 48136 | J33: 48136 | K33: 01.01.2022 | L33: 5 | M33: 202152 | N33: 06.01.2022* | O33: 17.01.2022 | P33: 45000 | Q33: 45000 | R33: 6508AU | S33: 0.950 | T33: 1283 | U33: ED | V33: 411L | W33: AU - Outer Skin
A34: =D34&"/"&E34 -> 02008941/3 | B34: W01 | C34: CASH | D34: 02008941 | E34: 3 | H34: 01377437 | I34: 9933 | J34: 9933 | K34: 21.12.2021 | L34: 7 | M34: 202151 | N34: 28.12.2021 | O34: 28.12.2021 | P34: 8000 | Q34: 8000 | R34: 0116PQ | S34: 2000 | T34: 1600 | U34: ED | V34: 745L
A35: =D35&"/"&E35 -> 02009224/2 | B35: W01 | C35: CASH | D35: 02009224 | E35: 2 | H35: 01380588 | I35: 4255 | J35: 4255 | K35: 13.12.2021 | L35: 4 | M35: 202150 | N35: 17.12.2021 | O35: 17.12.2021 | P35: 4000 | Q35: 4000 | R35: 0047AU | S35: 1000 | T35: 945 | U35: EA | V35: 744L | W35: AU - Outer Skin
A36: =D36&"/"&E36 -> 02009315/2 | B36: W01 | C36: CASH | D36: 02009315 | E36: 2 | H36: 01381483 | I36: 6728 | J36: 6728 | K36: 01.01.2022 | L36: 4 | M36: 202152 | N36: 05.01.2022 | O36: 05.01.2022 | P36: 6000 | Q36: 6000 | R36: 0047AU | S36: 1100 | T36: 1072 | U36: MF | V36: 701L | W36: AU - Outer Skin
A37: =D37&"/"&E37 -> 02009316/2 | B37: W01 | C37: CASH | D37: 02009316 | E37: 2 | H37: 01381354 | I37: 9972 | J37: 9972 | K37: 20.12.2021 | L37: 4 | M37: 202151 | N37: 24.12.2021 | O37: 24.12.2021 | P37: 9000 | Q37: 9000 | R37: 0047AU | S37: 1000 | T37: 1730 | U37: EA | V37: 744L | W37: AU - Outer Skin
A38: =D38&"/"&E38 -> 02009327/2 | B38: W01 | C38: CASH | D38: 02009327 | E38: 2 | H38: 01381641 | I38: 13783 | J38: 13783 | K38: 31.12.2021 | L38: 5 | M38: 202152 | N38: 05.01.2022 | O38: 05.01.2022 | P38: 12000 | Q38: 12000 | R38: 0042LQ | S38: 0.950 | T38: 1328 | U38: ED | V38: 753L
A39: =D39&"/"&E39 -> 0030002849/159 | B39: W01 | C39: GLA | D39: 0030002849 | E39: 159 | H39: 01325956 | I39: 22482 | J39: 22482 | K39: 21.12.2021 | L39: 1 | M39: 202151 | N39: 22.12.2021 | O39: 22.12.2021 | P39: 21200 | Q39: 21200 | R39: 5437LQ | S39: 1150 | T39: 1970 | U39: ED | V39: 609N | W39: P1 - GBX/E1
A40: =D40&"/"&E40 -> 0030002849/35 | B40: W01 | C40: GLA | D40: 0030002849 | E40: 35 | H40: 01325956 | I40: 33723 | J40: 10454 | K40: 21.12.2021 | L40: 2 | M40: 202151 | N40: 23.12.2021 | O40: 23.12.2021 | P40: 31800 | Q40: 9967 | R40: 5437LQ | S40: 1150 | T40: 1970 | U40: ED | V40: 609N | W40: P1 - GBX/E1
A41: =D41&"/"&E41 -> 0030002849/160 | B41: W01 | C41: GLA | D41: 0030002849 | E41: 160 | H41: 01325956 | I41: 22482 | J41: 10117 | K41: 21.12.2021 | L41: 1 | M41: 202151 | N41: 22.12.2021 | O41: 22.12.2021 | P41: 21200 | Q41: 21200 | R41: 5437LQ | S41: 1150 | T41: 1970 | U41: ED | V41: 609N | W41: P1 - GBX/E1
A42: =D42&"/"&E42 -> 0030003603/15 | B42: W01 | C42: GLA | D42: 0030003603 | E42: 15 | G42: X | H42: 01326128 | I42: 9406 | J42: 1411 | K42: 22.12.2021 | L42: 4 | M42: 202151 | N42: 26.12.2021 | O42: 26.12.2021 | P42: 6800 | Q42: 6800 | R42: 6721LQ | S42: 2500 | T42: 635 | U42: MF | V42: 773Z
A43: =D43&"/"&E43 -> 0030007072/22 | B43: W01 | C43: GLA | D43: 0030007072 | E43: 22 | G43: X | H43: 01360017 | I43: 10923 | J43: 10923 | K43: 21.12.2021 | L43: 2 | M43: 202151 | N43: 23.12.2021 | O43: 23.12.2021 | P43: 10300 | Q43: 10300 | R43: 5437LQ | S43: 1200 | T43: 1875 | U43: MF | V43: 429Z | W43: P1 - GBX/VS
A44: =D44&"/"&E44 -> 0030007199/9 | B44: W01 | C44: GLA | D44: 0030007199 | E44: 9 | H44: 01362696 | I44: 8650 | J44: 8650 | K44: 02.01.2022 | L44: 5 | M44: 202152 | N44: 07.01.2022 | O44: 07.01.2022 | P44: 8200 | Q44: 8200 | R44: 6721LQ | S44: 2000 | T44: 1504 | U44: MF | V44: 773Z
A45: =D45&"/"&E45 -> 0030007353/4 | B45: W01 | C45: GLA | D45: 0030007353 | E45: 4 | H45: 01368253 | I45: 21891 | J45: 11164 | K45: 20.12.2021 | L45: 2 | M45: 202151 | N45: 22.12.2021 | O45: 22.12.2021 | P45: 20200 | Q45: 10243 | R45: 5337LQ | S45: 2500 | T45: 1839 | U45: MF | V45: 468Z | W45: P3 - PT3
A46: =D46&"/"&E46 -> 0030007380/289 | B46: W01 | C46: GLA | D46: 0030007380 | E46: 289 | H46: 01369265 | I46: 41073 | J46: 20537 | K46: 21.12.2021 | L46: 2 | M46: 202151 | N46: 23.12.2021 | O46: 23.12.2021 | P46: 38800 | Q46: 38800 | R46: 5437LQ | S46: 0.850 | T46: 1765 | U46: ED | V46: 688N
A47: =D47&"/"&E47 -> 0030007444/23 | B47: W01 | C47: GLA | D47: 0030007444 | E47: 23 | H47: 01370358 | I47: 18342 | J47: 8988 | K47: 21.12.2021 | L47: 2 | M47: 202151 | N47: 23.12.2021 | O47: 23.12.2021 | P47: 16000 | Q47: 7830 | R47: 5337LQ | S47: 1500 | T47: 1405 | U47: MF | V47: 641N | W47: P3 - PT3/VS
A48: =D48&"/"&E48 -> 0030007587/2 | B48: W01 | C48: GLA | D48: 0030007587 | E48: 2 | H48: 01326456 | I48: 10110 | J48: 10110 | K48: 21.12.2021 | L48: 2 | M48: 202151 | N48: 23.12.2021 | O48: 23.12.2021 | P48: 9000 | Q48: 9000 | R48: 5437LQ | S48: 1500 | T48: 814 | U48: MF | V48: 429Z | W48: P1 - GBX/VS
A49: =D49&"/"&E49 -> 0030007611/6 | B49: W01 | C49: GLA | D49: 0030007611 | E49: 6 | H49: 01367785 | I49: 8584 | J49: 2404 | K49: 21.12.2021 | L49: 2 | M49: 202151 | N49: 23.12.2021 | O49: 23.12.2021 | P49: 6500 | Q49: 1794 | R49: 5437LQ | S49: 1200 | T49: 1180 | U49: MF | V49: 853N
A50: =D50&"/"&E50 -> 0030007889/8 | B50: W01 | C50: GLA | D50: 0030007889 | E50: 8 | H50: 01379671 | I50: 29869 | J50: 29869 | K50: 22.12.2021 | L50: 2 | M50: 202151 | N50: 24.12.2021 | O50: 24.12.2021 | P50: 25500 | Q50: 25500 | R50: 5437LQ | S50: 1000 | T50: 1550 | U50: ED | V50: 694N
A51: =D51&"/"&E51 -> 0030007890/10 | B51: W01 | C51: GLA | D51: 0030007890 | E51: 10 | H51: 01379670 | I51: 70193 | J51: 49837 | K51: 21.12.2021 | L51: 2 | M51: 202151 | N51: 23.12.2021 | O51: 23.12.2021 | P51: 60200 | Q51: 42760 | R51: 5437LQ | S51: 1000 | T51: 1557 | U51: ED | V51: 694N
A52: =D52&"/"&E52 -> 0030007890/22 | B52: W01 | C52: GLA | D52: 0030007890 | E52: 22 | H52: 01379670 | I52: 10027 | J52: 10027 | K52: 21.12.2021 | L52: 2 | M52: 202151 | N52: 23.12.2021 | O52: 23.12.2021 | P52: 8600 | Q52: 8600 | R52: 5437LQ | S52: 1000 | T52: 1557 | U52: ED | V52: 694N
A53: =D53&"/"&E53 -> 0030007890/18 | B53: W01 | C53: GLA | D53: 0030007890 | E53: 18 | H53: 01379670 | I53: 10027 | J53: 10027 | K53: 21.12.2021 | L53: 2 | M53: 202151 | N53: 23.12.2021 | O53: 23.12.2021 | P53: 8600 | Q53: 8600 | R53: 5437LQ | S53: 1000 | T53: 1557 | U53: ED | V53: 694N
A54: =D54&"/"&E54 -> 0030007983/5 | B54: W01 | C54: GLA | D54: 0030007983 | E54: 5 | H54: 01382951 | I54: 9169 | J54: 9169 | K54: 22.12.2021 | L54: 4 | M54: 202151 | N54: 26.12.2021 | O54: 26.12.2021 | P54: 8108 | Q54: 8108 | R54: 6721LQ | S54: 3000 | T54: 1390 | U54: MF | V54: 852N
A55: =D55&"/"&E55 -> 0072115014/40 | B55: W01 | C55: GLA | D55: 0072115014 | E55: 40 | H55: 01374951 | I55: 7292 | J55: 7292 | K55: 21.12.2021 | L55: 2 | M55: 202151 | N55: 23.12.2021* | O55: 06.12.2021 | P55: 6400 | Q55: 6400 | R55: 5437LQ | S55: 1250 | T55: 1280 | U55: ED | V55: 694N
A56: =D56&"/"&E56 -> 02008409/2 | B56: W01 | C56: GLA | D56: 02008409 | E56: 2 | H56: 01370213 | I56: 17913 | J56: 7344 | K56: 20.12.2021 | L56: 5 | M56: 202151 | N56: 25.12.2021 | O56: 25.12.2021 | P56: 9000 | Q56: 9000 | R56: 6721LQ | S56: 3500 | T56: 1200 | U56: MF | V56: 720N
A57: =D57&"/"&E57 -> 02009318/2 | B57: W01 | C57: GLA | D57: 02009318 | E57: 2 | H57: 01380787 | I57: 11235 | J57: 11235 | K57: 21.12.2021 | L57: 6 | M57: 202151 | N57: 27.12.2021 | O57: 27.12.2021 | P57: 9000 | Q57: 9000 | R57: 6508LQ | S57: 3200 | T57: 1720 | U57: MF | V57: 866N
A58: =D58&"/"&E58 -> 02009318/3 | B58: W01 | C58: GLA | D58: 02009318 | E58: 3 | H58: 01380787 | I58: 11235 | J58: 11235 | K58: 21.12.2021 | L58: 6 | M58: 202151 | N58: 27.12.2021 | O58: 27.12.2021 | P58: 9000 | Q58: 9000 | R58: 6508LQ | S58: 3200 | T58: 1720 | U58: MF | V58: 866N
A59: =D59&"/"&E59 -> 0030003946/7 | B59: W02 | C59: CASH | D59: 0030003946 | E59: 7 | H59: 01326650 | I59: 9938 | J59: 9938 | K59: 03.01.2022 | L59: 5 | M59: 202201 | N59: 08.01.2022 | O59: 08.01.2022 | P59: 8900 | Q59: 8900 | R59: 6723LQ | S59: 2500 | T59: 1670 | U59: MF | V59: 420L
A60: =D60&"/"&E60 -> 0030004220/33 | B60: W02 | C60: CASH | D60: 0030004220 | E60: 33 | H60: 01326302 | I60: 8800 | J60: 8800 | K60: 03.01.2022 | L60: 5 | M60: 202201 | N60: 08.01.2022 | O60: 08.01.2022 | P60: 8000 | Q60: 8000 | R60: 6723LQ | S60: 1150 | T60: 1525 | U60: ED | V60: 772L
A61: =D61&"/"&E61 -> 0030004360/39 | B61: W02 | C61: CASH | D61: 0030004360 | E61: 39 | G61: X | H61: 01326546 | I61: 9549 | J61: 9549 | K61: 03.01.2022 | L61: 5 | M61: 202201 | N61: 08.01.2022 | O61: 08.01.2022 | P61: 9000 | Q61: 9000 | R61: 6723LQ | S61: 1150 | T61: 1630 | U61: ED | V61: 700M
A62: =D62&"/"&E62 -> 0030004648/107 | B62: W02 | C62: CASH | D62: 0030004648 | E62: 107 | G62: X | H62: 01326550 | I62: 27358 | J62: 5472 | K62: 03.01.2022 | L62: 5 | M62: 202201 | N62: 08.01.2022 | O62: 08.01.2022 | P62: 18600 | Q62: 18600 | R62: 0013AU | S62: 1100 | T62: 1682 | U62: MF | V62: 803L | W62: AU - Outer Skin
A63: =D63&"/"&E63 -> 0030004680/8 | B63: W02 | C63: CASH | D63: 0030004680 | E63: 8 | H63: 01326365 | I63: 7618 | J63: 7618 | K63: 03.01.2022 | L63: 5 | M63: 202201 | N63: 08.01.2022 | O63: 08.01.2022 | P63: 6700 | Q63: 6700 | R63: 6723LQ | S63: 2500 | T63: 1260 | U63: MF | V63: 800L
A64: =D64&"/"&E64 -> 0030004849/168 | B64: W02 | C64: CASH | D64: 0030004849 | E64: 168 | H64: 01326432 | I64: 9186 | J64: 9186 | K64: 03.01.2022 | L64: 5 | M64: 202201 | N64: 08.01.2022 | O64: 08.01.2022 | P64: 8600 | Q64: 8600 | R64: 0044AU | S64: 1150 | T64: 1570 | U64: ED | V64: 745L | W64: AU - Outer Skin
A65: =D65&"/"&E65 -> 0030004871/4 | B65: W02 | C65: CASH | D65: 0030004871 | E65: 4 | H65: 01326514 | I65: 9405 | J65: 1035 | K65: 03.01.2022 | L65: 5 | M65: 202201 | N65: 08.01.2022 | O65: 08.01.2022 | P65: 7100 | Q65: 7100 | R65: 6723LQ | S65: 2200 | T65: 640 | U65: ED | V65: 772L
A66: =D66&"/"&E66 -> 0030004924/142 | B66: W02 | C66: CASH | D66: 0030004924 | E66: 142 | H66: 01325879 | I66: 24428 | J66: 15634 | K66: 03.01.2022 | L66: 5 | M66: 202201 | N66: 08.01.2022 | O66: 08.01.2022 | P66: 21600 | Q66: 13740 | R66: 6723LQ | S66: 2200 | T66: 1360 | U66: ED | V66: 772L
A67: =D67&"/"&E67 -> 0030006322/111 | B67: W02 | C67: CASH | D67: 0030006322 | E67: 111 | H67: 01330487 | I67: 10214 | J67: 10214 | K67: 03.01.2022 | L67: 5 | M67: 202201 | N67: 08.01.2022 | O67: 08.01.2022 | P67: 7300 | Q67: 7300 | R67: 6723LQ | S67: 2400 | T67: 671 | U67: ED | V67: 745L
A68: =D68&"/"&E68 -> 0030006496/15 | B68: W02 | C68: CASH | D68: 0030006496 | E68: 15 | H68: 01336006 | I68: 9348 | J68: 9348 | K68: 03.01.2022 | L68: 5 | M68: 202201 | N68: 08.01.2022 | O68: 08.01.2022 | P68: 6900 | Q68: 6900 | R68: 0012LQ | S68: 2500 | T68: 276 | U68: ED | V68: 745L
A69: =D69&"/"&E69 -> 0030006505/57 | B69: W02 | C69: CASH | D69: 0030006505 | E69: 57 | H69: 01336099 | I69: 27245 | J69: 13623 | K69: 03.01.2022 | L69: 5 | M69: 202201 | N69: 08.01.2022 | O69: 08.01.2022 | P69: 24000 | Q69: 12080 | R69: 0044AU | S69: 1150 | T69: 1160 | U69: ED | V69: 732L | W69: AU - Outer Skin
A70: =D70&"/"&E70 -> 0030006587/74 | B70: W02 | C70: CASH | D70: 0030006587 | E70: 74 | H70: 01339735 | I70: 9749 | J70: 9749 | K70: 31.12.2021 | L70: 5 | M70: 202152 | N70: 05.01.2022 | O70: 05.01.2022 | P70: 9150 | Q70: 9150 | R70: 0013AU | S70: 1200 | T70: 1663 | U70: ED | V70: 745L | W70: AU - Outer Skin
A71: =D71&"/"&E71 -> 0030006635/9 | B71: W02 | C71: CASH | D71: 0030006635 | E71: 9 | H71: 01340814 | I71: 40921 | J71: 9821 | K71: 03.01.2022 | L71: 5 | M71: 202201 | N71: 08.01.2022 | O71: 08.01.2022 | P71: 37600 | Q71: 19000 | R71: 0044AU | S71: 1200 | T71: 1685 | U71: ED | V71: 745L | W71: AU - Outer Skin
A72: =D72&"/"&E72 -> 0030006822/218 | B72: W02 | C72: CASH | D72: 0030006822 | E72: 218 | H72: 01356868 | I72: 20078 | J72: 9437 | K72: 04.01.2022 | L72: 4 | M72: 202201 | N72: 08.01.2022 | O72: 08.01.2022 | P72: 19000 | Q72: 8905 | R72: 0047AU | S72: 1000 | T72: 1727 | U72: EA | V72: 742L | W72: AU - Outer Skin
A73: =D73&"/"&E73 -> 0030006825/170 | B73: W02 | C73: CASH | D73: 0030006825 | E73: 170 | H73: 01357242 | I73: 10501 | J73: 10501 | K73: 03.01.2022 | L73: 5 | M73: 202201 | N73: 08.01.2022 | O73: 08.01.2022 | P73: 9800 | Q73: 9800 | R73: 0042LQ | S73: 0.800 | T73: 1780 | U73: ED | V73: 772L
A74: =D74&"/"&E74 -> 0030006837/27 | B74: W02 | C74: CASH | D74: 0030006837 | E74: 27 | H74: 01353049 | I74: 27752 | J74: 18039 | K74: 05.01.2022 | L74: 4 | M74: 202201 | N74: 09.01.2022 | O74: 09.01.2022 | P74: 24600 | Q74: 16106 | R74: 0044AU | S74: 1000 | T74: 1520 | U74: ED | V74: 751L | W74: AU - Outer Skin
A75: =D75&"/"&E75 -> 0030006982/10 | B75: W02 | C75: CASH | D75: 0030006982 | E75: 10 | H75: 01359489 | I75: 10138 | J75: 10138 | K75: 03.01.2022 | L75: 5 | M75: 202201 | N75: 08.01.2022 | O75: 08.01.2022 | P75: 9400 | Q75: 9400 | R75: 6723LQ | S75: 1650 | T75: 1720 | U75: ED | V75: 745L
A76: =D76&"/"&E76 -> 0030007039/38 | B76: W02 | C76: CASH | D76: 0030007039 | E76: 38 | H76: 01360587 | I76: 9307 | J76: 9307 | K76: 03.01.2022 | L76: 5 | M76: 202201 | N76: 08.01.2022 | O76: 08.01.2022 | P76: 8800 | Q76: 8800 | R76: 6723LQ | S76: 1500 | T76: 800 | U76: ED | V76: 745L
A77: =D77&"/"&E77 -> 0030007086/78 | B77: W02 | C77: CASH | D77: 0030007086 | E77: 78 | H77: 01351690 | I77: 31357 | J77: 7839 | K77: 03.01.2022 | L77: 5 | M77: 202201 | N77: 08.01.2022 | O77: 08.01.2022 | P77: 28000 | Q77: 7118 | R77: 0044AU | S77: 1100 | T77: 1265 | U77: ED | V77: 751L | W77: AU - Outer Skin
A78: =D78&"/"&E78 -> 0030007109/34 | B78: W02 | C78: CASH | D78: 0030007109 | E78: 34 | H78: 01360767 | I78: 18727 | J78: 8427 | K78: 05.01.2022 | L78: 4 | M78: 202201 | N78: 09.01.2022 | O78: 09.01.2022 | P78: 16600 | Q78: 16600 | R78: 0044AU | S78: 1000 | T78: 1520 | U78: ED | V78: 751L | W78: AU - Outer Skin
A79: =D79&"/"&E79 -> 0030007149/152 | B79: W02 | C79: CASH | D79: 0030007149 | E79: 152 | H79: 01361812 | I79: 60403 | J79: 33222 | K79: 03.01.2022 | L79: 4 | M79: 202201 | N79: 07.01.2022 | O79: 07.01.2022 | P79: 56000 | Q79: 40075 | R79: 0047AU | S79: 1150 | T79: 1555 | U79: ED | V79: 714L | W79: AU - Outer Skin
A80: =D80&"/"&E80 -> 0030007159/131 | B80: W02 | C80: CASH | D80: 0030007159 | E80: 131 | H80: 01362147 | I80: 10342 | J80: 10342 | K80: 03.01.2022 | L80: 4 | M80: 202201 | N80: 07.01.2022 | O80: 07.01.2022 | P80: 9900 | Q80: 9900 | R80: 0047AU | S80: 1100 | T80: 1810 | U80: ED | V80: 732L | W80: AU - Outer Skin
A81: =D81&"/"&E81 -> 0030007396/23 | B81: W02 | C81: CASH | D81: 0030007396 | E81: 23 | G81: X | H81: 01369799 | I81: 7424 | J81: 7424 | K81: 03.01.2022 | L81: 5 | M81: 202201 | N81: 08.01.2022 | O81: 08.01.2022 | P81: 6300 | Q81: 6300 | R81: 6723LQ | S81: 2000 | T81: 1145 | U81: MF | V81: 801L
A82: =D82&"/"&E82 -> 0030007415/40 | B82: W02 | C82: CASH | D82: 0030007415 | E82: 40 | H82: 01370394 | I82: 21745 | J82: 21745 | K82: 03.01.2022 | L82: 4 | M82: 202201 | N82: 07.01.2022 | O82: 07.01.2022 | P82: 20800 | Q82: 20800 | R82: 0047AU | S82: 0.950 | T82: 1890 | U82: ED | V82: 732L | W82: AU - Outer Skin
A83: =D83&"/"&E83 -> 0030007415/19 | B83: W02 | C83: CASH | D83: 0030007415 | E83: 19 | H83: 01370394 | I83: 10872 | J83: 10872 | K83: 03.01.2022 | L83: 4 | M83: 202201 | N83: 07.01.2022 | O83: 07.01.2022 | P83: 10400 | Q83: 10400 | R83: 0047AU | S83: 0.950 | T83: 1890 | U83: ED | V83: 732L | W83: AU - Outer Skin
A84: =D84&"/"&E84 -> 0030007417/20 | B84: W02 | C84: CASH | D84: 0030007417 | E84: 20 | H84: 01370396 | I84: 17544 | J84: 8597 | K84: 03.01.2022 | L84: 5 | M84: 202201 | N84: 08.01.2022 | O84: 08.01.2022 | P84: 15800 | Q84: 7730 | R84: 0012LQ | S84: 1500 | T84: 1440 | U84: ED | V84: 745L
A85: =D85&"/"&E85 -> 0030007565/2 | B85: W02 | C85: CASH | D85: 0030007565 | E85: 2 | H85: 01352971 | I85: 7997 | J85: 7997 | K85: 03.01.2022 | L85: 5 | M85: 202201 | N85: 08.01.2022 | O85: 08.01.2022 | P85: 7300 | Q85: 7300 | R85: 6723LQ | S85: 2000 | T85: 1290 | U85: MF | V85: 800L
A86: =D86&"/"&E86 -> 0030007605/13 | B86: W02 | C86: CASH | D86: 0030007605 | E86: 13 | H86: 01371723 | I86: 9167 | J86: 9167 | K86: 03.01.2022 | L86: 3 | M86: 202201 | N86: 06.01.2022 | O86: 06.01.2022 | P86: 8500 | Q86: 8500 | R86: 0047AU | S86: 1150 | T86: 1555 | U86: ED | V86: 714L | W86: AU - Outer Skin
A87: =D87&"/"&E87 -> 0030007607/110 | B87: W02 | C87: CASH | D87: 0030007607 | E87: 110 | H87: 01371438 | I87: 17127 | J87: 8735 | K87: 03.01.2022 | L87: 5 | M87: 202201 | N87: 08.01.2022 | O87: 08.01.2022 | P87: 15000 | Q87: 7590 | R87: 6723LQ | S87: 2150 | T87: 1345 | U87: ED | V87: 732L
A88: =D88&"/"&E88 -> 0030007633/94 | B88: W02 | C88: CASH | D88: 0030007633 | E88: 94 | H88: 01372454 | I88: 9473 | J88: 9473 | K88: 03.01.2022 | L88: 3 | M88: 202201 | N88: 06.01.2022 | O88: 06.01.2022 | P88: 9000 | Q88: 9000 | R88: 0047AU | S88: 1100 | T88: 1640 | U88: ED | V88: 732L | W88: AU - Outer Skin
A89: =D89&"/"&E89 -> 0030007728/27 | B89: W02 | C89: CASH | D89: 0030007728 | E89: 27 | H89: 01370529 | I89: 8726 | J89: 1483 | K89: 03.01.2022 | L89: 5 | M89: 202201 | N89: 08.01.2022 | O89: 08.01.2022 | P89: 6300 | Q89: 6300 | R89: 6723LQ | S89: 2000 | T89: 570.7 | U89: ED | V89: 772L
A90: =D90&"/"&E90 -> 0030007740/78 | B90: W02 | C90: CASH | D90: 0030007740 | E90: 78 | H90: 01375565 | I90: 7575 | J90: 7575 | K90: 03.01.2022 | L90: 5 | M90: 202201 | N90: 08.01.2022 | O90: 08.01.2022 | P90: 6500 | Q90: 6500 | R90: 6721LQ | S90: 2500 | T90: 1175 | U90: ED | V90: 701L
A91: =D91&"/"&E91 -> 0030007740/77 | B91: W02 | C91: CASH | D91: 0030007740 | E91: 77 | H91: 01375565 | I91: 7575 | J91: 7575 | K91: 05.01.2022 | L91: 4 | M91: 202201 | N91: 09.01.2022 | O91: 09.01.2022 | P91: 6500 | Q91: 6500 | R91: 6721LQ | S91: 2500 | T91: 1175 | U91: ED | V91: 701L
A92: =D92&"/"&E92 -> 0030007740/107 | B92: W02 | C92: CASH | D92: 0030007740 | E92: 107 | H92: 01375565 | I92: 15151 | J92: 15151 | K92: 03.01.2022 | L92: 5 | M92: 202201 | N92: 08.01.2022 | O92: 08.01.2022 | P92: 13000 | Q92: 13000 | R92: 6721LQ | S92: 2500 | T92: 1175 | U92: ED | V92: 701L
A93: =D93&"/"&E93 -> 0030007741/99 | B93: W02 | C93: CASH | D93: 0030007741 | E93: 99 | H93: 01375658 | I93: 14907 | J93: 14907 | K93: 03.01.2022 | L93: 5 | M93: 202201 | N93: 08.01.2022 | O93: 08.01.2022 | P93: 13800 | Q93: 13800 | R93: 6721LQ | S93: 2000 | T93: 1250 | U93: ED | V93: 701L
A94: =D94&"/"&E94 -> 0030007741/71 | B94: W02 | C94: CASH | D94: 0030007741 | E94: 71 | H94: 01375658 | I94: 7453 | J94: 7453 | K94: 03.01.2022 | L94: 5 | M94: 202201 | N94: 08.01.2022 | O94: 08.01.2022 | P94: 6900 | Q94: 6900 | R94: 6721LQ | S94: 2000 | T94: 1250 | U94: ED | V94: 701L
A95: =D95&"/"&E95 -> 0030007742/29 | B95: W02 | C95: CASH | D95: 0030007742 | E95: 29 | H95: 01375661 | I95: 6845 | J95: 6845 | K95: 03.01.2022 | L95: 5 | M95: 202201 | N95: 08.01.2022 | O95: 08.01.2022 | P95: 5800 | Q95: 5800 | R95: 6721LQ | S95: 2500 | T95: 1060 | U95: ED | V95: 701L
A96: =D96&"/"&E96 -> 0030007743/21 | B96: W02 | C96: CASH | D96: 0030007743 | E96: 21 | H96: 01375659 | I96: 8412 | J96: 8412 | K96: 03.01.2022 | L96: 5 | M96: 202201 | N96: 08.01.2022 | O96: 08.01.2022 | P96: 7700 | Q96: 7700 | R96: 6721LQ | S96: 2000 | T96: 1400 | U96: ED | V96: 701L
A97: =D97&"/"&E97 -> 0030007751/53 | B97: W02 | C97: CASH | D97: 0030007751 | E97: 53 | H97: 01376300 | I97: 8692 | J97: 8692 | K97: 03.01.2022 | L97: 5 | M97: 202201 | N97: 08.01.2022 | O97: 08.01.2022 | P97: 8000 | Q97: 8000 | R97: 0013AU | S97: 1200 | T97: 1460 | U97: EA | V97: 745L | W97: AU - Outer Skin
A98: =D98&"/"&E98 -> 0030007765/78 | B98: W02 | C98: CASH | D98: 0030007765 | E98: 78 | H98: 01375294 | I98: 8674 | J98: 8674 | K98: 03.01.2022 | L98: 5 | M98: 202201 | N98: 08.01.2022 | O98: 08.01.2022 | P98: 7900 | Q98: 7900 | R98: 0013AU | S98: 1200 | T98: 1445 | U98: EA | V98: 745L | W98: AU - Outer Skin
A99: =D99&"/"&E99 -> 0030007870/10 | B99: W02 | C99: CASH | D99: 0030007870 | E99: 10 | H99: 01373546 | I99: 59136 | J99: 21289 | K99: 04.01.2022 | L99: 4 | M99: 202201 | N99: 08.01.2022 | O99: 08.01.2022 | P99: 56400 | Q99: 20290 | R99: 0047AU | S99: 1100 | T99: 1715 | U99: ED | V99: 732L | W99: AU - Outer Skin
A100: =D100&"/"&E100 -> 0030007952/3 | B100: W02 | C100: CASH | D100: 0030007952 | E100: 3 | H100: 01382289 | I100: 33081 | J100: 6947 | K100: 03.01.2022 | L100: 3 | M100: 202201 | N100: 06.01.2022 | O100: 06.01.2022 | P100: 29500 | Q100: 6075 | R100: 0047AU | S100: 1100 | T100: 1072 | U100: MF | V100: 701L | W100: AU - Outer Skin
...
