Workbook

Sheet Sheet3
B1: W07 | C1: LINE | D1: Number of week in BACKLOG
B2: {=_xlfn.UNIQUE(_xlfn._xlws.FILTER(Sheet1!A:A,Sheet1!B:B=Sheet3!$B$1))} -> 0072117772/50 | C2: =VLOOKUP(B2,Sheet1!$A:$W,3,0) -> CESL | D2: =COUNTIF(Sheet1!A:A,Sheet3!B2) -> 1
B3: 0072117956/10 | C3: =VLOOKUP(B3,Sheet1!$A:$W,3,0) -> CESL | D3: =COUNTIF(Sheet1!A:A,Sheet3!B3) -> 1
B4: 0072119876/30 | C4: =VLOOKUP(B4,Sheet1!$A:$W,3,0) -> CESL | D4: =COUNTIF(Sheet1!A:A,Sheet3!B4) -> 2
B5: 0072120034/20 | C5: =VLOOKUP(B5,Sheet1!$A:$W,3,0) -> CESL | D5: =COUNTIF(Sheet1!A:A,Sheet3!B5) -> 1
B6: 0072120038/10 | C6: =VLOOKUP(B6,Sheet1!$A:$W,3,0) -> CESL | D6: =COUNTIF(Sheet1!A:A,Sheet3!B6) -> 1
B7: 0072120182/10 | C7: =VLOOKUP(B7,Sheet1!$A:$W,3,0) -> CESL | D7: =COUNTIF(Sheet1!A:A,Sheet3!B7) -> 1
B8: 0030003020/52 | C8: =VLOOKUP(B8,Sheet1!$A:$W,3,0) -> GLA | D8: =COUNTIF(Sheet1!A:A,Sheet3!B8) -> 1
B9: 0030003392/224 | C9: =VLOOKUP(B9,Sheet1!$A:$W,3,0) -> GLA | D9: =COUNTIF(Sheet1!A:A,Sheet3!B9) -> 1
B10: 0030003605/14 | C10: =VLOOKUP(B10,Sheet1!$A:$W,3,0) -> GLA | D10: =COUNTIF(Sheet1!A:A,Sheet3!B10) -> 4
B11: 0030003803/77 | C11: =VLOOKUP(B11,Sheet1!$A:$W,3,0) -> GLA | D11: =COUNTIF(Sheet1!A:A,Sheet3!B11) -> 2
B12: 0030004000/37 | C12: =VLOOKUP(B12,Sheet1!$A:$W,3,0) -> GLA | D12: =COUNTIF(Sheet1!A:A,Sheet3!B12) -> 1
B13: 0030004415/23 | C13: =VLOOKUP(B13,Sheet1!$A:$W,3,0) -> GLA | D13: =COUNTIF(Sheet1!A:A,Sheet3!B13) -> 1
B14: 0030004815/4 | C14: =VLOOKUP(B14,Sheet1!$A:$W,3,0) -> GLA | D14: =COUNTIF(Sheet1!A:A,Sheet3!B14) -> 2
... B80: 02009533/2 | C80: =VLOOKUP(B80,Sheet1!$A:$W,3,0) -> CASH | D80: =COUNTIF(Sheet1!A:A,Sheet3!B80) -> 3

Sheet Sheet2
A3: Row Labels | B3: Count of LINE | C3: Sum of Open [t]
A4: W01 | B4: 57 | C4: 708111
A5: CASH | B5: 37 | C5: 444836
A6: GLA | B6: 20 | C6: 263275
A7: W02 | B7: 101 | C7: 960997
A8: CASH | B8: 77 | C8: 746649
A9: CESL | B9: 5 | C9: 36127
A10: GLA | B10: 19 | C10: 178221
A11: W03 | B11: 126 | C11: 1341321
A12: CASH | B12: 77 | C12: 846368
A13: CESL | B13: 8 | C13: 80871
A14: GLA | B14: 41 | C14: 414082
A15: W04 | B15: 207 | C15: 2043995
... A31: Grand Total | B31: 821 | C31: 8384432

Sheet Sheet1
A1: DISPLAY NAME | B1: WEEK | C1: LINE | D1: Order | E1: Line | F1: from Stock | G1: PIR | H1: Material | I1: Weight [t] | J1: Open [t] | K1: Capacity due date | L1: Lead time | M1: Week | N1: Production due date | O1: Customer due date | P1: Order Weight [t] | Q1: Open [t]2 | R1: Alloy | S1: Gauge | T1: Width | U1: Surface | V1: Coating | W1: Campaign
A2: =D2&"/"&E2 -> 0030004360/36 | B2: W01 | C2: CASH | D2: 0030004360 | E2: 36 | G2: X | H2: 01326546 | I2: 9551 | J2: 9551 | K2: 20.12.2021 | L2: 5 | M2: 202151 | N2: 25.12.2021 | O2: 25.12.2021 | P2: 9000 | Q2: 9000 | R2: 6723LQ | S2: 1150 | T2: 1630 | U2: ED | V2: 700M
A3: =D3&"/"&E3 -> 0030004849/61 | B3: W01 | C3: CASH | D3: 0030004849 | E3: 61 | H3: 01326432 | I3: 9186 | J3: 9186 | K3: 27.12.2021 | L3: 5 | M3: 202152 | N3: 01.01.2022 | O3: 01.01.2022 | P3: 8600 | Q3: 8600 | R3: 0044AU | S3: 1150 | T3: 1570 | U3: ED | V3: 745L | W3: AU - Outer Skin
A4: =D4&"/"&E4 -> 0030006724/10 | B4: W01 | C4: CASH | D4: 0030006724 | E4: 10 | H4: 01353619 | I4: 18727 | J4: 8427 | K4: 27.12.2021 | L4: 5 | M4: 202152 | N4: 01.01.2022 | O4: 01.01.2022 | P4: 16600 | Q4: 16600 | R4: 0044AU | S4: 1000 | T4: 1520 | U4: ED | V4: 751L | W4: AU - Outer Skin
A5: =D5&"/"&E5 -> 0030006822/218 | B5: W01 | C5: CASH | D5: 0030006822 | E5: 218 | H5: 01356868 | I5: 20078 | J5: 8834 | K5: 27.12.2021 | L5: 4 | M5: 202152 | N5: 31.12.2021 | O5: 31.12.2021 | P5: 19000 | Q5: 19000 | R5: 0047AU | S5: 1000 | T5: 1727 | U5: EA | V5: 742L | W5: AU - Outer Skin
A6: =D6&"/"&E6 -> 0030006837/27 | B6: W01 | C6: CASH | D6: 0030006837 | E6: 27 | H6: 01353049 | I6: 27752 | J6: 17484 | K6: 27.12.2021 | L6: 5 | M6: 202152 | N6: 01.01.2022 | O6: 01.01.2022 | P6: 24600 | Q6: 24600 | R6: 0044AU | S6: 1000 | T6: 1520 | U6: ED | V6: 751L | W6: AU - Outer Skin
A7: =D7&"/"&E7 -> 0030007109/34 | B7: W01 | C7: CASH | D7: 0030007109 | E7: 34 | H7: 01360767 | I7: 18727 | J7: 8427 | K7: 20.12.2021 | L7: 5 | M7: 202151 | N7: 25.12.2021 | O7: 25.12.2021 | P7: 16600 | Q7: 16600 | R7: 0044AU | S7: 1000 | T7: 1520 | U7: ED | V7: 751L | W7: AU - Outer Skin
A8: =D8&"/"&E8 -> 0030007126/13 | B8: W01 | C8: CASH | D8: 0030007126 | E8: 13 | H8: 01361677 | I8: 30349 | J8: 11533 | K8: 20.12.2021 | L8: 4 | M8: 202151 | N8: 24.12.2021 | O8: 24.12.2021 | P8: 28500 | Q8: 10805 | R8: 0047AU | S8: 1150 | T8: 1720 | U8: ED | V8: 732L | W8: AU - Outer Skin
A9: =D9&"/"&E9 -> 0030007298/34 | B9: W01 | C9: CASH | D9: 0030007298 | E9: 34 | H9: 01367199 | I9: 19606 | J9: 9215 | K9: 27.12.2021 | L9: 4 | M9: 202152 | N9: 31.12.2021 | O9: 31.12.2021 | P9: 18400 | Q9: 18400 | R9: 0047AU | S9: 1200 | T9: 1673 | U9: ED | V9: 772L | W9: AU - Outer Skin
A10: =D10&"/"&E10 -> 0030007396/20 | B10: W01 | C10: CASH | D10: 0030007396 | E10: 20 | G10: X | H10: 01369799 | I10: 7424 | J10: 7424 | K10: 20.12.2021 | L10: 5 | M10: 202151 | N10: 25.12.2021 | O10: 25.12.2021 | P10: 6300 | Q10: 6300 | R10: 6723LQ | S10: 2000 | T10: 1145 | U10: MF | V10: 801L
A11: =D11&"/"&E11 -> 0030007416/161 | B11: W01 | C11: CASH | D11: 0030007416 | E11: 161 | H11: 01370395 | I11: 8732 | J11: 8732 | K11: 20.12.2021 | L11: 5 | M11: 202151 | N11: 25.12.2021 | O11: 25.12.2021 | P11: 8000 | Q11: 8000 | R11: 0012LQ | S11: 1500 | T11: 1465 | U11: ED | V11: 745L
A12: =D12&"/"&E12 -> 0030007416/162 | B12: W01 | C12: CASH | D12: 0030007416 | E12: 162 | H12: 01370395 | I12: 17464 | J12: 8383 | K12: 20.12.2021 | L12: 5 | M12: 202151 | N12: 25.12.2021 | O12: 25.12.2021 | P12: 16000 | Q12: 7740 | R12: 0012LQ | S12: 1500 | T12: 1465 | U12: ED | V12: 745L
A13: =D13&"/"&E13 -> 0030007740/77 | B13: W01 | C13: CASH | D13: 0030007740 | E13: 77 | H13: 01375565 | I13: 7575 | J13: 7575 | K13: 27.12.2021 | L13: 5 | M13: 202152 | N13: 01.01.2022 | O13: 01.01.2022 | P13: 6500 | Q13: 6500 | R13: 6721LQ | S13: 2500 | T13: 1175 | U13: ED | V13: 701L
A14: =D14&"/"&E14 -> 0030007759/71 | B14: W01 | C14: CASH | D14: 0030007759 | E14: 71 | H14: 01375297 | I14: 75386 | J14: 61817 | K14: 21.12.2021 | L14: 6 | M14: 202151 | N14: 27.12.2021 | O14: 27.12.2021 | P14: 68200 | Q14: 68200 | R14: 0013AU | S14: 1100 | T14: 1120 | U14: EA | V14: 751L | W14: AU - Outer Skin
A15: =D15&"/"&E15 -> 0030007950/76 | B15: W01 | C15: CASH | D15: 0030007950 | E15: 76 | H15: 01382254 | I15: 49787 | J15: 9460 | K15: 20.12.2021 | L15: 5 | M15: 202151 | N15: 25.12.2021 | O15: 25.12.2021 | P15: 46000 | Q15: 46000 | R15: 0013AU | S15: 1150 | T15: 1664 | U15: ET | V15: 707L | W15: AU - Outer Skin
A16: =D16&"/"&E16 -> 0030007962/3 | B16: W01 | C16: CASH | D16: 0030007962 | E16: 3 | H16: 01382647 | I16: 11647 | J16: 11647 | K16: 20.12.2021 | L16: 5 | M16: 202151 | N16: 25.12.2021 | O16: 25.12.2021 | P16: 10500 | Q16: 10500 | R16: 6505LQ | S16: 0.800 | T16: 1905 | U16: ED | V16: 749L
A17: =D17&"/"&E17 -> 0030008001/24 | B17: W01 | C17: CASH | D17: 0030008001 | E17: 24 | H17: 01383554 | I17: 28507 | J17: 18244 | K17: 20.12.2021 | L17: 5 | M17: 202151 | N17: 25.12.2021 | O17: 25.12.2021 | P17: 27300 | Q17: 27300 | R17: 0013AU | S17: 1000 | T17: 1650 | U17: EA | V17: 745L | W17: AU - Outer Skin
A18: =D18&"/"&E18 -> 0072111386/10 | B18: W01 | C18: CASH | D18: 0072111386 | E18: 10 | H18: 01379532 | I18: 10173 | J18: 10173 | K18: 31.12.2021 | L18: 5 | M18: 202152 | N18: 05.01.2022* | O18: 30.08.2021 | P18: 8000 | Q18: 8000 | R18: 0045LQ | S18: 3000 | T18: 1360 | U18: MF | V18: 401L
A19: =D19&"/"&E19 -> 0072113240/30 | B19: W01 | C19: CASH | D19: 0072113240 | E19: 30 | H19: 01380566 | I19: 278022 | J19: 11121 | K19: 22.12.2021 | L19: 4 | M19: 202151 | N19: 26.12.2021* | O19: 11.10.2021 | P19: 260000 | Q19: 10585 | R19: 6508LQ | S19: 0.910 | T19: 1474.2 | U19: MF | V19: 401L
A20: =D20&"/"&E20 -> 0072113719/10 | B20: W01 | C20: CASH | D20: 0072113719 | E20: 10 | H20: 01380820 | I20: 21096 | J20: 6751 | K20: 01.01.2022 | L20: 4 | M20: 202152 | N20: 05.01.2022* | O20: 18.10.2021 | P20: 19720 | Q20: 6300 | R20: 0047AU | S20: 0.950 | T20: 1283 | U20: ED | V20: 411L | W20: AU - Outer Skin
A21: =D21&"/"&E21 -> 0072113720/20 | B21: W01 | C21: CASH | D21: 0072113720 | E21: 20 | H21: 01380822 | I21: 7866 | J21: 7866 | K21: 25.12.2021 | L21: 4 | M21: 202151 | N21: 29.12.2021* | O21: 13.12.2021 | P21: 7500 | Q21: 7500 | R21: 0047AU | S21: 0.950 | T21: 1416 | U21: ED | V21: 411L | W21: AU - Outer Skin
A22: =D22&"/"&E22 -> 0072113721/20 | B22: W01 | C22: CASH | D22: 0072113721 | E22: 20 | H22: 01380831 | I22: 8151 | J22: 8151 | K22: 25.12.2021 | L22: 4 | M22: 202151 | N22: 29.12.2021* | O22: 13.12.2021 | P22: 7500 | Q22: 7500 | R22: 0047AU | S22: 0.950 | T22: 1451 | U22: ED | V22: 411L | W22: AU - Outer Skin
A23: =D23&"/"&E23 -> 0072114828/20 | B23: W01 | C23: CASH | D23: 0072114828 | E23: 20 | H23: 01326968 | I23: 13008 | J23: 13008 | K23: 21.12.2021 | L23: 8 | M23: 202151 | N23: 29.12.2021* | O23: 20.12.2021 | P23: 8128 | Q23: 8128 | R23: 0042LQ | S23: 1500 | T23: 463 | U23: ED | V23: 411L
A24: =D24&"/"&E24 -> 0072114831/30 | B24: W01 | C24: CASH | D24: 0072114831 | E24: 30 | H24: 01329391 | I24: 10270 | J24: 10270 | K24: 01.01.2022 | L24: 5 | M24: 202152 | N24: 06.01.2022* | O24: 01.01.2022 | P24: 9000 | Q24: 9000 | R24: 0042LQ | S24: 1200 | T24: 550 | U24: MF | V24: 410L
A25: =D25&"/"&E25 -> 0072115609/30 | B25: W01 | C25: CASH | D25: 0072115609 | E25: 30 | H25: 01381024 | I25: 9305 | J25: 9305 | K25: 31.12.2021 | L25: 5 | M25: 202152 | N25: 05.01.2022* | O25: 18.10.2021 | P25: 8000 | Q25: 8000 | R25: 0045LQ | S25: 2600 | T25: 1540 | U25: ED | V25: 401L
A26: =D26&"/"&E26 -> 0072115609/10 | B26: W01 | C26: CASH | D26: 0072115609 | E26: 10 | H26: 01376044 | I26: 8456 | J26: 8456 | K26: 25.12.2021 | L26: 6 | M26: 202151 | N26: 31.12.2021* | O26: 18.10.2021 | P26: 8000 | Q26: 8000 | R26: 0045LQ | S26: 3000 | T26: 1560 | U26: MF | V26: 401L
A27: =D27&"/"&E27 -> 0072115617/50 | B27: W01 | C27: CASH | D27: 0072115617 | E27: 50 | H27: 01381024 | I27: 9305 | J27: 9305 | K27: 31.12.2021 | L27: 5 | M27: 202152 | N27: 05.01.2022* | O27: 18.10.2021 | P27: 8000 | Q27: 8000 | R27: 0045LQ | S27: 2600 | T27: 1540 | U27: ED | V27: 401L
A28: =D28&"/"&E28 -> 0072115617/60 | B28: W01 | C28: CASH | D28: 0072115617 | E28: 60 | H28: 01381024 | I28: 9305 | J28: 9305 | K28: 25.12.2021 | L28: 5 | M28: 202151 | N28: 30.12.2021* | O28: 15.11.2021 | P28: 8000 | Q28: 8000 | R28: 0045LQ | S28: 2600 | T28: 1540 | U28: ED | V28: 401L
A29: =D29&"/"&E29 -> 0072115617/20 | B29: W01 | C29: CASH | D29: 0072115617 | E29: 20 | H29: 01376044 | I29: 8456 | J29: 8456 | K29: 01.01.2022 | L29: 6 | M29: 202152 | N29: 07.01.2022* | O29: 15.11.2021 | P29: 8000 | Q29: 8000 | R29: 0045LQ | S29: 3000 | T29: 1560 | U29: MF | V29: 401L
A30: =D30&"/"&E30 -> 0072115617/10 | B30: W01 | C30: CASH | D30: 0072115617 | E30: 10 | H30: 01376044 | I30: 8456 | J30: 8456 | K30: 01.01.2022 | L30: 6 | M30: 202152 | N30: 07.01.2022* | O30: 18.10.2021 | P30: 8000 | Q30: 8000 | R30: 0045LQ | S30: 3000 | T30: 1560 | U30: MF | V30: 401L
A31: =D31&"/"&E31 -> 0072116092/30 | B31: W01 | C31: CASH | D31: 0072116092 | E31: 30 | H31: 01360884 | I31: 9209 | J31: 9209 | K31: 20.12.2021 | L31: 4 | M31: 202151 | N31: 24.12.2021* | O31: 13.12.2021 | P31: 8600 | Q31: 8600 | R31: 0047AU | S31: 1000 | T31: 1790 | U31: ED | V31: 411L | W31: AU - Outer Skin
A32: =D32&"/"&E32 -> 0072116189/20 | B32: W01 | C32: CASH | D32: 0072116189 | E32: 20 | H32: 01374872 | I32: 48136 | J32: 6258 | K32: 02.01.2022 | L32: 5 | M32: 202152 | N32: 07.01.2022* | O32: 10.01.2022 | P32: 45000 | Q32: 5805 | R32: 6508AU | S32: 0.950 | T32: 1283 | U32: ED | V32: 411L | W32: AU - Outer Skin
A33: =D33&"/"&E33 -> 0072116190/20 | B33: W01 | C33: CASH | D33: 0072116190 | E33: 20 | H33: 01374872 | I33: 48136 | J33: 48136 | K33: 01.01.2022 | L33: 5 | M33: 202152 | N33: 06.01.2022* | O33: 17.01.2022 | P33: 45000 | Q33: 45000 | R33: 6508AU | S33: 0.950 | T33: 1283 | U33: ED | V33: 411L | W33: AU - Outer Skin
A34: =D34&"/"&E34 -> 02008941/3 | B34: W01 | C34: CASH | D34: 02008941 | E34: 3 | H34: 01377437 | I34: 9933 | J34: 9933 | K34: 21.12.2021 | L34: 7 | M34: 202151 | N34: 28.12.2021 | O34: 28.12.2021 | P34: 8000 | Q34: 8000 | R34: 0116PQ | S34: 2000 | T34: 1600 | U34: ED | V34: 745L
A35: =D35&"/"&E35 -> 02009224/2 | B35: W01 | C35: CASH | D35: 02009224 | E35: 2 | H35: 01380588 | I35: 4255 | J35: 4255 | K35: 13.12.2021 | L35: 4 | M35: 202150 | N35: 17.12.2021 | O35: 17.12.2021 | P35: 4000 | Q35: 4000 | R35: 0047AU | S35: 1000 | T35: 945 | U35: EA | V35: 744L | W35: AU - Outer Skin
A36: =D36&"/"&E36 -> 02009315/2 | B36: W01 | C36: CASH | D36: 02009315 | E36: 2 | H36: 01381483 | I36: 6728 | J36: 6728 | K36: 01.01.2022 | L36: 4 | M36: 202152 | N36: 05.01.2022 | O36: 05.01.2022 | P36: 6000 | Q36: 6000 | R36: 0047AU | S36: 1100 | T36: 1072 | U36: MF | V36: 701L | W36: AU - Outer Skin
A37: =D37&"/"&E37 -> 02009316/2 | B37: W01 | C37: CASH | D37: 02009316 | E37: 2 | H37: 01381354 | I37: 9972 | J37: 9972 | K37: 20.12.2021 | L37: 4 | M37: 202151 | N37: 24.12.2021 | O37: 24.12.2021 | P37: 9000 | Q37: 9000 | R37: 0047AU | S37: 1000 | T37: 1730 | U37: EA | V37: 744L | W37: AU - Outer Skin
A38: =D38&"/"&E38 -> 02009327/2 | B38: W01 | C38: CASH | D38: 02009327 | E38: 2 | H38: 01381641 | I38: 13783 | J38: 13783 | K38: 31.12.2021 | L38: 5 | M38: 202152 | N38: 05.01.2022 | O38: 05.01.2022 | P38: 12000 | Q38: 12000 | R38: 0042LQ | S38: 0.950 | T38: 1328 | U38: ED | V38: 753L
A39: =D39&"/"&E39 -> 0030002849/159 | B39: W01 | C39: GLA | D39: 0030002849 | E39: 159 | H39: 01325956 | I39: 22482 | J39: 22482 | K39: 21.12.2021 | L39: 1 | M39: 202151 | N39: 22.12.2021 | O39: 22.12.2021 | P39: 21200 | Q39: 21200 | R39: 5437LQ | S39: 1150 | T39: 1970 | U39: ED | V39: 609N | W39: P1 - GBX/E1
A40: =D40&"/"&E40 -> 0030002849/35 | B40: W01 | C40: GLA | D40: 0030002849 | E40: 35 | H40: 01325956 | I40: 33723 | J40: 10454 | K40: 21.12.2021 | L40: 2 | M40: 202151 | N40: 23.12.2021 | O40: 23.12.2021 | P40: 31800 | Q40: 9967 | R40: 5437LQ | S40: 1150 | T40: 1970 | U40: ED | V40: 609N | W40: P1 - GBX/E1
...
