Workbook

Sheet Sheet1
A1: Product | B1: Date | C1: T° | D1: Thickness | E1: MV | F1: MV% | G1: % | H1: EH | I1: Return
A2: 2476 | B2: 2017-09-26 00:37:39 | C2: 17.42 | D2: 35.27 | E2: -11.42 | F2: 32.38 | G2: 79.44 | H2: -6.45 | I2: -4.97
A3: 2476 | B3: 2017-09-26 00:37:48 | C3: 17.19 | D3: 35.64 | E3: -11.12 | F3: 31.21 | G3: 85.95 | H3: -4.04 | I3: -7.08
A4: 2476 | B4: 2017-09-26 00:37:57 | C4: 17.15 | D4: 35.3 | E4: -12.12 | F4: 34.34 | G4: 82.21 | H4: -5.42 | I4: -6.7
A5: 2476 | B5: 2017-09-26 00:38:06 | C5: 17.42 | D5: 35.42 | E5: -12.66 | F5: 35.76 | G5: 82.19 | H5: -5.39 | I5: -7.27
A6: 2476 | B6: 2017-09-26 00:38:15 | C6: 17.4 | D6: 34.75 | E6: -11.29 | F6: 32.49 | G6: 81.08 | H6: -5.78 | I6: -5.51
A7: 2476 | B7: 2017-09-26 00:38:24 | C7: 17.42 | D7: 34.58 | E7: -11.47 | F7: 33.17 | G7: 81.82 | H7: -5.53 | I7: -5.94
A8: 2476 | B8: 2017-09-26 00:38:34 | C8: 17.04 | D8: 34.69 | E8: -11.3 | F8: 32.57 | G8: 83.15 | H8: -4.95 | I8: -6.35
A9: 2476 | B9: 2017-09-26 00:38:43 | C9: 17.24 | D9: 35.36 | E9: -12.49 | F9: 35.33 | G9: 82.5 | H9: -5.2 | I9: -7.29
A10: 2476 | B10: 2017-09-26 00:38:52 | C10: 17.39 | D10: 35.32 | E10: -13.52 | F10: 38.29 | G10: 80.55 | H10: -6.01 | I10: -7.52
A11: 2476 | B11: 2017-09-26 00:39:01 | C11: 17.33 | D11: 35.51 | E11: -12.39 | F11: 34.9 | G11: 88.75 | H11: -3.15 | I11: -9.24
A12: 2476 | B12: 2017-09-26 00:39:10 | C12: 17.29 | D12: 35.6 | E12: -13.65 | F12: 38.35 | G12: 78.2 | H12: -6.94 | I12: -6.71
A13: 2476 | B13: 2017-09-26 00:39:19 | C13: 17.28 | D13: 36.06 | E13: -12.55 | F13: 34.81 | G13: 79.5 | H13: -6.42 | I13: -6.14
A14: avg:2476 | B14: 2017-09-26 00:39:21 | C14: NaN | D14: NaN | E14: -12.12 | F14: 34.4 | G14: NaN | H14: -5.43 | I14: -6.69

Sheet Sheet 2
A1: PRODUIT | B1: DATE | C1: Heure | D1: MV | E1: T | F1: % | G1: EH | H1: RE
A2: =[1]Sheet11!A2 -> 2476 | B2: =LEFT([1]Sheet11!B2,11) -> 2017-09-26 | C2: =RIGHT([1]Sheet11!B2,8) -> 00:37:39 | D2: =IF(Sheet1!E2=MIN(Sheet1!$E$2:$E$13),"",(IF(Sheet1!E2=MAX(Sheet1!$E$2:$E$13),"",Sheet1!E2))) -> -11.42 | E2: =IF(D2="","",Sheet1!C2) -> 17.42 | F2: =IF(D2="","",Sheet1!F2) -> 32.38 | G2: =IF(D2="","",Sheet1!H2) -> -6.45 | H2: =IF(D2="","",Sheet1!I2) -> -4.97
A3: =[1]Sheet11!A3 -> 2476 | B3: =LEFT([1]Sheet11!B3,11) -> 2017-09-26 | C3: =RIGHT([1]Sheet11!B3,8) -> 00:37:48 | D3: =IF(Sheet1!E3=MIN(Sheet1!$E$2:$E$13),"",(IF(Sheet1!E3=MAX(Sheet1!$E$2:$E$13),"",Sheet1!E3))) | E3: =IF(D3="","",Sheet1!C3) | F3: =IF(D3="","",Sheet1!F3) | G3: =IF(D3="","",Sheet1!H3) | H3: =IF(D3="","",Sheet1!I3) | K3: ="" | L3: ="" | M3: ="" | N3: =""
A4: =[1]Sheet11!A4 -> 2476 | B4: =LEFT([1]Sheet11!B4,11) -> 2017-09-26 | C4: =RIGHT([1]Sheet11!B4,8) -> 00:37:57 | D4: =IF(Sheet1!E4=MIN(Sheet1!$E$2:$E$13),"",(IF(Sheet1!E4=MAX(Sheet1!$E$2:$E$13),"",Sheet1!E4))) -> -12.12 | E4: =IF(D4="","",Sheet1!C4) -> 17.15 | F4: =IF(D4="","",Sheet1!F4) -> 34.34 | G4: =IF(D4="","",Sheet1!H4) -> -5.42 | H4: =IF(D4="","",Sheet1!I4) -> -6.7 | K4: ="" | L4: ="" | M4: ="" | N4: =""
A5: =[1]Sheet11!A5 -> 2476 | B5: =LEFT([1]Sheet11!B5,11) -> 2017-09-26 | C5: =RIGHT([1]Sheet11!B5,8) -> 00:38:06 | D5: =IF(Sheet1!E5=MIN(Sheet1!$E$2:$E$13),"",(IF(Sheet1!E5=MAX(Sheet1!$E$2:$E$13),"",Sheet1!E5))) -> -12.66 | E5: =IF(D5="","",Sheet1!C5) -> 17.42 | F5: =IF(D5="","",Sheet1!F5) -> 35.76 | G5: =IF(D5="","",Sheet1!H5) -> -5.39 | H5: =IF(D5="","",Sheet1!I5) -> -7.27 | K5: ="" | L5: ="" | M5: ="" | N5: =""
A6: =[1]Sheet11!A6 -> 2476 | B6: =LEFT([1]Sheet11!B6,11) -> 2017-09-26 | C6: =RIGHT([1]Sheet11!B6,8) -> 00:38:15 | D6: =IF(Sheet1!E6=MIN(Sheet1!$E$2:$E$13),"",(IF(Sheet1!E6=MAX(Sheet1!$E$2:$E$13),"",Sheet1!E6))) -> -11.29 | E6: =IF(D6="","",Sheet1!C6) -> 17.4 | F6: =IF(D6="","",Sheet1!F6) -> 32.49 | G6: =IF(D6="","",Sheet1!H6) -> -5.78 | H6: =IF(D6="","",Sheet1!I6) -> -5.51 | K6: ="" | L6: ="" | M6: ="" | N6: =""
A7: =[1]Sheet11!A7 -> 2476 | B7: =LEFT([1]Sheet11!B7,11) -> 2017-09-26 | C7: =RIGHT([1]Sheet11!B7,8) -> 00:38:24 | D7: =IF(Sheet1!E7=MIN(Sheet1!$E$2:$E$13),"",(IF(Sheet1!E7=MAX(Sheet1!$E$2:$E$13),"",Sheet1!E7))) -> -11.47 | E7: =IF(D7="","",Sheet1!C7) -> 17.42 | F7: =IF(D7="","",Sheet1!F7) -> 33.17 | G7: =IF(D7="","",Sheet1!H7) -> -5.53 | H7: =IF(D7="","",Sheet1!I7) -> -5.94 | K7: ="" | L7: ="" | M7: ="" | N7: =""
A8: =[1]Sheet11!A8 -> 2476 | B8: =LEFT([1]Sheet11!B8,11) -> 2017-09-26 | C8: =RIGHT([1]Sheet11!B8,8) -> 00:38:34 | D8: =IF(Sheet1!E8=MIN(Sheet1!$E$2:$E$13),"",(IF(Sheet1!E8=MAX(Sheet1!$E$2:$E$13),"",Sheet1!E8))) -> -11.3 | E8: =IF(D8="","",Sheet1!C8) -> 17.04 | F8: =IF(D8="","",Sheet1!F8) -> 32.57 | G8: =IF(D8="","",Sheet1!H8) -> -4.95 | H8: =IF(D8="","",Sheet1!I8) -> -6.35 | K8: ="" | L8: ="" | M8: ="" | N8: =""
A9: =[1]Sheet11!A9 -> 2476 | B9: =LEFT([1]Sheet11!B9,11) -> 2017-09-26 | C9: =RIGHT([1]Sheet11!B9,8) -> 00:38:43 | D9: =IF(Sheet1!E9=MIN(Sheet1!$E$2:$E$13),"",(IF(Sheet1!E9=MAX(Sheet1!$E$2:$E$13),"",Sheet1!E9))) -> -12.49 | E9: =IF(D9="","",Sheet1!C9) -> 17.24 | F9: =IF(D9="","",Sheet1!F9) -> 35.33 | G9: =IF(D9="","",Sheet1!H9) -> -5.2 | H9: =IF(D9="","",Sheet1!I9) -> -7.29 | K9: ="" | L9: ="" | M9: ="" | N9: =""
A10: =[1]Sheet11!A10 -> 2476 | B10: =LEFT([1]Sheet11!B10,11) -> 2017-09-26 | C10: =RIGHT([1]Sheet11!B10,8) -> 00:38:52 | D10: =IF(Sheet1!E10=MIN(Sheet1!$E$2:$E$13),"",(IF(Sheet1!E10=MAX(Sheet1!$E$2:$E$13),"",Sheet1!E10))) -> -13.52 | E10: =IF(D10="","",Sheet1!C10) -> 17.39 | F10: =IF(D10="","",Sheet1!F10) -> 38.29 | G10: =IF(D10="","",Sheet1!H10) -> -6.01 | H10: =IF(D10="","",Sheet1!I10) -> -7.52 | K10: ="" | L10: ="" | M10: ="" | N10: =""
A11: =[1]Sheet11!A11 -> 2476 | B11: =LEFT([1]Sheet11!B11,11) -> 2017-09-26 | C11: =RIGHT([1]Sheet11!B11,8) -> 00:39:01 | D11: =IF(Sheet1!E11=MIN(Sheet1!$E$2:$E$13),"",(IF(Sheet1!E11=MAX(Sheet1!$E$2:$E$13),"",Sheet1!E11))) -> -12.39 | E11: =IF(D11="","",Sheet1!C11) -> 17.33 | F11: =IF(D11="","",Sheet1!F11) -> 34.9 | G11: =IF(D11="","",Sheet1!H11) -> -3.15 | H11: =IF(D11="","",Sheet1!I11) -> -9.24 | K11: ="" | L11: ="" | M11: ="" | N11: =""
A12: =[1]Sheet11!A12 -> 2476 | B12: =LEFT([1]Sheet11!B12,11) -> 2017-09-26 | C12: =RIGHT([1]Sheet11!B12,8) -> 00:39:10 | D12: =IF(Sheet1!E12=MIN(Sheet1!$E$2:$E$13),"",(IF(Sheet1!E12=MAX(Sheet1!$E$2:$E$13),"",Sheet1!E12))) | E12: =IF(D12="","",Sheet1!C12) | F12: =IF(D12="","",Sheet1!F12) | G12: =IF(D12="","",Sheet1!H12) | H12: =IF(D12="","",Sheet1!I12) | K12: ="" | L12: ="" | M12: ="" | N12: =""
A13: =[1]Sheet11!A13 -> 2476 | B13: =LEFT([1]Sheet11!B13,11) -> 2017-09-26 | C13: =RIGHT([1]Sheet11!B13,8) -> 00:39:19 | D13: =IF(Sheet1!E13=MIN(Sheet1!$E$2:$E$13),"",(IF(Sheet1!E13=MAX(Sheet1!$E$2:$E$13),"",Sheet1!E13))) -> -12.55 | E13: =IF(D13="","",Sheet1!C13) -> 17.28 | F13: =IF(D13="","",Sheet1!F13) -> 34.81 | G13: =IF(D13="","",Sheet1!H13) -> -6.42 | H13: =IF(D13="","",Sheet1!I13) -> -6.14 | K13: ="" | L13: ="" | M13: ="" | N13: =""
