Workbook

Sheet Déc-17
A1: 43070
B2: 48 | E2: =B2+1 -> 49 | L2: =E2+1 -> 50 | S2: =L2+1 -> 51 | Z2: =S2+1 -> 52
B3: =B4 -> 43070 | C3: =C4 -> 43071 | D3: =D4 -> 43072 | E3: =E4 -> 43073 | F3: =F4 -> 43074 | G3: =G4 -> 43075 | H3: =H4 -> 43076 | I3: =I4 -> 43077 | ... AF3: =AF4 -> 43100
A4: Tournée | B4: 43070 | C4: =B4+1 -> 43071 | D4: =C4+1 -> 43072 | E4: =D4+1 -> 43073 | F4: =E4+1 -> 43074 | G4: =F4+1 -> 43075 | H4: =G4+1 -> 43076 | I4: =H4+1 -> 43077 | J4: =I4+1 -> 43078 | ... AF4: =AE4+1 -> 43100
A5: Chauffeur Livreur
A6: T1
A7: T2
A8: T3
A9: T3b
A10: T4
A11: T6
A12: T6b
A13: T8
A14: T9b
A15: T14
A16: T16
... A84: RAMASSE

Sheet Jan-18
A1: Janvier
B2: 1 | I2: 2 | P2: 3 | W2: 4 | AD2: 5
B3: =B4 -> 43101 | C3: =C4 -> 43102 | D3: =D4 -> 43103 | E3: =E4 -> 43104 | F3: =F4 -> 43105 | G3: =G4 -> 43106 | H3: =H4 -> 43107 | I3: =I4 -> 43108 | ... AF3: =AF4 -> 43131
A4: Tournée | B4: ='Déc-17'!AF4+1 -> 43101 | C4: =B4+1 -> 43102 | D4: =C4+1 -> 43103 | E4: =D4+1 -> 43104 | F4: =E4+1 -> 43105 | G4: =F4+1 -> 43106 | H4: =G4+1 -> 43107 | I4: =H4+1 -> 43108 | J4: =I4+1 -> 43109 | ... AF4: =AE4+1 -> 43131
A5: Chauffeur Livreur
A6: T1 | B6: A
A7: T2 | B7: B
A8: T3 | B8: C
A9: T3b | B9: D
A10: T4 | B10: A
A11: T6 | B11: B
A12: T6b | B12: E
A13: T8 | B13: F
A14: T9b
A15: T14
A16: T16
A17: T16b
A18: T20
A19: T23
A20: T51
A21: T52
A22: T56
A23: GEL
A24: RAMASSE
A25: Récupération
... A28: T3
A29: T3b | I29: S_BOUAKAL | J29: S_BOUAKAL | K29: S_BOUAKAL | L29: S_BOUAKAL | M29: S_BOUAKAL | N29: S_BOUAKAL | P29: S_BOUAKAL | Q29: S_BOUAKAL | R29: S_BOUAKAL | S29: S_BOUAKAL | T29: S_BOUAKAL | U29: S_BOUAKAL
A30: T4
A31: T6
A32: T6b
A33: T8
A34: T9b
A35: T14
A36: T16
A37: T16b
A38: T20
A39: T23
A40: T51
A41: T52
... A84: RAMASSE

Sheet Fév-18
A1: Février
B2: ='Jan-18'!AD2 -> 5 | F2: =B2+1 -> 6 | M2: =F2+1 -> 7 | T2: =M2+1 -> 8 | AA2: =T2+1 -> 9
B3: =B4 -> 43132 | C3: =C4 -> 43133 | D3: =D4 -> 43134 | E3: =E4 -> 43135 | F3: =F4 -> 43136 | G3: =G4 -> 43137 | H3: =H4 -> 43138 | I3: =I4 -> 43139 | ... AC3: =AC4 -> 43159
A4: Tournée | B4: ='Jan-18'!AF4+1 -> 43132 | C4: =B4+1 -> 43133 | D4: =C4+1 -> 43134 | E4: =D4+1 -> 43135 | F4: =E4+1 -> 43136 | G4: =F4+1 -> 43137 | H4: =G4+1 -> 43138 | I4: =H4+1 -> 43139 | J4: =I4+1 -> 43140 | ... AC4: =AB4+1 -> 43159
A5: Chauffeur Livreur
A6: T1
A7: T2
A8: T3
A9: T3b
A10: T4
A11: T6
A12: T6b
A13: T8
A14: T9b
A15: T14
A16: T16
... A84: RAMASSE

Sheet Mar-18
A1: Mars
B2: ='Fév-18'!AA2 -> 9 | F2: =B2+1 -> 10 | M2: =F2+1 -> 11 | T2: =M2+1 -> 12 | AA2: =T2+1 -> 13
B3: =B4 -> 43160 | C3: =C4 -> 43161 | D3: =D4 -> 43162 | E3: =E4 -> 43163 | F3: =F4 -> 43164 | G3: =G4 -> 43165 | H3: =H4 -> 43166 | I3: =I4 -> 43167 | ... AF3: =AF4 -> 43190
A4: Tournée | B4: ='Fév-18'!AC4+1 -> 43160 | C4: =B4+1 -> 43161 | D4: =C4+1 -> 43162 | E4: =D4+1 -> 43163 | F4: =E4+1 -> 43164 | G4: =F4+1 -> 43165 | H4: =G4+1 -> 43166 | I4: =H4+1 -> 43167 | J4: =I4+1 -> 43168 | ... AF4: =AE4+1 -> 43190
A5: Chauffeur Livreur
A6: T1
A7: T2
A8: T3
A9: T3b
A10: T4
A11: T6
A12: T6b
A13: T8
A14: T9b
A15: T14
A16: T16
... A84: RAMASSE

Sheet Avr-18
A1: Mars
B2: ='Mar-18'!AA2 -> 13 | C2: =B2+1 -> 14 | J2: =C2+1 -> 15 | Q2: =J2+1 -> 16 | X2: =Q2+1 -> 17 | AE2: =X2+1 -> 18
B3: =B4 -> 43191 | C3: =C4 -> 43192 | D3: =D4 -> 43193 | E3: =E4 -> 43194 | F3: =F4 -> 43195 | G3: =G4 -> 43196 | H3: =H4 -> 43197 | I3: =I4 -> 43198 | ... AE3: =AE4 -> 43220
A4: Tournée | B4: ='Mar-18'!AF4+1 -> 43191 | C4: =B4+1 -> 43192 | D4: =C4+1 -> 43193 | E4: =D4+1 -> 43194 | F4: =E4+1 -> 43195 | G4: =F4+1 -> 43196 | H4: =G4+1 -> 43197 | I4: =H4+1 -> 43198 | J4: =I4+1 -> 43199 | ... AE4: =AD4+1 -> 43220
A5: Chauffeur Livreur
A6: T1
A7: T2
A8: T3
A9: T3b
A10: T4
A11: T6
A12: T6b
A13: T8
A14: T9b
A15: T14
A16: T16
... A84: RAMASSE

Sheet Mai-18
A1: Mars
B2: ='Avr-18'!AE2 -> 18 | H2: =B2+1 -> 19 | O2: =H2+1 -> 20 | V2: =O2+1 -> 21 | AC2: =V2+1 -> 22
B3: =B4 -> 43221 | C3: =C4 -> 43222 | D3: =D4 -> 43223 | E3: =E4 -> 43224 | F3: =F4 -> 43225 | G3: =G4 -> 43226 | H3: =H4 -> 43227 | I3: =I4 -> 43228 | ... AF3: =AF4 -> 43251
A4: Tournée | B4: ='Avr-18'!AE4+1 -> 43221 | C4: =B4+1 -> 43222 | D4: =C4+1 -> 43223 | E4: =D4+1 -> 43224 | F4: =E4+1 -> 43225 | G4: =F4+1 -> 43226 | H4: =G4+1 -> 43227 | I4: =H4+1 -> 43228 | J4: =I4+1 -> 43229 | ... AF4: =AE4+1 -> 43251
A5: Chauffeur Livreur
A6: T1
A7: T2
A8: T3
A9: T3b
A10: T4
A11: T6
A12: T6b
A13: T8
A14: T9b
A15: T14
A16: T16
A17: T16b | AA17: 0
A18: T20
A19: T23
A20: T51
A21: T52
A22: T56
A23: GEL
A24: RAMASSE
A25: Récupération
A26: T1
A27: T2
A28: T3
A29: T3b
... A84: RAMASSE

Sheet Jui-18
A1: Juin
B2: ='Mai-18'!AC2 -> 22 | E2: =B2+1 -> 23 | L2: =E2+1 -> 24 | S2: =L2+1 -> 25 | Z2: =S2+1 -> 26
B3: =B4 -> 43252 | C3: =C4 -> 43253 | D3: =D4 -> 43254 | E3: =E4 -> 43255 | F3: =F4 -> 43256 | G3: =G4 -> 43257 | H3: =H4 -> 43258 | I3: =I4 -> 43259 | ... AE3: =AE4 -> 43281
A4: Tournée | B4: ='Mai-18'!AF4+1 -> 43252 | C4: =B4+1 -> 43253 | D4: =C4+1 -> 43254 | E4: =D4+1 -> 43255 | F4: =E4+1 -> 43256 | G4: =F4+1 -> 43257 | H4: =G4+1 -> 43258 | I4: =H4+1 -> 43259 | J4: =I4+1 -> 43260 | ... AE4: =AD4+1 -> 43281
A5: Chauffeur Livreur | AF5: Jui
A6: T1
A7: T2
A8: T3
A9: T3b
A10: T4
A11: T6
A12: T6b
A13: T8
A14: T9b
A15: T14
A16: T16
A17: T16b
... A84: RAMASSE

Sheet Juil-18
A1: Juillet
B2: ='Jui-18'!Z2 -> 26 | C2: =B2+1 -> 27 | J2: =C2+1 -> 28 | Q2: =J2+1 -> 29 | X2: =Q2+1 -> 30 | AE2: =X2+1 -> 31
B3: =B4 -> 43282 | C3: =C4 -> 43283 | D3: =D4 -> 43284 | E3: =E4 -> 43285 | F3: =F4 -> 43286 | G3: =G4 -> 43287 | H3: =H4 -> 43288 | I3: =I4 -> 43289 | ... AF3: =AF4 -> 43312
A4: Tournée | B4: ='Jui-18'!AE4+1 -> 43282 | C4: =B4+1 -> 43283 | D4: =C4+1 -> 43284 | E4: =D4+1 -> 43285 | F4: =E4+1 -> 43286 | G4: =F4+1 -> 43287 | H4: =G4+1 -> 43288 | I4: =H4+1 -> 43289 | J4: =I4+1 -> 43290 | ... AF4: =AE4+1 -> 43312
A5: Chauffeur Livreur
A6: T1
A7: T2
A8: T3
A9: T3b
A10: T4
A11: T6
A12: T6b
A13: T8
A14: T9b
A15: T14
A16: T16
A17: T16b | AA17: 0
A18: T20
A19: T23
A20: T51
A21: T52
A22: T56
A23: GEL
A24: RAMASSE
A25: Récupération
A26: T1
A27: T2
A28: T3
A29: T3b
... A84: RAMASSE

Sheet Aoû-18
A1: Août
B2: ='Juil-18'!AE2 -> 31 | G2: =B2+1 -> 32 | N2: =G2+1 -> 33 | U2: =N2+1 -> 34 | AB2: =U2+1 -> 35
B3: =B4 -> 43313 | C3: =C4 -> 43314 | D3: =D4 -> 43315 | E3: =E4 -> 43316 | F3: =F4 -> 43317 | G3: =G4 -> 43318 | H3: =H4 -> 43319 | I3: =I4 -> 43320 | ... AF3: =AF4 -> 43343
A4: Tournée | B4: ='Juil-18'!AF4+1 -> 43313 | C4: =B4+1 -> 43314 | D4: =C4+1 -> 43315 | E4: =D4+1 -> 43316 | F4: =E4+1 -> 43317 | G4: =F4+1 -> 43318 | H4: =G4+1 -> 43319 | I4: =H4+1 -> 43320 | J4: =I4+1 -> 43321 | ... AF4: =AE4+1 -> 43343
A5: Chauffeur Livreur
A6: T1
A7: T2
A8: T3
A9: T3b
A10: T4
A11: T6
A12: T6b
A13: T8
A14: T9b
A15: T14
A16: T16
... A40: T51
A41: T52 | B41: 0
A42: T56
A43: GEL
A44: RAMASSE
A45: Congés Payés
A46: T1
A47: T2
A48: T3
A49: T3b
A50: T4
A51: T6
A52: T6b
A53: T8
... A60: T51
A61: T52 | B61: 0
A62: T56
A63: GEL
A64: RAMASSE
A65: Absences
A66: T1
A67: T2
A68: T3
A69: T3b
A70: T4
A71: T6
A72: T6b
A73: T8
... A80: T51
A81: T52 | B81: 0
A82: T56
A83: GEL
A84: RAMASSE
A85: Récup/A.T./C.P./
B94: 0
B105: 0
B106: #REF!
B108: Colonne3 | C108: Colonne4 | D108: Colonne5 | E108: Colonne6 | F108: Colonne7 | G108: Colonne8 | H108: Colonne9 | I108: Colonne10 | J108: Colonne11 | K108: Colonne12 | L108: Colonne13 | M108: Colonne14 | N108: Colonne15 | O108: Colonne16 | P108: Colonne17 | Q108: Colonne18 | R108: Colonne19 | S108: Colonne20 | T108: Colonne21 | U108: Colonne22 | V108: Colonne23 | W108: Colonne24 | X108: Colonne25 | Y108: Colonne26 | Z108: Colonne27 | AA108: Colonne28 | AB108: Colonne29 | AC108: Colonne30 | AD108: Colonne31 | AE108: Colonne32
B109: 43101 | C109: 43102 | D109: 43103 | E109: 43104 | F109: 43105 | G109: 43106 | H109: 43107 | I109: 43108 | J109: 43109 | K109: 43110 | L109: 43111 | M109: 43112 | N109: 43113 | O109: 43114 | P109: 43115 | Q109: 43116 | R109: 43117 | S109: 43118 | T109: 43119 | U109: 43120 | V109: 43121 | W109: 43122 | X109: 43123 | Y109: 43124 | Z109: 43125 | AA109: 43126 | AB109: 43127 | AC109: 43128 | AD109: 43129 | AE109: 43130
B110: 43101 | C110: 43102 | D110: 43103 | E110: 43104 | F110: 43105 | G110: 43106 | H110: 43107 | I110: 43108 | J110: 43109 | K110: 43110 | L110: 43111 | M110: 43112 | N110: 43113 | O110: 43114 | P110: 43115 | Q110: 43116 | R110: 43117 | S110: 43118 | T110: 43119 | U110: 43120 | V110: 43121 | W110: 43122 | X110: 43123 | Y110: 43124 | Z110: 43125 | AA110: 43126 | AB110: 43127 | AC110: 43128 | AD110: 43129 | AE110: 43130
B111: #REF! | C111: #REF! | D111: #REF! | E111: #REF! | F111: #REF! | G111: #REF! | H111: #REF! | I111: #REF! | J111: #REF! | K111: #REF! | L111: #REF! | M111: #REF! | N111: #REF! | O111: #REF! | P111: #REF! | Q111: #REF! | R111: #REF! | S111: #REF! | T111: #REF! | U111: #REF! | V111: #REF! | W111: #REF! | X111: #REF! | Y111: #REF! | Z111: #REF! | AA111: #REF! | AB111: #REF! | AC111: #REF! | AD111: #REF! | AE111: #REF!
B112: #REF! | C112: #REF! | D112: #REF! | E112: #REF! | F112: #REF! | G112: #REF! | H112: #REF! | I112: #REF! | J112: #REF! | K112: #REF! | L112: #REF! | M112: #REF! | N112: #REF! | O112: #REF! | P112: #REF! | Q112: #REF! | R112: #REF! | S112: #REF! | T112: #REF! | U112: #REF! | V112: #REF! | W112: #REF! | X112: #REF! | Y112: #REF! | Z112: #REF! | AA112: #REF! | AB112: #REF! | AC112: #REF! | AD112: #REF! | AE112: #REF!
B113: #REF! | C113: #REF! | D113: #REF! | E113: #REF! | F113: #REF! | G113: #REF! | H113: #REF! | I113: #REF! | J113: #REF! | K113: #REF! | L113: #REF! | M113: #REF! | N113: #REF! | O113: #REF! | P113: #REF! | Q113: #REF! | R113: #REF! | S113: #REF! | T113: #REF! | U113: #REF! | V113: #REF! | W113: #REF! | X113: #REF! | Y113: #REF! | Z113: #REF! | AA113: #REF! | AB113: #REF! | AC113: #REF! | AD113: #REF! | AE113: #REF!
B114: #REF! | C114: #REF! | D114: #REF! | E114: #REF! | F114: #REF! | G114: #REF! | H114: #REF! | I114: #REF! | J114: #REF! | K114: #REF! | L114: #REF! | M114: #REF! | N114: #REF! | O114: #REF! | P114: #REF! | Q114: #REF! | R114: #REF! | S114: #REF! | T114: #REF! | U114: #REF! | V114: #REF! | W114: #REF! | X114: #REF! | Y114: #REF! | Z114: #REF! | AA114: #REF! | AB114: #REF! | AC114: #REF! | AD114: #REF! | AE114: #REF!
B115: #REF! | C115: #REF! | D115: #REF! | E115: #REF! | F115: #REF! | G115: #REF! | H115: #REF! | I115: #REF! | J115: #REF! | K115: #REF! | L115: #REF! | M115: #REF! | N115: #REF! | O115: #REF! | P115: #REF! | Q115: #REF! | R115: #REF! | S115: #REF! | T115: #REF! | U115: #REF! | V115: #REF! | W115: #REF! | X115: #REF! | Y115: #REF! | Z115: #REF! | AA115: #REF! | AB115: #REF! | AC115: #REF! | AD115: #REF! | AE115: #REF!
B116: #REF! | C116: #REF! | D116: #REF! | E116: #REF! | F116: #REF! | G116: #REF! | H116: #REF! | I116: #REF! | J116: #REF! | K116: #REF! | L116: #REF! | M116: #REF! | N116: #REF! | O116: #REF! | P116: #REF! | Q116: #REF! | R116: #REF! | S116: #REF! | T116: #REF! | U116: #REF! | V116: #REF! | W116: #REF! | X116: #REF! | Y116: #REF! | Z116: #REF! | AA116: #REF! | AB116: #REF! | AC116: #REF! | AD116: #REF! | AE116: #REF!
B117: #REF! | C117: #REF! | D117: #REF! | E117: #REF! | F117: #REF! | G117: #REF! | H117: #REF! | I117: #REF! | J117: #REF! | K117: #REF! | L117: #REF! | M117: #REF! | N117: #REF! | O117: #REF! | P117: #REF! | Q117: #REF! | R117: #REF! | S117: #REF! | T117: #REF! | U117: #REF! | V117: #REF! | W117: #REF! | X117: #REF! | Y117: #REF! | Z117: #REF! | AA117: #REF! | AB117: #REF! | AC117: #REF! | AD117: #REF! | AE117: #REF!
B118: #REF! | C118: #REF! | D118: #REF! | E118: #REF! | F118: #REF! | G118: #REF! | H118: #REF! | I118: #REF! | J118: #REF! | K118: #REF! | L118: #REF! | M118: #REF! | N118: #REF! | O118: #REF! | P118: #REF! | Q118: #REF! | R118: #REF! | S118: #REF! | T118: #REF! | U118: #REF! | V118: #REF! | W118: #REF! | X118: #REF! | Y118: #REF! | Z118: #REF! | AA118: #REF! | AB118: #REF! | AC118: #REF! | AD118: #REF! | AE118: #REF!
B119: #REF! | C119: #REF! | D119: #REF! | E119: #REF! | F119: #REF! | G119: #REF! | H119: #REF! | I119: #REF! | J119: #REF! | K119: #REF! | L119: #REF! | M119: #REF! | N119: #REF! | O119: #REF! | P119: #REF! | Q119: #REF! | R119: #REF! | S119: #REF! | T119: #REF! | U119: #REF! | V119: #REF! | W119: #REF! | X119: #REF! | Y119: #REF! | Z119: #REF! | AA119: #REF! | AB119: #REF! | AC119: #REF! | AD119: #REF! | AE119: #REF!
B120: #REF! | C120: #REF! | D120: #REF! | E120: #REF! | F120: #REF! | G120: #REF! | H120: #REF! | I120: #REF! | J120: #REF! | K120: #REF! | L120: #REF! | M120: #REF! | N120: #REF! | O120: #REF! | P120: #REF! | Q120: #REF! | R120: #REF! | S120: #REF! | T120: #REF! | U120: #REF! | V120: #REF! | W120: #REF! | X120: #REF! | Y120: #REF! | Z120: #REF! | AA120: #REF! | AB120: #REF! | AC120: #REF! | AD120: #REF! | AE120: #REF!
B121: #REF! | C121: #REF! | D121: #REF! | E121: #REF! | F121: #REF! | G121: #REF! | H121: #REF! | I121: #REF! | J121: #REF! | K121: #REF! | L121: #REF! | M121: #REF! | N121: #REF! | O121: #REF! | P121: #REF! | Q121: #REF! | R121: #REF! | S121: #REF! | T121: #REF! | U121: #REF! | V121: #REF! | W121: #REF! | X121: #REF! | Y121: #REF! | Z121: #REF! | AA121: #REF! | AB121: #REF! | AC121: #REF! | AD121: #REF! | AE121: #REF!
B122: #REF! | C122: #REF! | D122: #REF! | E122: #REF! | F122: #REF! | G122: #REF! | H122: #REF! | I122: #REF! | J122: #REF! | K122: #REF! | L122: #REF! | M122: #REF! | N122: #REF! | O122: #REF! | P122: #REF! | Q122: #REF! | R122: #REF! | S122: #REF! | T122: #REF! | U122: #REF! | V122: #REF! | W122: #REF! | X122: #REF! | Y122: #REF! | Z122: #REF! | AA122: #REF! | AB122: #REF! | AC122: #REF! | AD122: #REF! | AE122: #REF!
... B180: #REF! | C180: #REF! | D180: #REF! | E180: #REF! | F180: #REF! | G180: #REF! | H180: #REF! | I180: #REF! | J180: #REF! | K180: #REF! | L180: #REF! | M180: #REF! | N180: #REF! | O180: #REF! | P180: #REF! | Q180: #REF! | R180: #REF! | S180: #REF! | T180: #REF! | U180: #REF! | V180: #REF! | W180: #REF! | X180: #REF! | Y180: #REF! | Z180: #REF! | AA180: #REF! | AB180: #REF! | AC180: #REF! | AD180: #REF! | AE180: #REF!
B182: 70 | C182: 70 | D182: 70 | E182: 70 | F182: 70 | G182: 70 | H182: 70 | I182: 70 | J182: 70 | K182: 70 | L182: 70 | M182: 70 | N182: 70 | O182: 70 | P182: 70 | Q182: 70 | R182: 70 | S182: 70 | T182: 70 | U182: 70 | V182: 70 | W182: 70 | X182: 70 | Y182: 70 | Z182: 70 | AA182: 70 | AB182: 70 | AC182: 70 | AD182: 70 | AE182: 70
B183: #REF! | C183: #REF! | D183: #REF! | E183: #REF! | F183: #REF! | G183: #REF! | H183: #REF! | I183: #REF! | J183: #REF! | K183: #REF! | L183: #REF! | M183: #REF! | N183: #REF! | O183: #REF! | P183: #REF! | Q183: #REF! | R183: #REF! | S183: #REF! | T183: #REF! | U183: #REF! | V183: #REF! | W183: #REF! | X183: #REF! | Y183: #REF! | Z183: #REF! | AA183: #REF! | AB183: #REF! | AC183: #REF! | AD183: #REF! | AE183: #REF!
B184: 70 | C184: 70 | D184: 70 | E184: 70 | F184: 70 | G184: 70 | H184: 70 | I184: 70 | J184: 70 | K184: 70 | L184: 70 | M184: 70 | N184: 70 | O184: 70 | P184: 70 | Q184: 70 | R184: 70 | S184: 70 | T184: 70 | U184: 70 | V184: 70 | W184: 70 | X184: 70 | Y184: 70 | Z184: 70 | AA184: 70 | AB184: 70 | AC184: 70 | AD184: 70 | AE184: 70
B185: #REF! | C185: #REF! | D185: #REF! | E185: #REF! | F185: #REF! | G185: #REF! | H185: #REF! | I185: #REF! | J185: #REF! | K185: #REF! | L185: #REF! | M185: #REF! | N185: #REF! | O185: #REF! | P185: #REF! | Q185: #REF! | R185: #REF! | S185: #REF! | T185: #REF! | U185: #REF! | V185: #REF! | W185: #REF! | X185: #REF! | Y185: #REF! | Z185: #REF! | AA185: #REF! | AB185: #REF! | AC185: #REF! | AD185: #REF! | AE185: #REF!
B186: 70 | C186: 70 | D186: 70 | E186: 70 | F186: 70 | G186: 70 | H186: 70 | I186: 70 | J186: 70 | K186: 70 | L186: 70 | M186: 70 | N186: 70 | O186: 70 | P186: 70 | Q186: 70 | R186: 70 | S186: 70 | T186: 70 | U186: 70 | V186: 70 | W186: 70 | X186: 70 | Y186: 70 | Z186: 70 | AA186: 70 | AB186: 70 | AC186: 70 | AD186: 70 | AE186: 70
B187: #REF! | C187: #REF! | D187: #REF! | E187: #REF! | F187: #REF! | G187: #REF! | H187: #REF! | I187: #REF! | J187: #REF! | K187: #REF! | L187: #REF! | M187: #REF! | N187: #REF! | O187: #REF! | P187: #REF! | Q187: #REF! | R187: #REF! | S187: #REF! | T187: #REF! | U187: #REF! | V187: #REF! | W187: #REF! | X187: #REF! | Y187: #REF! | Z187: #REF! | AA187: #REF! | AB187: #REF! | AC187: #REF! | AD187: #REF! | AE187: #REF!
B188: 70 | C188: 70 | D188: 70 | E188: 70 | F188: 70 | G188: 70 | H188: 70 | I188: 70 | J188: 70 | K188: 70 | L188: 70 | M188: 70 | N188: 70 | O188: 70 | P188: 70 | Q188: 70 | R188: 70 | S188: 70 | T188: 70 | U188: 70 | V188: 70 | W188: 70 | X188: 70 | Y188: 70 | Z188: 70 | AA188: 70 | AB188: 70 | AC188: 70 | AD188: 70 | AE188: 70
B189: #REF! | C189: #REF! | D189: #REF! | E189: #REF! | F189: #REF! | G189: #REF! | H189: #REF! | I189: #REF! | J189: #REF! | K189: #REF! | L189: #REF! | M189: #REF! | N189: #REF! | O189: #REF! | P189: #REF! | Q189: #REF! | R189: #REF! | S189: #REF! | T189: #REF! | U189: #REF! | V189: #REF! | W189: #REF! | X189: #REF! | Y189: #REF! | Z189: #REF! | AA189: #REF! | AB189: #REF! | AC189: #REF! | AD189: #REF! | AE189: #REF!
B190: 70 | C190: 70 | D190: 70 | E190: 70 | F190: 70 | G190: 70 | H190: 70 | I190: 70 | J190: 70 | K190: 70 | L190: 70 | M190: 70 | N190: 70 | O190: 70 | P190: 70 | Q190: 70 | R190: 70 | S190: 70 | T190: 70 | U190: 70 | V190: 70 | W190: 70 | X190: 70 | Y190: 70 | Z190: 70 | AA190: 70 | AB190: 70 | AC190: 70 | AD190: 70 | AE190: 70
B191: #REF! | C191: #REF! | D191: #REF! | E191: #REF! | F191: #REF! | G191: #REF! | H191: #REF! | I191: #REF! | J191: #REF! | K191: #REF! | L191: #REF! | M191: #REF! | N191: #REF! | O191: #REF! | P191: #REF! | Q191: #REF! | R191: #REF! | S191: #REF! | T191: #REF! | U191: #REF! | V191: #REF! | W191: #REF! | X191: #REF! | Y191: #REF! | Z191: #REF! | AA191: #REF! | AB191: #REF! | AC191: #REF! | AD191: #REF! | AE191: #REF!
B192: 70 | C192: 70 | D192: 70 | E192: 70 | F192: 70 | G192: 70 | H192: 70 | I192: 70 | J192: 70 | K192: 70 | L192: 70 | M192: 70 | N192: 70 | O192: 70 | P192: 70 | Q192: 70 | R192: 70 | S192: 70 | T192: 70 | U192: 70 | V192: 70 | W192: 70 | X192: 70 | Y192: 70 | Z192: 70 | AA192: 70 | AB192: 70 | AC192: 70 | AD192: 70 | AE192: 70
B193: #REF! | C193: #REF! | D193: #REF! | E193: #REF! | F193: #REF! | G193: #REF! | H193: #REF! | I193: #REF! | J193: #REF! | K193: #REF! | L193: #REF! | M193: #REF! | N193: #REF! | O193: #REF! | P193: #REF! | Q193: #REF! | R193: #REF! | S193: #REF! | T193: #REF! | U193: #REF! | V193: #REF! | W193: #REF! | X193: #REF! | Y193: #REF! | Z193: #REF! | AA193: #REF! | AB193: #REF! | AC193: #REF! | AD193: #REF! | AE193: #REF!
B194: 70 | C194: 70 | D194: 70 | E194: 70 | F194: 70 | G194: 70 | H194: 70 | I194: 70 | J194: 70 | K194: 70 | L194: 70 | M194: 70 | N194: 70 | O194: 70 | P194: 70 | Q194: 70 | R194: 70 | S194: 70 | T194: 70 | U194: 70 | V194: 70 | W194: 70 | X194: 70 | Y194: 70 | Z194: 70 | AA194: 70 | AB194: 70 | AC194: 70 | AD194: 70 | AE194: 70
B195: #REF! | C195: #REF! | D195: #REF! | E195: #REF! | F195: #REF! | G195: #REF! | H195: #REF! | I195: #REF! | J195: #REF! | K195: #REF! | L195: #REF! | M195: #REF! | N195: #REF! | O195: #REF! | P195: #REF! | Q195: #REF! | R195: #REF! | S195: #REF! | T195: #REF! | U195: #REF! | V195: #REF! | W195: #REF! | X195: #REF! | Y195: #REF! | Z195: #REF! | AA195: #REF! | AB195: #REF! | AC195: #REF! | AD195: #REF! | AE195: #REF!
B196: 70 | C196: 70 | D196: 70 | E196: 70 | F196: 70 | G196: 70 | H196: 70 | I196: 70 | J196: 70 | K196: 70 | L196: 70 | M196: 70 | N196: 70 | O196: 70 | P196: 70 | Q196: 70 | R196: 70 | S196: 70 | T196: 70 | U196: 70 | V196: 70 | W196: 70 | X196: 70 | Y196: 70 | Z196: 70 | AA196: 70 | AB196: 70 | AC196: 70 | AD196: 70 | AE196: 70
B197: #REF! | C197: #REF! | D197: #REF! | E197: #REF! | F197: #REF! | G197: #REF! | H197: #REF! | I197: #REF! | J197: #REF! | K197: #REF! | L197: #REF! | M197: #REF! | N197: #REF! | O197: #REF! | P197: #REF! | Q197: #REF! | R197: #REF! | S197: #REF! | T197: #REF! | U197: #REF! | V197: #REF! | W197: #REF! | X197: #REF! | Y197: #REF! | Z197: #REF! | AA197: #REF! | AB197: #REF! | AC197: #REF! | AD197: #REF! | AE197: #REF!
B198: 70 | C198: 70 | D198: 70 | E198: 70 | F198: 70 | G198: 70 | H198: 70 | I198: 70 | J198: 70 | K198: 70 | L198: 70 | M198: 70 | N198: 70 | O198: 70 | P198: 70 | Q198: 70 | R198: 70 | S198: 70 | T198: 70 | U198: 70 | V198: 70 | W198: 70 | X198: 70 | Y198: 70 | Z198: 70 | AA198: 70 | AB198: 70 | AC198: 70 | AD198: 70 | AE198: 70
B199: #REF! | C199: #REF! | D199: #REF! | E199: #REF! | F199: #REF! | G199: #REF! | H199: #REF! | I199: #REF! | J199: #REF! | K199: #REF! | L199: #REF! | M199: #REF! | N199: #REF! | O199: #REF! | P199: #REF! | Q199: #REF! | R199: #REF! | S199: #REF! | T199: #REF! | U199: #REF! | V199: #REF! | W199: #REF! | X199: #REF! | Y199: #REF! | Z199: #REF! | AA199: #REF! | AB199: #REF! | AC199: #REF! | AD199: #REF! | AE199: #REF!
B200: 70 | C200: 70 | D200: 70 | E200: 70 | F200: 70 | G200: 70 | H200: 70 | I200: 70 | J200: 70 | K200: 70 | L200: 70 | M200: 70 | N200: 70 | O200: 70 | P200: 70 | Q200: 70 | R200: 70 | S200: 70 | T200: 70 | U200: 70 | V200: 70 | W200: 70 | X200: 70 | Y200: 70 | Z200: 70 | AA200: 70 | AB200: 70 | AC200: 70 | AD200: 70 | AE200: 70
B201: 70 | C201: 70 | D201: 70 | E201: 70 | F201: 70 | G201: 70 | H201: 70 | I201: 70 | J201: 70 | K201: 70 | L201: 70 | M201: 70 | N201: 70 | O201: 70 | P201: 70 | Q201: 70 | R201: 70 | S201: 70 | T201: 70 | U201: 70 | V201: 70 | W201: 70 | X201: 70 | Y201: 70 | Z201: 70 | AA201: 70 | AB201: 70 | AC201: 70 | AD201: 70 | AE201: 70
B202: 70 | C202: 70 | D202: 70 | E202: 70 | F202: 70 | G202: 70 | H202: 70 | I202: 70 | J202: 70 | K202: 70 | L202: 70 | M202: 70 | N202: 70 | O202: 70 | P202: 70 | Q202: 70 | R202: 70 | S202: 70 | T202: 70 | U202: 70 | V202: 70 | W202: 70 | X202: 70 | Y202: 70 | Z202: 70 | AA202: 70 | AB202: 70 | AC202: 70 | AD202: 70 | AE202: 70

Sheet Sep-18
A1: Septembre
B2: ='Aoû-18'!AB2 -> 35 | D2: =B2+1 -> 36 | K2: =D2+1 -> 37 | R2: =K2+1 -> 38 | Y2: =R2+1 -> 39
B3: =B4 -> 43344 | C3: =C4 -> 43345 | D3: =D4 -> 43346 | E3: =E4 -> 43347 | F3: =F4 -> 43348 | G3: =G4 -> 43349 | H3: =H4 -> 43350 | I3: =I4 -> 43351 | ... AE3: =AE4 -> 43373
A4: Tournée | B4: ='Aoû-18'!AF4+1 -> 43344 | C4: =B4+1 -> 43345 | D4: =C4+1 -> 43346 | E4: =D4+1 -> 43347 | F4: =E4+1 -> 43348 | G4: =F4+1 -> 43349 | H4: =G4+1 -> 43350 | I4: =H4+1 -> 43351 | J4: =I4+1 -> 43352 | ... AE4: =AD4+1 -> 43373
A5: Chauffeur Livreur
A6: T1
A7: T2
A8: T3
A9: T3b
A10: T4
A11: T6
A12: T6b
A13: T8
A14: T9b
A15: T14
A16: T16
... A40: T51
A41: T52 | B41: 0
A42: T56
A43: GEL
A44: RAMASSE
A45: Congés Payés
A46: T1
A47: T2
A48: T3
A49: T3b
A50: T4
A51: T6
A52: T6b
A53: T8
... A60: T51
A61: T52 | B61: 0
A62: T56
A63: GEL
A64: RAMASSE
A65: Absences
A66: T1
A67: T2
A68: T3
A69: T3b
A70: T4
A71: T6
A72: T6b
A73: T8
... A80: T51
A81: T52 | B81: 0
A82: T56
A83: GEL
A84: RAMASSE
A85: Récup/A.T./C.P./
B94: 0
B105: 0
B106: #REF!
B108: Colonne3 | C108: Colonne4 | D108: Colonne5 | E108: Colonne6 | F108: Colonne7 | G108: Colonne8 | H108: Colonne9 | I108: Colonne10 | J108: Colonne11 | K108: Colonne12 | L108: Colonne13 | M108: Colonne14 | N108: Colonne15 | O108: Colonne16 | P108: Colonne17 | Q108: Colonne18 | R108: Colonne19 | S108: Colonne20 | T108: Colonne21 | U108: Colonne22 | V108: Colonne23 | W108: Colonne24 | X108: Colonne25 | Y108: Colonne26 | Z108: Colonne27 | AA108: Colonne28 | AB108: Colonne29 | AC108: Colonne30 | AD108: Colonne31 | AE108: Colonne32
B109: 43101 | C109: 43102 | D109: 43103 | E109: 43104 | F109: 43105 | G109: 43106 | H109: 43107 | I109: 43108 | J109: 43109 | K109: 43110 | L109: 43111 | M109: 43112 | N109: 43113 | O109: 43114 | P109: 43115 | Q109: 43116 | R109: 43117 | S109: 43118 | T109: 43119 | U109: 43120 | V109: 43121 | W109: 43122 | X109: 43123 | Y109: 43124 | Z109: 43125 | AA109: 43126 | AB109: 43127 | AC109: 43128 | AD109: 43129 | AE109: 43130
B110: 43101 | C110: 43102 | D110: 43103 | E110: 43104 | F110: 43105 | G110: 43106 | H110: 43107 | I110: 43108 | J110: 43109 | K110: 43110 | L110: 43111 | M110: 43112 | N110: 43113 | O110: 43114 | P110: 43115 | Q110: 43116 | R110: 43117 | S110: 43118 | T110: 43119 | U110: 43120 | V110: 43121 | W110: 43122 | X110: 43123 | Y110: 43124 | Z110: 43125 | AA110: 43126 | AB110: 43127 | AC110: 43128 | AD110: 43129 | AE110: 43130
B111: #REF! | C111: #REF! | D111: #REF! | E111: #REF! | F111: #REF! | G111: #REF! | H111: #REF! | I111: #REF! | J111: #REF! | K111: #REF! | L111: #REF! | M111: #REF! | N111: #REF! | O111: #REF! | P111: #REF! | Q111: #REF! | R111: #REF! | S111: #REF! | T111: #REF! | U111: #REF! | V111: #REF! | W111: #REF! | X111: #REF! | Y111: #REF! | Z111: #REF! | AA111: #REF! | AB111: #REF! | AC111: #REF! | AD111: #REF! | AE111: #REF!
B112: #REF! | C112: #REF! | D112: #REF! | E112: #REF! | F112: #REF! | G112: #REF! | H112: #REF! | I112: #REF! | J112: #REF! | K112: #REF! | L112: #REF! | M112: #REF! | N112: #REF! | O112: #REF! | P112: #REF! | Q112: #REF! | R112: #REF! | S112: #REF! | T112: #REF! | U112: #REF! | V112: #REF! | W112: #REF! | X112: #REF! | Y112: #REF! | Z112: #REF! | AA112: #REF! | AB112: #REF! | AC112: #REF! | AD112: #REF! | AE112: #REF!
B113: #REF! | C113: #REF! | D113: #REF! | E113: #REF! | F113: #REF! | G113: #REF! | H113: #REF! | I113: #REF! | J113: #REF! | K113: #REF! | L113: #REF! | M113: #REF! | N113: #REF! | O113: #REF! | P113: #REF! | Q113: #REF! | R113: #REF! | S113: #REF! | T113: #REF! | U113: #REF! | V113: #REF! | W113: #REF! | X113: #REF! | Y113: #REF! | Z113: #REF! | AA113: #REF! | AB113: #REF! | AC113: #REF! | AD113: #REF! | AE113: #REF!
B114: #REF! | C114: #REF! | D114: #REF! | E114: #REF! | F114: #REF! | G114: #REF! | H114: #REF! | I114: #REF! | J114: #REF! | K114: #REF! | L114: #REF! | M114: #REF! | N114: #REF! | O114: #REF! | P114: #REF! | Q114: #REF! | R114: #REF! | S114: #REF! | T114: #REF! | U114: #REF! | V114: #REF! | W114: #REF! | X114: #REF! | Y114: #REF! | Z114: #REF! | AA114: #REF! | AB114: #REF! | AC114: #REF! | AD114: #REF! | AE114: #REF!
B115: #REF! | C115: #REF! | D115: #REF! | E115: #REF! | F115: #REF! | G115: #REF! | H115: #REF! | I115: #REF! | J115: #REF! | K115: #REF! | L115: #REF! | M115: #REF! | N115: #REF! | O115: #REF! | P115: #REF! | Q115: #REF! | R115: #REF! | S115: #REF! | T115: #REF! | U115: #REF! | V115: #REF! | W115: #REF! | X115: #REF! | Y115: #REF! | Z115: #REF! | AA115: #REF! | AB115: #REF! | AC115: #REF! | AD115: #REF! | AE115: #REF!
B116: #REF! | C116: #REF! | D116: #REF! | E116: #REF! | F116: #REF! | G116: #REF! | H116: #REF! | I116: #REF! | J116: #REF! | K116: #REF! | L116: #REF! | M116: #REF! | N116: #REF! | O116: #REF! | P116: #REF! | Q116: #REF! | R116: #REF! | S116: #REF! | T116: #REF! | U116: #REF! | V116: #REF! | W116: #REF! | X116: #REF! | Y116: #REF! | Z116: #REF! | AA116: #REF! | AB116: #REF! | AC116: #REF! | AD116: #REF! | AE116: #REF!
B117: #REF! | C117: #REF! | D117: #REF! | E117: #REF! | F117: #REF! | G117: #REF! | H117: #REF! | I117: #REF! | J117: #REF! | K117: #REF! | L117: #REF! | M117: #REF! | N117: #REF! | O117: #REF! | P117: #REF! | Q117: #REF! | R117: #REF! | S117: #REF! | T117: #REF! | U117: #REF! | V117: #REF! | W117: #REF! | X117: #REF! | Y117: #REF! | Z117: #REF! | AA117: #REF! | AB117: #REF! | AC117: #REF! | AD117: #REF! | AE117: #REF!
B118: #REF! | C118: #REF! | D118: #REF! | E118: #REF! | F118: #REF! | G118: #REF! | H118: #REF! | I118: #REF! | J118: #REF! | K118: #REF! | L118: #REF! | M118: #REF! | N118: #REF! | O118: #REF! | P118: #REF! | Q118: #REF! | R118: #REF! | S118: #REF! | T118: #REF! | U118: #REF! | V118: #REF! | W118: #REF! | X118: #REF! | Y118: #REF! | Z118: #REF! | AA118: #REF! | AB118: #REF! | AC118: #REF! | AD118: #REF! | AE118: #REF!
B119: #REF! | C119: #REF! | D119: #REF! | E119: #REF! | F119: #REF! | G119: #REF! | H119: #REF! | I119: #REF! | J119: #REF! | K119: #REF! | L119: #REF! | M119: #REF! | N119: #REF! | O119: #REF! | P119: #REF! | Q119: #REF! | R119: #REF! | S119: #REF! | T119: #REF! | U119: #REF! | V119: #REF! | W119: #REF! | X119: #REF! | Y119: #REF! | Z119: #REF! | AA119: #REF! | AB119: #REF! | AC119: #REF! | AD119: #REF! | AE119: #REF!
B120: #REF! | C120: #REF! | D120: #REF! | E120: #REF! | F120: #REF! | G120: #REF! | H120: #REF! | I120: #REF! | J120: #REF! | K120: #REF! | L120: #REF! | M120: #REF! | N120: #REF! | O120: #REF! | P120: #REF! | Q120: #REF! | R120: #REF! | S120: #REF! | T120: #REF! | U120: #REF! | V120: #REF! | W120: #REF! | X120: #REF! | Y120: #REF! | Z120: #REF! | AA120: #REF! | AB120: #REF! | AC120: #REF! | AD120: #REF! | AE120: #REF!
B121: #REF! | C121: #REF! | D121: #REF! | E121: #REF! | F121: #REF! | G121: #REF! | H121: #REF! | I121: #REF! | J121: #REF! | K121: #REF! | L121: #REF! | M121: #REF! | N121: #REF! | O121: #REF! | P121: #REF! | Q121: #REF! | R121: #REF! | S121: #REF! | T121: #REF! | U121: #REF! | V121: #REF! | W121: #REF! | X121: #REF! | Y121: #REF! | Z121: #REF! | AA121: #REF! | AB121: #REF! | AC121: #REF! | AD121: #REF! | AE121: #REF!
B122: #REF! | C122: #REF! | D122: #REF! | E122: #REF! | F122: #REF! | G122: #REF! | H122: #REF! | I122: #REF! | J122: #REF! | K122: #REF! | L122: #REF! | M122: #REF! | N122: #REF! | O122: #REF! | P122: #REF! | Q122: #REF! | R122: #REF! | S122: #REF! | T122: #REF! | U122: #REF! | V122: #REF! | W122: #REF! | X122: #REF! | Y122: #REF! | Z122: #REF! | AA122: #REF! | AB122: #REF! | AC122: #REF! | AD122: #REF! | AE122: #REF!
... B180: #REF! | C180: #REF! | D180: #REF! | E180: #REF! | F180: #REF! | G180: #REF! | H180: #REF! | I180: #REF! | J180: #REF! | K180: #REF! | L180: #REF! | M180: #REF! | N180: #REF! | O180: #REF! | P180: #REF! | Q180: #REF! | R180: #REF! | S180: #REF! | T180: #REF! | U180: #REF! | V180: #REF! | W180: #REF! | X180: #REF! | Y180: #REF! | Z180: #REF! | AA180: #REF! | AB180: #REF! | AC180: #REF! | AD180: #REF! | AE180: #REF!
B182: 70 | C182: 70 | D182: 70 | E182: 70 | F182: 70 | G182: 70 | H182: 70 | I182: 70 | J182: 70 | K182: 70 | L182: 70 | M182: 70 | N182: 70 | O182: 70 | P182: 70 | Q182: 70 | R182: 70 | S182: 70 | T182: 70 | U182: 70 | V182: 70 | W182: 70 | X182: 70 | Y182: 70 | Z182: 70 | AA182: 70 | AB182: 70 | AC182: 70 | AD182: 70 | AE182: 70
B183: #REF! | C183: #REF! | D183: #REF! | E183: #REF! | F183: #REF! | G183: #REF! | H183: #REF! | I183: #REF! | J183: #REF! | K183: #REF! | L183: #REF! | M183: #REF! | N183: #REF! | O183: #REF! | P183: #REF! | Q183: #REF! | R183: #REF! | S183: #REF! | T183: #REF! | U183: #REF! | V183: #REF! | W183: #REF! | X183: #REF! | Y183: #REF! | Z183: #REF! | AA183: #REF! | AB183: #REF! | AC183: #REF! | AD183: #REF! | AE183: #REF!
B184: 70 | C184: 70 | D184: 70 | E184: 70 | F184: 70 | G184: 70 | H184: 70 | I184: 70 | J184: 70 | K184: 70 | L184: 70 | M184: 70 | N184: 70 | O184: 70 | P184: 70 | Q184: 70 | R184: 70 | S184: 70 | T184: 70 | U184: 70 | V184: 70 | W184: 70 | X184: 70 | Y184: 70 | Z184: 70 | AA184: 70 | AB184: 70 | AC184: 70 | AD184: 70 | AE184: 70
B185: #REF! | C185: #REF! | D185: #REF! | E185: #REF! | F185: #REF! | G185: #REF! | H185: #REF! | I185: #REF! | J185: #REF! | K185: #REF! | L185: #REF! | M185: #REF! | N185: #REF! | O185: #REF! | P185: #REF! | Q185: #REF! | R185: #REF! | S185: #REF! | T185: #REF! | U185: #REF! | V185: #REF! | W185: #REF! | X185: #REF! | Y185: #REF! | Z185: #REF! | AA185: #REF! | AB185: #REF! | AC185: #REF! | AD185: #REF! | AE185: #REF!
B186: 70 | C186: 70 | D186: 70 | E186: 70 | F186: 70 | G186: 70 | H186: 70 | I186: 70 | J186: 70 | K186: 70 | L186: 70 | M186: 70 | N186: 70 | O186: 70 | P186: 70 | Q186: 70 | R186: 70 | S186: 70 | T186: 70 | U186: 70 | V186: 70 | W186: 70 | X186: 70 | Y186: 70 | Z186: 70 | AA186: 70 | AB186: 70 | AC186: 70 | AD186: 70 | AE186: 70
B187: #REF! | C187: #REF! | D187: #REF! | E187: #REF! | F187: #REF! | G187: #REF! | H187: #REF! | I187: #REF! | J187: #REF! | K187: #REF! | L187: #REF! | M187: #REF! | N187: #REF! | O187: #REF! | P187: #REF! | Q187: #REF! | R187: #REF! | S187: #REF! | T187: #REF! | U187: #REF! | V187: #REF! | W187: #REF! | X187: #REF! | Y187: #REF! | Z187: #REF! | AA187: #REF! | AB187: #REF! | AC187: #REF! | AD187: #REF! | AE187: #REF!
B188: 70 | C188: 70 | D188: 70 | E188: 70 | F188: 70 | G188: 70 | H188: 70 | I188: 70 | J188: 70 | K188: 70 | L188: 70 | M188: 70 | N188: 70 | O188: 70 | P188: 70 | Q188: 70 | R188: 70 | S188: 70 | T188: 70 | U188: 70 | V188: 70 | W188: 70 | X188: 70 | Y188: 70 | Z188: 70 | AA188: 70 | AB188: 70 | AC188: 70 | AD188: 70 | AE188: 70
B189: #REF! | C189: #REF! | D189: #REF! | E189: #REF! | F189: #REF! | G189: #REF! | H189: #REF! | I189: #REF! | J189: #REF! | K189: #REF! | L189: #REF! | M189: #REF! | N189: #REF! | O189: #REF! | P189: #REF! | Q189: #REF! | R189: #REF! | S189: #REF! | T189: #REF! | U189: #REF! | V189: #REF! | W189: #REF! | X189: #REF! | Y189: #REF! | Z189: #REF! | AA189: #REF! | AB189: #REF! | AC189: #REF! | AD189: #REF! | AE189: #REF!
B190: 70 | C190: 70 | D190: 70 | E190: 70 | F190: 70 | G190: 70 | H190: 70 | I190: 70 | J190: 70 | K190: 70 | L190: 70 | M190: 70 | N190: 70 | O190: 70 | P190: 70 | Q190: 70 | R190: 70 | S190: 70 | T190: 70 | U190: 70 | V190: 70 | W190: 70 | X190: 70 | Y190: 70 | Z190: 70 | AA190: 70 | AB190: 70 | AC190: 70 | AD190: 70 | AE190: 70
B191: #REF! | C191: #REF! | D191: #REF! | E191: #REF! | F191: #REF! | G191: #REF! | H191: #REF! | I191: #REF! | J191: #REF! | K191: #REF! | L191: #REF! | M191: #REF! | N191: #REF! | O191: #REF! | P191: #REF! | Q191: #REF! | R191: #REF! | S191: #REF! | T191: #REF! | U191: #REF! | V191: #REF! | W191: #REF! | X191: #REF! | Y191: #REF! | Z191: #REF! | AA191: #REF! | AB191: #REF! | AC191: #REF! | AD191: #REF! | AE191: #REF!
B192: 70 | C192: 70 | D192: 70 | E192: 70 | F192: 70 | G192: 70 | H192: 70 | I192: 70 | J192: 70 | K192: 70 | L192: 70 | M192: 70 | N192: 70 | O192: 70 | P192: 70 | Q192: 70 | R192: 70 | S192: 70 | T192: 70 | U192: 70 | V192: 70 | W192: 70 | X192: 70 | Y192: 70 | Z192: 70 | AA192: 70 | AB192: 70 | AC192: 70 | AD192: 70 | AE192: 70
B193: #REF! | C193: #REF! | D193: #REF! | E193: #REF! | F193: #REF! | G193: #REF! | H193: #REF! | I193: #REF! | J193: #REF! | K193: #REF! | L193: #REF! | M193: #REF! | N193: #REF! | O193: #REF! | P193: #REF! | Q193: #REF! | R193: #REF! | S193: #REF! | T193: #REF! | U193: #REF! | V193: #REF! | W193: #REF! | X193: #REF! | Y193: #REF! | Z193: #REF! | AA193: #REF! | AB193: #REF! | AC193: #REF! | AD193: #REF! | AE193: #REF!
B194: 70 | C194: 70 | D194: 70 | E194: 70 | F194: 70 | G194: 70 | H194: 70 | I194: 70 | J194: 70 | K194: 70 | L194: 70 | M194: 70 | N194: 70 | O194: 70 | P194: 70 | Q194: 70 | R194: 70 | S194: 70 | T194: 70 | U194: 70 | V194: 70 | W194: 70 | X194: 70 | Y194: 70 | Z194: 70 | AA194: 70 | AB194: 70 | AC194: 70 | AD194: 70 | AE194: 70
B195: #REF! | C195: #REF! | D195: #REF! | E195: #REF! | F195: #REF! | G195: #REF! | H195: #REF! | I195: #REF! | J195: #REF! | K195: #REF! | L195: #REF! | M195: #REF! | N195: #REF! | O195: #REF! | P195: #REF! | Q195: #REF! | R195: #REF! | S195: #REF! | T195: #REF! | U195: #REF! | V195: #REF! | W195: #REF! | X195: #REF! | Y195: #REF! | Z195: #REF! | AA195: #REF! | AB195: #REF! | AC195: #REF! | AD195: #REF! | AE195: #REF!
B196: 70 | C196: 70 | D196: 70 | E196: 70 | F196: 70 | G196: 70 | H196: 70 | I196: 70 | J196: 70 | K196: 70 | L196: 70 | M196: 70 | N196: 70 | O196: 70 | P196: 70 | Q196: 70 | R196: 70 | S196: 70 | T196: 70 | U196: 70 | V196: 70 | W196: 70 | X196: 70 | Y196: 70 | Z196: 70 | AA196: 70 | AB196: 70 | AC196: 70 | AD196: 70 | AE196: 70
B197: #REF! | C197: #REF! | D197: #REF! | E197: #REF! | F197: #REF! | G197: #REF! | H197: #REF! | I197: #REF! | J197: #REF! | K197: #REF! | L197: #REF! | M197: #REF! | N197: #REF! | O197: #REF! | P197: #REF! | Q197: #REF! | R197: #REF! | S197: #REF! | T197: #REF! | U197: #REF! | V197: #REF! | W197: #REF! | X197: #REF! | Y197: #REF! | Z197: #REF! | AA197: #REF! | AB197: #REF! | AC197: #REF! | AD197: #REF! | AE197: #REF!
B198: 70 | C198: 70 | D198: 70 | E198: 70 | F198: 70 | G198: 70 | H198: 70 | I198: 70 | J198: 70 | K198: 70 | L198: 70 | M198: 70 | N198: 70 | O198: 70 | P198: 70 | Q198: 70 | R198: 70 | S198: 70 | T198: 70 | U198: 70 | V198: 70 | W198: 70 | X198: 70 | Y198: 70 | Z198: 70 | AA198: 70 | AB198: 70 | AC198: 70 | AD198: 70 | AE198: 70
B199: #REF! | C199: #REF! | D199: #REF! | E199: #REF! | F199: #REF! | G199: #REF! | H199: #REF! | I199: #REF! | J199: #REF! | K199: #REF! | L199: #REF! | M199: #REF! | N199: #REF! | O199: #REF! | P199: #REF! | Q199: #REF! | R199: #REF! | S199: #REF! | T199: #REF! | U199: #REF! | V199: #REF! | W199: #REF! | X199: #REF! | Y199: #REF! | Z199: #REF! | AA199: #REF! | AB199: #REF! | AC199: #REF! | AD199: #REF! | AE199: #REF!
B200: 70 | C200: 70 | D200: 70 | E200: 70 | F200: 70 | G200: 70 | H200: 70 | I200: 70 | J200: 70 | K200: 70 | L200: 70 | M200: 70 | N200: 70 | O200: 70 | P200: 70 | Q200: 70 | R200: 70 | S200: 70 | T200: 70 | U200: 70 | V200: 70 | W200: 70 | X200: 70 | Y200: 70 | Z200: 70 | AA200: 70 | AB200: 70 | AC200: 70 | AD200: 70 | AE200: 70
B201: 70 | C201: 70 | D201: 70 | E201: 70 | F201: 70 | G201: 70 | H201: 70 | I201: 70 | J201: 70 | K201: 70 | L201: 70 | M201: 70 | N201: 70 | O201: 70 | P201: 70 | Q201: 70 | R201: 70 | S201: 70 | T201: 70 | U201: 70 | V201: 70 | W201: 70 | X201: 70 | Y201: 70 | Z201: 70 | AA201: 70 | AB201: 70 | AC201: 70 | AD201: 70 | AE201: 70
B202: 70 | C202: 70 | D202: 70 | E202: 70 | F202: 70 | G202: 70 | H202: 70 | I202: 70 | J202: 70 | K202: 70 | L202: 70 | M202: 70 | N202: 70 | O202: 70 | P202: 70 | Q202: 70 | R202: 70 | S202: 70 | T202: 70 | U202: 70 | V202: 70 | W202: 70 | X202: 70 | Y202: 70 | Z202: 70 | AA202: 70 | AB202: 70 | AC202: 70 | AD202: 70 | AE202: 70

Sheet Oct-18
A1: Octobre
B2: ='Sep-18'!Y2+1 -> 40 | I2: =B2+1 -> 41 | P2: =I2+1 -> 42 | W2: =P2+1 -> 43 | AD2: =W2+1 -> 44
B3: =B4 -> 43374 | C3: =C4 -> 43375 | D3: =D4 -> 43376 | E3: =E4 -> 43377 | F3: =F4 -> 43378 | G3: =G4 -> 43379 | H3: =H4 -> 43380 | I3: =I4 -> 43381 | ... AF3: =AF4 -> 43404
A4: Tournée | B4: ='Sep-18'!AE4+1 -> 43374 | C4: =B4+1 -> 43375 | D4: =C4+1 -> 43376 | E4: =D4+1 -> 43377 | F4: =E4+1 -> 43378 | G4: =F4+1 -> 43379 | H4: =G4+1 -> 43380 | I4: =H4+1 -> 43381 | J4: =I4+1 -> 43382 | ... AF4: =AE4+1 -> 43404
A5: Chauffeur Livreur
A6: T1
A7: T2
A8: T3
A9: T3b
A10: T4
A11: T6
A12: T6b
A13: T8
A14: T9b
A15: T14
A16: T16
... A40: T51
A41: T52 | B41: 0
A42: T56
A43: GEL
A44: RAMASSE
A45: Congés Payés
A46: T1
A47: T2
A48: T3
A49: T3b
A50: T4
A51: T6
A52: T6b
A53: T8
... A60: T51
A61: T52 | B61: 0
A62: T56
A63: GEL
A64: RAMASSE
A65: Absences
A66: T1
A67: T2
A68: T3
A69: T3b
A70: T4
A71: T6
A72: T6b
A73: T8
... A80: T51
A81: T52 | B81: 0
A82: T56
A83: GEL
A84: RAMASSE
A85: Récup/A.T./C.P./
B94: 0
B105: 0
B106: #REF!
B108: Colonne3 | C108: Colonne4 | D108: Colonne5 | E108: Colonne6 | F108: Colonne7 | G108: Colonne8 | H108: Colonne9 | I108: Colonne10 | J108: Colonne11 | K108: Colonne12 | L108: Colonne13 | M108: Colonne14 | N108: Colonne15 | O108: Colonne16 | P108: Colonne17 | Q108: Colonne18 | R108: Colonne19 | S108: Colonne20 | T108: Colonne21 | U108: Colonne22 | V108: Colonne23 | W108: Colonne24 | X108: Colonne25 | Y108: Colonne26 | Z108: Colonne27 | AA108: Colonne28 | AB108: Colonne29 | AC108: Colonne30 | AD108: Colonne31 | AE108: Colonne32
B109: 43101 | C109: 43102 | D109: 43103 | E109: 43104 | F109: 43105 | G109: 43106 | H109: 43107 | I109: 43108 | J109: 43109 | K109: 43110 | L109: 43111 | M109: 43112 | N109: 43113 | O109: 43114 | P109: 43115 | Q109: 43116 | R109: 43117 | S109: 43118 | T109: 43119 | U109: 43120 | V109: 43121 | W109: 43122 | X109: 43123 | Y109: 43124 | Z109: 43125 | AA109: 43126 | AB109: 43127 | AC109: 43128 | AD109: 43129 | AE109: 43130
B110: 43101 | C110: 43102 | D110: 43103 | E110: 43104 | F110: 43105 | G110: 43106 | H110: 43107 | I110: 43108 | J110: 43109 | K110: 43110 | L110: 43111 | M110: 43112 | N110: 43113 | O110: 43114 | P110: 43115 | Q110: 43116 | R110: 43117 | S110: 43118 | T110: 43119 | U110: 43120 | V110: 43121 | W110: 43122 | X110: 43123 | Y110: 43124 | Z110: 43125 | AA110: 43126 | AB110: 43127 | AC110: 43128 | AD110: 43129 | AE110: 43130
B111: #REF! | C111: #REF! | D111: #REF! | E111: #REF! | F111: #REF! | G111: #REF! | H111: #REF! | I111: #REF! | J111: #REF! | K111: #REF! | L111: #REF! | M111: #REF! | N111: #REF! | O111: #REF! | P111: #REF! | Q111: #REF! | R111: #REF! | S111: #REF! | T111: #REF! | U111: #REF! | V111: #REF! | W111: #REF! | X111: #REF! | Y111: #REF! | Z111: #REF! | AA111: #REF! | AB111: #REF! | AC111: #REF! | AD111: #REF! | AE111: #REF!
B112: #REF! | C112: #REF! | D112: #REF! | E112: #REF! | F112: #REF! | G112: #REF! | H112: #REF! | I112: #REF! | J112: #REF! | K112: #REF! | L112: #REF! | M112: #REF! | N112: #REF! | O112: #REF! | P112: #REF! | Q112: #REF! | R112: #REF! | S112: #REF! | T112: #REF! | U112: #REF! | V112: #REF! | W112: #REF! | X112: #REF! | Y112: #REF! | Z112: #REF! | AA112: #REF! | AB112: #REF! | AC112: #REF! | AD112: #REF! | AE112: #REF!
B113: #REF! | C113: #REF! | D113: #REF! | E113: #REF! | F113: #REF! | G113: #REF! | H113: #REF! | I113: #REF! | J113: #REF! | K113: #REF! | L113: #REF! | M113: #REF! | N113: #REF! | O113: #REF! | P113: #REF! | Q113: #REF! | R113: #REF! | S113: #REF! | T113: #REF! | U113: #REF! | V113: #REF! | W113: #REF! | X113: #REF! | Y113: #REF! | Z113: #REF! | AA113: #REF! | AB113: #REF! | AC113: #REF! | AD113: #REF! | AE113: #REF!
B114: #REF! | C114: #REF! | D114: #REF! | E114: #REF! | F114: #REF! | G114: #REF! | H114: #REF! | I114: #REF! | J114: #REF! | K114: #REF! | L114: #REF! | M114: #REF! | N114: #REF! | O114: #REF! | P114: #REF! | Q114: #REF! | R114: #REF! | S114: #REF! | T114: #REF! | U114: #REF! | V114: #REF! | W114: #REF! | X114: #REF! | Y114: #REF! | Z114: #REF! | AA114: #REF! | AB114: #REF! | AC114: #REF! | AD114: #REF! | AE114: #REF!
B115: #REF! | C115: #REF! | D115: #REF! | E115: #REF! | F115: #REF! | G115: #REF! | H115: #REF! | I115: #REF! | J115: #REF! | K115: #REF! | L115: #REF! | M115: #REF! | N115: #REF! | O115: #REF! | P115: #REF! | Q115: #REF! | R115: #REF! | S115: #REF! | T115: #REF! | U115: #REF! | V115: #REF! | W115: #REF! | X115: #REF! | Y115: #REF! | Z115: #REF! | AA115: #REF! | AB115: #REF! | AC115: #REF! | AD115: #REF! | AE115: #REF!
B116: #REF! | C116: #REF! | D116: #REF! | E116: #REF! | F116: #REF! | G116: #REF! | H116: #REF! | I116: #REF! | J116: #REF! | K116: #REF! | L116: #REF! | M116: #REF! | N116: #REF! | O116: #REF! | P116: #REF! | Q116: #REF! | R116: #REF! | S116: #REF! | T116: #REF! | U116: #REF! | V116: #REF! | W116: #REF! | X116: #REF! | Y116: #REF! | Z116: #REF! | AA116: #REF! | AB116: #REF! | AC116: #REF! | AD116: #REF! | AE116: #REF!
B117: #REF! | C117: #REF! | D117: #REF! | E117: #REF! | F117: #REF! | G117: #REF! | H117: #REF! | I117: #REF! | J117: #REF! | K117: #REF! | L117: #REF! | M117: #REF! | N117: #REF! | O117: #REF! | P117: #REF! | Q117: #REF! | R117: #REF! | S117: #REF! | T117: #REF! | U117: #REF! | V117: #REF! | W117: #REF! | X117: #REF! | Y117: #REF! | Z117: #REF! | AA117: #REF! | AB117: #REF! | AC117: #REF! | AD117: #REF! | AE117: #REF!
B118: #REF! | C118: #REF! | D118: #REF! | E118: #REF! | F118: #REF! | G118: #REF! | H118: #REF! | I118: #REF! | J118: #REF! | K118: #REF! | L118: #REF! | M118: #REF! | N118: #REF! | O118: #REF! | P118: #REF! | Q118: #REF! | R118: #REF! | S118: #REF! | T118: #REF! | U118: #REF! | V118: #REF! | W118: #REF! | X118: #REF! | Y118: #REF! | Z118: #REF! | AA118: #REF! | AB118: #REF! | AC118: #REF! | AD118: #REF! | AE118: #REF!
B119: #REF! | C119: #REF! | D119: #REF! | E119: #REF! | F119: #REF! | G119: #REF! | H119: #REF! | I119: #REF! | J119: #REF! | K119: #REF! | L119: #REF! | M119: #REF! | N119: #REF! | O119: #REF! | P119: #REF! | Q119: #REF! | R119: #REF! | S119: #REF! | T119: #REF! | U119: #REF! | V119: #REF! | W119: #REF! | X119: #REF! | Y119: #REF! | Z119: #REF! | AA119: #REF! | AB119: #REF! | AC119: #REF! | AD119: #REF! | AE119: #REF!
B120: #REF! | C120: #REF! | D120: #REF! | E120: #REF! | F120: #REF! | G120: #REF! | H120: #REF! | I120: #REF! | J120: #REF! | K120: #REF! | L120: #REF! | M120: #REF! | N120: #REF! | O120: #REF! | P120: #REF! | Q120: #REF! | R120: #REF! | S120: #REF! | T120: #REF! | U120: #REF! | V120: #REF! | W120: #REF! | X120: #REF! | Y120: #REF! | Z120: #REF! | AA120: #REF! | AB120: #REF! | AC120: #REF! | AD120: #REF! | AE120: #REF!
B121: #REF! | C121: #REF! | D121: #REF! | E121: #REF! | F121: #REF! | G121: #REF! | H121: #REF! | I121: #REF! | J121: #REF! | K121: #REF! | L121: #REF! | M121: #REF! | N121: #REF! | O121: #REF! | P121: #REF! | Q121: #REF! | R121: #REF! | S121: #REF! | T121: #REF! | U121: #REF! | V121: #REF! | W121: #REF! | X121: #REF! | Y121: #REF! | Z121: #REF! | AA121: #REF! | AB121: #REF! | AC121: #REF! | AD121: #REF! | AE121: #REF!
B122: #REF! | C122: #REF! | D122: #REF! | E122: #REF! | F122: #REF! | G122: #REF! | H122: #REF! | I122: #REF! | J122: #REF! | K122: #REF! | L122: #REF! | M122: #REF! | N122: #REF! | O122: #REF! | P122: #REF! | Q122: #REF! | R122: #REF! | S122: #REF! | T122: #REF! | U122: #REF! | V122: #REF! | W122: #REF! | X122: #REF! | Y122: #REF! | Z122: #REF! | AA122: #REF! | AB122: #REF! | AC122: #REF! | AD122: #REF! | AE122: #REF!
... B180: #REF! | C180: #REF! | D180: #REF! | E180: #REF! | F180: #REF! | G180: #REF! | H180: #REF! | I180: #REF! | J180: #REF! | K180: #REF! | L180: #REF! | M180: #REF! | N180: #REF! | O180: #REF! | P180: #REF! | Q180: #REF! | R180: #REF! | S180: #REF! | T180: #REF! | U180: #REF! | V180: #REF! | W180: #REF! | X180: #REF! | Y180: #REF! | Z180: #REF! | AA180: #REF! | AB180: #REF! | AC180: #REF! | AD180: #REF! | AE180: #REF!
B182: 70 | C182: 70 | D182: 70 | E182: 70 | F182: 70 | G182: 70 | H182: 70 | I182: 70 | J182: 70 | K182: 70 | L182: 70 | M182: 70 | N182: 70 | O182: 70 | P182: 70 | Q182: 70 | R182: 70 | S182: 70 | T182: 70 | U182: 70 | V182: 70 | W182: 70 | X182: 70 | Y182: 70 | Z182: 70 | AA182: 70 | AB182: 70 | AC182: 70 | AD182: 70 | AE182: 70
B183: #REF! | C183: #REF! | D183: #REF! | E183: #REF! | F183: #REF! | G183: #REF! | H183: #REF! | I183: #REF! | J183: #REF! | K183: #REF! | L183: #REF! | M183: #REF! | N183: #REF! | O183: #REF! | P183: #REF! | Q183: #REF! | R183: #REF! | S183: #REF! | T183: #REF! | U183: #REF! | V183: #REF! | W183: #REF! | X183: #REF! | Y183: #REF! | Z183: #REF! | AA183: #REF! | AB183: #REF! | AC183: #REF! | AD183: #REF! | AE183: #REF!
B184: 70 | C184: 70 | D184: 70 | E184: 70 | F184: 70 | G184: 70 | H184: 70 | I184: 70 | J184: 70 | K184: 70 | L184: 70 | M184: 70 | N184: 70 | O184: 70 | P184: 70 | Q184: 70 | R184: 70 | S184: 70 | T184: 70 | U184: 70 | V184: 70 | W184: 70 | X184: 70 | Y184: 70 | Z184: 70 | AA184: 70 | AB184: 70 | AC184: 70 | AD184: 70 | AE184: 70
B185: #REF! | C185: #REF! | D185: #REF! | E185: #REF! | F185: #REF! | G185: #REF! | H185: #REF! | I185: #REF! | J185: #REF! | K185: #REF! | L185: #REF! | M185: #REF! | N185: #REF! | O185: #REF! | P185: #REF! | Q185: #REF! | R185: #REF! | S185: #REF! | T185: #REF! | U185: #REF! | V185: #REF! | W185: #REF! | X185: #REF! | Y185: #REF! | Z185: #REF! | AA185: #REF! | AB185: #REF! | AC185: #REF! | AD185: #REF! | AE185: #REF!
B186: 70 | C186: 70 | D186: 70 | E186: 70 | F186: 70 | G186: 70 | H186: 70 | I186: 70 | J186: 70 | K186: 70 | L186: 70 | M186: 70 | N186: 70 | O186: 70 | P186: 70 | Q186: 70 | R186: 70 | S186: 70 | T186: 70 | U186: 70 | V186: 70 | W186: 70 | X186: 70 | Y186: 70 | Z186: 70 | AA186: 70 | AB186: 70 | AC186: 70 | AD186: 70 | AE186: 70
B187: #REF! | C187: #REF! | D187: #REF! | E187: #REF! | F187: #REF! | G187: #REF! | H187: #REF! | I187: #REF! | J187: #REF! | K187: #REF! | L187: #REF! | M187: #REF! | N187: #REF! | O187: #REF! | P187: #REF! | Q187: #REF! | R187: #REF! | S187: #REF! | T187: #REF! | U187: #REF! | V187: #REF! | W187: #REF! | X187: #REF! | Y187: #REF! | Z187: #REF! | AA187: #REF! | AB187: #REF! | AC187: #REF! | AD187: #REF! | AE187: #REF!
B188: 70 | C188: 70 | D188: 70 | E188: 70 | F188: 70 | G188: 70 | H188: 70 | I188: 70 | J188: 70 | K188: 70 | L188: 70 | M188: 70 | N188: 70 | O188: 70 | P188: 70 | Q188: 70 | R188: 70 | S188: 70 | T188: 70 | U188: 70 | V188: 70 | W188: 70 | X188: 70 | Y188: 70 | Z188: 70 | AA188: 70 | AB188: 70 | AC188: 70 | AD188: 70 | AE188: 70
B189: #REF! | C189: #REF! | D189: #REF! | E189: #REF! | F189: #REF! | G189: #REF! | H189: #REF! | I189: #REF! | J189: #REF! | K189: #REF! | L189: #REF! | M189: #REF! | N189: #REF! | O189: #REF! | P189: #REF! | Q189: #REF! | R189: #REF! | S189: #REF! | T189: #REF! | U189: #REF! | V189: #REF! | W189: #REF! | X189: #REF! | Y189: #REF! | Z189: #REF! | AA189: #REF! | AB189: #REF! | AC189: #REF! | AD189: #REF! | AE189: #REF!
B190: 70 | C190: 70 | D190: 70 | E190: 70 | F190: 70 | G190: 70 | H190: 70 | I190: 70 | J190: 70 | K190: 70 | L190: 70 | M190: 70 | N190: 70 | O190: 70 | P190: 70 | Q190: 70 | R190: 70 | S190: 70 | T190: 70 | U190: 70 | V190: 70 | W190: 70 | X190: 70 | Y190: 70 | Z190: 70 | AA190: 70 | AB190: 70 | AC190: 70 | AD190: 70 | AE190: 70
B191: #REF! | C191: #REF! | D191: #REF! | E191: #REF! | F191: #REF! | G191: #REF! | H191: #REF! | I191: #REF! | J191: #REF! | K191: #REF! | L191: #REF! | M191: #REF! | N191: #REF! | O191: #REF! | P191: #REF! | Q191: #REF! | R191: #REF! | S191: #REF! | T191: #REF! | U191: #REF! | V191: #REF! | W191: #REF! | X191: #REF! | Y191: #REF! | Z191: #REF! | AA191: #REF! | AB191: #REF! | AC191: #REF! | AD191: #REF! | AE191: #REF!
B192: 70 | C192: 70 | D192: 70 | E192: 70 | F192: 70 | G192: 70 | H192: 70 | I192: 70 | J192: 70 | K192: 70 | L192: 70 | M192: 70 | N192: 70 | O192: 70 | P192: 70 | Q192: 70 | R192: 70 | S192: 70 | T192: 70 | U192: 70 | V192: 70 | W192: 70 | X192: 70 | Y192: 70 | Z192: 70 | AA192: 70 | AB192: 70 | AC192: 70 | AD192: 70 | AE192: 70
B193: #REF! | C193: #REF! | D193: #REF! | E193: #REF! | F193: #REF! | G193: #REF! | H193: #REF! | I193: #REF! | J193: #REF! | K193: #REF! | L193: #REF! | M193: #REF! | N193: #REF! | O193: #REF! | P193: #REF! | Q193: #REF! | R193: #REF! | S193: #REF! | T193: #REF! | U193: #REF! | V193: #REF! | W193: #REF! | X193: #REF! | Y193: #REF! | Z193: #REF! | AA193: #REF! | AB193: #REF! | AC193: #REF! | AD193: #REF! | AE193: #REF!
B194: 70 | C194: 70 | D194: 70 | E194: 70 | F194: 70 | G194: 70 | H194: 70 | I194: 70 | J194: 70 | K194: 70 | L194: 70 | M194: 70 | N194: 70 | O194: 70 | P194: 70 | Q194: 70 | R194: 70 | S194: 70 | T194: 70 | U194: 70 | V194: 70 | W194: 70 | X194: 70 | Y194: 70 | Z194: 70 | AA194: 70 | AB194: 70 | AC194: 70 | AD194: 70 | AE194: 70
B195: #REF! | C195: #REF! | D195: #REF! | E195: #REF! | F195: #REF! | G195: #REF! | H195: #REF! | I195: #REF! | J195: #REF! | K195: #REF! | L195: #REF! | M195: #REF! | N195: #REF! | O195: #REF! | P195: #REF! | Q195: #REF! | R195: #REF! | S195: #REF! | T195: #REF! | U195: #REF! | V195: #REF! | W195: #REF! | X195: #REF! | Y195: #REF! | Z195: #REF! | AA195: #REF! | AB195: #REF! | AC195: #REF! | AD195: #REF! | AE195: #REF!
B196: 70 | C196: 70 | D196: 70 | E196: 70 | F196: 70 | G196: 70 | H196: 70 | I196: 70 | J196: 70 | K196: 70 | L196: 70 | M196: 70 | N196: 70 | O196: 70 | P196: 70 | Q196: 70 | R196: 70 | S196: 70 | T196: 70 | U196: 70 | V196: 70 | W196: 70 | X196: 70 | Y196: 70 | Z196: 70 | AA196: 70 | AB196: 70 | AC196: 70 | AD196: 70 | AE196: 70
B197: #REF! | C197: #REF! | D197: #REF! | E197: #REF! | F197: #REF! | G197: #REF! | H197: #REF! | I197: #REF! | J197: #REF! | K197: #REF! | L197: #REF! | M197: #REF! | N197: #REF! | O197: #REF! | P197: #REF! | Q197: #REF! | R197: #REF! | S197: #REF! | T197: #REF! | U197: #REF! | V197: #REF! | W197: #REF! | X197: #REF! | Y197: #REF! | Z197: #REF! | AA197: #REF! | AB197: #REF! | AC197: #REF! | AD197: #REF! | AE197: #REF!
B198: 70 | C198: 70 | D198: 70 | E198: 70 | F198: 70 | G198: 70 | H198: 70 | I198: 70 | J198: 70 | K198: 70 | L198: 70 | M198: 70 | N198: 70 | O198: 70 | P198: 70 | Q198: 70 | R198: 70 | S198: 70 | T198: 70 | U198: 70 | V198: 70 | W198: 70 | X198: 70 | Y198: 70 | Z198: 70 | AA198: 70 | AB198: 70 | AC198: 70 | AD198: 70 | AE198: 70
B199: #REF! | C199: #REF! | D199: #REF! | E199: #REF! | F199: #REF! | G199: #REF! | H199: #REF! | I199: #REF! | J199: #REF! | K199: #REF! | L199: #REF! | M199: #REF! | N199: #REF! | O199: #REF! | P199: #REF! | Q199: #REF! | R199: #REF! | S199: #REF! | T199: #REF! | U199: #REF! | V199: #REF! | W199: #REF! | X199: #REF! | Y199: #REF! | Z199: #REF! | AA199: #REF! | AB199: #REF! | AC199: #REF! | AD199: #REF! | AE199: #REF!
B200: 70 | C200: 70 | D200: 70 | E200: 70 | F200: 70 | G200: 70 | H200: 70 | I200: 70 | J200: 70 | K200: 70 | L200: 70 | M200: 70 | N200: 70 | O200: 70 | P200: 70 | Q200: 70 | R200: 70 | S200: 70 | T200: 70 | U200: 70 | V200: 70 | W200: 70 | X200: 70 | Y200: 70 | Z200: 70 | AA200: 70 | AB200: 70 | AC200: 70 | AD200: 70 | AE200: 70
B201: 70 | C201: 70 | D201: 70 | E201: 70 | F201: 70 | G201: 70 | H201: 70 | I201: 70 | J201: 70 | K201: 70 | L201: 70 | M201: 70 | N201: 70 | O201: 70 | P201: 70 | Q201: 70 | R201: 70 | S201: 70 | T201: 70 | U201: 70 | V201: 70 | W201: 70 | X201: 70 | Y201: 70 | Z201: 70 | AA201: 70 | AB201: 70 | AC201: 70 | AD201: 70 | AE201: 70
B202: 70 | C202: 70 | D202: 70 | E202: 70 | F202: 70 | G202: 70 | H202: 70 | I202: 70 | J202: 70 | K202: 70 | L202: 70 | M202: 70 | N202: 70 | O202: 70 | P202: 70 | Q202: 70 | R202: 70 | S202: 70 | T202: 70 | U202: 70 | V202: 70 | W202: 70 | X202: 70 | Y202: 70 | Z202: 70 | AA202: 70 | AB202: 70 | AC202: 70 | AD202: 70 | AE202: 70

Sheet Nov-18
A1: Septembre
B2: ='Oct-18'!AD2 -> 44 | F2: =B2+1 -> 45 | M2: =F2+1 -> 46 | T2: =M2+1 -> 47 | AA2: =T2+1 -> 48
B3: =B4 -> 43405 | C3: =C4 -> 43406 | D3: =D4 -> 43407 | E3: =E4 -> 43408 | F3: =F4 -> 43409 | G3: =G4 -> 43410 | H3: =H4 -> 43411 | I3: =I4 -> 43412 | ... AE3: =AE4 -> 43434
A4: Tournée | B4: ='Oct-18'!AF4+1 -> 43405 | C4: =B4+1 -> 43406 | D4: =C4+1 -> 43407 | E4: =D4+1 -> 43408 | F4: =E4+1 -> 43409 | G4: =F4+1 -> 43410 | H4: =G4+1 -> 43411 | I4: =H4+1 -> 43412 | J4: =I4+1 -> 43413 | ... AE4: =AD4+1 -> 43434
A5: Chauffeur Livreur
A6: T1
A7: T2
A8: T3
A9: T3b
A10: T4
A11: T6
A12: T6b
A13: T8
A14: T9b
A15: T14
A16: T16
... A40: T51
A41: T52 | B41: 0
A42: T56
A43: GEL
A44: RAMASSE
A45: Congés Payés
A46: T1
A47: T2
A48: T3
A49: T3b
A50: T4
A51: T6
A52: T6b
A53: T8
... A60: T51
A61: T52 | B61: 0
A62: T56
A63: GEL
A64: RAMASSE
A65: Absences
A66: T1
A67: T2
A68: T3
A69: T3b
A70: T4
A71: T6
A72: T6b
A73: T8
... A80: T51
A81: T52 | B81: 0
A82: T56
A83: GEL
A84: RAMASSE
A85: Récup/A.T./C.P./
B94: 0
B105: 0
B106: #REF!
B108: Colonne3 | C108: Colonne4 | D108: Colonne5 | E108: Colonne6 | F108: Colonne7 | G108: Colonne8 | H108: Colonne9 | I108: Colonne10 | J108: Colonne11 | K108: Colonne12 | L108: Colonne13 | M108: Colonne14 | N108: Colonne15 | O108: Colonne16 | P108: Colonne17 | Q108: Colonne18 | R108: Colonne19 | S108: Colonne20 | T108: Colonne21 | U108: Colonne22 | V108: Colonne23 | W108: Colonne24 | X108: Colonne25 | Y108: Colonne26 | Z108: Colonne27 | AA108: Colonne28 | AB108: Colonne29 | AC108: Colonne30 | AD108: Colonne31 | AE108: Colonne32
B109: 43101 | C109: 43102 | D109: 43103 | E109: 43104 | F109: 43105 | G109: 43106 | H109: 43107 | I109: 43108 | J109: 43109 | K109: 43110 | L109: 43111 | M109: 43112 | N109: 43113 | O109: 43114 | P109: 43115 | Q109: 43116 | R109: 43117 | S109: 43118 | T109: 43119 | U109: 43120 | V109: 43121 | W109: 43122 | X109: 43123 | Y109: 43124 | Z109: 43125 | AA109: 43126 | AB109: 43127 | AC109: 43128 | AD109: 43129 | AE109: 43130
B110: 43101 | C110: 43102 | D110: 43103 | E110: 43104 | F110: 43105 | G110: 43106 | H110: 43107 | I110: 43108 | J110: 43109 | K110: 43110 | L110: 43111 | M110: 43112 | N110: 43113 | O110: 43114 | P110: 43115 | Q110: 43116 | R110: 43117 | S110: 43118 | T110: 43119 | U110: 43120 | V110: 43121 | W110: 43122 | X110: 43123 | Y110: 43124 | Z110: 43125 | AA110: 43126 | AB110: 43127 | AC110: 43128 | AD110: 43129 | AE110: 43130
B111: #REF! | C111: #REF! | D111: #REF! | E111: #REF! | F111: #REF! | G111: #REF! | H111: #REF! | I111: #REF! | J111: #REF! | K111: #REF! | L111: #REF! | M111: #REF! | N111: #REF! | O111: #REF! | P111: #REF! | Q111: #REF! | R111: #REF! | S111: #REF! | T111: #REF! | U111: #REF! | V111: #REF! | W111: #REF! | X111: #REF! | Y111: #REF! | Z111: #REF! | AA111: #REF! | AB111: #REF! | AC111: #REF! | AD111: #REF! | AE111: #REF!
B112: #REF! | C112: #REF! | D112: #REF! | E112: #REF! | F112: #REF! | G112: #REF! | H112: #REF! | I112: #REF! | J112: #REF! | K112: #REF! | L112: #REF! | M112: #REF! | N112: #REF! | O112: #REF! | P112: #REF! | Q112: #REF! | R112: #REF! | S112: #REF! | T112: #REF! | U112: #REF! | V112: #REF! | W112: #REF! | X112: #REF! | Y112: #REF! | Z112: #REF! | AA112: #REF! | AB112: #REF! | AC112: #REF! | AD112: #REF! | AE112: #REF!
B113: #REF! | C113: #REF! | D113: #REF! | E113: #REF! | F113: #REF! | G113: #REF! | H113: #REF! | I113: #REF! | J113: #REF! | K113: #REF! | L113: #REF! | M113: #REF! | N113: #REF! | O113: #REF! | P113: #REF! | Q113: #REF! | R113: #REF! | S113: #REF! | T113: #REF! | U113: #REF! | V113: #REF! | W113: #REF! | X113: #REF! | Y113: #REF! | Z113: #REF! | AA113: #REF! | AB113: #REF! | AC113: #REF! | AD113: #REF! | AE113: #REF!
B114: #REF! | C114: #REF! | D114: #REF! | E114: #REF! | F114: #REF! | G114: #REF! | H114: #REF! | I114: #REF! | J114: #REF! | K114: #REF! | L114: #REF! | M114: #REF! | N114: #REF! | O114: #REF! | P114: #REF! | Q114: #REF! | R114: #REF! | S114: #REF! | T114: #REF! | U114: #REF! | V114: #REF! | W114: #REF! | X114: #REF! | Y114: #REF! | Z114: #REF! | AA114: #REF! | AB114: #REF! | AC114: #REF! | AD114: #REF! | AE114: #REF!
B115: #REF! | C115: #REF! | D115: #REF! | E115: #REF! | F115: #REF! | G115: #REF! | H115: #REF! | I115: #REF! | J115: #REF! | K115: #REF! | L115: #REF! | M115: #REF! | N115: #REF! | O115: #REF! | P115: #REF! | Q115: #REF! | R115: #REF! | S115: #REF! | T115: #REF! | U115: #REF! | V115: #REF! | W115: #REF! | X115: #REF! | Y115: #REF! | Z115: #REF! | AA115: #REF! | AB115: #REF! | AC115: #REF! | AD115: #REF! | AE115: #REF!
B116: #REF! | C116: #REF! | D116: #REF! | E116: #REF! | F116: #REF! | G116: #REF! | H116: #REF! | I116: #REF! | J116: #REF! | K116: #REF! | L116: #REF! | M116: #REF! | N116: #REF! | O116: #REF! | P116: #REF! | Q116: #REF! | R116: #REF! | S116: #REF! | T116: #REF! | U116: #REF! | V116: #REF! | W116: #REF! | X116: #REF! | Y116: #REF! | Z116: #REF! | AA116: #REF! | AB116: #REF! | AC116: #REF! | AD116: #REF! | AE116: #REF!
B117: #REF! | C117: #REF! | D117: #REF! | E117: #REF! | F117: #REF! | G117: #REF! | H117: #REF! | I117: #REF! | J117: #REF! | K117: #REF! | L117: #REF! | M117: #REF! | N117: #REF! | O117: #REF! | P117: #REF! | Q117: #REF! | R117: #REF! | S117: #REF! | T117: #REF! | U117: #REF! | V117: #REF! | W117: #REF! | X117: #REF! | Y117: #REF! | Z117: #REF! | AA117: #REF! | AB117: #REF! | AC117: #REF! | AD117: #REF! | AE117: #REF!
B118: #REF! | C118: #REF! | D118: #REF! | E118: #REF! | F118: #REF! | G118: #REF! | H118: #REF! | I118: #REF! | J118: #REF! | K118: #REF! | L118: #REF! | M118: #REF! | N118: #REF! | O118: #REF! | P118: #REF! | Q118: #REF! | R118: #REF! | S118: #REF! | T118: #REF! | U118: #REF! | V118: #REF! | W118: #REF! | X118: #REF! | Y118: #REF! | Z118: #REF! | AA118: #REF! | AB118: #REF! | AC118: #REF! | AD118: #REF! | AE118: #REF!
B119: #REF! | C119: #REF! | D119: #REF! | E119: #REF! | F119: #REF! | G119: #REF! | H119: #REF! | I119: #REF! | J119: #REF! | K119: #REF! | L119: #REF! | M119: #REF! | N119: #REF! | O119: #REF! | P119: #REF! | Q119: #REF! | R119: #REF! | S119: #REF! | T119: #REF! | U119: #REF! | V119: #REF! | W119: #REF! | X119: #REF! | Y119: #REF! | Z119: #REF! | AA119: #REF! | AB119: #REF! | AC119: #REF! | AD119: #REF! | AE119: #REF!
B120: #REF! | C120: #REF! | D120: #REF! | E120: #REF! | F120: #REF! | G120: #REF! | H120: #REF! | I120: #REF! | J120: #REF! | K120: #REF! | L120: #REF! | M120: #REF! | N120: #REF! | O120: #REF! | P120: #REF! | Q120: #REF! | R120: #REF! | S120: #REF! | T120: #REF! | U120: #REF! | V120: #REF! | W120: #REF! | X120: #REF! | Y120: #REF! | Z120: #REF! | AA120: #REF! | AB120: #REF! | AC120: #REF! | AD120: #REF! | AE120: #REF!
B121: #REF! | C121: #REF! | D121: #REF! | E121: #REF! | F121: #REF! | G121: #REF! | H121: #REF! | I121: #REF! | J121: #REF! | K121: #REF! | L121: #REF! | M121: #REF! | N121: #REF! | O121: #REF! | P121: #REF! | Q121: #REF! | R121: #REF! | S121: #REF! | T121: #REF! | U121: #REF! | V121: #REF! | W121: #REF! | X121: #REF! | Y121: #REF! | Z121: #REF! | AA121: #REF! | AB121: #REF! | AC121: #REF! | AD121: #REF! | AE121: #REF!
B122: #REF! | C122: #REF! | D122: #REF! | E122: #REF! | F122: #REF! | G122: #REF! | H122: #REF! | I122: #REF! | J122: #REF! | K122: #REF! | L122: #REF! | M122: #REF! | N122: #REF! | O122: #REF! | P122: #REF! | Q122: #REF! | R122: #REF! | S122: #REF! | T122: #REF! | U122: #REF! | V122: #REF! | W122: #REF! | X122: #REF! | Y122: #REF! | Z122: #REF! | AA122: #REF! | AB122: #REF! | AC122: #REF! | AD122: #REF! | AE122: #REF!
... B180: #REF! | C180: #REF! | D180: #REF! | E180: #REF! | F180: #REF! | G180: #REF! | H180: #REF! | I180: #REF! | J180: #REF! | K180: #REF! | L180: #REF! | M180: #REF! | N180: #REF! | O180: #REF! | P180: #REF! | Q180: #REF! | R180: #REF! | S180: #REF! | T180: #REF! | U180: #REF! | V180: #REF! | W180: #REF! | X180: #REF! | Y180: #REF! | Z180: #REF! | AA180: #REF! | AB180: #REF! | AC180: #REF! | AD180: #REF! | AE180: #REF!
B182: 70 | C182: 70 | D182: 70 | E182: 70 | F182: 70 | G182: 70 | H182: 70 | I182: 70 | J182: 70 | K182: 70 | L182: 70 | M182: 70 | N182: 70 | O182: 70 | P182: 70 | Q182: 70 | R182: 70 | S182: 70 | T182: 70 | U182: 70 | V182: 70 | W182: 70 | X182: 70 | Y182: 70 | Z182: 70 | AA182: 70 | AB182: 70 | AC182: 70 | AD182: 70 | AE182: 70
B183: #REF! | C183: #REF! | D183: #REF! | E183: #REF! | F183: #REF! | G183: #REF! | H183: #REF! | I183: #REF! | J183: #REF! | K183: #REF! | L183: #REF! | M183: #REF! | N183: #REF! | O183: #REF! | P183: #REF! | Q183: #REF! | R183: #REF! | S183: #REF! | T183: #REF! | U183: #REF! | V183: #REF! | W183: #REF! | X183: #REF! | Y183: #REF! | Z183: #REF! | AA183: #REF! | AB183: #REF! | AC183: #REF! | AD183: #REF! | AE183: #REF!
B184: 70 | C184: 70 | D184: 70 | E184: 70 | F184: 70 | G184: 70 | H184: 70 | I184: 70 | J184: 70 | K184: 70 | L184: 70 | M184: 70 | N184: 70 | O184: 70 | P184: 70 | Q184: 70 | R184: 70 | S184: 70 | T184: 70 | U184: 70 | V184: 70 | W184: 70 | X184: 70 | Y184: 70 | Z184: 70 | AA184: 70 | AB184: 70 | AC184: 70 | AD184: 70 | AE184: 70
B185: #REF! | C185: #REF! | D185: #REF! | E185: #REF! | F185: #REF! | G185: #REF! | H185: #REF! | I185: #REF! | J185: #REF! | K185: #REF! | L185: #REF! | M185: #REF! | N185: #REF! | O185: #REF! | P185: #REF! | Q185: #REF! | R185: #REF! | S185: #REF! | T185: #REF! | U185: #REF! | V185: #REF! | W185: #REF! | X185: #REF! | Y185: #REF! | Z185: #REF! | AA185: #REF! | AB185: #REF! | AC185: #REF! | AD185: #REF! | AE185: #REF!
B186: 70 | C186: 70 | D186: 70 | E186: 70 | F186: 70 | G186: 70 | H186: 70 | I186: 70 | J186: 70 | K186: 70 | L186: 70 | M186: 70 | N186: 70 | O186: 70 | P186: 70 | Q186: 70 | R186: 70 | S186: 70 | T186: 70 | U186: 70 | V186: 70 | W186: 70 | X186: 70 | Y186: 70 | Z186: 70 | AA186: 70 | AB186: 70 | AC186: 70 | AD186: 70 | AE186: 70
B187: #REF! | C187: #REF! | D187: #REF! | E187: #REF! | F187: #REF! | G187: #REF! | H187: #REF! | I187: #REF! | J187: #REF! | K187: #REF! | L187: #REF! | M187: #REF! | N187: #REF! | O187: #REF! | P187: #REF! | Q187: #REF! | R187: #REF! | S187: #REF! | T187: #REF! | U187: #REF! | V187: #REF! | W187: #REF! | X187: #REF! | Y187: #REF! | Z187: #REF! | AA187: #REF! | AB187: #REF! | AC187: #REF! | AD187: #REF! | AE187: #REF!
B188: 70 | C188: 70 | D188: 70 | E188: 70 | F188: 70 | G188: 70 | H188: 70 | I188: 70 | J188: 70 | K188: 70 | L188: 70 | M188: 70 | N188: 70 | O188: 70 | P188: 70 | Q188: 70 | R188: 70 | S188: 70 | T188: 70 | U188: 70 | V188: 70 | W188: 70 | X188: 70 | Y188: 70 | Z188: 70 | AA188: 70 | AB188: 70 | AC188: 70 | AD188: 70 | AE188: 70
B189: #REF! | C189: #REF! | D189: #REF! | E189: #REF! | F189: #REF! | G189: #REF! | H189: #REF! | I189: #REF! | J189: #REF! | K189: #REF! | L189: #REF! | M189: #REF! | N189: #REF! | O189: #REF! | P189: #REF! | Q189: #REF! | R189: #REF! | S189: #REF! | T189: #REF! | U189: #REF! | V189: #REF! | W189: #REF! | X189: #REF! | Y189: #REF! | Z189: #REF! | AA189: #REF! | AB189: #REF! | AC189: #REF! | AD189: #REF! | AE189: #REF!
B190: 70 | C190: 70 | D190: 70 | E190: 70 | F190: 70 | G190: 70 | H190: 70 | I190: 70 | J190: 70 | K190: 70 | L190: 70 | M190: 70 | N190: 70 | O190: 70 | P190: 70 | Q190: 70 | R190: 70 | S190: 70 | T190: 70 | U190: 70 | V190: 70 | W190: 70 | X190: 70 | Y190: 70 | Z190: 70 | AA190: 70 | AB190: 70 | AC190: 70 | AD190: 70 | AE190: 70
B191: #REF! | C191: #REF! | D191: #REF! | E191: #REF! | F191: #REF! | G191: #REF! | H191: #REF! | I191: #REF! | J191: #REF! | K191: #REF! | L191: #REF! | M191: #REF! | N191: #REF! | O191: #REF! | P191: #REF! | Q191: #REF! | R191: #REF! | S191: #REF! | T191: #REF! | U191: #REF! | V191: #REF! | W191: #REF! | X191: #REF! | Y191: #REF! | Z191: #REF! | AA191: #REF! | AB191: #REF! | AC191: #REF! | AD191: #REF! | AE191: #REF!
B192: 70 | C192: 70 | D192: 70 | E192: 70 | F192: 70 | G192: 70 | H192: 70 | I192: 70 | J192: 70 | K192: 70 | L192: 70 | M192: 70 | N192: 70 | O192: 70 | P192: 70 | Q192: 70 | R192: 70 | S192: 70 | T192: 70 | U192: 70 | V192: 70 | W192: 70 | X192: 70 | Y192: 70 | Z192: 70 | AA192: 70 | AB192: 70 | AC192: 70 | AD192: 70 | AE192: 70
B193: #REF! | C193: #REF! | D193: #REF! | E193: #REF! | F193: #REF! | G193: #REF! | H193: #REF! | I193: #REF! | J193: #REF! | K193: #REF! | L193: #REF! | M193: #REF! | N193: #REF! | O193: #REF! | P193: #REF! | Q193: #REF! | R193: #REF! | S193: #REF! | T193: #REF! | U193: #REF! | V193: #REF! | W193: #REF! | X193: #REF! | Y193: #REF! | Z193: #REF! | AA193: #REF! | AB193: #REF! | AC193: #REF! | AD193: #REF! | AE193: #REF!
B194: 70 | C194: 70 | D194: 70 | E194: 70 | F194: 70 | G194: 70 | H194: 70 | I194: 70 | J194: 70 | K194: 70 | L194: 70 | M194: 70 | N194: 70 | O194: 70 | P194: 70 | Q194: 70 | R194: 70 | S194: 70 | T194: 70 | U194: 70 | V194: 70 | W194: 70 | X194: 70 | Y194: 70 | Z194: 70 | AA194: 70 | AB194: 70 | AC194: 70 | AD194: 70 | AE194: 70
B195: #REF! | C195: #REF! | D195: #REF! | E195: #REF! | F195: #REF! | G195: #REF! | H195: #REF! | I195: #REF! | J195: #REF! | K195: #REF! | L195: #REF! | M195: #REF! | N195: #REF! | O195: #REF! | P195: #REF! | Q195: #REF! | R195: #REF! | S195: #REF! | T195: #REF! | U195: #REF! | V195: #REF! | W195: #REF! | X195: #REF! | Y195: #REF! | Z195: #REF! | AA195: #REF! | AB195: #REF! | AC195: #REF! | AD195: #REF! | AE195: #REF!
B196: 70 | C196: 70 | D196: 70 | E196: 70 | F196: 70 | G196: 70 | H196: 70 | I196: 70 | J196: 70 | K196: 70 | L196: 70 | M196: 70 | N196: 70 | O196: 70 | P196: 70 | Q196: 70 | R196: 70 | S196: 70 | T196: 70 | U196: 70 | V196: 70 | W196: 70 | X196: 70 | Y196: 70 | Z196: 70 | AA196: 70 | AB196: 70 | AC196: 70 | AD196: 70 | AE196: 70
B197: #REF! | C197: #REF! | D197: #REF! | E197: #REF! | F197: #REF! | G197: #REF! | H197: #REF! | I197: #REF! | J197: #REF! | K197: #REF! | L197: #REF! | M197: #REF! | N197: #REF! | O197: #REF! | P197: #REF! | Q197: #REF! | R197: #REF! | S197: #REF! | T197: #REF! | U197: #REF! | V197: #REF! | W197: #REF! | X197: #REF! | Y197: #REF! | Z197: #REF! | AA197: #REF! | AB197: #REF! | AC197: #REF! | AD197: #REF! | AE197: #REF!
B198: 70 | C198: 70 | D198: 70 | E198: 70 | F198: 70 | G198: 70 | H198: 70 | I198: 70 | J198: 70 | K198: 70 | L198: 70 | M198: 70 | N198: 70 | O198: 70 | P198: 70 | Q198: 70 | R198: 70 | S198: 70 | T198: 70 | U198: 70 | V198: 70 | W198: 70 | X198: 70 | Y198: 70 | Z198: 70 | AA198: 70 | AB198: 70 | AC198: 70 | AD198: 70 | AE198: 70
B199: #REF! | C199: #REF! | D199: #REF! | E199: #REF! | F199: #REF! | G199: #REF! | H199: #REF! | I199: #REF! | J199: #REF! | K199: #REF! | L199: #REF! | M199: #REF! | N199: #REF! | O199: #REF! | P199: #REF! | Q199: #REF! | R199: #REF! | S199: #REF! | T199: #REF! | U199: #REF! | V199: #REF! | W199: #REF! | X199: #REF! | Y199: #REF! | Z199: #REF! | AA199: #REF! | AB199: #REF! | AC199: #REF! | AD199: #REF! | AE199: #REF!
B200: 70 | C200: 70 | D200: 70 | E200: 70 | F200: 70 | G200: 70 | H200: 70 | I200: 70 | J200: 70 | K200: 70 | L200: 70 | M200: 70 | N200: 70 | O200: 70 | P200: 70 | Q200: 70 | R200: 70 | S200: 70 | T200: 70 | U200: 70 | V200: 70 | W200: 70 | X200: 70 | Y200: 70 | Z200: 70 | AA200: 70 | AB200: 70 | AC200: 70 | AD200: 70 | AE200: 70
B201: 70 | C201: 70 | D201: 70 | E201: 70 | F201: 70 | G201: 70 | H201: 70 | I201: 70 | J201: 70 | K201: 70 | L201: 70 | M201: 70 | N201: 70 | O201: 70 | P201: 70 | Q201: 70 | R201: 70 | S201: 70 | T201: 70 | U201: 70 | V201: 70 | W201: 70 | X201: 70 | Y201: 70 | Z201: 70 | AA201: 70 | AB201: 70 | AC201: 70 | AD201: 70 | AE201: 70
B202: 70 | C202: 70 | D202: 70 | E202: 70 | F202: 70 | G202: 70 | H202: 70 | I202: 70 | J202: 70 | K202: 70 | L202: 70 | M202: 70 | N202: 70 | O202: 70 | P202: 70 | Q202: 70 | R202: 70 | S202: 70 | T202: 70 | U202: 70 | V202: 70 | W202: 70 | X202: 70 | Y202: 70 | Z202: 70 | AA202: 70 | AB202: 70 | AC202: 70 | AD202: 70 | AE202: 70

Sheet Déc-18
A1: Décembre
B2: ='Nov-18'!AA2 -> 48 | D2: =B2+1 -> 49 | K2: =D2+1 -> 50 | R2: =K2+1 -> 51 | Y2: =R2+1 -> 52 | AF2: 1
B3: =B4 -> 43435 | C3: =C4 -> 43436 | D3: =D4 -> 43437 | E3: =E4 -> 43438 | F3: =F4 -> 43439 | G3: =G4 -> 43440 | H3: =H4 -> 43441 | I3: =I4 -> 43442 | ... AF3: =AF4 -> 43465
A4: Tournée | B4: ='Nov-18'!AE4+1 -> 43435 | C4: =B4+1 -> 43436 | D4: =C4+1 -> 43437 | E4: =D4+1 -> 43438 | F4: =E4+1 -> 43439 | G4: =F4+1 -> 43440 | H4: =G4+1 -> 43441 | I4: =H4+1 -> 43442 | J4: =I4+1 -> 43443 | ... AF4: =AE4+1 -> 43465
A5: Chauffeur Livreur
A6: T1
A7: T2
A8: T3
A9: T3b
A10: T4
A11: T6
A12: T6b
A13: T8
A14: T9b
A15: T14
A16: T16
... A40: T51
A41: T52 | B41: 0
A42: T56
A43: GEL
A44: RAMASSE
A45: Congés Payés
A46: T1
A47: T2
A48: T3
A49: T3b
A50: T4
A51: T6
A52: T6b
A53: T8
... A60: T51
A61: T52 | B61: 0
A62: T56
A63: GEL
A64: RAMASSE
A65: Absences
A66: T1
A67: T2
A68: T3
A69: T3b
A70: T4
A71: T6
A72: T6b
A73: T8
... A80: T51
A81: T52 | B81: 0
A82: T56
A83: GEL
A84: RAMASSE
A85: Récup/A.T./C.P./
B94: 0
B105: 0
B106: #REF!
B108: Colonne3 | C108: Colonne4 | D108: Colonne5 | E108: Colonne6 | F108: Colonne7 | G108: Colonne8 | H108: Colonne9 | I108: Colonne10 | J108: Colonne11 | K108: Colonne12 | L108: Colonne13 | M108: Colonne14 | N108: Colonne15 | O108: Colonne16 | P108: Colonne17 | Q108: Colonne18 | R108: Colonne19 | S108: Colonne20 | T108: Colonne21 | U108: Colonne22 | V108: Colonne23 | W108: Colonne24 | X108: Colonne25 | Y108: Colonne26 | Z108: Colonne27 | AA108: Colonne28 | AB108: Colonne29 | AC108: Colonne30 | AD108: Colonne31 | AE108: Colonne32
B109: 43101 | C109: 43102 | D109: 43103 | E109: 43104 | F109: 43105 | G109: 43106 | H109: 43107 | I109: 43108 | J109: 43109 | K109: 43110 | L109: 43111 | M109: 43112 | N109: 43113 | O109: 43114 | P109: 43115 | Q109: 43116 | R109: 43117 | S109: 43118 | T109: 43119 | U109: 43120 | V109: 43121 | W109: 43122 | X109: 43123 | Y109: 43124 | Z109: 43125 | AA109: 43126 | AB109: 43127 | AC109: 43128 | AD109: 43129 | AE109: 43130
B110: 43101 | C110: 43102 | D110: 43103 | E110: 43104 | F110: 43105 | G110: 43106 | H110: 43107 | I110: 43108 | J110: 43109 | K110: 43110 | L110: 43111 | M110: 43112 | N110: 43113 | O110: 43114 | P110: 43115 | Q110: 43116 | R110: 43117 | S110: 43118 | T110: 43119 | U110: 43120 | V110: 43121 | W110: 43122 | X110: 43123 | Y110: 43124 | Z110: 43125 | AA110: 43126 | AB110: 43127 | AC110: 43128 | AD110: 43129 | AE110: 43130
B111: #REF! | C111: #REF! | D111: #REF! | E111: #REF! | F111: #REF! | G111: #REF! | H111: #REF! | I111: #REF! | J111: #REF! | K111: #REF! | L111: #REF! | M111: #REF! | N111: #REF! | O111: #REF! | P111: #REF! | Q111: #REF! | R111: #REF! | S111: #REF! | T111: #REF! | U111: #REF! | V111: #REF! | W111: #REF! | X111: #REF! | Y111: #REF! | Z111: #REF! | AA111: #REF! | AB111: #REF! | AC111: #REF! | AD111: #REF! | AE111: #REF!
B112: #REF! | C112: #REF! | D112: #REF! | E112: #REF! | F112: #REF! | G112: #REF! | H112: #REF! | I112: #REF! | J112: #REF! | K112: #REF! | L112: #REF! | M112: #REF! | N112: #REF! | O112: #REF! | P112: #REF! | Q112: #REF! | R112: #REF! | S112: #REF! | T112: #REF! | U112: #REF! | V112: #REF! | W112: #REF! | X112: #REF! | Y112: #REF! | Z112: #REF! | AA112: #REF! | AB112: #REF! | AC112: #REF! | AD112: #REF! | AE112: #REF!
B113: #REF! | C113: #REF! | D113: #REF! | E113: #REF! | F113: #REF! | G113: #REF! | H113: #REF! | I113: #REF! | J113: #REF! | K113: #REF! | L113: #REF! | M113: #REF! | N113: #REF! | O113: #REF! | P113: #REF! | Q113: #REF! | R113: #REF! | S113: #REF! | T113: #REF! | U113: #REF! | V113: #REF! | W113: #REF! | X113: #REF! | Y113: #REF! | Z113: #REF! | AA113: #REF! | AB113: #REF! | AC113: #REF! | AD113: #REF! | AE113: #REF!
B114: #REF! | C114: #REF! | D114: #REF! | E114: #REF! | F114: #REF! | G114: #REF! | H114: #REF! | I114: #REF! | J114: #REF! | K114: #REF! | L114: #REF! | M114: #REF! | N114: #REF! | O114: #REF! | P114: #REF! | Q114: #REF! | R114: #REF! | S114: #REF! | T114: #REF! | U114: #REF! | V114: #REF! | W114: #REF! | X114: #REF! | Y114: #REF! | Z114: #REF! | AA114: #REF! | AB114: #REF! | AC114: #REF! | AD114: #REF! | AE114: #REF!
B115: #REF! | C115: #REF! | D115: #REF! | E115: #REF! | F115: #REF! | G115: #REF! | H115: #REF! | I115: #REF! | J115: #REF! | K115: #REF! | L115: #REF! | M115: #REF! | N115: #REF! | O115: #REF! | P115: #REF! | Q115: #REF! | R115: #REF! | S115: #REF! | T115: #REF! | U115: #REF! | V115: #REF! | W115: #REF! | X115: #REF! | Y115: #REF! | Z115: #REF! | AA115: #REF! | AB115: #REF! | AC115: #REF! | AD115: #REF! | AE115: #REF!
B116: #REF! | C116: #REF! | D116: #REF! | E116: #REF! | F116: #REF! | G116: #REF! | H116: #REF! | I116: #REF! | J116: #REF! | K116: #REF! | L116: #REF! | M116: #REF! | N116: #REF! | O116: #REF! | P116: #REF! | Q116: #REF! | R116: #REF! | S116: #REF! | T116: #REF! | U116: #REF! | V116: #REF! | W116: #REF! | X116: #REF! | Y116: #REF! | Z116: #REF! | AA116: #REF! | AB116: #REF! | AC116: #REF! | AD116: #REF! | AE116: #REF!
B117: #REF! | C117: #REF! | D117: #REF! | E117: #REF! | F117: #REF! | G117: #REF! | H117: #REF! | I117: #REF! | J117: #REF! | K117: #REF! | L117: #REF! | M117: #REF! | N117: #REF! | O117: #REF! | P117: #REF! | Q117: #REF! | R117: #REF! | S117: #REF! | T117: #REF! | U117: #REF! | V117: #REF! | W117: #REF! | X117: #REF! | Y117: #REF! | Z117: #REF! | AA117: #REF! | AB117: #REF! | AC117: #REF! | AD117: #REF! | AE117: #REF!
B118: #REF! | C118: #REF! | D118: #REF! | E118: #REF! | F118: #REF! | G118: #REF! | H118: #REF! | I118: #REF! | J118: #REF! | K118: #REF! | L118: #REF! | M118: #REF! | N118: #REF! | O118: #REF! | P118: #REF! | Q118: #REF! | R118: #REF! | S118: #REF! | T118: #REF! | U118: #REF! | V118: #REF! | W118: #REF! | X118: #REF! | Y118: #REF! | Z118: #REF! | AA118: #REF! | AB118: #REF! | AC118: #REF! | AD118: #REF! | AE118: #REF!
B119: #REF! | C119: #REF! | D119: #REF! | E119: #REF! | F119: #REF! | G119: #REF! | H119: #REF! | I119: #REF! | J119: #REF! | K119: #REF! | L119: #REF! | M119: #REF! | N119: #REF! | O119: #REF! | P119: #REF! | Q119: #REF! | R119: #REF! | S119: #REF! | T119: #REF! | U119: #REF! | V119: #REF! | W119: #REF! | X119: #REF! | Y119: #REF! | Z119: #REF! | AA119: #REF! | AB119: #REF! | AC119: #REF! | AD119: #REF! | AE119: #REF!
B120: #REF! | C120: #REF! | D120: #REF! | E120: #REF! | F120: #REF! | G120: #REF! | H120: #REF! | I120: #REF! | J120: #REF! | K120: #REF! | L120: #REF! | M120: #REF! | N120: #REF! | O120: #REF! | P120: #REF! | Q120: #REF! | R120: #REF! | S120: #REF! | T120: #REF! | U120: #REF! | V120: #REF! | W120: #REF! | X120: #REF! | Y120: #REF! | Z120: #REF! | AA120: #REF! | AB120: #REF! | AC120: #REF! | AD120: #REF! | AE120: #REF!
B121: #REF! | C121: #REF! | D121: #REF! | E121: #REF! | F121: #REF! | G121: #REF! | H121: #REF! | I121: #REF! | J121: #REF! | K121: #REF! | L121: #REF! | M121: #REF! | N121: #REF! | O121: #REF! | P121: #REF! | Q121: #REF! | R121: #REF! | S121: #REF! | T121: #REF! | U121: #REF! | V121: #REF! | W121: #REF! | X121: #REF! | Y121: #REF! | Z121: #REF! | AA121: #REF! | AB121: #REF! | AC121: #REF! | AD121: #REF! | AE121: #REF!
B122: #REF! | C122: #REF! | D122: #REF! | E122: #REF! | F122: #REF! | G122: #REF! | H122: #REF! | I122: #REF! | J122: #REF! | K122: #REF! | L122: #REF! | M122: #REF! | N122: #REF! | O122: #REF! | P122: #REF! | Q122: #REF! | R122: #REF! | S122: #REF! | T122: #REF! | U122: #REF! | V122: #REF! | W122: #REF! | X122: #REF! | Y122: #REF! | Z122: #REF! | AA122: #REF! | AB122: #REF! | AC122: #REF! | AD122: #REF! | AE122: #REF!
... B180: #REF! | C180: #REF! | D180: #REF! | E180: #REF! | F180: #REF! | G180: #REF! | H180: #REF! | I180: #REF! | J180: #REF! | K180: #REF! | L180: #REF! | M180: #REF! | N180: #REF! | O180: #REF! | P180: #REF! | Q180: #REF! | R180: #REF! | S180: #REF! | T180: #REF! | U180: #REF! | V180: #REF! | W180: #REF! | X180: #REF! | Y180: #REF! | Z180: #REF! | AA180: #REF! | AB180: #REF! | AC180: #REF! | AD180: #REF! | AE180: #REF!
B182: 70 | C182: 70 | D182: 70 | E182: 70 | F182: 70 | G182: 70 | H182: 70 | I182: 70 | J182: 70 | K182: 70 | L182: 70 | M182: 70 | N182: 70 | O182: 70 | P182: 70 | Q182: 70 | R182: 70 | S182: 70 | T182: 70 | U182: 70 | V182: 70 | W182: 70 | X182: 70 | Y182: 70 | Z182: 70 | AA182: 70 | AB182: 70 | AC182: 70 | AD182: 70 | AE182: 70
B183: #REF! | C183: #REF! | D183: #REF! | E183: #REF! | F183: #REF! | G183: #REF! | H183: #REF! | I183: #REF! | J183: #REF! | K183: #REF! | L183: #REF! | M183: #REF! | N183: #REF! | O183: #REF! | P183: #REF! | Q183: #REF! | R183: #REF! | S183: #REF! | T183: #REF! | U183: #REF! | V183: #REF! | W183: #REF! | X183: #REF! | Y183: #REF! | Z183: #REF! | AA183: #REF! | AB183: #REF! | AC183: #REF! | AD183: #REF! | AE183: #REF!
B184: 70 | C184: 70 | D184: 70 | E184: 70 | F184: 70 | G184: 70 | H184: 70 | I184: 70 | J184: 70 | K184: 70 | L184: 70 | M184: 70 | N184: 70 | O184: 70 | P184: 70 | Q184: 70 | R184: 70 | S184: 70 | T184: 70 | U184: 70 | V184: 70 | W184: 70 | X184: 70 | Y184: 70 | Z184: 70 | AA184: 70 | AB184: 70 | AC184: 70 | AD184: 70 | AE184: 70
B185: #REF! | C185: #REF! | D185: #REF! | E185: #REF! | F185: #REF! | G185: #REF! | H185: #REF! | I185: #REF! | J185: #REF! | K185: #REF! | L185: #REF! | M185: #REF! | N185: #REF! | O185: #REF! | P185: #REF! | Q185: #REF! | R185: #REF! | S185: #REF! | T185: #REF! | U185: #REF! | V185: #REF! | W185: #REF! | X185: #REF! | Y185: #REF! | Z185: #REF! | AA185: #REF! | AB185: #REF! | AC185: #REF! | AD185: #REF! | AE185: #REF!
B186: 70 | C186: 70 | D186: 70 | E186: 70 | F186: 70 | G186: 70 | H186: 70 | I186: 70 | J186: 70 | K186: 70 | L186: 70 | M186: 70 | N186: 70 | O186: 70 | P186: 70 | Q186: 70 | R186: 70 | S186: 70 | T186: 70 | U186: 70 | V186: 70 | W186: 70 | X186: 70 | Y186: 70 | Z186: 70 | AA186: 70 | AB186: 70 | AC186: 70 | AD186: 70 | AE186: 70
B187: #REF! | C187: #REF! | D187: #REF! | E187: #REF! | F187: #REF! | G187: #REF! | H187: #REF! | I187: #REF! | J187: #REF! | K187: #REF! | L187: #REF! | M187: #REF! | N187: #REF! | O187: #REF! | P187: #REF! | Q187: #REF! | R187: #REF! | S187: #REF! | T187: #REF! | U187: #REF! | V187: #REF! | W187: #REF! | X187: #REF! | Y187: #REF! | Z187: #REF! | AA187: #REF! | AB187: #REF! | AC187: #REF! | AD187: #REF! | AE187: #REF!
B188: 70 | C188: 70 | D188: 70 | E188: 70 | F188: 70 | G188: 70 | H188: 70 | I188: 70 | J188: 70 | K188: 70 | L188: 70 | M188: 70 | N188: 70 | O188: 70 | P188: 70 | Q188: 70 | R188: 70 | S188: 70 | T188: 70 | U188: 70 | V188: 70 | W188: 70 | X188: 70 | Y188: 70 | Z188: 70 | AA188: 70 | AB188: 70 | AC188: 70 | AD188: 70 | AE188: 70
B189: #REF! | C189: #REF! | D189: #REF! | E189: #REF! | F189: #REF! | G189: #REF! | H189: #REF! | I189: #REF! | J189: #REF! | K189: #REF! | L189: #REF! | M189: #REF! | N189: #REF! | O189: #REF! | P189: #REF! | Q189: #REF! | R189: #REF! | S189: #REF! | T189: #REF! | U189: #REF! | V189: #REF! | W189: #REF! | X189: #REF! | Y189: #REF! | Z189: #REF! | AA189: #REF! | AB189: #REF! | AC189: #REF! | AD189: #REF! | AE189: #REF!
B190: 70 | C190: 70 | D190: 70 | E190: 70 | F190: 70 | G190: 70 | H190: 70 | I190: 70 | J190: 70 | K190: 70 | L190: 70 | M190: 70 | N190: 70 | O190: 70 | P190: 70 | Q190: 70 | R190: 70 | S190: 70 | T190: 70 | U190: 70 | V190: 70 | W190: 70 | X190: 70 | Y190: 70 | Z190: 70 | AA190: 70 | AB190: 70 | AC190: 70 | AD190: 70 | AE190: 70
B191: #REF! | C191: #REF! | D191: #REF! | E191: #REF! | F191: #REF! | G191: #REF! | H191: #REF! | I191: #REF! | J191: #REF! | K191: #REF! | L191: #REF! | M191: #REF! | N191: #REF! | O191: #REF! | P191: #REF! | Q191: #REF! | R191: #REF! | S191: #REF! | T191: #REF! | U191: #REF! | V191: #REF! | W191: #REF! | X191: #REF! | Y191: #REF! | Z191: #REF! | AA191: #REF! | AB191: #REF! | AC191: #REF! | AD191: #REF! | AE191: #REF!
B192: 70 | C192: 70 | D192: 70 | E192: 70 | F192: 70 | G192: 70 | H192: 70 | I192: 70 | J192: 70 | K192: 70 | L192: 70 | M192: 70 | N192: 70 | O192: 70 | P192: 70 | Q192: 70 | R192: 70 | S192: 70 | T192: 70 | U192: 70 | V192: 70 | W192: 70 | X192: 70 | Y192: 70 | Z192: 70 | AA192: 70 | AB192: 70 | AC192: 70 | AD192: 70 | AE192: 70
B193: #REF! | C193: #REF! | D193: #REF! | E193: #REF! | F193: #REF! | G193: #REF! | H193: #REF! | I193: #REF! | J193: #REF! | K193: #REF! | L193: #REF! | M193: #REF! | N193: #REF! | O193: #REF! | P193: #REF! | Q193: #REF! | R193: #REF! | S193: #REF! | T193: #REF! | U193: #REF! | V193: #REF! | W193: #REF! | X193: #REF! | Y193: #REF! | Z193: #REF! | AA193: #REF! | AB193: #REF! | AC193: #REF! | AD193: #REF! | AE193: #REF!
B194: 70 | C194: 70 | D194: 70 | E194: 70 | F194: 70 | G194: 70 | H194: 70 | I194: 70 | J194: 70 | K194: 70 | L194: 70 | M194: 70 | N194: 70 | O194: 70 | P194: 70 | Q194: 70 | R194: 70 | S194: 70 | T194: 70 | U194: 70 | V194: 70 | W194: 70 | X194: 70 | Y194: 70 | Z194: 70 | AA194: 70 | AB194: 70 | AC194: 70 | AD194: 70 | AE194: 70
B195: #REF! | C195: #REF! | D195: #REF! | E195: #REF! | F195: #REF! | G195: #REF! | H195: #REF! | I195: #REF! | J195: #REF! | K195: #REF! | L195: #REF! | M195: #REF! | N195: #REF! | O195: #REF! | P195: #REF! | Q195: #REF! | R195: #REF! | S195: #REF! | T195: #REF! | U195: #REF! | V195: #REF! | W195: #REF! | X195: #REF! | Y195: #REF! | Z195: #REF! | AA195: #REF! | AB195: #REF! | AC195: #REF! | AD195: #REF! | AE195: #REF!
B196: 70 | C196: 70 | D196: 70 | E196: 70 | F196: 70 | G196: 70 | H196: 70 | I196: 70 | J196: 70 | K196: 70 | L196: 70 | M196: 70 | N196: 70 | O196: 70 | P196: 70 | Q196: 70 | R196: 70 | S196: 70 | T196: 70 | U196: 70 | V196: 70 | W196: 70 | X196: 70 | Y196: 70 | Z196: 70 | AA196: 70 | AB196: 70 | AC196: 70 | AD196: 70 | AE196: 70
B197: #REF! | C197: #REF! | D197: #REF! | E197: #REF! | F197: #REF! | G197: #REF! | H197: #REF! | I197: #REF! | J197: #REF! | K197: #REF! | L197: #REF! | M197: #REF! | N197: #REF! | O197: #REF! | P197: #REF! | Q197: #REF! | R197: #REF! | S197: #REF! | T197: #REF! | U197: #REF! | V197: #REF! | W197: #REF! | X197: #REF! | Y197: #REF! | Z197: #REF! | AA197: #REF! | AB197: #REF! | AC197: #REF! | AD197: #REF! | AE197: #REF!
B198: 70 | C198: 70 | D198: 70 | E198: 70 | F198: 70 | G198: 70 | H198: 70 | I198: 70 | J198: 70 | K198: 70 | L198: 70 | M198: 70 | N198: 70 | O198: 70 | P198: 70 | Q198: 70 | R198: 70 | S198: 70 | T198: 70 | U198: 70 | V198: 70 | W198: 70 | X198: 70 | Y198: 70 | Z198: 70 | AA198: 70 | AB198: 70 | AC198: 70 | AD198: 70 | AE198: 70
B199: #REF! | C199: #REF! | D199: #REF! | E199: #REF! | F199: #REF! | G199: #REF! | H199: #REF! | I199: #REF! | J199: #REF! | K199: #REF! | L199: #REF! | M199: #REF! | N199: #REF! | O199: #REF! | P199: #REF! | Q199: #REF! | R199: #REF! | S199: #REF! | T199: #REF! | U199: #REF! | V199: #REF! | W199: #REF! | X199: #REF! | Y199: #REF! | Z199: #REF! | AA199: #REF! | AB199: #REF! | AC199: #REF! | AD199: #REF! | AE199: #REF!
B200: 70 | C200: 70 | D200: 70 | E200: 70 | F200: 70 | G200: 70 | H200: 70 | I200: 70 | J200: 70 | K200: 70 | L200: 70 | M200: 70 | N200: 70 | O200: 70 | P200: 70 | Q200: 70 | R200: 70 | S200: 70 | T200: 70 | U200: 70 | V200: 70 | W200: 70 | X200: 70 | Y200: 70 | Z200: 70 | AA200: 70 | AB200: 70 | AC200: 70 | AD200: 70 | AE200: 70
B201: 70 | C201: 70 | D201: 70 | E201: 70 | F201: 70 | G201: 70 | H201: 70 | I201: 70 | J201: 70 | K201: 70 | L201: 70 | M201: 70 | N201: 70 | O201: 70 | P201: 70 | Q201: 70 | R201: 70 | S201: 70 | T201: 70 | U201: 70 | V201: 70 | W201: 70 | X201: 70 | Y201: 70 | Z201: 70 | AA201: 70 | AB201: 70 | AC201: 70 | AD201: 70 | AE201: 70
B202: 70 | C202: 70 | D202: 70 | E202: 70 | F202: 70 | G202: 70 | H202: 70 | I202: 70 | J202: 70 | K202: 70 | L202: 70 | M202: 70 | N202: 70 | O202: 70 | P202: 70 | Q202: 70 | R202: 70 | S202: 70 | T202: 70 | U202: 70 | V202: 70 | W202: 70 | X202: 70 | Y202: 70 | Z202: 70 | AA202: 70 | AB202: 70 | AC202: 70 | AD202: 70 | AE202: 70
