Workbook

Sheet Déc-17
A1: 43070
B2: 48 | E2: =B2+1 -> 49 | L2: =E2+1 -> 50 | S2: =L2+1 -> 51 | Z2: =S2+1 -> 52
B3: =B4 -> 43070 | C3: =C4 -> 43071 | D3: =D4 -> 43072 | E3: =E4 -> 43073 | F3: =F4 -> 43074 | G3: =G4 -> 43075 | H3: =H4 -> 43076 | I3: =I4 -> 43077 | ... AF3: =AF4 -> 43100
A4: Tournée | B4: 43070 | C4: =B4+1 -> 43071 | D4: =C4+1 -> 43072 | E4: =D4+1 -> 43073 | F4: =E4+1 -> 43074 | G4: =F4+1 -> 43075 | H4: =G4+1 -> 43076 | I4: =H4+1 -> 43077 | J4: =I4+1 -> 43078 | ... AF4: =AE4+1 -> 43100
A5: Chauffeur Livreur
A6: T1
A7: T2
A8: T3
A9: T3b
A10: T4
A11: T6
A12: T6b
A13: T8
A14: T9b
A15: T14
A16: T16
... A84: RAMASSE

Sheet Jan-18
A1: Janvier
B2: 1 | I2: 2 | P2: 3 | W2: 4 | AD2: 5
B3: =B4 -> 43101 | C3: =C4 -> 43102 | D3: =D4 -> 43103 | E3: =E4 -> 43104 | F3: =F4 -> 43105 | G3: =G4 -> 43106 | H3: =H4 -> 43107 | I3: =I4 -> 43108 | ... AF3: =AF4 -> 43131
A4: Tournée | B4: ='Déc-17'!AF4+1 -> 43101 | C4: =B4+1 -> 43102 | D4: =C4+1 -> 43103 | E4: =D4+1 -> 43104 | F4: =E4+1 -> 43105 | G4: =F4+1 -> 43106 | H4: =G4+1 -> 43107 | I4: =H4+1 -> 43108 | J4: =I4+1 -> 43109 | ... AF4: =AE4+1 -> 43131
A5: Chauffeur Livreur
A6: T1 | B6: A
A7: T2 | B7: B
A8: T3 | B8: C
A9: T3b | B9: D
A10: T4 | B10: A
A11: T6 | B11: B
A12: T6b | B12: E
A13: T8 | B13: F
A14: T9b
A15: T14
A16: T16
A17: T16b
A18: T20
A19: T23
A20: T51
A21: T52
A22: T56
A23: GEL
A24: RAMASSE
A25: Récupération
... A28: T3
A29: T3b | I29: S_BOUAKAL | J29: S_BOUAKAL | K29: S_BOUAKAL | L29: S_BOUAKAL | M29: S_BOUAKAL | N29: S_BOUAKAL | P29: S_BOUAKAL | Q29: S_BOUAKAL | R29: S_BOUAKAL | S29: S_BOUAKAL | T29: S_BOUAKAL | U29: S_BOUAKAL
A30: T4
A31: T6
A32: T6b
A33: T8
A34: T9b
A35: T14
A36: T16
A37: T16b
A38: T20
A39: T23
A40: T51
A41: T52
... A84: RAMASSE

Sheet Fév-18
A1: Février
B2: ='Jan-18'!AD2 -> 5 | F2: =B2+1 -> 6 | M2: =F2+1 -> 7 | T2: =M2+1 -> 8 | AA2: =T2+1 -> 9
B3: =B4 -> 43132 | C3: =C4 -> 43133 | D3: =D4 -> 43134 | E3: =E4 -> 43135 | F3: =F4 -> 43136 | G3: =G4 -> 43137 | H3: =H4 -> 43138 | I3: =I4 -> 43139 | ... AC3: =AC4 -> 43159
A4: Tournée | B4: ='Jan-18'!AF4+1 -> 43132 | C4: =B4+1 -> 43133 | D4: =C4+1 -> 43134 | E4: =D4+1 -> 43135 | F4: =E4+1 -> 43136 | G4: =F4+1 -> 43137 | H4: =G4+1 -> 43138 | I4: =H4+1 -> 43139 | J4: =I4+1 -> 43140 | ... AC4: =AB4+1 -> 43159
A5: Chauffeur Livreur
A6: T1
A7: T2
A8: T3
A9: T3b
A10: T4
A11: T6
A12: T6b
A13: T8
A14: T9b
A15: T14
A16: T16
... A84: RAMASSE

Sheet Mar-18
A1: Mars
B2: ='Fév-18'!AA2 -> 9 | F2: =B2+1 -> 10 | M2: =F2+1 -> 11 | T2: =M2+1 -> 12 | AA2: =T2+1 -> 13
B3: =B4 -> 43160 | C3: =C4 -> 43161 | D3: =D4 -> 43162 | E3: =E4 -> 43163 | F3: =F4 -> 43164 | G3: =G4 -> 43165 | H3: =H4 -> 43166 | I3: =I4 -> 43167 | ... AF3: =AF4 -> 43190
A4: Tournée | B4: ='Fév-18'!AC4+1 -> 43160 | C4: =B4+1 -> 43161 | D4: =C4+1 -> 43162 | E4: =D4+1 -> 43163 | F4: =E4+1 -> 43164 | G4: =F4+1 -> 43165 | H4: =G4+1 -> 43166 | I4: =H4+1 -> 43167 | J4: =I4+1 -> 43168 | ... AF4: =AE4+1 -> 43190
A5: Chauffeur Livreur
A6: T1
A7: T2
A8: T3
A9: T3b
A10: T4
A11: T6
A12: T6b
A13: T8
A14: T9b
A15: T14
A16: T16
... A84: RAMASSE

Sheet Avr-18
A1: Mars
B2: ='Mar-18'!AA2 -> 13 | C2: =B2+1 -> 14 | J2: =C2+1 -> 15 | Q2: =J2+1 -> 16 | X2: =Q2+1 -> 17 | AE2: =X2+1 -> 18
B3: =B4 -> 43191 | C3: =C4 -> 43192 | D3: =D4 -> 43193 | E3: =E4 -> 43194 | F3: =F4 -> 43195 | G3: =G4 -> 43196 | H3: =H4 -> 43197 | I3: =I4 -> 43198 | ... AE3: =AE4 -> 43220
A4: Tournée | B4: ='Mar-18'!AF4+1 -> 43191 | C4: =B4+1 -> 43192 | D4: =C4+1 -> 43193 | E4: =D4+1 -> 43194 | F4: =E4+1 -> 43195 | G4: =F4+1 -> 43196 | H4: =G4+1 -> 43197 | I4: =H4+1 -> 43198 | J4: =I4+1 -> 43199 | ... AE4: =AD4+1 -> 43220
A5: Chauffeur Livreur
A6: T1
A7: T2
A8: T3
A9: T3b
A10: T4
A11: T6
A12: T6b
A13: T8
A14: T9b
A15: T14
A16: T16
... A84: RAMASSE

Sheet Mai-18
A1: Mars
B2: ='Avr-18'!AE2 -> 18 | H2: =B2+1 -> 19 | O2: =H2+1 -> 20 | V2: =O2+1 -> 21 | AC2: =V2+1 -> 22
B3: =B4 -> 43221 | C3: =C4 -> 43222 | D3: =D4 -> 43223 | E3: =E4 -> 43224 | F3: =F4 -> 43225 | G3: =G4 -> 43226 | H3: =H4 -> 43227 | I3: =I4 -> 43228 | ... AF3: =AF4 -> 43251
A4: Tournée | B4: ='Avr-18'!AE4+1 -> 43221 | C4: =B4+1 -> 43222 | D4: =C4+1 -> 43223 | E4: =D4+1 -> 43224 | F4: =E4+1 -> 43225 | G4: =F4+1 -> 43226 | H4: =G4+1 -> 43227 | I4: =H4+1 -> 43228 | J4: =I4+1 -> 43229 | ... AF4: =AE4+1 -> 43251
A5: Chauffeur Livreur
A6: T1
A7: T2
A8: T3
A9: T3b
A10: T4
A11: T6
A12: T6b
A13: T8
A14: T9b
A15: T14
A16: T16
A17: T16b | AA17: 0
A18: T20
A19: T23
A20: T51
A21: T52
A22: T56
A23: GEL
A24: RAMASSE
A25: Récupération
A26: T1
A27: T2
A28: T3
A29: T3b
... A84: RAMASSE

Sheet Jui-18
A1: Juin
B2: ='Mai-18'!AC2 -> 22 | E2: =B2+1 -> 23 | L2: =E2+1 -> 24 | S2: =L2+1 -> 25 | Z2: =S2+1 -> 26
B3: =B4 -> 43252 | C3: =C4 -> 43253 | D3: =D4 -> 43254 | E3: =E4 -> 43255 | F3: =F4 -> 43256 | G3: =G4 -> 43257 | H3: =H4 -> 43258 | I3: =I4 -> 43259 | ... AE3: =AE4 -> 43281
A4: Tournée | B4: ='Mai-18'!AF4+1 -> 43252 | C4: =B4+1 -> 43253 | D4: =C4+1 -> 43254 | E4: =D4+1 -> 43255 | F4: =E4+1 -> 43256 | G4: =F4+1 -> 43257 | H4: =G4+1 -> 43258 | I4: =H4+1 -> 43259 | J4: =I4+1 -> 43260 | ... AE4: =AD4+1 -> 43281
A5: Chauffeur Livreur | AF5: Jui
A6: T1
A7: T2
A8: T3
A9: T3b
A10: T4
A11: T6
A12: T6b
A13: T8
A14: T9b
A15: T14
A16: T16
A17: T16b
... A84: RAMASSE

Sheet Juil-18
A1: Juillet
B2: ='Jui-18'!Z2 -> 26 | C2: =B2+1 -> 27 | J2: =C2+1 -> 28 | Q2: =J2+1 -> 29 | X2: =Q2+1 -> 30 | AE2: =X2+1 -> 31
B3: =B4 -> 43282 | C3: =C4 -> 43283 | D3: =D4 -> 43284 | E3: =E4 -> 43285 | F3: =F4 -> 43286 | G3: =G4 -> 43287 | H3: =H4 -> 43288 | I3: =I4 -> 43289 | ... AF3: =AF4 -> 43312
A4: Tournée | B4: ='Jui-18'!AE4+1 -> 43282 | C4: =B4+1 -> 43283 | D4: =C4+1 -> 43284 | E4: =D4+1 -> 43285 | F4: =E4+1 -> 43286 | G4: =F4+1 -> 43287 | H4: =G4+1 -> 43288 | I4: =H4+1 -> 43289 | J4: =I4+1 -> 43290 | ... AF4: =AE4+1 -> 43312
A5: Chauffeur Livreur
A6: T1
A7: T2
A8: T3
A9: T3b
A10: T4
A11: T6
A12: T6b
A13: T8
A14: T9b
A15: T14
A16: T16
A17: T16b | AA17: 0
A18: T20
A19: T23
A20: T51
A21: T52
A22: T56
A23: GEL
A24: RAMASSE
A25: Récupération
A26: T1
A27: T2
A28: T3
A29: T3b
... A84: RAMASSE

Sheet Aoû-18
A1: Août
B2: ='Juil-18'!AE2 -> 31 | G2: =B2+1 -> 32 | N2: =G2+1 -> 33 | U2: =N2+1 -> 34 | AB2: =U2+1 -> 35
B3: =B4 -> 43313 | C3: =C4 -> 43314 | D3: =D4 -> 43315 | E3: =E4 -> 43316 | F3: =F4 -> 43317 | G3: =G4 -> 43318 | H3: =H4 -> 43319 | I3: =I4 -> 43320 | ... AF3: =AF4 -> 43343
A4: Tournée | B4: ='Juil-18'!AF4+1 -> 43313 | C4: =B4+1 -> 43314 | D4: =C4+1 -> 43315 | E4: =D4+1 -> 43316 | F4: =E4+1 -> 43317 | G4: =F4+1 -> 43318 | H4: =G4+1 -> 43319 | I4: =H4+1 -> 43320 | J4: =I4+1 -> 43321 | ... AF4: =AE4+1 -> 43343
A5: Chauffeur Livreur
A6: T1
A7: T2
A8: T3
A9: T3b
A10: T4
A11: T6
A12: T6b
A13: T8
A14: T9b
A15: T14
A16: T16
... A40: T51
A41: T52 | B41: 0
A42: T56
A43: GEL
A44: RAMASSE
A45: Congés Payés
A46: T1
A47: T2
A48: T3
A49: T3b
A50: T4
A51: T6
A52: T6b
A53: T8
... A60: T51
A61: T52 | B61: 0
A62: T56
A63: GEL
A64: RAMASSE
A65: Absences
A66: T1
A67: T2
A68: T3
A69: T3b
...

Sheet Sep-18
A1: Septembre
B2: ='Aoû-18'!AB2 -> 35 | D2: =B2+1 -> 36 | K2: =D2+1 -> 37 | R2: =K2+1 -> 38 | Y2: =R2+1 -> 39
B3: =B4 -> 43344 | C3: =C4 -> 43345 | D3: =D4 -> 43346 | E3: =E4 -> 43347 | F3: =F4 -> 43348 | G3: =G4 -> 43349 | H3: =H4 -> 43350 | I3: =I4 -> 43351 | ... AE3: =AE4 -> 43373
A4: Tournée | B4: ='Aoû-18'!AF4+1 -> 43344 | C4: =B4+1 -> 43345 | D4: =C4+1 -> 43346 | E4: =D4+1 -> 43347 | F4: =E4+1 -> 43348 | G4: =F4+1 -> 43349 | H4: =G4+1 -> 43350 | I4: =H4+1 -> 43351 | J4: =I4+1 -> 43352 | ... AE4: =AD4+1 -> 43373
A5: Chauffeur Livreur
A6: T1
A7: T2
A8: T3
A9: T3b
A10: T4
A11: T6
A12: T6b
A13: T8
A14: T9b
A15: T14
A16: T16
... A40: T51
A41: T52 | B41: 0
A42: T56
A43: GEL
A44: RAMASSE
A45: Congés Payés
A46: T1
A47: T2
A48: T3
A49: T3b
A50: T4
A51: T6
A52: T6b
A53: T8
... A60: T51
A61: T52 | B61: 0
A62: T56
A63: GEL
A64: RAMASSE
A65: Absences
A66: T1
A67: T2
A68: T3
A69: T3b
...

Sheet Oct-18
A1: Octobre
B2: ='Sep-18'!Y2+1 -> 40 | I2: =B2+1 -> 41 | P2: =I2+1 -> 42 | W2: =P2+1 -> 43 | AD2: =W2+1 -> 44
B3: =B4 -> 43374 | C3: =C4 -> 43375 | D3: =D4 -> 43376 | E3: =E4 -> 43377 | F3: =F4 -> 43378 | G3: =G4 -> 43379 | H3: =H4 -> 43380 | I3: =I4 -> 43381 | ... AF3: =AF4 -> 43404
A4: Tournée | B4: ='Sep-18'!AE4+1 -> 43374 | C4: =B4+1 -> 43375 | D4: =C4+1 -> 43376 | E4: =D4+1 -> 43377 | F4: =E4+1 -> 43378 | G4: =F4+1 -> 43379 | H4: =G4+1 -> 43380 | I4: =H4+1 -> 43381 | J4: =I4+1 -> 43382 | ... AF4: =AE4+1 -> 43404
A5: Chauffeur Livreur
A6: T1
A7: T2
A8: T3
A9: T3b
A10: T4
A11: T6
A12: T6b
A13: T8
A14: T9b
A15: T14
A16: T16
... A40: T51
A41: T52 | B41: 0
A42: T56
A43: GEL
A44: RAMASSE
A45: Congés Payés
A46: T1
A47: T2
A48: T3
A49: T3b
A50: T4
A51: T6
A52: T6b
A53: T8
... A60: T51
A61: T52 | B61: 0
A62: T56
A63: GEL
A64: RAMASSE
A65: Absences
A66: T1
A67: T2
A68: T3
A69: T3b
...

Sheet Nov-18
A1: Septembre
B2: ='Oct-18'!AD2 -> 44 | F2: =B2+1 -> 45 | M2: =F2+1 -> 46 | T2: =M2+1 -> 47 | AA2: =T2+1 -> 48
B3: =B4 -> 43405 | C3: =C4 -> 43406 | D3: =D4 -> 43407 | E3: =E4 -> 43408 | F3: =F4 -> 43409 | G3: =G4 -> 43410 | H3: =H4 -> 43411 | I3: =I4 -> 43412 | ... AE3: =AE4 -> 43434
A4: Tournée | B4: ='Oct-18'!AF4+1 -> 43405 | C4: =B4+1 -> 43406 | D4: =C4+1 -> 43407 | E4: =D4+1 -> 43408 | F4: =E4+1 -> 43409 | G4: =F4+1 -> 43410 | H4: =G4+1 -> 43411 | I4: =H4+1 -> 43412 | J4: =I4+1 -> 43413 | ... AE4: =AD4+1 -> 43434
A5: Chauffeur Livreur
A6: T1
A7: T2
A8: T3
A9: T3b
A10: T4
A11: T6
A12: T6b
A13: T8
A14: T9b
A15: T14
A16: T16
... A40: T51
A41: T52 | B41: 0
A42: T56
A43: GEL
A44: RAMASSE
A45: Congés Payés
A46: T1
A47: T2
A48: T3
A49: T3b
A50: T4
A51: T6
A52: T6b
A53: T8
... A60: T51
A61: T52 | B61: 0
A62: T56
A63: GEL
A64: RAMASSE
A65: Absences
A66: T1
A67: T2
A68: T3
A69: T3b
...

Sheet Déc-18
A1: Décembre
B2: ='Nov-18'!AA2 -> 48 | D2: =B2+1 -> 49 | K2: =D2+1 -> 50 | R2: =K2+1 -> 51 | Y2: =R2+1 -> 52 | AF2: 1
B3: =B4 -> 43435 | C3: =C4 -> 43436 | D3: =D4 -> 43437 | E3: =E4 -> 43438 | F3: =F4 -> 43439 | G3: =G4 -> 43440 | H3: =H4 -> 43441 | I3: =I4 -> 43442 | ... AF3: =AF4 -> 43465
A4: Tournée | B4: ='Nov-18'!AE4+1 -> 43435 | C4: =B4+1 -> 43436 | D4: =C4+1 -> 43437 | E4: =D4+1 -> 43438 | F4: =E4+1 -> 43439 | G4: =F4+1 -> 43440 | H4: =G4+1 -> 43441 | I4: =H4+1 -> 43442 | J4: =I4+1 -> 43443 | ... AF4: =AE4+1 -> 43465
A5: Chauffeur Livreur
A6: T1
A7: T2
A8: T3
A9: T3b
A10: T4
A11: T6
A12: T6b
A13: T8
A14: T9b
A15: T14
A16: T16
... A40: T51
A41: T52 | B41: 0
A42: T56
A43: GEL
A44: RAMASSE
A45: Congés Payés
A46: T1
A47: T2
A48: T3
A49: T3b
A50: T4
A51: T6
A52: T6b
A53: T8
... A60: T51
A61: T52 | B61: 0
A62: T56
A63: GEL
A64: RAMASSE
A65: Absences
A66: T1
A67: T2
A68: T3
A69: T3b
...
