Workbook

Sheet SERVICE
A1: =config!D4 -> 43101
A2: =config!E4 -> 43131
F3: =A1 -> 43101 | G3: =F3+1 -> 43102 | H3: =G3+1 -> 43103 | I3: =H3+1 -> 43104 | J3: =I3+1 -> 43105 | K3: =J3+1 -> 43106 | L3: =K3+1 -> 43107 | M3: =L3+1 -> 43108 | N3: =M3+1 -> 43109 | ... AJ3: =AI3+1 -> 43131
F5: JANVIER | AL5: OCTOBRE
F9: =DAY(F3) -> 1 | G9: =DAY(G3) -> 2 | H9: =DAY(H3) -> 3 | I9: =DAY(I3) -> 4 | J9: =DAY(J3) -> 5 | K9: =DAY(K3) -> 6 | L9: =DAY(L3) -> 7 | M9: =DAY(M3) -> 8 | ... AG9: =DAY(AG3) -> 28 | AH9: =IFERROR(DAY(AH3),"") -> 29 | AI9: =IFERROR(DAY(AI3),"") -> 30 | AJ9: =IFERROR(DAY(AJ3),"") -> 31
B10: EQUIPE | C10: BP | D10: C | E10: BP+C | F10: =WEEKDAY(F3) -> 2 | G10: =WEEKDAY(G3) -> 3 | H10: =WEEKDAY(H3) -> 4 | I10: =WEEKDAY(I3) -> 5 | J10: =WEEKDAY(J3) -> 6 | K10: =WEEKDAY(K3) -> 7 | L10: =WEEKDAY(L3) -> 1 | M10: =WEEKDAY(M3) -> 2 | ... AG10: =WEEKDAY(AG3) -> 1 | AH10: =IFERROR(WEEKDAY(AH3),"") -> 2 | AI10: =IFERROR(WEEKDAY(AI3),"") -> 3 | AJ10: =IFERROR(WEEKDAY(AJ3),"") -> 4
B11: =IF(config!A3<>"",config!A3,"") -> mr 1 | C11: =COUNTIF(F11:AJ11,"bp") -> 2 | D11: =COUNTIF(G11:AK11,"c") -> 3 | E11: =SUM(C11,D11) -> 5 | I11: BP | P11: C | W11: C | AD11: C | AG11: BP
B12: =IF(config!A4<>"",config!A4,"") -> mr 2 | C12: =COUNTIF(F12:AJ12,"bp") -> 0 | D12: =COUNTIF(G12:AK12,"c") -> 0 | E12: =COUNTIF(H12:AL12,"p") -> 0
B13: =IF(config!A5<>"",config!A5,"") -> mr 3 | C13: =COUNTIF(F13:AJ13,"bp") -> 0 | D13: =COUNTIF(G13:AK13,"c") -> 0 | E13: =COUNTIF(H13:AL13,"p") -> 0
B14: =IF(config!A6<>"",config!A6,"") -> mr 4 | C14: =COUNTIF(F14:AJ14,"bp") -> 0 | D14: =COUNTIF(G14:AK14,"c") -> 0 | E14: =COUNTIF(H14:AL14,"p") -> 0
B15: =IF(config!A7<>"",config!A7,"") -> mr 5 | C15: =COUNTIF(F15:AJ15,"bp") -> 0 | D15: =COUNTIF(G15:AK15,"c") -> 0 | E15: =COUNTIF(H15:AL15,"p") -> 0
D19: TOTAL | E19: =SUM(E11:E15) -> 5 | F19: BP | G19: Service BP | J19: C | K19: Convoyage | N19: R | O19: Remplacement | X19: S/C | Y19: stage /cour | AB19: M | AC19: maladie | AE19: P | AF19: PERM
B21: jeudi | C21: vendredi | D21: samedi | E21: dimanche
A22: mr 1 | B22: =SUMPRODUCT((WEEKDAY($F$10:$AJ$10,2)=4)*(($F$11:$AJ$15="C")+($F$11:$AJ$15="BP"))*($B$11:$B$15=$A22)) -> 4 | C22: =SUMPRODUCT((WEEKDAY($F$10:$AJ$10,2)=5)*(($F$11:$AJ$15="C")+($F$11:$AJ$15="BP"))*($B$11:$B$15=$A22)) -> 0 | D22: =SUMPRODUCT((WEEKDAY($F$10:$AJ$10,2)=6)*(($F$11:$AJ$15="C")+($F$11:$AJ$15="BP"))*($B$11:$B$15=$A22)) -> 0 | E22: =SUMPRODUCT((WEEKDAY($F$10:$AJ$10,2)=7)*(($F$11:$AJ$15="C")+($F$11:$AJ$15="BP"))*($B$11:$B$15=$A22)) -> 1
A23: mr 2 | B23: =SUMPRODUCT((WEEKDAY($F$10:$AJ$10,2)=4)*(($F$11:$AJ$15="C")+($F$11:$AJ$15="BP"))*($B$11:$B$15=$A23)) -> 0 | C23: =SUMPRODUCT((WEEKDAY($F$10:$AJ$10,2)=5)*(($F$11:$AJ$15="C")+($F$11:$AJ$15="BP"))*($B$11:$B$15=$A23)) -> 0 | D23: =SUMPRODUCT((WEEKDAY($F$10:$AJ$10,2)=6)*(($F$11:$AJ$15="C")+($F$11:$AJ$15="BP"))*($B$11:$B$15=$A23)) -> 0 | E23: =SUMPRODUCT((WEEKDAY($F$10:$AJ$10,2)=7)*(($F$11:$AJ$15="C")+($F$11:$AJ$15="BP"))*($B$11:$B$15=$A23)) -> 0
A24: mr 3 | B24: =SUMPRODUCT((WEEKDAY($F$10:$AJ$10,2)=4)*(($F$11:$AJ$15="C")+($F$11:$AJ$15="BP"))*($B$11:$B$15=$A24)) -> 0 | C24: =SUMPRODUCT((WEEKDAY($F$10:$AJ$10,2)=5)*(($F$11:$AJ$15="C")+($F$11:$AJ$15="BP"))*($B$11:$B$15=$A24)) -> 0 | D24: =SUMPRODUCT((WEEKDAY($F$10:$AJ$10,2)=6)*(($F$11:$AJ$15="C")+($F$11:$AJ$15="BP"))*($B$11:$B$15=$A24)) -> 0 | E24: =SUMPRODUCT((WEEKDAY($F$10:$AJ$10,2)=7)*(($F$11:$AJ$15="C")+($F$11:$AJ$15="BP"))*($B$11:$B$15=$A24)) -> 0
A25: mr 4 | B25: =SUMPRODUCT((WEEKDAY($F$10:$AJ$10,2)=4)*(($F$11:$AJ$15="C")+($F$11:$AJ$15="BP"))*($B$11:$B$15=$A25)) -> 0 | C25: =SUMPRODUCT((WEEKDAY($F$10:$AJ$10,2)=5)*(($F$11:$AJ$15="C")+($F$11:$AJ$15="BP"))*($B$11:$B$15=$A25)) -> 0 | D25: =SUMPRODUCT((WEEKDAY($F$10:$AJ$10,2)=6)*(($F$11:$AJ$15="C")+($F$11:$AJ$15="BP"))*($B$11:$B$15=$A25)) -> 0 | E25: =SUMPRODUCT((WEEKDAY($F$10:$AJ$10,2)=7)*(($F$11:$AJ$15="C")+($F$11:$AJ$15="BP"))*($B$11:$B$15=$A25)) -> 0
A26: mr 5 | B26: =SUMPRODUCT((WEEKDAY($F$10:$AJ$10,2)=4)*(($F$11:$AJ$15="C")+($F$11:$AJ$15="BP"))*($B$11:$B$15=$A26)) -> 0 | C26: =SUMPRODUCT((WEEKDAY($F$10:$AJ$10,2)=5)*(($F$11:$AJ$15="C")+($F$11:$AJ$15="BP"))*($B$11:$B$15=$A26)) -> 0 | D26: =SUMPRODUCT((WEEKDAY($F$10:$AJ$10,2)=6)*(($F$11:$AJ$15="C")+($F$11:$AJ$15="BP"))*($B$11:$B$15=$A26)) -> 0 | E26: =SUMPRODUCT((WEEKDAY($F$10:$AJ$10,2)=7)*(($F$11:$AJ$15="C")+($F$11:$AJ$15="BP"))*($B$11:$B$15=$A26)) -> 0
A31: =config!D5 -> 43132
A32: =config!E5 -> 43159
F33: =A31 -> 43132 | G33: =F33+1 -> 43133 | H33: =G33+1 -> 43134 | I33: =H33+1 -> 43135 | J33: =I33+1 -> 43136 | K33: =J33+1 -> 43137 | L33: =K33+1 -> 43138 | M33: =L33+1 -> 43139 | N33: =M33+1 -> 43140 | ... AJ33: =AI33+1 -> 43162
F35: FÉVRIER
F39: =DAY(F33) -> 1 | G39: =DAY(G33) -> 2 | H39: =DAY(H33) -> 3 | I39: =DAY(I33) -> 4 | J39: =DAY(J33) -> 5 | K39: =DAY(K33) -> 6 | L39: =DAY(L33) -> 7 | M39: =DAY(M33) -> 8 | ... AG39: =DAY(AG33) -> 28 | AH39: =IFERROR(DAY(AH33),"") -> 1 | AI39: =IFERROR(DAY(AI33),"") -> 2 | AJ39: =IFERROR(DAY(AJ33),"") -> 3
B40: EQUIPE | C40: BP | D40: C | E40: BP+C | F40: =WEEKDAY(F33) -> 5 | G40: =WEEKDAY(G33) -> 6 | H40: =WEEKDAY(H33) -> 7 | I40: =WEEKDAY(I33) -> 1 | J40: =WEEKDAY(J33) -> 2 | K40: =WEEKDAY(K33) -> 3 | L40: =WEEKDAY(L33) -> 4 | M40: =WEEKDAY(M33) -> 5 | ... AG40: =WEEKDAY(AG33) -> 4 | AH40: =IFERROR(WEEKDAY(AH33),"") -> 5 | AI40: =IFERROR(WEEKDAY(AI33),"") -> 6 | AJ40: =IFERROR(WEEKDAY(AJ33),"") -> 7
B41: =IF(config!A3<>"",config!A3,"") -> mr 1 | C41: =COUNTIF(F41:AJ41,"bp") -> 1 | D41: =COUNTIF(G41:AK41,"c") -> 0 | E41: =SUM(C41,D41) -> 1 | N41: BP
B42: =IF(config!A4<>"",config!A4,"") -> mr 2 | C42: =COUNTIF(F42:AJ42,"bp") -> 0 | D42: =COUNTIF(G42:AK42,"c") -> 0 | E42: =COUNTIF(H42:AL42,"p") -> 0
B43: =IF(config!A5<>"",config!A5,"") -> mr 3 | C43: =COUNTIF(F43:AJ43,"bp") -> 0 | D43: =COUNTIF(G43:AK43,"c") -> 0 | E43: =COUNTIF(H43:AL43,"p") -> 0
B44: =IF(config!A6<>"",config!A6,"") -> mr 4 | C44: =COUNTIF(F44:AJ44,"bp") -> 0 | D44: =COUNTIF(G44:AK44,"c") -> 0 | E44: =COUNTIF(H44:AL44,"p") -> 0
B45: =IF(config!A7<>"",config!A7,"") -> mr 5 | C45: =COUNTIF(F45:AJ45,"bp") -> 0 | D45: =COUNTIF(G45:AK45,"c") -> 0 | E45: =COUNTIF(H45:AL45,"p") -> 0
D49: TOTAL | E49: =SUM(E41:E45) -> 1 | F49: BP | G49: Service BP | J49: C | K49: Convoyage | N49: R | O49: Remplacement | X49: S/C | Y49: stage /cour | AB49: M | AC49: maladie | AE49: P | AF49: PERM
B51: jeudi | C51: vendredi | D51: samedi | E51: dimanche
A52: mr 6 | B52: =SUMPRODUCT((WEEKDAY($F$10:$AJ$10,2)=4)*($F$11:$AJ$16="bp")*($B$11:$B$16=$A52)) -> 0 | C52: =SUMPRODUCT((WEEKDAY($F$10:$AG$10,2)=5)*($F$11:$AG$15="bp")*($B$11:$B$15=$A52)) -> 0 | D52: =SUMPRODUCT((WEEKDAY($F$10:$AG$10,2)=6)*($F$11:$AG$15="bp")*($B$11:$B$15=$A52)) -> 0 | E52: =SUMPRODUCT((WEEKDAY($F$10:$AG$10,2)=7)*($F$11:$AG$15="bp")*($B$11:$B$15=$A52)) -> 0
A53: mr 7 | B53: =SUMPRODUCT((WEEKDAY($F$10:$AJ$10,2)=4)*($F$11:$AJ$16="bp")*($B$11:$B$16=$A53)) -> 0 | C53: =SUMPRODUCT((WEEKDAY($F$10:$AG$10,2)=5)*($F$11:$AG$15="bp")*($B$11:$B$15=$A53)) -> 0 | D53: =SUMPRODUCT((WEEKDAY($F$10:$AG$10,2)=6)*($F$11:$AG$15="bp")*($B$11:$B$15=$A53)) -> 0 | E53: =SUMPRODUCT((WEEKDAY($F$10:$AG$10,2)=7)*($F$11:$AG$15="bp")*($B$11:$B$15=$A53)) -> 0
A54: mr 8 | B54: =SUMPRODUCT((WEEKDAY($F$10:$AJ$10,2)=4)*($F$11:$AJ$16="bp")*($B$11:$B$16=$A54)) -> 0 | C54: =SUMPRODUCT((WEEKDAY($F$10:$AG$10,2)=5)*($F$11:$AG$15="bp")*($B$11:$B$15=$A54)) -> 0 | D54: =SUMPRODUCT((WEEKDAY($F$10:$AG$10,2)=6)*($F$11:$AG$15="bp")*($B$11:$B$15=$A54)) -> 0 | E54: =SUMPRODUCT((WEEKDAY($F$10:$AG$10,2)=7)*($F$11:$AG$15="bp")*($B$11:$B$15=$A54)) -> 0
A55: mr 9 | B55: =SUMPRODUCT((WEEKDAY($F$10:$AJ$10,2)=4)*($F$11:$AJ$16="bp")*($B$11:$B$16=$A55)) -> 0 | C55: =SUMPRODUCT((WEEKDAY($F$10:$AG$10,2)=5)*($F$11:$AG$15="bp")*($B$11:$B$15=$A55)) -> 0 | D55: =SUMPRODUCT((WEEKDAY($F$10:$AG$10,2)=6)*($F$11:$AG$15="bp")*($B$11:$B$15=$A55)) -> 0 | E55: =SUMPRODUCT((WEEKDAY($F$10:$AG$10,2)=7)*($F$11:$AG$15="bp")*($B$11:$B$15=$A55)) -> 0
A56: mr 10 | B56: =SUMPRODUCT((WEEKDAY($F$10:$AJ$10,2)=4)*($F$11:$AJ$16="bp")*($B$11:$B$16=$A56)) -> 0 | C56: =SUMPRODUCT((WEEKDAY($F$10:$AG$10,2)=5)*($F$11:$AG$15="bp")*($B$11:$B$15=$A56)) -> 0 | D56: =SUMPRODUCT((WEEKDAY($F$10:$AG$10,2)=6)*($F$11:$AG$15="bp")*($B$11:$B$15=$A56)) -> 0 | E56: =SUMPRODUCT((WEEKDAY($F$10:$AG$10,2)=7)*($F$11:$AG$15="bp")*($B$11:$B$15=$A56)) -> 0
A61: =config!D6 -> 43160
A62: =config!E6 -> 43190
F63: =A61 -> 43160 | G63: =F63+1 -> 43161 | H63: =G63+1 -> 43162 | I63: =H63+1 -> 43163 | J63: =I63+1 -> 43164 | K63: =J63+1 -> 43165 | L63: =K63+1 -> 43166 | M63: =L63+1 -> 43167 | N63: =M63+1 -> 43168 | ... AJ63: =AI63+1 -> 43190
F65: MARS
F69: =DAY(F63) -> 1 | G69: =DAY(G63) -> 2 | H69: =DAY(H63) -> 3 | I69: =DAY(I63) -> 4 | J69: =DAY(J63) -> 5 | K69: =DAY(K63) -> 6 | L69: =DAY(L63) -> 7 | M69: =DAY(M63) -> 8 | ... AG69: =DAY(AG63) -> 28 | AH69: =IFERROR(DAY(AH63),"") -> 29 | AI69: =IFERROR(DAY(AI63),"") -> 30 | AJ69: =IFERROR(DAY(AJ63),"") -> 31
B70: EQUIPE | C70: BP | D70: C | E70: BP+C | F70: =WEEKDAY(F63) -> 5 | G70: =WEEKDAY(G63) -> 6 | H70: =WEEKDAY(H63) -> 7 | I70: =WEEKDAY(I63) -> 1 | J70: =WEEKDAY(J63) -> 2 | K70: =WEEKDAY(K63) -> 3 | L70: =WEEKDAY(L63) -> 4 | M70: =WEEKDAY(M63) -> 5 | ... AG70: =WEEKDAY(AG63) -> 4 | AH70: =IFERROR(WEEKDAY(AH63),"") -> 5 | AI70: =IFERROR(WEEKDAY(AI63),"") -> 6 | AJ70: =IFERROR(WEEKDAY(AJ63),"") -> 7
B71: =IF(config!A3<>"",config!A3,"") -> mr 1 | C71: =COUNTIF(F71:AJ71,"bp") -> 0 | D71: =COUNTIF(G71:AK71,"c") -> 0 | E71: =SUM(C71,D71) -> 0
B72: =IF(config!A4<>"",config!A4,"") -> mr 2 | C72: =COUNTIF(F72:AJ72,"bp") -> 0 | D72: =COUNTIF(G72:AK72,"c") -> 0 | E72: =COUNTIF(H72:AL72,"p") -> 0
B73: =IF(config!A5<>"",config!A5,"") -> mr 3 | C73: =COUNTIF(F73:AJ73,"bp") -> 0 | D73: =COUNTIF(G73:AK73,"c") -> 0 | E73: =COUNTIF(H73:AL73,"p") -> 0
B74: =IF(config!A6<>"",config!A6,"") -> mr 4 | C74: =COUNTIF(F74:AJ74,"bp") -> 0 | D74: =COUNTIF(G74:AK74,"c") -> 0 | E74: =COUNTIF(H74:AL74,"p") -> 0
B75: =IF(config!A7<>"",config!A7,"") -> mr 5 | C75: =COUNTIF(F75:AJ75,"bp") -> 0 | D75: =COUNTIF(G75:AK75,"c") -> 0 | E75: =COUNTIF(H75:AL75,"p") -> 0
D79: TOTAL | E79: =SUM(E71:E75) -> 0 | F79: BP | G79: Service BP | J79: C | K79: Convoyage | N79: R | O79: Remplacement | X79: S/C | Y79: stage /cour | AB79: M | AC79: maladie | AE79: P | AF79: PERM
B81: jeudi | C81: vendredi | D81: samedi | E81: dimanche
A82: mr 11 | B82: =SUMPRODUCT((WEEKDAY($F$10:$AJ$10,2)=4)*($F$11:$AJ$16="bp")*($B$11:$B$16=$A82)) -> 0 | C82: =SUMPRODUCT((WEEKDAY($F$10:$AG$10,2)=5)*($F$11:$AG$15="bp")*($B$11:$B$15=$A82)) -> 0 | D82: =SUMPRODUCT((WEEKDAY($F$10:$AG$10,2)=6)*($F$11:$AG$15="bp")*($B$11:$B$15=$A82)) -> 0 | E82: =SUMPRODUCT((WEEKDAY($F$10:$AG$10,2)=7)*($F$11:$AG$15="bp")*($B$11:$B$15=$A82)) -> 0
A83: mr 12 | B83: =SUMPRODUCT((WEEKDAY($F$10:$AJ$10,2)=4)*($F$11:$AJ$16="bp")*($B$11:$B$16=$A83)) -> 0 | C83: =SUMPRODUCT((WEEKDAY($F$10:$AG$10,2)=5)*($F$11:$AG$15="bp")*($B$11:$B$15=$A83)) -> 0 | D83: =SUMPRODUCT((WEEKDAY($F$10:$AG$10,2)=6)*($F$11:$AG$15="bp")*($B$11:$B$15=$A83)) -> 0 | E83: =SUMPRODUCT((WEEKDAY($F$10:$AG$10,2)=7)*($F$11:$AG$15="bp")*($B$11:$B$15=$A83)) -> 0
A84: mr 13 | B84: =SUMPRODUCT((WEEKDAY($F$10:$AJ$10,2)=4)*($F$11:$AJ$16="bp")*($B$11:$B$16=$A84)) -> 0 | C84: =SUMPRODUCT((WEEKDAY($F$10:$AG$10,2)=5)*($F$11:$AG$15="bp")*($B$11:$B$15=$A84)) -> 0 | D84: =SUMPRODUCT((WEEKDAY($F$10:$AG$10,2)=6)*($F$11:$AG$15="bp")*($B$11:$B$15=$A84)) -> 0 | E84: =SUMPRODUCT((WEEKDAY($F$10:$AG$10,2)=7)*($F$11:$AG$15="bp")*($B$11:$B$15=$A84)) -> 0
A85: mr 14 | B85: =SUMPRODUCT((WEEKDAY($F$10:$AJ$10,2)=4)*($F$11:$AJ$16="bp")*($B$11:$B$16=$A85)) -> 0 | C85: =SUMPRODUCT((WEEKDAY($F$10:$AG$10,2)=5)*($F$11:$AG$15="bp")*($B$11:$B$15=$A85)) -> 0 | D85: =SUMPRODUCT((WEEKDAY($F$10:$AG$10,2)=6)*($F$11:$AG$15="bp")*($B$11:$B$15=$A85)) -> 0 | E85: =SUMPRODUCT((WEEKDAY($F$10:$AG$10,2)=7)*($F$11:$AG$15="bp")*($B$11:$B$15=$A85)) -> 0
A86: mr 15 | B86: =SUMPRODUCT((WEEKDAY($F$10:$AJ$10,2)=4)*($F$11:$AJ$16="bp")*($B$11:$B$16=$A86)) -> 0 | C86: =SUMPRODUCT((WEEKDAY($F$10:$AG$10,2)=5)*($F$11:$AG$15="bp")*($B$11:$B$15=$A86)) -> 0 | D86: =SUMPRODUCT((WEEKDAY($F$10:$AG$10,2)=6)*($F$11:$AG$15="bp")*($B$11:$B$15=$A86)) -> 0 | E86: =SUMPRODUCT((WEEKDAY($F$10:$AG$10,2)=7)*($F$11:$AG$15="bp")*($B$11:$B$15=$A86)) -> 0
A91: =config!D7 -> 43191
A92: =config!E7 -> 43220
F93: =A91 -> 43191 | G93: =F93+1 -> 43192 | H93: =G93+1 -> 43193 | I93: =H93+1 -> 43194 | J93: =I93+1 -> 43195 | K93: =J93+1 -> 43196 | L93: =K93+1 -> 43197 | M93: =L93+1 -> 43198 | N93: =M93+1 -> 43199 | ... AJ93: =AI93+1 -> 43221
F95: AVRIL
F99: =DAY(F93) -> 1 | G99: =DAY(G93) -> 2 | H99: =DAY(H93) -> 3 | I99: =DAY(I93) -> 4 | J99: =DAY(J93) -> 5 | K99: =DAY(K93) -> 6 | L99: =DAY(L93) -> 7 | M99: =DAY(M93) -> 8 | ... AG99: =DAY(AG93) -> 28 | AH99: =IFERROR(DAY(AH93),"") -> 29 | AI99: =IFERROR(DAY(AI93),"") -> 30 | AJ99: =IFERROR(DAY(AJ93),"") -> 1
B100: EQUIPE | C100: BP | D100: C | E100: BP+C | F100: =WEEKDAY(F93) -> 1 | G100: =WEEKDAY(G93) -> 2 | H100: =WEEKDAY(H93) -> 3 | I100: =WEEKDAY(I93) -> 4 | J100: =WEEKDAY(J93) -> 5 | K100: =WEEKDAY(K93) -> 6 | L100: =WEEKDAY(L93) -> 7 | M100: =WEEKDAY(M93) -> 1 | ... AG100: =WEEKDAY(AG93) -> 7 | AH100: =IFERROR(WEEKDAY(AH93),"") -> 1 | AI100: =IFERROR(WEEKDAY(AI93),"") -> 2 | AJ100: =IFERROR(WEEKDAY(AJ93),"") -> 3
B101: =IF(config!A3<>"",config!A3,"") -> mr 1 | C101: =COUNTIF(F101:AJ101,"bp") -> 0 | D101: =COUNTIF(G101:AK101,"c") -> 0 | E101: =SUM(C101,D101) -> 0
B102: =IF(config!A4<>"",config!A4,"") -> mr 2 | C102: =COUNTIF(F102:AJ102,"bp") -> 0 | D102: =COUNTIF(G102:AK102,"c") -> 0 | E102: =COUNTIF(H102:AL102,"p") -> 0
B103: =IF(config!A5<>"",config!A5,"") -> mr 3 | C103: =COUNTIF(F103:AJ103,"bp") -> 0 | D103: =COUNTIF(G103:AK103,"c") -> 0 | E103: =COUNTIF(H103:AL103,"p") -> 0
B104: =IF(config!A6<>"",config!A6,"") -> mr 4 | C104: =COUNTIF(F104:AJ104,"bp") -> 0 | D104: =COUNTIF(G104:AK104,"c") -> 0 | E104: =COUNTIF(H104:AL104,"p") -> 0
B105: =IF(config!A7<>"",config!A7,"") -> mr 5 | C105: =COUNTIF(F105:AJ105,"bp") -> 0 | D105: =COUNTIF(G105:AK105,"c") -> 0 | E105: =COUNTIF(H105:AL105,"p") -> 0
D109: TOTAL | E109: =SUM(E101:E105) -> 0 | F109: BP | G109: Service BP | J109: C | K109: Convoyage | N109: R | O109: Remplacement | X109: S/C | Y109: stage /cour | AB109: M | AC109: maladie | AE109: P | AF109: PERM
B111: jeudi | C111: vendredi | D111: samedi | E111: dimanche
A112: mr 16 | B112: =SUMPRODUCT((WEEKDAY($F$10:$AJ$10,2)=4)*($F$11:$AJ$16="bp")*($B$11:$B$16=$A112)) -> 0 | C112: =SUMPRODUCT((WEEKDAY($F$10:$AG$10,2)=5)*($F$11:$AG$15="bp")*($B$11:$B$15=$A112)) -> 0 | D112: =SUMPRODUCT((WEEKDAY($F$10:$AG$10,2)=6)*($F$11:$AG$15="bp")*($B$11:$B$15=$A112)) -> 0 | E112: =SUMPRODUCT((WEEKDAY($F$10:$AG$10,2)=7)*($F$11:$AG$15="bp")*($B$11:$B$15=$A112)) -> 0
A113: mr 17 | B113: =SUMPRODUCT((WEEKDAY($F$10:$AJ$10,2)=4)*($F$11:$AJ$16="bp")*($B$11:$B$16=$A113)) -> 0 | C113: =SUMPRODUCT((WEEKDAY($F$10:$AG$10,2)=5)*($F$11:$AG$15="bp")*($B$11:$B$15=$A113)) -> 0 | D113: =SUMPRODUCT((WEEKDAY($F$10:$AG$10,2)=6)*($F$11:$AG$15="bp")*($B$11:$B$15=$A113)) -> 0 | E113: =SUMPRODUCT((WEEKDAY($F$10:$AG$10,2)=7)*($F$11:$AG$15="bp")*($B$11:$B$15=$A113)) -> 0
A114: mr 18 | B114: =SUMPRODUCT((WEEKDAY($F$10:$AJ$10,2)=4)*($F$11:$AJ$16="bp")*($B$11:$B$16=$A114)) -> 0 | C114: =SUMPRODUCT((WEEKDAY($F$10:$AG$10,2)=5)*($F$11:$AG$15="bp")*($B$11:$B$15=$A114)) -> 0 | D114: =SUMPRODUCT((WEEKDAY($F$10:$AG$10,2)=6)*($F$11:$AG$15="bp")*($B$11:$B$15=$A114)) -> 0 | E114: =SUMPRODUCT((WEEKDAY($F$10:$AG$10,2)=7)*($F$11:$AG$15="bp")*($B$11:$B$15=$A114)) -> 0
A115: mr 19 | B115: =SUMPRODUCT((WEEKDAY($F$10:$AJ$10,2)=4)*($F$11:$AJ$16="bp")*($B$11:$B$16=$A115)) -> 0 | C115: =SUMPRODUCT((WEEKDAY($F$10:$AG$10,2)=5)*($F$11:$AG$15="bp")*($B$11:$B$15=$A115)) -> 0 | D115: =SUMPRODUCT((WEEKDAY($F$10:$AG$10,2)=6)*($F$11:$AG$15="bp")*($B$11:$B$15=$A115)) -> 0 | E115: =SUMPRODUCT((WEEKDAY($F$10:$AG$10,2)=7)*($F$11:$AG$15="bp")*($B$11:$B$15=$A115)) -> 0
A116: mr 20 | B116: =SUMPRODUCT((WEEKDAY($F$10:$AJ$10,2)=4)*($F$11:$AJ$16="bp")*($B$11:$B$16=$A116)) -> 0 | C116: =SUMPRODUCT((WEEKDAY($F$10:$AG$10,2)=5)*($F$11:$AG$15="bp")*($B$11:$B$15=$A116)) -> 0 | D116: =SUMPRODUCT((WEEKDAY($F$10:$AG$10,2)=6)*($F$11:$AG$15="bp")*($B$11:$B$15=$A116)) -> 0 | E116: =SUMPRODUCT((WEEKDAY($F$10:$AG$10,2)=7)*($F$11:$AG$15="bp")*($B$11:$B$15=$A116)) -> 0
A121: =config!D8 -> 43221
A122: =config!E8 -> 43251
F123: =A121 -> 43221 | G123: =F123+1 -> 43222 | H123: =G123+1 -> 43223 | I123: =H123+1 -> 43224 | J123: =I123+1 -> 43225 | K123: =J123+1 -> 43226 | L123: =K123+1 -> 43227 | M123: =L123+1 -> 43228 | N123: =M123+1 -> 43229 | ... AJ123: =AI123+1 -> 43251
F125: MAI
F129: =DAY(F123) -> 1 | G129: =DAY(G123) -> 2 | H129: =DAY(H123) -> 3 | I129: =DAY(I123) -> 4 | J129: =DAY(J123) -> 5 | K129: =DAY(K123) -> 6 | L129: =DAY(L123) -> 7 | M129: =DAY(M123) -> 8 | ... AG129: =DAY(AG123) -> 28 | AH129: =IFERROR(DAY(AH123),"") -> 29 | AI129: =IFERROR(DAY(AI123),"") -> 30 | AJ129: =IFERROR(DAY(AJ123),"") -> 31
B130: EQUIPE | C130: BP | D130: C | E130: BP+C | F130: =WEEKDAY(F123) -> 3 | G130: =WEEKDAY(G123) -> 4 | H130: =WEEKDAY(H123) -> 5 | I130: =WEEKDAY(I123) -> 6 | J130: =WEEKDAY(J123) -> 7 | K130: =WEEKDAY(K123) -> 1 | L130: =WEEKDAY(L123) -> 2 | M130: =WEEKDAY(M123) -> 3 | ... AG130: =WEEKDAY(AG123) -> 2 | AH130: =IFERROR(WEEKDAY(AH123),"") -> 3 | AI130: =IFERROR(WEEKDAY(AI123),"") -> 4 | AJ130: =IFERROR(WEEKDAY(AJ123),"") -> 5
B131: =IF(config!A3<>"",config!A3,"") -> mr 1 | C131: =COUNTIF(F131:AJ131,"bp") -> 0 | D131: =COUNTIF(G131:AK131,"c") -> 0 | E131: =SUM(C131,D131) -> 0
B132: =IF(config!A4<>"",config!A4,"") -> mr 2 | C132: =COUNTIF(F132:AJ132,"bp") -> 0 | D132: =COUNTIF(G132:AK132,"c") -> 0 | E132: =COUNTIF(H132:AL132,"p") -> 0
B133: =IF(config!A5<>"",config!A5,"") -> mr 3 | C133: =COUNTIF(F133:AJ133,"bp") -> 0 | D133: =COUNTIF(G133:AK133,"c") -> 0 | E133: =COUNTIF(H133:AL133,"p") -> 0
B134: =IF(config!A6<>"",config!A6,"") -> mr 4 | C134: =COUNTIF(F134:AJ134,"bp") -> 0 | D134: =COUNTIF(G134:AK134,"c") -> 0 | E134: =COUNTIF(H134:AL134,"p") -> 0
B135: =IF(config!A7<>"",config!A7,"") -> mr 5 | C135: =COUNTIF(F135:AJ135,"bp") -> 0 | D135: =COUNTIF(G135:AK135,"c") -> 0 | E135: =COUNTIF(H135:AL135,"p") -> 0
D139: TOTAL | E139: =SUM(E131:E135) -> 0 | F139: BP | G139: Service BP | J139: C | K139: Convoyage | N139: R | O139: Remplacement | X139: S/C | Y139: stage /cour | AB139: M | AC139: maladie | AE139: P | AF139: PERM
B141: jeudi | C141: vendredi | D141: samedi | E141: dimanche
A142: mr 21 | B142: =SUMPRODUCT((WEEKDAY($F$10:$AJ$10,2)=4)*($F$11:$AJ$16="bp")*($B$11:$B$16=$A142)) -> 0 | C142: =SUMPRODUCT((WEEKDAY($F$10:$AG$10,2)=5)*($F$11:$AG$15="bp")*($B$11:$B$15=$A142)) -> 0 | D142: =SUMPRODUCT((WEEKDAY($F$10:$AG$10,2)=6)*($F$11:$AG$15="bp")*($B$11:$B$15=$A142)) -> 0 | E142: =SUMPRODUCT((WEEKDAY($F$10:$AG$10,2)=7)*($F$11:$AG$15="bp")*($B$11:$B$15=$A142)) -> 0
A143: mr 22 | B143: =SUMPRODUCT((WEEKDAY($F$10:$AJ$10,2)=4)*($F$11:$AJ$16="bp")*($B$11:$B$16=$A143)) -> 0 | C143: =SUMPRODUCT((WEEKDAY($F$10:$AG$10,2)=5)*($F$11:$AG$15="bp")*($B$11:$B$15=$A143)) -> 0 | D143: =SUMPRODUCT((WEEKDAY($F$10:$AG$10,2)=6)*($F$11:$AG$15="bp")*($B$11:$B$15=$A143)) -> 0 | E143: =SUMPRODUCT((WEEKDAY($F$10:$AG$10,2)=7)*($F$11:$AG$15="bp")*($B$11:$B$15=$A143)) -> 0
A144: mr 23 | B144: =SUMPRODUCT((WEEKDAY($F$10:$AJ$10,2)=4)*($F$11:$AJ$16="bp")*($B$11:$B$16=$A144)) -> 0 | C144: =SUMPRODUCT((WEEKDAY($F$10:$AG$10,2)=5)*($F$11:$AG$15="bp")*($B$11:$B$15=$A144)) -> 0 | D144: =SUMPRODUCT((WEEKDAY($F$10:$AG$10,2)=6)*($F$11:$AG$15="bp")*($B$11:$B$15=$A144)) -> 0 | E144: =SUMPRODUCT((WEEKDAY($F$10:$AG$10,2)=7)*($F$11:$AG$15="bp")*($B$11:$B$15=$A144)) -> 0
A145: mr 24 | B145: =SUMPRODUCT((WEEKDAY($F$10:$AJ$10,2)=4)*($F$11:$AJ$16="bp")*($B$11:$B$16=$A145)) -> 0 | C145: =SUMPRODUCT((WEEKDAY($F$10:$AG$10,2)=5)*($F$11:$AG$15="bp")*($B$11:$B$15=$A145)) -> 0 | D145: =SUMPRODUCT((WEEKDAY($F$10:$AG$10,2)=6)*($F$11:$AG$15="bp")*($B$11:$B$15=$A145)) -> 0 | E145: =SUMPRODUCT((WEEKDAY($F$10:$AG$10,2)=7)*($F$11:$AG$15="bp")*($B$11:$B$15=$A145)) -> 0
A146: mr 25 | B146: =SUMPRODUCT((WEEKDAY($F$10:$AJ$10,2)=4)*($F$11:$AJ$16="bp")*($B$11:$B$16=$A146)) -> 0 | C146: =SUMPRODUCT((WEEKDAY($F$10:$AG$10,2)=5)*($F$11:$AG$15="bp")*($B$11:$B$15=$A146)) -> 0 | D146: =SUMPRODUCT((WEEKDAY($F$10:$AG$10,2)=6)*($F$11:$AG$15="bp")*($B$11:$B$15=$A146)) -> 0 | E146: =SUMPRODUCT((WEEKDAY($F$10:$AG$10,2)=7)*($F$11:$AG$15="bp")*($B$11:$B$15=$A146)) -> 0
A151: =config!D9 -> 43252
A152: =config!E9 -> 43281
F153: =A151 -> 43252 | G153: =F153+1 -> 43253 | H153: =G153+1 -> 43254 | I153: =H153+1 -> 43255 | J153: =I153+1 -> 43256 | K153: =J153+1 -> 43257 | L153: =K153+1 -> 43258 | M153: =L153+1 -> 43259 | N153: =M153+1 -> 43260 | ... AJ153: =AI153+1 -> 43282
F155: JUIN
F159: =DAY(F153) -> 1 | G159: =DAY(G153) -> 2 | H159: =DAY(H153) -> 3 | I159: =DAY(I153) -> 4 | J159: =DAY(J153) -> 5 | K159: =DAY(K153) -> 6 | L159: =DAY(L153) -> 7 | M159: =DAY(M153) -> 8 | ... AG159: =DAY(AG153) -> 28 | AH159: =IFERROR(DAY(AH153),"") -> 29 | AI159: =IFERROR(DAY(AI153),"") -> 30 | AJ159: =IFERROR(DAY(AJ153),"") -> 1
B160: EQUIPE | C160: BP | D160: C | E160: BP+C | F160: =WEEKDAY(F153) -> 6 | G160: =WEEKDAY(G153) -> 7 | H160: =WEEKDAY(H153) -> 1 | I160: =WEEKDAY(I153) -> 2 | J160: =WEEKDAY(J153) -> 3 | K160: =WEEKDAY(K153) -> 4 | L160: =WEEKDAY(L153) -> 5 | M160: =WEEKDAY(M153) -> 6 | ... AG160: =WEEKDAY(AG153) -> 5 | AH160: =IFERROR(WEEKDAY(AH153),"") -> 6 | AI160: =IFERROR(WEEKDAY(AI153),"") -> 7 | AJ160: =IFERROR(WEEKDAY(AJ153),"") -> 1
B161: =IF(config!A3<>"",config!A3,"") -> mr 1 | C161: =COUNTIF(F161:AJ161,"bp") -> 0 | D161: =COUNTIF(G161:AK161,"c") -> 0 | E161: =SUM(C161,D161) -> 0
B162: =IF(config!A4<>"",config!A4,"") -> mr 2 | C162: =COUNTIF(F162:AJ162,"bp") -> 0 | D162: =COUNTIF(G162:AK162,"c") -> 0 | E162: =COUNTIF(H162:AL162,"p") -> 0
B163: =IF(config!A5<>"",config!A5,"") -> mr 3 | C163: =COUNTIF(F163:AJ163,"bp") -> 0 | D163: =COUNTIF(G163:AK163,"c") -> 0 | E163: =COUNTIF(H163:AL163,"p") -> 0
B164: =IF(config!A6<>"",config!A6,"") -> mr 4 | C164: =COUNTIF(F164:AJ164,"bp") -> 0 | D164: =COUNTIF(G164:AK164,"c") -> 0 | E164: =COUNTIF(H164:AL164,"p") -> 0
...

Sheet state
C5: TOTAUX | I5: janvier | O5: février | U5: mars | AA5: avril | AG5: mai | AM5: juin | AS5: juillet | AY5: août | BE5: septembre | BK5: octobre | BQ5: novembre | BW5: décembre
C6: service bp | D6: Convoyage | E6: jeudi | F6: vendredi | G6: samedi | H6: dimanche | I6: service bp | J6: convoyage | K6: jeudi | L6: vendredi | M6: samedi | N6: dimanche | O6: service bp | P6: convoyage | Q6: jeudi | R6: vendredi | S6: samedi | T6: dimanche | U6: service bp | V6: convoyage | W6: jeudi | X6: vendredi | Y6: samedi | Z6: dimanche | AA6: service bp | AB6: convoyage | AC6: jeudi | AD6: vendredi | AE6: samedi | AF6: dimanche | AG6: service bp | AH6: convoyage | AI6: jeudi | AJ6: vendredi | AK6: samedi | AL6: dimanche | AM6: service bp | AN6: convoyage | AO6: jeudi | AP6: vendredi | AQ6: samedi | AR6: dimanche | AS6: service bp | AT6: convoyage | AU6: jeudi | AV6: vendredi | AW6: samedi | AX6: dimanche | AY6: service bp | AZ6: convoyage | BA6: jeudi | BB6: vendredi | BC6: samedi | BD6: dimanche | BE6: service bp | BF6: convoyage | BG6: jeudi | BH6: vendredi | BI6: samedi | BJ6: dimanche | BK6: service bp | BL6: convoyage | BM6: jeudi | BN6: vendredi | BO6: samedi | BP6: dimanche | BQ6: service bp | BR6: convoyage | BS6: jeudi | BT6: vendredi | BU6: samedi | BV6: dimanche | BW6: service bp | BX6: convoyage | BY6: jeudi | BZ6: vendredi | CA6: samedi | CB6: dimanche
A7: =IF(config!A3="","",config!A3) -> mr 1 | C7: =SUM(I7,O7,U7,AA7,AG7,AM7,AS7,AY7,BE7,BK7,BQ7,BW7) -> 23 | D7: =SUM(J7,P7,V7,AB7,AH7,AN7,AT7,AZ7,BF7,BL7,BR7,BX7) -> 36 | E7: =SUM(K7,Q7,W7,AC7,AI7,AO7,AU7,BA7,BG7,BM7,BS7,BY7) -> 4 | F7: =SUM(L7,R7,X7,AD7,AJ7,AP7,AV7,BB7,BH7,BN7,BT7,BZ7) -> 0 | G7: =SUM(M7,S7,Y7,AE7,AK7,AQ7,AW7,BC7,BI7,BO7,BU7,CA7) -> 0 | H7: =SUM(N7,T11,Z7,AF7,AL7,AR7,AX7,BD7,BJ7,BP7,CB7,BV7) -> 1 | I7: =IFERROR(VLOOKUP($A7,SERVICE!$B$11:$E$18,2,0),"") -> 2 | J7: =IFERROR(VLOOKUP($A7,SERVICE!$B$11:$E$18,3,0),"") -> 3 | K7: =IFERROR(VLOOKUP($A7,SERVICE!$A$22:$E$26,2,0),"") -> 4 | L7: =IFERROR(VLOOKUP($A7,SERVICE!$A$22:$E$26,3,0),"") -> 0 | M7: =IFERROR(VLOOKUP($A7,SERVICE!$A$22:$E$26,4,0),"") -> 0 | N7: =IFERROR(VLOOKUP($A7,SERVICE!$A$22:$E$26,5,0),"") -> 1 | O7: =IFERROR(VLOOKUP($A7,SERVICE!$B$41:$D$45,2,0),"") -> 1 | P7: =IFERROR(VLOOKUP($A7,SERVICE!$B$11:$E$15,3,0),"") -> 3 | Q7: =SERVICE!H22 -> 0 | U7: =IFERROR(VLOOKUP($A7,SERVICE!$B$11:$E$15,2,0),"") -> 2 | V7: =IFERROR(VLOOKUP($A7,SERVICE!$B$11:$E$15,3,0),"") -> 3 | W7: =SERVICE!N22 -> 0 | AA7: =IFERROR(VLOOKUP($A7,SERVICE!$B$11:$E$15,2,0),"") -> 2 | AB7: =IFERROR(VLOOKUP($A7,SERVICE!$B$11:$E$15,3,0),"") -> 3 | AC7: =SERVICE!T22 -> 0 | AG7: =IFERROR(VLOOKUP($A7,SERVICE!$B$11:$E$15,2,0),"") -> 2 | AH7: =IFERROR(VLOOKUP($A7,SERVICE!$B$11:$E$15,3,0),"") -> 3 | AI7: =SERVICE!Z22 -> 0 | AM7: =IFERROR(VLOOKUP($A7,SERVICE!$B$11:$E$15,2,0),"") -> 2 | AN7: =IFERROR(VLOOKUP($A7,SERVICE!$B$11:$E$15,3,0),"") -> 3 | AO7: =SERVICE!AF22 -> 0 | AS7: =IFERROR(VLOOKUP($A7,SERVICE!$B$11:$E$15,2,0),"") -> 2 | AT7: =IFERROR(VLOOKUP($A7,SERVICE!$B$11:$E$15,3,0),"") -> 3 | AU7: =SERVICE!AL22 -> 0 | AY7: =IFERROR(VLOOKUP($A7,SERVICE!$B$11:$E$15,2,0),"") -> 2 | AZ7: =IFERROR(VLOOKUP($A7,SERVICE!$B$11:$E$15,3,0),"") -> 3 | BA7: =SERVICE!AR22 -> 0 | BE7: =IFERROR(VLOOKUP($A7,SERVICE!$B$11:$E$15,2,0),"") -> 2 | BF7: =IFERROR(VLOOKUP($A7,SERVICE!$B$11:$E$15,3,0),"") -> 3 | BG7: =SERVICE!AX22 -> 0 | BK7: =IFERROR(VLOOKUP($A7,SERVICE!$B$11:$E$15,2,0),"") -> 2 | BL7: =IFERROR(VLOOKUP($A7,SERVICE!$B$11:$E$15,3,0),"") -> 3 | BM7: =SERVICE!BD22 -> 0 | BQ7: =IFERROR(VLOOKUP($A7,SERVICE!$B$11:$E$15,2,0),"") -> 2 | BR7: =IFERROR(VLOOKUP($A7,SERVICE!$B$11:$E$15,3,0),"") -> 3 | BS7: =SERVICE!BJ22 -> 0 | BW7: =IFERROR(VLOOKUP($A7,SERVICE!$B$11:$E$15,2,0),"") -> 2 | BX7: =IFERROR(VLOOKUP($A7,SERVICE!$B$11:$E$15,3,0),"") -> 3 | BY7: =SERVICE!BP22 -> 0
A8: =IF(config!A4="","",config!A4) -> mr 2 | C8: =SUM(I8,O8,U8,AA8,AG8,AM8,AS8,AY8,BE8,BK8,BQ8,BW8) -> 0 | D8: =SUM(J8,P8,V8,AB8,AH8,AN8,AT8,AZ8,BF8,BL8,BR8,BX8) -> 0 | E8: =SUM(K8,Q8,W8,AC8,AI8,AO8,AU8,BA8,BG8,BM8,BS8,BY8) -> 0 | F8: =SUM(L8,R8,X8,AD8,AJ8,AP8,AV8,BB8,BH8,BN8,BT8,BZ8) -> 0 | G8: =SUM(M8,S8,Y8,AE8,AK8,AQ8,AW8,BC8,BI8,BO8,BU8,CA8) -> 0 | H8: =SUM(N8,T12,Z8,AF8,AL8,AR8,AX8,BD8,BJ8,BP8,CB8,BV8) -> 0 | I8: =IFERROR(VLOOKUP($A8,SERVICE!$B$11:$E$18,2,0),"") -> 0 | J8: =IFERROR(VLOOKUP($A8,SERVICE!$B$11:$E$18,3,0),"") -> 0 | K8: =IFERROR(VLOOKUP($A8,SERVICE!$A$22:$E$26,2,0),"") -> 0 | L8: =IFERROR(VLOOKUP($A8,SERVICE!$A$22:$E$26,3,0),"") -> 0 | M8: =IFERROR(VLOOKUP($A8,SERVICE!$A$22:$E$26,4,0),"") -> 0 | N8: =IFERROR(VLOOKUP($A8,SERVICE!$A$22:$E$26,5,0),"") -> 0 | O8: =IFERROR(VLOOKUP($A8,SERVICE!$B$11:$E$15,2,0),"") -> 0 | P8: =IFERROR(VLOOKUP($A8,SERVICE!$B$11:$E$15,3,0),"") -> 0 | U8: =IFERROR(VLOOKUP($A8,SERVICE!$B$11:$E$15,2,0),"") -> 0 | V8: =IFERROR(VLOOKUP($A8,SERVICE!$B$11:$E$15,3,0),"") -> 0 | W8: =SERVICE!N23 -> 0 | AA8: =IFERROR(VLOOKUP($A8,SERVICE!$B$11:$E$15,2,0),"") -> 0 | AB8: =IFERROR(VLOOKUP($A8,SERVICE!$B$11:$E$15,3,0),"") -> 0 | AC8: =SERVICE!T23 -> 0 | AG8: =IFERROR(VLOOKUP($A8,SERVICE!$B$11:$E$15,2,0),"") -> 0 | AH8: =IFERROR(VLOOKUP($A8,SERVICE!$B$11:$E$15,3,0),"") -> 0 | AI8: =SERVICE!Z23 -> 0 | AM8: =IFERROR(VLOOKUP($A8,SERVICE!$B$11:$E$15,2,0),"") -> 0 | AN8: =IFERROR(VLOOKUP($A8,SERVICE!$B$11:$E$15,3,0),"") -> 0 | AO8: =SERVICE!AF23 -> 0 | AS8: =IFERROR(VLOOKUP($A8,SERVICE!$B$11:$E$15,2,0),"") -> 0 | AT8: =IFERROR(VLOOKUP($A8,SERVICE!$B$11:$E$15,3,0),"") -> 0 | AU8: =SERVICE!AL23 -> 0 | AY8: =IFERROR(VLOOKUP($A8,SERVICE!$B$11:$E$15,2,0),"") -> 0 | AZ8: =IFERROR(VLOOKUP($A8,SERVICE!$B$11:$E$15,3,0),"") -> 0 | BA8: =SERVICE!AR23 -> 0 | BE8: =IFERROR(VLOOKUP($A8,SERVICE!$B$11:$E$15,2,0),"") -> 0 | BF8: =IFERROR(VLOOKUP($A8,SERVICE!$B$11:$E$15,3,0),"") -> 0 | BG8: =SERVICE!AX23 -> 0 | BK8: =IFERROR(VLOOKUP($A8,SERVICE!$B$11:$E$15,2,0),"") -> 0 | BL8: =IFERROR(VLOOKUP($A8,SERVICE!$B$11:$E$15,3,0),"") -> 0 | BM8: =SERVICE!BD23 -> 0 | BQ8: =IFERROR(VLOOKUP($A8,SERVICE!$B$11:$E$15,2,0),"") -> 0 | BR8: =IFERROR(VLOOKUP($A8,SERVICE!$B$11:$E$15,3,0),"") -> 0 | BS8: =SERVICE!BJ23 -> 0 | BW8: =IFERROR(VLOOKUP($A8,SERVICE!$B$11:$E$15,2,0),"") -> 0 | BX8: =IFERROR(VLOOKUP($A8,SERVICE!$B$11:$E$15,3,0),"") -> 0 | BY8: =SERVICE!BP23 -> 0
A9: =IF(config!A5="","",config!A5) -> mr 3 | C9: =SUM(I9,O9,U9,AA9,AG9,AM9,AS9,AY9,BE9,BK9,BQ9,BW9) -> 0 | D9: =SUM(J9,P9,V9,AB9,AH9,AN9,AT9,AZ9,BF9,BL9,BR9,BX9) -> 0 | E9: =SUM(K9,Q9,W9,AC9,AI9,AO9,AU9,BA9,BG9,BM9,BS9,BY9) -> 0 | F9: =SUM(L9,R9,X9,AD9,AJ9,AP9,AV9,BB9,BH9,BN9,BT9,BZ9) -> 0 | G9: =SUM(M9,S9,Y9,AE9,AK9,AQ9,AW9,BC9,BI9,BO9,BU9,CA9) -> 0 | H9: =SUM(N9,T13,Z9,AF9,AL9,AR9,AX9,BD9,BJ9,BP9,CB9,BV9) -> 0 | I9: =IFERROR(VLOOKUP($A9,SERVICE!$B$11:$E$18,2,0),"") -> 0 | J9: =IFERROR(VLOOKUP($A9,SERVICE!$B$11:$E$18,3,0),"") -> 0 | K9: =IFERROR(VLOOKUP($A9,SERVICE!$A$22:$E$26,2,0),"") -> 0 | L9: =IFERROR(VLOOKUP($A9,SERVICE!$A$22:$E$26,3,0),"") -> 0 | M9: =IFERROR(VLOOKUP($A9,SERVICE!$A$22:$E$26,4,0),"") -> 0 | N9: =IFERROR(VLOOKUP($A9,SERVICE!$A$22:$E$26,5,0),"") -> 0 | O9: =IFERROR(VLOOKUP($A9,SERVICE!$B$11:$E$15,2,0),"") -> 0 | P9: =IFERROR(VLOOKUP($A9,SERVICE!$B$11:$E$15,3,0),"") -> 0 | U9: =IFERROR(VLOOKUP($A9,SERVICE!$B$11:$E$15,2,0),"") -> 0 | V9: =IFERROR(VLOOKUP($A9,SERVICE!$B$11:$E$15,3,0),"") -> 0 | W9: =SERVICE!N24 -> 0 | AA9: =IFERROR(VLOOKUP($A9,SERVICE!$B$11:$E$15,2,0),"") -> 0 | AB9: =IFERROR(VLOOKUP($A9,SERVICE!$B$11:$E$15,3,0),"") -> 0 | AC9: =SERVICE!T24 -> 0 | AG9: =IFERROR(VLOOKUP($A9,SERVICE!$B$11:$E$15,2,0),"") -> 0 | AH9: =IFERROR(VLOOKUP($A9,SERVICE!$B$11:$E$15,3,0),"") -> 0 | AI9: =SERVICE!Z24 -> 0 | AM9: =IFERROR(VLOOKUP($A9,SERVICE!$B$11:$E$15,2,0),"") -> 0 | AN9: =IFERROR(VLOOKUP($A9,SERVICE!$B$11:$E$15,3,0),"") -> 0 | AO9: =SERVICE!AF24 -> 0 | AS9: =IFERROR(VLOOKUP($A9,SERVICE!$B$11:$E$15,2,0),"") -> 0 | AT9: =IFERROR(VLOOKUP($A9,SERVICE!$B$11:$E$15,3,0),"") -> 0 | AU9: =SERVICE!AL24 -> 0 | AY9: =IFERROR(VLOOKUP($A9,SERVICE!$B$11:$E$15,2,0),"") -> 0 | AZ9: =IFERROR(VLOOKUP($A9,SERVICE!$B$11:$E$15,3,0),"") -> 0 | BA9: =SERVICE!AR24 -> 0 | BE9: =IFERROR(VLOOKUP($A9,SERVICE!$B$11:$E$15,2,0),"") -> 0 | BF9: =IFERROR(VLOOKUP($A9,SERVICE!$B$11:$E$15,3,0),"") -> 0 | BG9: =SERVICE!AX24 -> 0 | BK9: =IFERROR(VLOOKUP($A9,SERVICE!$B$11:$E$15,2,0),"") -> 0 | BL9: =IFERROR(VLOOKUP($A9,SERVICE!$B$11:$E$15,3,0),"") -> 0 | BM9: =SERVICE!BD24 -> 0 | BQ9: =IFERROR(VLOOKUP($A9,SERVICE!$B$11:$E$15,2,0),"") -> 0 | BR9: =IFERROR(VLOOKUP($A9,SERVICE!$B$11:$E$15,3,0),"") -> 0 | BS9: =SERVICE!BJ24 -> 0 | BW9: =IFERROR(VLOOKUP($A9,SERVICE!$B$11:$E$15,2,0),"") -> 0 | BX9: =IFERROR(VLOOKUP($A9,SERVICE!$B$11:$E$15,3,0),"") -> 0 | BY9: =SERVICE!BP24 -> 0
A10: =IF(config!A6="","",config!A6) -> mr 4 | C10: =SUM(I10,O10,U10,AA10,AG10,AM10,AS10,AY10,BE10,BK10,BQ10,BW10) -> 0 | D10: =SUM(J10,P10,V10,AB10,AH10,AN10,AT10,AZ10,BF10,BL10,BR10,BX10) -> 0 | E10: =SUM(K10,Q10,W10,AC10,AI10,AO10,AU10,BA10,BG10,BM10,BS10,BY10) -> 0 | F10: =SUM(L10,R10,X10,AD10,AJ10,AP10,AV10,BB10,BH10,BN10,BT10,BZ10) -> 0 | G10: =SUM(M10,S10,Y10,AE10,AK10,AQ10,AW10,BC10,BI10,BO10,BU10,CA10) -> 0 | H10: =SUM(N10,T14,Z10,AF10,AL10,AR10,AX10,BD10,BJ10,BP10,CB10,BV10) -> 0 | I10: =IFERROR(VLOOKUP($A10,SERVICE!$B$11:$E$18,2,0),"") -> 0 | J10: =IFERROR(VLOOKUP($A10,SERVICE!$B$11:$E$18,3,0),"") -> 0 | K10: =IFERROR(VLOOKUP($A10,SERVICE!$A$22:$E$26,2,0),"") -> 0 | L10: =IFERROR(VLOOKUP($A10,SERVICE!$A$22:$E$26,3,0),"") -> 0 | M10: =IFERROR(VLOOKUP($A10,SERVICE!$A$22:$E$26,4,0),"") -> 0 | N10: =IFERROR(VLOOKUP($A10,SERVICE!$A$22:$E$26,5,0),"") -> 0 | O10: =IFERROR(VLOOKUP($A10,SERVICE!$B$11:$E$15,2,0),"") -> 0 | P10: =IFERROR(VLOOKUP($A10,SERVICE!$B$11:$E$15,3,0),"") -> 0 | U10: =IFERROR(VLOOKUP($A10,SERVICE!$B$11:$E$15,2,0),"") -> 0 | V10: =IFERROR(VLOOKUP($A10,SERVICE!$B$11:$E$15,3,0),"") -> 0 | W10: =SERVICE!N25 -> 0 | AA10: =IFERROR(VLOOKUP($A10,SERVICE!$B$11:$E$15,2,0),"") -> 0 | AB10: =IFERROR(VLOOKUP($A10,SERVICE!$B$11:$E$15,3,0),"") -> 0 | AC10: =SERVICE!T25 -> 0 | AG10: =IFERROR(VLOOKUP($A10,SERVICE!$B$11:$E$15,2,0),"") -> 0 | AH10: =IFERROR(VLOOKUP($A10,SERVICE!$B$11:$E$15,3,0),"") -> 0 | AI10: =SERVICE!Z25 -> 0 | AM10: =IFERROR(VLOOKUP($A10,SERVICE!$B$11:$E$15,2,0),"") -> 0 | AN10: =IFERROR(VLOOKUP($A10,SERVICE!$B$11:$E$15,3,0),"") -> 0 | AO10: =SERVICE!AF25 -> 0 | AS10: =IFERROR(VLOOKUP($A10,SERVICE!$B$11:$E$15,2,0),"") -> 0 | AT10: =IFERROR(VLOOKUP($A10,SERVICE!$B$11:$E$15,3,0),"") -> 0 | AU10: =SERVICE!AL25 -> 0 | AY10: =IFERROR(VLOOKUP($A10,SERVICE!$B$11:$E$15,2,0),"") -> 0 | AZ10: =IFERROR(VLOOKUP($A10,SERVICE!$B$11:$E$15,3,0),"") -> 0 | BA10: =SERVICE!AR25 -> 0 | BE10: =IFERROR(VLOOKUP($A10,SERVICE!$B$11:$E$15,2,0),"") -> 0 | BF10: =IFERROR(VLOOKUP($A10,SERVICE!$B$11:$E$15,3,0),"") -> 0 | BG10: =SERVICE!AX25 -> 0 | BK10: =IFERROR(VLOOKUP($A10,SERVICE!$B$11:$E$15,2,0),"") -> 0 | BL10: =IFERROR(VLOOKUP($A10,SERVICE!$B$11:$E$15,3,0),"") -> 0 | BM10: =SERVICE!BD25 -> 0 | BQ10: =IFERROR(VLOOKUP($A10,SERVICE!$B$11:$E$15,2,0),"") -> 0 | BR10: =IFERROR(VLOOKUP($A10,SERVICE!$B$11:$E$15,3,0),"") -> 0 | BS10: =SERVICE!BJ25 -> 0 | BW10: =IFERROR(VLOOKUP($A10,SERVICE!$B$11:$E$15,2,0),"") -> 0 | BX10: =IFERROR(VLOOKUP($A10,SERVICE!$B$11:$E$15,3,0),"") -> 0 | BY10: =SERVICE!BP25 -> 0
A11: =IF(config!A7="","",config!A7) -> mr 5 | C11: =SUM(I11,O11,U11,AA11,AG11,AM11,AS11,AY11,BE11,BK11,BQ11,BW11) -> 0 | D11: =SUM(J11,P11,V11,AB11,AH11,AN11,AT11,AZ11,BF11,BL11,BR11,BX11) -> 0 | E11: =SUM(K11,Q11,W11,AC11,AI11,AO11,AU11,BA11,BG11,BM11,BS11,BY11) -> 0 | F11: =SUM(L11,R11,X11,AD11,AJ11,AP11,AV11,BB11,BH11,BN11,BT11,BZ11) -> 0 | G11: =SUM(M11,S11,Y11,AE11,AK11,AQ11,AW11,BC11,BI11,BO11,BU11,CA11) -> 0 | H11: =SUM(N11,T15,Z11,AF11,AL11,AR11,AX11,BD11,BJ11,BP11,CB11,BV11) -> 0 | I11: =IFERROR(VLOOKUP($A11,SERVICE!$B$11:$E$18,2,0),"") -> 0 | J11: =IFERROR(VLOOKUP($A11,SERVICE!$B$11:$E$18,3,0),"") -> 0 | K11: =IFERROR(VLOOKUP($A11,SERVICE!$A$22:$E$26,2,0),"") -> 0 | L11: =IFERROR(VLOOKUP($A11,SERVICE!$A$22:$E$26,3,0),"") -> 0 | M11: =IFERROR(VLOOKUP($A11,SERVICE!$A$22:$E$26,4,0),"") -> 0 | N11: =IFERROR(VLOOKUP($A11,SERVICE!$A$22:$E$26,5,0),"") -> 0 | O11: =IFERROR(VLOOKUP($A11,SERVICE!$B$11:$E$15,2,0),"") -> 0 | P11: =IFERROR(VLOOKUP($A11,SERVICE!$B$11:$E$15,3,0),"") -> 0 | U11: =IFERROR(VLOOKUP($A11,SERVICE!$B$11:$E$15,2,0),"") -> 0 | V11: =IFERROR(VLOOKUP($A11,SERVICE!$B$11:$E$15,3,0),"") -> 0 | W11: =SERVICE!N26 -> 0 | AA11: =IFERROR(VLOOKUP($A11,SERVICE!$B$11:$E$15,2,0),"") -> 0 | AB11: =IFERROR(VLOOKUP($A11,SERVICE!$B$11:$E$15,3,0),"") -> 0 | AC11: =SERVICE!T26 -> 0 | AG11: =IFERROR(VLOOKUP($A11,SERVICE!$B$11:$E$15,2,0),"") -> 0 | AH11: =IFERROR(VLOOKUP($A11,SERVICE!$B$11:$E$15,3,0),"") -> 0 | AI11: =SERVICE!Z26 -> 0 | AM11: =IFERROR(VLOOKUP($A11,SERVICE!$B$11:$E$15,2,0),"") -> 0 | AN11: =IFERROR(VLOOKUP($A11,SERVICE!$B$11:$E$15,3,0),"") -> 0 | AO11: =SERVICE!AF26 -> 0 | AS11: =IFERROR(VLOOKUP($A11,SERVICE!$B$11:$E$15,2,0),"") -> 0 | AT11: =IFERROR(VLOOKUP($A11,SERVICE!$B$11:$E$15,3,0),"") -> 0 | AU11: =SERVICE!AL26 -> 0 | AY11: =IFERROR(VLOOKUP($A11,SERVICE!$B$11:$E$15,2,0),"") -> 0 | AZ11: =IFERROR(VLOOKUP($A11,SERVICE!$B$11:$E$15,3,0),"") -> 0 | BA11: =SERVICE!AR26 -> 0 | BE11: =IFERROR(VLOOKUP($A11,SERVICE!$B$11:$E$15,2,0),"") -> 0 | BF11: =IFERROR(VLOOKUP($A11,SERVICE!$B$11:$E$15,3,0),"") -> 0 | BG11: =SERVICE!AX26 -> 0 | BK11: =IFERROR(VLOOKUP($A11,SERVICE!$B$11:$E$15,2,0),"") -> 0 | BL11: =IFERROR(VLOOKUP($A11,SERVICE!$B$11:$E$15,3,0),"") -> 0 | BM11: =SERVICE!BD26 -> 0 | BQ11: =IFERROR(VLOOKUP($A11,SERVICE!$B$11:$E$15,2,0),"") -> 0 | BR11: =IFERROR(VLOOKUP($A11,SERVICE!$B$11:$E$15,3,0),"") -> 0 | BS11: =SERVICE!BJ26 -> 0 | BW11: =IFERROR(VLOOKUP($A11,SERVICE!$B$11:$E$15,2,0),"") -> 0 | BX11: =IFERROR(VLOOKUP($A11,SERVICE!$B$11:$E$15,3,0),"") -> 0 | BY11: =SERVICE!BP26 -> 0

Sheet Feuil1

Sheet Feuil2

Sheet config
A2: EQUIPE | C2: date d'entrée | D2: 43101
A3: mr 1 | D3: start | E3: stop
A4: mr 2 | C4: janvier | D4: 43101 | E4: =EOMONTH(D4,0) -> 43131
A5: mr 3 | C5: février | D5: =EDATE(D4,1) -> 43132 | E5: =EOMONTH(D5,0) -> 43159
A6: mr 4 | C6: mars | D6: =EDATE(D5,1) -> 43160 | E6: =EOMONTH(D6,0) -> 43190
A7: mr 5 | C7: avril | D7: =EDATE(D6,1) -> 43191 | E7: =EOMONTH(D7,0) -> 43220
A8: mr 6 | C8: mai | D8: =EDATE(D7,1) -> 43221 | E8: =EOMONTH(D8,0) -> 43251
A9: mr 7 | C9: juin | D9: =EDATE(D8,1) -> 43252 | E9: =EOMONTH(D9,0) -> 43281
A10: mr 8 | C10: juillet | D10: =EDATE(D9,1) -> 43282 | E10: =EOMONTH(D10,0) -> 43312
A11: mr 9 | C11: août | D11: =EDATE(D10,1) -> 43313 | E11: =EOMONTH(D11,0) -> 43343
A12: mr 10 | C12: septembre | D12: =EDATE(D11,1) -> 43344 | E12: =EOMONTH(D12,0) -> 43373
C13: octobre | D13: =EDATE(D12,1) -> 43374 | E13: =EOMONTH(D13,0) -> 43404
C14: novembre | D14: =EDATE(D13,1) -> 43405 | E14: =EOMONTH(D14,0) -> 43434
C15: décembre | D15: =EDATE(D14,1) -> 43435 | E15: =EOMONTH(D15,0) -> 43465
