Workbook

Sheet mars
A1: =config!D6 -> 42795
A2: =config!E6 -> 42825
F3: =A1 -> 42795 | G3: =F3+1 -> 42796 | H3: =G3+1 -> 42797 | I3: =H3+1 -> 42798 | J3: =I3+1 -> 42799 | K3: =J3+1 -> 42800 | L3: =K3+1 -> 42801 | M3: =L3+1 -> 42802 | N3: =M3+1 -> 42803 | ... AJ3: =AI3+1 -> 42825
F5: =TEXT(A1, "mmmmmmmmmmmm") -> mars
F9: =DAY(F3) -> 1 | G9: =DAY(G3) -> 2 | H9: =DAY(H3) -> 3 | I9: =DAY(I3) -> 4 | J9: =DAY(J3) -> 5 | K9: =DAY(K3) -> 6 | L9: =DAY(L3) -> 7 | M9: =DAY(M3) -> 8 | ... AJ9: =DAY(AJ3) -> 31
B10: personnel | C10: service bp | D10: convoyage | E10: perm | F10: =WEEKDAY(F3) -> 4 | G10: =WEEKDAY(G3) -> 5 | H10: =WEEKDAY(H3) -> 6 | I10: =WEEKDAY(I3) -> 7 | J10: =WEEKDAY(J3) -> 1 | K10: =WEEKDAY(K3) -> 2 | L10: =WEEKDAY(L3) -> 3 | M10: =WEEKDAY(M3) -> 4 | ... AJ10: =WEEKDAY(AJ3) -> 6
B11: =IF(config!A3<>"",config!A3,"") -> mr 1 | C11: =COUNTIF(F11:AJ11,"bp") -> 4 | D11: =COUNTIF(G11:AK11,"c") -> 2 | E11: =COUNTIF(H11:AL11,"p") -> 0 | F11: bp | L11: c | N11: bp | R11: bp | T11: c | AI11: bp
B12: =IF(config!A4<>"",config!A4,"") -> mr 2 | C12: =COUNTIF(F12:AJ12,"bp") -> 2 | D12: =COUNTIF(G12:AK12,"c") -> 0 | E12: =COUNTIF(H12:AL12,"p") -> 0 | F12: c | AA12: bp | AJ12: bp
B13: =IF(config!A5<>"",config!A5,"") -> mr 3 | C13: =COUNTIF(F13:AJ13,"bp") -> 1 | D13: =COUNTIF(G13:AK13,"c") -> 0 | E13: =COUNTIF(H13:AL13,"p") -> 0 | G13: bp
B14: =IF(config!A6<>"",config!A6,"") -> mr 4 | C14: =COUNTIF(F14:AJ14,"bp") -> 0 | D14: =COUNTIF(G14:AK14,"c") -> 1 | E14: =COUNTIF(H14:AL14,"p") -> 0 | AG14: c
B15: =IF(config!A7<>"",config!A7,"") -> mr 5 | C15: =COUNTIF(F15:AJ15,"bp") -> 0 | D15: =COUNTIF(G15:AK15,"c") -> 1 | E15: =COUNTIF(H15:AL15,"p") -> 0 | L15: c
F16: =COUNTA(F11:F15) -> 2 | G16: =COUNTA(G11:G15) -> 1 | H16: =COUNTA(H11:H15) -> 0 | I16: =COUNTA(I11:I15) -> 0 | J16: =COUNTA(J11:J15) -> 0 | K16: =COUNTA(K11:K15) -> 0 | L16: =COUNTA(L11:L15) -> 2 | M16: =COUNTA(M11:M15) -> 0 | ... AJ16: =COUNTA(AJ11:AJ15) -> 1
F19: bp | G19: service bp | J19: c | K19: convoyage | N19: p | O19: perm
B22: jeudi
A23: mr 1 | B23: =SUM(INDEX(F11:AJ15,o,G10:G15,N10:N15)) -> #NAME?
A24: mr 2
A25: mr 3
A26: mr 4
A27: mr 5

Sheet state
C5: total | F5: janvier | I5: février | L5: mars
C6: service bp | D6: convoyage | E6: perme | F6: service bp | G6: convoyage | H6: perme | I6: service bp | J6: convoyage | K6: perme | L6: service bp | M6: convoyage | N6: perme
B7: =IF(config!A3="","",config!A3) -> mr 1 | C7: =SUM(F7,I7,L7) -> 7 | D7: =SUM(G7,J7,M7) -> 5 | E7: =SUM(H7,K7,N7) -> 3 | F7: =IFERROR(VLOOKUP($B7,janvier!$B$11:$E$15,2,0),"") -> 3 | G7: =IFERROR(VLOOKUP($B7,janvier!$B$11:$E$15,3,0),"") -> 2 | H7: =IFERROR(VLOOKUP($B7,janvier!$B$11:$E$15,4,0),"") -> 2 | I7: =IFERROR(VLOOKUP($B7,fevrier!$B$11:$E$15,2,0),"") -> 0 | J7: =IFERROR(VLOOKUP($B7,fevrier!$B$11:$E$15,3,0),"") -> 1 | K7: =IFERROR(VLOOKUP($B7,fevrier!$B$11:$E$15,4,0),"") -> 1 | L7: =IFERROR(VLOOKUP($B7,mars!$B$11:$E$15,2,0),"") -> 4 | M7: =IFERROR(VLOOKUP($B7,mars!$B$11:$E$15,3,0),"") -> 2 | N7: =IFERROR(VLOOKUP($B7,mars!$B$11:$E$15,4,0),"") -> 0
B8: =IF(config!A4="","",config!A4) -> mr 2 | C8: =SUM(F8,I8,L8) -> 4 | D8: =SUM(G8,J8,M8) -> 0 | E8: =SUM(H8,K8,N8) -> 2 | F8: =IFERROR(VLOOKUP($B8,janvier!$B$11:$E$15,2,0),"") -> 1 | G8: =IFERROR(VLOOKUP($B8,janvier!$B$11:$E$15,3,0),"") -> 0 | H8: =IFERROR(VLOOKUP($B8,janvier!$B$11:$E$15,4,0),"") -> 2 | I8: =IFERROR(VLOOKUP($B8,fevrier!$B$11:$E$15,2,0),"") -> 1 | J8: =IFERROR(VLOOKUP($B8,fevrier!$B$11:$E$15,3,0),"") -> 0 | K8: =IFERROR(VLOOKUP($B8,fevrier!$B$11:$E$15,4,0),"") -> 0 | L8: =IFERROR(VLOOKUP($B8,mars!$B$11:$E$15,2,0),"") -> 2 | M8: =IFERROR(VLOOKUP($B8,mars!$B$11:$E$15,3,0),"") -> 0 | N8: =IFERROR(VLOOKUP($B8,mars!$B$11:$E$15,4,0),"") -> 0
B9: =IF(config!A5="","",config!A5) -> mr 3 | C9: =SUM(F9,I9,L9) -> 1 | D9: =SUM(G9,J9,M9) -> 2 | E9: =SUM(H9,K9,N9) -> 0 | F9: =IFERROR(VLOOKUP($B9,janvier!$B$11:$E$15,2,0),"") -> 0 | G9: =IFERROR(VLOOKUP($B9,janvier!$B$11:$E$15,3,0),"") -> 1 | H9: =IFERROR(VLOOKUP($B9,janvier!$B$11:$E$15,4,0),"") -> 0 | I9: =IFERROR(VLOOKUP($B9,fevrier!$B$11:$E$15,2,0),"") -> 0 | J9: =IFERROR(VLOOKUP($B9,fevrier!$B$11:$E$15,3,0),"") -> 1 | K9: =IFERROR(VLOOKUP($B9,fevrier!$B$11:$E$15,4,0),"") -> 0 | L9: =IFERROR(VLOOKUP($B9,mars!$B$11:$E$15,2,0),"") -> 1 | M9: =IFERROR(VLOOKUP($B9,mars!$B$11:$E$15,3,0),"") -> 0 | N9: =IFERROR(VLOOKUP($B9,mars!$B$11:$E$15,4,0),"") -> 0
B10: =IF(config!A6="","",config!A6) -> mr 4 | C10: =SUM(F10,I10,L10) -> 3 | D10: =SUM(G10,J10,M10) -> 1 | E10: =SUM(H10,K10,N10) -> 0 | F10: =IFERROR(VLOOKUP($B10,janvier!$B$11:$E$15,2,0),"") -> 1 | G10: =IFERROR(VLOOKUP($B10,janvier!$B$11:$E$15,3,0),"") -> 0 | H10: =IFERROR(VLOOKUP($B10,janvier!$B$11:$E$15,4,0),"") -> 0 | I10: =IFERROR(VLOOKUP($B10,fevrier!$B$11:$E$15,2,0),"") -> 2 | J10: =IFERROR(VLOOKUP($B10,fevrier!$B$11:$E$15,3,0),"") -> 0 | K10: =IFERROR(VLOOKUP($B10,fevrier!$B$11:$E$15,4,0),"") -> 0 | L10: =IFERROR(VLOOKUP($B10,mars!$B$11:$E$15,2,0),"") -> 0 | M10: =IFERROR(VLOOKUP($B10,mars!$B$11:$E$15,3,0),"") -> 1 | N10: =IFERROR(VLOOKUP($B10,mars!$B$11:$E$15,4,0),"") -> 0
B11: =IF(config!A7="","",config!A7) -> mr 5 | C11: =SUM(F11,I11,L11) -> 1 | D11: =SUM(G11,J11,M11) -> 2 | E11: =SUM(H11,K11,N11) -> 0 | F11: =IFERROR(VLOOKUP($B11,janvier!$B$11:$E$15,2,0),"") -> 1 | G11: =IFERROR(VLOOKUP($B11,janvier!$B$11:$E$15,3,0),"") -> 1 | H11: =IFERROR(VLOOKUP($B11,janvier!$B$11:$E$15,4,0),"") -> 0 | I11: =IFERROR(VLOOKUP($B11,fevrier!$B$11:$E$15,2,0),"") -> 0 | J11: =IFERROR(VLOOKUP($B11,fevrier!$B$11:$E$15,3,0),"") -> 0 | K11: =IFERROR(VLOOKUP($B11,fevrier!$B$11:$E$15,4,0),"") -> 0 | L11: =IFERROR(VLOOKUP($B11,mars!$B$11:$E$15,2,0),"") -> 0 | M11: =IFERROR(VLOOKUP($B11,mars!$B$11:$E$15,3,0),"") -> 1 | N11: =IFERROR(VLOOKUP($B11,mars!$B$11:$E$15,4,0),"") -> 0

Sheet fevrier
A1: =config!D5 -> 42767
A2: =config!E5 -> 42794
F3: =A1 -> 42767 | G3: =F3+1 -> 42768 | H3: =G3+1 -> 42769 | I3: =H3+1 -> 42770 | J3: =I3+1 -> 42771 | K3: =J3+1 -> 42772 | L3: =K3+1 -> 42773 | M3: =L3+1 -> 42774 | N3: =M3+1 -> 42775 | ... AJ3: =AI3+1 -> 42797
F5: =TEXT(A1, "mmmmmmmmmmmm") -> février
F9: =DAY(F3) -> 1 | G9: =DAY(G3) -> 2 | H9: =DAY(H3) -> 3 | I9: =DAY(I3) -> 4 | J9: =DAY(J3) -> 5 | K9: =DAY(K3) -> 6 | L9: =DAY(L3) -> 7 | M9: =DAY(M3) -> 8 | ... AJ9: =DAY(AJ3) -> 3
B10: personnel | C10: service bp | D10: convoyage | E10: perm | F10: =WEEKDAY(F3) -> 4 | G10: =WEEKDAY(G3) -> 5 | H10: =WEEKDAY(H3) -> 6 | I10: =WEEKDAY(I3) -> 7 | J10: =WEEKDAY(J3) -> 1 | K10: =WEEKDAY(K3) -> 2 | L10: =WEEKDAY(L3) -> 3 | M10: =WEEKDAY(M3) -> 4 | ... AJ10: =WEEKDAY(AJ3) -> 6
B11: =IF(config!A3<>"",config!A3,"") -> mr 1 | C11: =COUNTIF(F11:AJ11,"bp") -> 0 | D11: =COUNTIF(G11:AK11,"p") -> 1 | E11: =COUNTIF(H11:AL11,"p") -> 1 | F11: c | N11: p | R11: c
B12: =IF(config!A4<>"",config!A4,"") -> mr 2 | C12: =COUNTIF(F12:AJ12,"bp") -> 1 | D12: =COUNTIF(G12:AK12,"c") -> 0 | E12: =COUNTIF(H12:AL12,"p") -> 0 | AG12: bp
B13: =IF(config!A5<>"",config!A5,"") -> mr 3 | C13: =COUNTIF(F13:AJ13,"bp") -> 0 | D13: =COUNTIF(G13:AK13,"c") -> 1 | E13: =COUNTIF(H13:AL13,"p") -> 0 | AA13: c
B14: =IF(config!A6<>"",config!A6,"") -> mr 4 | C14: =COUNTIF(F14:AJ14,"bp") -> 2 | D14: =COUNTIF(G14:AK14,"c") -> 0 | E14: =COUNTIF(H14:AL14,"p") -> 0 | L14: bp | AI14: bp
B15: =IF(config!A7<>"",config!A7,"") -> mr 5 | C15: =COUNTIF(F15:AJ15,"bp") -> 0 | D15: =COUNTIF(G15:AK15,"c") -> 0 | E15: =COUNTIF(H15:AL15,"p") -> 0
F19: bp | G19: service bp | J19: c | K19: convoyage | N19: p | O19: perm

Sheet config
A2: personnel | C2: date d'entrée | D2: 42736
A3: mr 1 | D3: start | E3: stop
A4: mr 2 | C4: janvier | D4: 42736 | E4: =EOMONTH(D4,0) -> 42766
A5: mr 3 | C5: février | D5: =EDATE(D4,1) -> 42767 | E5: =EOMONTH(D5,0) -> 42794
A6: mr 4 | C6: mars | D6: =EDATE(D5,1) -> 42795 | E6: =EOMONTH(D6,0) -> 42825
A7: mr 5 | C7: avril | D7: =EDATE(D6,1) -> 42826 | E7: =EOMONTH(D7,0) -> 42855
C8: mai | D8: =EDATE(D7,1) -> 42856 | E8: =EOMONTH(D8,0) -> 42886
C9: juin | D9: =EDATE(D8,1) -> 42887 | E9: =EOMONTH(D9,0) -> 42916
C10: juillet | D10: =EDATE(D9,1) -> 42917 | E10: =EOMONTH(D10,0) -> 42947
C11: août | D11: =EDATE(D10,1) -> 42948 | E11: =EOMONTH(D11,0) -> 42978
C12: septembre | D12: =EDATE(D11,1) -> 42979 | E12: =EOMONTH(D12,0) -> 43008
C13: octobre | D13: =EDATE(D12,1) -> 43009 | E13: =EOMONTH(D13,0) -> 43039
C14: novembre | D14: =EDATE(D13,1) -> 43040 | E14: =EOMONTH(D14,0) -> 43069
C15: décembre | D15: =EDATE(D14,1) -> 43070 | E15: =EOMONTH(D15,0) -> 43100

Sheet janvier
A1: =config!D4 -> 42736
A2: =config!E4 -> 42766
F3: =A1 -> 42736 | G3: =F3+1 -> 42737 | H3: =G3+1 -> 42738 | I3: =H3+1 -> 42739 | J3: =I3+1 -> 42740 | K3: =J3+1 -> 42741 | L3: =K3+1 -> 42742 | M3: =L3+1 -> 42743 | N3: =M3+1 -> 42744 | ... AJ3: =AI3+1 -> 42766
F5: =TEXT(A1, "mmmmmmmmmmmm") -> janvier
F9: =DAY(F3) -> 1 | G9: =DAY(G3) -> 2 | H9: =DAY(H3) -> 3 | I9: =DAY(I3) -> 4 | J9: =DAY(J3) -> 5 | K9: =DAY(K3) -> 6 | L9: =DAY(L3) -> 7 | M9: =DAY(M3) -> 8 | ... AJ9: =DAY(AJ3) -> 31
B10: personnel | C10: service bp | D10: convoyage | E10: perm | F10: =WEEKDAY(F3) -> 1 | G10: =WEEKDAY(G3) -> 2 | H10: =WEEKDAY(H3) -> 3 | I10: =WEEKDAY(I3) -> 4 | J10: =WEEKDAY(J3) -> 5 | K10: =WEEKDAY(K3) -> 6 | L10: =WEEKDAY(L3) -> 7 | M10: =WEEKDAY(M3) -> 1 | ... AJ10: =WEEKDAY(AJ3) -> 3
B11: =IF(config!A3<>"",config!A3,"") -> mr 1 | C11: =COUNTIF(F11:AJ11,"bp") -> 3 | D11: =COUNTIF(G11:AK11,"p") -> 2 | E11: =COUNTIF(H11:AL11,"p") -> 2 | O11: bp | V11: bp | Y11: bp | AC11: p | AE11: c | AJ11: p
B12: =IF(config!A4<>"",config!A4,"") -> mr 2 | C12: =COUNTIF(F12:AJ12,"bp") -> 1 | D12: =COUNTIF(G12:AK12,"c") -> 0 | E12: =COUNTIF(H12:AL12,"p") -> 2 | H12: p | R12: bp | W12: p
B13: =IF(config!A5<>"",config!A5,"") -> mr 3 | C13: =COUNTIF(F13:AJ13,"bp") -> 0 | D13: =COUNTIF(G13:AK13,"c") -> 1 | E13: =COUNTIF(H13:AL13,"p") -> 0 | O13: c
B14: =IF(config!A6<>"",config!A6,"") -> mr 4 | C14: =COUNTIF(F14:AJ14,"bp") -> 1 | D14: =COUNTIF(G14:AK14,"c") -> 0 | E14: =COUNTIF(H14:AL14,"p") -> 0 | AD14: bp
B15: =IF(config!A7<>"",config!A7,"") -> mr 5 | C15: =COUNTIF(F15:AJ15,"bp") -> 1 | D15: =COUNTIF(G15:AK15,"c") -> 1 | E15: =COUNTIF(H15:AL15,"p") -> 0 | I15: bp | W15: c
F19: bp | G19: service bp | J19: c | K19: convoyage | N19: p | O19: perm
