Workbook
Name test_march_2017_v1: INPUT!$A$2:$A$51
Name test_march_v3: INPUT!$A$52:$A$97

Sheet INPUT
B1: 42795
A2: Beutel Goodman Balanced D | B2: 0.1443
A3: Beutel Goodman Canadian Dividend B | B3: 0.1847
A4: Black Creek Global Leaders A | B4: 0.1527
A5: Black Creek International Eqty Cl A | B5: 0.1831
A6: BlueBay Global conv bd (Cdn) Adv | B6: 0.0635
A7: BMO Balanced Yield Plus ETF Pt-Adv | B7: 0.0724
A8: BMO Fixed Inc Yld Plus ETF Port-Adv | B8: 0.0168
A9: BMO Fixed Income ETF Portfolio -Adv | B9: 0.01
A10: BMO Global Infrastructure Fd - Adv | B10: 0.121
A11: BMO North American Dividend - Adv | B11: 0.1423
A12: BMO Resource Fund - Advisor | B12: 0.2416
A13: BMO Tactical Dividend ETF - Adv | B13: 0.1225
... A97: Vanguard Can Aggregate Bd In | B97: 0.0117

Sheet BASE
A1: CIES | B1: CODE | C1: grade CD | D1: TYPE | E1: NOM | F1: 42094 | G1: 42124 | H1: 42155 | I1: 42185 | J1: 42216 | K1: 42247 | L1: 42277 | M1: 42308 | N1: 42338 | O1: 42369 | P1: 42400 | Q1: 42429 | R1: 42460 | S1: 42490 | T1: 42521 | U1: 42551 | V1: 42582 | W1: 42613 | X1: 42643 | Y1: 42674 | Z1: 42704 | AA1: 42735 | AB1: 42766 | AC1: 42794 | AD1: 42825 | AE1: 42855 | AF1: 42886 | AG1: 42916 | AH1: 42947 | AI1: 42978
A2: AGF | B2: AGF1235 | D2: GFIB | E2: AGF Elements Yields Cat Q | AH2: 0.0115 | AI2: 0.0124 | AQ2: =AVERAGE(F2:AP2) -> 0.01195
C3: a | D3: TB | E3: CI Cambridge Revenu Élevé | Q3: -0.0398 | R3: -0.0262 | S3: -0.0044 | T3: -0.0009 | U3: -0.0026 | V3: 0.0098 | W3: 0.0356 | X3: 0.0561 | Y3: 0.0317 | Z3: 0.0187 | AA3: 0.0428 | AB3: 0.0543 | AC3: 0.0827 | AD3: =INPUT!B17 -> 0.0712 | AE3: 0.1012 | AF3: 0.0844 | AG3: 0.0606 | AH3: 0.0214 | AI3: 0.0324 | AQ3: =AVERAGE(F3:AP3) -> 0.033105263
B4: CIG11462 | C4: a | D4: CDIE | E4: CI Cambridge Dividendes Canadiens | R4: 0.0195 | S4: 0.0532 | T4: 0.0523 | U4: 0.0702 | V4: 0.075 | W4: 0.1018 | X4: 0.1184 | Y4: 0.0901 | Z4: 0.1259 | AA4: 0.1623 | AB4: 0.1828 | AC4: 0.1627 | AD4: =INPUT!B16 -> 0.1287 | AE4: 0.1414 | AF4: 0.1155 | AG4: 0.111 | AH4: 0.0753 | AI4: 0.0844 | AQ4: =AVERAGE(F4:AP4) -> 0.10391667
B5: CIG1425 | C5: c | D5: CE | E5: CI Placements Canadiens | N5: -0.0183 | O5: -0.0398 | P5: -0.0598 | Q5: -0.1217 | R5: -0.0683 | S5: -0.0698 | T5: -0.038 | U5: -0.0345 | V5: -0.0027 | W5: 0.0581 | X5: 0.1013 | Y5: 0.0553 | Z5: 0.0751 | AA5: 0.1304 | AB5: 0.1623 | AC5: 0.2083 | AD5: =INPUT!B20 -> 0.1625 | AE5: 0.1633 | AF5: 0.1304 | AG5: 0.1423 | AH5: 0.0873 | AI5: 0.0694 | AQ5: =AVERAGE(F5:AP5) -> 0.049686364
A6: CI | B6: CIG1812 | D6: USE | E6: Cambridge CI Actions américaines | Y6: 0.0117 | Z6: 0.0868 | AA6: 0.1094 | AB6: 0.1867 | AC6: 0.2417 | AD6: =INPUT!B19 -> 0.1688 | AE6: 0.2468 | AF6: 0.1438 | AG6: 0.1141 | AH6: 0.0568 | AI6: 0.0527 | AQ6: =AVERAGE(F6:AP6) -> 0.12902727
B7: CIG7745 | C7: b | D7: GFIB | E7: CI Série Portefeuille de revenu | M7: 0.0502 | N7: 0.0363 | O7: 0.0447 | P7: -0.0139 | Q7: -0.0232 | R7: -0.0131 | S7: -0.0006 | T7: 0.0111 | U7: 0.0313 | V7: 0.0277 | W7: 0.0532 | X7: 0.062 | Y7: 0.0463 | Z7: 0.0331 | AA7: 0.0352 | AB7: 0.0342 | AC7: 0.069 | AD7: =INPUT!B22 -> 0.0635 | AE7: 0.0896 | AF7: 0.0701 | AG7: 0.0444 | AH7: 0.009 | AI7: 0.0113 | AQ7: =AVERAGE(F7:AP7) -> 0.03353913
A8: Dynamique | B8: DYN316 | C8: a | D8: CNB | E8: Dyn Fonds de revenu de dividendes | F8: 0.07979 | I8: 0.187 | J8: 0.047 | K8: 0.0029 | L8: 0.0109 | M8: 0.0272 | N8: 0.0293 | O8: 0.0344 | P8: 0.0029 | Q8: -0.0364 | R8: -0.0161 | S8: -0.0111 | T8: -0.0016 | U8: 0.0188 | V8: 0.0136 | W8: 0.0375 | X8: 0.0448 | Y8: 0.0289 | Z8: 0.0196 | AA8: 0.0275 | AB8: 0.0269 | AC8: 0.0806 | AD8: =INPUT!B25 -> 0.0757 | AE8: 0.1072 | AF8: 0.0833 | AG8: 0.0486 | AH8: 0.0183 | AI8: 0.0212 | AQ8: =AVERAGE(F8:AP8) -> 0.036024643
B9: DYN729 | C9: a | D9: CDIE | E9: Dyn Actions productives de revenus * | F9: 0.03387 | G9: 0.05384 | H9: 0.03457 | I9: 0.00746 | J9: 0.036 | K9: -0.0269 | L9: -0.0126 | M9: 0.0373 | N9: 0.0374 | O9: 0.016 | P9: -0.0009 | Q9: -0.0412 | R9: 0.0218 | S9: 0.0197 | T9: 0.0502 | U9: 0.0682 | V9: 0.0833 | W9: 0.1212 | X9: 0.1359 | Y9: 0.0797 | Z9: 0.0931 | AA9: 0.1381 | AB9: 0.1423 | AC9: 0.1816 | AD9: =INPUT!B27 -> 0.1397 | AE9: 0.1609 | AF9: 0.1416 | AG9: 0.1263 | AH9: 0.0872 | AI9: 0.0932 | AQ9: =AVERAGE(F9:AP9) -> 0.068628
B10: DYN1562 | C10: c | D10: GNB | E10: Dyn Rendement stratégique | F10: 0.08092 | G10: 0.03576 | H10: 0.03736 | J10: 0.042 | K10: 0.0117 | L10: 0.0189 | M10: 0.0329 | N10: 0.0357 | O10: 0.0465 | P10: 0.0083 | Q10: -0.03 | R10: -0.0165 | S10: -0.0042 | T10: 0.003 | U10: 0.0171 | V10: 0.0102 | W10: 0.0306 | X10: 0.0391 | Y10: 0.0276 | Z10: 0.0204 | AA10: 0.0228 | AB10: 0.0227 | AC10: 0.078 | AD10: =INPUT!B35 -> 0.0794 | AE10: 0.1077 | AF10: 0.0834 | AG10: 0.0524 | AH10: 0.0235 | AI10: 0.0273 | AQ10: =AVERAGE(F10:AP10) -> 0.032570345
B11: DYN2474 | C11: b | D11: GEB | E11: Dyn Revenu mensuel américain | I11: 0.187 | J11: 0.247 | K11: 0.1772 | L11: 0.1662 | M11: 0.1308 | N11: 0.1223 | O11: 0.1126 | P11: 0.0477 | Q11: -0.0128 | R11: -0.0041 | S11: 0.0445 | T11: 0.0318 | U11: 0.0316 | V11: 0.0089 | W11: 0.0435 | X11: 0.0545 | Y11: 0.0424 | Z11: 0.0625 | AA11: 0.0557 | AB11: 0.0709 | AC11: 0.1183 | AD11: =INPUT!B37 -> 0.0871 | AE11: 0.0905 | AF11: 0.0438 | AG11: 0.0198 | AH11: -0.0195 | AI11: -0.0415 | AQ11: =AVERAGE(F11:AP11) -> 0.071062963
B12: DYN1662 | C12: a | D12: GEB | E12: Dyn Mondial répartition actifs | F12: 0.17581 | J12: 0.255 | K12: 0.2077 | L12: 0.1772 | M12: 0.1938 | N12: 0.1849 | O12: 0.232 | P12: 0.1196 | Q12: 0.0528 | R12: 0.0236 | S12: 0.0392 | T12: 0.0499 | U12: 0.0529 | V12: 0.0291 | W12: 0.0599 | X12: 0.0776 | Y12: 0.0509 | Z12: 0.0387 | AA12: -0.0042 | AB12: 0.0036 | AC12: 0.0874 | AD12: =INPUT!B28 -> 0.0865 | AE12: 0.1715 | AF12: 0.1438 | AG12: 0.1129 | AH12: 0.0654 | AI12: 0.0712 | AQ12: =AVERAGE(F12:AP12) -> 0.10217444
C13: z | D13: USE | E13: Dyn Secteurs | L13: 0.187 | N13: 0.0965 | O13: 0.1034 | P13: 0.0231 | Q13: -0.0511 | R13: -0.0506 | S13: -0.0456 | T13: -0.0547 | U13: -0.0182 | V13: -0.0758 | W13: -0.0267 | X13: -0.0221 | Y13: -0.0122 | Z13: -0.0153 | AA13: -0.0315 | AB13: -0.0508 | AC13: 0.0374 | AD13: =INPUT!B38 -> 0.032 | AE13: 0.0991 | AF13: 0.0632 | AG13: 0.0242 | AH13: 0.0097 | AI13: 0.0168 | AQ13: =AVERAGE(F13:AP13) -> 0.01033913
B14: FID2349 | D14: GNB | E14: Fid Étoile du Nord Équilibré | J14: 0.2253 | K14: 0.2019 | L14: 0.1949 | M14: 0.1709 | N14: 0.1681 | O14: 0.196 | P14: 0.0873 | Q14: 0.0482 | R14: 0.02 | S14: 0.0316 | T14: 0.0391 | U14: 0.0373 | V14: 0.0199 | W14: 0.0267 | X14: 0.0315 | Y14: 0.0498 | Z14: 0.0358 | AA14: 0.0084 | AB14: -0.016 | AC14: 0.0499 | AD14: -0.00761 | AE14: 0.1289 | AF14: 0.0807 | AG14: 0.0439 | AH14: -0.0091 | AI14: -0.0085 | AQ14: =AVERAGE(F14:AP14) -> 0.071341923
B15: FID831 | C15: a | D15: CFE | E15: Fid Grande capitalisation Canada | F15: 0.1136 | H15: 0.09777 | J15: 0.0688 | K15: 0.0425 | L15: 0.0391 | M15: 0.0732 | N15: 0.0455 | O15: 0.0338 | P15: 0.0054 | Q15: -0.0082 | R15: 0.0317 | S15: 0.0241 | T15: 0.0534 | U15: 0.0621 | V15: 0.0693 | W15: 0.0986 | X15: 0.1104 | Y15: 0.0797 | Z15: 0.0862 | AA15: 0.0994 | AB15: 0.0751 | AC15: 0.0863 | AD15: 0.0487 | AE15: 0.1115 | AF15: 0.0464 | AG15: 0.0446 | AH15: 0.0065 | AI15: 0.0034 | AQ15: =AVERAGE(F15:AP15) -> 0.058888214
A16: fidelity | B16: FID523 | C16: a | D16: CFE | E16: Fid Dividendes Plus | F16: 0.13673 | G16: 0.11154 | I16: 0.08952 | J16: 0.1147 | K16: 0.0562 | L16: 0.0611 | M16: 0.0609 | N16: 0.0311 | O16: 0.021 | P16: -0.0185 | Q16: -0.0133 | R16: 0.0199 | S16: 0.0259 | T16: 0.0475 | U16: 0.0845 | V16: 0.0685 | W16: 0.0903 | X16: 0.103 | Y16: 0.0751 | Z16: 0.0756 | AA16: 0.0856 | AB16: 0.0636 | AC16: 0.0797 | AD16: =INPUT!B51 -> 0.0562 | AE16: 0.0873 | AF16: 0.0562 | AG16: 0.0147 | AH16: -0.0131 | AI16: -0.0001 | AQ16: =AVERAGE(F16:AP16) -> 0.057634138
B17: FID255 | C17: d | D17: HYFI | E17: Fid Titres US rendement élevé * | J17: 0.2061 | K17: 0.1749 | L17: 0.1529 | M17: 0.1305 | N17: 0.1251 | O17: 0.1298 | P17: 0.0265 | Q17: -0.0174 | R17: -0.0291 | S17: 0.0002 | T17: 0.0237 | U17: 0.0233 | V17: 0.0202 | W17: 0.0482 | X17: 0.0684 | Y17: 0.083 | Z17: 0.072 | AA17: 0.0786 | AB17: 0.0628 | AC17: 0.1387 | AD17: =INPUT!B46 -> 0.1459 | AE17: 0.1918 | AF17: 0.1317 | AG17: 0.0979 | AH17: 0.038 | AI17: 0.0149 | AQ17: =AVERAGE(F17:AP17) -> 0.082253846
B18: FID1634 | D18: CFI | E18: Fid Obligations de sociétés | J18: 0.0286 | K18: 0.0028 | L18: 0.0051 | M18: 0.0026 | N18: -0.0046 | O18: -0.0068 | P18: -0.0457 | Q18: -0.0531 | R18: -0.0293 | S18: -0.0051 | T18: -0.0016 | U18: 0.0171 | V18: 0.019 | W18: 0.0471 | X18: 0.0588 | Y18: 0.0532 | Z18: 0.035 | AA18: 0.0397 | AB18: 0.0556 | AC18: 0.0736 | AD18: =INPUT!B50 -> 0.0538 | AE18: 0.0528 | AF18: 0.0534 | AG18: 0.0311 | AH18: 0.0097 | AI18: 0.0118 | AQ18: =AVERAGE(F18:AP18) -> 0.019407692
B19: FID569 | C19: a | D19: CNB | E19: Fid Revenu Mensuel | F19: 0.08357 | J19: 0.2228 | K19: 0.0237 | L19: 0.0246 | M19: 0.0354 | N19: 0.0174 | O19: 0.0115 | P19: -0.0199 | Q19: -0.0268 | R19: 0.0015 | S19: 0.0062 | T19: 0.021 | U19: 0.0435 | V19: 0.046 | W19: 0.0701 | X19: 0.0846 | Y19: 0.0617 | Z19: 0.0557 | AA19: 0.0655 | AB19: 0.0637 | AC19: 0.0738 | AD19: 0.05437 | AE19: 0.0738 | AF19: 0.0482 | AG19: 0.03 | AH19: 0.0061 | AI19: 0.0058 | AQ19: =AVERAGE(F19:AP19) -> 0.043845926
B20: FID1522 | D20: GNB | E20: Fid Revenu Mensuel Mondial | O20: 0.1682 | P20: 0.0568 | Q20: 0.0172 | R20: 0.0162 | S20: 0.0259 | T20: 0.042 | U20: 0.0446 | V20: 0.0288 | W20: 0.0586 | X20: 0.0696 | Y20: 0.0557 | AA20: 0.0046 | AB20: -0.0019 | AC20: 0.0714 | AD20: 0.07465 | AE20: 0.1457 | AF20: 0.1 | AG20: 0.0691 | AH20: -0.0054 | AI20: 0.0073 | AQ20: =AVERAGE(F20:AP20) -> 0.0524525
A21: Mackenzie | B21: MRD236 | D21: CFIB | E21: Mack revenu Mackenzie | J21: 0.0496 | K21: 0.0204 | L21: 0.0231 | M21: 0.0341 | N21: 0.0194 | O21: 0.0206 | P21: -0.0263 | Q21: -0.038 | R21: -0.0116 | S21: -0.0052 | T21: 0.0053 | U21: 0.0303 | V21: 0.0315 | W21: 0.0618 | X21: 0.0771 | Y21: 0.0603 | Z21: 0.0563 | AA21: 0.0612 | AB21: 0.0633 | AC21: 0.0853 | AD21: 0.041 | AE21: 0.089 | AF21: 0.0738 | AG21: 0.0498 | AH21: 0.0145 | AI21: 0.0185 | AQ21: =AVERAGE(F21:AP21) -> 0.034811538
B22: MFC1870 | D22: GFI | E22: Mack Symétrie Revenu Fix | AH22: -0.0172 | AI22: -0.0088
B23: MFC3979 | D23: GFIB | E23: Mack Symétrie Revenu Prudent | AH23: 0.0127 | AI23: 0.0177
B24: MFC2891 | D24: GEB | E24: Mack Symétrie Croissance | AH24: 0.0641 | AI24: 0.06
B25: MFC1192 | D25: PME | E25: Mack Métaux précieux | AB25: 0.7418 | AC25: 0.3578 | AD25: 0.01 | AE25: 0.0097 | AF25: 0.0607 | AG25: -0.1774 | AH25: -0.2758 | AI25: 0.0606 | AQ25: =AVERAGE(F25:AP25) -> 0.098425
B26: RBF890 | C26: z | D26: HYFI | E26: RBC Obligations mondiales convertibles Blue Bay | F26: 0.04956 | G26: 0.0725 | H26: 0.07826 | I26: 0.06295 | J26: 0.072 | K26: 0.0266 | L26: 0.0311 | M26: 0.0578 | N26: 0.0365 | O26: 0.029 | P26: -0.0313 | Q26: -0.0687 | R26: -0.0547 | S26: -0.0704 | T26: -0.0699 | U26: -0.0689 | V26: -0.0409 | W26: -0.0029 | X26: 0.0149 | Y26: -0.0201 | Z26: -0.0272 | AA26: 0.0055 | AB26: 0.0541 | AC26: 0.081 | AD26: =INPUT!B6 -> 0.0635 | AE26: 0.0643 | AF26: 0.0667 | AG26: 0.072 | AH26: 0.0487 | AI26: 0.0376 | AQ26: =AVERAGE(F26:AP26) -> 0.018985667
B27: RBF6340 | D27: CFI | E27: PH&N obligations rendement global | Y27: 0.0539 | Z27: 0.0318 | AA27: 0.0175 | AB27: 0.0142 | AC27: 0.0222 | AD27: 0.025 | AE27: 0.0268 | AF27: 0.0259 | AG27: -0.0032 | AH27: -0.031 | AI27: -0.0188 | AQ27: =AVERAGE(F27:AP27) -> 0.014936364
B28: RBF850 | D28: CFI | E28: RBC d'obligations Cseil | Y28: 0.0593 | Z28: 0.0358 | AA28: 0.0227 | AB28: 0.0198 | AC28: 0.03 | AD28: 0.0312 | AE28: 0.0348 | AF28: 0.0331 | AG28: 0.0041 | AH28: -0.0272 | AI28: -0.0162 | AQ28: =AVERAGE(F28:AP28) -> 0.020672727
B29: RBF129 | C29: e | D29: USE | E29: RBC Americain de dividendes | J29: 0.292 | K29: 0.1745 | L29: 0.1443 | M29: 0.1671 | N29: 0.1422 | O29: 0.1643 | P29: 0.0695 | Q29: -0.0103 | R29: 0.0111 | S29: 0.0108 | T29: 0.0287 | U29: 0.0489 | V29: 0.0355 | W29: 0.099 | X29: 0.0981 | Y29: 0.0479 | Z29: 0.0707 | AA29: 0.0669 | AB29: 0.0721 | AC29: 0.1922 | AD29: 0.17446 | AE29: 0.2546 | AF29: 0.1827 | AG29: 0.1504 | AH29: 0.0834 | AI29: 0.0874 | AQ29: =AVERAGE(F29:AP29) -> 0.10994077
B30: RBF856 | D30: CDIE | E30: RBC Revenu d'actions canadiennes | AB30: 0.2306 | AC30: 0.2457 | AD30: 0.12 | AE30: 0.1582 | AF30: 0.1193 | AG30: 0.12 | AH30: 0.0896 | AI30: 0.0827 | AQ30: =AVERAGE(F30:AP30) -> 0.1457625
A31: Royal RBC | B31: RBF840 | C31: b | D31: GNB | E31: RBC Portefeuille prudence | F31: 0.10025 | G31: 0.09237 | H31: 0.06805 | I31: -0.0099 | J31: 0.081 | L31: 0.0369 | M31: 0.0513 | N31: 0.04 | O31: 0.0406 | P31: -0.0084 | Q31: -0.0351 | R31: -0.0094 | S31: -0.0025 | T31: 0.0104 | U31: 0.0241 | V31: 0.0247 | W31: 0.0574 | X31: 0.0715 | Y31: 0.0445 | Z31: 0.0347 | AA31: 0.0411 | AB31: 0.054 | AC31: 0.0828 | AD31: =INPUT!B53 -> 0.0637 | AE31: 0.0889 | AF31: 0.0715 | AG31: 0.0548 | AH31: 0.0212 | AI31: 0.0253 | AQ31: =AVERAGE(F31:AP31) -> 0.041923103
B32: RBF780 | C32: d | D32: IE | E32: RBC Mondial croissance dividendes | J32: 0.25 | L32: 0.1515 | M32: 0.1885 | N32: 0.1689 | O32: 0.1981 | P32: 0.034 | Q32: -0.0606 | R32: -0.039 | S32: -0.0418 | T32: -0.0365 | U32: -0.0583 | V32: -0.0566 | W32: 0.0107 | X32: 0.0361 | Y32: -0.0253 | Z32: -0.0401 | AA32: -0.0455 | AB32: 0.008 | AC32: 0.1119 | AD32: 0.13 | AE32: 0.1855 | AF32: 0.1507 | AG32: 0.14 | AH32: 0.0887 | AI32: 0.0785 | AQ32: =AVERAGE(F32:AP32) -> 0.061096
B33: RBF848 | C33: c | D33: EE | E33: RBC Actions Européennes | M33: 0.2134 | N33: 0.1913 | O33: 0.242 | P33: 0.0972 | Q33: -0.0084 | R33: 0.0077 | S33: -0.0151 | T33: -0.0076 | U33: -0.0407 | V33: -0.0592 | W33: -0.0075 | X33: -0.0014 | Y33: -0.0829 | Z33: -0.1352 | AA33: -0.1261 | AB33: -0.0917 | AC33: -0.0095 | AD33: 0.05 | AE33: 0.0568 | AF33: 0.1103 | AG33: 0.108 | AH33: 0.0423 | AI33: 0.0628 | AQ33: =AVERAGE(F33:AP33) -> 0.025934783
B34: NCE117 | C34: a | D34: CDIE | E34: Sen Revenu Canadien | F34: 0.14416 | G34: 0.11581 | H34: 0.10925 | I34: 0.07465 | J34: 0.099 | K34: 0.0229 | L34: 0.0205 | M34: 0.0296 | N34: 0.0188 | O34: 0.0037 | P34: -0.0262 | Q34: -0.042 | R34: -0.0068 | S34: -0.005 | T34: 0.0134 | U34: 0.0347 | V34: 0.0352 | W34: 0.0731 | X34: 0.0876 | Y34: 0.0605 | Z34: 0.066 | AA34: 0.0949 | AB34: 0.0803 | AC34: 0.0998 | AD34: =INPUT!B70 -> 0.0693 | AE34: 0.0803 | AF34: 0.0674 | AG34: 0.0562 | AH34: 0.0192 | AI34: 0.0132 | AQ34: =AVERAGE(F34:AP34) -> 0.050315667
A35: Sentry | B35: NCE305 | D35: REE | E35: Sen Placement immobilier | J35: 0.103 | K35: 0.0328 | L35: 0.0799 | M35: 0.0816 | N35: 0.0408 | O35: 0.048 | P35: -0.0507 | Q35: -0.0645 | R35: -0.018 | S35: -0.0191 | T35: 0.0105 | U35: 0.0515 | V35: 0.0633 | W35: 0.0899 | X35: 0.066 | Y35: -0.0142 | Z35: -0.0004 | AA35: 0.032 | AB35: 0.0545 | AC35: 0.0993 | AD35: =INPUT!B72 -> 0.0338 | AE35: 0.0614 | AF35: 0.0488 | AG35: 0.0218 | AH35: -0.0349 | AI35: -0.0066 | AQ35: =AVERAGE(F35:AP35) -> 0.031173077
B36: NCE330 | D36: GE | E36: Sen Infrastructures | J36: 0.106 | K36: -0.0015 | L36: -0.0402 | M36: 0.0021 | N36: -0.0179 | O36: -0.0477 | P36: -0.0983 | Q36: -0.1422 | R36: -0.1032 | S36: -0.1033 | T36: -0.0806 | U36: -0.0633 | V36: -0.0584 | W36: 0.0319 | X36: 0.1193 | Y36: 0.0476 | Z36: 0.0205 | AA36: 0.0814 | AB36: 0.0984 | AC36: 0.1718 | AD36: =INPUT!B71 -> 0.1539 | AE36: 0.1993 | AF36: 0.1866 | AG36: 0.1621 | AH36: 0.1134 | AI36: 0.1038 | AQ36: =AVERAGE(F36:AP36) -> 0.032365385
A37: Manuvie | B37: SLI933S | C37: z | D37: AS | E37: Manu GAR | F37: 0.08773 | G37: 0.08207 | H37: 0.04442 | I37: 0.0615 | J37: 0.0641 | K37: 0.0345 | L37: 0.0151 | M37: 0.03 | N37: 0.0232 | O37: 0.015 | P37: -0.0247 | Q37: -0.051 | R37: -0.0633 | S37: -0.0519 | T37: -0.0467 | U37: -0.0659 | V37: -0.0741 | W37: -0.0486 | X37: -0.0483 | Y37: -0.0579 | Z37: -0.07 | AA37: -0.0413 | AB37: -0.0309 | AC37: -0.0147 | AD37: -0.01 | AE37: -0.0051 | AF37: -0.0145 | AG37: 0.0175 | AH37: 0.021 | AI37: 0.0084 | AQ37: =AVERAGE(F37:AP37) -> -0.007146
B38: MMF4429 | C38: a | D38: CDIE | E38: Manu Revenu de dividendes | R38: 0.0132 | S38: 0.0212 | T38: 0.0452 | U38: 0.0762 | V38: 0.1035 | W38: 0.1595 | X38: 0.1739 | Y38: 0.1399 | Z38: 0.1349 | AA38: 0.1565 | AB38: 0.1849 | AC38: 0.1972 | AD38: 0.1642 | AE38: 0.1517 | AF38: 0.1352 | AG38: 0.1319 | AH38: 0.0852 | AI38: 0.0716 | AQ38: =AVERAGE(F38:AP38) -> 0.11921667
D39: CFIB | E39: Ideal porte conservateur | W39: 0.0358 | X39: 0.0513 | Y39: 0.026 | Z39: 0.0113 | AA39: 0.0161 | AB39: 0.0322 | AC39: 0.0661 | AD39: 0.07 | AE39: 0.0811 | AF39: 0.0714 | AG39: 0.0516 | AH39: 0.0204 | AI39: 0.0195 | AQ39: =AVERAGE(F39:AP39) -> 0.042523077
A40: Méritage | B40: MTG423 | D40: CNB | E40: Méritage revenu équilibré | U40: 0.0226 | V40: 0.0327 | W40: 0.0651 | X40: 0.0824 | Y40: 0.0541 | Z40: 0.0537 | AA40: 0.071 | AB40: 0.0845 | AC40: 0.1063 | AD40: 0.0849 | AE40: 0.092 | AF40: 0.0745 | AG40: 0.0598 | AH40: 0.0276 | AI40: 0.0291 | AQ40: =AVERAGE(F40:AP40) -> 0.062686667
...

Sheet 2015-2
E1: type
A3: CIES | B3: NOM | C3: CODE | E3: TYPE | F3: 42124 | G3: 42155 | H3: 42185 | I3: 42216 | J3: 42247 | K3: 42277 | L3: 42308
A4: CI | B4: Revenu Élevé | C4: CIG786 | E4: GNB | F4: =BASE!#REF!-BASE!#REF! -> #REF! | G4: =BASE!#REF!-BASE!#REF! -> #REF! | H4: =BASE!#REF!-BASE!#REF! -> #REF! | I4: =BASE!#REF!-BASE!#REF! -> #REF! | J4: =BASE!#REF!-BASE!#REF! -> #REF! | K4: =BASE!#REF!-BASE!#REF! -> #REF!
B5: Fonds mondial de dividendes | C5: CIG1778 | E5: GE | F5: =BASE!#REF!-BASE!#REF! -> #REF! | G5: =BASE!#REF!-BASE!#REF! -> #REF! | H5: =BASE!#REF!-BASE!#REF! -> #REF! | J5: =BASE!#REF!-BASE!#REF! -> #REF! | K5: =BASE!#REF!-BASE!#REF! -> #REF!
B6: Portefeuille prudent | C6: CIG1775 | E6: GNB | F6: =BASE!#REF!-BASE!#REF! -> #REF! | G6: =BASE!#REF!-BASE!#REF! -> #REF! | H6: =BASE!#REF!-BASE!#REF! -> #REF! | I6: =BASE!#REF!-BASE!#REF! -> #REF! | J6: =BASE!#REF!-BASE!#REF! -> #REF! | K6: =BASE!#REF!-BASE!#REF! -> #REF!
B7: Chefs de file mondiaux Black Creek | C7: CIG11456 | E7: GE | F7: =BASE!#REF!-BASE!#REF! -> #REF! | G7: =BASE!#REF!-BASE!#REF! -> #REF! | H7: =BASE!#REF!-BASE!#REF! -> #REF! | I7: =BASE!#REF!-BASE!#REF! -> #REF! | J7: =BASE!#REF!-BASE!#REF! -> #REF! | K7: =BASE!#REF!-BASE!#REF! -> #REF!
B8: Internationales Black Creek | C8: CIG11168 | E8: IE | F8: =BASE!#REF!-BASE!#REF! -> #REF! | G8: =BASE!#REF!-BASE!#REF! -> #REF! | H8: =BASE!#REF!-BASE!#REF! -> #REF! | I8: =BASE!#REF!-BASE!#REF! -> #REF! | J8: =BASE!#REF!-BASE!#REF! -> #REF! | K8: =BASE!#REF!-BASE!#REF! -> #REF!
B9: Fds mondial de croissance et de revenu | C9: CIG2111 | D9: * | E9: GNB | F9: =BASE!#REF!-BASE!#REF! -> #REF! | G9: =BASE!#REF!-BASE!#REF! -> #REF! | H9: =BASE!#REF!-BASE!#REF! -> #REF! | I9: =BASE!#REF!-BASE!#REF! -> #REF! | J9: =BASE!#REF!-BASE!#REF! -> #REF! | K9: =BASE!#REF!-BASE!#REF! -> #REF!
B10: Rendement diversifié II | C10: CIG11111 | E10: TB | F10: =BASE!#REF!-BASE!#REF! -> #REF! | G10: =BASE!#REF!-BASE!#REF! -> #REF! | H10: =BASE!#REF!-BASE!#REF! -> #REF! | I10: =BASE!#REF!-BASE!#REF! -> #REF! | J10: =BASE!#REF!-BASE!#REF! -> #REF! | K10: =BASE!#REF!-BASE!#REF! -> #REF!
B11: Portefeuille Équilibré | C11: CIG7710 | E11: GEB | F11: =BASE!#REF!-BASE!#REF! -> #REF! | G11: =BASE!#REF!-BASE!#REF! -> #REF! | H11: =BASE!#REF!-BASE!#REF! -> #REF! | I11: =BASE!#REF!-BASE!#REF! -> #REF! | J11: =BASE!#REF!-BASE!#REF! -> #REF! | K11: =BASE!#REF!-BASE!#REF! -> #REF!
B12: Mondial Infrastructure | C12: DYN2211 | E12: GEB | F12: =BASE!#REF!-BASE!#REF! -> #REF! | G12: =BASE!#REF!-BASE!#REF! -> #REF! | H12: =BASE!#REF!-BASE!#REF! -> #REF! | I12: =BASE!#REF!-BASE!#REF! -> #REF! | J12: =BASE!#REF!-BASE!#REF! -> #REF! | K12: =BASE!#REF!-BASE!#REF! -> #REF!
B13: Dividendes américains | C13: DYN2822 | E13: USE | F13: =BASE!#REF!-BASE!#REF! -> #REF! | G13: =BASE!#REF!-BASE!#REF! -> #REF! | I13: =BASE!#REF!-BASE!#REF! -> #REF! | J13: =BASE!#REF!-BASE!#REF! -> #REF! | K13: =BASE!#REF!-BASE!#REF! -> #REF!
B14: Mondial de dividendes | C14: DYN531 | D14: * | E14: GEB | F14: =BASE!#REF!-BASE!#REF! -> #REF! | G14: =BASE!#REF!-BASE!#REF! -> #REF! | I14: =BASE!#REF!-BASE!#REF! -> #REF! | J14: =BASE!#REF!-BASE!#REF! -> #REF! | K14: =BASE!#REF!-BASE!#REF! -> #REF!
A15: Dynamique | B15: Fonds de revenu de dividendes | C15: DYN316 | E15: CNB | F15: =BASE!G8-BASE!F8 -> -0.07979 | G15: =BASE!H8-BASE!G8 -> 0 | I15: =BASE!J8-BASE!I8 -> -0.14 | J15: =BASE!K8-BASE!J8 -> -0.0441 | K15: =BASE!L8-BASE!K8 -> 0.008
B16: Actions productives de revenus | C16: DYN729 | E16: CDIE | F16: =BASE!G9-BASE!F9 -> 0.01997 | G16: =BASE!H9-BASE!G9 -> -0.01927 | H16: =BASE!I9-BASE!H9 -> -0.02711 | I16: =BASE!J9-BASE!I9 -> 0.02854 | J16: =BASE!K9-BASE!J9 -> -0.0629 | K16: =BASE!L9-BASE!K9 -> 0.0143
B17: Rendement stratégique | C17: DYN1562 | E17: GNB | F17: =BASE!G10-BASE!F10 -> -0.04516 | G17: =BASE!H10-BASE!G10 -> 0.0016 | H17: =BASE!I10-BASE!H10 -> -0.03736 | I17: =BASE!J10-BASE!I10 -> 0.042 | J17: =BASE!K10-BASE!J10 -> -0.0303 | K17: =BASE!L10-BASE!K10 -> 0.0072
B18: Revenu mensuel américain | C18: DYN2474 | D18: * | E18: GEB | F18: =BASE!G11-BASE!F11 -> 0 | G18: =BASE!H11-BASE!G11 -> 0 | I18: =BASE!J11-BASE!I11 -> 0.06 | J18: =BASE!K11-BASE!J11 -> -0.0698 | K18: =BASE!L11-BASE!K11 -> -0.011
B19: Mondial répartition actifs | C19: DYN1662 | D19: * | E19: GEB | F19: =BASE!G12-BASE!F12 -> -0.17581 | G19: =BASE!H12-BASE!G12 -> 0 | H19: =BASE!I12-BASE!H12 -> 0 | J19: =BASE!K12-BASE!J12 -> -0.0473 | K19: =BASE!L12-BASE!K12 -> -0.0305
B20: Croissance US Power | C20: DYN709 | D20: * | E20: USE | F20: =BASE!#REF!-BASE!#REF! -> #REF! | G20: =BASE!#REF!-BASE!#REF! -> #REF! | I20: =BASE!#REF!-BASE!#REF! -> #REF! | J20: =BASE!#REF!-BASE!#REF! -> #REF! | K20: =BASE!#REF!-BASE!#REF! -> #REF!
B21: Valeur Canada Dynamique | C21: DYN740 | D21: * | E21: CFE | F21: =BASE!#REF!-BASE!#REF! -> #REF! | G21: =BASE!#REF!-BASE!#REF! -> #REF! | H21: =BASE!#REF!-BASE!#REF! -> #REF! | I21: =BASE!#REF!-BASE!#REF! -> #REF! | J21: =BASE!#REF!-BASE!#REF! -> #REF! | K21: =BASE!#REF!-BASE!#REF! -> #REF!
B22: Secteurs | E22: USE | F22: =BASE!G13-BASE!F13 -> 0 | G22: =BASE!H13-BASE!G13 -> 0 | H22: =BASE!I13-BASE!H13 -> 0 | I22: =BASE!J13-BASE!I13 -> 0 | J22: =BASE!K13-BASE!J13 -> 0
B23: Étoile du Nord Équilibré | C23: FID2349 | D23: * | E23: GNB | F23: =BASE!G14-BASE!F14 -> 0 | G23: =BASE!H14-BASE!G14 -> 0 | H23: =BASE!I14-BASE!H14 -> 0 | J23: =BASE!K14-BASE!J14 -> -0.0234 | K23: =BASE!L14-BASE!K14 -> -0.007
A24: fidelity | B24: Étoile du Nord | C24: FID553 | D24: * | E24: GSME | F24: =BASE!#REF!-BASE!#REF! -> #REF! | G24: =BASE!#REF!-BASE!#REF! -> #REF! | H24: =BASE!#REF!-BASE!#REF! -> #REF! | J24: =BASE!#REF!-BASE!#REF! -> #REF! | K24: =BASE!#REF!-BASE!#REF! -> #REF!
B25: Dividendes mondiaux | C25: FID1840 | D25: * | E25: GE | F25: =BASE!#REF!-BASE!#REF! -> #REF! | G25: =BASE!#REF!-BASE!#REF! -> #REF! | H25: =BASE!#REF!-BASE!#REF! -> #REF! | I25: =BASE!#REF!-BASE!#REF! -> #REF! | J25: =BASE!#REF!-BASE!#REF! -> #REF! | K25: =BASE!#REF!-BASE!#REF! -> #REF!
B26: Grande capitalisation | C26: FID831 | E26: CFE | F26: =BASE!G15-BASE!F15 -> -0.1136 | G26: =BASE!H15-BASE!G15 -> 0.09777 | H26: =BASE!I15-BASE!H15 -> -0.09777 | I26: =BASE!J15-BASE!I15 -> 0.0688 | J26: =BASE!K15-BASE!J15 -> -0.0263 | K26: =BASE!L15-BASE!K15 -> -0.0034
B27: Dividendes Plus | C27: FID523 | D27: * | E27: CFE | F27: =BASE!G16-BASE!F16 -> -0.02519 | G27: =BASE!H16-BASE!G16 -> -0.11154 | H27: =BASE!I16-BASE!H16 -> 0.08952 | I27: =BASE!J16-BASE!I16 -> 0.02518 | J27: =BASE!K16-BASE!J16 -> -0.0585 | K27: =BASE!L16-BASE!K16 -> 0.0049
B28: Titres US rendement élevé | C28: FID255 | D28: * | E28: HYFI | F28: =BASE!G17-BASE!F17 -> 0 | G28: =BASE!H17-BASE!G17 -> 0 | H28: =BASE!I17-BASE!H17 -> 0 | J28: =BASE!K17-BASE!J17 -> -0.0312 | K28: =BASE!L17-BASE!K17 -> -0.022
B29: Obligations de sociétés | C29: FID1634 | E29: CFI | F29: =BASE!G18-BASE!F18 -> 0 | G29: =BASE!H18-BASE!G18 -> 0 | H29: =BASE!I18-BASE!H18 -> 0 | I29: =BASE!J18-BASE!I18 -> 0.0286 | J29: =BASE!K18-BASE!J18 -> -0.0258 | K29: =BASE!L18-BASE!K18 -> 0.0023
B30: Revenu Mensuel | C30: FID569 | D30: * | E30: CNB | F30: =BASE!G19-BASE!F19 -> -0.08357 | G30: =BASE!H19-BASE!G19 -> 0 | H30: =BASE!I19-BASE!H19 -> 0 | J30: =BASE!K19-BASE!J19 -> -0.1991 | K30: =BASE!L19-BASE!K19 -> 0.0009
B31: Titres américains à rendement élevé | C31: FID555 | F31: =BASE!#REF!-BASE!#REF! -> #REF! | G31: =BASE!#REF!-BASE!#REF! -> #REF! | H31: =BASE!#REF!-BASE!#REF! -> #REF! | I31: =BASE!#REF!-BASE!#REF! -> #REF! | J31: =BASE!#REF!-BASE!#REF! -> #REF! | K31: =BASE!#REF!-BASE!#REF! -> #REF!
B32: Petite capitalisation | C32: FID574 | D32: * | E32: USSME | F32: =BASE!#REF!-BASE!#REF! -> #REF! | G32: =BASE!#REF!-BASE!#REF! -> #REF! | H32: =BASE!#REF!-BASE!#REF! -> #REF! | J32: =BASE!#REF!-BASE!#REF! -> #REF! | K32: =BASE!#REF!-BASE!#REF! -> #REF!
A33: Mackenzie | B33: revenu Mackenzie | C33: MRD236 | E33: CFIB | F33: =BASE!G21-BASE!F21 -> 0 | G33: =BASE!H21-BASE!G21 -> 0 | H33: =BASE!I21-BASE!H21 -> 0 | I33: =BASE!J21-BASE!I21 -> 0.0496 | J33: =BASE!#REF!-BASE!#REF! -> #REF! | K33: =BASE!#REF!-BASE!#REF! -> #REF!
B34: Canadien Obligation | C34: MRD509 | E34: CFI | F34: =BASE!#REF!-BASE!#REF! -> #REF! | G34: =BASE!#REF!-BASE!#REF! -> #REF! | H34: =BASE!#REF!-BASE!#REF! -> #REF! | I34: =BASE!#REF!-BASE!#REF! -> #REF! | J34: =BASE!K21-BASE!J21 -> -0.0292 | K34: =BASE!L21-BASE!K21 -> 0.0027
B35: Obligations mondiales convertibles Blue Bay | C35: RBF890 | E35: HYFI | F35: =BASE!G26-BASE!F26 -> 0.02294 | G35: =BASE!H26-BASE!G26 -> 0.00576 | H35: =BASE!I26-BASE!H26 -> -0.01531 | I35: =BASE!J26-BASE!I26 -> 0.00905 | J35: =BASE!#REF!-BASE!#REF! -> #REF! | K35: =BASE!#REF!-BASE!#REF! -> #REF!
B36: Americain de dividendes | C36: RBF129 | E36: USE | F36: =BASE!G29-BASE!F29 -> 0 | G36: =BASE!H29-BASE!G29 -> 0 | H36: =BASE!I29-BASE!H29 -> 0 | J36: =BASE!K26-BASE!J26 -> -0.0454 | K36: =BASE!L26-BASE!K26 -> 0.0045
A37: Royal RBC | B37: Portefeuille prudence | C37: RBF840 | E37: GNB | F37: =BASE!G31-BASE!F31 -> -0.00788 | G37: =BASE!H31-BASE!G31 -> -0.02432 | H37: =BASE!I31-BASE!H31 -> -0.07795 | I37: =BASE!J31-BASE!I31 -> 0.0909 | J37: =BASE!K29-BASE!J29 -> -0.1175 | K37: =BASE!L29-BASE!K29 -> -0.0302
B38: Mondial croissance dividendes | C38: RBF780 | D38: * | E38: IE | F38: =BASE!G32-BASE!F32 -> 0 | G38: =BASE!H32-BASE!G32 -> 0 | H38: =BASE!I32-BASE!H32 -> 0 | J38: =BASE!K31-BASE!J31 -> -0.081 | K38: =BASE!L31-BASE!K31 -> 0.0369
B39: Actions mondiales Jantzi | C39: RBF785 | D39: * | E39: GE | F39: =BASE!#REF!-BASE!#REF! -> #REF! | G39: =BASE!#REF!-BASE!#REF! -> #REF! | H39: =BASE!#REF!-BASE!#REF! -> #REF! | J39: =BASE!K32-BASE!J32 -> -0.25 | K39: =BASE!L32-BASE!K32 -> 0.1515
B40: Obligations mondiales rendement élevé | C40: RBF801 | E40: HYFI | F40: =BASE!#REF!-BASE!#REF! -> #REF! | G40: =BASE!#REF!-BASE!#REF! -> #REF! | H40: =BASE!#REF!-BASE!#REF! -> #REF! | I40: =BASE!#REF!-BASE!#REF! -> #REF! | J40: =BASE!#REF!-BASE!#REF! -> #REF! | K40: =BASE!#REF!-BASE!#REF! -> #REF!
B41: Obligations mondiales de société | C41: RBF853 | E41: GFI | F41: =BASE!#REF!-BASE!#REF! -> #REF! | G41: =BASE!#REF!-BASE!#REF! -> #REF! | H41: =BASE!#REF!-BASE!#REF! -> #REF! | I41: =BASE!#REF!-BASE!#REF! -> #REF! | J41: =BASE!#REF!-BASE!#REF! -> #REF! | K41: =BASE!#REF!-BASE!#REF! -> #REF!
...

Sheet 2016-06-30
A2: CIES | B2: CODE | C2: grade CD | D2: TYPE | E2: NOM | F2: 42094 | G2: 42124 | H2: 42155 | I2: 42185 | J2: 42216 | K2: 42247 | L2: 42277 | M2: 42308 | N2: 42338 | O2: 42369 | P2: 2016-31-01 | Q2: 42429 | R2: 42460 | S2: 42490 | T2: 42521 | U2: 42551 | V2: 42582 | W2: 42613 | X2: 42643 | Y2: 42674 | Z2: 42704 | AA2: 42735 | AB2: 42766 | AC2: 42794 | AD2: 42825 | AE2: 42855 | AF2: 42886 | AG2: 42916 | AH2: 42947 | AI2: 42978
E3: ligne | F3: 0 | G3: 0 | H3: 0 | I3: 0 | J3: 0 | K3: 0 | L3: 0 | M3: 0 | N3: 0 | O3: 0 | P3: 0 | Q3: 0 | R3: 0 | S3: 0 | T3: 0 | U3: 0 | V3: 0 | W3: 0 | X3: 0 | Y3: 0 | Z3: 0 | AA3: 0 | AB3: 0 | AC3: 0 | AD3: 0 | AE3: 0 | AF3: 0 | AG3: 0 | AH3: 0 | AI3: 0 | AJ3: 0 | AK3: 0 | AL3: 0 | AM3: 0 | AN3: 0 | AO3: 0 | AP3: 0 | AQ3: 0 | AR3: 0 | AS3: 0 | AT3: 0 | AU3: 0 | AV3: 0 | AW3: 0 | AX3: 0 | AY3: 0 | AZ3: 0 | BA3: 0 | BB3: 0 | BC3: 0 | BD3: 0 | BE3: 0 | BF3: 0 | BG3: 0 | BH3: 0 | BI3: 0 | BJ3: 0 | BK3: 0 | BL3: 0 | BM3: 0 | BN3: 0 | BO3: 0 | BP3: 0 | BQ3: 0 | BR3: 0 | BS3: 0 | BT3: 0 | BU3: 0 | BV3: 0 | BW3: 0 | BX3: 0 | BY3: 0 | BZ3: 0 | CA3: 0 | CB3: 0 | CC3: 0 | CD3: 0 | CE3: 0 | CF3: 0 | CG3: 0
A4: CI | B4: CIG11462 | C4: a | D4: CDIE | E4: CI Cambridge Dividendes Canadiens | G4: =BASE!G4 -> 0 | H4: =BASE!H4 -> 0 | I4: =BASE!I4 -> 0 | J4: =BASE!J4 -> 0 | K4: =BASE!K4 -> 0 | L4: =BASE!L4 -> 0 | M4: =BASE!M4 -> 0 | N4: =BASE!N4 -> 0 | ... AI4: =BASE!AI4 -> 0.0844
A5: DYN | B5: DYN748 | C5: b | D5: CDIE | E5: Dyn Fonds de Dividendes | R5: 0.0188 | S5: 0.0156 | T5: 0.0468 | U5: 0.0614 | V5: =BASE!#REF! -> #REF! | W5: =BASE!#REF! -> #REF! | X5: =BASE!#REF! -> #REF! | Y5: =BASE!#REF! -> #REF! | Z5: =BASE!#REF! -> #REF! | AA5: =BASE!#REF! -> #REF! | AB5: =BASE!#REF! -> #REF! | AC5: =BASE!#REF! -> #REF! | ... AI5: =BASE!#REF! -> #REF!
A6: DYN | B6: DYN729 | C6: a | D6: CDIE | E6: Dyn Actions productives de revenus * | F6: 0.03387 | G6: 0.05384 | H6: 0.03457 | I6: 0.00746 | J6: 0.036 | K6: -0.0269 | L6: -0.0126 | M6: 0.0373 | N6: 0.0374 | O6: 0.016 | P6: -0.0009 | Q6: -0.0412 | R6: 0.0218 | S6: 0.0197 | T6: 0.0502 | U6: 0.0682 | V6: =BASE!V9 -> 0.0833 | W6: =BASE!W9 -> 0.1212 | X6: =BASE!X9 -> 0.1359 | Y6: =BASE!Y9 -> 0.0797 | Z6: =BASE!Z9 -> 0.0931 | AA6: =BASE!AA9 -> 0.1381 | AB6: =BASE!AB9 -> 0.1423 | AC6: =BASE!AC9 -> 0.1816 | AD6: =BASE!AD9 -> 0.1397 | AE6: =BASE!#REF! -> #REF! | AF6: =BASE!#REF! -> #REF! | AG6: =BASE!#REF! -> #REF! | AH6: =BASE!#REF! -> #REF! | AI6: =BASE!#REF! -> #REF!
B7: FID521 | D7: CDIE | E7: Fid Dividendes | T7: 0.046 | U7: 0.0733 | V7: 0.0653 | W7: 0.0838 | X7: 0.1005 | Y7: 0.0827 | Z7: 0.0882 | AA7: 0.1097 | AB7: 0.1033 | AC7: =BASE!#REF! -> #REF! | AD7: =BASE!#REF! -> #REF! | AE7: =BASE!#REF! -> #REF! | AF7: =BASE!#REF! -> #REF! | AG7: =BASE!#REF! -> #REF! | AH7: =BASE!#REF! -> #REF! | AI7: =BASE!#REF! -> #REF!
B8: RBF856 | D8: CDIE | E8: RBC Revenu d'actions canadiennes | AB8: 0.2306 | AC8: 0.2457 | AD8: =BASE!AD30 -> 0.12 | AE8: =BASE!AE30 -> 0.1582 | AF8: =BASE!AF30 -> 0.1193 | AG8: =BASE!AG30 -> 0.12 | AH8: =BASE!AH30 -> 0.0896 | AI8: =BASE!AI30 -> 0.0827
A9: Sentry | B9: NCE117 | C9: a | D9: CDIE | E9: Sen Revenu Canadien | F9: 0.14416 | G9: 0.11581 | H9: 0.10925 | I9: 0.07465 | J9: 0.099 | K9: 0.0229 | L9: 0.0205 | M9: 0.0296 | N9: 0.0188 | O9: 0.0037 | P9: -0.0262 | Q9: -0.042 | R9: -0.0068 | S9: -0.005 | T9: 0.0134 | U9: 0.0347 | V9: =BASE!V34 -> 0.0352 | W9: =BASE!W34 -> 0.0731 | X9: =BASE!X34 -> 0.0876 | Y9: =BASE!Y34 -> 0.0605 | Z9: =BASE!Z34 -> 0.066 | AA9: =BASE!AA34 -> 0.0949 | AB9: =BASE!AB34 -> 0.0803 | AC9: =BASE!AC34 -> 0.0998 | ... AI9: =BASE!AI34 -> 0.0132
A10: Manu | B10: MMF4429 | C10: a | D10: CDIE | E10: Manu Revenu de dividendes | R10: 0.0132 | S10: 0.0212 | T10: 0.0452 | U10: 0.0762 | V10: =BASE!V38 -> 0.1035 | W10: =BASE!W38 -> 0.1595 | X10: =BASE!X38 -> 0.1739 | Y10: =BASE!Y38 -> 0.1399 | Z10: =BASE!Z38 -> 0.1349 | AA10: =BASE!AA38 -> 0.1565 | AB10: =BASE!AB38 -> 0.1849 | AC10: =BASE!AC38 -> 0.1972 | AD10: =BASE!AD38 -> 0.1642 | AE10: =BASE!AE35 -> 0.0614 | AF10: =BASE!AF35 -> 0.0488 | AG10: =BASE!AG35 -> 0.0218 | AH10: =BASE!AH35 -> -0.0349 | AI10: =BASE!AI35 -> -0.0066
A12: CIES | B12: CODE | C12: grade CD | D12: TYPE | E12: NOM | F12: 42094 | G12: 42124 | H12: 42155 | I12: 42185 | J12: 42216 | K12: 42247 | L12: 42277 | M12: 42308 | N12: 42338 | O12: 42369 | P12: 2016-31-01 | Q12: 42429 | R12: 42460 | S12: 42490 | T12: 42521 | U12: 42551 | V12: 42582 | W12: 42613 | X12: 42643 | Y12: 42674 | Z12: 42704 | AA12: 42735 | AB12: 42766 | AC12: 42794 | AD12: 42825 | AE12: 42855 | AF12: 42886 | AG12: 42916 | AH12: 42947 | AI12: 42978
E13: ligne | F13: 0 | G13: 0 | H13: 0 | I13: 0 | J13: 0 | K13: 0 | L13: 0 | M13: 0 | N13: 0 | O13: 0 | P13: 0 | Q13: 0 | R13: 0 | S13: 0 | T13: 0 | U13: 0 | V13: 0 | W13: 0 | X13: 0 | Y13: 0 | Z13: 0 | AA13: 0 | AB13: 0 | AC13: 0 | AD13: 0 | AE13: 0 | AF13: 0 | AG13: 0 | AH13: 0 | AI13: 0 | AJ13: 0 | AK13: 0 | AL13: 0 | AM13: 0 | AN13: 0 | AO13: 0 | AP13: 0 | AQ13: 0 | AR13: 0 | AS13: 0 | AT13: 0 | AU13: 0 | AV13: 0 | AW13: 0 | AX13: 0 | AY13: 0 | AZ13: 0 | BA13: 0 | BB13: 0 | BC13: 0 | BD13: 0 | BE13: 0 | BF13: 0 | BG13: 0 | BH13: 0 | BI13: 0 | BJ13: 0 | BK13: 0 | BL13: 0 | BM13: 0 | BN13: 0 | BO13: 0 | BP13: 0 | BQ13: 0 | BR13: 0 | BS13: 0 | BT13: 0 | BU13: 0 | BV13: 0 | BW13: 0 | BX13: 0 | BY13: 0 | BZ13: 0 | CA13: 0 | CB13: 0 | CC13: 0 | CD13: 0 | CE13: 0 | CF13: 0 | CG13: 0
B14: CIG1425 | C14: c | D14: CE | E14: CI Placements Canadiens | G14: =BASE!G5 -> 0 | H14: =BASE!H5 -> 0 | I14: =BASE!I5 -> 0 | J14: =BASE!J5 -> 0 | K14: =BASE!K5 -> 0 | L14: =BASE!L5 -> 0 | M14: =BASE!M5 -> 0 | N14: =BASE!N5 -> -0.0183 | ... AI14: =BASE!AI5 -> 0.0694
B15: FID825 | D15: CE | E15: Frontière Nord | X15: 0.0787 | Y15: 0.0676 | Z15: 0.0667 | AA15: 0.0975 | AB15: 0.0996 | AC15: =BASE!#REF! -> #REF! | AD15: =BASE!#REF! -> #REF! | AE15: =BASE!#REF! -> #REF! | AF15: =BASE!#REF! -> #REF! | AG15: =BASE!#REF! -> #REF! | AH15: =BASE!#REF! -> #REF! | AI15: =BASE!#REF! -> #REF!
B16: RBF819 | C16: a | D16: CE | E16: RBC actions canadiennes à faible volatilité | R16: 0.0176 | S16: 0.0147 | T16: 0.0573 | U16: 0.0834 | V16: =BASE!#REF! -> #REF! | W16: =BASE!#REF! -> #REF! | X16: =BASE!#REF! -> #REF! | Y16: =BASE!#REF! -> #REF! | Z16: =BASE!#REF! -> #REF! | AA16: =BASE!#REF! -> #REF! | AB16: =BASE!#REF! -> #REF! | AC16: =BASE!#REF! -> #REF! | ... AI16: =BASE!#REF! -> #REF!
A18: CIES | B18: CODE | C18: grade CD | D18: TYPE | E18: NOM | F18: 42094 | G18: 42124 | H18: 42155 | I18: 42185 | J18: 42216 | K18: 42247 | L18: 42277 | M18: 42308 | N18: 42338 | O18: 42369 | P18: 2016-31-01 | Q18: 42429 | R18: 42460 | S18: 42490 | T18: 42521 | U18: 42551 | V18: 42582 | W18: 42613 | X18: 42643 | Y18: 42674 | Z18: 42704 | AA18: 42735 | AB18: 42766 | AC18: 42794 | AD18: 42825 | AE18: 42855 | AF18: 42886 | AG18: 42916 | AH18: 42947 | AI18: 42978
E19: ligne | F19: 0 | G19: 0 | H19: 0 | I19: 0 | J19: 0 | K19: 0 | L19: 0 | M19: 0 | N19: 0 | O19: 0 | P19: 0 | Q19: 0 | R19: 0 | S19: 0 | T19: 0 | U19: 0 | V19: 0 | W19: 0 | X19: 0 | Y19: 0 | Z19: 0 | AA19: 0 | AB19: 0 | AC19: 0 | AD19: 0 | AE19: 0 | AF19: 0 | AG19: 0 | AH19: 0 | AI19: 0 | AJ19: 0 | AK19: 0 | AL19: 0 | AM19: 0 | AN19: 0 | AO19: 0 | AP19: 0 | AQ19: 0 | AR19: 0 | AS19: 0 | AT19: 0 | AU19: 0 | AV19: 0 | AW19: 0 | AX19: 0 | AY19: 0 | AZ19: 0 | BA19: 0 | BB19: 0 | BC19: 0 | BD19: 0 | BE19: 0 | BF19: 0 | BG19: 0 | BH19: 0 | BI19: 0 | BJ19: 0 | BK19: 0 | BL19: 0 | BM19: 0 | BN19: 0 | BO19: 0 | BP19: 0 | BQ19: 0 | BR19: 0 | BS19: 0 | BT19: 0 | BU19: 0 | BV19: 0 | BW19: 0 | BX19: 0 | BY19: 0 | BZ19: 0 | CA19: 0 | CB19: 0 | CC19: 0 | CD19: 0 | CE19: 0 | CF19: 0 | CG19: 0
B20: DYN740 | D20: CFE | E20: Dyn Valeur Canada Dynamique | I20: 0.082 | J20: 0.105 | K20: 0.0244 | L20: -0.0057 | M20: -0.0089 | N20: 0.0034 | O20: -0.0183 | P20: -0.0494 | Q20: -0.1222 | R20: -0.1058 | S20: -0.071 | T20: -0.0598 | U20: -0.0535 | V20: -0.0462 | W20: -0.0017 | X20: 0.0431 | Y20: 0.04 | Z20: 0.0482 | AA20: 0.0769 | AB20: 0.0999 | AC20: =BASE!#REF! -> #REF! | AD20: =BASE!#REF! -> #REF! | AE20: =BASE!#REF! -> #REF! | AF20: =BASE!#REF! -> #REF! | AG20: =BASE!#REF! -> #REF! | AH20: =BASE!#REF! -> #REF! | AI20: =BASE!#REF! -> #REF!
B21: MFC613 | D21: CFE | E21: Mackenzie canadien Ivy | AA21: 0.1404 | AB21: 0.1305 | AC21: =BASE!#REF! -> #REF! | AD21: =BASE!#REF! -> #REF! | AE21: =BASE!#REF! -> #REF! | AF21: =BASE!#REF! -> #REF! | AG21: =BASE!#REF! -> #REF! | AH21: =BASE!#REF! -> #REF! | AI21: =BASE!#REF! -> #REF!
B22: RBF857 | D22: CFE | E22: RBC Nord-Américain Valeur | AB22: 0.162 | AC22: 0.204 | AD22: =BASE!#REF! -> #REF! | AE22: =BASE!#REF! -> #REF! | AF22: =BASE!#REF! -> #REF! | AG22: =BASE!#REF! -> #REF! | AH22: =BASE!#REF! -> #REF! | AI22: =BASE!#REF! -> #REF!
B23: FID831 | C23: a | D23: CFE | E23: Fid Grande capitalisation Canada | F23: 0.1136 | H23: 0.09777 | J23: 0.0688 | K23: 0.0425 | L23: 0.0391 | M23: 0.0732 | N23: 0.0455 | O23: 0.0338 | P23: 0.0054 | Q23: -0.0082 | R23: 0.0317 | S23: 0.0241 | T23: 0.0534 | U23: 0.0621 | V23: =BASE!V15 -> 0.0693 | W23: =BASE!W15 -> 0.0986 | X23: =BASE!X15 -> 0.1104 | Y23: =BASE!Y15 -> 0.0797 | Z23: =BASE!Z15 -> 0.0862 | AA23: =BASE!AA15 -> 0.0994 | AB23: =BASE!AB15 -> 0.0751 | AC23: =BASE!AC15 -> 0.0863 | ... AI23: =BASE!AI15 -> 0.0034
B24: FID565 | D24: CFE | E24: FID Expansion Canada | V24: 0.0252 | W24: 0.0949 | X24: 0.1707 | Y24: 0.1169 | Z24: 0.1044 | AA24: 0.1357 | AB24: 0.1925 | AC24: =BASE!#REF! -> #REF! | AD24: =BASE!#REF! -> #REF! | AE24: =BASE!#REF! -> #REF! | AF24: =BASE!#REF! -> #REF! | AG24: =BASE!#REF! -> #REF! | AH24: =BASE!#REF! -> #REF! | AI24: =BASE!#REF! -> #REF!
B25: FID523 | C25: a | D25: CFE | E25: Fid Dividendes Plus | F25: 0.13673 | G25: 0.11154 | I25: 0.08952 | J25: 0.1147 | K25: 0.0562 | L25: 0.0611 | M25: 0.0609 | N25: 0.0311 | O25: 0.021 | P25: -0.0185 | Q25: -0.0133 | R25: 0.0199 | S25: 0.0259 | T25: 0.0475 | U25: 0.0845 | V25: =BASE!V16 -> 0.0685 | W25: =BASE!W16 -> 0.0903 | X25: =BASE!X16 -> 0.103 | Y25: =BASE!Y16 -> 0.0751 | Z25: =BASE!Z16 -> 0.0756 | AA25: =BASE!AA16 -> 0.0856 | AB25: =BASE!AB16 -> 0.0636 | AC25: =BASE!AC16 -> 0.0797 | ... AI25: =BASE!AI16 -> -0.0001
A27: CIES | B27: CODE | D27: TYPE | E27: NOM | F27: 42094 | G27: 42124 | H27: 42155 | I27: 42185 | J27: 42216 | K27: 42247 | L27: 42277 | M27: 42308 | N27: 42338 | O27: 42369 | P27: 2016-31-01 | Q27: 42429 | R27: 42460 | S27: 42490 | T27: 42521 | U27: 42551 | V27: 42582 | W27: 42613 | X27: 42643 | Y27: 42674 | Z27: 42704 | AA27: 42735 | AB27: 42766 | AC27: 42794 | AD27: 42825 | AE27: 42855 | AF27: 42886 | AG27: 42916 | AH27: 42947 | AI27: 42978
E28: ligne | F28: 0 | G28: 0 | H28: 0 | I28: 0 | J28: 0 | K28: 0 | L28: 0 | M28: 0 | N28: 0 | O28: 0 | P28: 0 | Q28: 0 | R28: 0 | S28: 0 | T28: 0 | U28: 0 | V28: 0 | W28: 0 | X28: 0 | Y28: 0 | Z28: 0 | AA28: 0 | AB28: 0 | AC28: 0 | AD28: 0 | AE28: 0 | AF28: 0 | AG28: 0 | AH28: 0 | AI28: 0 | AJ28: 0 | AK28: 0 | AL28: 0 | AM28: 0 | AN28: 0 | AO28: 0 | AP28: 0 | AQ28: 0 | AR28: 0 | AS28: 0 | AT28: 0 | AU28: 0 | AV28: 0 | AW28: 0 | AX28: 0 | AY28: 0 | AZ28: 0 | BA28: 0 | BB28: 0 | BC28: 0 | BD28: 0 | BE28: 0 | BF28: 0 | BG28: 0 | BH28: 0 | BI28: 0 | BJ28: 0 | BK28: 0 | BL28: 0 | BM28: 0 | BN28: 0 | BO28: 0 | BP28: 0 | BQ28: 0 | BR28: 0 | BS28: 0 | BT28: 0 | BU28: 0 | BV28: 0 | BW28: 0 | BX28: 0 | BY28: 0 | BZ28: 0 | CA28: 0 | CB28: 0 | CC28: 0 | CD28: 0 | CE28: 0 | CF28: 0 | CG28: 0
B29: FID1634 | D29: CFI | E29: Fid Obligations de sociétés | J29: 0.0286 | K29: 0.0028 | L29: 0.0051 | M29: 0.0026 | N29: -0.0046 | O29: -0.0068 | P29: -0.0457 | Q29: -0.0531 | R29: -0.0293 | S29: -0.0051 | T29: -0.0016 | U29: =BASE!U18 -> 0.0171 | V29: =BASE!V18 -> 0.019 | W29: =BASE!W18 -> 0.0471 | X29: =BASE!X18 -> 0.0588 | Y29: =BASE!Y18 -> 0.0532 | Z29: =BASE!Z18 -> 0.035 | AA29: =BASE!AA18 -> 0.0397 | AB29: =BASE!AB18 -> 0.0556 | ... AI29: =BASE!AI18 -> 0.0118
B30: MRD509 | D30: CFI | E30: Mack Canadien Obligation | J30: 0.0477 | L30: 0.0344 | M30: 0.0259 | N30: 0.0113 | O30: 0.0182 | P30: -0.0081 | Q30: -0.0199 | R30: -0.0069 | S30: 0.0071 | T30: 0.0144 | U30: =BASE!#REF! -> #REF! | V30: =BASE!#REF! -> #REF! | W30: =BASE!#REF! -> #REF! | X30: =BASE!#REF! -> #REF! | Y30: =BASE!#REF! -> #REF! | Z30: =BASE!#REF! -> #REF! | AA30: =BASE!#REF! -> #REF! | AB30: =BASE!#REF! -> #REF! | ... AI30: =BASE!#REF! -> #REF!
B31: RBF895 | D31: CFI | E31: RBC Obligations revenu mensuel | J31: 0.048 | N31: 0.0215 | O31: 0.0241 | P31: -0.0062 | Q31: -0.0063 | R31: 0.0052 | S31: 0.0157 | T31: 0.0202 | U31: =BASE!#REF! -> #REF! | V31: =BASE!#REF! -> #REF! | W31: =BASE!#REF! -> #REF! | X31: =BASE!#REF! -> #REF! | Y31: =BASE!#REF! -> #REF! | Z31: =BASE!#REF! -> #REF! | AA31: =BASE!#REF! -> #REF! | AB31: =BASE!#REF! -> #REF! | ... AI31: =BASE!#REF! -> #REF!
B32: RBF6340 | D32: CFI | E32: PH&N obligations rendement global | Y32: 0.0539 | Z32: 0.0318 | AA32: 0.0175 | AB32: 0.0142 | AC32: =BASE!AC27 -> 0.0222 | AD32: =BASE!AD27 -> 0.025 | AE32: =BASE!AE27 -> 0.0268 | AF32: =BASE!AF27 -> 0.0259 | AG32: =BASE!AG27 -> -0.0032 | AH32: =BASE!AH27 -> -0.031 | AI32: =BASE!AI27 -> -0.0188
B33: RBF850 | D33: CFI | E33: RBC d'obligations Cseil | Y33: 0.0593 | Z33: 0.0358 | AA33: 0.0227 | AB33: 0.0198 | AC33: =BASE!AC28 -> 0.03 | AD33: =BASE!AD28 -> 0.0312 | AE33: =BASE!AE28 -> 0.0348 | AF33: =BASE!AF28 -> 0.0331 | AG33: =BASE!AG28 -> 0.0041 | AH33: =BASE!AH28 -> -0.0272 | AI33: =BASE!AI28 -> -0.0162
B34: PCA002 | D34: CFI | E34: SEI Revenu Canadien | AC34: 0.0324 | AD34: =BASE!AD41 -> 0.026 | AE34: =BASE!AE41 -> 0.0411 | AF34: =BASE!AF41 -> 0.0388 | AG34: =BASE!AG41 -> 0.0093 | AH34: =BASE!AH41 -> -0.0183 | AI34: =BASE!AI41 -> -0.0065
B35: TDB696 | D35: CFI | E35: TD Obligations canadiennes de base plus | F35: 0.07929 | G35: 0.06533 | H35: 0.05369 | I35: 0.04626 | J35: 0.0525 | K35: 0.0351 | L35: 0.0366 | M35: 0.0301 | N35: 0.0167 | O35: 0.0181 | P35: -0.0197 | Q35: -0.0187 | R35: -0.0058 | S35: 0.0048 | T35: 0.0144 | U35: =BASE!#REF! -> #REF! | V35: =BASE!#REF! -> #REF! | W35: =BASE!#REF! -> #REF! | X35: =BASE!#REF! -> #REF! | Y35: =BASE!#REF! -> #REF! | Z35: =BASE!#REF! -> #REF! | AA35: =BASE!#REF! -> #REF! | AB35: =BASE!#REF! -> #REF! | ... AI35: =BASE!#REF! -> #REF!
A37: CIES | B37: CODE | D37: TYPE | E37: NOM | F37: 42094 | G37: 42124 | H37: 42155 | I37: 42185 | J37: 42216 | K37: 42247 | L37: 42277 | M37: 42308 | N37: 42338 | O37: 42369 | P37: 2016-31-01 | Q37: 42429 | R37: 42460 | S37: 42490 | T37: 42521 | U37: 42551 | V37: 42582 | W37: 42613 | X37: 42643 | Y37: 42674 | Z37: 42704 | AA37: 42735 | AB37: 42766 | AC37: 42794 | AD37: 42825 | AE37: 42855 | AF37: 42886 | AG37: 42916 | AH37: 42947 | AI37: 42978
E38: ligne | F38: 0 | G38: 0 | H38: 0 | I38: 0 | J38: 0 | K38: 0 | L38: 0 | M38: 0 | N38: 0 | O38: 0 | P38: 0 | Q38: 0 | R38: 0 | S38: 0 | T38: 0 | U38: 0 | V38: 0 | W38: 0 | X38: 0 | Y38: 0 | Z38: 0 | AA38: 0 | AB38: 0 | AC38: 0 | AD38: 0 | AE38: 0 | AF38: 0 | AG38: 0 | AH38: 0 | AI38: 0 | AJ38: 0 | AK38: 0 | AL38: 0 | AM38: 0 | AN38: 0 | AO38: 0 | AP38: 0 | AQ38: 0 | AR38: 0 | AS38: 0 | AT38: 0 | AU38: 0 | AV38: 0 | AW38: 0 | AX38: 0 | AY38: 0 | AZ38: 0 | BA38: 0 | BB38: 0 | BC38: 0 | BD38: 0 | BE38: 0 | BF38: 0 | BG38: 0 | BH38: 0 | BI38: 0 | BJ38: 0 | BK38: 0 | BL38: 0 | BM38: 0 | BN38: 0 | BO38: 0 | BP38: 0 | BQ38: 0 | BR38: 0 | BS38: 0 | BT38: 0 | BU38: 0 | BV38: 0 | BW38: 0 | BX38: 0 | BY38: 0 | BZ38: 0 | CA38: 0 | CB38: 0 | CC38: 0 | CD38: 0 | CE38: 0 | CF38: 0 | CG38: 0
B39: DYN2432 | D39: CFIB | E39: Dyn Défensif Ultra | P39: 0.0068 | Q39: -0.0169 | R39: -0.0065 | S39: 0.0132 | T39: 0.0066 | U39: =BASE!#REF! -> #REF! | V39: =BASE!#REF! -> #REF! | W39: =BASE!#REF! -> #REF! | X39: =BASE!#REF! -> #REF! | Y39: =BASE!#REF! -> #REF! | Z39: =BASE!#REF! -> #REF! | AA39: =BASE!#REF! -> #REF! | AB39: =BASE!#REF! -> #REF! | ... AI39: =BASE!#REF! -> #REF!
A40: Mackenzie | B40: MRD236 | D40: CFIB | E40: Mack revenu Mackenzie | J40: 0.0496 | K40: 0.0204 | L40: 0.0231 | M40: 0.0341 | N40: 0.0194 | O40: 0.0206 | P40: -0.0263 | Q40: -0.038 | R40: -0.0116 | S40: -0.0052 | T40: 0.0053 | U40: =BASE!U21 -> 0.0303 | V40: =BASE!V21 -> 0.0315 | W40: =BASE!W21 -> 0.0618 | X40: =BASE!X21 -> 0.0771 | Y40: =BASE!Y21 -> 0.0603 | Z40: =BASE!Z21 -> 0.0563 | AA40: =BASE!AA21 -> 0.0612 | AB40: =BASE!AB21 -> 0.0633 | ... AI40: =BASE!AI21 -> 0.0185
B41: PCA035 | D41: CFIB | E41: SEI Modéré | AC41: 0.1007 | AD41: =BASE!AD43 -> 0.0833 | AE41: =BASE!AE43 -> 0.0985 | AF41: =BASE!AF43 -> 0.0812 | AG41: =BASE!AG43 -> 0.0591 | AH41: =BASE!AH43 -> 0.0048 | AI41: =BASE!AI43 -> 0.008
B42: TDB760 | D42: CFIB | E42: TD Portefeuille géré de revenu | S42: -0.0026 | T42: 0.0065 | U42: 0.0206 | V42: 0.0155 | W42: 0.0367 | X42: 0.0481 | Y42: 0.0289 | Z42: 0.0194 | AA42: 0.0158 | AB42: 0.0238 | AC42: =BASE!#REF! -> #REF! | AD42: =BASE!#REF! -> #REF! | AE42: =BASE!#REF! -> #REF! | AF42: =BASE!#REF! -> #REF! | AG42: =BASE!#REF! -> #REF! | AH42: =BASE!#REF! -> #REF! | AI42: =BASE!#REF! -> #REF!
B43: TDB2062 | D43: CFIB | E43: TD Revenu Équilibré Avantage | U43: 0.0281 | V43: 0.0212 | W43: 0.0458 | X43: 0.0556 | Y43: 0.0377 | Z43: 0.0258 | AA43: 0.0223 | AB43: 0.025 | AC43: =BASE!#REF! -> #REF! | AD43: =BASE!#REF! -> #REF! | AE43: =BASE!#REF! -> #REF! | AF43: =BASE!#REF! -> #REF! | AG43: =BASE!#REF! -> #REF! | AH43: =BASE!#REF! -> #REF! | AI43: =BASE!#REF! -> #REF!
B44: SLI115 | D44: CFIB | E44: Ideal porte conservateur | J44: 0.0431 | K44: 0.0232 | L44: 0.0234 | M44: 0.0363 | N44: 0.0242 | O44: 0.029 | P44: -0.0229 | Q44: -0.0498 | R44: -0.0278 | S44: -0.0211 | T44: =BASE!T39 -> 0 | U44: =BASE!U39 -> 0 | V44: =BASE!V39 -> 0 | W44: =BASE!W39 -> 0.0358 | X44: =BASE!X39 -> 0.0513 | Y44: =BASE!Y39 -> 0.026 | Z44: =BASE!Z39 -> 0.0113 | AA44: =BASE!AA39 -> 0.0161 | ... AI44: =BASE!AI39 -> 0.0195
A45: Renaissance | B45: ATL050 | D45: CFIB | E45: Ren Optimal de revenu | J45: 0.042 | K45: 0.0046 | L45: 0.0123 | M45: 0.0213 | N45: 0.0082 | O45: 0.0101 | P45: =BASE!P50 -> -0.038 | Q45: =BASE!Q50 -> -0.0556 | R45: =BASE!R50 -> -0.0203 | S45: =BASE!S50 -> -0.0106 | T45: =BASE!T50 -> 0.0044 | U45: =BASE!U50 -> 0.0252 | V45: =BASE!V50 -> 0.0295 | W45: =BASE!W50 -> 0.0583 | ... AI45: =BASE!AI50 -> 0.0251
...

Sheet Tableaux
A2: CDIE
A62: CE
A128: CFE
A142: CFI
A204: CFIB
A275: CNB
A335: GE
A416: GEB
A449: GFI
A480: GFIB
A604: HYFI
A641: IE
... A712: TB

Sheet Feuil1

Sheet Feuil2
A2: Type | B2: Abréviation
A3: Alternative Strategies | B3: AS
A4: Canadian Dividend and Income Eq | B4: CDIE
A5: Canadian Equity | B5: CE
A6: Canadian Focused Equity | B6: CFE
A7: Canadian Fixed Income | B7: CFI
A8: Canadian Fixed Income Balanced | B8: CFIB
A9: Canadian Inflation Protected Fixed Income | B9: CIPFI
A10: Canadian Neutral Balanced | B10: CNB
A11: Canadian Short term fix income | B11: CSTFI
A12: Global Equity | B12: GE
A13: Global Equity Balanced | B13: GEB
... A26: Miscellanous | B26: M
