Workbook

Sheet Suivi
B2: SUIVI TRIMESTRIEL DES BILANS | H2: AP= | I2: A programmer
D5: - INFOS - | E5: - SPORTIF - | I5: - COACHING -
A6: N° | B6: NOM | C6: Prénom | D6: Inscription | E6: Bilan actuel | F6: Bilan fait | G6: Report (jours) | H6: Prochain bilan | I6: Ajust. | J6: Séance actuelle | K6: Prochaine séance coaching
A7: 1 | B7: DAVID | C7: Martin | D7: 42315 | E7: 42871 | F7: =IF(D7="","-",IF(E7+G7-D7<=90,"Bilan n°1",IF(AND(E7+G7-D7>90,E7+G7-D7<=180),"Bilan n°2",IF(AND(E7+G7-D7>180,E7+G7-D7<=270),"Bilan n°3",IF(AND(E7+G7-D7>270,E7+G7-D7<=360),"Bilan n°4",IF(AND(E7+G7-D7>360,E7+G7-D7<=450),"Bilan n°5",IF(AND(E7+G7-D7>450,E7+G7-D7<=540),"Bilan n°6",IF(AND(E7+G7-D7>540,E7+G7-D7<=630),"Bilan n°7",IF(AND(E7+G7-D7>630,E7+G7-D7<=720),"Bilan n°8",IF(AND(E7+G7-D7>720,E7+G7-D7<=810),"Bilan n°9",IF(AND(E7+G7-D7>810,E7+G7-D7<=900),"Bilan n°10"))))))))))) -> Bilan n°7 | H7: =IF(OR(F7="Bilan n°1",F7="Bilan n°2",F7="Bilan n°3",F7="Bilan n°4",F7="Bilan n°5",F7="Bilan n°6",F7="Bilan n°7",F7="Bilan n°8",F7="Bilan n°9",F7="Bilan n°10"),EDATE(J7,3)+G7,"-") -> 42967 | I7: 4 | J7: =IF(I7="AP","",IF(E7="-","",IF(E7="","",EDATE(E7,0)+I7))) -> 42875 | K7: =IF(H7="-","",EDATE(H7,3)+4) -> 43063
A8: 3 | B8: MARTIN | C8: David | D8: 42978 | E8: 43005 | F8: =IF(D8="","-",IF(E8+G8-D8<=90,"Bilan n°1",IF(AND(E8+G8-D8>90,E8+G8-D8<=180),"Bilan n°2",IF(AND(E8+G8-D8>180,E8+G8-D8<=270),"Bilan n°3",IF(AND(E8+G8-D8>270,E8+G8-D8<=360),"Bilan n°4",IF(AND(E8+G8-D8>360,E8+G8-D8<=450),"Bilan n°5",IF(AND(E8+G8-D8>450,E8+G8-D8<=540),"Bilan n°6",IF(AND(E8+G8-D8>540,E8+G8-D8<=630),"Bilan n°7",IF(AND(E8+G8-D8>630,E8+G8-D8<=720),"Bilan n°8",IF(AND(E8+G8-D8>720,E8+G8-D8<=810),"Bilan n°9",IF(AND(E8+G8-D8>810,E8+G8-D8<=900),"Bilan n°10"))))))))))) -> Bilan n°1 | H8: =IF(OR(F8="Bilan n°1",F8="Bilan n°2",F8="Bilan n°3",F8="Bilan n°4",F8="Bilan n°5",F8="Bilan n°6",F8="Bilan n°7",F8="Bilan n°8",F8="Bilan n°9",F8="Bilan n°10"),EDATE(J8,3)+G8,"-") -> 43098 | I8: 2 | J8: =IF(I8="AP","",IF(E8="-","",IF(E8="","",EDATE(E8,0)+I8))) -> 43007 | K8: =IF(H8="-","",EDATE(H8,3)+4) -> 43192
A9: 5 | B9: MALJRO | C9: Florent | D9: 42254 | E9: 42912 | F9: =IF(D9="","-",IF(E9+G9-D9<=90,"Bilan n°1",IF(AND(E9+G9-D9>90,E9+G9-D9<=180),"Bilan n°2",IF(AND(E9+G9-D9>180,E9+G9-D9<=270),"Bilan n°3",IF(AND(E9+G9-D9>270,E9+G9-D9<=360),"Bilan n°4",IF(AND(E9+G9-D9>360,E9+G9-D9<=450),"Bilan n°5",IF(AND(E9+G9-D9>450,E9+G9-D9<=540),"Bilan n°6",IF(AND(E9+G9-D9>540,E9+G9-D9<=630),"Bilan n°7",IF(AND(E9+G9-D9>630,E9+G9-D9<=720),"Bilan n°8",IF(AND(E9+G9-D9>720,E9+G9-D9<=810),"Bilan n°9",IF(AND(E9+G9-D9>810,E9+G9-D9<=900),"Bilan n°10"))))))))))) -> Bilan n°8 | H9: =IF(OR(F9="Bilan n°1",F9="Bilan n°2",F9="Bilan n°3",F9="Bilan n°4",F9="Bilan n°5",F9="Bilan n°6",F9="Bilan n°7",F9="Bilan n°8",F9="Bilan n°9",F9="Bilan n°10"),EDATE(J9,3)+G9,"-") -> 43030 | I9: 26 | J9: =IF(I9="AP","",IF(E9="-","",IF(E9="","",EDATE(E9,0)+I9))) -> 42938 | K9: =IF(H9="-","",EDATE(H9,3)+4) -> 43126
A10: 6 | B10: LORAIN | C10: Kévin | D10: 42888 | E10: 42890 | F10: =IF(D10="","-",IF(E10+G10-D10<=90,"Bilan n°1",IF(AND(E10+G10-D10>90,E10+G10-D10<=180),"Bilan n°2",IF(AND(E10+G10-D10>180,E10+G10-D10<=270),"Bilan n°3",IF(AND(E10+G10-D10>270,E10+G10-D10<=360),"Bilan n°4",IF(AND(E10+G10-D10>360,E10+G10-D10<=450),"Bilan n°5",IF(AND(E10+G10-D10>450,E10+G10-D10<=540),"Bilan n°6",IF(AND(E10+G10-D10>540,E10+G10-D10<=630),"Bilan n°7",IF(AND(E10+G10-D10>630,E10+G10-D10<=720),"Bilan n°8",IF(AND(E10+G10-D10>720,E10+G10-D10<=810),"Bilan n°9",IF(AND(E10+G10-D10>810,E10+G10-D10<=900),"Bilan n°10"))))))))))) -> Bilan n°1 | H10: =IF(OR(F10="Bilan n°1",F10="Bilan n°2",F10="Bilan n°3",F10="Bilan n°4",F10="Bilan n°5",F10="Bilan n°6",F10="Bilan n°7",F10="Bilan n°8",F10="Bilan n°9",F10="Bilan n°10"),EDATE(J10,3)+G10,"-") -> 42986 | I10: 4 | J10: =IF(I10="AP","",IF(E10="-","",IF(E10="","",EDATE(E10,0)+I10))) -> 42894 | K10: =IF(H10="-","",EDATE(H10,3)+4) -> 43081
A11: 13 | B11: POER | C11: Benjamin | D11: 42621 | E11: 42928 | F11: =IF(D11="","-",IF(E11+G11-D11<=90,"Bilan n°1",IF(AND(E11+G11-D11>90,E11+G11-D11<=180),"Bilan n°2",IF(AND(E11+G11-D11>180,E11+G11-D11<=270),"Bilan n°3",IF(AND(E11+G11-D11>270,E11+G11-D11<=360),"Bilan n°4",IF(AND(E11+G11-D11>360,E11+G11-D11<=450),"Bilan n°5",IF(AND(E11+G11-D11>450,E11+G11-D11<=540),"Bilan n°6",IF(AND(E11+G11-D11>540,E11+G11-D11<=630),"Bilan n°7",IF(AND(E11+G11-D11>630,E11+G11-D11<=720),"Bilan n°8",IF(AND(E11+G11-D11>720,E11+G11-D11<=810),"Bilan n°9",IF(AND(E11+G11-D11>810,E11+G11-D11<=900),"Bilan n°10"))))))))))) -> Bilan n°4 | H11: =IF(OR(F11="Bilan n°1",F11="Bilan n°2",F11="Bilan n°3",F11="Bilan n°4",F11="Bilan n°5",F11="Bilan n°6",F11="Bilan n°7",F11="Bilan n°8",F11="Bilan n°9",F11="Bilan n°10"),EDATE(J11,3)+G11,"-") -> 43026 | I11: 6 | J11: 42934 | K11: =IF(H11="-","",EDATE(H11,3)+4) -> 43122
A12: 15 | D12: 42254 | E12: 42885 | F12: =IF(D12="","-",IF(E12+G12-D12<=90,"Bilan n°1",IF(AND(E12+G12-D12>90,E12+G12-D12<=180),"Bilan n°2",IF(AND(E12+G12-D12>180,E12+G12-D12<=270),"Bilan n°3",IF(AND(E12+G12-D12>270,E12+G12-D12<=360),"Bilan n°4",IF(AND(E12+G12-D12>360,E12+G12-D12<=450),"Bilan n°5",IF(AND(E12+G12-D12>450,E12+G12-D12<=540),"Bilan n°6",IF(AND(E12+G12-D12>540,E12+G12-D12<=630),"Bilan n°7",IF(AND(E12+G12-D12>630,E12+G12-D12<=720),"Bilan n°8",IF(AND(E12+G12-D12>720,E12+G12-D12<=810),"Bilan n°9",IF(AND(E12+G12-D12>810,E12+G12-D12<=900),"Bilan n°10"))))))))))) -> Bilan n°8 | H12: =IF(OR(F12="Bilan n°1",F12="Bilan n°2",F12="Bilan n°3",F12="Bilan n°4",F12="Bilan n°5",F12="Bilan n°6",F12="Bilan n°7",F12="Bilan n°8",F12="Bilan n°9",F12="Bilan n°10"),EDATE(J12,3)+G12,"-") -> 42980 | I12: 3 | J12: =IF(I12="AP","",IF(E12="-","",IF(E12="","",EDATE(E12,0)+I12))) -> 42888 | K12: =IF(H12="-","",EDATE(H12,3)+4) -> 43075
A13: 16 | D13: 42254 | E13: 42885 | F13: =IF(D13="","-",IF(E13+G13-D13<=90,"Bilan n°1",IF(AND(E13+G13-D13>90,E13+G13-D13<=180),"Bilan n°2",IF(AND(E13+G13-D13>180,E13+G13-D13<=270),"Bilan n°3",IF(AND(E13+G13-D13>270,E13+G13-D13<=360),"Bilan n°4",IF(AND(E13+G13-D13>360,E13+G13-D13<=450),"Bilan n°5",IF(AND(E13+G13-D13>450,E13+G13-D13<=540),"Bilan n°6",IF(AND(E13+G13-D13>540,E13+G13-D13<=630),"Bilan n°7",IF(AND(E13+G13-D13>630,E13+G13-D13<=720),"Bilan n°8",IF(AND(E13+G13-D13>720,E13+G13-D13<=810),"Bilan n°9",IF(AND(E13+G13-D13>810,E13+G13-D13<=900),"Bilan n°10"))))))))))) -> Bilan n°8 | H13: =IF(OR(F13="Bilan n°1",F13="Bilan n°2",F13="Bilan n°3",F13="Bilan n°4",F13="Bilan n°5",F13="Bilan n°6",F13="Bilan n°7",F13="Bilan n°8",F13="Bilan n°9",F13="Bilan n°10"),EDATE(J13,3)+G13,"-") -> 42979 | I13: 2 | J13: =IF(I13="AP","",IF(E13="-","",IF(E13="","",EDATE(E13,0)+I13))) -> 42887 | K13: =IF(H13="-","",EDATE(H13,3)+4) -> 43074
A14: 17 | D14: 42248 | E14: 42887 | F14: =IF(D14="","-",IF(E14+G14-D14<=90,"Bilan n°1",IF(AND(E14+G14-D14>90,E14+G14-D14<=180),"Bilan n°2",IF(AND(E14+G14-D14>180,E14+G14-D14<=270),"Bilan n°3",IF(AND(E14+G14-D14>270,E14+G14-D14<=360),"Bilan n°4",IF(AND(E14+G14-D14>360,E14+G14-D14<=450),"Bilan n°5",IF(AND(E14+G14-D14>450,E14+G14-D14<=540),"Bilan n°6",IF(AND(E14+G14-D14>540,E14+G14-D14<=630),"Bilan n°7",IF(AND(E14+G14-D14>630,E14+G14-D14<=720),"Bilan n°8",IF(AND(E14+G14-D14>720,E14+G14-D14<=810),"Bilan n°9",IF(AND(E14+G14-D14>810,E14+G14-D14<=900),"Bilan n°10"))))))))))) -> Bilan n°8 | G14: 40 | H14: =IF(OR(F14="Bilan n°1",F14="Bilan n°2",F14="Bilan n°3",F14="Bilan n°4",F14="Bilan n°5",F14="Bilan n°6",F14="Bilan n°7",F14="Bilan n°8",F14="Bilan n°9",F14="Bilan n°10"),EDATE(J14,3)+G14,"-") -> 43025 | I14: 6 | J14: =IF(I14="AP","",IF(E14="-","",IF(E14="","",EDATE(E14,0)+I14))) -> 42893 | K14: =IF(H14="-","",EDATE(H14,3)+4) -> 43121
A15: 18 | D15: 42647 | E15: 42894 | F15: =IF(D15="","-",IF(E15+G15-D15<=90,"Bilan n°1",IF(AND(E15+G15-D15>90,E15+G15-D15<=180),"Bilan n°2",IF(AND(E15+G15-D15>180,E15+G15-D15<=270),"Bilan n°3",IF(AND(E15+G15-D15>270,E15+G15-D15<=360),"Bilan n°4",IF(AND(E15+G15-D15>360,E15+G15-D15<=450),"Bilan n°5",IF(AND(E15+G15-D15>450,E15+G15-D15<=540),"Bilan n°6",IF(AND(E15+G15-D15>540,E15+G15-D15<=630),"Bilan n°7",IF(AND(E15+G15-D15>630,E15+G15-D15<=720),"Bilan n°8",IF(AND(E15+G15-D15>720,E15+G15-D15<=810),"Bilan n°9",IF(AND(E15+G15-D15>810,E15+G15-D15<=900),"Bilan n°10"))))))))))) -> Bilan n°3 | H15: =IF(OR(F15="Bilan n°1",F15="Bilan n°2",F15="Bilan n°3",F15="Bilan n°4",F15="Bilan n°5",F15="Bilan n°6",F15="Bilan n°7",F15="Bilan n°8",F15="Bilan n°9",F15="Bilan n°10"),EDATE(J15,3)+G15,"-") -> 43014 | I15: 28 | J15: =IF(I15="AP","",IF(E15="-","",IF(E15="","",EDATE(E15,0)+I15))) -> 42922 | K15: =IF(H15="-","",EDATE(H15,3)+4) -> 43110
A16: 19 | D16: 42247 | E16: 42682 | F16: =IF(D16="","-",IF(E16+G16-D16<=90,"Bilan n°1",IF(AND(E16+G16-D16>90,E16+G16-D16<=180),"Bilan n°2",IF(AND(E16+G16-D16>180,E16+G16-D16<=270),"Bilan n°3",IF(AND(E16+G16-D16>270,E16+G16-D16<=360),"Bilan n°4",IF(AND(E16+G16-D16>360,E16+G16-D16<=450),"Bilan n°5",IF(AND(E16+G16-D16>450,E16+G16-D16<=540),"Bilan n°6",IF(AND(E16+G16-D16>540,E16+G16-D16<=630),"Bilan n°7",IF(AND(E16+G16-D16>630,E16+G16-D16<=720),"Bilan n°8",IF(AND(E16+G16-D16>720,E16+G16-D16<=810),"Bilan n°9",IF(AND(E16+G16-D16>810,E16+G16-D16<=900),"Bilan n°10"))))))))))) -> Bilan n°5 | H16: =IF(OR(F16="Bilan n°1",F16="Bilan n°2",F16="Bilan n°3",F16="Bilan n°4",F16="Bilan n°5",F16="Bilan n°6",F16="Bilan n°7",F16="Bilan n°8",F16="Bilan n°9",F16="Bilan n°10"),EDATE(J16,3)+G16,"-") -> 42778 | I16: 4 | J16: =IF(I16="AP","",IF(E16="-","",IF(E16="","",EDATE(E16,0)+I16))) -> 42686 | K16: =IF(H16="-","",EDATE(H16,3)+4) -> 42871
A17: 20 | D17: 42248 | E17: 42559 | F17: =IF(D17="","-",IF(E17+G17-D17<=90,"Bilan n°1",IF(AND(E17+G17-D17>90,E17+G17-D17<=180),"Bilan n°2",IF(AND(E17+G17-D17>180,E17+G17-D17<=270),"Bilan n°3",IF(AND(E17+G17-D17>270,E17+G17-D17<=360),"Bilan n°4",IF(AND(E17+G17-D17>360,E17+G17-D17<=450),"Bilan n°5",IF(AND(E17+G17-D17>450,E17+G17-D17<=540),"Bilan n°6",IF(AND(E17+G17-D17>540,E17+G17-D17<=630),"Bilan n°7",IF(AND(E17+G17-D17>630,E17+G17-D17<=720),"Bilan n°8",IF(AND(E17+G17-D17>720,E17+G17-D17<=810),"Bilan n°9",IF(AND(E17+G17-D17>810,E17+G17-D17<=900),"Bilan n°10"))))))))))) -> Bilan n°4 | H17: =IF(OR(F17="Bilan n°1",F17="Bilan n°2",F17="Bilan n°3",F17="Bilan n°4",F17="Bilan n°5",F17="Bilan n°6",F17="Bilan n°7",F17="Bilan n°8",F17="Bilan n°9",F17="Bilan n°10"),EDATE(J17,3)+G17,"-") -> 42655 | I17: 4 | J17: =IF(I17="AP","",IF(E17="-","",IF(E17="","",EDATE(E17,0)+I17))) -> 42563 | K17: =IF(H17="-","",EDATE(H17,3)+4) -> 42751
A18: 21 | D18: 42241 | E18: 43014 | F18: =IF(D18="","-",IF(E18+G18-D18<=90,"Bilan n°1",IF(AND(E18+G18-D18>90,E18+G18-D18<=180),"Bilan n°2",IF(AND(E18+G18-D18>180,E18+G18-D18<=270),"Bilan n°3",IF(AND(E18+G18-D18>270,E18+G18-D18<=360),"Bilan n°4",IF(AND(E18+G18-D18>360,E18+G18-D18<=450),"Bilan n°5",IF(AND(E18+G18-D18>450,E18+G18-D18<=540),"Bilan n°6",IF(AND(E18+G18-D18>540,E18+G18-D18<=630),"Bilan n°7",IF(AND(E18+G18-D18>630,E18+G18-D18<=720),"Bilan n°8",IF(AND(E18+G18-D18>720,E18+G18-D18<=810),"Bilan n°9",IF(AND(E18+G18-D18>810,E18+G18-D18<=900),"Bilan n°10"))))))))))) -> Bilan n°9 | H18: =IF(OR(F18="Bilan n°1",F18="Bilan n°2",F18="Bilan n°3",F18="Bilan n°4",F18="Bilan n°5",F18="Bilan n°6",F18="Bilan n°7",F18="Bilan n°8",F18="Bilan n°9",F18="Bilan n°10"),EDATE(J18,3)+G18,"-") -> 43109 | I18: 3 | J18: =IF(I18="AP","",IF(E18="-","",IF(E18="","",EDATE(E18,0)+I18))) -> 43017 | K18: =IF(H18="-","",EDATE(H18,3)+4) -> 43203
A19: 22 | D19: 42249 | E19: 42887 | F19: =IF(D19="","-",IF(E19+G19-D19<=90,"Bilan n°1",IF(AND(E19+G19-D19>90,E19+G19-D19<=180),"Bilan n°2",IF(AND(E19+G19-D19>180,E19+G19-D19<=270),"Bilan n°3",IF(AND(E19+G19-D19>270,E19+G19-D19<=360),"Bilan n°4",IF(AND(E19+G19-D19>360,E19+G19-D19<=450),"Bilan n°5",IF(AND(E19+G19-D19>450,E19+G19-D19<=540),"Bilan n°6",IF(AND(E19+G19-D19>540,E19+G19-D19<=630),"Bilan n°7",IF(AND(E19+G19-D19>630,E19+G19-D19<=720),"Bilan n°8",IF(AND(E19+G19-D19>720,E19+G19-D19<=810),"Bilan n°9",IF(AND(E19+G19-D19>810,E19+G19-D19<=900),"Bilan n°10"))))))))))) -> Bilan n°8 | H19: =IF(OR(F19="Bilan n°1",F19="Bilan n°2",F19="Bilan n°3",F19="Bilan n°4",F19="Bilan n°5",F19="Bilan n°6",F19="Bilan n°7",F19="Bilan n°8",F19="Bilan n°9",F19="Bilan n°10"),EDATE(J19,3)+G19,"-") -> 42987 | I19: 8 | J19: =IF(I19="AP","",IF(E19="-","",IF(E19="","",EDATE(E19,0)+I19))) -> 42895 | K19: =IF(H19="-","",EDATE(H19,3)+4) -> 43082
A20: 23 | D20: 42720 | E20: 42956 | F20: =IF(D20="","-",IF(E20+G20-D20<=90,"Bilan n°1",IF(AND(E20+G20-D20>90,E20+G20-D20<=180),"Bilan n°2",IF(AND(E20+G20-D20>180,E20+G20-D20<=270),"Bilan n°3",IF(AND(E20+G20-D20>270,E20+G20-D20<=360),"Bilan n°4",IF(AND(E20+G20-D20>360,E20+G20-D20<=450),"Bilan n°5",IF(AND(E20+G20-D20>450,E20+G20-D20<=540),"Bilan n°6",IF(AND(E20+G20-D20>540,E20+G20-D20<=630),"Bilan n°7",IF(AND(E20+G20-D20>630,E20+G20-D20<=720),"Bilan n°8",IF(AND(E20+G20-D20>720,E20+G20-D20<=810),"Bilan n°9",IF(AND(E20+G20-D20>810,E20+G20-D20<=900),"Bilan n°10"))))))))))) -> Bilan n°3 | H20: =IF(OR(F20="Bilan n°1",F20="Bilan n°2",F20="Bilan n°3",F20="Bilan n°4",F20="Bilan n°5",F20="Bilan n°6",F20="Bilan n°7",F20="Bilan n°8",F20="Bilan n°9",F20="Bilan n°10"),EDATE(J20,3)+G20,"-") -> 43050 | I20: 2 | J20: =IF(I20="AP","",IF(E20="-","",IF(E20="","",EDATE(E20,0)+I20))) -> 42958 | K20: =IF(H20="-","",EDATE(H20,3)+4) -> 43146
A21: 26 | D21: 42251 | E21: 42839 | F21: =IF(D21="","-",IF(E21+G21-D21<=90,"Bilan n°1",IF(AND(E21+G21-D21>90,E21+G21-D21<=180),"Bilan n°2",IF(AND(E21+G21-D21>180,E21+G21-D21<=270),"Bilan n°3",IF(AND(E21+G21-D21>270,E21+G21-D21<=360),"Bilan n°4",IF(AND(E21+G21-D21>360,E21+G21-D21<=450),"Bilan n°5",IF(AND(E21+G21-D21>450,E21+G21-D21<=540),"Bilan n°6",IF(AND(E21+G21-D21>540,E21+G21-D21<=630),"Bilan n°7",IF(AND(E21+G21-D21>630,E21+G21-D21<=720),"Bilan n°8",IF(AND(E21+G21-D21>720,E21+G21-D21<=810),"Bilan n°9",IF(AND(E21+G21-D21>810,E21+G21-D21<=900),"Bilan n°10"))))))))))) -> Bilan n°7 | H21: =IF(OR(F21="Bilan n°1",F21="Bilan n°2",F21="Bilan n°3",F21="Bilan n°4",F21="Bilan n°5",F21="Bilan n°6",F21="Bilan n°7",F21="Bilan n°8",F21="Bilan n°9",F21="Bilan n°10"),EDATE(J21,3)+G21,"-") -> 42937 | I21: 7 | J21: =IF(I21="AP","",IF(E21="-","",IF(E21="","",EDATE(E21,0)+I21))) -> 42846 | K21: =IF(H21="-","",EDATE(H21,3)+4) -> 43033
A22: 27 | D22: 42660 | E22: 42809 | F22: =IF(D22="","-",IF(E22+G22-D22<=90,"Bilan n°1",IF(AND(E22+G22-D22>90,E22+G22-D22<=180),"Bilan n°2",IF(AND(E22+G22-D22>180,E22+G22-D22<=270),"Bilan n°3",IF(AND(E22+G22-D22>270,E22+G22-D22<=360),"Bilan n°4",IF(AND(E22+G22-D22>360,E22+G22-D22<=450),"Bilan n°5",IF(AND(E22+G22-D22>450,E22+G22-D22<=540),"Bilan n°6",IF(AND(E22+G22-D22>540,E22+G22-D22<=630),"Bilan n°7",IF(AND(E22+G22-D22>630,E22+G22-D22<=720),"Bilan n°8",IF(AND(E22+G22-D22>720,E22+G22-D22<=810),"Bilan n°9",IF(AND(E22+G22-D22>810,E22+G22-D22<=900),"Bilan n°10"))))))))))) -> Bilan n°2 | H22: =IF(OR(F22="Bilan n°1",F22="Bilan n°2",F22="Bilan n°3",F22="Bilan n°4",F22="Bilan n°5",F22="Bilan n°6",F22="Bilan n°7",F22="Bilan n°8",F22="Bilan n°9",F22="Bilan n°10"),EDATE(J22,3)+G22,"-") -> 42905 | I22: 4 | J22: =IF(I22="AP","",IF(E22="-","",IF(E22="","",EDATE(E22,0)+I22))) -> 42813 | K22: =IF(H22="-","",EDATE(H22,3)+4) -> 43001
A23: 29 | D23: 42258 | E23: 42655 | F23: =IF(D23="","-",IF(E23+G23-D23<=90,"Bilan n°1",IF(AND(E23+G23-D23>90,E23+G23-D23<=180),"Bilan n°2",IF(AND(E23+G23-D23>180,E23+G23-D23<=270),"Bilan n°3",IF(AND(E23+G23-D23>270,E23+G23-D23<=360),"Bilan n°4",IF(AND(E23+G23-D23>360,E23+G23-D23<=450),"Bilan n°5",IF(AND(E23+G23-D23>450,E23+G23-D23<=540),"Bilan n°6",IF(AND(E23+G23-D23>540,E23+G23-D23<=630),"Bilan n°7",IF(AND(E23+G23-D23>630,E23+G23-D23<=720),"Bilan n°8",IF(AND(E23+G23-D23>720,E23+G23-D23<=810),"Bilan n°9",IF(AND(E23+G23-D23>810,E23+G23-D23<=900),"Bilan n°10"))))))))))) -> Bilan n°5 | H23: =IF(OR(F23="Bilan n°1",F23="Bilan n°2",F23="Bilan n°3",F23="Bilan n°4",F23="Bilan n°5",F23="Bilan n°6",F23="Bilan n°7",F23="Bilan n°8",F23="Bilan n°9",F23="Bilan n°10"),EDATE(J23,3)+G23,"-") -> 42754 | I23: 7 | J23: =IF(I23="AP","",IF(E23="-","",IF(E23="","",EDATE(E23,0)+I23))) -> 42662 | K23: =IF(H23="-","",EDATE(H23,3)+4) -> 42848
A24: 30 | D24: 42251 | E24: 42873 | F24: =IF(D24="","-",IF(E24+G24-D24<=90,"Bilan n°1",IF(AND(E24+G24-D24>90,E24+G24-D24<=180),"Bilan n°2",IF(AND(E24+G24-D24>180,E24+G24-D24<=270),"Bilan n°3",IF(AND(E24+G24-D24>270,E24+G24-D24<=360),"Bilan n°4",IF(AND(E24+G24-D24>360,E24+G24-D24<=450),"Bilan n°5",IF(AND(E24+G24-D24>450,E24+G24-D24<=540),"Bilan n°6",IF(AND(E24+G24-D24>540,E24+G24-D24<=630),"Bilan n°7",IF(AND(E24+G24-D24>630,E24+G24-D24<=720),"Bilan n°8",IF(AND(E24+G24-D24>720,E24+G24-D24<=810),"Bilan n°9",IF(AND(E24+G24-D24>810,E24+G24-D24<=900),"Bilan n°10"))))))))))) -> Bilan n°7 | H24: =IF(OR(F24="Bilan n°1",F24="Bilan n°2",F24="Bilan n°3",F24="Bilan n°4",F24="Bilan n°5",F24="Bilan n°6",F24="Bilan n°7",F24="Bilan n°8",F24="Bilan n°9",F24="Bilan n°10"),EDATE(J24,3)+G24,"-") -> 42967 | I24: 2 | J24: =IF(I24="AP","",IF(E24="-","",IF(E24="","",EDATE(E24,0)+I24))) -> 42875 | K24: =IF(H24="-","",EDATE(H24,3)+4) -> 43063
A25: 31 | D25: 42248 | E25: 42781 | F25: =IF(D25="","-",IF(E25+G25-D25<=90,"Bilan n°1",IF(AND(E25+G25-D25>90,E25+G25-D25<=180),"Bilan n°2",IF(AND(E25+G25-D25>180,E25+G25-D25<=270),"Bilan n°3",IF(AND(E25+G25-D25>270,E25+G25-D25<=360),"Bilan n°4",IF(AND(E25+G25-D25>360,E25+G25-D25<=450),"Bilan n°5",IF(AND(E25+G25-D25>450,E25+G25-D25<=540),"Bilan n°6",IF(AND(E25+G25-D25>540,E25+G25-D25<=630),"Bilan n°7",IF(AND(E25+G25-D25>630,E25+G25-D25<=720),"Bilan n°8",IF(AND(E25+G25-D25>720,E25+G25-D25<=810),"Bilan n°9",IF(AND(E25+G25-D25>810,E25+G25-D25<=900),"Bilan n°10"))))))))))) -> Bilan n°7 | G25: 60 | H25: =IF(OR(F25="Bilan n°1",F25="Bilan n°2",F25="Bilan n°3",F25="Bilan n°4",F25="Bilan n°5",F25="Bilan n°6",F25="Bilan n°7",F25="Bilan n°8",F25="Bilan n°9",F25="Bilan n°10"),EDATE(J25,3)+G25,"-") -> 42935 | I25: 5 | J25: =IF(I25="AP","",IF(E25="-","",IF(E25="","",EDATE(E25,0)+I25))) -> 42786 | K25: =IF(H25="-","",EDATE(H25,3)+4) -> 43031
A26: 34 | D26: 42609 | E26: 42866 | F26: =IF(D26="","-",IF(E26+G26-D26<=90,"Bilan n°1",IF(AND(E26+G26-D26>90,E26+G26-D26<=180),"Bilan n°2",IF(AND(E26+G26-D26>180,E26+G26-D26<=270),"Bilan n°3",IF(AND(E26+G26-D26>270,E26+G26-D26<=360),"Bilan n°4",IF(AND(E26+G26-D26>360,E26+G26-D26<=450),"Bilan n°5",IF(AND(E26+G26-D26>450,E26+G26-D26<=540),"Bilan n°6",IF(AND(E26+G26-D26>540,E26+G26-D26<=630),"Bilan n°7",IF(AND(E26+G26-D26>630,E26+G26-D26<=720),"Bilan n°8",IF(AND(E26+G26-D26>720,E26+G26-D26<=810),"Bilan n°9",IF(AND(E26+G26-D26>810,E26+G26-D26<=900),"Bilan n°10"))))))))))) -> Bilan n°4 | G26: 30 | H26: =IF(OR(F26="Bilan n°1",F26="Bilan n°2",F26="Bilan n°3",F26="Bilan n°4",F26="Bilan n°5",F26="Bilan n°6",F26="Bilan n°7",F26="Bilan n°8",F26="Bilan n°9",F26="Bilan n°10"),EDATE(J26,3)+G26,"-") -> 42992 | I26: 4 | J26: =IF(I26="AP","",IF(E26="-","",IF(E26="","",EDATE(E26,0)+I26))) -> 42870 | K26: =IF(H26="-","",EDATE(H26,3)+4) -> 43087
A27: 36 | D27: 42256 | E27: 42810 | F27: =IF(D27="","-",IF(E27+G27-D27<=90,"Bilan n°1",IF(AND(E27+G27-D27>90,E27+G27-D27<=180),"Bilan n°2",IF(AND(E27+G27-D27>180,E27+G27-D27<=270),"Bilan n°3",IF(AND(E27+G27-D27>270,E27+G27-D27<=360),"Bilan n°4",IF(AND(E27+G27-D27>360,E27+G27-D27<=450),"Bilan n°5",IF(AND(E27+G27-D27>450,E27+G27-D27<=540),"Bilan n°6",IF(AND(E27+G27-D27>540,E27+G27-D27<=630),"Bilan n°7",IF(AND(E27+G27-D27>630,E27+G27-D27<=720),"Bilan n°8",IF(AND(E27+G27-D27>720,E27+G27-D27<=810),"Bilan n°9",IF(AND(E27+G27-D27>810,E27+G27-D27<=900),"Bilan n°10"))))))))))) -> Bilan n°7 | H27: =IF(OR(F27="Bilan n°1",F27="Bilan n°2",F27="Bilan n°3",F27="Bilan n°4",F27="Bilan n°5",F27="Bilan n°6",F27="Bilan n°7",F27="Bilan n°8",F27="Bilan n°9",F27="Bilan n°10"),EDATE(J27,3)+G27,"-") -> 42910 | I27: 8 | J27: =IF(I27="AP","",IF(E27="-","",IF(E27="","",EDATE(E27,0)+I27))) -> 42818 | K27: =IF(H27="-","",EDATE(H27,3)+4) -> 43006
A28: 37 | D28: 42252 | E28: 42905 | F28: =IF(D28="","-",IF(E28+G28-D28<=90,"Bilan n°1",IF(AND(E28+G28-D28>90,E28+G28-D28<=180),"Bilan n°2",IF(AND(E28+G28-D28>180,E28+G28-D28<=270),"Bilan n°3",IF(AND(E28+G28-D28>270,E28+G28-D28<=360),"Bilan n°4",IF(AND(E28+G28-D28>360,E28+G28-D28<=450),"Bilan n°5",IF(AND(E28+G28-D28>450,E28+G28-D28<=540),"Bilan n°6",IF(AND(E28+G28-D28>540,E28+G28-D28<=630),"Bilan n°7",IF(AND(E28+G28-D28>630,E28+G28-D28<=720),"Bilan n°8",IF(AND(E28+G28-D28>720,E28+G28-D28<=810),"Bilan n°9",IF(AND(E28+G28-D28>810,E28+G28-D28<=900),"Bilan n°10"))))))))))) -> Bilan n°8 | H28: =IF(OR(F28="Bilan n°1",F28="Bilan n°2",F28="Bilan n°3",F28="Bilan n°4",F28="Bilan n°5",F28="Bilan n°6",F28="Bilan n°7",F28="Bilan n°8",F28="Bilan n°9",F28="Bilan n°10"),EDATE(J28,3)+G28,"-") -> 43001 | I28: 4 | J28: =IF(I28="AP","",IF(E28="-","",IF(E28="","",EDATE(E28,0)+I28))) -> 42909 | K28: =IF(H28="-","",EDATE(H28,3)+4) -> 43096
A29: 42 | D29: 42254 | E29: 42977 | F29: =IF(D29="","-",IF(E29+G29-D29<=90,"Bilan n°1",IF(AND(E29+G29-D29>90,E29+G29-D29<=180),"Bilan n°2",IF(AND(E29+G29-D29>180,E29+G29-D29<=270),"Bilan n°3",IF(AND(E29+G29-D29>270,E29+G29-D29<=360),"Bilan n°4",IF(AND(E29+G29-D29>360,E29+G29-D29<=450),"Bilan n°5",IF(AND(E29+G29-D29>450,E29+G29-D29<=540),"Bilan n°6",IF(AND(E29+G29-D29>540,E29+G29-D29<=630),"Bilan n°7",IF(AND(E29+G29-D29>630,E29+G29-D29<=720),"Bilan n°8",IF(AND(E29+G29-D29>720,E29+G29-D29<=810),"Bilan n°9",IF(AND(E29+G29-D29>810,E29+G29-D29<=900),"Bilan n°10"))))))))))) -> Bilan n°9 | H29: =IF(OR(F29="Bilan n°1",F29="Bilan n°2",F29="Bilan n°3",F29="Bilan n°4",F29="Bilan n°5",F29="Bilan n°6",F29="Bilan n°7",F29="Bilan n°8",F29="Bilan n°9",F29="Bilan n°10"),EDATE(J29,3)+G29,"-") -> 43070 | I29: 2 | J29: =IF(I29="AP","",IF(E29="-","",IF(E29="","",EDATE(E29,0)+I29))) -> 42979 | K29: -
A30: 45 | D30: 42611 | E30: 42811 | F30: =IF(D30="","-",IF(E30+G30-D30<=90,"Bilan n°1",IF(AND(E30+G30-D30>90,E30+G30-D30<=180),"Bilan n°2",IF(AND(E30+G30-D30>180,E30+G30-D30<=270),"Bilan n°3",IF(AND(E30+G30-D30>270,E30+G30-D30<=360),"Bilan n°4",IF(AND(E30+G30-D30>360,E30+G30-D30<=450),"Bilan n°5",IF(AND(E30+G30-D30>450,E30+G30-D30<=540),"Bilan n°6",IF(AND(E30+G30-D30>540,E30+G30-D30<=630),"Bilan n°7",IF(AND(E30+G30-D30>630,E30+G30-D30<=720),"Bilan n°8",IF(AND(E30+G30-D30>720,E30+G30-D30<=810),"Bilan n°9",IF(AND(E30+G30-D30>810,E30+G30-D30<=900),"Bilan n°10"))))))))))) -> Bilan n°3 | H30: =IF(OR(F30="Bilan n°1",F30="Bilan n°2",F30="Bilan n°3",F30="Bilan n°4",F30="Bilan n°5",F30="Bilan n°6",F30="Bilan n°7",F30="Bilan n°8",F30="Bilan n°9",F30="Bilan n°10"),EDATE(J30,3)+G30,"-") -> 42921 | I30: 19 | J30: =IF(I30="AP","",IF(E30="-","",IF(E30="","",EDATE(E30,0)+I30))) -> 42830 | K30: -
A31: 46 | D31: 42607 | E31: 42676 | F31: =IF(D31="","-",IF(E31+G31-D31<=90,"Bilan n°1",IF(AND(E31+G31-D31>90,E31+G31-D31<=180),"Bilan n°2",IF(AND(E31+G31-D31>180,E31+G31-D31<=270),"Bilan n°3",IF(AND(E31+G31-D31>270,E31+G31-D31<=360),"Bilan n°4",IF(AND(E31+G31-D31>360,E31+G31-D31<=450),"Bilan n°5",IF(AND(E31+G31-D31>450,E31+G31-D31<=540),"Bilan n°6",IF(AND(E31+G31-D31>540,E31+G31-D31<=630),"Bilan n°7",IF(AND(E31+G31-D31>630,E31+G31-D31<=720),"Bilan n°8",IF(AND(E31+G31-D31>720,E31+G31-D31<=810),"Bilan n°9",IF(AND(E31+G31-D31>810,E31+G31-D31<=900),"Bilan n°10"))))))))))) -> Bilan n°4 | G31: 250 | H31: =IF(OR(F31="Bilan n°1",F31="Bilan n°2",F31="Bilan n°3",F31="Bilan n°4",F31="Bilan n°5",F31="Bilan n°6",F31="Bilan n°7",F31="Bilan n°8",F31="Bilan n°9",F31="Bilan n°10"),EDATE(J31,3)+G31,"-") -> 43026 | I31: 8 | J31: =IF(I31="AP","",IF(E31="-","",IF(E31="","",EDATE(E31,0)+I31))) -> 42684 | K31: =IF(H31="-","",EDATE(H31,3)+4) -> 43122
A32: 47 | D32: 42611 | E32: 42772 | F32: =IF(D32="","-",IF(E32+G32-D32<=90,"Bilan n°1",IF(AND(E32+G32-D32>90,E32+G32-D32<=180),"Bilan n°2",IF(AND(E32+G32-D32>180,E32+G32-D32<=270),"Bilan n°3",IF(AND(E32+G32-D32>270,E32+G32-D32<=360),"Bilan n°4",IF(AND(E32+G32-D32>360,E32+G32-D32<=450),"Bilan n°5",IF(AND(E32+G32-D32>450,E32+G32-D32<=540),"Bilan n°6",IF(AND(E32+G32-D32>540,E32+G32-D32<=630),"Bilan n°7",IF(AND(E32+G32-D32>630,E32+G32-D32<=720),"Bilan n°8",IF(AND(E32+G32-D32>720,E32+G32-D32<=810),"Bilan n°9",IF(AND(E32+G32-D32>810,E32+G32-D32<=900),"Bilan n°10"))))))))))) -> Bilan n°2 | H32: =IF(OR(F32="Bilan n°1",F32="Bilan n°2",F32="Bilan n°3",F32="Bilan n°4",F32="Bilan n°5",F32="Bilan n°6",F32="Bilan n°7",F32="Bilan n°8",F32="Bilan n°9",F32="Bilan n°10"),EDATE(J32,3)+G32,"-") -> 42869 | I32: 8 | J32: =IF(I32="AP","",IF(E32="-","",IF(E32="","",EDATE(E32,0)+I32))) -> 42780 | K32: =IF(H32="-","",EDATE(H32,3)+4) -> 42965
A33: 51 | D33: 42618 | E33: 42985 | F33: =IF(D33="","-",IF(E33+G33-D33<=90,"Bilan n°1",IF(AND(E33+G33-D33>90,E33+G33-D33<=180),"Bilan n°2",IF(AND(E33+G33-D33>180,E33+G33-D33<=270),"Bilan n°3",IF(AND(E33+G33-D33>270,E33+G33-D33<=360),"Bilan n°4",IF(AND(E33+G33-D33>360,E33+G33-D33<=450),"Bilan n°5",IF(AND(E33+G33-D33>450,E33+G33-D33<=540),"Bilan n°6",IF(AND(E33+G33-D33>540,E33+G33-D33<=630),"Bilan n°7",IF(AND(E33+G33-D33>630,E33+G33-D33<=720),"Bilan n°8",IF(AND(E33+G33-D33>720,E33+G33-D33<=810),"Bilan n°9",IF(AND(E33+G33-D33>810,E33+G33-D33<=900),"Bilan n°10"))))))))))) -> Bilan n°5 | H33: =IF(OR(F33="Bilan n°1",F33="Bilan n°2",F33="Bilan n°3",F33="Bilan n°4",F33="Bilan n°5",F33="Bilan n°6",F33="Bilan n°7",F33="Bilan n°8",F33="Bilan n°9",F33="Bilan n°10"),EDATE(J33,3)+G33,"-") -> 43079 | I33: 3 | J33: =IF(I33="AP","",IF(E33="-","",IF(E33="","",EDATE(E33,0)+I33))) -> 42988 | K33: =IF(H33="-","",EDATE(H33,3)+4) -> 43173
A34: 52 | D34: 42261 | E34: 42635 | F34: =IF(D34="","-",IF(E34+G34-D34<=90,"Bilan n°1",IF(AND(E34+G34-D34>90,E34+G34-D34<=180),"Bilan n°2",IF(AND(E34+G34-D34>180,E34+G34-D34<=270),"Bilan n°3",IF(AND(E34+G34-D34>270,E34+G34-D34<=360),"Bilan n°4",IF(AND(E34+G34-D34>360,E34+G34-D34<=450),"Bilan n°5",IF(AND(E34+G34-D34>450,E34+G34-D34<=540),"Bilan n°6",IF(AND(E34+G34-D34>540,E34+G34-D34<=630),"Bilan n°7",IF(AND(E34+G34-D34>630,E34+G34-D34<=720),"Bilan n°8",IF(AND(E34+G34-D34>720,E34+G34-D34<=810),"Bilan n°9",IF(AND(E34+G34-D34>810,E34+G34-D34<=900),"Bilan n°10"))))))))))) -> Bilan n°6 | G34: 105 | H34: =IF(OR(F34="Bilan n°1",F34="Bilan n°2",F34="Bilan n°3",F34="Bilan n°4",F34="Bilan n°5",F34="Bilan n°6",F34="Bilan n°7",F34="Bilan n°8",F34="Bilan n°9",F34="Bilan n°10"),EDATE(J34,3)+G34,"-") -> 42835 | I34: 4 | J34: =IF(I34="AP","",IF(E34="-","",IF(E34="","",EDATE(E34,0)+I34))) -> 42639 | K34: =IF(H34="-","",EDATE(H34,3)+4) -> 42930
A35: 53 | D35: 42261 | E35: 42794 | F35: =IF(D35="","-",IF(E35+G35-D35<=90,"Bilan n°1",IF(AND(E35+G35-D35>90,E35+G35-D35<=180),"Bilan n°2",IF(AND(E35+G35-D35>180,E35+G35-D35<=270),"Bilan n°3",IF(AND(E35+G35-D35>270,E35+G35-D35<=360),"Bilan n°4",IF(AND(E35+G35-D35>360,E35+G35-D35<=450),"Bilan n°5",IF(AND(E35+G35-D35>450,E35+G35-D35<=540),"Bilan n°6",IF(AND(E35+G35-D35>540,E35+G35-D35<=630),"Bilan n°7",IF(AND(E35+G35-D35>630,E35+G35-D35<=720),"Bilan n°8",IF(AND(E35+G35-D35>720,E35+G35-D35<=810),"Bilan n°9",IF(AND(E35+G35-D35>810,E35+G35-D35<=900),"Bilan n°10"))))))))))) -> Bilan n°6 | H35: =IF(OR(F35="Bilan n°1",F35="Bilan n°2",F35="Bilan n°3",F35="Bilan n°4",F35="Bilan n°5",F35="Bilan n°6",F35="Bilan n°7",F35="Bilan n°8",F35="Bilan n°9",F35="Bilan n°10"),EDATE(J35,3)+G35,"-") -> 42890 | I35: 4 | J35: =IF(I35="AP","",IF(E35="-","",IF(E35="","",EDATE(E35,0)+I35))) -> 42798 | K35: =IF(H35="-","",EDATE(H35,3)+4) -> 42986
A36: 54 | D36: 42257 | E36: 42936 | F36: =IF(D36="","-",IF(E36+G36-D36<=90,"Bilan n°1",IF(AND(E36+G36-D36>90,E36+G36-D36<=180),"Bilan n°2",IF(AND(E36+G36-D36>180,E36+G36-D36<=270),"Bilan n°3",IF(AND(E36+G36-D36>270,E36+G36-D36<=360),"Bilan n°4",IF(AND(E36+G36-D36>360,E36+G36-D36<=450),"Bilan n°5",IF(AND(E36+G36-D36>450,E36+G36-D36<=540),"Bilan n°6",IF(AND(E36+G36-D36>540,E36+G36-D36<=630),"Bilan n°7",IF(AND(E36+G36-D36>630,E36+G36-D36<=720),"Bilan n°8",IF(AND(E36+G36-D36>720,E36+G36-D36<=810),"Bilan n°9",IF(AND(E36+G36-D36>810,E36+G36-D36<=900),"Bilan n°10"))))))))))) -> Bilan n°8 | H36: =IF(OR(F36="Bilan n°1",F36="Bilan n°2",F36="Bilan n°3",F36="Bilan n°4",F36="Bilan n°5",F36="Bilan n°6",F36="Bilan n°7",F36="Bilan n°8",F36="Bilan n°9",F36="Bilan n°10"),EDATE(J36,3)+G36,"-") -> 43033 | I36: 5 | J36: =IF(I36="AP","",IF(E36="-","",IF(E36="","",EDATE(E36,0)+I36))) -> 42941 | K36: =IF(H36="-","",EDATE(H36,3)+4) -> 43129
A37: 55 | D37: 42262 | E37: 42737 | F37: =IF(D37="","-",IF(E37+G37-D37<=90,"Bilan n°1",IF(AND(E37+G37-D37>90,E37+G37-D37<=180),"Bilan n°2",IF(AND(E37+G37-D37>180,E37+G37-D37<=270),"Bilan n°3",IF(AND(E37+G37-D37>270,E37+G37-D37<=360),"Bilan n°4",IF(AND(E37+G37-D37>360,E37+G37-D37<=450),"Bilan n°5",IF(AND(E37+G37-D37>450,E37+G37-D37<=540),"Bilan n°6",IF(AND(E37+G37-D37>540,E37+G37-D37<=630),"Bilan n°7",IF(AND(E37+G37-D37>630,E37+G37-D37<=720),"Bilan n°8",IF(AND(E37+G37-D37>720,E37+G37-D37<=810),"Bilan n°9",IF(AND(E37+G37-D37>810,E37+G37-D37<=900),"Bilan n°10"))))))))))) -> Bilan n°6 | G37: 30 | H37: =IF(OR(F37="Bilan n°1",F37="Bilan n°2",F37="Bilan n°3",F37="Bilan n°4",F37="Bilan n°5",F37="Bilan n°6",F37="Bilan n°7",F37="Bilan n°8",F37="Bilan n°9",F37="Bilan n°10"),EDATE(J37,3)+G37,"-") -> 42861 | I37: 4 | J37: =IF(I37="AP","",IF(E37="-","",IF(E37="","",EDATE(E37,0)+I37))) -> 42741 | K37: =IF(H37="-","",EDATE(H37,3)+4) -> 42957
A38: 56 | D38: 42261 | E38: 42992 | F38: =IF(D38="","-",IF(E38+G38-D38<=90,"Bilan n°1",IF(AND(E38+G38-D38>90,E38+G38-D38<=180),"Bilan n°2",IF(AND(E38+G38-D38>180,E38+G38-D38<=270),"Bilan n°3",IF(AND(E38+G38-D38>270,E38+G38-D38<=360),"Bilan n°4",IF(AND(E38+G38-D38>360,E38+G38-D38<=450),"Bilan n°5",IF(AND(E38+G38-D38>450,E38+G38-D38<=540),"Bilan n°6",IF(AND(E38+G38-D38>540,E38+G38-D38<=630),"Bilan n°7",IF(AND(E38+G38-D38>630,E38+G38-D38<=720),"Bilan n°8",IF(AND(E38+G38-D38>720,E38+G38-D38<=810),"Bilan n°9",IF(AND(E38+G38-D38>810,E38+G38-D38<=900),"Bilan n°10"))))))))))) -> Bilan n°9 | H38: =IF(OR(F38="Bilan n°1",F38="Bilan n°2",F38="Bilan n°3",F38="Bilan n°4",F38="Bilan n°5",F38="Bilan n°6",F38="Bilan n°7",F38="Bilan n°8",F38="Bilan n°9",F38="Bilan n°10"),EDATE(J38,3)+G38,"-") -> 43088 | I38: 5 | J38: =IF(I38="AP","",IF(E38="-","",IF(E38="","",EDATE(E38,0)+I38))) -> 42997 | K38: =IF(H38="-","",EDATE(H38,3)+4) -> 43182
A39: 57 | D39: 42712 | E39: 42949 | F39: =IF(D39="","-",IF(E39+G39-D39<=90,"Bilan n°1",IF(AND(E39+G39-D39>90,E39+G39-D39<=180),"Bilan n°2",IF(AND(E39+G39-D39>180,E39+G39-D39<=270),"Bilan n°3",IF(AND(E39+G39-D39>270,E39+G39-D39<=360),"Bilan n°4",IF(AND(E39+G39-D39>360,E39+G39-D39<=450),"Bilan n°5",IF(AND(E39+G39-D39>450,E39+G39-D39<=540),"Bilan n°6",IF(AND(E39+G39-D39>540,E39+G39-D39<=630),"Bilan n°7",IF(AND(E39+G39-D39>630,E39+G39-D39<=720),"Bilan n°8",IF(AND(E39+G39-D39>720,E39+G39-D39<=810),"Bilan n°9",IF(AND(E39+G39-D39>810,E39+G39-D39<=900),"Bilan n°10"))))))))))) -> Bilan n°3 | H39: =IF(OR(F39="Bilan n°1",F39="Bilan n°2",F39="Bilan n°3",F39="Bilan n°4",F39="Bilan n°5",F39="Bilan n°6",F39="Bilan n°7",F39="Bilan n°8",F39="Bilan n°9",F39="Bilan n°10"),EDATE(J39,3)+G39,"-") -> 43046 | I39: 5 | J39: =IF(I39="AP","",IF(E39="-","",IF(E39="","",EDATE(E39,0)+I39))) -> 42954 | K39: =IF(H39="-","",EDATE(H39,3)+4) -> 43142
A40: 58 | D40: 42667 | E40: 42871 | F40: =IF(D40="","-",IF(E40+G40-D40<=90,"Bilan n°1",IF(AND(E40+G40-D40>90,E40+G40-D40<=180),"Bilan n°2",IF(AND(E40+G40-D40>180,E40+G40-D40<=270),"Bilan n°3",IF(AND(E40+G40-D40>270,E40+G40-D40<=360),"Bilan n°4",IF(AND(E40+G40-D40>360,E40+G40-D40<=450),"Bilan n°5",IF(AND(E40+G40-D40>450,E40+G40-D40<=540),"Bilan n°6",IF(AND(E40+G40-D40>540,E40+G40-D40<=630),"Bilan n°7",IF(AND(E40+G40-D40>630,E40+G40-D40<=720),"Bilan n°8",IF(AND(E40+G40-D40>720,E40+G40-D40<=810),"Bilan n°9",IF(AND(E40+G40-D40>810,E40+G40-D40<=900),"Bilan n°10"))))))))))) -> Bilan n°3 | G40: 15 | H40: =IF(OR(F40="Bilan n°1",F40="Bilan n°2",F40="Bilan n°3",F40="Bilan n°4",F40="Bilan n°5",F40="Bilan n°6",F40="Bilan n°7",F40="Bilan n°8",F40="Bilan n°9",F40="Bilan n°10"),EDATE(J40,3)+G40,"-") -> 42981 | I40: 3 | J40: =IF(I40="AP","",IF(E40="-","",IF(E40="","",EDATE(E40,0)+I40))) -> 42874 | K40: =IF(H40="-","",EDATE(H40,3)+4) -> 43076
A41: 59 | D41: 42263 | E41: 42662 | F41: =IF(D41="","-",IF(E41+G41-D41<=90,"Bilan n°1",IF(AND(E41+G41-D41>90,E41+G41-D41<=180),"Bilan n°2",IF(AND(E41+G41-D41>180,E41+G41-D41<=270),"Bilan n°3",IF(AND(E41+G41-D41>270,E41+G41-D41<=360),"Bilan n°4",IF(AND(E41+G41-D41>360,E41+G41-D41<=450),"Bilan n°5",IF(AND(E41+G41-D41>450,E41+G41-D41<=540),"Bilan n°6",IF(AND(E41+G41-D41>540,E41+G41-D41<=630),"Bilan n°7",IF(AND(E41+G41-D41>630,E41+G41-D41<=720),"Bilan n°8",IF(AND(E41+G41-D41>720,E41+G41-D41<=810),"Bilan n°9",IF(AND(E41+G41-D41>810,E41+G41-D41<=900),"Bilan n°10"))))))))))) -> Bilan n°5 | H41: =IF(OR(F41="Bilan n°1",F41="Bilan n°2",F41="Bilan n°3",F41="Bilan n°4",F41="Bilan n°5",F41="Bilan n°6",F41="Bilan n°7",F41="Bilan n°8",F41="Bilan n°9",F41="Bilan n°10"),EDATE(J41,3)+G41,"-") -> 42760 | I41: 6 | J41: =IF(I41="AP","",IF(E41="-","",IF(E41="","",EDATE(E41,0)+I41))) -> 42668 | K41: =IF(H41="-","",EDATE(H41,3)+4) -> 42854
A42: 61 | D42: 42261 | E42: 42976 | F42: =IF(D42="","-",IF(E42+G42-D42<=90,"Bilan n°1",IF(AND(E42+G42-D42>90,E42+G42-D42<=180),"Bilan n°2",IF(AND(E42+G42-D42>180,E42+G42-D42<=270),"Bilan n°3",IF(AND(E42+G42-D42>270,E42+G42-D42<=360),"Bilan n°4",IF(AND(E42+G42-D42>360,E42+G42-D42<=450),"Bilan n°5",IF(AND(E42+G42-D42>450,E42+G42-D42<=540),"Bilan n°6",IF(AND(E42+G42-D42>540,E42+G42-D42<=630),"Bilan n°7",IF(AND(E42+G42-D42>630,E42+G42-D42<=720),"Bilan n°8",IF(AND(E42+G42-D42>720,E42+G42-D42<=810),"Bilan n°9",IF(AND(E42+G42-D42>810,E42+G42-D42<=900),"Bilan n°10"))))))))))) -> Bilan n°8 | H42: =IF(OR(F42="Bilan n°1",F42="Bilan n°2",F42="Bilan n°3",F42="Bilan n°4",F42="Bilan n°5",F42="Bilan n°6",F42="Bilan n°7",F42="Bilan n°8",F42="Bilan n°9",F42="Bilan n°10"),EDATE(J42,3)+G42,"-") -> 43069 | I42: 2 | J42: =IF(I42="AP","",IF(E42="-","",IF(E42="","",EDATE(E42,0)+I42))) -> 42978 | K42: =IF(H42="-","",EDATE(H42,3)+4) -> 43163
A43: 63 | D43: 42262 | E43: 42388 | F43: =IF(D43="","-",IF(E43+G43-D43<=90,"Bilan n°1",IF(AND(E43+G43-D43>90,E43+G43-D43<=180),"Bilan n°2",IF(AND(E43+G43-D43>180,E43+G43-D43<=270),"Bilan n°3",IF(AND(E43+G43-D43>270,E43+G43-D43<=360),"Bilan n°4",IF(AND(E43+G43-D43>360,E43+G43-D43<=450),"Bilan n°5",IF(AND(E43+G43-D43>450,E43+G43-D43<=540),"Bilan n°6",IF(AND(E43+G43-D43>540,E43+G43-D43<=630),"Bilan n°7",IF(AND(E43+G43-D43>630,E43+G43-D43<=720),"Bilan n°8",IF(AND(E43+G43-D43>720,E43+G43-D43<=810),"Bilan n°9",IF(AND(E43+G43-D43>810,E43+G43-D43<=900),"Bilan n°10"))))))))))) -> Bilan n°2 | H43: =IF(OR(F43="Bilan n°1",F43="Bilan n°2",F43="Bilan n°3",F43="Bilan n°4",F43="Bilan n°5",F43="Bilan n°6",F43="Bilan n°7",F43="Bilan n°8",F43="Bilan n°9",F43="Bilan n°10"),EDATE(J43,3)+G43,"-") -> 42483 | I43: 4 | J43: =IF(I43="AP","",IF(E43="-","",IF(E43="","",EDATE(E43,0)+I43))) -> 42392 | K43: =IF(H43="-","",EDATE(H43,3)+4) -> 42578
...

Sheet Synthèse prog à modifer 
G1: Synthèse du suivi adhérent
J5: Prochains bilans
I6: N° adhérent | J6: Sportif | K6: Ostéopathie | L6: Diététique
I7: {=INDEX(Suivi!A7:H100009,MATCH($C$10,Suivi!H7:H100009,0),1)} -> 37 | J7: =VLOOKUP($C$10,Suivi!H7:H100009,1,0) -> 43001 | K7: =VLOOKUP(C10,Suivi!A7:K746,15,FALSE) -> #N/A | L7: =VLOOKUP(C10,Suivi!A7:L746,19,FALSE) -> #N/A
I8: {=INDEX(Suivi!A8:H100010,MATCH($C$10,Suivi!H8:H100010,0),1)} -> 37 | J8: =DCOUNTA(Suivi!A7:X550,"",$C$10) -> #VALUE! | K8: =IF(K7<TODAY(),"A modifier","A jour") -> #N/A | L8: =IF(L7<TODAY(),"A modifier","A jour") -> #N/A
B9: Saisir la date | I9: {=INDEX(Suivi!A9:H100011,MATCH($C$10,Suivi!H9:H100011,0),1)} -> 37 | J9: =DCOUNTA(Suivi!H8:H551,"Prochain Bilan",$C$10) -> #VALUE!
C10: 43001 | I10: {=INDEX(Suivi!A10:H100012,MATCH($C$10,Suivi!H10:H100012,0),1)} -> 37 | J10: =DCOUNTA(Suivi!H9:H552,"Prochain Bilan",$C$10) -> #VALUE!
J11: =IF($C$10=TODAY(),VLOOKUP($C$10,Suivi!H11:H564,1,FALSE)) -> FALSE
J12: =IF($C$10=TODAY(),VLOOKUP($C$10,Suivi!H12:H565,1,FALSE)) -> FALSE
J13: =IF($C$10=TODAY(),VLOOKUP($C$10,Suivi!H13:H566,1,FALSE)) -> FALSE
J14: =IF($C$10=TODAY(),VLOOKUP($C$10,Suivi!H14:H567,1,FALSE)) -> FALSE
A15: > | B15: =HYPERLINK("https://docs.google.com/spreadsheets/d/14rCsf97RoLu4mhCMOx6ZP1XyOG5qdf403L32alGrM08/edit#rangeid=167878040","Modifier date bilan sportif") -> Modifier date bilan sportif | F15: < | J15: =IF($C$10=TODAY(),VLOOKUP($C$10,Suivi!H15:H568,1,FALSE)) -> FALSE
A16: > | B16: =HYPERLINK("https://docs.google.com/spreadsheets/d/14rCsf97RoLu4mhCMOx6ZP1XyOG5qdf403L32alGrM08/edit#rangeid=342671740","Modifier date séance coaching") -> Modifier date séance coaching | F16: <
A17: > | B17: =HYPERLINK("https://docs.google.com/spreadsheets/d/14rCsf97RoLu4mhCMOx6ZP1XyOG5qdf403L32alGrM08/edit#rangeid=247250017","Insérer un report") -> Insérer un report | F17: <
