Workbook

Sheet Suivi
B2: SUIVI TRIMESTRIEL DES BILANS | H2: AP= | I2: A programmer
D5: - INFOS - | E5: - SPORTIF - | I5: - COACHING -
A6: N° | B6: NOM | C6: Prénom | D6: Inscription | E6: Bilan actuel | F6: Bilan fait | G6: Report (jours) | H6: Prochain bilan | I6: Ajust. | J6: Séance actuelle | K6: Prochaine séance coaching
A7: 1 | B7: DAVID | C7: Martin | D7: 42315 | E7: 42871 | F7: =IF(D7="","-",IF(E7+G7-D7<=90,"Bilan n°1",IF(AND(E7+G7-D7>90,E7+G7-D7<=180),"Bilan n°2",IF(AND(E7+G7-D7>180,E7+G7-D7<=270),"Bilan n°3",IF(AND(E7+G7-D7>270,E7+G7-D7<=360),"Bilan n°4",IF(AND(E7+G7-D7>360,E7+G7-D7<=450),"Bilan n°5",IF(AND(E7+G7-D7>450,E7+G7-D7<=540),"Bilan n°6",IF(AND(E7+G7-D7>540,E7+G7-D7<=630),"Bilan n°7",IF(AND(E7+G7-D7>630,E7+G7-D7<=720),"Bilan n°8",IF(AND(E7+G7-D7>720,E7+G7-D7<=810),"Bilan n°9",IF(AND(E7+G7-D7>810,E7+G7-D7<=900),"Bilan n°10"))))))))))) -> Bilan n°7 | H7: =IF(OR(F7="Bilan n°1",F7="Bilan n°2",F7="Bilan n°3",F7="Bilan n°4",F7="Bilan n°5",F7="Bilan n°6",F7="Bilan n°7",F7="Bilan n°8",F7="Bilan n°9",F7="Bilan n°10"),EDATE(J7,3)+G7,"-") -> 42967 | I7: 4 | J7: =IF(I7="AP","",IF(E7="-","",IF(E7="","",EDATE(E7,0)+I7))) -> 42875 | K7: =IF(H7="-","",EDATE(H7,3)+4) -> 43063
A8: 3 | B8: MARTIN | C8: David | D8: 42978 | E8: 43005 | F8: =IF(D8="","-",IF(E8+G8-D8<=90,"Bilan n°1",IF(AND(E8+G8-D8>90,E8+G8-D8<=180),"Bilan n°2",IF(AND(E8+G8-D8>180,E8+G8-D8<=270),"Bilan n°3",IF(AND(E8+G8-D8>270,E8+G8-D8<=360),"Bilan n°4",IF(AND(E8+G8-D8>360,E8+G8-D8<=450),"Bilan n°5",IF(AND(E8+G8-D8>450,E8+G8-D8<=540),"Bilan n°6",IF(AND(E8+G8-D8>540,E8+G8-D8<=630),"Bilan n°7",IF(AND(E8+G8-D8>630,E8+G8-D8<=720),"Bilan n°8",IF(AND(E8+G8-D8>720,E8+G8-D8<=810),"Bilan n°9",IF(AND(E8+G8-D8>810,E8+G8-D8<=900),"Bilan n°10"))))))))))) -> Bilan n°1 | H8: =IF(OR(F8="Bilan n°1",F8="Bilan n°2",F8="Bilan n°3",F8="Bilan n°4",F8="Bilan n°5",F8="Bilan n°6",F8="Bilan n°7",F8="Bilan n°8",F8="Bilan n°9",F8="Bilan n°10"),EDATE(J8,3)+G8,"-") -> 43098 | I8: 2 | J8: =IF(I8="AP","",IF(E8="-","",IF(E8="","",EDATE(E8,0)+I8))) -> 43007 | K8: =IF(H8="-","",EDATE(H8,3)+4) -> 43192
A9: 5 | B9: MALJRO | C9: Florent | D9: 42254 | E9: 42912 | F9: =IF(D9="","-",IF(E9+G9-D9<=90,"Bilan n°1",IF(AND(E9+G9-D9>90,E9+G9-D9<=180),"Bilan n°2",IF(AND(E9+G9-D9>180,E9+G9-D9<=270),"Bilan n°3",IF(AND(E9+G9-D9>270,E9+G9-D9<=360),"Bilan n°4",IF(AND(E9+G9-D9>360,E9+G9-D9<=450),"Bilan n°5",IF(AND(E9+G9-D9>450,E9+G9-D9<=540),"Bilan n°6",IF(AND(E9+G9-D9>540,E9+G9-D9<=630),"Bilan n°7",IF(AND(E9+G9-D9>630,E9+G9-D9<=720),"Bilan n°8",IF(AND(E9+G9-D9>720,E9+G9-D9<=810),"Bilan n°9",IF(AND(E9+G9-D9>810,E9+G9-D9<=900),"Bilan n°10"))))))))))) -> Bilan n°8 | H9: =IF(OR(F9="Bilan n°1",F9="Bilan n°2",F9="Bilan n°3",F9="Bilan n°4",F9="Bilan n°5",F9="Bilan n°6",F9="Bilan n°7",F9="Bilan n°8",F9="Bilan n°9",F9="Bilan n°10"),EDATE(J9,3)+G9,"-") -> 43030 | I9: 26 | J9: =IF(I9="AP","",IF(E9="-","",IF(E9="","",EDATE(E9,0)+I9))) -> 42938 | K9: =IF(H9="-","",EDATE(H9,3)+4) -> 43126
A10: 6 | B10: LORAIN | C10: Kévin | D10: 42888 | E10: 42890 | F10: =IF(D10="","-",IF(E10+G10-D10<=90,"Bilan n°1",IF(AND(E10+G10-D10>90,E10+G10-D10<=180),"Bilan n°2",IF(AND(E10+G10-D10>180,E10+G10-D10<=270),"Bilan n°3",IF(AND(E10+G10-D10>270,E10+G10-D10<=360),"Bilan n°4",IF(AND(E10+G10-D10>360,E10+G10-D10<=450),"Bilan n°5",IF(AND(E10+G10-D10>450,E10+G10-D10<=540),"Bilan n°6",IF(AND(E10+G10-D10>540,E10+G10-D10<=630),"Bilan n°7",IF(AND(E10+G10-D10>630,E10+G10-D10<=720),"Bilan n°8",IF(AND(E10+G10-D10>720,E10+G10-D10<=810),"Bilan n°9",IF(AND(E10+G10-D10>810,E10+G10-D10<=900),"Bilan n°10"))))))))))) -> Bilan n°1 | H10: =IF(OR(F10="Bilan n°1",F10="Bilan n°2",F10="Bilan n°3",F10="Bilan n°4",F10="Bilan n°5",F10="Bilan n°6",F10="Bilan n°7",F10="Bilan n°8",F10="Bilan n°9",F10="Bilan n°10"),EDATE(J10,3)+G10,"-") -> 42986 | I10: 4 | J10: =IF(I10="AP","",IF(E10="-","",IF(E10="","",EDATE(E10,0)+I10))) -> 42894 | K10: =IF(H10="-","",EDATE(H10,3)+4) -> 43081
A11: 13 | B11: POER | C11: Benjamin | D11: 42621 | E11: 42928 | F11: =IF(D11="","-",IF(E11+G11-D11<=90,"Bilan n°1",IF(AND(E11+G11-D11>90,E11+G11-D11<=180),"Bilan n°2",IF(AND(E11+G11-D11>180,E11+G11-D11<=270),"Bilan n°3",IF(AND(E11+G11-D11>270,E11+G11-D11<=360),"Bilan n°4",IF(AND(E11+G11-D11>360,E11+G11-D11<=450),"Bilan n°5",IF(AND(E11+G11-D11>450,E11+G11-D11<=540),"Bilan n°6",IF(AND(E11+G11-D11>540,E11+G11-D11<=630),"Bilan n°7",IF(AND(E11+G11-D11>630,E11+G11-D11<=720),"Bilan n°8",IF(AND(E11+G11-D11>720,E11+G11-D11<=810),"Bilan n°9",IF(AND(E11+G11-D11>810,E11+G11-D11<=900),"Bilan n°10"))))))))))) -> Bilan n°4 | H11: =IF(OR(F11="Bilan n°1",F11="Bilan n°2",F11="Bilan n°3",F11="Bilan n°4",F11="Bilan n°5",F11="Bilan n°6",F11="Bilan n°7",F11="Bilan n°8",F11="Bilan n°9",F11="Bilan n°10"),EDATE(J11,3)+G11,"-") -> 43026 | I11: 6 | J11: 42934 | K11: =IF(H11="-","",EDATE(H11,3)+4) -> 43122
A12: 15 | D12: 42254 | E12: 42885 | F12: =IF(D12="","-",IF(E12+G12-D12<=90,"Bilan n°1",IF(AND(E12+G12-D12>90,E12+G12-D12<=180),"Bilan n°2",IF(AND(E12+G12-D12>180,E12+G12-D12<=270),"Bilan n°3",IF(AND(E12+G12-D12>270,E12+G12-D12<=360),"Bilan n°4",IF(AND(E12+G12-D12>360,E12+G12-D12<=450),"Bilan n°5",IF(AND(E12+G12-D12>450,E12+G12-D12<=540),"Bilan n°6",IF(AND(E12+G12-D12>540,E12+G12-D12<=630),"Bilan n°7",IF(AND(E12+G12-D12>630,E12+G12-D12<=720),"Bilan n°8",IF(AND(E12+G12-D12>720,E12+G12-D12<=810),"Bilan n°9",IF(AND(E12+G12-D12>810,E12+G12-D12<=900),"Bilan n°10"))))))))))) -> Bilan n°8 | H12: =IF(OR(F12="Bilan n°1",F12="Bilan n°2",F12="Bilan n°3",F12="Bilan n°4",F12="Bilan n°5",F12="Bilan n°6",F12="Bilan n°7",F12="Bilan n°8",F12="Bilan n°9",F12="Bilan n°10"),EDATE(J12,3)+G12,"-") -> 42980 | I12: 3 | J12: =IF(I12="AP","",IF(E12="-","",IF(E12="","",EDATE(E12,0)+I12))) -> 42888 | K12: =IF(H12="-","",EDATE(H12,3)+4) -> 43075
A13: 16 | D13: 42254 | E13: 42885 | F13: =IF(D13="","-",IF(E13+G13-D13<=90,"Bilan n°1",IF(AND(E13+G13-D13>90,E13+G13-D13<=180),"Bilan n°2",IF(AND(E13+G13-D13>180,E13+G13-D13<=270),"Bilan n°3",IF(AND(E13+G13-D13>270,E13+G13-D13<=360),"Bilan n°4",IF(AND(E13+G13-D13>360,E13+G13-D13<=450),"Bilan n°5",IF(AND(E13+G13-D13>450,E13+G13-D13<=540),"Bilan n°6",IF(AND(E13+G13-D13>540,E13+G13-D13<=630),"Bilan n°7",IF(AND(E13+G13-D13>630,E13+G13-D13<=720),"Bilan n°8",IF(AND(E13+G13-D13>720,E13+G13-D13<=810),"Bilan n°9",IF(AND(E13+G13-D13>810,E13+G13-D13<=900),"Bilan n°10"))))))))))) -> Bilan n°8 | H13: =IF(OR(F13="Bilan n°1",F13="Bilan n°2",F13="Bilan n°3",F13="Bilan n°4",F13="Bilan n°5",F13="Bilan n°6",F13="Bilan n°7",F13="Bilan n°8",F13="Bilan n°9",F13="Bilan n°10"),EDATE(J13,3)+G13,"-") -> 42979 | I13: 2 | J13: =IF(I13="AP","",IF(E13="-","",IF(E13="","",EDATE(E13,0)+I13))) -> 42887 | K13: =IF(H13="-","",EDATE(H13,3)+4) -> 43074
A14: 17 | D14: 42248 | E14: 42887 | F14: =IF(D14="","-",IF(E14+G14-D14<=90,"Bilan n°1",IF(AND(E14+G14-D14>90,E14+G14-D14<=180),"Bilan n°2",IF(AND(E14+G14-D14>180,E14+G14-D14<=270),"Bilan n°3",IF(AND(E14+G14-D14>270,E14+G14-D14<=360),"Bilan n°4",IF(AND(E14+G14-D14>360,E14+G14-D14<=450),"Bilan n°5",IF(AND(E14+G14-D14>450,E14+G14-D14<=540),"Bilan n°6",IF(AND(E14+G14-D14>540,E14+G14-D14<=630),"Bilan n°7",IF(AND(E14+G14-D14>630,E14+G14-D14<=720),"Bilan n°8",IF(AND(E14+G14-D14>720,E14+G14-D14<=810),"Bilan n°9",IF(AND(E14+G14-D14>810,E14+G14-D14<=900),"Bilan n°10"))))))))))) -> Bilan n°8 | G14: 40 | H14: =IF(OR(F14="Bilan n°1",F14="Bilan n°2",F14="Bilan n°3",F14="Bilan n°4",F14="Bilan n°5",F14="Bilan n°6",F14="Bilan n°7",F14="Bilan n°8",F14="Bilan n°9",F14="Bilan n°10"),EDATE(J14,3)+G14,"-") -> 43025 | I14: 6 | J14: =IF(I14="AP","",IF(E14="-","",IF(E14="","",EDATE(E14,0)+I14))) -> 42893 | K14: =IF(H14="-","",EDATE(H14,3)+4) -> 43121
A15: 18 | D15: 42647 | E15: 42894 | F15: =IF(D15="","-",IF(E15+G15-D15<=90,"Bilan n°1",IF(AND(E15+G15-D15>90,E15+G15-D15<=180),"Bilan n°2",IF(AND(E15+G15-D15>180,E15+G15-D15<=270),"Bilan n°3",IF(AND(E15+G15-D15>270,E15+G15-D15<=360),"Bilan n°4",IF(AND(E15+G15-D15>360,E15+G15-D15<=450),"Bilan n°5",IF(AND(E15+G15-D15>450,E15+G15-D15<=540),"Bilan n°6",IF(AND(E15+G15-D15>540,E15+G15-D15<=630),"Bilan n°7",IF(AND(E15+G15-D15>630,E15+G15-D15<=720),"Bilan n°8",IF(AND(E15+G15-D15>720,E15+G15-D15<=810),"Bilan n°9",IF(AND(E15+G15-D15>810,E15+G15-D15<=900),"Bilan n°10"))))))))))) -> Bilan n°3 | H15: =IF(OR(F15="Bilan n°1",F15="Bilan n°2",F15="Bilan n°3",F15="Bilan n°4",F15="Bilan n°5",F15="Bilan n°6",F15="Bilan n°7",F15="Bilan n°8",F15="Bilan n°9",F15="Bilan n°10"),EDATE(J15,3)+G15,"-") -> 43014 | I15: 28 | J15: =IF(I15="AP","",IF(E15="-","",IF(E15="","",EDATE(E15,0)+I15))) -> 42922 | K15: =IF(H15="-","",EDATE(H15,3)+4) -> 43110
A16: 19 | D16: 42247 | E16: 42682 | F16: =IF(D16="","-",IF(E16+G16-D16<=90,"Bilan n°1",IF(AND(E16+G16-D16>90,E16+G16-D16<=180),"Bilan n°2",IF(AND(E16+G16-D16>180,E16+G16-D16<=270),"Bilan n°3",IF(AND(E16+G16-D16>270,E16+G16-D16<=360),"Bilan n°4",IF(AND(E16+G16-D16>360,E16+G16-D16<=450),"Bilan n°5",IF(AND(E16+G16-D16>450,E16+G16-D16<=540),"Bilan n°6",IF(AND(E16+G16-D16>540,E16+G16-D16<=630),"Bilan n°7",IF(AND(E16+G16-D16>630,E16+G16-D16<=720),"Bilan n°8",IF(AND(E16+G16-D16>720,E16+G16-D16<=810),"Bilan n°9",IF(AND(E16+G16-D16>810,E16+G16-D16<=900),"Bilan n°10"))))))))))) -> Bilan n°5 | H16: =IF(OR(F16="Bilan n°1",F16="Bilan n°2",F16="Bilan n°3",F16="Bilan n°4",F16="Bilan n°5",F16="Bilan n°6",F16="Bilan n°7",F16="Bilan n°8",F16="Bilan n°9",F16="Bilan n°10"),EDATE(J16,3)+G16,"-") -> 42778 | I16: 4 | J16: =IF(I16="AP","",IF(E16="-","",IF(E16="","",EDATE(E16,0)+I16))) -> 42686 | K16: =IF(H16="-","",EDATE(H16,3)+4) -> 42871
A17: 20 | D17: 42248 | E17: 42559 | F17: =IF(D17="","-",IF(E17+G17-D17<=90,"Bilan n°1",IF(AND(E17+G17-D17>90,E17+G17-D17<=180),"Bilan n°2",IF(AND(E17+G17-D17>180,E17+G17-D17<=270),"Bilan n°3",IF(AND(E17+G17-D17>270,E17+G17-D17<=360),"Bilan n°4",IF(AND(E17+G17-D17>360,E17+G17-D17<=450),"Bilan n°5",IF(AND(E17+G17-D17>450,E17+G17-D17<=540),"Bilan n°6",IF(AND(E17+G17-D17>540,E17+G17-D17<=630),"Bilan n°7",IF(AND(E17+G17-D17>630,E17+G17-D17<=720),"Bilan n°8",IF(AND(E17+G17-D17>720,E17+G17-D17<=810),"Bilan n°9",IF(AND(E17+G17-D17>810,E17+G17-D17<=900),"Bilan n°10"))))))))))) -> Bilan n°4 | H17: =IF(OR(F17="Bilan n°1",F17="Bilan n°2",F17="Bilan n°3",F17="Bilan n°4",F17="Bilan n°5",F17="Bilan n°6",F17="Bilan n°7",F17="Bilan n°8",F17="Bilan n°9",F17="Bilan n°10"),EDATE(J17,3)+G17,"-") -> 42655 | I17: 4 | J17: =IF(I17="AP","",IF(E17="-","",IF(E17="","",EDATE(E17,0)+I17))) -> 42563 | K17: =IF(H17="-","",EDATE(H17,3)+4) -> 42751
A18: 21 | D18: 42241 | E18: 43014 | F18: =IF(D18="","-",IF(E18+G18-D18<=90,"Bilan n°1",IF(AND(E18+G18-D18>90,E18+G18-D18<=180),"Bilan n°2",IF(AND(E18+G18-D18>180,E18+G18-D18<=270),"Bilan n°3",IF(AND(E18+G18-D18>270,E18+G18-D18<=360),"Bilan n°4",IF(AND(E18+G18-D18>360,E18+G18-D18<=450),"Bilan n°5",IF(AND(E18+G18-D18>450,E18+G18-D18<=540),"Bilan n°6",IF(AND(E18+G18-D18>540,E18+G18-D18<=630),"Bilan n°7",IF(AND(E18+G18-D18>630,E18+G18-D18<=720),"Bilan n°8",IF(AND(E18+G18-D18>720,E18+G18-D18<=810),"Bilan n°9",IF(AND(E18+G18-D18>810,E18+G18-D18<=900),"Bilan n°10"))))))))))) -> Bilan n°9 | H18: =IF(OR(F18="Bilan n°1",F18="Bilan n°2",F18="Bilan n°3",F18="Bilan n°4",F18="Bilan n°5",F18="Bilan n°6",F18="Bilan n°7",F18="Bilan n°8",F18="Bilan n°9",F18="Bilan n°10"),EDATE(J18,3)+G18,"-") -> 43109 | I18: 3 | J18: =IF(I18="AP","",IF(E18="-","",IF(E18="","",EDATE(E18,0)+I18))) -> 43017 | K18: =IF(H18="-","",EDATE(H18,3)+4) -> 43203
A19: 22 | D19: 42249 | E19: 42887 | F19: =IF(D19="","-",IF(E19+G19-D19<=90,"Bilan n°1",IF(AND(E19+G19-D19>90,E19+G19-D19<=180),"Bilan n°2",IF(AND(E19+G19-D19>180,E19+G19-D19<=270),"Bilan n°3",IF(AND(E19+G19-D19>270,E19+G19-D19<=360),"Bilan n°4",IF(AND(E19+G19-D19>360,E19+G19-D19<=450),"Bilan n°5",IF(AND(E19+G19-D19>450,E19+G19-D19<=540),"Bilan n°6",IF(AND(E19+G19-D19>540,E19+G19-D19<=630),"Bilan n°7",IF(AND(E19+G19-D19>630,E19+G19-D19<=720),"Bilan n°8",IF(AND(E19+G19-D19>720,E19+G19-D19<=810),"Bilan n°9",IF(AND(E19+G19-D19>810,E19+G19-D19<=900),"Bilan n°10"))))))))))) -> Bilan n°8 | H19: =IF(OR(F19="Bilan n°1",F19="Bilan n°2",F19="Bilan n°3",F19="Bilan n°4",F19="Bilan n°5",F19="Bilan n°6",F19="Bilan n°7",F19="Bilan n°8",F19="Bilan n°9",F19="Bilan n°10"),EDATE(J19,3)+G19,"-") -> 42987 | I19: 8 | J19: =IF(I19="AP","",IF(E19="-","",IF(E19="","",EDATE(E19,0)+I19))) -> 42895 | K19: =IF(H19="-","",EDATE(H19,3)+4) -> 43082
A20: 23 | D20: 42720 | E20: 42956 | F20: =IF(D20="","-",IF(E20+G20-D20<=90,"Bilan n°1",IF(AND(E20+G20-D20>90,E20+G20-D20<=180),"Bilan n°2",IF(AND(E20+G20-D20>180,E20+G20-D20<=270),"Bilan n°3",IF(AND(E20+G20-D20>270,E20+G20-D20<=360),"Bilan n°4",IF(AND(E20+G20-D20>360,E20+G20-D20<=450),"Bilan n°5",IF(AND(E20+G20-D20>450,E20+G20-D20<=540),"Bilan n°6",IF(AND(E20+G20-D20>540,E20+G20-D20<=630),"Bilan n°7",IF(AND(E20+G20-D20>630,E20+G20-D20<=720),"Bilan n°8",IF(AND(E20+G20-D20>720,E20+G20-D20<=810),"Bilan n°9",IF(AND(E20+G20-D20>810,E20+G20-D20<=900),"Bilan n°10"))))))))))) -> Bilan n°3 | H20: =IF(OR(F20="Bilan n°1",F20="Bilan n°2",F20="Bilan n°3",F20="Bilan n°4",F20="Bilan n°5",F20="Bilan n°6",F20="Bilan n°7",F20="Bilan n°8",F20="Bilan n°9",F20="Bilan n°10"),EDATE(J20,3)+G20,"-") -> 43050 | I20: 2 | J20: =IF(I20="AP","",IF(E20="-","",IF(E20="","",EDATE(E20,0)+I20))) -> 42958 | K20: =IF(H20="-","",EDATE(H20,3)+4) -> 43146
A21: 26 | D21: 42251 | E21: 42839 | F21: =IF(D21="","-",IF(E21+G21-D21<=90,"Bilan n°1",IF(AND(E21+G21-D21>90,E21+G21-D21<=180),"Bilan n°2",IF(AND(E21+G21-D21>180,E21+G21-D21<=270),"Bilan n°3",IF(AND(E21+G21-D21>270,E21+G21-D21<=360),"Bilan n°4",IF(AND(E21+G21-D21>360,E21+G21-D21<=450),"Bilan n°5",IF(AND(E21+G21-D21>450,E21+G21-D21<=540),"Bilan n°6",IF(AND(E21+G21-D21>540,E21+G21-D21<=630),"Bilan n°7",IF(AND(E21+G21-D21>630,E21+G21-D21<=720),"Bilan n°8",IF(AND(E21+G21-D21>720,E21+G21-D21<=810),"Bilan n°9",IF(AND(E21+G21-D21>810,E21+G21-D21<=900),"Bilan n°10"))))))))))) -> Bilan n°7 | H21: =IF(OR(F21="Bilan n°1",F21="Bilan n°2",F21="Bilan n°3",F21="Bilan n°4",F21="Bilan n°5",F21="Bilan n°6",F21="Bilan n°7",F21="Bilan n°8",F21="Bilan n°9",F21="Bilan n°10"),EDATE(J21,3)+G21,"-") -> 42937 | I21: 7 | J21: =IF(I21="AP","",IF(E21="-","",IF(E21="","",EDATE(E21,0)+I21))) -> 42846 | K21: =IF(H21="-","",EDATE(H21,3)+4) -> 43033
A22: 27 | D22: 42660 | E22: 42809 | F22: =IF(D22="","-",IF(E22+G22-D22<=90,"Bilan n°1",IF(AND(E22+G22-D22>90,E22+G22-D22<=180),"Bilan n°2",IF(AND(E22+G22-D22>180,E22+G22-D22<=270),"Bilan n°3",IF(AND(E22+G22-D22>270,E22+G22-D22<=360),"Bilan n°4",IF(AND(E22+G22-D22>360,E22+G22-D22<=450),"Bilan n°5",IF(AND(E22+G22-D22>450,E22+G22-D22<=540),"Bilan n°6",IF(AND(E22+G22-D22>540,E22+G22-D22<=630),"Bilan n°7",IF(AND(E22+G22-D22>630,E22+G22-D22<=720),"Bilan n°8",IF(AND(E22+G22-D22>720,E22+G22-D22<=810),"Bilan n°9",IF(AND(E22+G22-D22>810,E22+G22-D22<=900),"Bilan n°10"))))))))))) -> Bilan n°2 | H22: =IF(OR(F22="Bilan n°1",F22="Bilan n°2",F22="Bilan n°3",F22="Bilan n°4",F22="Bilan n°5",F22="Bilan n°6",F22="Bilan n°7",F22="Bilan n°8",F22="Bilan n°9",F22="Bilan n°10"),EDATE(J22,3)+G22,"-") -> 42905 | I22: 4 | J22: =IF(I22="AP","",IF(E22="-","",IF(E22="","",EDATE(E22,0)+I22))) -> 42813 | K22: =IF(H22="-","",EDATE(H22,3)+4) -> 43001
A23: 29 | D23: 42258 | E23: 42655 | F23: =IF(D23="","-",IF(E23+G23-D23<=90,"Bilan n°1",IF(AND(E23+G23-D23>90,E23+G23-D23<=180),"Bilan n°2",IF(AND(E23+G23-D23>180,E23+G23-D23<=270),"Bilan n°3",IF(AND(E23+G23-D23>270,E23+G23-D23<=360),"Bilan n°4",IF(AND(E23+G23-D23>360,E23+G23-D23<=450),"Bilan n°5",IF(AND(E23+G23-D23>450,E23+G23-D23<=540),"Bilan n°6",IF(AND(E23+G23-D23>540,E23+G23-D23<=630),"Bilan n°7",IF(AND(E23+G23-D23>630,E23+G23-D23<=720),"Bilan n°8",IF(AND(E23+G23-D23>720,E23+G23-D23<=810),"Bilan n°9",IF(AND(E23+G23-D23>810,E23+G23-D23<=900),"Bilan n°10"))))))))))) -> Bilan n°5 | H23: =IF(OR(F23="Bilan n°1",F23="Bilan n°2",F23="Bilan n°3",F23="Bilan n°4",F23="Bilan n°5",F23="Bilan n°6",F23="Bilan n°7",F23="Bilan n°8",F23="Bilan n°9",F23="Bilan n°10"),EDATE(J23,3)+G23,"-") -> 42754 | I23: 7 | J23: =IF(I23="AP","",IF(E23="-","",IF(E23="","",EDATE(E23,0)+I23))) -> 42662 | K23: =IF(H23="-","",EDATE(H23,3)+4) -> 42848
A24: 30 | D24: 42251 | E24: 42873 | F24: =IF(D24="","-",IF(E24+G24-D24<=90,"Bilan n°1",IF(AND(E24+G24-D24>90,E24+G24-D24<=180),"Bilan n°2",IF(AND(E24+G24-D24>180,E24+G24-D24<=270),"Bilan n°3",IF(AND(E24+G24-D24>270,E24+G24-D24<=360),"Bilan n°4",IF(AND(E24+G24-D24>360,E24+G24-D24<=450),"Bilan n°5",IF(AND(E24+G24-D24>450,E24+G24-D24<=540),"Bilan n°6",IF(AND(E24+G24-D24>540,E24+G24-D24<=630),"Bilan n°7",IF(AND(E24+G24-D24>630,E24+G24-D24<=720),"Bilan n°8",IF(AND(E24+G24-D24>720,E24+G24-D24<=810),"Bilan n°9",IF(AND(E24+G24-D24>810,E24+G24-D24<=900),"Bilan n°10"))))))))))) -> Bilan n°7 | H24: =IF(OR(F24="Bilan n°1",F24="Bilan n°2",F24="Bilan n°3",F24="Bilan n°4",F24="Bilan n°5",F24="Bilan n°6",F24="Bilan n°7",F24="Bilan n°8",F24="Bilan n°9",F24="Bilan n°10"),EDATE(J24,3)+G24,"-") -> 42967 | I24: 2 | J24: =IF(I24="AP","",IF(E24="-","",IF(E24="","",EDATE(E24,0)+I24))) -> 42875 | K24: =IF(H24="-","",EDATE(H24,3)+4) -> 43063
A25: 31 | D25: 42248 | E25: 42781 | F25: =IF(D25="","-",IF(E25+G25-D25<=90,"Bilan n°1",IF(AND(E25+G25-D25>90,E25+G25-D25<=180),"Bilan n°2",IF(AND(E25+G25-D25>180,E25+G25-D25<=270),"Bilan n°3",IF(AND(E25+G25-D25>270,E25+G25-D25<=360),"Bilan n°4",IF(AND(E25+G25-D25>360,E25+G25-D25<=450),"Bilan n°5",IF(AND(E25+G25-D25>450,E25+G25-D25<=540),"Bilan n°6",IF(AND(E25+G25-D25>540,E25+G25-D25<=630),"Bilan n°7",IF(AND(E25+G25-D25>630,E25+G25-D25<=720),"Bilan n°8",IF(AND(E25+G25-D25>720,E25+G25-D25<=810),"Bilan n°9",IF(AND(E25+G25-D25>810,E25+G25-D25<=900),"Bilan n°10"))))))))))) -> Bilan n°7 | G25: 60 | H25: =IF(OR(F25="Bilan n°1",F25="Bilan n°2",F25="Bilan n°3",F25="Bilan n°4",F25="Bilan n°5",F25="Bilan n°6",F25="Bilan n°7",F25="Bilan n°8",F25="Bilan n°9",F25="Bilan n°10"),EDATE(J25,3)+G25,"-") -> 42935 | I25: 5 | J25: =IF(I25="AP","",IF(E25="-","",IF(E25="","",EDATE(E25,0)+I25))) -> 42786 | K25: =IF(H25="-","",EDATE(H25,3)+4) -> 43031
A26: 34 | D26: 42609 | E26: 42866 | F26: =IF(D26="","-",IF(E26+G26-D26<=90,"Bilan n°1",IF(AND(E26+G26-D26>90,E26+G26-D26<=180),"Bilan n°2",IF(AND(E26+G26-D26>180,E26+G26-D26<=270),"Bilan n°3",IF(AND(E26+G26-D26>270,E26+G26-D26<=360),"Bilan n°4",IF(AND(E26+G26-D26>360,E26+G26-D26<=450),"Bilan n°5",IF(AND(E26+G26-D26>450,E26+G26-D26<=540),"Bilan n°6",IF(AND(E26+G26-D26>540,E26+G26-D26<=630),"Bilan n°7",IF(AND(E26+G26-D26>630,E26+G26-D26<=720),"Bilan n°8",IF(AND(E26+G26-D26>720,E26+G26-D26<=810),"Bilan n°9",IF(AND(E26+G26-D26>810,E26+G26-D26<=900),"Bilan n°10"))))))))))) -> Bilan n°4 | G26: 30 | H26: =IF(OR(F26="Bilan n°1",F26="Bilan n°2",F26="Bilan n°3",F26="Bilan n°4",F26="Bilan n°5",F26="Bilan n°6",F26="Bilan n°7",F26="Bilan n°8",F26="Bilan n°9",F26="Bilan n°10"),EDATE(J26,3)+G26,"-") -> 42992 | I26: 4 | J26: =IF(I26="AP","",IF(E26="-","",IF(E26="","",EDATE(E26,0)+I26))) -> 42870 | K26: =IF(H26="-","",EDATE(H26,3)+4) -> 43087
A27: 36 | D27: 42256 | E27: 42810 | F27: =IF(D27="","-",IF(E27+G27-D27<=90,"Bilan n°1",IF(AND(E27+G27-D27>90,E27+G27-D27<=180),"Bilan n°2",IF(AND(E27+G27-D27>180,E27+G27-D27<=270),"Bilan n°3",IF(AND(E27+G27-D27>270,E27+G27-D27<=360),"Bilan n°4",IF(AND(E27+G27-D27>360,E27+G27-D27<=450),"Bilan n°5",IF(AND(E27+G27-D27>450,E27+G27-D27<=540),"Bilan n°6",IF(AND(E27+G27-D27>540,E27+G27-D27<=630),"Bilan n°7",IF(AND(E27+G27-D27>630,E27+G27-D27<=720),"Bilan n°8",IF(AND(E27+G27-D27>720,E27+G27-D27<=810),"Bilan n°9",IF(AND(E27+G27-D27>810,E27+G27-D27<=900),"Bilan n°10"))))))))))) -> Bilan n°7 | H27: =IF(OR(F27="Bilan n°1",F27="Bilan n°2",F27="Bilan n°3",F27="Bilan n°4",F27="Bilan n°5",F27="Bilan n°6",F27="Bilan n°7",F27="Bilan n°8",F27="Bilan n°9",F27="Bilan n°10"),EDATE(J27,3)+G27,"-") -> 42910 | I27: 8 | J27: =IF(I27="AP","",IF(E27="-","",IF(E27="","",EDATE(E27,0)+I27))) -> 42818 | K27: =IF(H27="-","",EDATE(H27,3)+4) -> 43006
A28: 37 | D28: 42252 | E28: 42905 | F28: =IF(D28="","-",IF(E28+G28-D28<=90,"Bilan n°1",IF(AND(E28+G28-D28>90,E28+G28-D28<=180),"Bilan n°2",IF(AND(E28+G28-D28>180,E28+G28-D28<=270),"Bilan n°3",IF(AND(E28+G28-D28>270,E28+G28-D28<=360),"Bilan n°4",IF(AND(E28+G28-D28>360,E28+G28-D28<=450),"Bilan n°5",IF(AND(E28+G28-D28>450,E28+G28-D28<=540),"Bilan n°6",IF(AND(E28+G28-D28>540,E28+G28-D28<=630),"Bilan n°7",IF(AND(E28+G28-D28>630,E28+G28-D28<=720),"Bilan n°8",IF(AND(E28+G28-D28>720,E28+G28-D28<=810),"Bilan n°9",IF(AND(E28+G28-D28>810,E28+G28-D28<=900),"Bilan n°10"))))))))))) -> Bilan n°8 | H28: =IF(OR(F28="Bilan n°1",F28="Bilan n°2",F28="Bilan n°3",F28="Bilan n°4",F28="Bilan n°5",F28="Bilan n°6",F28="Bilan n°7",F28="Bilan n°8",F28="Bilan n°9",F28="Bilan n°10"),EDATE(J28,3)+G28,"-") -> 43001 | I28: 4 | J28: =IF(I28="AP","",IF(E28="-","",IF(E28="","",EDATE(E28,0)+I28))) -> 42909 | K28: =IF(H28="-","",EDATE(H28,3)+4) -> 43096
A29: 42 | D29: 42254 | E29: 42977 | F29: =IF(D29="","-",IF(E29+G29-D29<=90,"Bilan n°1",IF(AND(E29+G29-D29>90,E29+G29-D29<=180),"Bilan n°2",IF(AND(E29+G29-D29>180,E29+G29-D29<=270),"Bilan n°3",IF(AND(E29+G29-D29>270,E29+G29-D29<=360),"Bilan n°4",IF(AND(E29+G29-D29>360,E29+G29-D29<=450),"Bilan n°5",IF(AND(E29+G29-D29>450,E29+G29-D29<=540),"Bilan n°6",IF(AND(E29+G29-D29>540,E29+G29-D29<=630),"Bilan n°7",IF(AND(E29+G29-D29>630,E29+G29-D29<=720),"Bilan n°8",IF(AND(E29+G29-D29>720,E29+G29-D29<=810),"Bilan n°9",IF(AND(E29+G29-D29>810,E29+G29-D29<=900),"Bilan n°10"))))))))))) -> Bilan n°9 | H29: =IF(OR(F29="Bilan n°1",F29="Bilan n°2",F29="Bilan n°3",F29="Bilan n°4",F29="Bilan n°5",F29="Bilan n°6",F29="Bilan n°7",F29="Bilan n°8",F29="Bilan n°9",F29="Bilan n°10"),EDATE(J29,3)+G29,"-") -> 43070 | I29: 2 | J29: =IF(I29="AP","",IF(E29="-","",IF(E29="","",EDATE(E29,0)+I29))) -> 42979 | K29: -
A30: 45 | D30: 42611 | E30: 42811 | F30: =IF(D30="","-",IF(E30+G30-D30<=90,"Bilan n°1",IF(AND(E30+G30-D30>90,E30+G30-D30<=180),"Bilan n°2",IF(AND(E30+G30-D30>180,E30+G30-D30<=270),"Bilan n°3",IF(AND(E30+G30-D30>270,E30+G30-D30<=360),"Bilan n°4",IF(AND(E30+G30-D30>360,E30+G30-D30<=450),"Bilan n°5",IF(AND(E30+G30-D30>450,E30+G30-D30<=540),"Bilan n°6",IF(AND(E30+G30-D30>540,E30+G30-D30<=630),"Bilan n°7",IF(AND(E30+G30-D30>630,E30+G30-D30<=720),"Bilan n°8",IF(AND(E30+G30-D30>720,E30+G30-D30<=810),"Bilan n°9",IF(AND(E30+G30-D30>810,E30+G30-D30<=900),"Bilan n°10"))))))))))) -> Bilan n°3 | H30: =IF(OR(F30="Bilan n°1",F30="Bilan n°2",F30="Bilan n°3",F30="Bilan n°4",F30="Bilan n°5",F30="Bilan n°6",F30="Bilan n°7",F30="Bilan n°8",F30="Bilan n°9",F30="Bilan n°10"),EDATE(J30,3)+G30,"-") -> 42921 | I30: 19 | J30: =IF(I30="AP","",IF(E30="-","",IF(E30="","",EDATE(E30,0)+I30))) -> 42830 | K30: -
A31: 46 | D31: 42607 | E31: 42676 | F31: =IF(D31="","-",IF(E31+G31-D31<=90,"Bilan n°1",IF(AND(E31+G31-D31>90,E31+G31-D31<=180),"Bilan n°2",IF(AND(E31+G31-D31>180,E31+G31-D31<=270),"Bilan n°3",IF(AND(E31+G31-D31>270,E31+G31-D31<=360),"Bilan n°4",IF(AND(E31+G31-D31>360,E31+G31-D31<=450),"Bilan n°5",IF(AND(E31+G31-D31>450,E31+G31-D31<=540),"Bilan n°6",IF(AND(E31+G31-D31>540,E31+G31-D31<=630),"Bilan n°7",IF(AND(E31+G31-D31>630,E31+G31-D31<=720),"Bilan n°8",IF(AND(E31+G31-D31>720,E31+G31-D31<=810),"Bilan n°9",IF(AND(E31+G31-D31>810,E31+G31-D31<=900),"Bilan n°10"))))))))))) -> Bilan n°4 | G31: 250 | H31: =IF(OR(F31="Bilan n°1",F31="Bilan n°2",F31="Bilan n°3",F31="Bilan n°4",F31="Bilan n°5",F31="Bilan n°6",F31="Bilan n°7",F31="Bilan n°8",F31="Bilan n°9",F31="Bilan n°10"),EDATE(J31,3)+G31,"-") -> 43026 | I31: 8 | J31: =IF(I31="AP","",IF(E31="-","",IF(E31="","",EDATE(E31,0)+I31))) -> 42684 | K31: =IF(H31="-","",EDATE(H31,3)+4) -> 43122
A32: 47 | D32: 42611 | E32: 42772 | F32: =IF(D32="","-",IF(E32+G32-D32<=90,"Bilan n°1",IF(AND(E32+G32-D32>90,E32+G32-D32<=180),"Bilan n°2",IF(AND(E32+G32-D32>180,E32+G32-D32<=270),"Bilan n°3",IF(AND(E32+G32-D32>270,E32+G32-D32<=360),"Bilan n°4",IF(AND(E32+G32-D32>360,E32+G32-D32<=450),"Bilan n°5",IF(AND(E32+G32-D32>450,E32+G32-D32<=540),"Bilan n°6",IF(AND(E32+G32-D32>540,E32+G32-D32<=630),"Bilan n°7",IF(AND(E32+G32-D32>630,E32+G32-D32<=720),"Bilan n°8",IF(AND(E32+G32-D32>720,E32+G32-D32<=810),"Bilan n°9",IF(AND(E32+G32-D32>810,E32+G32-D32<=900),"Bilan n°10"))))))))))) -> Bilan n°2 | H32: =IF(OR(F32="Bilan n°1",F32="Bilan n°2",F32="Bilan n°3",F32="Bilan n°4",F32="Bilan n°5",F32="Bilan n°6",F32="Bilan n°7",F32="Bilan n°8",F32="Bilan n°9",F32="Bilan n°10"),EDATE(J32,3)+G32,"-") -> 42869 | I32: 8 | J32: =IF(I32="AP","",IF(E32="-","",IF(E32="","",EDATE(E32,0)+I32))) -> 42780 | K32: =IF(H32="-","",EDATE(H32,3)+4) -> 42965
A33: 51 | D33: 42618 | E33: 42985 | F33: =IF(D33="","-",IF(E33+G33-D33<=90,"Bilan n°1",IF(AND(E33+G33-D33>90,E33+G33-D33<=180),"Bilan n°2",IF(AND(E33+G33-D33>180,E33+G33-D33<=270),"Bilan n°3",IF(AND(E33+G33-D33>270,E33+G33-D33<=360),"Bilan n°4",IF(AND(E33+G33-D33>360,E33+G33-D33<=450),"Bilan n°5",IF(AND(E33+G33-D33>450,E33+G33-D33<=540),"Bilan n°6",IF(AND(E33+G33-D33>540,E33+G33-D33<=630),"Bilan n°7",IF(AND(E33+G33-D33>630,E33+G33-D33<=720),"Bilan n°8",IF(AND(E33+G33-D33>720,E33+G33-D33<=810),"Bilan n°9",IF(AND(E33+G33-D33>810,E33+G33-D33<=900),"Bilan n°10"))))))))))) -> Bilan n°5 | H33: =IF(OR(F33="Bilan n°1",F33="Bilan n°2",F33="Bilan n°3",F33="Bilan n°4",F33="Bilan n°5",F33="Bilan n°6",F33="Bilan n°7",F33="Bilan n°8",F33="Bilan n°9",F33="Bilan n°10"),EDATE(J33,3)+G33,"-") -> 43079 | I33: 3 | J33: =IF(I33="AP","",IF(E33="-","",IF(E33="","",EDATE(E33,0)+I33))) -> 42988 | K33: =IF(H33="-","",EDATE(H33,3)+4) -> 43173
A34: 52 | D34: 42261 | E34: 42635 | F34: =IF(D34="","-",IF(E34+G34-D34<=90,"Bilan n°1",IF(AND(E34+G34-D34>90,E34+G34-D34<=180),"Bilan n°2",IF(AND(E34+G34-D34>180,E34+G34-D34<=270),"Bilan n°3",IF(AND(E34+G34-D34>270,E34+G34-D34<=360),"Bilan n°4",IF(AND(E34+G34-D34>360,E34+G34-D34<=450),"Bilan n°5",IF(AND(E34+G34-D34>450,E34+G34-D34<=540),"Bilan n°6",IF(AND(E34+G34-D34>540,E34+G34-D34<=630),"Bilan n°7",IF(AND(E34+G34-D34>630,E34+G34-D34<=720),"Bilan n°8",IF(AND(E34+G34-D34>720,E34+G34-D34<=810),"Bilan n°9",IF(AND(E34+G34-D34>810,E34+G34-D34<=900),"Bilan n°10"))))))))))) -> Bilan n°6 | G34: 105 | H34: =IF(OR(F34="Bilan n°1",F34="Bilan n°2",F34="Bilan n°3",F34="Bilan n°4",F34="Bilan n°5",F34="Bilan n°6",F34="Bilan n°7",F34="Bilan n°8",F34="Bilan n°9",F34="Bilan n°10"),EDATE(J34,3)+G34,"-") -> 42835 | I34: 4 | J34: =IF(I34="AP","",IF(E34="-","",IF(E34="","",EDATE(E34,0)+I34))) -> 42639 | K34: =IF(H34="-","",EDATE(H34,3)+4) -> 42930
A35: 53 | D35: 42261 | E35: 42794 | F35: =IF(D35="","-",IF(E35+G35-D35<=90,"Bilan n°1",IF(AND(E35+G35-D35>90,E35+G35-D35<=180),"Bilan n°2",IF(AND(E35+G35-D35>180,E35+G35-D35<=270),"Bilan n°3",IF(AND(E35+G35-D35>270,E35+G35-D35<=360),"Bilan n°4",IF(AND(E35+G35-D35>360,E35+G35-D35<=450),"Bilan n°5",IF(AND(E35+G35-D35>450,E35+G35-D35<=540),"Bilan n°6",IF(AND(E35+G35-D35>540,E35+G35-D35<=630),"Bilan n°7",IF(AND(E35+G35-D35>630,E35+G35-D35<=720),"Bilan n°8",IF(AND(E35+G35-D35>720,E35+G35-D35<=810),"Bilan n°9",IF(AND(E35+G35-D35>810,E35+G35-D35<=900),"Bilan n°10"))))))))))) -> Bilan n°6 | H35: =IF(OR(F35="Bilan n°1",F35="Bilan n°2",F35="Bilan n°3",F35="Bilan n°4",F35="Bilan n°5",F35="Bilan n°6",F35="Bilan n°7",F35="Bilan n°8",F35="Bilan n°9",F35="Bilan n°10"),EDATE(J35,3)+G35,"-") -> 42890 | I35: 4 | J35: =IF(I35="AP","",IF(E35="-","",IF(E35="","",EDATE(E35,0)+I35))) -> 42798 | K35: =IF(H35="-","",EDATE(H35,3)+4) -> 42986
A36: 54 | D36: 42257 | E36: 42936 | F36: =IF(D36="","-",IF(E36+G36-D36<=90,"Bilan n°1",IF(AND(E36+G36-D36>90,E36+G36-D36<=180),"Bilan n°2",IF(AND(E36+G36-D36>180,E36+G36-D36<=270),"Bilan n°3",IF(AND(E36+G36-D36>270,E36+G36-D36<=360),"Bilan n°4",IF(AND(E36+G36-D36>360,E36+G36-D36<=450),"Bilan n°5",IF(AND(E36+G36-D36>450,E36+G36-D36<=540),"Bilan n°6",IF(AND(E36+G36-D36>540,E36+G36-D36<=630),"Bilan n°7",IF(AND(E36+G36-D36>630,E36+G36-D36<=720),"Bilan n°8",IF(AND(E36+G36-D36>720,E36+G36-D36<=810),"Bilan n°9",IF(AND(E36+G36-D36>810,E36+G36-D36<=900),"Bilan n°10"))))))))))) -> Bilan n°8 | H36: =IF(OR(F36="Bilan n°1",F36="Bilan n°2",F36="Bilan n°3",F36="Bilan n°4",F36="Bilan n°5",F36="Bilan n°6",F36="Bilan n°7",F36="Bilan n°8",F36="Bilan n°9",F36="Bilan n°10"),EDATE(J36,3)+G36,"-") -> 43033 | I36: 5 | J36: =IF(I36="AP","",IF(E36="-","",IF(E36="","",EDATE(E36,0)+I36))) -> 42941 | K36: =IF(H36="-","",EDATE(H36,3)+4) -> 43129
A37: 55 | D37: 42262 | E37: 42737 | F37: =IF(D37="","-",IF(E37+G37-D37<=90,"Bilan n°1",IF(AND(E37+G37-D37>90,E37+G37-D37<=180),"Bilan n°2",IF(AND(E37+G37-D37>180,E37+G37-D37<=270),"Bilan n°3",IF(AND(E37+G37-D37>270,E37+G37-D37<=360),"Bilan n°4",IF(AND(E37+G37-D37>360,E37+G37-D37<=450),"Bilan n°5",IF(AND(E37+G37-D37>450,E37+G37-D37<=540),"Bilan n°6",IF(AND(E37+G37-D37>540,E37+G37-D37<=630),"Bilan n°7",IF(AND(E37+G37-D37>630,E37+G37-D37<=720),"Bilan n°8",IF(AND(E37+G37-D37>720,E37+G37-D37<=810),"Bilan n°9",IF(AND(E37+G37-D37>810,E37+G37-D37<=900),"Bilan n°10"))))))))))) -> Bilan n°6 | G37: 30 | H37: =IF(OR(F37="Bilan n°1",F37="Bilan n°2",F37="Bilan n°3",F37="Bilan n°4",F37="Bilan n°5",F37="Bilan n°6",F37="Bilan n°7",F37="Bilan n°8",F37="Bilan n°9",F37="Bilan n°10"),EDATE(J37,3)+G37,"-") -> 42861 | I37: 4 | J37: =IF(I37="AP","",IF(E37="-","",IF(E37="","",EDATE(E37,0)+I37))) -> 42741 | K37: =IF(H37="-","",EDATE(H37,3)+4) -> 42957
A38: 56 | D38: 42261 | E38: 42992 | F38: =IF(D38="","-",IF(E38+G38-D38<=90,"Bilan n°1",IF(AND(E38+G38-D38>90,E38+G38-D38<=180),"Bilan n°2",IF(AND(E38+G38-D38>180,E38+G38-D38<=270),"Bilan n°3",IF(AND(E38+G38-D38>270,E38+G38-D38<=360),"Bilan n°4",IF(AND(E38+G38-D38>360,E38+G38-D38<=450),"Bilan n°5",IF(AND(E38+G38-D38>450,E38+G38-D38<=540),"Bilan n°6",IF(AND(E38+G38-D38>540,E38+G38-D38<=630),"Bilan n°7",IF(AND(E38+G38-D38>630,E38+G38-D38<=720),"Bilan n°8",IF(AND(E38+G38-D38>720,E38+G38-D38<=810),"Bilan n°9",IF(AND(E38+G38-D38>810,E38+G38-D38<=900),"Bilan n°10"))))))))))) -> Bilan n°9 | H38: =IF(OR(F38="Bilan n°1",F38="Bilan n°2",F38="Bilan n°3",F38="Bilan n°4",F38="Bilan n°5",F38="Bilan n°6",F38="Bilan n°7",F38="Bilan n°8",F38="Bilan n°9",F38="Bilan n°10"),EDATE(J38,3)+G38,"-") -> 43088 | I38: 5 | J38: =IF(I38="AP","",IF(E38="-","",IF(E38="","",EDATE(E38,0)+I38))) -> 42997 | K38: =IF(H38="-","",EDATE(H38,3)+4) -> 43182
A39: 57 | D39: 42712 | E39: 42949 | F39: =IF(D39="","-",IF(E39+G39-D39<=90,"Bilan n°1",IF(AND(E39+G39-D39>90,E39+G39-D39<=180),"Bilan n°2",IF(AND(E39+G39-D39>180,E39+G39-D39<=270),"Bilan n°3",IF(AND(E39+G39-D39>270,E39+G39-D39<=360),"Bilan n°4",IF(AND(E39+G39-D39>360,E39+G39-D39<=450),"Bilan n°5",IF(AND(E39+G39-D39>450,E39+G39-D39<=540),"Bilan n°6",IF(AND(E39+G39-D39>540,E39+G39-D39<=630),"Bilan n°7",IF(AND(E39+G39-D39>630,E39+G39-D39<=720),"Bilan n°8",IF(AND(E39+G39-D39>720,E39+G39-D39<=810),"Bilan n°9",IF(AND(E39+G39-D39>810,E39+G39-D39<=900),"Bilan n°10"))))))))))) -> Bilan n°3 | H39: =IF(OR(F39="Bilan n°1",F39="Bilan n°2",F39="Bilan n°3",F39="Bilan n°4",F39="Bilan n°5",F39="Bilan n°6",F39="Bilan n°7",F39="Bilan n°8",F39="Bilan n°9",F39="Bilan n°10"),EDATE(J39,3)+G39,"-") -> 43046 | I39: 5 | J39: =IF(I39="AP","",IF(E39="-","",IF(E39="","",EDATE(E39,0)+I39))) -> 42954 | K39: =IF(H39="-","",EDATE(H39,3)+4) -> 43142
A40: 58 | D40: 42667 | E40: 42871 | F40: =IF(D40="","-",IF(E40+G40-D40<=90,"Bilan n°1",IF(AND(E40+G40-D40>90,E40+G40-D40<=180),"Bilan n°2",IF(AND(E40+G40-D40>180,E40+G40-D40<=270),"Bilan n°3",IF(AND(E40+G40-D40>270,E40+G40-D40<=360),"Bilan n°4",IF(AND(E40+G40-D40>360,E40+G40-D40<=450),"Bilan n°5",IF(AND(E40+G40-D40>450,E40+G40-D40<=540),"Bilan n°6",IF(AND(E40+G40-D40>540,E40+G40-D40<=630),"Bilan n°7",IF(AND(E40+G40-D40>630,E40+G40-D40<=720),"Bilan n°8",IF(AND(E40+G40-D40>720,E40+G40-D40<=810),"Bilan n°9",IF(AND(E40+G40-D40>810,E40+G40-D40<=900),"Bilan n°10"))))))))))) -> Bilan n°3 | G40: 15 | H40: =IF(OR(F40="Bilan n°1",F40="Bilan n°2",F40="Bilan n°3",F40="Bilan n°4",F40="Bilan n°5",F40="Bilan n°6",F40="Bilan n°7",F40="Bilan n°8",F40="Bilan n°9",F40="Bilan n°10"),EDATE(J40,3)+G40,"-") -> 42981 | I40: 3 | J40: =IF(I40="AP","",IF(E40="-","",IF(E40="","",EDATE(E40,0)+I40))) -> 42874 | K40: =IF(H40="-","",EDATE(H40,3)+4) -> 43076
A41: 59 | D41: 42263 | E41: 42662 | F41: =IF(D41="","-",IF(E41+G41-D41<=90,"Bilan n°1",IF(AND(E41+G41-D41>90,E41+G41-D41<=180),"Bilan n°2",IF(AND(E41+G41-D41>180,E41+G41-D41<=270),"Bilan n°3",IF(AND(E41+G41-D41>270,E41+G41-D41<=360),"Bilan n°4",IF(AND(E41+G41-D41>360,E41+G41-D41<=450),"Bilan n°5",IF(AND(E41+G41-D41>450,E41+G41-D41<=540),"Bilan n°6",IF(AND(E41+G41-D41>540,E41+G41-D41<=630),"Bilan n°7",IF(AND(E41+G41-D41>630,E41+G41-D41<=720),"Bilan n°8",IF(AND(E41+G41-D41>720,E41+G41-D41<=810),"Bilan n°9",IF(AND(E41+G41-D41>810,E41+G41-D41<=900),"Bilan n°10"))))))))))) -> Bilan n°5 | H41: =IF(OR(F41="Bilan n°1",F41="Bilan n°2",F41="Bilan n°3",F41="Bilan n°4",F41="Bilan n°5",F41="Bilan n°6",F41="Bilan n°7",F41="Bilan n°8",F41="Bilan n°9",F41="Bilan n°10"),EDATE(J41,3)+G41,"-") -> 42760 | I41: 6 | J41: =IF(I41="AP","",IF(E41="-","",IF(E41="","",EDATE(E41,0)+I41))) -> 42668 | K41: =IF(H41="-","",EDATE(H41,3)+4) -> 42854
A42: 61 | D42: 42261 | E42: 42976 | F42: =IF(D42="","-",IF(E42+G42-D42<=90,"Bilan n°1",IF(AND(E42+G42-D42>90,E42+G42-D42<=180),"Bilan n°2",IF(AND(E42+G42-D42>180,E42+G42-D42<=270),"Bilan n°3",IF(AND(E42+G42-D42>270,E42+G42-D42<=360),"Bilan n°4",IF(AND(E42+G42-D42>360,E42+G42-D42<=450),"Bilan n°5",IF(AND(E42+G42-D42>450,E42+G42-D42<=540),"Bilan n°6",IF(AND(E42+G42-D42>540,E42+G42-D42<=630),"Bilan n°7",IF(AND(E42+G42-D42>630,E42+G42-D42<=720),"Bilan n°8",IF(AND(E42+G42-D42>720,E42+G42-D42<=810),"Bilan n°9",IF(AND(E42+G42-D42>810,E42+G42-D42<=900),"Bilan n°10"))))))))))) -> Bilan n°8 | H42: =IF(OR(F42="Bilan n°1",F42="Bilan n°2",F42="Bilan n°3",F42="Bilan n°4",F42="Bilan n°5",F42="Bilan n°6",F42="Bilan n°7",F42="Bilan n°8",F42="Bilan n°9",F42="Bilan n°10"),EDATE(J42,3)+G42,"-") -> 43069 | I42: 2 | J42: =IF(I42="AP","",IF(E42="-","",IF(E42="","",EDATE(E42,0)+I42))) -> 42978 | K42: =IF(H42="-","",EDATE(H42,3)+4) -> 43163
A43: 63 | D43: 42262 | E43: 42388 | F43: =IF(D43="","-",IF(E43+G43-D43<=90,"Bilan n°1",IF(AND(E43+G43-D43>90,E43+G43-D43<=180),"Bilan n°2",IF(AND(E43+G43-D43>180,E43+G43-D43<=270),"Bilan n°3",IF(AND(E43+G43-D43>270,E43+G43-D43<=360),"Bilan n°4",IF(AND(E43+G43-D43>360,E43+G43-D43<=450),"Bilan n°5",IF(AND(E43+G43-D43>450,E43+G43-D43<=540),"Bilan n°6",IF(AND(E43+G43-D43>540,E43+G43-D43<=630),"Bilan n°7",IF(AND(E43+G43-D43>630,E43+G43-D43<=720),"Bilan n°8",IF(AND(E43+G43-D43>720,E43+G43-D43<=810),"Bilan n°9",IF(AND(E43+G43-D43>810,E43+G43-D43<=900),"Bilan n°10"))))))))))) -> Bilan n°2 | H43: =IF(OR(F43="Bilan n°1",F43="Bilan n°2",F43="Bilan n°3",F43="Bilan n°4",F43="Bilan n°5",F43="Bilan n°6",F43="Bilan n°7",F43="Bilan n°8",F43="Bilan n°9",F43="Bilan n°10"),EDATE(J43,3)+G43,"-") -> 42483 | I43: 4 | J43: =IF(I43="AP","",IF(E43="-","",IF(E43="","",EDATE(E43,0)+I43))) -> 42392 | K43: =IF(H43="-","",EDATE(H43,3)+4) -> 42578
A44: 64 | D44: 42653 | E44: 42830 | F44: =IF(D44="","-",IF(E44+G44-D44<=90,"Bilan n°1",IF(AND(E44+G44-D44>90,E44+G44-D44<=180),"Bilan n°2",IF(AND(E44+G44-D44>180,E44+G44-D44<=270),"Bilan n°3",IF(AND(E44+G44-D44>270,E44+G44-D44<=360),"Bilan n°4",IF(AND(E44+G44-D44>360,E44+G44-D44<=450),"Bilan n°5",IF(AND(E44+G44-D44>450,E44+G44-D44<=540),"Bilan n°6",IF(AND(E44+G44-D44>540,E44+G44-D44<=630),"Bilan n°7",IF(AND(E44+G44-D44>630,E44+G44-D44<=720),"Bilan n°8",IF(AND(E44+G44-D44>720,E44+G44-D44<=810),"Bilan n°9",IF(AND(E44+G44-D44>810,E44+G44-D44<=900),"Bilan n°10"))))))))))) -> Bilan n°2 | H44: =IF(OR(F44="Bilan n°1",F44="Bilan n°2",F44="Bilan n°3",F44="Bilan n°4",F44="Bilan n°5",F44="Bilan n°6",F44="Bilan n°7",F44="Bilan n°8",F44="Bilan n°9",F44="Bilan n°10"),EDATE(J44,3)+G44,"-") -> 42929 | I44: 8 | J44: =IF(I44="AP","",IF(E44="-","",IF(E44="","",EDATE(E44,0)+I44))) -> 42838 | K44: =IF(H44="-","",EDATE(H44,3)+4) -> 43025
A45: 65 | D45: 42651 | E45: 42947 | F45: =IF(D45="","-",IF(E45+G45-D45<=90,"Bilan n°1",IF(AND(E45+G45-D45>90,E45+G45-D45<=180),"Bilan n°2",IF(AND(E45+G45-D45>180,E45+G45-D45<=270),"Bilan n°3",IF(AND(E45+G45-D45>270,E45+G45-D45<=360),"Bilan n°4",IF(AND(E45+G45-D45>360,E45+G45-D45<=450),"Bilan n°5",IF(AND(E45+G45-D45>450,E45+G45-D45<=540),"Bilan n°6",IF(AND(E45+G45-D45>540,E45+G45-D45<=630),"Bilan n°7",IF(AND(E45+G45-D45>630,E45+G45-D45<=720),"Bilan n°8",IF(AND(E45+G45-D45>720,E45+G45-D45<=810),"Bilan n°9",IF(AND(E45+G45-D45>810,E45+G45-D45<=900),"Bilan n°10"))))))))))) -> Bilan n°4 | H45: =IF(OR(F45="Bilan n°1",F45="Bilan n°2",F45="Bilan n°3",F45="Bilan n°4",F45="Bilan n°5",F45="Bilan n°6",F45="Bilan n°7",F45="Bilan n°8",F45="Bilan n°9",F45="Bilan n°10"),EDATE(J45,3)+G45,"-") -> 43056 | I45: 17 | J45: =IF(I45="AP","",IF(E45="-","",IF(E45="","",EDATE(E45,0)+I45))) -> 42964 | K45: =IF(H45="-","",EDATE(H45,3)+4) -> 43152
A46: 66 | D46: 42263 | E46: 42922 | F46: =IF(D46="","-",IF(E46+G46-D46<=90,"Bilan n°1",IF(AND(E46+G46-D46>90,E46+G46-D46<=180),"Bilan n°2",IF(AND(E46+G46-D46>180,E46+G46-D46<=270),"Bilan n°3",IF(AND(E46+G46-D46>270,E46+G46-D46<=360),"Bilan n°4",IF(AND(E46+G46-D46>360,E46+G46-D46<=450),"Bilan n°5",IF(AND(E46+G46-D46>450,E46+G46-D46<=540),"Bilan n°6",IF(AND(E46+G46-D46>540,E46+G46-D46<=630),"Bilan n°7",IF(AND(E46+G46-D46>630,E46+G46-D46<=720),"Bilan n°8",IF(AND(E46+G46-D46>720,E46+G46-D46<=810),"Bilan n°9",IF(AND(E46+G46-D46>810,E46+G46-D46<=900),"Bilan n°10"))))))))))) -> Bilan n°8 | H46: =IF(OR(F46="Bilan n°1",F46="Bilan n°2",F46="Bilan n°3",F46="Bilan n°4",F46="Bilan n°5",F46="Bilan n°6",F46="Bilan n°7",F46="Bilan n°8",F46="Bilan n°9",F46="Bilan n°10"),EDATE(J46,3)+G46,"-") -> 43017 | I46: 3 | J46: =IF(I46="AP","",IF(E46="-","",IF(E46="","",EDATE(E46,0)+I46))) -> 42925 | K46: =IF(H46="-","",EDATE(H46,3)+4) -> 43113
A47: 67 | D47: 42978 | E47: 42996 | F47: =IF(D47="","-",IF(E47+G47-D47<=90,"Bilan n°1",IF(AND(E47+G47-D47>90,E47+G47-D47<=180),"Bilan n°2",IF(AND(E47+G47-D47>180,E47+G47-D47<=270),"Bilan n°3",IF(AND(E47+G47-D47>270,E47+G47-D47<=360),"Bilan n°4",IF(AND(E47+G47-D47>360,E47+G47-D47<=450),"Bilan n°5",IF(AND(E47+G47-D47>450,E47+G47-D47<=540),"Bilan n°6",IF(AND(E47+G47-D47>540,E47+G47-D47<=630),"Bilan n°7",IF(AND(E47+G47-D47>630,E47+G47-D47<=720),"Bilan n°8",IF(AND(E47+G47-D47>720,E47+G47-D47<=810),"Bilan n°9",IF(AND(E47+G47-D47>810,E47+G47-D47<=900),"Bilan n°10"))))))))))) -> Bilan n°1 | H47: =IF(OR(F47="Bilan n°1",F47="Bilan n°2",F47="Bilan n°3",F47="Bilan n°4",F47="Bilan n°5",F47="Bilan n°6",F47="Bilan n°7",F47="Bilan n°8",F47="Bilan n°9",F47="Bilan n°10"),EDATE(J47,3)+G47,"-") -> 43089 | I47: 2 | J47: =IF(I47="AP","",IF(E47="-","",IF(E47="","",EDATE(E47,0)+I47))) -> 42998 | K47: =IF(H47="-","",EDATE(H47,3)+4) -> 43183
A48: 69 | D48: 42270 | E48: 42373 | F48: =IF(D48="","-",IF(E48+G48-D48<=90,"Bilan n°1",IF(AND(E48+G48-D48>90,E48+G48-D48<=180),"Bilan n°2",IF(AND(E48+G48-D48>180,E48+G48-D48<=270),"Bilan n°3",IF(AND(E48+G48-D48>270,E48+G48-D48<=360),"Bilan n°4",IF(AND(E48+G48-D48>360,E48+G48-D48<=450),"Bilan n°5",IF(AND(E48+G48-D48>450,E48+G48-D48<=540),"Bilan n°6",IF(AND(E48+G48-D48>540,E48+G48-D48<=630),"Bilan n°7",IF(AND(E48+G48-D48>630,E48+G48-D48<=720),"Bilan n°8",IF(AND(E48+G48-D48>720,E48+G48-D48<=810),"Bilan n°9",IF(AND(E48+G48-D48>810,E48+G48-D48<=900),"Bilan n°10"))))))))))) -> Bilan n°2 | H48: =IF(OR(F48="Bilan n°1",F48="Bilan n°2",F48="Bilan n°3",F48="Bilan n°4",F48="Bilan n°5",F48="Bilan n°6",F48="Bilan n°7",F48="Bilan n°8",F48="Bilan n°9",F48="Bilan n°10"),EDATE(J48,3)+G48,"-") -> 42468 | I48: 4 | J48: =IF(I48="AP","",IF(E48="-","",IF(E48="","",EDATE(E48,0)+I48))) -> 42377 | K48: =IF(H48="-","",EDATE(H48,3)+4) -> 42563
A49: 70 | D49: 42268 | E49: 42801 | F49: =IF(D49="","-",IF(E49+G49-D49<=90,"Bilan n°1",IF(AND(E49+G49-D49>90,E49+G49-D49<=180),"Bilan n°2",IF(AND(E49+G49-D49>180,E49+G49-D49<=270),"Bilan n°3",IF(AND(E49+G49-D49>270,E49+G49-D49<=360),"Bilan n°4",IF(AND(E49+G49-D49>360,E49+G49-D49<=450),"Bilan n°5",IF(AND(E49+G49-D49>450,E49+G49-D49<=540),"Bilan n°6",IF(AND(E49+G49-D49>540,E49+G49-D49<=630),"Bilan n°7",IF(AND(E49+G49-D49>630,E49+G49-D49<=720),"Bilan n°8",IF(AND(E49+G49-D49>720,E49+G49-D49<=810),"Bilan n°9",IF(AND(E49+G49-D49>810,E49+G49-D49<=900),"Bilan n°10"))))))))))) -> Bilan n°6 | H49: =IF(OR(F49="Bilan n°1",F49="Bilan n°2",F49="Bilan n°3",F49="Bilan n°4",F49="Bilan n°5",F49="Bilan n°6",F49="Bilan n°7",F49="Bilan n°8",F49="Bilan n°9",F49="Bilan n°10"),EDATE(J49,3)+G49,"-") -> 42896 | I49: 3 | J49: =IF(I49="AP","",IF(E49="-","",IF(E49="","",EDATE(E49,0)+I49))) -> 42804 | K49: =IF(H49="-","",EDATE(H49,3)+4) -> 42992
A50: 75 | D50: 42765 | E50: 42765 | F50: =IF(D50="","-",IF(E50+G50-D50<=90,"Bilan n°1",IF(AND(E50+G50-D50>90,E50+G50-D50<=180),"Bilan n°2",IF(AND(E50+G50-D50>180,E50+G50-D50<=270),"Bilan n°3",IF(AND(E50+G50-D50>270,E50+G50-D50<=360),"Bilan n°4",IF(AND(E50+G50-D50>360,E50+G50-D50<=450),"Bilan n°5",IF(AND(E50+G50-D50>450,E50+G50-D50<=540),"Bilan n°6",IF(AND(E50+G50-D50>540,E50+G50-D50<=630),"Bilan n°7",IF(AND(E50+G50-D50>630,E50+G50-D50<=720),"Bilan n°8",IF(AND(E50+G50-D50>720,E50+G50-D50<=810),"Bilan n°9",IF(AND(E50+G50-D50>810,E50+G50-D50<=900),"Bilan n°10"))))))))))) -> Bilan n°1 | H50: =IF(OR(F50="Bilan n°1",F50="Bilan n°2",F50="Bilan n°3",F50="Bilan n°4",F50="Bilan n°5",F50="Bilan n°6",F50="Bilan n°7",F50="Bilan n°8",F50="Bilan n°9",F50="Bilan n°10"),EDATE(J50,3)+G50,"-") -> 42858 | I50: 4 | J50: =IF(I50="AP","",IF(E50="-","",IF(E50="","",EDATE(E50,0)+I50))) -> 42769 | K50: =IF(H50="-","",EDATE(H50,3)+4) -> 42954
A51: 76 | D51: 42279 | E51: 42982 | F51: =IF(D51="","-",IF(E51+G51-D51<=90,"Bilan n°1",IF(AND(E51+G51-D51>90,E51+G51-D51<=180),"Bilan n°2",IF(AND(E51+G51-D51>180,E51+G51-D51<=270),"Bilan n°3",IF(AND(E51+G51-D51>270,E51+G51-D51<=360),"Bilan n°4",IF(AND(E51+G51-D51>360,E51+G51-D51<=450),"Bilan n°5",IF(AND(E51+G51-D51>450,E51+G51-D51<=540),"Bilan n°6",IF(AND(E51+G51-D51>540,E51+G51-D51<=630),"Bilan n°7",IF(AND(E51+G51-D51>630,E51+G51-D51<=720),"Bilan n°8",IF(AND(E51+G51-D51>720,E51+G51-D51<=810),"Bilan n°9",IF(AND(E51+G51-D51>810,E51+G51-D51<=900),"Bilan n°10"))))))))))) -> Bilan n°8 | H51: =IF(OR(F51="Bilan n°1",F51="Bilan n°2",F51="Bilan n°3",F51="Bilan n°4",F51="Bilan n°5",F51="Bilan n°6",F51="Bilan n°7",F51="Bilan n°8",F51="Bilan n°9",F51="Bilan n°10"),EDATE(J51,3)+G51,"-") -> 43077 | I51: 4 | J51: =IF(I51="AP","",IF(E51="-","",IF(E51="","",EDATE(E51,0)+I51))) -> 42986 | K51: =IF(H51="-","",EDATE(H51,3)+4) -> 43171
A52: 77 | D52: 42277 | E52: 42665 | F52: =IF(D52="","-",IF(E52+G52-D52<=90,"Bilan n°1",IF(AND(E52+G52-D52>90,E52+G52-D52<=180),"Bilan n°2",IF(AND(E52+G52-D52>180,E52+G52-D52<=270),"Bilan n°3",IF(AND(E52+G52-D52>270,E52+G52-D52<=360),"Bilan n°4",IF(AND(E52+G52-D52>360,E52+G52-D52<=450),"Bilan n°5",IF(AND(E52+G52-D52>450,E52+G52-D52<=540),"Bilan n°6",IF(AND(E52+G52-D52>540,E52+G52-D52<=630),"Bilan n°7",IF(AND(E52+G52-D52>630,E52+G52-D52<=720),"Bilan n°8",IF(AND(E52+G52-D52>720,E52+G52-D52<=810),"Bilan n°9",IF(AND(E52+G52-D52>810,E52+G52-D52<=900),"Bilan n°10"))))))))))) -> Bilan n°5 | G52: 30 | H52: =IF(OR(F52="Bilan n°1",F52="Bilan n°2",F52="Bilan n°3",F52="Bilan n°4",F52="Bilan n°5",F52="Bilan n°6",F52="Bilan n°7",F52="Bilan n°8",F52="Bilan n°9",F52="Bilan n°10"),EDATE(J52,3)+G52,"-") -> 42791 | I52: 4 | J52: =IF(I52="AP","",IF(E52="-","",IF(E52="","",EDATE(E52,0)+I52))) -> 42669 | K52: =IF(H52="-","",EDATE(H52,3)+4) -> 42884
A53: 78 | D53: 42277 | F53: =IF(D53="","-",IF(E53+G53-D53<=90,"Bilan n°1",IF(AND(E53+G53-D53>90,E53+G53-D53<=180),"Bilan n°2",IF(AND(E53+G53-D53>180,E53+G53-D53<=270),"Bilan n°3",IF(AND(E53+G53-D53>270,E53+G53-D53<=360),"Bilan n°4",IF(AND(E53+G53-D53>360,E53+G53-D53<=450),"Bilan n°5",IF(AND(E53+G53-D53>450,E53+G53-D53<=540),"Bilan n°6",IF(AND(E53+G53-D53>540,E53+G53-D53<=630),"Bilan n°7",IF(AND(E53+G53-D53>630,E53+G53-D53<=720),"Bilan n°8",IF(AND(E53+G53-D53>720,E53+G53-D53<=810),"Bilan n°9",IF(AND(E53+G53-D53>810,E53+G53-D53<=900),"Bilan n°10"))))))))))) -> Bilan n°1 | H53: =IF(OR(F53="Bilan n°1",F53="Bilan n°2",F53="Bilan n°3",F53="Bilan n°4",F53="Bilan n°5",F53="Bilan n°6",F53="Bilan n°7",F53="Bilan n°8",F53="Bilan n°9",F53="Bilan n°10"),EDATE(J53,3)+G53,"-") -> #VALUE! | J53: =IF(I53="AP","",IF(E53="-","",IF(E53="","",EDATE(E53,0)+I53))) | K53: =IF(H53="-","",EDATE(H53,3)+4) -> #VALUE!
A54: 79 | D54: 42644 | E54: 42907 | F54: =IF(D54="","-",IF(E54+G54-D54<=90,"Bilan n°1",IF(AND(E54+G54-D54>90,E54+G54-D54<=180),"Bilan n°2",IF(AND(E54+G54-D54>180,E54+G54-D54<=270),"Bilan n°3",IF(AND(E54+G54-D54>270,E54+G54-D54<=360),"Bilan n°4",IF(AND(E54+G54-D54>360,E54+G54-D54<=450),"Bilan n°5",IF(AND(E54+G54-D54>450,E54+G54-D54<=540),"Bilan n°6",IF(AND(E54+G54-D54>540,E54+G54-D54<=630),"Bilan n°7",IF(AND(E54+G54-D54>630,E54+G54-D54<=720),"Bilan n°8",IF(AND(E54+G54-D54>720,E54+G54-D54<=810),"Bilan n°9",IF(AND(E54+G54-D54>810,E54+G54-D54<=900),"Bilan n°10"))))))))))) -> Bilan n°6 | G54: 242 | H54: =IF(OR(F54="Bilan n°1",F54="Bilan n°2",F54="Bilan n°3",F54="Bilan n°4",F54="Bilan n°5",F54="Bilan n°6",F54="Bilan n°7",F54="Bilan n°8",F54="Bilan n°9",F54="Bilan n°10"),EDATE(J54,3)+G54,"-") -> 43248 | I54: 7 | J54: =IF(I54="AP","",IF(E54="-","",IF(E54="","",EDATE(E54,0)+I54))) -> 42914 | K54: =IF(H54="-","",EDATE(H54,3)+4) -> 43344
A55: 81 | D55: 42279 | E55: 43012 | F55: =IF(D55="","-",IF(E55+G55-D55<=90,"Bilan n°1",IF(AND(E55+G55-D55>90,E55+G55-D55<=180),"Bilan n°2",IF(AND(E55+G55-D55>180,E55+G55-D55<=270),"Bilan n°3",IF(AND(E55+G55-D55>270,E55+G55-D55<=360),"Bilan n°4",IF(AND(E55+G55-D55>360,E55+G55-D55<=450),"Bilan n°5",IF(AND(E55+G55-D55>450,E55+G55-D55<=540),"Bilan n°6",IF(AND(E55+G55-D55>540,E55+G55-D55<=630),"Bilan n°7",IF(AND(E55+G55-D55>630,E55+G55-D55<=720),"Bilan n°8",IF(AND(E55+G55-D55>720,E55+G55-D55<=810),"Bilan n°9",IF(AND(E55+G55-D55>810,E55+G55-D55<=900),"Bilan n°10"))))))))))) -> Bilan n°9 | G55: 36 | H55: =IF(OR(F55="Bilan n°1",F55="Bilan n°2",F55="Bilan n°3",F55="Bilan n°4",F55="Bilan n°5",F55="Bilan n°6",F55="Bilan n°7",F55="Bilan n°8",F55="Bilan n°9",F55="Bilan n°10"),EDATE(J55,3)+G55,"-") -> 43143 | I55: 3 | J55: =IF(I55="AP","",IF(E55="-","",IF(E55="","",EDATE(E55,0)+I55))) -> 43015 | K55: =IF(H55="-","",EDATE(H55,3)+4) -> 43236
A56: 83 | D56: 42310 | E56: 42754 | F56: =IF(D56="","-",IF(E56+G56-D56<=90,"Bilan n°1",IF(AND(E56+G56-D56>90,E56+G56-D56<=180),"Bilan n°2",IF(AND(E56+G56-D56>180,E56+G56-D56<=270),"Bilan n°3",IF(AND(E56+G56-D56>270,E56+G56-D56<=360),"Bilan n°4",IF(AND(E56+G56-D56>360,E56+G56-D56<=450),"Bilan n°5",IF(AND(E56+G56-D56>450,E56+G56-D56<=540),"Bilan n°6",IF(AND(E56+G56-D56>540,E56+G56-D56<=630),"Bilan n°7",IF(AND(E56+G56-D56>630,E56+G56-D56<=720),"Bilan n°8",IF(AND(E56+G56-D56>720,E56+G56-D56<=810),"Bilan n°9",IF(AND(E56+G56-D56>810,E56+G56-D56<=900),"Bilan n°10"))))))))))) -> Bilan n°5 | H56: =IF(OR(F56="Bilan n°1",F56="Bilan n°2",F56="Bilan n°3",F56="Bilan n°4",F56="Bilan n°5",F56="Bilan n°6",F56="Bilan n°7",F56="Bilan n°8",F56="Bilan n°9",F56="Bilan n°10"),EDATE(J56,3)+G56,"-") -> 42855 | I56: 12 | J56: =IF(I56="AP","",IF(E56="-","",IF(E56="","",EDATE(E56,0)+I56))) -> 42766 | K56: =IF(H56="-","",EDATE(H56,3)+4) -> 42950
A57: 84 | D57: 42310 | E57: 42754 | F57: =IF(D57="","-",IF(E57+G57-D57<=90,"Bilan n°1",IF(AND(E57+G57-D57>90,E57+G57-D57<=180),"Bilan n°2",IF(AND(E57+G57-D57>180,E57+G57-D57<=270),"Bilan n°3",IF(AND(E57+G57-D57>270,E57+G57-D57<=360),"Bilan n°4",IF(AND(E57+G57-D57>360,E57+G57-D57<=450),"Bilan n°5",IF(AND(E57+G57-D57>450,E57+G57-D57<=540),"Bilan n°6",IF(AND(E57+G57-D57>540,E57+G57-D57<=630),"Bilan n°7",IF(AND(E57+G57-D57>630,E57+G57-D57<=720),"Bilan n°8",IF(AND(E57+G57-D57>720,E57+G57-D57<=810),"Bilan n°9",IF(AND(E57+G57-D57>810,E57+G57-D57<=900),"Bilan n°10"))))))))))) -> Bilan n°5 | H57: =IF(OR(F57="Bilan n°1",F57="Bilan n°2",F57="Bilan n°3",F57="Bilan n°4",F57="Bilan n°5",F57="Bilan n°6",F57="Bilan n°7",F57="Bilan n°8",F57="Bilan n°9",F57="Bilan n°10"),EDATE(J57,3)+G57,"-") -> 42855 | I57: 12 | J57: =IF(I57="AP","",IF(E57="-","",IF(E57="","",EDATE(E57,0)+I57))) -> 42766 | K57: =IF(H57="-","",EDATE(H57,3)+4) -> 42950
A58: 88 | D58: 42513 | E58: 42811 | F58: =IF(D58="","-",IF(E58+G58-D58<=90,"Bilan n°1",IF(AND(E58+G58-D58>90,E58+G58-D58<=180),"Bilan n°2",IF(AND(E58+G58-D58>180,E58+G58-D58<=270),"Bilan n°3",IF(AND(E58+G58-D58>270,E58+G58-D58<=360),"Bilan n°4",IF(AND(E58+G58-D58>360,E58+G58-D58<=450),"Bilan n°5",IF(AND(E58+G58-D58>450,E58+G58-D58<=540),"Bilan n°6",IF(AND(E58+G58-D58>540,E58+G58-D58<=630),"Bilan n°7",IF(AND(E58+G58-D58>630,E58+G58-D58<=720),"Bilan n°8",IF(AND(E58+G58-D58>720,E58+G58-D58<=810),"Bilan n°9",IF(AND(E58+G58-D58>810,E58+G58-D58<=900),"Bilan n°10"))))))))))) -> Bilan n°4 | H58: =IF(OR(F58="Bilan n°1",F58="Bilan n°2",F58="Bilan n°3",F58="Bilan n°4",F58="Bilan n°5",F58="Bilan n°6",F58="Bilan n°7",F58="Bilan n°8",F58="Bilan n°9",F58="Bilan n°10"),EDATE(J58,3)+G58,"-") -> 42919 | I58: 17 | J58: =IF(I58="AP","",IF(E58="-","",IF(E58="","",EDATE(E58,0)+I58))) -> 42828 | K58: =IF(H58="-","",EDATE(H58,3)+4) -> 43015
A59: 91 | D59: 42731 | E59: 42976 | F59: =IF(D59="","-",IF(E59+G59-D59<=90,"Bilan n°1",IF(AND(E59+G59-D59>90,E59+G59-D59<=180),"Bilan n°2",IF(AND(E59+G59-D59>180,E59+G59-D59<=270),"Bilan n°3",IF(AND(E59+G59-D59>270,E59+G59-D59<=360),"Bilan n°4",IF(AND(E59+G59-D59>360,E59+G59-D59<=450),"Bilan n°5",IF(AND(E59+G59-D59>450,E59+G59-D59<=540),"Bilan n°6",IF(AND(E59+G59-D59>540,E59+G59-D59<=630),"Bilan n°7",IF(AND(E59+G59-D59>630,E59+G59-D59<=720),"Bilan n°8",IF(AND(E59+G59-D59>720,E59+G59-D59<=810),"Bilan n°9",IF(AND(E59+G59-D59>810,E59+G59-D59<=900),"Bilan n°10"))))))))))) -> Bilan n°3 | H59: =IF(OR(F59="Bilan n°1",F59="Bilan n°2",F59="Bilan n°3",F59="Bilan n°4",F59="Bilan n°5",F59="Bilan n°6",F59="Bilan n°7",F59="Bilan n°8",F59="Bilan n°9",F59="Bilan n°10"),EDATE(J59,3)+G59,"-") -> 43075 | I59: 5 | J59: 42984 | K59: =IF(H59="-","",EDATE(H59,3)+4) -> 43169
A60: 92 | D60: 42302 | E60: 42871 | F60: =IF(D60="","-",IF(E60+G60-D60<=90,"Bilan n°1",IF(AND(E60+G60-D60>90,E60+G60-D60<=180),"Bilan n°2",IF(AND(E60+G60-D60>180,E60+G60-D60<=270),"Bilan n°3",IF(AND(E60+G60-D60>270,E60+G60-D60<=360),"Bilan n°4",IF(AND(E60+G60-D60>360,E60+G60-D60<=450),"Bilan n°5",IF(AND(E60+G60-D60>450,E60+G60-D60<=540),"Bilan n°6",IF(AND(E60+G60-D60>540,E60+G60-D60<=630),"Bilan n°7",IF(AND(E60+G60-D60>630,E60+G60-D60<=720),"Bilan n°8",IF(AND(E60+G60-D60>720,E60+G60-D60<=810),"Bilan n°9",IF(AND(E60+G60-D60>810,E60+G60-D60<=900),"Bilan n°10"))))))))))) -> Bilan n°7 | H60: =IF(OR(F60="Bilan n°1",F60="Bilan n°2",F60="Bilan n°3",F60="Bilan n°4",F60="Bilan n°5",F60="Bilan n°6",F60="Bilan n°7",F60="Bilan n°8",F60="Bilan n°9",F60="Bilan n°10"),EDATE(J60,3)+G60,"-") -> 42980 | I60: 17 | J60: =IF(I60="AP","",IF(E60="-","",IF(E60="","",EDATE(E60,0)+I60))) -> 42888 | K60: =IF(H60="-","",EDATE(H60,3)+4) -> 43075
A61: 93 | D61: 42763 | E61: 42859 | F61: =IF(D61="","-",IF(E61+G61-D61<=90,"Bilan n°1",IF(AND(E61+G61-D61>90,E61+G61-D61<=180),"Bilan n°2",IF(AND(E61+G61-D61>180,E61+G61-D61<=270),"Bilan n°3",IF(AND(E61+G61-D61>270,E61+G61-D61<=360),"Bilan n°4",IF(AND(E61+G61-D61>360,E61+G61-D61<=450),"Bilan n°5",IF(AND(E61+G61-D61>450,E61+G61-D61<=540),"Bilan n°6",IF(AND(E61+G61-D61>540,E61+G61-D61<=630),"Bilan n°7",IF(AND(E61+G61-D61>630,E61+G61-D61<=720),"Bilan n°8",IF(AND(E61+G61-D61>720,E61+G61-D61<=810),"Bilan n°9",IF(AND(E61+G61-D61>810,E61+G61-D61<=900),"Bilan n°10"))))))))))) -> Bilan n°2 | G61: 15 | H61: =IF(OR(F61="Bilan n°1",F61="Bilan n°2",F61="Bilan n°3",F61="Bilan n°4",F61="Bilan n°5",F61="Bilan n°6",F61="Bilan n°7",F61="Bilan n°8",F61="Bilan n°9",F61="Bilan n°10"),EDATE(J61,3)+G61,"-") -> 42981 | I61: 15 | J61: =IF(I61="AP","",IF(E61="-","",IF(E61="","",EDATE(E61,0)+I61))) -> 42874 | K61: =IF(H61="-","",EDATE(H61,3)+4) -> 43076
A62: 95 | D62: 42725 | E62: 42849 | F62: =IF(D62="","-",IF(E62+G62-D62<=90,"Bilan n°1",IF(AND(E62+G62-D62>90,E62+G62-D62<=180),"Bilan n°2",IF(AND(E62+G62-D62>180,E62+G62-D62<=270),"Bilan n°3",IF(AND(E62+G62-D62>270,E62+G62-D62<=360),"Bilan n°4",IF(AND(E62+G62-D62>360,E62+G62-D62<=450),"Bilan n°5",IF(AND(E62+G62-D62>450,E62+G62-D62<=540),"Bilan n°6",IF(AND(E62+G62-D62>540,E62+G62-D62<=630),"Bilan n°7",IF(AND(E62+G62-D62>630,E62+G62-D62<=720),"Bilan n°8",IF(AND(E62+G62-D62>720,E62+G62-D62<=810),"Bilan n°9",IF(AND(E62+G62-D62>810,E62+G62-D62<=900),"Bilan n°10"))))))))))) -> Bilan n°2 | H62: =IF(OR(F62="Bilan n°1",F62="Bilan n°2",F62="Bilan n°3",F62="Bilan n°4",F62="Bilan n°5",F62="Bilan n°6",F62="Bilan n°7",F62="Bilan n°8",F62="Bilan n°9",F62="Bilan n°10"),EDATE(J62,3)+G62,"-") -> 42940 | J62: =IF(I62="AP","",IF(E62="-","",IF(E62="","",EDATE(E62,0)+I62))) -> 42849 | K62: =IF(H62="-","",EDATE(H62,3)+4) -> 43036
A63: 96 | D63: 42725 | E63: 42850 | F63: =IF(D63="","-",IF(E63+G63-D63<=90,"Bilan n°1",IF(AND(E63+G63-D63>90,E63+G63-D63<=180),"Bilan n°2",IF(AND(E63+G63-D63>180,E63+G63-D63<=270),"Bilan n°3",IF(AND(E63+G63-D63>270,E63+G63-D63<=360),"Bilan n°4",IF(AND(E63+G63-D63>360,E63+G63-D63<=450),"Bilan n°5",IF(AND(E63+G63-D63>450,E63+G63-D63<=540),"Bilan n°6",IF(AND(E63+G63-D63>540,E63+G63-D63<=630),"Bilan n°7",IF(AND(E63+G63-D63>630,E63+G63-D63<=720),"Bilan n°8",IF(AND(E63+G63-D63>720,E63+G63-D63<=810),"Bilan n°9",IF(AND(E63+G63-D63>810,E63+G63-D63<=900),"Bilan n°10"))))))))))) -> Bilan n°2 | H63: =IF(OR(F63="Bilan n°1",F63="Bilan n°2",F63="Bilan n°3",F63="Bilan n°4",F63="Bilan n°5",F63="Bilan n°6",F63="Bilan n°7",F63="Bilan n°8",F63="Bilan n°9",F63="Bilan n°10"),EDATE(J63,3)+G63,"-") -> 42946 | I63: 5 | J63: =IF(I63="AP","",IF(E63="-","",IF(E63="","",EDATE(E63,0)+I63))) -> 42855 | K63: =IF(H63="-","",EDATE(H63,3)+4) -> 43042
A64: 99 | D64: 42734 | E64: 42872 | F64: =IF(D64="","-",IF(E64+G64-D64<=90,"Bilan n°1",IF(AND(E64+G64-D64>90,E64+G64-D64<=180),"Bilan n°2",IF(AND(E64+G64-D64>180,E64+G64-D64<=270),"Bilan n°3",IF(AND(E64+G64-D64>270,E64+G64-D64<=360),"Bilan n°4",IF(AND(E64+G64-D64>360,E64+G64-D64<=450),"Bilan n°5",IF(AND(E64+G64-D64>450,E64+G64-D64<=540),"Bilan n°6",IF(AND(E64+G64-D64>540,E64+G64-D64<=630),"Bilan n°7",IF(AND(E64+G64-D64>630,E64+G64-D64<=720),"Bilan n°8",IF(AND(E64+G64-D64>720,E64+G64-D64<=810),"Bilan n°9",IF(AND(E64+G64-D64>810,E64+G64-D64<=900),"Bilan n°10"))))))))))) -> Bilan n°3 | G64: 45 | H64: =IF(OR(F64="Bilan n°1",F64="Bilan n°2",F64="Bilan n°3",F64="Bilan n°4",F64="Bilan n°5",F64="Bilan n°6",F64="Bilan n°7",F64="Bilan n°8",F64="Bilan n°9",F64="Bilan n°10"),EDATE(J64,3)+G64,"-") -> 43012 | I64: 3 | J64: =IF(I64="AP","",IF(E64="-","",IF(E64="","",EDATE(E64,0)+I64))) -> 42875 | K64: =IF(H64="-","",EDATE(H64,3)+4) -> 43108
A65: 100 | D65: 42304 | E65: 42885 | F65: =IF(D65="","-",IF(E65+G65-D65<=90,"Bilan n°1",IF(AND(E65+G65-D65>90,E65+G65-D65<=180),"Bilan n°2",IF(AND(E65+G65-D65>180,E65+G65-D65<=270),"Bilan n°3",IF(AND(E65+G65-D65>270,E65+G65-D65<=360),"Bilan n°4",IF(AND(E65+G65-D65>360,E65+G65-D65<=450),"Bilan n°5",IF(AND(E65+G65-D65>450,E65+G65-D65<=540),"Bilan n°6",IF(AND(E65+G65-D65>540,E65+G65-D65<=630),"Bilan n°7",IF(AND(E65+G65-D65>630,E65+G65-D65<=720),"Bilan n°8",IF(AND(E65+G65-D65>720,E65+G65-D65<=810),"Bilan n°9",IF(AND(E65+G65-D65>810,E65+G65-D65<=900),"Bilan n°10"))))))))))) -> Bilan n°7 | G65: 15 | H65: =IF(OR(F65="Bilan n°1",F65="Bilan n°2",F65="Bilan n°3",F65="Bilan n°4",F65="Bilan n°5",F65="Bilan n°6",F65="Bilan n°7",F65="Bilan n°8",F65="Bilan n°9",F65="Bilan n°10"),EDATE(J65,3)+G65,"-") -> 42999 | I65: 7 | J65: =IF(I65="AP","",IF(E65="-","",IF(E65="","",EDATE(E65,0)+I65))) -> 42892 | K65: =IF(H65="-","",EDATE(H65,3)+4) -> 43094
A66: 101 | D66: 42331 | E66: 42971 | F66: =IF(D66="","-",IF(E66+G66-D66<=90,"Bilan n°1",IF(AND(E66+G66-D66>90,E66+G66-D66<=180),"Bilan n°2",IF(AND(E66+G66-D66>180,E66+G66-D66<=270),"Bilan n°3",IF(AND(E66+G66-D66>270,E66+G66-D66<=360),"Bilan n°4",IF(AND(E66+G66-D66>360,E66+G66-D66<=450),"Bilan n°5",IF(AND(E66+G66-D66>450,E66+G66-D66<=540),"Bilan n°6",IF(AND(E66+G66-D66>540,E66+G66-D66<=630),"Bilan n°7",IF(AND(E66+G66-D66>630,E66+G66-D66<=720),"Bilan n°8",IF(AND(E66+G66-D66>720,E66+G66-D66<=810),"Bilan n°9",IF(AND(E66+G66-D66>810,E66+G66-D66<=900),"Bilan n°10"))))))))))) -> Bilan n°8 | H66: =IF(OR(F66="Bilan n°1",F66="Bilan n°2",F66="Bilan n°3",F66="Bilan n°4",F66="Bilan n°5",F66="Bilan n°6",F66="Bilan n°7",F66="Bilan n°8",F66="Bilan n°9",F66="Bilan n°10"),EDATE(J66,3)+G66,"-") -> 43064 | I66: 1 | J66: =IF(I66="AP","",IF(E66="-","",IF(E66="","",EDATE(E66,0)+I66))) -> 42972 | K66: =IF(H66="-","",EDATE(H66,3)+4) -> 43160
A67: 103 | D67: 42296 | E67: 43007 | F67: =IF(D67="","-",IF(E67+G67-D67<=90,"Bilan n°1",IF(AND(E67+G67-D67>90,E67+G67-D67<=180),"Bilan n°2",IF(AND(E67+G67-D67>180,E67+G67-D67<=270),"Bilan n°3",IF(AND(E67+G67-D67>270,E67+G67-D67<=360),"Bilan n°4",IF(AND(E67+G67-D67>360,E67+G67-D67<=450),"Bilan n°5",IF(AND(E67+G67-D67>450,E67+G67-D67<=540),"Bilan n°6",IF(AND(E67+G67-D67>540,E67+G67-D67<=630),"Bilan n°7",IF(AND(E67+G67-D67>630,E67+G67-D67<=720),"Bilan n°8",IF(AND(E67+G67-D67>720,E67+G67-D67<=810),"Bilan n°9",IF(AND(E67+G67-D67>810,E67+G67-D67<=900),"Bilan n°10"))))))))))) -> Bilan n°8 | H67: =IF(OR(F67="Bilan n°1",F67="Bilan n°2",F67="Bilan n°3",F67="Bilan n°4",F67="Bilan n°5",F67="Bilan n°6",F67="Bilan n°7",F67="Bilan n°8",F67="Bilan n°9",F67="Bilan n°10"),EDATE(J67,3)+G67,"-") -> 43102 | I67: 3 | J67: =IF(I67="AP","",IF(E67="-","",IF(E67="","",EDATE(E67,0)+I67))) -> 43010 | K67: =IF(H67="-","",EDATE(H67,3)+4) -> 43196
A68: 104 | D68: 42780 | E68: 42921 | F68: =IF(D68="","-",IF(E68+G68-D68<=90,"Bilan n°1",IF(AND(E68+G68-D68>90,E68+G68-D68<=180),"Bilan n°2",IF(AND(E68+G68-D68>180,E68+G68-D68<=270),"Bilan n°3",IF(AND(E68+G68-D68>270,E68+G68-D68<=360),"Bilan n°4",IF(AND(E68+G68-D68>360,E68+G68-D68<=450),"Bilan n°5",IF(AND(E68+G68-D68>450,E68+G68-D68<=540),"Bilan n°6",IF(AND(E68+G68-D68>540,E68+G68-D68<=630),"Bilan n°7",IF(AND(E68+G68-D68>630,E68+G68-D68<=720),"Bilan n°8",IF(AND(E68+G68-D68>720,E68+G68-D68<=810),"Bilan n°9",IF(AND(E68+G68-D68>810,E68+G68-D68<=900),"Bilan n°10"))))))))))) -> Bilan n°2 | G68: 15 | H68: =IF(OR(F68="Bilan n°1",F68="Bilan n°2",F68="Bilan n°3",F68="Bilan n°4",F68="Bilan n°5",F68="Bilan n°6",F68="Bilan n°7",F68="Bilan n°8",F68="Bilan n°9",F68="Bilan n°10"),EDATE(J68,3)+G68,"-") -> 43041 | J68: 42934 | K68: =IF(H68="-","",EDATE(H68,3)+4) -> 43137
A69: 105 | D69: 42780 | E69: 42992 | F69: =IF(D69="","-",IF(E69+G69-D69<=90,"Bilan n°1",IF(AND(E69+G69-D69>90,E69+G69-D69<=180),"Bilan n°2",IF(AND(E69+G69-D69>180,E69+G69-D69<=270),"Bilan n°3",IF(AND(E69+G69-D69>270,E69+G69-D69<=360),"Bilan n°4",IF(AND(E69+G69-D69>360,E69+G69-D69<=450),"Bilan n°5",IF(AND(E69+G69-D69>450,E69+G69-D69<=540),"Bilan n°6",IF(AND(E69+G69-D69>540,E69+G69-D69<=630),"Bilan n°7",IF(AND(E69+G69-D69>630,E69+G69-D69<=720),"Bilan n°8",IF(AND(E69+G69-D69>720,E69+G69-D69<=810),"Bilan n°9",IF(AND(E69+G69-D69>810,E69+G69-D69<=900),"Bilan n°10"))))))))))) -> Bilan n°3 | H69: =IF(OR(F69="Bilan n°1",F69="Bilan n°2",F69="Bilan n°3",F69="Bilan n°4",F69="Bilan n°5",F69="Bilan n°6",F69="Bilan n°7",F69="Bilan n°8",F69="Bilan n°9",F69="Bilan n°10"),EDATE(J69,3)+G69,"-") -> 43087 | I69: 4 | J69: =IF(I69="AP","",IF(E69="-","",IF(E69="","",EDATE(E69,0)+I69))) -> 42996 | K69: =IF(H69="-","",EDATE(H69,3)+4) -> 43181
A70: 107 | D70: 42751 | E70: 43006 | F70: =IF(D70="","-",IF(E70+G70-D70<=90,"Bilan n°1",IF(AND(E70+G70-D70>90,E70+G70-D70<=180),"Bilan n°2",IF(AND(E70+G70-D70>180,E70+G70-D70<=270),"Bilan n°3",IF(AND(E70+G70-D70>270,E70+G70-D70<=360),"Bilan n°4",IF(AND(E70+G70-D70>360,E70+G70-D70<=450),"Bilan n°5",IF(AND(E70+G70-D70>450,E70+G70-D70<=540),"Bilan n°6",IF(AND(E70+G70-D70>540,E70+G70-D70<=630),"Bilan n°7",IF(AND(E70+G70-D70>630,E70+G70-D70<=720),"Bilan n°8",IF(AND(E70+G70-D70>720,E70+G70-D70<=810),"Bilan n°9",IF(AND(E70+G70-D70>810,E70+G70-D70<=900),"Bilan n°10"))))))))))) -> Bilan n°3 | H70: =IF(OR(F70="Bilan n°1",F70="Bilan n°2",F70="Bilan n°3",F70="Bilan n°4",F70="Bilan n°5",F70="Bilan n°6",F70="Bilan n°7",F70="Bilan n°8",F70="Bilan n°9",F70="Bilan n°10"),EDATE(J70,3)+G70,"-") -> 43102 | I70: 4 | J70: =IF(I70="AP","",IF(E70="-","",IF(E70="","",EDATE(E70,0)+I70))) -> 43010 | K70: =IF(H70="-","",EDATE(H70,3)+4) -> 43196
A71: 110 | D71: 42314 | F71: =IF(D71="","-",IF(E71+G71-D71<=90,"Bilan n°1",IF(AND(E71+G71-D71>90,E71+G71-D71<=180),"Bilan n°2",IF(AND(E71+G71-D71>180,E71+G71-D71<=270),"Bilan n°3",IF(AND(E71+G71-D71>270,E71+G71-D71<=360),"Bilan n°4",IF(AND(E71+G71-D71>360,E71+G71-D71<=450),"Bilan n°5",IF(AND(E71+G71-D71>450,E71+G71-D71<=540),"Bilan n°6",IF(AND(E71+G71-D71>540,E71+G71-D71<=630),"Bilan n°7",IF(AND(E71+G71-D71>630,E71+G71-D71<=720),"Bilan n°8",IF(AND(E71+G71-D71>720,E71+G71-D71<=810),"Bilan n°9",IF(AND(E71+G71-D71>810,E71+G71-D71<=900),"Bilan n°10"))))))))))) -> Bilan n°1 | H71: =IF(OR(F71="Bilan n°1",F71="Bilan n°2",F71="Bilan n°3",F71="Bilan n°4",F71="Bilan n°5",F71="Bilan n°6",F71="Bilan n°7",F71="Bilan n°8",F71="Bilan n°9",F71="Bilan n°10"),EDATE(J71,3)+G71,"-") -> #VALUE! | J71: =IF(I71="AP","",IF(E71="-","",IF(E71="","",EDATE(E71,0)+I71))) | K71: =IF(H71="-","",EDATE(H71,3)+4) -> #VALUE!
A72: 111 | D72: 42314 | F72: =IF(D72="","-",IF(E72+G72-D72<=90,"Bilan n°1",IF(AND(E72+G72-D72>90,E72+G72-D72<=180),"Bilan n°2",IF(AND(E72+G72-D72>180,E72+G72-D72<=270),"Bilan n°3",IF(AND(E72+G72-D72>270,E72+G72-D72<=360),"Bilan n°4",IF(AND(E72+G72-D72>360,E72+G72-D72<=450),"Bilan n°5",IF(AND(E72+G72-D72>450,E72+G72-D72<=540),"Bilan n°6",IF(AND(E72+G72-D72>540,E72+G72-D72<=630),"Bilan n°7",IF(AND(E72+G72-D72>630,E72+G72-D72<=720),"Bilan n°8",IF(AND(E72+G72-D72>720,E72+G72-D72<=810),"Bilan n°9",IF(AND(E72+G72-D72>810,E72+G72-D72<=900),"Bilan n°10"))))))))))) -> Bilan n°1 | H72: =IF(OR(F72="Bilan n°1",F72="Bilan n°2",F72="Bilan n°3",F72="Bilan n°4",F72="Bilan n°5",F72="Bilan n°6",F72="Bilan n°7",F72="Bilan n°8",F72="Bilan n°9",F72="Bilan n°10"),EDATE(J72,3)+G72,"-") -> #VALUE! | J72: =IF(I72="AP","",IF(E72="-","",IF(E72="","",EDATE(E72,0)+I72))) | K72: =IF(H72="-","",EDATE(H72,3)+4) -> #VALUE!
A73: 114 | D73: 42375 | F73: =IF(D73="","-",IF(E73+G73-D73<=90,"Bilan n°1",IF(AND(E73+G73-D73>90,E73+G73-D73<=180),"Bilan n°2",IF(AND(E73+G73-D73>180,E73+G73-D73<=270),"Bilan n°3",IF(AND(E73+G73-D73>270,E73+G73-D73<=360),"Bilan n°4",IF(AND(E73+G73-D73>360,E73+G73-D73<=450),"Bilan n°5",IF(AND(E73+G73-D73>450,E73+G73-D73<=540),"Bilan n°6",IF(AND(E73+G73-D73>540,E73+G73-D73<=630),"Bilan n°7",IF(AND(E73+G73-D73>630,E73+G73-D73<=720),"Bilan n°8",IF(AND(E73+G73-D73>720,E73+G73-D73<=810),"Bilan n°9",IF(AND(E73+G73-D73>810,E73+G73-D73<=900),"Bilan n°10"))))))))))) -> Bilan n°1 | H73: =IF(OR(F73="Bilan n°1",F73="Bilan n°2",F73="Bilan n°3",F73="Bilan n°4",F73="Bilan n°5",F73="Bilan n°6",F73="Bilan n°7",F73="Bilan n°8",F73="Bilan n°9",F73="Bilan n°10"),EDATE(J73,3)+G73,"-") -> #VALUE! | J73: =IF(I73="AP","",IF(E73="-","",IF(E73="","",EDATE(E73,0)+I73))) | K73: =IF(H73="-","",EDATE(H73,3)+4) -> #VALUE!
A74: 117 | D74: 42335 | E74: 42807 | F74: =IF(D74="","-",IF(E74+G74-D74<=90,"Bilan n°1",IF(AND(E74+G74-D74>90,E74+G74-D74<=180),"Bilan n°2",IF(AND(E74+G74-D74>180,E74+G74-D74<=270),"Bilan n°3",IF(AND(E74+G74-D74>270,E74+G74-D74<=360),"Bilan n°4",IF(AND(E74+G74-D74>360,E74+G74-D74<=450),"Bilan n°5",IF(AND(E74+G74-D74>450,E74+G74-D74<=540),"Bilan n°6",IF(AND(E74+G74-D74>540,E74+G74-D74<=630),"Bilan n°7",IF(AND(E74+G74-D74>630,E74+G74-D74<=720),"Bilan n°8",IF(AND(E74+G74-D74>720,E74+G74-D74<=810),"Bilan n°9",IF(AND(E74+G74-D74>810,E74+G74-D74<=900),"Bilan n°10"))))))))))) -> Bilan n°6 | H74: =IF(OR(F74="Bilan n°1",F74="Bilan n°2",F74="Bilan n°3",F74="Bilan n°4",F74="Bilan n°5",F74="Bilan n°6",F74="Bilan n°7",F74="Bilan n°8",F74="Bilan n°9",F74="Bilan n°10"),EDATE(J74,3)+G74,"-") -> 42899 | J74: =IF(I74="AP","",IF(E74="-","",IF(E74="","",EDATE(E74,0)+I74))) -> 42807 | K74: =IF(H74="-","",EDATE(H74,3)+4) -> 42995
A75: 119 | D75: 42335 | E75: 42678 | F75: =IF(D75="","-",IF(E75+G75-D75<=90,"Bilan n°1",IF(AND(E75+G75-D75>90,E75+G75-D75<=180),"Bilan n°2",IF(AND(E75+G75-D75>180,E75+G75-D75<=270),"Bilan n°3",IF(AND(E75+G75-D75>270,E75+G75-D75<=360),"Bilan n°4",IF(AND(E75+G75-D75>360,E75+G75-D75<=450),"Bilan n°5",IF(AND(E75+G75-D75>450,E75+G75-D75<=540),"Bilan n°6",IF(AND(E75+G75-D75>540,E75+G75-D75<=630),"Bilan n°7",IF(AND(E75+G75-D75>630,E75+G75-D75<=720),"Bilan n°8",IF(AND(E75+G75-D75>720,E75+G75-D75<=810),"Bilan n°9",IF(AND(E75+G75-D75>810,E75+G75-D75<=900),"Bilan n°10"))))))))))) -> Bilan n°4 | H75: =IF(OR(F75="Bilan n°1",F75="Bilan n°2",F75="Bilan n°3",F75="Bilan n°4",F75="Bilan n°5",F75="Bilan n°6",F75="Bilan n°7",F75="Bilan n°8",F75="Bilan n°9",F75="Bilan n°10"),EDATE(J75,3)+G75,"-") -> 42770 | J75: =IF(I75="AP","",IF(E75="-","",IF(E75="","",EDATE(E75,0)+I75))) -> 42678 | K75: =IF(H75="-","",EDATE(H75,3)+4) -> 42863
A76: 122 | D76: 42341 | E76: 42839 | F76: =IF(D76="","-",IF(E76+G76-D76<=90,"Bilan n°1",IF(AND(E76+G76-D76>90,E76+G76-D76<=180),"Bilan n°2",IF(AND(E76+G76-D76>180,E76+G76-D76<=270),"Bilan n°3",IF(AND(E76+G76-D76>270,E76+G76-D76<=360),"Bilan n°4",IF(AND(E76+G76-D76>360,E76+G76-D76<=450),"Bilan n°5",IF(AND(E76+G76-D76>450,E76+G76-D76<=540),"Bilan n°6",IF(AND(E76+G76-D76>540,E76+G76-D76<=630),"Bilan n°7",IF(AND(E76+G76-D76>630,E76+G76-D76<=720),"Bilan n°8",IF(AND(E76+G76-D76>720,E76+G76-D76<=810),"Bilan n°9",IF(AND(E76+G76-D76>810,E76+G76-D76<=900),"Bilan n°10"))))))))))) -> Bilan n°6 | H76: =IF(OR(F76="Bilan n°1",F76="Bilan n°2",F76="Bilan n°3",F76="Bilan n°4",F76="Bilan n°5",F76="Bilan n°6",F76="Bilan n°7",F76="Bilan n°8",F76="Bilan n°9",F76="Bilan n°10"),EDATE(J76,3)+G76,"-") -> 42930 | J76: =IF(I76="AP","",IF(E76="-","",IF(E76="","",EDATE(E76,0)+I76))) -> 42839 | K76: =IF(H76="-","",EDATE(H76,3)+4) -> 43026
A77: 123 | D77: 42339 | E77: 42872 | F77: =IF(D77="","-",IF(E77+G77-D77<=90,"Bilan n°1",IF(AND(E77+G77-D77>90,E77+G77-D77<=180),"Bilan n°2",IF(AND(E77+G77-D77>180,E77+G77-D77<=270),"Bilan n°3",IF(AND(E77+G77-D77>270,E77+G77-D77<=360),"Bilan n°4",IF(AND(E77+G77-D77>360,E77+G77-D77<=450),"Bilan n°5",IF(AND(E77+G77-D77>450,E77+G77-D77<=540),"Bilan n°6",IF(AND(E77+G77-D77>540,E77+G77-D77<=630),"Bilan n°7",IF(AND(E77+G77-D77>630,E77+G77-D77<=720),"Bilan n°8",IF(AND(E77+G77-D77>720,E77+G77-D77<=810),"Bilan n°9",IF(AND(E77+G77-D77>810,E77+G77-D77<=900),"Bilan n°10"))))))))))) -> Bilan n°6 | H77: =IF(OR(F77="Bilan n°1",F77="Bilan n°2",F77="Bilan n°3",F77="Bilan n°4",F77="Bilan n°5",F77="Bilan n°6",F77="Bilan n°7",F77="Bilan n°8",F77="Bilan n°9",F77="Bilan n°10"),EDATE(J77,3)+G77,"-") -> 42966 | I77: 2 | J77: =IF(I77="AP","",IF(E77="-","",IF(E77="","",EDATE(E77,0)+I77))) -> 42874 | K77: =IF(H77="-","",EDATE(H77,3)+4) -> 43062
A78: 125 | D78: 42339 | E78: 42517 | F78: =IF(D78="","-",IF(E78+G78-D78<=90,"Bilan n°1",IF(AND(E78+G78-D78>90,E78+G78-D78<=180),"Bilan n°2",IF(AND(E78+G78-D78>180,E78+G78-D78<=270),"Bilan n°3",IF(AND(E78+G78-D78>270,E78+G78-D78<=360),"Bilan n°4",IF(AND(E78+G78-D78>360,E78+G78-D78<=450),"Bilan n°5",IF(AND(E78+G78-D78>450,E78+G78-D78<=540),"Bilan n°6",IF(AND(E78+G78-D78>540,E78+G78-D78<=630),"Bilan n°7",IF(AND(E78+G78-D78>630,E78+G78-D78<=720),"Bilan n°8",IF(AND(E78+G78-D78>720,E78+G78-D78<=810),"Bilan n°9",IF(AND(E78+G78-D78>810,E78+G78-D78<=900),"Bilan n°10"))))))))))) -> Bilan n°2 | H78: =IF(OR(F78="Bilan n°1",F78="Bilan n°2",F78="Bilan n°3",F78="Bilan n°4",F78="Bilan n°5",F78="Bilan n°6",F78="Bilan n°7",F78="Bilan n°8",F78="Bilan n°9",F78="Bilan n°10"),EDATE(J78,3)+G78,"-") -> 42609 | J78: =IF(I78="AP","",IF(E78="-","",IF(E78="","",EDATE(E78,0)+I78))) -> 42517 | K78: =IF(H78="-","",EDATE(H78,3)+4) -> 42705
A79: 126 | D79: 42352 | E79: 42978 | F79: =IF(D79="","-",IF(E79+G79-D79<=90,"Bilan n°1",IF(AND(E79+G79-D79>90,E79+G79-D79<=180),"Bilan n°2",IF(AND(E79+G79-D79>180,E79+G79-D79<=270),"Bilan n°3",IF(AND(E79+G79-D79>270,E79+G79-D79<=360),"Bilan n°4",IF(AND(E79+G79-D79>360,E79+G79-D79<=450),"Bilan n°5",IF(AND(E79+G79-D79>450,E79+G79-D79<=540),"Bilan n°6",IF(AND(E79+G79-D79>540,E79+G79-D79<=630),"Bilan n°7",IF(AND(E79+G79-D79>630,E79+G79-D79<=720),"Bilan n°8",IF(AND(E79+G79-D79>720,E79+G79-D79<=810),"Bilan n°9",IF(AND(E79+G79-D79>810,E79+G79-D79<=900),"Bilan n°10"))))))))))) -> Bilan n°7 | H79: =IF(OR(F79="Bilan n°1",F79="Bilan n°2",F79="Bilan n°3",F79="Bilan n°4",F79="Bilan n°5",F79="Bilan n°6",F79="Bilan n°7",F79="Bilan n°8",F79="Bilan n°9",F79="Bilan n°10"),EDATE(J79,3)+G79,"-") -> 43074 | I79: 5 | J79: =IF(I79="AP","",IF(E79="-","",IF(E79="","",EDATE(E79,0)+I79))) -> 42983 | K79: =IF(H79="-","",EDATE(H79,3)+4) -> 43168
A80: 128 | D80: 42341 | E80: 43003 | F80: =IF(D80="","-",IF(E80+G80-D80<=90,"Bilan n°1",IF(AND(E80+G80-D80>90,E80+G80-D80<=180),"Bilan n°2",IF(AND(E80+G80-D80>180,E80+G80-D80<=270),"Bilan n°3",IF(AND(E80+G80-D80>270,E80+G80-D80<=360),"Bilan n°4",IF(AND(E80+G80-D80>360,E80+G80-D80<=450),"Bilan n°5",IF(AND(E80+G80-D80>450,E80+G80-D80<=540),"Bilan n°6",IF(AND(E80+G80-D80>540,E80+G80-D80<=630),"Bilan n°7",IF(AND(E80+G80-D80>630,E80+G80-D80<=720),"Bilan n°8",IF(AND(E80+G80-D80>720,E80+G80-D80<=810),"Bilan n°9",IF(AND(E80+G80-D80>810,E80+G80-D80<=900),"Bilan n°10"))))))))))) -> Bilan n°8 | H80: =IF(OR(F80="Bilan n°1",F80="Bilan n°2",F80="Bilan n°3",F80="Bilan n°4",F80="Bilan n°5",F80="Bilan n°6",F80="Bilan n°7",F80="Bilan n°8",F80="Bilan n°9",F80="Bilan n°10"),EDATE(J80,3)+G80,"-") -> 43097 | I80: 3 | J80: =IF(I80="AP","",IF(E80="-","",IF(E80="","",EDATE(E80,0)+I80))) -> 43006 | K80: =IF(H80="-","",EDATE(H80,3)+4) -> 43191
A81: 129 | D81: 42341 | E81: 42753 | F81: =IF(D81="","-",IF(E81+G81-D81<=90,"Bilan n°1",IF(AND(E81+G81-D81>90,E81+G81-D81<=180),"Bilan n°2",IF(AND(E81+G81-D81>180,E81+G81-D81<=270),"Bilan n°3",IF(AND(E81+G81-D81>270,E81+G81-D81<=360),"Bilan n°4",IF(AND(E81+G81-D81>360,E81+G81-D81<=450),"Bilan n°5",IF(AND(E81+G81-D81>450,E81+G81-D81<=540),"Bilan n°6",IF(AND(E81+G81-D81>540,E81+G81-D81<=630),"Bilan n°7",IF(AND(E81+G81-D81>630,E81+G81-D81<=720),"Bilan n°8",IF(AND(E81+G81-D81>720,E81+G81-D81<=810),"Bilan n°9",IF(AND(E81+G81-D81>810,E81+G81-D81<=900),"Bilan n°10"))))))))))) -> Bilan n°5 | H81: =IF(OR(F81="Bilan n°1",F81="Bilan n°2",F81="Bilan n°3",F81="Bilan n°4",F81="Bilan n°5",F81="Bilan n°6",F81="Bilan n°7",F81="Bilan n°8",F81="Bilan n°9",F81="Bilan n°10"),EDATE(J81,3)+G81,"-") -> 42843 | J81: =IF(I81="AP","",IF(E81="-","",IF(E81="","",EDATE(E81,0)+I81))) -> 42753 | K81: =IF(H81="-","",EDATE(H81,3)+4) -> 42938
A82: 133 | D82: 42348 | E82: 42990 | F82: =IF(D82="","-",IF(E82+G82-D82<=90,"Bilan n°1",IF(AND(E82+G82-D82>90,E82+G82-D82<=180),"Bilan n°2",IF(AND(E82+G82-D82>180,E82+G82-D82<=270),"Bilan n°3",IF(AND(E82+G82-D82>270,E82+G82-D82<=360),"Bilan n°4",IF(AND(E82+G82-D82>360,E82+G82-D82<=450),"Bilan n°5",IF(AND(E82+G82-D82>450,E82+G82-D82<=540),"Bilan n°6",IF(AND(E82+G82-D82>540,E82+G82-D82<=630),"Bilan n°7",IF(AND(E82+G82-D82>630,E82+G82-D82<=720),"Bilan n°8",IF(AND(E82+G82-D82>720,E82+G82-D82<=810),"Bilan n°9",IF(AND(E82+G82-D82>810,E82+G82-D82<=900),"Bilan n°10"))))))))))) -> Bilan n°8 | H82: =IF(OR(F82="Bilan n°1",F82="Bilan n°2",F82="Bilan n°3",F82="Bilan n°4",F82="Bilan n°5",F82="Bilan n°6",F82="Bilan n°7",F82="Bilan n°8",F82="Bilan n°9",F82="Bilan n°10"),EDATE(J82,3)+G82,"-") -> 43083 | I82: 2 | J82: =IF(I82="AP","",IF(E82="-","",IF(E82="","",EDATE(E82,0)+I82))) -> 42992 | K82: =IF(H82="-","",EDATE(H82,3)+4) -> 43177
A83: 137 | D83: 42355 | E83: 39262 | F83: =IF(D83="","-",IF(E83+G83-D83<=90,"Bilan n°1",IF(AND(E83+G83-D83>90,E83+G83-D83<=180),"Bilan n°2",IF(AND(E83+G83-D83>180,E83+G83-D83<=270),"Bilan n°3",IF(AND(E83+G83-D83>270,E83+G83-D83<=360),"Bilan n°4",IF(AND(E83+G83-D83>360,E83+G83-D83<=450),"Bilan n°5",IF(AND(E83+G83-D83>450,E83+G83-D83<=540),"Bilan n°6",IF(AND(E83+G83-D83>540,E83+G83-D83<=630),"Bilan n°7",IF(AND(E83+G83-D83>630,E83+G83-D83<=720),"Bilan n°8",IF(AND(E83+G83-D83>720,E83+G83-D83<=810),"Bilan n°9",IF(AND(E83+G83-D83>810,E83+G83-D83<=900),"Bilan n°10"))))))))))) -> Bilan n°1 | H83: =IF(OR(F83="Bilan n°1",F83="Bilan n°2",F83="Bilan n°3",F83="Bilan n°4",F83="Bilan n°5",F83="Bilan n°6",F83="Bilan n°7",F83="Bilan n°8",F83="Bilan n°9",F83="Bilan n°10"),EDATE(J83,3)+G83,"-") -> 39358 | I83: 4 | J83: =IF(I83="AP","",IF(E83="-","",IF(E83="","",EDATE(E83,0)+I83))) -> 39266 | K83: =IF(H83="-","",EDATE(H83,3)+4) -> 39454
A84: 138 | D84: 42366 | E84: 42849 | F84: =IF(D84="","-",IF(E84+G84-D84<=90,"Bilan n°1",IF(AND(E84+G84-D84>90,E84+G84-D84<=180),"Bilan n°2",IF(AND(E84+G84-D84>180,E84+G84-D84<=270),"Bilan n°3",IF(AND(E84+G84-D84>270,E84+G84-D84<=360),"Bilan n°4",IF(AND(E84+G84-D84>360,E84+G84-D84<=450),"Bilan n°5",IF(AND(E84+G84-D84>450,E84+G84-D84<=540),"Bilan n°6",IF(AND(E84+G84-D84>540,E84+G84-D84<=630),"Bilan n°7",IF(AND(E84+G84-D84>630,E84+G84-D84<=720),"Bilan n°8",IF(AND(E84+G84-D84>720,E84+G84-D84<=810),"Bilan n°9",IF(AND(E84+G84-D84>810,E84+G84-D84<=900),"Bilan n°10"))))))))))) -> Bilan n°6 | H84: =IF(OR(F84="Bilan n°1",F84="Bilan n°2",F84="Bilan n°3",F84="Bilan n°4",F84="Bilan n°5",F84="Bilan n°6",F84="Bilan n°7",F84="Bilan n°8",F84="Bilan n°9",F84="Bilan n°10"),EDATE(J84,3)+G84,"-") -> 42940 | J84: =IF(I84="AP","",IF(E84="-","",IF(E84="","",EDATE(E84,0)+I84))) -> 42849 | K84: =IF(H84="-","",EDATE(H84,3)+4) -> 43036
A85: 139 | D85: 42361 | E85: 42730 | F85: =IF(D85="","-",IF(E85+G85-D85<=90,"Bilan n°1",IF(AND(E85+G85-D85>90,E85+G85-D85<=180),"Bilan n°2",IF(AND(E85+G85-D85>180,E85+G85-D85<=270),"Bilan n°3",IF(AND(E85+G85-D85>270,E85+G85-D85<=360),"Bilan n°4",IF(AND(E85+G85-D85>360,E85+G85-D85<=450),"Bilan n°5",IF(AND(E85+G85-D85>450,E85+G85-D85<=540),"Bilan n°6",IF(AND(E85+G85-D85>540,E85+G85-D85<=630),"Bilan n°7",IF(AND(E85+G85-D85>630,E85+G85-D85<=720),"Bilan n°8",IF(AND(E85+G85-D85>720,E85+G85-D85<=810),"Bilan n°9",IF(AND(E85+G85-D85>810,E85+G85-D85<=900),"Bilan n°10"))))))))))) -> Bilan n°5 | H85: =IF(OR(F85="Bilan n°1",F85="Bilan n°2",F85="Bilan n°3",F85="Bilan n°4",F85="Bilan n°5",F85="Bilan n°6",F85="Bilan n°7",F85="Bilan n°8",F85="Bilan n°9",F85="Bilan n°10"),EDATE(J85,3)+G85,"-") -> 42820 | J85: =IF(I85="AP","",IF(E85="-","",IF(E85="","",EDATE(E85,0)+I85))) -> 42730 | K85: =IF(H85="-","",EDATE(H85,3)+4) -> 42916
A86: 140 | D86: 42363 | F86: =IF(D86="","-",IF(E86+G86-D86<=90,"Bilan n°1",IF(AND(E86+G86-D86>90,E86+G86-D86<=180),"Bilan n°2",IF(AND(E86+G86-D86>180,E86+G86-D86<=270),"Bilan n°3",IF(AND(E86+G86-D86>270,E86+G86-D86<=360),"Bilan n°4",IF(AND(E86+G86-D86>360,E86+G86-D86<=450),"Bilan n°5",IF(AND(E86+G86-D86>450,E86+G86-D86<=540),"Bilan n°6",IF(AND(E86+G86-D86>540,E86+G86-D86<=630),"Bilan n°7",IF(AND(E86+G86-D86>630,E86+G86-D86<=720),"Bilan n°8",IF(AND(E86+G86-D86>720,E86+G86-D86<=810),"Bilan n°9",IF(AND(E86+G86-D86>810,E86+G86-D86<=900),"Bilan n°10"))))))))))) -> Bilan n°1 | H86: =IF(OR(F86="Bilan n°1",F86="Bilan n°2",F86="Bilan n°3",F86="Bilan n°4",F86="Bilan n°5",F86="Bilan n°6",F86="Bilan n°7",F86="Bilan n°8",F86="Bilan n°9",F86="Bilan n°10"),EDATE(J86,3)+G86,"-") -> #VALUE! | J86: =IF(I86="AP","",IF(E86="-","",IF(E86="","",EDATE(E86,0)+I86))) | K86: =IF(H86="-","",EDATE(H86,3)+4) -> #VALUE!
A87: 142 | D87: 42846 | E87: 42919 | F87: =IF(D87="","-",IF(E87+G87-D87<=90,"Bilan n°1",IF(AND(E87+G87-D87>90,E87+G87-D87<=180),"Bilan n°2",IF(AND(E87+G87-D87>180,E87+G87-D87<=270),"Bilan n°3",IF(AND(E87+G87-D87>270,E87+G87-D87<=360),"Bilan n°4",IF(AND(E87+G87-D87>360,E87+G87-D87<=450),"Bilan n°5",IF(AND(E87+G87-D87>450,E87+G87-D87<=540),"Bilan n°6",IF(AND(E87+G87-D87>540,E87+G87-D87<=630),"Bilan n°7",IF(AND(E87+G87-D87>630,E87+G87-D87<=720),"Bilan n°8",IF(AND(E87+G87-D87>720,E87+G87-D87<=810),"Bilan n°9",IF(AND(E87+G87-D87>810,E87+G87-D87<=900),"Bilan n°10"))))))))))) -> Bilan n°1 | H87: =IF(OR(F87="Bilan n°1",F87="Bilan n°2",F87="Bilan n°3",F87="Bilan n°4",F87="Bilan n°5",F87="Bilan n°6",F87="Bilan n°7",F87="Bilan n°8",F87="Bilan n°9",F87="Bilan n°10"),EDATE(J87,3)+G87,"-") -> 43018 | I87: 7 | J87: =IF(I87="AP","",IF(E87="-","",IF(E87="","",EDATE(E87,0)+I87))) -> 42926 | K87: =IF(H87="-","",EDATE(H87,3)+4) -> 43114
A88: 147 | D88: 42423 | E88: 42762 | F88: =IF(D88="","-",IF(E88+G88-D88<=90,"Bilan n°1",IF(AND(E88+G88-D88>90,E88+G88-D88<=180),"Bilan n°2",IF(AND(E88+G88-D88>180,E88+G88-D88<=270),"Bilan n°3",IF(AND(E88+G88-D88>270,E88+G88-D88<=360),"Bilan n°4",IF(AND(E88+G88-D88>360,E88+G88-D88<=450),"Bilan n°5",IF(AND(E88+G88-D88>450,E88+G88-D88<=540),"Bilan n°6",IF(AND(E88+G88-D88>540,E88+G88-D88<=630),"Bilan n°7",IF(AND(E88+G88-D88>630,E88+G88-D88<=720),"Bilan n°8",IF(AND(E88+G88-D88>720,E88+G88-D88<=810),"Bilan n°9",IF(AND(E88+G88-D88>810,E88+G88-D88<=900),"Bilan n°10"))))))))))) -> Bilan n°4 | H88: =IF(OR(F88="Bilan n°1",F88="Bilan n°2",F88="Bilan n°3",F88="Bilan n°4",F88="Bilan n°5",F88="Bilan n°6",F88="Bilan n°7",F88="Bilan n°8",F88="Bilan n°9",F88="Bilan n°10"),EDATE(J88,3)+G88,"-") -> 42852 | J88: =IF(I88="AP","",IF(E88="-","",IF(E88="","",EDATE(E88,0)+I88))) -> 42762 | K88: =IF(H88="-","",EDATE(H88,3)+4) -> 42947
A89: 148 | D89: 42382 | E89: 43007 | F89: =IF(D89="","-",IF(E89+G89-D89<=90,"Bilan n°1",IF(AND(E89+G89-D89>90,E89+G89-D89<=180),"Bilan n°2",IF(AND(E89+G89-D89>180,E89+G89-D89<=270),"Bilan n°3",IF(AND(E89+G89-D89>270,E89+G89-D89<=360),"Bilan n°4",IF(AND(E89+G89-D89>360,E89+G89-D89<=450),"Bilan n°5",IF(AND(E89+G89-D89>450,E89+G89-D89<=540),"Bilan n°6",IF(AND(E89+G89-D89>540,E89+G89-D89<=630),"Bilan n°7",IF(AND(E89+G89-D89>630,E89+G89-D89<=720),"Bilan n°8",IF(AND(E89+G89-D89>720,E89+G89-D89<=810),"Bilan n°9",IF(AND(E89+G89-D89>810,E89+G89-D89<=900),"Bilan n°10"))))))))))) -> Bilan n°7 | H89: =IF(OR(F89="Bilan n°1",F89="Bilan n°2",F89="Bilan n°3",F89="Bilan n°4",F89="Bilan n°5",F89="Bilan n°6",F89="Bilan n°7",F89="Bilan n°8",F89="Bilan n°9",F89="Bilan n°10"),EDATE(J89,3)+G89,"-") -> 43102 | I89: 3 | J89: =IF(I89="AP","",IF(E89="-","",IF(E89="","",EDATE(E89,0)+I89))) -> 43010 | K89: =IF(H89="-","",EDATE(H89,3)+4) -> 43196
A90: 149 | D90: 42391 | E90: 42960 | F90: =IF(D90="","-",IF(E90+G90-D90<=90,"Bilan n°1",IF(AND(E90+G90-D90>90,E90+G90-D90<=180),"Bilan n°2",IF(AND(E90+G90-D90>180,E90+G90-D90<=270),"Bilan n°3",IF(AND(E90+G90-D90>270,E90+G90-D90<=360),"Bilan n°4",IF(AND(E90+G90-D90>360,E90+G90-D90<=450),"Bilan n°5",IF(AND(E90+G90-D90>450,E90+G90-D90<=540),"Bilan n°6",IF(AND(E90+G90-D90>540,E90+G90-D90<=630),"Bilan n°7",IF(AND(E90+G90-D90>630,E90+G90-D90<=720),"Bilan n°8",IF(AND(E90+G90-D90>720,E90+G90-D90<=810),"Bilan n°9",IF(AND(E90+G90-D90>810,E90+G90-D90<=900),"Bilan n°10"))))))))))) -> Bilan n°7 | H90: =IF(OR(F90="Bilan n°1",F90="Bilan n°2",F90="Bilan n°3",F90="Bilan n°4",F90="Bilan n°5",F90="Bilan n°6",F90="Bilan n°7",F90="Bilan n°8",F90="Bilan n°9",F90="Bilan n°10"),EDATE(J90,3)+G90,"-") -> 43052 | J90: =IF(I90="AP","",IF(E90="-","",IF(E90="","",EDATE(E90,0)+I90))) -> 42960 | K90: =IF(H90="-","",EDATE(H90,3)+4) -> 43148
A91: 151 | D91: 42381 | E91: 42972 | F91: =IF(D91="","-",IF(E91+G91-D91<=90,"Bilan n°1",IF(AND(E91+G91-D91>90,E91+G91-D91<=180),"Bilan n°2",IF(AND(E91+G91-D91>180,E91+G91-D91<=270),"Bilan n°3",IF(AND(E91+G91-D91>270,E91+G91-D91<=360),"Bilan n°4",IF(AND(E91+G91-D91>360,E91+G91-D91<=450),"Bilan n°5",IF(AND(E91+G91-D91>450,E91+G91-D91<=540),"Bilan n°6",IF(AND(E91+G91-D91>540,E91+G91-D91<=630),"Bilan n°7",IF(AND(E91+G91-D91>630,E91+G91-D91<=720),"Bilan n°8",IF(AND(E91+G91-D91>720,E91+G91-D91<=810),"Bilan n°9",IF(AND(E91+G91-D91>810,E91+G91-D91<=900),"Bilan n°10"))))))))))) -> Bilan n°7 | H91: =IF(OR(F91="Bilan n°1",F91="Bilan n°2",F91="Bilan n°3",F91="Bilan n°4",F91="Bilan n°5",F91="Bilan n°6",F91="Bilan n°7",F91="Bilan n°8",F91="Bilan n°9",F91="Bilan n°10"),EDATE(J91,3)+G91,"-") -> 43089 | I91: 26 | J91: =IF(I91="AP","",IF(E91="-","",IF(E91="","",EDATE(E91,0)+I91))) -> 42998 | K91: =IF(H91="-","",EDATE(H91,3)+4) -> 43183
A92: 152 | D92: 42380 | E92: 42858 | F92: =IF(D92="","-",IF(E92+G92-D92<=90,"Bilan n°1",IF(AND(E92+G92-D92>90,E92+G92-D92<=180),"Bilan n°2",IF(AND(E92+G92-D92>180,E92+G92-D92<=270),"Bilan n°3",IF(AND(E92+G92-D92>270,E92+G92-D92<=360),"Bilan n°4",IF(AND(E92+G92-D92>360,E92+G92-D92<=450),"Bilan n°5",IF(AND(E92+G92-D92>450,E92+G92-D92<=540),"Bilan n°6",IF(AND(E92+G92-D92>540,E92+G92-D92<=630),"Bilan n°7",IF(AND(E92+G92-D92>630,E92+G92-D92<=720),"Bilan n°8",IF(AND(E92+G92-D92>720,E92+G92-D92<=810),"Bilan n°9",IF(AND(E92+G92-D92>810,E92+G92-D92<=900),"Bilan n°10"))))))))))) -> Bilan n°6 | H92: =IF(OR(F92="Bilan n°1",F92="Bilan n°2",F92="Bilan n°3",F92="Bilan n°4",F92="Bilan n°5",F92="Bilan n°6",F92="Bilan n°7",F92="Bilan n°8",F92="Bilan n°9",F92="Bilan n°10"),EDATE(J92,3)+G92,"-") -> 42959 | I92: 9 | J92: =IF(I92="AP","",IF(E92="-","",IF(E92="","",EDATE(E92,0)+I92))) -> 42867 | K92: =IF(H92="-","",EDATE(H92,3)+4) -> 43055
A93: 153 | D93: 42381 | E93: 42859 | F93: =IF(D93="","-",IF(E93+G93-D93<=90,"Bilan n°1",IF(AND(E93+G93-D93>90,E93+G93-D93<=180),"Bilan n°2",IF(AND(E93+G93-D93>180,E93+G93-D93<=270),"Bilan n°3",IF(AND(E93+G93-D93>270,E93+G93-D93<=360),"Bilan n°4",IF(AND(E93+G93-D93>360,E93+G93-D93<=450),"Bilan n°5",IF(AND(E93+G93-D93>450,E93+G93-D93<=540),"Bilan n°6",IF(AND(E93+G93-D93>540,E93+G93-D93<=630),"Bilan n°7",IF(AND(E93+G93-D93>630,E93+G93-D93<=720),"Bilan n°8",IF(AND(E93+G93-D93>720,E93+G93-D93<=810),"Bilan n°9",IF(AND(E93+G93-D93>810,E93+G93-D93<=900),"Bilan n°10"))))))))))) -> Bilan n°6 | H93: =IF(OR(F93="Bilan n°1",F93="Bilan n°2",F93="Bilan n°3",F93="Bilan n°4",F93="Bilan n°5",F93="Bilan n°6",F93="Bilan n°7",F93="Bilan n°8",F93="Bilan n°9",F93="Bilan n°10"),EDATE(J93,3)+G93,"-") -> 42958 | I93: 7 | J93: =IF(I93="AP","",IF(E93="-","",IF(E93="","",EDATE(E93,0)+I93))) -> 42866 | K93: =IF(H93="-","",EDATE(H93,3)+4) -> 43054
A94: 157 | D94: 42748 | E94: 42922 | F94: =IF(D94="","-",IF(E94+G94-D94<=90,"Bilan n°1",IF(AND(E94+G94-D94>90,E94+G94-D94<=180),"Bilan n°2",IF(AND(E94+G94-D94>180,E94+G94-D94<=270),"Bilan n°3",IF(AND(E94+G94-D94>270,E94+G94-D94<=360),"Bilan n°4",IF(AND(E94+G94-D94>360,E94+G94-D94<=450),"Bilan n°5",IF(AND(E94+G94-D94>450,E94+G94-D94<=540),"Bilan n°6",IF(AND(E94+G94-D94>540,E94+G94-D94<=630),"Bilan n°7",IF(AND(E94+G94-D94>630,E94+G94-D94<=720),"Bilan n°8",IF(AND(E94+G94-D94>720,E94+G94-D94<=810),"Bilan n°9",IF(AND(E94+G94-D94>810,E94+G94-D94<=900),"Bilan n°10"))))))))))) -> Bilan n°2 | H94: =IF(OR(F94="Bilan n°1",F94="Bilan n°2",F94="Bilan n°3",F94="Bilan n°4",F94="Bilan n°5",F94="Bilan n°6",F94="Bilan n°7",F94="Bilan n°8",F94="Bilan n°9",F94="Bilan n°10"),EDATE(J94,3)+G94,"-") -> 43042 | I94: 28 | J94: =IF(I94="AP","",IF(E94="-","",IF(E94="","",EDATE(E94,0)+I94))) -> 42950 | K94: =IF(H94="-","",EDATE(H94,3)+4) -> 43138
A95: 158 | D95: 42394 | E95: 42779 | F95: =IF(D95="","-",IF(E95+G95-D95<=90,"Bilan n°1",IF(AND(E95+G95-D95>90,E95+G95-D95<=180),"Bilan n°2",IF(AND(E95+G95-D95>180,E95+G95-D95<=270),"Bilan n°3",IF(AND(E95+G95-D95>270,E95+G95-D95<=360),"Bilan n°4",IF(AND(E95+G95-D95>360,E95+G95-D95<=450),"Bilan n°5",IF(AND(E95+G95-D95>450,E95+G95-D95<=540),"Bilan n°6",IF(AND(E95+G95-D95>540,E95+G95-D95<=630),"Bilan n°7",IF(AND(E95+G95-D95>630,E95+G95-D95<=720),"Bilan n°8",IF(AND(E95+G95-D95>720,E95+G95-D95<=810),"Bilan n°9",IF(AND(E95+G95-D95>810,E95+G95-D95<=900),"Bilan n°10"))))))))))) -> Bilan n°5 | G95: 30 | H95: =IF(OR(F95="Bilan n°1",F95="Bilan n°2",F95="Bilan n°3",F95="Bilan n°4",F95="Bilan n°5",F95="Bilan n°6",F95="Bilan n°7",F95="Bilan n°8",F95="Bilan n°9",F95="Bilan n°10"),EDATE(J95,3)+G95,"-") -> 42898 | J95: =IF(I95="AP","",IF(E95="-","",IF(E95="","",EDATE(E95,0)+I95))) -> 42779 | K95: =IF(H95="-","",EDATE(H95,3)+4) -> 42994
A96: 159 | D96: 42387 | E96: 42822 | F96: =IF(D96="","-",IF(E96+G96-D96<=90,"Bilan n°1",IF(AND(E96+G96-D96>90,E96+G96-D96<=180),"Bilan n°2",IF(AND(E96+G96-D96>180,E96+G96-D96<=270),"Bilan n°3",IF(AND(E96+G96-D96>270,E96+G96-D96<=360),"Bilan n°4",IF(AND(E96+G96-D96>360,E96+G96-D96<=450),"Bilan n°5",IF(AND(E96+G96-D96>450,E96+G96-D96<=540),"Bilan n°6",IF(AND(E96+G96-D96>540,E96+G96-D96<=630),"Bilan n°7",IF(AND(E96+G96-D96>630,E96+G96-D96<=720),"Bilan n°8",IF(AND(E96+G96-D96>720,E96+G96-D96<=810),"Bilan n°9",IF(AND(E96+G96-D96>810,E96+G96-D96<=900),"Bilan n°10"))))))))))) -> Bilan n°5 | H96: =IF(OR(F96="Bilan n°1",F96="Bilan n°2",F96="Bilan n°3",F96="Bilan n°4",F96="Bilan n°5",F96="Bilan n°6",F96="Bilan n°7",F96="Bilan n°8",F96="Bilan n°9",F96="Bilan n°10"),EDATE(J96,3)+G96,"-") -> 42914 | J96: =IF(I96="AP","",IF(E96="-","",IF(E96="","",EDATE(E96,0)+I96))) -> 42822 | K96: =IF(H96="-","",EDATE(H96,3)+4) -> 43010
A97: 161 | D97: 42391 | E97: 42907 | F97: =IF(D97="","-",IF(E97+G97-D97<=90,"Bilan n°1",IF(AND(E97+G97-D97>90,E97+G97-D97<=180),"Bilan n°2",IF(AND(E97+G97-D97>180,E97+G97-D97<=270),"Bilan n°3",IF(AND(E97+G97-D97>270,E97+G97-D97<=360),"Bilan n°4",IF(AND(E97+G97-D97>360,E97+G97-D97<=450),"Bilan n°5",IF(AND(E97+G97-D97>450,E97+G97-D97<=540),"Bilan n°6",IF(AND(E97+G97-D97>540,E97+G97-D97<=630),"Bilan n°7",IF(AND(E97+G97-D97>630,E97+G97-D97<=720),"Bilan n°8",IF(AND(E97+G97-D97>720,E97+G97-D97<=810),"Bilan n°9",IF(AND(E97+G97-D97>810,E97+G97-D97<=900),"Bilan n°10"))))))))))) -> Bilan n°6 | H97: =IF(OR(F97="Bilan n°1",F97="Bilan n°2",F97="Bilan n°3",F97="Bilan n°4",F97="Bilan n°5",F97="Bilan n°6",F97="Bilan n°7",F97="Bilan n°8",F97="Bilan n°9",F97="Bilan n°10"),EDATE(J97,3)+G97,"-") -> 43000 | I97: 1 | J97: =IF(I97="AP","",IF(E97="-","",IF(E97="","",EDATE(E97,0)+I97))) -> 42908 | K97: =IF(H97="-","",EDATE(H97,3)+4) -> 43095
A98: 162 | D98: 42389 | E98: 42809 | F98: =IF(D98="","-",IF(E98+G98-D98<=90,"Bilan n°1",IF(AND(E98+G98-D98>90,E98+G98-D98<=180),"Bilan n°2",IF(AND(E98+G98-D98>180,E98+G98-D98<=270),"Bilan n°3",IF(AND(E98+G98-D98>270,E98+G98-D98<=360),"Bilan n°4",IF(AND(E98+G98-D98>360,E98+G98-D98<=450),"Bilan n°5",IF(AND(E98+G98-D98>450,E98+G98-D98<=540),"Bilan n°6",IF(AND(E98+G98-D98>540,E98+G98-D98<=630),"Bilan n°7",IF(AND(E98+G98-D98>630,E98+G98-D98<=720),"Bilan n°8",IF(AND(E98+G98-D98>720,E98+G98-D98<=810),"Bilan n°9",IF(AND(E98+G98-D98>810,E98+G98-D98<=900),"Bilan n°10"))))))))))) -> Bilan n°5 | H98: =IF(OR(F98="Bilan n°1",F98="Bilan n°2",F98="Bilan n°3",F98="Bilan n°4",F98="Bilan n°5",F98="Bilan n°6",F98="Bilan n°7",F98="Bilan n°8",F98="Bilan n°9",F98="Bilan n°10"),EDATE(J98,3)+G98,"-") -> 42901 | J98: =IF(I98="AP","",IF(E98="-","",IF(E98="","",EDATE(E98,0)+I98))) -> 42809 | K98: =IF(H98="-","",EDATE(H98,3)+4) -> 42997
A99: 165 | D99: 42397 | F99: =IF(D99="","-",IF(E99+G99-D99<=90,"Bilan n°1",IF(AND(E99+G99-D99>90,E99+G99-D99<=180),"Bilan n°2",IF(AND(E99+G99-D99>180,E99+G99-D99<=270),"Bilan n°3",IF(AND(E99+G99-D99>270,E99+G99-D99<=360),"Bilan n°4",IF(AND(E99+G99-D99>360,E99+G99-D99<=450),"Bilan n°5",IF(AND(E99+G99-D99>450,E99+G99-D99<=540),"Bilan n°6",IF(AND(E99+G99-D99>540,E99+G99-D99<=630),"Bilan n°7",IF(AND(E99+G99-D99>630,E99+G99-D99<=720),"Bilan n°8",IF(AND(E99+G99-D99>720,E99+G99-D99<=810),"Bilan n°9",IF(AND(E99+G99-D99>810,E99+G99-D99<=900),"Bilan n°10"))))))))))) -> Bilan n°1 | H99: =IF(OR(F99="Bilan n°1",F99="Bilan n°2",F99="Bilan n°3",F99="Bilan n°4",F99="Bilan n°5",F99="Bilan n°6",F99="Bilan n°7",F99="Bilan n°8",F99="Bilan n°9",F99="Bilan n°10"),EDATE(J99,3)+G99,"-") -> #VALUE! | J99: =IF(I99="AP","",IF(E99="-","",IF(E99="","",EDATE(E99,0)+I99))) | K99: =IF(H99="-","",EDATE(H99,3)+4) -> #VALUE!
A100: 166 | D100: 42402 | E100: 42703 | F100: =IF(D100="","-",IF(E100+G100-D100<=90,"Bilan n°1",IF(AND(E100+G100-D100>90,E100+G100-D100<=180),"Bilan n°2",IF(AND(E100+G100-D100>180,E100+G100-D100<=270),"Bilan n°3",IF(AND(E100+G100-D100>270,E100+G100-D100<=360),"Bilan n°4",IF(AND(E100+G100-D100>360,E100+G100-D100<=450),"Bilan n°5",IF(AND(E100+G100-D100>450,E100+G100-D100<=540),"Bilan n°6",IF(AND(E100+G100-D100>540,E100+G100-D100<=630),"Bilan n°7",IF(AND(E100+G100-D100>630,E100+G100-D100<=720),"Bilan n°8",IF(AND(E100+G100-D100>720,E100+G100-D100<=810),"Bilan n°9",IF(AND(E100+G100-D100>810,E100+G100-D100<=900),"Bilan n°10"))))))))))) -> Bilan n°4 | H100: =IF(OR(F100="Bilan n°1",F100="Bilan n°2",F100="Bilan n°3",F100="Bilan n°4",F100="Bilan n°5",F100="Bilan n°6",F100="Bilan n°7",F100="Bilan n°8",F100="Bilan n°9",F100="Bilan n°10"),EDATE(J100,3)+G100,"-") -> 42794 | J100: =IF(I100="AP","",IF(E100="-","",IF(E100="","",EDATE(E100,0)+I100))) -> 42703 | K100: =IF(H100="-","",EDATE(H100,3)+4) -> 42887
A101: 167 | D101: 42814 | E101: 42857 | F101: =IF(D101="","-",IF(E101+G101-D101<=90,"Bilan n°1",IF(AND(E101+G101-D101>90,E101+G101-D101<=180),"Bilan n°2",IF(AND(E101+G101-D101>180,E101+G101-D101<=270),"Bilan n°3",IF(AND(E101+G101-D101>270,E101+G101-D101<=360),"Bilan n°4",IF(AND(E101+G101-D101>360,E101+G101-D101<=450),"Bilan n°5",IF(AND(E101+G101-D101>450,E101+G101-D101<=540),"Bilan n°6",IF(AND(E101+G101-D101>540,E101+G101-D101<=630),"Bilan n°7",IF(AND(E101+G101-D101>630,E101+G101-D101<=720),"Bilan n°8",IF(AND(E101+G101-D101>720,E101+G101-D101<=810),"Bilan n°9",IF(AND(E101+G101-D101>810,E101+G101-D101<=900),"Bilan n°10"))))))))))) -> Bilan n°1 | H101: =IF(OR(F101="Bilan n°1",F101="Bilan n°2",F101="Bilan n°3",F101="Bilan n°4",F101="Bilan n°5",F101="Bilan n°6",F101="Bilan n°7",F101="Bilan n°8",F101="Bilan n°9",F101="Bilan n°10"),EDATE(J101,3)+G101,"-") -> 42957 | I101: 8 | J101: =IF(I101="AP","",IF(E101="-","",IF(E101="","",EDATE(E101,0)+I101))) -> 42865
A102: 169 | D102: 42403 | E102: 42744 | F102: =IF(D102="","-",IF(E102+G102-D102<=90,"Bilan n°1",IF(AND(E102+G102-D102>90,E102+G102-D102<=180),"Bilan n°2",IF(AND(E102+G102-D102>180,E102+G102-D102<=270),"Bilan n°3",IF(AND(E102+G102-D102>270,E102+G102-D102<=360),"Bilan n°4",IF(AND(E102+G102-D102>360,E102+G102-D102<=450),"Bilan n°5",IF(AND(E102+G102-D102>450,E102+G102-D102<=540),"Bilan n°6",IF(AND(E102+G102-D102>540,E102+G102-D102<=630),"Bilan n°7",IF(AND(E102+G102-D102>630,E102+G102-D102<=720),"Bilan n°8",IF(AND(E102+G102-D102>720,E102+G102-D102<=810),"Bilan n°9",IF(AND(E102+G102-D102>810,E102+G102-D102<=900),"Bilan n°10"))))))))))) -> Bilan n°5 | G102: 60 | H102: =IF(OR(F102="Bilan n°1",F102="Bilan n°2",F102="Bilan n°3",F102="Bilan n°4",F102="Bilan n°5",F102="Bilan n°6",F102="Bilan n°7",F102="Bilan n°8",F102="Bilan n°9",F102="Bilan n°10"),EDATE(J102,3)+G102,"-") -> 42904 | I102: 10 | J102: =IF(I102="AP","",IF(E102="-","",IF(E102="","",EDATE(E102,0)+I102))) -> 42754 | K102: =IF(H102="-","",EDATE(H102,3)+4) -> 43000
A103: 172 | D103: 42409 | E103: 42817 | F103: =IF(D103="","-",IF(E103+G103-D103<=90,"Bilan n°1",IF(AND(E103+G103-D103>90,E103+G103-D103<=180),"Bilan n°2",IF(AND(E103+G103-D103>180,E103+G103-D103<=270),"Bilan n°3",IF(AND(E103+G103-D103>270,E103+G103-D103<=360),"Bilan n°4",IF(AND(E103+G103-D103>360,E103+G103-D103<=450),"Bilan n°5",IF(AND(E103+G103-D103>450,E103+G103-D103<=540),"Bilan n°6",IF(AND(E103+G103-D103>540,E103+G103-D103<=630),"Bilan n°7",IF(AND(E103+G103-D103>630,E103+G103-D103<=720),"Bilan n°8",IF(AND(E103+G103-D103>720,E103+G103-D103<=810),"Bilan n°9",IF(AND(E103+G103-D103>810,E103+G103-D103<=900),"Bilan n°10"))))))))))) -> Bilan n°5 | H103: =IF(OR(F103="Bilan n°1",F103="Bilan n°2",F103="Bilan n°3",F103="Bilan n°4",F103="Bilan n°5",F103="Bilan n°6",F103="Bilan n°7",F103="Bilan n°8",F103="Bilan n°9",F103="Bilan n°10"),EDATE(J103,3)+G103,"-") -> 42929 | I103: 21 | J103: =IF(I103="AP","",IF(E103="-","",IF(E103="","",EDATE(E103,0)+I103))) -> 42838 | K103: =IF(H103="-","",EDATE(H103,3)+4) -> 43025
...

Sheet Synthèse prog à modifer 
G1: Synthèse du suivi adhérent
J5: Prochains bilans
I6: N° adhérent | J6: Sportif | K6: Ostéopathie | L6: Diététique
I7: {=INDEX(Suivi!A7:H100009,MATCH($C$10,Suivi!H7:H100009,0),1)} -> 37 | J7: =VLOOKUP($C$10,Suivi!H7:H100009,1,0) -> 43001 | K7: =VLOOKUP(C10,Suivi!A7:K746,15,FALSE) -> #N/A | L7: =VLOOKUP(C10,Suivi!A7:L746,19,FALSE) -> #N/A
I8: {=INDEX(Suivi!A8:H100010,MATCH($C$10,Suivi!H8:H100010,0),1)} -> 37 | J8: =DCOUNTA(Suivi!A7:X550,"",$C$10) -> #VALUE! | K8: =IF(K7<TODAY(),"A modifier","A jour") -> #N/A | L8: =IF(L7<TODAY(),"A modifier","A jour") -> #N/A
B9: Saisir la date | I9: {=INDEX(Suivi!A9:H100011,MATCH($C$10,Suivi!H9:H100011,0),1)} -> 37 | J9: =DCOUNTA(Suivi!H8:H551,"Prochain Bilan",$C$10) -> #VALUE!
C10: 43001 | I10: {=INDEX(Suivi!A10:H100012,MATCH($C$10,Suivi!H10:H100012,0),1)} -> 37 | J10: =DCOUNTA(Suivi!H9:H552,"Prochain Bilan",$C$10) -> #VALUE!
J11: =IF($C$10=TODAY(),VLOOKUP($C$10,Suivi!H11:H564,1,FALSE)) -> FALSE
J12: =IF($C$10=TODAY(),VLOOKUP($C$10,Suivi!H12:H565,1,FALSE)) -> FALSE
J13: =IF($C$10=TODAY(),VLOOKUP($C$10,Suivi!H13:H566,1,FALSE)) -> FALSE
J14: =IF($C$10=TODAY(),VLOOKUP($C$10,Suivi!H14:H567,1,FALSE)) -> FALSE
A15: > | B15: =HYPERLINK("https://docs.google.com/spreadsheets/d/14rCsf97RoLu4mhCMOx6ZP1XyOG5qdf403L32alGrM08/edit#rangeid=167878040","Modifier date bilan sportif") -> Modifier date bilan sportif | F15: < | J15: =IF($C$10=TODAY(),VLOOKUP($C$10,Suivi!H15:H568,1,FALSE)) -> FALSE
A16: > | B16: =HYPERLINK("https://docs.google.com/spreadsheets/d/14rCsf97RoLu4mhCMOx6ZP1XyOG5qdf403L32alGrM08/edit#rangeid=342671740","Modifier date séance coaching") -> Modifier date séance coaching | F16: <
A17: > | B17: =HYPERLINK("https://docs.google.com/spreadsheets/d/14rCsf97RoLu4mhCMOx6ZP1XyOG5qdf403L32alGrM08/edit#rangeid=247250017","Insérer un report") -> Insérer un report | F17: <
