Workbook
Name E_S: Tab_Mvt[Mouvement]
Name Epaisseurs: Tab_Epaisseur[Epaisseur (MM)]
Name Num_B: Tableau9[ID Bobines]
Name Num_C: Tableau9[N° Commande]
Name NV_Stock: Tableau3[Nouveau Stock]
Name Poids: Tab_Poid[Poid (Tonnes)]

Sheet Main_Page
E4: ID_Bobine | F4: Entrée | H4: Sortie | J4: Nv_Stock
D5: 1
E6: =IFERROR(INDEX(Fiche_Bobine!B3:B10,$D$5),"") -> 5079 | F6: =IFERROR(VLOOKUP(Main_Page!$E6,TCD!B2:D12,2,0),"-") -> 15 | G6: =F6 -> 15 | H6: =IFERROR(VLOOKUP(Main_Page!$E6,TCD!B2:D12,3,0),"-") -> 0 | I6: =H6 -> 0 | J6: =INDEX(Tableau3[[Mois]:[Nouveau Stock]],MATCH(Main_Page!E6,Tableau3[Nouveau Stock],0)) -> #N/A
E7: =IFERROR(INDEX(Fiche_Bobine!B4:B11,$D$5),"") -> 3580 | F7: =IFERROR(VLOOKUP(Main_Page!$E7,TCD!B3:D13,2,0),"-") -> 1079 | G7: =F7 -> 1079 | H7: =IFERROR(VLOOKUP(Main_Page!$E7,TCD!B3:D13,3,0),"-") -> 0 | I7: =H7 -> 0
E8: =IFERROR(INDEX(Fiche_Bobine!B5:B12,$D$5),"") -> 2015 | F8: =IFERROR(VLOOKUP(Main_Page!$E8,TCD!B4:D14,2,0),"-") -> 1245 | G8: =F8 -> 1245 | H8: =IFERROR(VLOOKUP(Main_Page!$E8,TCD!B4:D14,3,0),"-") -> 1475 | I8: =H8 -> 1475
E9: =IFERROR(INDEX(Fiche_Bobine!B6:B13,$D$5),"") -> 11025 | F9: =IFERROR(VLOOKUP(Main_Page!$E9,TCD!B5:D15,2,0),"-") -> 10 | G9: =F9 -> 10 | H9: =IFERROR(VLOOKUP(Main_Page!$E9,TCD!B5:D15,3,0),"-") -> 0 | I9: =H9 -> 0
E10: =IFERROR(INDEX(Fiche_Bobine!B7:B14,$D$5),"") -> 12452 | F10: =IFERROR(VLOOKUP(Main_Page!$E10,TCD!B6:D16,2,0),"-") -> 15 | G10: =F10 -> 15 | H10: =IFERROR(VLOOKUP(Main_Page!$E10,TCD!B6:D16,3,0),"-") -> 115 | I10: =H10 -> 115
T20: =INDEX(Tableau3[Nouveau Stock],Data!3:3,MATCH(Main_Page!E6=Data!D3,Tableau3[#All],0)) -> #N/A

Sheet TCD
B2: Rapport E/S | C2: Mouvement | F2: Rapport Region | G2: Mouvement | J2: Rapport Défaut/Zone | K2: Zone de stockage
B3: N° Bobine | C3: Entrée | D3: Sortie | F3: Region | G3: Entrée | H3: Sortie | J3: Cause | K3: Nord | L3: Sud
B4: 1256 | D4: 365 | F4: Nord | G4: 450 | H4: 217 | J4: Bobinage | L4: 4
B5: 2015 | C5: 1245 | D5: 1475 | F5: Sud | G5: 2324 | H5: 1985 | J5: Divers | K5: 1
B6: 3580 | C6: 1079 | J6: Laminage | K6: 3 | L6: 5
B7: 5079 | C7: 15 | J7: Retour client | K7: 13
B8: 5086 | C8: 410 | J8: Stockage | K8: 31 | L8: 54
B9: 6987 | D9: 102
B10: 9524 | D10: 145
B11: 11025 | C11: 10
B12: 12452 | C12: 15 | D12: 115

Sheet Data
B2: Mois | C2: N° Commande | D2: N° Bobine | E2: Secteur | F2: Mouvement | G2: Quantité | H2: Nouveau Stock | I2: Nbr_Défaut
B3: Janvier | C3: =IFERROR(VLOOKUP(Tableau3[N° Bobine],Tableau9[#All],2,0),"Erreur") -> 41 | D3: 5079 | E3: =IFERROR(VLOOKUP(Tableau3[N° Bobine],Tableau9[#All],7,0),"Erreur") -> Nord | F3: Entrée | G3: 15 | H3: =IFERROR(VLOOKUP(Tableau3[N° Bobine],Tableau9[#All],5,0)+SUMIFS(G$3:G17,D$3:D17,Tableau3[N° Bobine],F$3:F17,"Entrée")-SUMIFS(G$3:G17,D$3:D17,Tableau3[N° Bobine],F$3:F17,"Sortie"),"Erreur") -> 30 | I3: =VLOOKUP(Tableau3[[#This Row],[N° Bobine]],Tableau9[#All],9,0) -> 3
B4: Fevrier | C4: =IFERROR(VLOOKUP(Tableau3[N° Bobine],Tableau9[#All],2,0),"Erreur") -> 12 | D4: 12452 | E4: =IFERROR(VLOOKUP(Tableau3[N° Bobine],Tableau9[#All],7,0),"Erreur") -> Nord | F4: Sortie | G4: 90 | H4: =IFERROR(VLOOKUP(Tableau3[N° Bobine],Tableau9[#All],5,0)+SUMIFS(G$3:G18,D$3:D18,Tableau3[N° Bobine],F$3:F18,"Entrée")-SUMIFS(G$3:G18,D$3:D18,Tableau3[N° Bobine],F$3:F18,"Sortie"),"Erreur") -> -15 | I4: =VLOOKUP(Tableau3[[#This Row],[N° Bobine]],Tableau9[#All],9,0) -> 7
B5: Janvier | C5: =IFERROR(VLOOKUP(Tableau3[N° Bobine],Tableau9[#All],2,0),"Erreur") -> 201 | D5: 9524 | E5: =IFERROR(VLOOKUP(Tableau3[N° Bobine],Tableau9[#All],7,0),"Erreur") -> Sud | F5: Sortie | G5: 25 | H5: =IFERROR(VLOOKUP(Tableau3[N° Bobine],Tableau9[#All],5,0)+SUMIFS(G$3:G19,D$3:D19,Tableau3[N° Bobine],F$3:F19,"Entrée")-SUMIFS(G$3:G19,D$3:D19,Tableau3[N° Bobine],F$3:F19,"Sortie"),"Erreur") -> -135 | I5: =VLOOKUP(Tableau3[[#This Row],[N° Bobine]],Tableau9[#All],9,0) -> 36
B6: Mars | C6: =IFERROR(VLOOKUP(Tableau3[N° Bobine],Tableau9[#All],2,0),"Erreur") -> 12 | D6: 12452 | E6: =IFERROR(VLOOKUP(Tableau3[N° Bobine],Tableau9[#All],7,0),"Erreur") -> Nord | F6: Entrée | G6: 15 | H6: =IFERROR(VLOOKUP(Tableau3[N° Bobine],Tableau9[#All],5,0)+SUMIFS(G$3:G20,D$3:D20,Tableau3[N° Bobine],F$3:F20,"Entrée")-SUMIFS(G$3:G20,D$3:D20,Tableau3[N° Bobine],F$3:F20,"Sortie"),"Erreur") -> -15 | I6: =VLOOKUP(Tableau3[[#This Row],[N° Bobine]],Tableau9[#All],9,0) -> 7
B7: Mai | C7: =IFERROR(VLOOKUP(Tableau3[N° Bobine],Tableau9[#All],2,0),"Erreur") -> 147 | D7: 3580 | E7: =IFERROR(VLOOKUP(Tableau3[N° Bobine],Tableau9[#All],7,0),"Erreur") -> Sud | F7: Entrée | G7: 425 | H7: =IFERROR(VLOOKUP(Tableau3[N° Bobine],Tableau9[#All],5,0)+SUMIFS(G$3:G21,D$3:D21,Tableau3[N° Bobine],F$3:F21,"Entrée")-SUMIFS(G$3:G21,D$3:D21,Tableau3[N° Bobine],F$3:F21,"Sortie"),"Erreur") -> 1081 | I7: =VLOOKUP(Tableau3[[#This Row],[N° Bobine]],Tableau9[#All],9,0) -> 4
B8: Octobre | C8: =IFERROR(VLOOKUP(Tableau3[N° Bobine],Tableau9[#All],2,0),"Erreur") -> 298 | D8: 1256 | E8: =IFERROR(VLOOKUP(Tableau3[N° Bobine],Tableau9[#All],7,0),"Erreur") -> Sud | F8: Sortie | G8: 365 | H8: =IFERROR(VLOOKUP(Tableau3[N° Bobine],Tableau9[#All],5,0)+SUMIFS(G$3:G22,D$3:D22,Tableau3[N° Bobine],F$3:F22,"Entrée")-SUMIFS(G$3:G22,D$3:D22,Tableau3[N° Bobine],F$3:F22,"Sortie"),"Erreur") -> -209 | I8: =VLOOKUP(Tableau3[[#This Row],[N° Bobine]],Tableau9[#All],9,0) -> 5
B9: Decembre | C9: =IFERROR(VLOOKUP(Tableau3[N° Bobine],Tableau9[#All],2,0),"Erreur") -> 452 | D9: 5086 | E9: =IFERROR(VLOOKUP(Tableau3[N° Bobine],Tableau9[#All],7,0),"Erreur") -> Nord | F9: Entrée | G9: 410 | H9: =IFERROR(VLOOKUP(Tableau3[N° Bobine],Tableau9[#All],5,0)+SUMIFS(G$3:G23,D$3:D23,Tableau3[N° Bobine],F$3:F23,"Entrée")-SUMIFS(G$3:G23,D$3:D23,Tableau3[N° Bobine],F$3:F23,"Sortie"),"Erreur") -> 735 | I9: =VLOOKUP(Tableau3[[#This Row],[N° Bobine]],Tableau9[#All],9,0) -> 1
B10: Novembre | C10: =IFERROR(VLOOKUP(Tableau3[N° Bobine],Tableau9[#All],2,0),"Erreur") -> 41 | D10: 2015 | E10: =IFERROR(VLOOKUP(Tableau3[N° Bobine],Tableau9[#All],7,0),"Erreur") -> Sud | F10: Sortie | G10: 230 | H10: =IFERROR(VLOOKUP(Tableau3[N° Bobine],Tableau9[#All],5,0)+SUMIFS(G$3:G24,D$3:D24,Tableau3[N° Bobine],F$3:F24,"Entrée")-SUMIFS(G$3:G24,D$3:D24,Tableau3[N° Bobine],F$3:F24,"Sortie"),"Erreur") -> -83 | I10: =VLOOKUP(Tableau3[[#This Row],[N° Bobine]],Tableau9[#All],9,0) -> 18
B11: Avril | C11: =IFERROR(VLOOKUP(Tableau3[N° Bobine],Tableau9[#All],2,0),"Erreur") -> 134 | D11: 11025 | E11: =IFERROR(VLOOKUP(Tableau3[N° Bobine],Tableau9[#All],7,0),"Erreur") -> Nord | F11: Entrée | G11: 10 | H11: =IFERROR(VLOOKUP(Tableau3[N° Bobine],Tableau9[#All],5,0)+SUMIFS(G$3:G25,D$3:D25,Tableau3[N° Bobine],F$3:F25,"Entrée")-SUMIFS(G$3:G25,D$3:D25,Tableau3[N° Bobine],F$3:F25,"Sortie"),"Erreur") -> 213 | I11: =VLOOKUP(Tableau3[[#This Row],[N° Bobine]],Tableau9[#All],9,0) -> 24
B12: Juillet | C12: =IFERROR(VLOOKUP(Tableau3[N° Bobine],Tableau9[#All],2,0),"Erreur") -> 12 | D12: 12452 | E12: =IFERROR(VLOOKUP(Tableau3[N° Bobine],Tableau9[#All],7,0),"Erreur") -> Nord | F12: Sortie | G12: 25 | H12: =IFERROR(VLOOKUP(Tableau3[N° Bobine],Tableau9[#All],5,0)+SUMIFS(G$3:G26,D$3:D26,Tableau3[N° Bobine],F$3:F26,"Entrée")-SUMIFS(G$3:G26,D$3:D26,Tableau3[N° Bobine],F$3:F26,"Sortie"),"Erreur") -> -15 | I12: =VLOOKUP(Tableau3[[#This Row],[N° Bobine]],Tableau9[#All],9,0) -> 7
B13: Fevrier | C13: =IFERROR(VLOOKUP(Tableau3[N° Bobine],Tableau9[#All],2,0),"Erreur") -> 147 | D13: 3580 | E13: =IFERROR(VLOOKUP(Tableau3[N° Bobine],Tableau9[#All],7,0),"Erreur") -> Sud | F13: Entrée | G13: 654 | H13: =IFERROR(VLOOKUP(Tableau3[N° Bobine],Tableau9[#All],5,0)+SUMIFS(G$3:G27,D$3:D27,Tableau3[N° Bobine],F$3:F27,"Entrée")-SUMIFS(G$3:G27,D$3:D27,Tableau3[N° Bobine],F$3:F27,"Sortie"),"Erreur") -> 1081 | I13: =VLOOKUP(Tableau3[[#This Row],[N° Bobine]],Tableau9[#All],9,0) -> 4
B14: Août | C14: =IFERROR(VLOOKUP(Tableau3[N° Bobine],Tableau9[#All],2,0),"Erreur") -> 201 | D14: 9524 | E14: =IFERROR(VLOOKUP(Tableau3[N° Bobine],Tableau9[#All],7,0),"Erreur") -> Sud | F14: Sortie | G14: 120 | H14: =IFERROR(VLOOKUP(Tableau3[N° Bobine],Tableau9[#All],5,0)+SUMIFS(G$3:G28,D$3:D28,Tableau3[N° Bobine],F$3:F28,"Entrée")-SUMIFS(G$3:G28,D$3:D28,Tableau3[N° Bobine],F$3:F28,"Sortie"),"Erreur") -> -135 | I14: =VLOOKUP(Tableau3[[#This Row],[N° Bobine]],Tableau9[#All],9,0) -> 36
... B17: Decembre | C17: =IFERROR(VLOOKUP(Tableau3[N° Bobine],Tableau9[#All],2,0),"Erreur") -> 41 | D17: 2015 | E17: =IFERROR(VLOOKUP(Tableau3[N° Bobine],Tableau9[#All],7,0),"Erreur") -> Sud | F17: Sortie | G17: 1245 | H17: =IFERROR(VLOOKUP(Tableau3[N° Bobine],Tableau9[#All],5,0)+SUMIFS(G$3:G31,D$3:D31,Tableau3[N° Bobine],F$3:F31,"Entrée")-SUMIFS(G$3:G31,D$3:D31,Tableau3[N° Bobine],F$3:F31,"Sortie"),"Erreur") -> -83 | I17: =VLOOKUP(Tableau3[[#This Row],[N° Bobine]],Tableau9[#All],9,0) -> 18

Sheet Fiche_Bobine
B2: ID Bobines | C2: N° Commande | D2: Poid | E2: Epaisseur | F2: Stock Initial | G2: Stock Max | H2: Secteur | I2: Défaut | J2: Nombre de Défaut | L2: Mouvement | N2: Secteur_Parck | P2: Défaut
B3: 5079 | C3: 41 | D3: 7 | E3: 1.5 | F3: 15 | G3: 10000 | H3: Nord | I3: Laminage | J3: 3 | L3: Entrée | N3: Sud | P3: Laminage
B4: 3580 | C4: 147 | D4: 7 | E4: 1.9 | F4: 2 | G4: 10000 | H4: Sud | I4: Bobinage | J4: 4 | L4: Sortie | N4: Nord | P4: Bobinage
B5: 2015 | C5: 41 | D5: 10 | E5: 2 | F5: 147 | G5: 10000 | H5: Sud | I5: Stockage | J5: 18 | P5: Stockage
B6: 11025 | C6: 134 | D6: 12 | E6: 2.5 | F6: 203 | G6: 10000 | H6: Nord | I6: Stockage | J6: 24 | P6: Retour client
B7: 12452 | C7: 12 | D7: 28 | E7: 19.4 | F7: 85 | G7: 10000 | H7: Nord | I7: Stockage | J7: 7 | P7: Divers
B8: 9524 | C8: 201 | D8: 37 | E8: 4.4 | F8: 10 | G8: 10000 | H8: Sud | I8: Stockage | J8: 36
B9: 1256 | C9: 298 | D9: 35 | E9: 7.7 | F9: 156 | G9: 10000 | H9: Sud | I9: Laminage | J9: 5
B10: 5086 | C10: 452 | D10: 22 | E10: 2 | F10: 325 | G10: 10000 | H10: Nord | I10: Divers | J10: 1
B11: 6987 | C11: 365 | D11: 42 | E11: 5.5 | F11: 356 | G11: 10000 | H11: Nord | I11: Retour client | J11: 13
F18: =INDEX(Tab_SI[Sotck Initial],MATCH(1,IF(AND(Fiche_Bobine!D3=Caractèristique_Bobine!C4,(Fiche_Bobine!E3=Caractèristique_Bobine!D4)),Caractèristique_Bobine!E4),0)) -> #N/A
F19: =VLOOKUP(CONCATENATE(D3,E3),Tab_SI[#All],3,0) -> #N/A | G19: =VLOOKUP(D3,Tab_SI[#All],3,0) -> 15

Sheet Caractèristique_Bobine
C3: Poids (Tonnes) | D3: Epaisseur (MM) | E3: Sotck Initial | G3: Epaisseur (MM) | I3: Poid (Tonnes)
C4: 7 | D4: 1.5 | E4: 15 | G4: 1.5 | I4: 7
C5: 7 | D5: 1.9 | E5: 2 | G5: 1.6 | I5: 8
C6: 13 | D6: 1.6 | E6: 6 | G6: 1.7 | I6: 9
C7: 9 | D7: 1.9 | E7: 4 | G7: 1.8 | I7: 10
C8: 40 | D8: 19.8 | E8: 7 | G8: 1.9 | I8: 11
C9: 11 | D9: 1.7 | E9: 81 | G9: 2 | I9: 12
C10: 10 | D10: 5.9 | E10: 100 | G10: 2.1 | I10: 13
C11: 42 | D11: 5.5 | E11: 356 | G11: 2.2 | I11: 14
C12: 14 | D12: 20 | E12: 90 | G12: 2.3 | I12: 15
C13: 35 | D13: 7.7 | E13: 156 | G13: 2.4 | I13: 16
C14: 22 | D14: 2 | E14: 325 | G14: 2.5 | I14: 17
G15: 2.6 | I15: 18
G16: 2.7 | I16: 19
G17: 2.8 | I17: 20
G18: 2.9 | I18: 21
G19: 3 | I19: 22
G20: 3.1 | I20: 23
G21: 3.2 | I21: 24
G22: 3.3 | I22: 25
G23: 3.4 | I23: 26
G24: 3.5 | I24: 27
G25: 3.6 | I25: 28
G26: 3.7 | I26: 29
... G42: 5.3 | I42: 45
G43: 5.4
G44: 5.5
G45: 5.6
G46: 5.7
G47: 5.8
G48: 5.9
G49: 6
G50: 6.1
G51: 6.2
G52: 6.3
G53: 6.4
G54: 6.5
... G189: 20
