Workbook

Sheet FEUILLE TRI
A3: ='FEUILLE SOURCE'!A3 -> Date | C3: ='FEUILLE SOURCE'!C3 -> Nb de jours | D3: ='FEUILLE SOURCE'!D3 -> 0
A4: ='FEUILLE SOURCE'!A48 -> 42997 | B4: ='FEUILLE SOURCE'!B48 -> 90 | C4: ='FEUILLE SOURCE'!C48 -> 1 Jours | D4: ='FEUILLE SOURCE'!D48 -> 60
A5: ='FEUILLE SOURCE'!A49 -> 42997 | B5: ='FEUILLE SOURCE'!B49 -> 90 | C5: ='FEUILLE SOURCE'!C49 -> 1 Jours | D5: ='FEUILLE SOURCE'!D49 -> 60
A6: ='FEUILLE SOURCE'!A50 -> 42997 | B6: ='FEUILLE SOURCE'!B50 -> 90 | C6: ='FEUILLE SOURCE'!C50 -> 1 Jours | D6: ='FEUILLE SOURCE'!D50 -> 60
A7: ='FEUILLE SOURCE'!A51 -> 42997 | B7: ='FEUILLE SOURCE'!B51 -> 90 | C7: ='FEUILLE SOURCE'!C51 -> 1 Jours | D7: ='FEUILLE SOURCE'!D51 -> 60
A8: ='FEUILLE SOURCE'!A52 -> 42997 | B8: ='FEUILLE SOURCE'!B52 -> 90 | C8: ='FEUILLE SOURCE'!C52 -> 1 Jours | D8: ='FEUILLE SOURCE'!D52 -> 60
A9: ='FEUILLE SOURCE'!A53 -> 42997 | B9: ='FEUILLE SOURCE'!B53 -> 90 | C9: ='FEUILLE SOURCE'!C53 -> 1 Jours | D9: ='FEUILLE SOURCE'!D53 -> 60
A10: ='FEUILLE SOURCE'!A54 -> 42997 | B10: ='FEUILLE SOURCE'!B54 -> 90 | C10: ='FEUILLE SOURCE'!C54 -> 1 Jours | D10: ='FEUILLE SOURCE'!D54 -> 60
A11: ='FEUILLE SOURCE'!A55 -> 42997 | B11: ='FEUILLE SOURCE'!B55 -> 90 | C11: ='FEUILLE SOURCE'!C55 -> 1 Jours | D11: ='FEUILLE SOURCE'!D55 -> 60
A12: ='FEUILLE SOURCE'!A56 -> 42997 | B12: ='FEUILLE SOURCE'!B56 -> 90 | C12: ='FEUILLE SOURCE'!C56 -> 1 Jours | D12: ='FEUILLE SOURCE'!D56 -> 60
A13: ='FEUILLE SOURCE'!A57 -> 42997 | B13: ='FEUILLE SOURCE'!B57 -> 90 | C13: ='FEUILLE SOURCE'!C57 -> 1 Jours | D13: ='FEUILLE SOURCE'!D57 -> 60
A14: ='FEUILLE SOURCE'!A58 -> 42997 | B14: ='FEUILLE SOURCE'!B58 -> 90 | C14: ='FEUILLE SOURCE'!C58 -> 1 Jours | D14: ='FEUILLE SOURCE'!D58 -> 60
A15: ='FEUILLE SOURCE'!A59 -> 42997 | B15: ='FEUILLE SOURCE'!B59 -> 90 | C15: ='FEUILLE SOURCE'!C59 -> 1 Jours | D15: ='FEUILLE SOURCE'!D59 -> 60
... A21: ='FEUILLE SOURCE'!A65 -> 42997 | B21: ='FEUILLE SOURCE'!B65 -> 90 | C21: ='FEUILLE SOURCE'!C65 -> 1 Jours | D21: ='FEUILLE SOURCE'!D65 -> 60
A22: ='FEUILLE SOURCE'!A13 -> 42985 | B22: ='FEUILLE SOURCE'!B13 -> 90 | C22: ='FEUILLE SOURCE'!C13 -> 13 Jours | D22: ='FEUILLE SOURCE'!D13 -> 60
A23: ='FEUILLE SOURCE'!A14 -> 42985 | B23: ='FEUILLE SOURCE'!B14 -> 90 | C23: ='FEUILLE SOURCE'!C14 -> 13 Jours | D23: ='FEUILLE SOURCE'!D14 -> 60
A24: ='FEUILLE SOURCE'!A11 -> 42979 | B24: ='FEUILLE SOURCE'!B11 -> 67 | C24: ='FEUILLE SOURCE'!C11 -> 19 Jours | D24: ='FEUILLE SOURCE'!D11 -> 60
A25: ='FEUILLE SOURCE'!A12 -> 42979 | B25: ='FEUILLE SOURCE'!B12 -> 3 | C25: ='FEUILLE SOURCE'!C12 -> 19 Jours | D25: ='FEUILLE SOURCE'!D12 -> 60
A26: ='FEUILLE SOURCE'!A9 -> 42972 | B26: ='FEUILLE SOURCE'!B9 -> 90 | C26: ='FEUILLE SOURCE'!C9 -> 26 Jours | D26: ='FEUILLE SOURCE'!D9 -> 60
A27: ='FEUILLE SOURCE'!A33 -> 42995 | B27: ='FEUILLE SOURCE'!B33 -> 90 | C27: ='FEUILLE SOURCE'!C33 -> 3 Jours | D27: ='FEUILLE SOURCE'!D33 -> 60
A28: ='FEUILLE SOURCE'!A34 -> 42995 | B28: ='FEUILLE SOURCE'!B34 -> 77 | C28: ='FEUILLE SOURCE'!C34 -> 3 Jours | D28: ='FEUILLE SOURCE'!D34 -> 60
A29: ='FEUILLE SOURCE'!A35 -> 42995 | B29: ='FEUILLE SOURCE'!B35 -> 90 | C29: ='FEUILLE SOURCE'!C35 -> 3 Jours | D29: ='FEUILLE SOURCE'!D35 -> 60
A30: ='FEUILLE SOURCE'!A36 -> 42995 | B30: ='FEUILLE SOURCE'!B36 -> 90 | C30: ='FEUILLE SOURCE'!C36 -> 3 Jours | D30: ='FEUILLE SOURCE'!D36 -> 60
A31: ='FEUILLE SOURCE'!A37 -> 42995 | B31: ='FEUILLE SOURCE'!B37 -> 58 | C31: ='FEUILLE SOURCE'!C37 -> 3 Jours | D31: ='FEUILLE SOURCE'!D37 -> 60
A32: ='FEUILLE SOURCE'!A38 -> 42995 | B32: ='FEUILLE SOURCE'!B38 -> 90 | C32: ='FEUILLE SOURCE'!C38 -> 3 Jours | D32: ='FEUILLE SOURCE'!D38 -> 60
A33: ='FEUILLE SOURCE'!A39 -> 42995 | B33: ='FEUILLE SOURCE'!B39 -> 90 | C33: ='FEUILLE SOURCE'!C39 -> 3 Jours | D33: ='FEUILLE SOURCE'!D39 -> 60
A34: ='FEUILLE SOURCE'!A40 -> 42995 | B34: ='FEUILLE SOURCE'!B40 -> 90 | C34: ='FEUILLE SOURCE'!C40 -> 3 Jours | D34: ='FEUILLE SOURCE'!D40 -> 60
A35: ='FEUILLE SOURCE'!A8 -> 42968 | B35: ='FEUILLE SOURCE'!B8 -> 90 | C35: ='FEUILLE SOURCE'!C8 -> 30 Jours | D35: ='FEUILLE SOURCE'!D8 -> 60
A36: ='FEUILLE SOURCE'!A7 -> 42965 | B36: ='FEUILLE SOURCE'!B7 -> 45 | C36: ='FEUILLE SOURCE'!C7 -> 33 Jours | D36: ='FEUILLE SOURCE'!D7 -> 60
A37: ='FEUILLE SOURCE'!A23 -> 42994 | B37: ='FEUILLE SOURCE'!B23 -> 75 | C37: ='FEUILLE SOURCE'!C23 -> 4 Jours | D37: ='FEUILLE SOURCE'!D23 -> 60
A38: ='FEUILLE SOURCE'!A24 -> 42994 | B38: ='FEUILLE SOURCE'!B24 -> 71 | C38: ='FEUILLE SOURCE'!C24 -> 4 Jours | D38: ='FEUILLE SOURCE'!D24 -> 60
A39: ='FEUILLE SOURCE'!A25 -> 42994 | B39: ='FEUILLE SOURCE'!B25 -> 82 | C39: ='FEUILLE SOURCE'!C25 -> 4 Jours | D39: ='FEUILLE SOURCE'!D25 -> 60
A40: ='FEUILLE SOURCE'!A26 -> 42994 | B40: ='FEUILLE SOURCE'!B26 -> 90 | C40: ='FEUILLE SOURCE'!C26 -> 4 Jours | D40: ='FEUILLE SOURCE'!D26 -> 60
A41: ='FEUILLE SOURCE'!A27 -> 42994 | B41: ='FEUILLE SOURCE'!B27 -> 90 | C41: ='FEUILLE SOURCE'!C27 -> 4 Jours | D41: ='FEUILLE SOURCE'!D27 -> 60
A42: ='FEUILLE SOURCE'!A28 -> 42994 | B42: ='FEUILLE SOURCE'!B28 -> 65 | C42: ='FEUILLE SOURCE'!C28 -> 4 Jours | D42: ='FEUILLE SOURCE'!D28 -> 60
A43: ='FEUILLE SOURCE'!A29 -> 42994 | B43: ='FEUILLE SOURCE'!B29 -> 90 | C43: ='FEUILLE SOURCE'!C29 -> 4 Jours | D43: ='FEUILLE SOURCE'!D29 -> 60
A44: ='FEUILLE SOURCE'!A30 -> 42994 | B44: ='FEUILLE SOURCE'!B30 -> 17 | C44: ='FEUILLE SOURCE'!C30 -> 4 Jours | D44: ='FEUILLE SOURCE'!D30 -> 60
A45: ='FEUILLE SOURCE'!A6 -> 42952 | B45: ='FEUILLE SOURCE'!B6 -> 90 | C45: ='FEUILLE SOURCE'!C6 -> 46 Jours | D45: ='FEUILLE SOURCE'!D6 -> 60
A46: ='FEUILLE SOURCE'!A19 -> 42993 | B46: ='FEUILLE SOURCE'!B19 -> 90 | C46: ='FEUILLE SOURCE'!C19 -> 5 Jours | D46: ='FEUILLE SOURCE'!D19 -> 60
A47: ='FEUILLE SOURCE'!A20 -> 42993 | B47: ='FEUILLE SOURCE'!B20 -> 76 | C47: ='FEUILLE SOURCE'!C20 -> 5 Jours | D47: ='FEUILLE SOURCE'!D20 -> 60
...

Sheet FEUILLE SOURCE
A3: Date | C3: Nb de jours
A4: 42947 | B4: 90 | C4: =IF(B4<>0,TODAY()-A4,D4) &" Jours" -> 51 Jours | D4: 60
A5: 42947 | C5: =IF(B5<>0,TODAY()-A5,D5) &" Jours" -> 60 Jours | D5: 60
A6: 42952 | B6: 90 | C6: =IF(B6<>0,TODAY()-A6,D6) &" Jours" -> 46 Jours | D6: 60
A7: 42965 | B7: 45 | C7: =IF(B7<>0,TODAY()-A7,D7) &" Jours" -> 33 Jours | D7: 60
A8: 42968 | B8: 90 | C8: =IF(B8<>0,TODAY()-A8,D8) &" Jours" -> 30 Jours | D8: 60
A9: 42972 | B9: 90 | C9: =IF(B9<>0,TODAY()-A9,D9) &" Jours" -> 26 Jours | D9: 60
A10: 42972 | C10: =IF(B10<>0,TODAY()-A10,D10) &" Jours" -> 60 Jours | D10: 60
A11: 42979 | B11: 67 | C11: =IF(B11<>0,TODAY()-A11,D11) &" Jours" -> 19 Jours | D11: 60
A12: 42979 | B12: 3 | C12: =IF(B12<>0,TODAY()-A12,D12) &" Jours" -> 19 Jours | D12: 60
A13: 42985 | B13: 90 | C13: =IF(B13<>0,TODAY()-A13,D13) &" Jours" -> 13 Jours | D13: 60
A14: 42985 | B14: 90 | C14: =IF(B14<>0,TODAY()-A14,D14) &" Jours" -> 13 Jours | D14: 60
A15: 42990 | C15: =IF(B15<>0,TODAY()-A15,D15) &" Jours" -> 60 Jours | D15: 60
A16: 42990 | B16: 90 | C16: =IF(B16<>0,TODAY()-A16,D16) &" Jours" -> 8 Jours | D16: 60
A17: 42992 | B17: 72 | C17: =IF(B17<>0,TODAY()-A17,D17) &" Jours" -> 6 Jours | D17: 60
A18: 42992 | B18: 90 | C18: =IF(B18<>0,TODAY()-A18,D18) &" Jours" -> 6 Jours | D18: 60
A19: 42993 | B19: 90 | C19: =IF(B19<>0,TODAY()-A19,D19) &" Jours" -> 5 Jours | D19: 60
A20: 42993 | B20: 76 | C20: =IF(B20<>0,TODAY()-A20,D20) &" Jours" -> 5 Jours | D20: 60
A21: 42993 | B21: 90 | C21: =IF(B21<>0,TODAY()-A21,D21) &" Jours" -> 5 Jours | D21: 60
A22: 42993 | B22: 90 | C22: =IF(B22<>0,TODAY()-A22,D22) &" Jours" -> 5 Jours | D22: 60
A23: 42994 | B23: 75 | C23: =IF(B23<>0,TODAY()-A23,D23) &" Jours" -> 4 Jours | D23: 60
A24: 42994 | B24: 71 | C24: =IF(B24<>0,TODAY()-A24,D24) &" Jours" -> 4 Jours | D24: 60
A25: 42994 | B25: 82 | C25: =IF(B25<>0,TODAY()-A25,D25) &" Jours" -> 4 Jours | D25: 60
A26: 42994 | B26: 90 | C26: =IF(B26<>0,TODAY()-A26,D26) &" Jours" -> 4 Jours | D26: 60
A27: 42994 | B27: 90 | C27: =IF(B27<>0,TODAY()-A27,D27) &" Jours" -> 4 Jours | D27: 60
... A30: 42994 | B30: 17 | C30: =IF(B30<>0,TODAY()-A30,D30) &" Jours" -> 4 Jours | D30: 60
A31: 42994 | C31: =IF(B31<>0,TODAY()-A31,D31) &" Jours" -> 60 Jours | D31: 60
A32: 42994 | C32: =IF(B32<>0,TODAY()-A32,D32) &" Jours" -> 60 Jours | D32: 60
A33: 42995 | B33: 90 | C33: =IF(B33<>0,TODAY()-A33,D33) &" Jours" -> 3 Jours | D33: 60
A34: 42995 | B34: 77 | C34: =IF(B34<>0,TODAY()-A34,D34) &" Jours" -> 3 Jours | D34: 60
A35: 42995 | B35: 90 | C35: =IF(B35<>0,TODAY()-A35,D35) &" Jours" -> 3 Jours | D35: 60
A36: 42995 | B36: 90 | C36: =IF(B36<>0,TODAY()-A36,D36) &" Jours" -> 3 Jours | D36: 60
A37: 42995 | B37: 58 | C37: =IF(B37<>0,TODAY()-A37,D37) &" Jours" -> 3 Jours | D37: 60
A38: 42995 | B38: 90 | C38: =IF(B38<>0,TODAY()-A38,D38) &" Jours" -> 3 Jours | D38: 60
A39: 42995 | B39: 90 | C39: =IF(B39<>0,TODAY()-A39,D39) &" Jours" -> 3 Jours | D39: 60
A40: 42995 | B40: 90 | C40: =IF(B40<>0,TODAY()-A40,D40) &" Jours" -> 3 Jours | D40: 60
A41: 42995 | C41: =IF(B41<>0,TODAY()-A41,D41) &" Jours" -> 60 Jours | D41: 60
A42: 42995 | C42: =IF(B42<>0,TODAY()-A42,D42) &" Jours" -> 60 Jours | D42: 60
A43: 42995 | C43: =IF(B43<>0,TODAY()-A43,D43) &" Jours" -> 60 Jours | D43: 60
A44: 42995 | C44: =IF(B44<>0,TODAY()-A44,D44) &" Jours" -> 60 Jours | D44: 60
...
