Workbook
Name EURO: 6.55957
Name FOD: Fourn!#REF!
Name FOD: Loc!#REF!
Name FOD: Personnel!#REF!
Name FOD: Materiel!$I$3
Name FOD_2006: #REF!
Name GO: Fourn!#REF!
Name GO: Loc!#REF!
Name GO: Personnel!#REF!
Name GO: Materiel!$I$4
Name GO_2006: #REF!
Name ListeFournitures: Fourn!$B$17:$B$200
Name ListeLocations: Loc!$B$15:$B$100
Name ListeMachine: Fourn!$B$14:$B$200
Name ListeMachine: Loc!$B$14:$B$100
Name ListeMachine: Personnel!$B$14:$B$107
Name ListeMachine: Materiel!$B$14:$B$410
Name ListePersonnel: Personnel!$B$17:$B$107
Name TVA: 0.196

Sheet modele
M1: ANNEXE 1 AU BORDEREAU DE PRIX
A3: CADRE TYPE DE SOUS-DETAIL DE PRIX DE BORDEREAU
A5: Nom de l'entreprise : | C5: CHARIER TP
A6: Désignation du chantier : | C6: ='DE récap'!D1 -> 0 | I6: Désignation du prix : | J6: =C10 -> #N/A | O6: Date d'établissement : | P6: ='DE récap'!F1 -> 0
A9: N° de prix : (2) | C9: =MID(CELL("nomfichier",C9),FIND("]",CELL("nomfichier",C9))+1,LEN(CELL("nomfichier",C9))-FIND("]",CELL("nomfichier",C9))) -> modele
A10: Titre : | C10: =IF($C$9<>"",VLOOKUP($C$9,'DE récap'!$C$4:$F$151,2,FALSE),"") -> #N/A | O10: Quantités au marché : | P10: =IF($C$9<>"",VLOOKUP($C$9,'DE récap'!$C$4:$F$25,4,FALSE),"") -> #N/A
O11: Unité de mesure : | P11: =IF($C$9<>"",VLOOKUP($C$9,'DE récap'!$C$4:$F$25,3,FALSE),"") -> #N/A
A12: Eléments de base du prix | E12: Décomposition du prix
D13: Quantités ou durées | E13: Matériel et matières | I13: Main-d’œuvre | K13: Fournitures | M13: TOTAL 1 | O13: Sous-traitants (2) et (5)
E14: fongibles | M14: (3 + 5 + 7)
A15: Désignation | C15: Unité rdmt | D15: d'utilisation élémentaires | E15: Prix | F15: Total | I15: Prix | J15: Total | K15: Prix | L15: Total | O15: Prix | P15: TOTAL 4 (1 x 9)
E16: unitaire | F16: (1 x 2) | I16: unitaire | J16: (1 x 4) | K16: unitaire | L16: (1 x 6) | O16: unitaire
D18: 1 | E18: 2 | F18: 3 | I18: 4 | J18: 5 | K18: 6 | L18: 7 | M18: 8 | O18: 9 | P18: 10
C19: 0 | D19: =IF($C$9<>"",VLOOKUP($C$9,'DE récap'!$C$4:$F$25,4,FALSE),"") -> #N/A
A20: Personnel
C21: =IF(A21<>"",VLOOKUP(A21,Personnel!$B$17:$D$121,2,FALSE),"") | F21: =IF(E21="",0,E21*D21) -> 0 | I21: =IF(A21<>"",VLOOKUP(A21,Personnel!$B$15:$L$107,3,FALSE),0) -> 0 | J21: =IF(I21="",0,I21*D21) -> 0 | L21: =IF(K21="",0,K21*D21) -> 0 | M21: =F21+J21+L21 -> 0 | P21: =IF(O21="",0,O21*D21) -> 0
C22: =IF(A22<>"",VLOOKUP(A22,Personnel!$B$17:$D$121,2,FALSE),"") | F22: =IF(E22="",0,E22*D22) -> 0 | I22: =IF(A22<>"",VLOOKUP(A22,Personnel!$B$15:$L$107,3,FALSE),"") | J22: =IF(I22="",0,I22*D22) -> 0 | L22: =IF(K22="",0,K22*D22) -> 0 | M22: =IF(ISERR(F22+J22+L22),"",F22+J22+L22) -> 0 | P22: =IF(O22="",0,O22*D22) -> 0
C23: =IF(A23<>"",VLOOKUP(A23,Personnel!$B$17:$D$121,2,FALSE),"") | F23: =IF(E23="",0,E23*D23) -> 0 | I23: =IF(A23<>"",VLOOKUP(A23,Personnel!$B$15:$L$107,3,FALSE),"") | J23: =IF(I23="",0,I23*D23) -> 0 | L23: =IF(K23="",0,K23*D23) -> 0 | M23: =IF(ISERR(F23+J23+L23),"",F23+J23+L23) -> 0 | P23: =IF(O23="",0,O23*D23) -> 0
A24: Matériel | F24: =IF(E24="",0,E24*D24) -> 0 | J24: =IF(I24="",0,I24*D24) -> 0 | L24: =IF(K24="",0,K24*D24) -> 0 | M24: =IF(ISERR(F24+J24+L24),"",F24+J24+L24) -> 0 | P24: =IF(O24="",0,O24*D24) -> 0
C25: =IF(A25<>"",VLOOKUP(A25,Materiel!$B$15:$J$124,9,FALSE),"") | E25: =IF(A25<>"",VLOOKUP(A25,Materiel!$B$14:$M$410,8,FALSE),"") | F25: =IF(E25="",0,E25*D25) -> 0 | I25: =IF(A25<>"",VLOOKUP(A25,Materiel!$B$15:$L$110,10,FALSE),"") | J25: =IF(I25="",0,I25*D25) -> 0 | L25: =IF(K25="",0,K25*D25) -> 0 | M25: =IF(ISERR(F25+J25+L25),"",F25+J25+L25) -> 0 | P25: =IF(O25="",0,O25*D25) -> 0
C26: =IF(A26<>"",VLOOKUP(A26,Materiel!$B$15:$J$124,9,FALSE),"") | E26: =IF(A26<>"",VLOOKUP(A26,Materiel!$B$14:$M$410,8,FALSE),"") | F26: =IF(E26="",0,E26*D26) -> 0 | I26: =IF(A26<>"",VLOOKUP(A26,Materiel!$B$15:$L$110,10,FALSE),"") | J26: =IF(I26="",0,I26*D26) -> 0 | L26: =IF(K26="",0,K26*D26) -> 0 | M26: =IF(ISERR(F26+J26+L26),"",F26+J26+L26) -> 0 | P26: =IF(O26="",0,O26*D26) -> 0
C27: =IF(A27<>"",VLOOKUP(A27,Materiel!$B$15:$J$124,9,FALSE),"") | E27: =IF(A27<>"",VLOOKUP(A27,Materiel!$B$14:$M$410,8,FALSE),"") | F27: =IF(E27="",0,E27*D27) -> 0 | I27: =IF(A27<>"",VLOOKUP(A27,Materiel!$B$15:$L$110,10,FALSE),"") | J27: =IF(I27="",0,I27*D27) -> 0 | L27: =IF(K27="",0,K27*D27) -> 0 | M27: =IF(ISERR(F27+J27+L27),"",F27+J27+L27) -> 0 | P27: =IF(O27="",0,O27*D27) -> 0
C28: =IF(A28<>"",VLOOKUP(A28,Materiel!$B$15:$J$124,9,FALSE),"") | E28: =IF(A28<>"",VLOOKUP(A28,Materiel!$B$14:$M$410,8,FALSE),"") | F28: =IF(E28="",0,E28*D28) -> 0 | I28: =IF(A28<>"",VLOOKUP(A28,Materiel!$B$15:$L$110,10,FALSE),"") | J28: =IF(I28="",0,I28*D28) -> 0 | L28: =IF(K28="",0,K28*D28) -> 0 | M28: =IF(ISERR(F28+J28+L28),"",F28+J28+L28) -> 0 | P28: =IF(O28="",0,O28*D28) -> 0
C29: =IF(A29<>"",VLOOKUP(A29,Materiel!$B$15:$J$124,9,FALSE),"") | E29: =IF(A29<>"",VLOOKUP(A29,Materiel!$B$14:$M$410,8,FALSE),"") | F29: =IF(E29="",0,E29*D29) -> 0 | I29: =IF(A29<>"",VLOOKUP(A29,Materiel!$B$15:$L$110,10,FALSE),"") | J29: =IF(I29="",0,I29*D29) -> 0 | L29: =IF(K29="",0,K29*D29) -> 0 | M29: =IF(ISERR(F29+J29+L29),"",F29+J29+L29) -> 0 | P29: =IF(O29="",0,O29*D29) -> 0
A30: Location | F30: =IF(E30="",0,E30*D30) -> 0 | J30: =IF(I30="",0,I30*D30) -> 0 | L30: =IF(K30="",0,K30*D30) -> 0 | M30: =IF(ISERR(F30+J30+L30),"",F30+J30+L30) -> 0 | P30: =IF(O30="",0,O30*D30) -> 0
C31: =IF(A31<>"",VLOOKUP(A31,Loc!$B$17:$J$114,2,FALSE),"") | F31: =IF(E31="",0,E31*D31) -> 0 | J31: =IF(I31="",0,I31*D31) -> 0 | K31: =IF(A31<>"",VLOOKUP(A31,Loc!$B$15:$D$50,3,FALSE),"") | L31: =IF(K31="",0,K31*D31) -> 0 | M31: =IF(ISERR(F31+J31+L31),"",F31+J31+L31) -> 0 | P31: =IF(O31="",0,O31*D31) -> 0
C32: =IF(A32<>"",VLOOKUP(A32,Loc!$B$17:$J$114,2,FALSE),"") | F32: =IF(E32="",0,E32*D32) -> 0 | J32: =IF(I32="",0,I32*D32) -> 0 | K32: =IF(A32<>"",VLOOKUP(A32,Loc!$B$15:$D$50,3,FALSE),"") | L32: =IF(K32="",0,K32*D32) -> 0 | M32: =IF(ISERR(F32+J32+L32),"",F32+J32+L32) -> 0 | P32: =IF(O32="",0,O32*D32) -> 0
C33: =IF(A33<>"",VLOOKUP(A33,Loc!$B$17:$J$114,2,FALSE),"") | F33: =IF(E33="",0,E33*D33) -> 0 | J33: =IF(I33="",0,I33*D33) -> 0 | K33: =IF(A33<>"",VLOOKUP(A33,Loc!$B$15:$D$50,3,FALSE),"") | L33: =IF(K33="",0,K33*D33) -> 0 | M33: =IF(ISERR(F33+J33+L33),"",F33+J33+L33) -> 0 | P33: =IF(O33="",0,O33*D33) -> 0
A34: Fournitures | F34: =IF(E34="",0,E34*D34) -> 0 | J34: =IF(I34="",0,I34*D34) -> 0 | L34: =IF(K34="",0,K34*D34) -> 0 | M34: =IF(ISERR(F34+J34+L34),"",F34+J34+L34) -> 0 | P34: =IF(O34="",0,O34*D34) -> 0
C35: =IF(A35<>"",VLOOKUP(A35,Fourn!$B$17:$D$114,2,FALSE),"") | F35: =IF(E35="",0,E35*D35) -> 0 | J35: =IF(I35="",0,I35*D35) -> 0 | K35: =IF(A35<>"",VLOOKUP(A35,Fourn!$B$17:$D$300,3,FALSE),"") | L35: =IF(K35="",0,K35*D35) -> 0 | M35: =IF(ISERR(F35+J35+L35),"",F35+J35+L35) -> 0 | P35: =IF(O35="",0,O35*D35) -> 0
C36: =IF(A36<>"",VLOOKUP(A36,Fourn!$B$17:$D$114,2,FALSE),"") | F36: =IF(E36="",0,E36*D36) -> 0 | J36: =IF(I36="",0,I36*D36) -> 0 | K36: =IF(A36<>"",VLOOKUP(A36,Fourn!$B$17:$D$300,3,FALSE),"") | L36: =IF(K36="",0,K36*D36) -> 0 | M36: =IF(ISERR(F36+J36+L36),"",F36+J36+L36) -> 0 | P36: =IF(O36="",0,O36*D36) -> 0
C37: =IF(A37<>"",VLOOKUP(A37,Fourn!$B$17:$D$114,2,FALSE),"") | F37: =IF(E37="",0,E37*D37) -> 0 | J37: =IF(I37="",0,I37*D37) -> 0 | K37: =IF(A37<>"",VLOOKUP(A37,Fourn!$B$17:$D$300,3,FALSE),"") | L37: =IF(K37="",0,K37*D37) -> 0 | M37: =IF(ISERR(F37+J37+L37),"",F37+J37+L37) -> 0 | P37: =IF(O37="",0,O37*D37) -> 0
C38: =IF(A38<>"",VLOOKUP(A38,Fourn!$B$17:$D$114,2,FALSE),"") | F38: =IF(E38="",0,E38*D38) -> 0 | J38: =IF(I38="",0,I38*D38) -> 0 | K38: =IF(A38<>"",VLOOKUP(A38,Fourn!$B$17:$D$300,3,FALSE),"") | L38: =IF(K38="",0,K38*D38) -> 0 | M38: =IF(ISERR(F38+J38+L38),"",F38+J38+L38) -> 0 | P38: =IF(O38="",0,O38*D38) -> 0
A39: Sous traitant | F39: =IF(E39="",0,E39*D39) -> 0 | J39: =IF(I39="",0,I39*D39) -> 0 | L39: =IF(K39="",0,K39*D39) -> 0 | M39: =IF(ISERR(F39+J39+L39),"",F39+J39+L39) -> 0 | P39: =IF(O39="",0,O39*D39) -> 0
F40: =IF(E40="",0,E40*D40) -> 0 | J40: =IF(I40="",0,I40*D40) -> 0 | L40: =IF(K40="",0,K40*D40) -> 0 | M40: =IF(ISERR(F40+J40+L40),"",F40+J40+L40) -> 0 | P40: =IF(O40="",0,O40*D40) -> 0
F41: =IF(E41="",0,E41*D41) -> 0 | J41: =IF(I41="",0,I41*D41) -> 0 | L41: =IF(K41="",0,K41*D41) -> 0 | M41: =IF(ISERR(F41+J41+L41),"",F41+J41+L41) -> 0 | P41: =IF(O41="",0,O41*D41) -> 0
F42: =IF(E42="",0,E42*D42) -> 0 | J42: =IF(I42="",0,I42*D42) -> 0 | L42: =IF(K42="",0,K42*D42) -> 0 | M42: =IF(ISERR(F42+J42+L42),"",F42+J42+L42) -> 0 | P42: =IF(O42="",0,O42*D42) -> 0
A43: DEBOURSES | E43: =SUM(F19:H42) -> 0 | I43: =SUM(J19:J42) -> 0 | K43: =SUM(L19:L42) -> 0 | M43: =SUM(M19:N42) -> 0 | O43: =SUM(P19:P42) -> 0
O44: TOTAL 4 : (T4) | P44: =O43 -> 0
A46: (1) Tous les prix sont hors TVA. | H46: TOTAL 1 : (T1) | J46: =M43 -> 0 | O46: K4 : frais de sous-traitance de T4 | P46: =Coeff!H5 -> 0.18
...

Sheet Personnel
B2: TARIF INTERNE 2018 | D2: AGENCE RE
D11: Coef SdP | E11: 1
B14: PERSONNEL
I16: PU interne
B17: Responsable d'Exploitation | C17: j | D17: =I17*$E$11 -> 650 | E17: Jour | I17: 650
B18: Ingénieur projet | C18: j | D18: 800
B19: Conducteur de travaux | C19: j | D19: 700 | E19: Jour | I19: 600
B20: Chef de Chantier | C20: h | D20: =600/8 -> 75 | E20: Jour | I20: 400
B21: Géometre | C21: j | D21: 450 | E21: Jour | I21: 400
B22: OCP Chef de Chantier | C22: h | D22: =D20*2/8 -> 18.75 | E22: Jour | I22: 400
B23: OCP Géometre | C23: j | D23: =+D21*2/8 -> 112.5 | E23: Jour | I23: 400
B24: QSE | C24: j | D24: 500 | E24: Jour | I24: 400
B25: Technicien labo | C25: j | D25: 900 | E25: Jour | I25: 450
B26: Primes de poste | C26: U | D26: 55
B27: OCP Technicien labo | C27: h | D27: =D25*2/8 -> 225 | E27: Jour | I27: 450
B28: Ingénieur Labo | C28: J | D28: 1500 | E28: Jour
D29: =I29*$E$11 -> 0
B30: Conducteur d'engins | C30: h | D30: 53 | E30: heure | I30: 40
B31: Chef d'équipe | C31: h | D31: 60 | E31: heure | I31: 47.5
B32: Chauffeur routier | C32: h | D32: 45 | E32: heure | I32: 48
B33: Ouvrier à pied | C33: h | D33: 53 | E33: heure | I33: 34
B34: Mécanicien | C34: h | D34: 60 | E34: heure | I34: 55.5
B35: OCP Conducteur d'engins | C35: h | D35: 53 | E35: heure | I35: 40
B36: OCP Chef d'équipe | C36: h | D36: 60 | E36: heure | I36: 47.5
B37: OCP Chauffeur routier | C37: h | D37: 45 | E37: heure | I37: 48
B38: OCP Ouvrier à pied | C38: h | D38: 53 | E38: heure | I38: 34
B39: OCP Mécanicien | C39: h | D39: 60 | E39: heure | I39: 55.5
D40: =I40*$E$11 -> 0
B41: travaux de nuit | C41: h | D41: =I41*$E$11 -> 34 | E41: heure | I41: 34
B42: intérim clause sociale | C42: h | D42: =I42*$E$11 -> 22 | E42: heure | I42: 22
D43: =I43*$E$11 -> 0
D44: =I44*$E$11 -> 0
D45: =I45*$E$11 -> 0
D46: =I46*$E$11 -> 0

Sheet Materiel
B2: TARIF INTERNE 2018 | M2: AGENCE RE
D3: COUT FOD CONSIDERE en €/L | I3: 1.4 | O3: COUT FOD CONSIDERE en €/L | T3: 0.9
D4: COUT GO CONSIDERE en €/L | I4: 1.2 | O4: COUT GO CONSIDERE en €/L | T4: 1.4
D5: LUB EN % DU CARBURANT | I5: 0.04 | O5: LUB EN % DU CARBURANT | T5: 0.04
D7: Coef SdP | I7: 1.35 | O7: Coef Frais Généraux | T7: 0.13
D8: MAIN D'ŒUVRE ( intégrant les intempéries et GD) | I8: 55 | O8: MAIN D'ŒUVRE ( intégrant les intempéries ) | T8: 34
D10: TARIFS en €/h hors OAS | O10: TARIFS en €/h hors OAS
D11: Amort. | E11: Carburant | F11: Conso | G11: Entretien | H11: Assurances | I11: Total | K11: Main d'Œuvre | L11: Prix SEC SdP | O11: Amort. | P11: Carburant | Q11: Conso | R11: Entretien | S11: Assurances | T11: Total | V11: Main d'Œuvre | W11: Prix SEC
D12: Technique | E12: et Lubrifiants | F12: (L/H) | H12: et Taxes | O12: Technique | P12: et Lubrifiants | Q12: (L/H) | S12: et Taxes
A14: 21 | B14: Matériel RENNES
B17: Bull D6 GPS | D17: =O17*I$7 -> 28.215 | E17: =+ROUND(F17*FOD*(1+$I$5)*I$7,1) -> 49.1 | F17: 25 | G17: 19 | H17: 1.5 | I17: =D17+E17+G17+H17 -> 97.815 | J17: h | K17: =I$8 -> 55 | L17: =K17+I17 -> 152.815 | O17: 20.9
B18: Niveleuse GPS | D18: =O18*I$7 -> 19.44 | E18: =+ROUND(F18*FOD*(1+$I$5)*I$7,1) -> 19.7 | F18: 10 | G18: 14.8 | H18: 1 | I18: =D18+E18+G18+H18 -> 54.94 | J18: h | K18: =I$8 -> 55 | L18: =K18+I18 -> 109.94 | O18: 14.4
B19: Tombereau 30T | D19: =O19*I$7 -> 36.18 | E19: =+ROUND(F19*FOD*(1+$I$5)*I$7,1) -> 33.4 | F19: 17 | G19: 10.5 | H19: 1.9 | I19: =D19+E19+G19+H19 -> 81.98 | J19: h | K19: =I$8 -> 55 | L19: =K19+I19 -> 136.98 | O19: 26.8
B20: Tombreau 40T | D20: =O20*I$7 -> 49.68 | E20: =+ROUND(F20*FOD*(1+$I$5)*I$7,1) -> 60.9 | F20: 31 | G20: 22.4 | H20: 2.6 | I20: =D20+E20+G20+H20 -> 135.58 | J20: h | K20: =+$I$8 -> 55 | L20: =+K20+I20 -> 190.58 | O20: 36.8 | P20: =+ROUND(Q20*FOD*(1+$I$5),1) -> 45.1 | Q20: 31 | R20: 22.4 | S20: 2.6 | T20: =O20+P20+R20+S20 -> 106.9 | U20: h | V20: =+$I$8 -> 55 | W20: =+V20+T20 -> 161.9
B21: Pelle 20T-25T GPS | D21: =O21*I$7 -> 20.25 | E21: =+ROUND(F21*FOD*(1+$I$5)*I$7,1) -> 31.4 | F21: 16 | G21: 9.4 | H21: 1 | I21: =D21+E21+G21+H21 -> 62.05 | J21: h | K21: =I$8 -> 55 | L21: =K21+I21 -> 117.05 | O21: 15
B22: Pelle 27T-30T GPS | D22: =O22*I$7 -> 24.705 | E22: =+ROUND(F22*FOD*(1+$I$5)*I$7,1) -> 49.1 | F22: 25 | G22: 10.6 | H22: 1.3 | I22: =D22+E22+G22+H22 -> 85.705 | J22: h | K22: =I$8 -> 55 | L22: =K22+I22 -> 140.705 | O22: 18.3
B23: Pelle 45T-50T déconstruction | D23: =O23*I$7 -> 41.04 | E23: =+ROUND(F23*FOD*(1+$I$5)*I$7,1) -> 66.8 | F23: 34 | G23: 22.2 | H23: 2.1 | I23: =D23+E23+G23+H23 -> 132.14 | J23: h | K23: =I$8 -> 55 | L23: =K23+I23 -> 187.14 | O23: 30.4
B24: Minipelle 8T | D24: 14.4 | E24: =+ROUND(F24*FOD*(1+$I$5),1) -> 2.9 | F24: 2 | G24: 6.2 | H24: 1 | I24: =D24+E24+G24+H24 -> 24.5 | J24: h | K24: =+$I$8 -> 55 | L24: =+K24+I24 -> 79.5 | O24: 14.4 | P24: =+ROUND(Q24*FOD*(1+$I$5),1) -> 2.9 | Q24: 2 | R24: 6.2 | S24: 1 | T24: =O24+P24+R24+S24 -> 24.5 | U24: h | V24: =+$I$8 -> 55 | W24: =+V24+T24 -> 79.5
B25: Compacteur | D25: 12 | E25: =+ROUND(F25*FOD*(1+$I$5)*I$7,1) -> 9.8 | F25: 5 | G25: 11 | H25: 0.8 | I25: =D25+E25+G25+H25 -> 33.6 | J25: h | K25: =I$8 -> 55 | L25: =K25+I25 -> 88.6 | O25: 11.5
B26: Compacteur V5 | D26: =O26*I$7 -> 22.815 | E26: =+ROUND(F26*FOD*(1+$I$5)*I$7,1) -> 35.4 | F26: 18 | G26: 12.3 | H26: 1.2 | I26: =D26+E26+G26+H26 -> 71.715 | J26: h | K26: =I$8 -> 55 | L26: =K26+I26 -> 126.715 | O26: 16.9
B28: OCP Bull D6 GPS | D28: =O28*I$7 -> 28.215 | E28: =+ROUND(F28*FOD*(1+$I$5)*I$7,1) -> 49.1 | F28: 25 | G28: 19 | H28: 1.5 | I28: =D28+E28+G28+H28 -> 97.815 | J28: h | K28: =I$8*2 -> 110 | L28: =K28+I28 -> 207.815 | O28: 20.9
B29: OCP Niveleuse GPS | D29: =O29*I$7 -> 19.44 | E29: =+ROUND(F29*FOD*(1+$I$5)*I$7,1) -> 19.7 | F29: 10 | G29: 14.8 | H29: 1 | I29: =D29+E29+G29+H29 -> 54.94 | J29: h | K29: =I$8*2 -> 110 | L29: =K29+I29 -> 164.94 | O29: 14.4
B30: OCP Tombereau 30T | D30: =O30*I$7 -> 36.18 | E30: =+ROUND(F30*FOD*(1+$I$5)*I$7,1) -> 33.4 | F30: 17 | G30: 10.5 | H30: 1.9 | I30: =D30+E30+G30+H30 -> 81.98 | J30: h | K30: =I$8*2 -> 110 | L30: =K30+I30 -> 191.98 | O30: 26.8
B31: OCP Tombereau 40T | D31: 65 | E31: =+ROUND(F31*FOD*(1+$I$5)*I$7,1) -> 60.9 | F31: 31 | G31: 22.4 | H31: 2.6 | I31: =D31+E31+G31+H31 -> 150.9 | J31: h | K31: =I$8*2 -> 110 | L31: =+K31+I31 -> 260.9 | N31: =#REF! -> #REF! | O31: 36.8 | P31: =+ROUND(Q31*FOD*(1+$I$5),1) -> 45.1 | Q31: 31 | R31: 22.4 | S31: 2.6 | T31: =O31+P31+R31+S31 -> 106.9 | U31: h | V31: =+$I$8 -> 55 | W31: =+V31+T31 -> 161.9
B32: OCP Pelle 20T-25T GPS | D32: =O32*I$7 -> 20.25 | E32: =+ROUND(F32*FOD*(1+$I$5)*I$7,1) -> 39.3 | F32: 20 | G32: 9.4 | H32: 1 | I32: =D32+E32+G32+H32 -> 69.95 | J32: h | K32: =I$8*2 -> 110 | L32: =K32+I32 -> 179.95 | O32: 15
B33: OCP Pelle 27T-30T GPS | D33: =O33*I$7 -> 24.705 | E33: =+ROUND(F33*FOD*(1+$I$5)*I$7,1) -> 59 | F33: 30 | G33: 10.6 | H33: 1.3 | I33: =D33+E33+G33+H33 -> 95.605 | J33: h | K33: =I$8*2 -> 110 | L33: =K33+I33 -> 205.605 | O33: 18.3
B34: OCP Pelle 45T-50T GPS | D34: 65 | E34: =+ROUND(F34*FOD*(1+$I$5)*I$7,1) -> 72.7 | F34: 37 | G34: 22.2 | H34: 2.1 | I34: =D34+E34+G34+H34 -> 162 | J34: h | K34: =I$8*2 -> 110 | L34: =K34+I34 -> 272 | O34: 30.4
B35: OCP Minipelle 8T | D35: 14.4 | E35: =+ROUND(F35*FOD*(1+$I$5),1) -> 2.9 | F35: 2 | G35: 6.2 | H35: 1 | I35: =D35+E35+G35+H35 -> 24.5 | J35: h | K35: =I$8*2 -> 110 | L35: =+K35+I35 -> 134.5 | O35: 14.4 | P35: =+ROUND(Q35*FOD*(1+$I$5),1) -> 2.9 | Q35: 2 | R35: 6.2 | S35: 1 | T35: =O35+P35+R35+S35 -> 24.5 | U35: h | V35: =+$I$8 -> 55 | W35: =+V35+T35 -> 79.5
B36: OCP Compacteur | D36: 12 | E36: =+ROUND(F36*FOD*(1+$I$5)*I$7,1) -> 9.8 | F36: 5 | G36: 11 | H36: 0.8 | I36: =D36+E36+G36+H36 -> 33.6 | J36: h | K36: =I$8*2 -> 110 | L36: =K36+I36 -> 143.6 | O36: 11.5
B37: OCP Compacteur V5 | D37: =O37*I$7 -> 22.815 | E37: =+ROUND(F37*FOD*(1+$I$5)*I$7,1) -> 35.4 | F37: 18 | G37: 12.3 | H37: 1.2 | I37: =D37+E37+G37+H37 -> 71.715 | J37: h | K37: =I$8*2 -> 110 | L37: =K37+I37 -> 181.715 | O37: 16.9
B40: Malaxeur de chaux | D40: =O40*I$7 -> 83.43 | E40: =+ROUND(F40*FOD*(1+$I$5)*I$7,1) -> 102.2 | F40: 52 | G40: 96.2 | H40: 4.3 | I40: =D40+E40+G40+H40 -> 286.13 | J40: h | K40: =I$8 -> 55 | L40: =K40+I40 -> 341.13 | O40: 61.8
A41: 68 | B41: Epandeur de chaux | D41: =O41*I$7 -> 33.345 | E41: =+ROUND(F41*FOD*(1+$I$5)*I$7,1) -> 23.6 | F41: 12 | G41: 14.6 | H41: 1.7 | I41: =D41+E41+G41+H41 -> 73.245 | J41: h | K41: =I$8 -> 55 | L41: =K41+I41 -> 128.245 | O41: 24.7
B42: Porte engins | D42: =O42*I$7 -> 29.7 | E42: =+ROUND(F42*FOD*(1+$I$5)*I$7,1) -> 37.3 | F42: 19 | G42: 18.6 | H42: 1.1 | I42: =D42+E42+G42+H42 -> 86.7 | J42: h | K42: =I$8 -> 55 | L42: =K42+I42 -> 141.7 | O42: 22
B43: Camion routier | D43: =O43*I$7 -> 9.585 | E43: =+ROUND(F43*FOD*(1+$I$5)*I$7,1) -> 31.4 | F43: 16 | G43: 10.5 | H43: 1.1 | I43: =D43+E43+G43+H43 -> 52.585 | J43: h | K43: 45 | L43: =K43+I43 -> 97.585 | O43: 7.1
B44: minitombereau | D44: =O44*I$7 -> 6.615 | E44: =+ROUND(F44*FOD*(1+$I$5)*I$7,1) -> 31.4 | F44: 16 | G44: 5.4 | H44: 1.1 | I44: =D44+E44+G44+H44 -> 44.515 | J44: h | K44: =I$8 -> 55 | L44: =K44+I44 -> 99.515 | O44: 4.9
B50: Voiture pilote | D50: =O50*I$7 -> 2.7 | E50: =+ROUND(F50*FOD*(1+$I$5)*I$7,1) -> 3.9 | F50: 2 | G50: 1.1 | H50: 0.2 | I50: =D50+E50+G50+H50 -> 7.9 | J50: h | K50: 46 | L50: =K50+I50 -> 53.9 | O50: 2
J51: h | K51: =I$8 -> 55 | U51: h
A52: 23 | B52: Décapeuses automotrices | J52: h | U52: h
B53: Scrap 621E-621F | D53: 33 | E53: =+ROUND(F53*FOD*(1+$I$5),1) -> 50.4 | F53: 34.647944 | G53: 34.2 | H53: 1.3 | I53: =D53+E53+G53+H53 -> 118.9 | J53: h | K53: =+$I$8 -> 55 | L53: =+K53+I53 -> 173.9 | O53: 33 | P53: =+ROUND(Q53*FOD*(1+$I$5),1) -> 50.4 | Q53: 34.647944 | R53: 34.2 | S53: 1.3 | T53: =O53+P53+R53+S53 -> 118.9 | U53: h | V53: =+$I$8 -> 55 | W53: =+V53+T53 -> 173.9
B54: Scrap 631E-631G | D54: 41.3 | E54: =+ROUND(F54*FOD*(1+$I$5),1) -> 68.2 | F54: 46.872782 | G54: 50.9 | H54: 2.9 | I54: =D54+E54+G54+H54 -> 163.3 | J54: h | K54: =+$I$8 -> 55 | L54: =+K54+I54 -> 218.3 | O54: 41.3 | P54: =+ROUND(Q54*FOD*(1+$I$5),1) -> 68.2 | Q54: 46.872782 | R54: 50.9 | S54: 2.9 | T54: =O54+P54+R54+S54 -> 163.3 | U54: h | V54: =+$I$8 -> 55 | W54: =+V54+T54 -> 218.3
...

Sheet Fourn
B2: FOURNITURES | D2: AGENCE RE
D9: Prix de VENTE
D13: écrit en orange = prix estimé
B14: Fournitures | D14: écrit en rouge = consultation
C16: U
B25: Remblai du site traité chaux | C25: m3 | D25: 3
B26: GNT 0/80 | C26: T | D26: 9.2
B27: Matériaux Fiche 9 | C27: T | D27: 11.23 | I27: =#REF! -> #REF!
B28: GNTA 0/315 | C28: T | D28: 12.3
B29: Matériaux drainants fiche 11 | C29: T | D29: 19.82 | I29: =#REF! -> #REF!
B30: Matériaux drainants fiche 12 | C30: T | D30: 17.22 | I30: =#REF! -> #REF!
B31: Enrochements | C31: T | D31: 7.8
B32: Transfert 1 ère cat | C32: U | D32: =3*85 -> 255
B33: Transfert 2 ème cat | C33: U | D33: =3*120 -> 360
B34: Transfert 3ème cat | C34: U | D34: 1000
B35: branchement | C35: U | D35: 300
B36: frais de fonctionnement installation | C36: MOIS | D36: 200
B37: frais de fonctionnement installation carrefour à feux | C37: MOIS | D37: 1160
B38: Grillage ht 1ml - orange | C38: ML | D38: 0.75
B39: Ouvrage de régulation avec caillibotis 1500x1500 avec cloison et clapet | C39: U | D39: 3300
B40: Garde corps | C40: U | D40: 450
B41: Dégrilleur 500/600 | C41: U | D41: 940
B42: Ouvrage by-pass 1500x1500 avec vanne d1000 | C42: U | D42: 13000
B43: Drains D140 | C43: ML | D43: 2.5
B44: Drains D200 | C44: ML | D44: 4.2
B45: Drains D250 | C45: ML | D45: 8.55
... B114: bucheron | C114: J | D114: 450

Sheet Loc
B2: LOCATIONS | D2: AGENCE RE
I5: 0.65
D9: Prix de VENTE
D13: écrit en orange = prix estimé
B14: Locations | D14: écrit en rouge = consultation
E15: unité | F15: fournisseur
B17: bungalow vestiaire | C17: mois | D17: 105 | E17: par mois
B18: bungalow sanitaire | C18: mois | D18: 150 | E18: par mois
B19: bungalow bureau | C19: mois | D19: 105 | E19: par mois
B20: bungalow labo | C20: mois | D20: 150 | E20: par mois
B21: Eclairages | C21: j | D21: 250 | E21: par jour
B22: carrefour à feux | C22: j | D22: 15.15 | E22: par jour | F22: Kangourou
B23: raboteuse W210 | C23: j | D23: 3570 | E23: la journée | F23: Brémat
B24: pompe surface 150m3/h | C24: j | D24: 49 | E24: par jour | F24: Loxam
B25: grue automotrice | C25: j | D25: 1280 | E25: par jour
B26: pelle et croque souche | C26: h | D26: 85 | E26: par heure
B27: gyro broyeur | C27: j | D27: 1000 | E27: par jour
B28: semi | C28: h | D28: 62.5 | E28: par heure
B29: tracteur benne | C29: h | D29: 45 | E29: par heure

Sheet Coeff
A1: =#REF! -> #REF! | B1: P
A2: =#REF! -> #REF! | B2: P | D2: COEFFICIENT | G2: K1 frais généraux de siège (3) | J2: 0.18
A3: =A2 -> #REF! | B3: P | D3: Materiel | E3: 1.2 | G3: K2 frais généraux de chantier (4) | J3: 0.08
A4: =A3 -> #REF! | B4: P | D4: Location | E4: 1.2 | G4: K3 aléas et bénéfices | J4: 0.05
A5: =A4 -> #REF! | B5: P | D5: Fourniture | E5: 1.2 | G5: K4 : frais de sous-traitance de T4 | H5: 0.18
A6: =A5 -> #REF! | B6: P | D6: Sous traitant | E6: 1.2
A7: =#REF! -> #REF! | B7: P
A8: =A7 -> #REF! | B8: P
A9: =A8 -> #REF! | B9: P
A10: =#REF! -> #REF! | B10: P
A11: =A10 -> #REF! | B11: P
A12: =A11 -> #REF! | B12: P
A13: =A12 -> #REF! | B13: P
A14: =A13 -> #REF! | B14: P
A15: =A14 -> #REF! | B15: P
A16: =A15 -> #REF! | B16: P
A17: =A16 -> #REF! | B17: P
A18: =A17 -> #REF! | B18: P
A19: =#REF! -> #REF! | B19: P
A20: =A19 -> #REF! | B20: P
A21: =A20 -> #REF! | B21: P
A22: =#REF! -> #REF! | B22: P
A23: =#REF! -> #REF! | B23: P
A24: =A23 -> #REF! | B24: P
A25: =#REF! -> #REF! | B25: P
A26: =#REF! -> #REF! | B26: P
A27: =#REF! -> #REF! | B27: P
A28: =A27 -> #REF! | B28: P
A29: =A28 -> #REF! | B29: P
A30: =#REF! -> #REF! | B30: P
A31: =A30 -> #REF! | B31: P
A32: =#REF! -> #REF! | B32: P
A33: =A32-1 -> #REF! | B33: HT
A34: =A33 -> #REF! | B34: TVA
A35: =A34 -> #REF! | B35: TTC | C35: =+#REF!/#REF! -> #REF!
A36: 0 | B36: V

Sheet DE récap
A1: 0 | B1: T
A3: Niveau | B3: Type | C3: N° Prix | D3: Désignation | E3: Unité | F3: Quantité | G3: PU | H3: Montant | I3: PU SDP | J3: écart
A4: =#REF! -> #REF! | B4: P | C4: 10B 11 702 00 | D4: Dégarnissage de la voie non mécanisé conduit jusqu'à une profondeur > 0,15 m et ≤ 0,25 m | E4: m de voie | F4: 90 | H4: =F4*G4 -> 0 | I4: =INDIRECT("'"&$C4&"'!o53") -> 0 | J4: =I4-G4 -> 0
A5: =A4 -> #REF! | B5: P | C5: 20C 11 400 00 | D5: Terre végétale : Reprise sur stock et amenée à pied d œuvre de terre végétale | E5: m3 | F5: 180 | H5: =F5*G5 -> 0 | I5: =INDIRECT("'"&$C5&"'!o53") -> 7.2533086 | J5: =I5-G5 -> 7.2533086
A6: =A5 -> #REF! | B6: P | H6: =F6*G6 -> 0 | I6: =INDIRECT("'"&$C6&"'!o53") -> #REF! | J6: =I6-G6 -> #REF!
A7: =A6 -> #REF! | B7: P | H7: =F7*G7 -> 0 | I7: =INDIRECT("'"&$C7&"'!o53") -> #REF! | J7: =I7-G7 -> #REF!
A8: =A7 -> #REF! | B8: P | H8: =F8*G8 -> 0 | I8: =INDIRECT("'"&$C8&"'!o53") -> #REF! | J8: =I8-G8 -> #REF!
A9: =#REF! -> #REF! | B9: P | H9: =F9*G9 -> 0 | I9: =INDIRECT("'"&$C9&"'!o53") -> #REF! | J9: =I9-G9 -> #REF!
A10: =#REF! -> #REF! | B10: P | H10: =F10*G10 -> 0 | I10: =INDIRECT("'"&$C10&"'!o53") -> #REF! | J10: =I10-G10 -> #REF!
A11: =#REF! -> #REF! | B11: P | H11: =F11*G11 -> 0 | I11: =INDIRECT("'"&$C11&"'!o53") -> #REF! | J11: =I11-G11 -> #REF!
A12: =#REF! -> #REF! | B12: P | H12: =F12*G12 -> 0 | I12: =INDIRECT("'"&$C12&"'!o53") -> #REF! | J12: =I12-G12 -> #REF!
A13: =A9 -> #REF! | B13: P | H13: =F13*G13 -> 0 | I13: =INDIRECT("'"&$C13&"'!o53") -> #REF! | J13: =I13-G13 -> #REF!
A14: =A13 -> #REF! | B14: P | H14: =F14*G14 -> 0 | I14: =#REF! -> #REF! | J14: =I14-G14 -> #REF!
A15: =A14 -> #REF! | B15: P | H15: =F15*G15 -> 0 | I15: =#REF! -> #REF! | J15: =I15-G15 -> #REF!
A16: =A14 -> #REF! | B16: P | H16: =F16*G16 -> 0 | I16: =INDIRECT("'"&$C16&"'!o53") -> #REF! | J16: =I16-G16 -> #REF!
A17: =A15 -> #REF! | B17: P | H17: =F17*G17 -> 0 | I17: =INDIRECT("'"&$C17&"'!o53") -> #REF! | J17: =I17-G17 -> #REF!
A18: =A17 -> #REF! | B18: P | H18: =F18*G18 -> 0 | I18: =INDIRECT("'"&$C18&"'!o53") -> #REF! | J18: =I18-G18 -> #REF!
A19: =#REF! -> #REF! | B19: P | H19: =F19*G19 -> 0 | I19: =INDIRECT("'"&$C19&"'!o53") -> #REF! | J19: =I19-G19 -> #REF!
A20: =#REF! -> #REF! | B20: P | H20: =F20*G20 -> 0 | I20: =INDIRECT("'"&$C20&"'!o53") -> #REF! | J20: =I20-G20 -> #REF!
A21: =#REF! -> #REF! | B21: P | H21: =F21*G21 -> 0 | I21: =INDIRECT("'"&$C21&"'!o56") -> #REF! | J21: =I21-G21 -> #REF!
A22: =#REF! -> #REF! | B22: P | H22: =F22*G22 -> 0 | I22: =INDIRECT("'"&$C22&"'!o53") -> #REF! | J22: =I22-G22 -> #REF!
A23: =#REF! -> #REF! | B23: P | H23: =F23*G23 -> 0 | I23: =INDIRECT("'"&$C23&"'!o53") -> #REF! | J23: =I23-G23 -> #REF!
A24: =A23 -> #REF! | B24: P | H24: =F24*G24 -> 0 | I24: =INDIRECT("'"&$C24&"'!o53") -> #REF! | J24: =I24-G24 -> #REF!
A25: =#REF! -> #REF! | B25: P | H25: =F25*G25 -> 0 | I25: =INDIRECT("'"&$C25&"'!o53") -> #REF! | J25: =I25-G25 -> #REF!
A26: =#REF! -> #REF! | B26: P | H26: =F26*G26 -> 0 | I26: =INDIRECT("'"&$C26&"'!o53") -> #REF! | J26: =I26-G26 -> #REF!
H27: =F27*G27 -> 0 | I27: =INDIRECT("'"&$C27&"'!o53") -> #REF! | J27: =I27-G27 -> #REF!
H28: =F28*G28 -> 0 | I28: =INDIRECT("'"&$C28&"'!o54") -> #REF! | J28: =I28-G28 -> #REF!
H29: =F29*G29 -> 0 | I29: =INDIRECT("'"&$C29&"'!o53") -> #REF! | J29: =I29-G29 -> #REF!
H30: =F30*G30 -> 0 | I30: =INDIRECT("'"&$C30&"'!o53") -> #REF! | J30: =I30-G30 -> #REF!
H31: =F31*G31 -> 0 | I31: =INDIRECT("'"&$C31&"'!o53") -> #REF! | J31: =I31-G31 -> #REF!
H32: =F32*G32 -> 0 | I32: =INDIRECT("'"&$C32&"'!o53") -> #REF! | J32: =I32-G32 -> #REF!
H33: =F33*G33 -> 0 | I33: =INDIRECT("'"&$C33&"'!o53") -> #REF! | J33: =I33-G33 -> #REF!
H34: =F34*G34 -> 0 | I34: =INDIRECT("'"&$C34&"'!o53") -> #REF! | J34: =I34-G34 -> #REF!
H35: =F35*G35 -> 0 | I35: =INDIRECT("'"&$C35&"'!o54") -> #REF! | J35: =I35-G35 -> #REF!
H36: =F36*G36 -> 0 | I36: =INDIRECT("'"&$C36&"'!o53") -> #REF! | J36: =I36-G36 -> #REF!
H37: =F37*G37 -> 0 | I37: =INDIRECT("'"&$C37&"'!o53") -> #REF! | J37: =I37-G37 -> #REF!
H38: =F38*G38 -> 0 | I38: =INDIRECT("'"&$C38&"'!o53") -> #REF! | J38: =I38-G38 -> #REF!
H39: =F39*G39 -> 0 | I39: =INDIRECT("'"&$C39&"'!o53") -> #REF! | J39: =I39-G39 -> #REF!
C40: FIN | H40: =F40*G40 -> 0 | I40: =INDIRECT("'"&$C40&"'!o53") -> #REF! | J40: =I40-G40 -> #REF!
H41: =F41*G41 -> 0 | I41: =INDIRECT("'"&$C41&"'!s53") -> #REF! | J41: =I41-G41 -> #REF!
...

Sheet 10B 11 702 00
M1: ANNEXE 1 AU BORDEREAU DE PRIX
A3: CADRE TYPE DE SOUS-DETAIL DE PRIX DE BORDEREAU
A5: Nom de l'entreprise : | C5: CHARIER TP
A6: Désignation du chantier : | C6: ='DE récap'!D1 -> 0 | I6: Désignation du prix : | J6: =C10 -> Dégarnissage de la voie non mécanisé conduit jusqu'à une profondeur > 0,15 m et ≤ 0,25 m | O6: Date d'établissement : | P6: ='DE récap'!F1 -> 0
A9: N° de prix : (2) | C9: =MID(CELL("nomfichier",C9),FIND("]",CELL("nomfichier",C9))+1,LEN(CELL("nomfichier",C9))-FIND("]",CELL("nomfichier",C9))) -> 10B 11 702 00
A10: Titre : | C10: =IF($C$9<>"",VLOOKUP($C$9,'DE récap'!$C$4:$F$151,2,FALSE),"") -> Dégarnissage de la voie non mécanisé conduit jusqu'à une profondeur > 0,15 m et ≤ 0,25 m | O10: Quantités au marché : | P10: =IF($C$9<>"",VLOOKUP($C$9,'DE récap'!$C$4:$F$25,4,FALSE),"") -> 90
O11: Unité de mesure : | P11: =IF($C$9<>"",VLOOKUP($C$9,'DE récap'!$C$4:$F$25,3,FALSE),"") -> m de voie
A12: Eléments de base du prix | E12: Décomposition du prix
D13: Quantités ou durées | E13: Matériel et matières | I13: Main-d’œuvre | K13: Fournitures | M13: TOTAL 1 | O13: Sous-traitants (2) et (5)
E14: fongibles | M14: (3 + 5 + 7)
A15: Désignation | C15: Unité rdmt | D15: d'utilisation élémentaires | E15: Prix | F15: Total | I15: Prix | J15: Total | K15: Prix | L15: Total | O15: Prix | P15: TOTAL 4 (1 x 9)
E16: unitaire | F16: (1 x 2) | I16: unitaire | J16: (1 x 4) | K16: unitaire | L16: (1 x 6) | O16: unitaire
D18: 1 | E18: 2 | F18: 3 | I18: 4 | J18: 5 | K18: 6 | L18: 7 | M18: 8 | O18: 9 | P18: 10
C19: 90
A20: Personnel
C21: =IF(A21<>"",VLOOKUP(A21,Personnel!$B$17:$D$121,2,FALSE),"") | D21: 1 | F21: =IF(E21="",0,E21*D21) -> 0 | I21: =IF(A21<>"",VLOOKUP(A21,Personnel!$B$15:$L$107,3,FALSE),0) -> 0 | J21: =IF(I21="",0,I21*D21) -> 0 | L21: =IF(K21="",0,K21*D21) -> 0 | M21: =F21+J21+L21 -> 0 | P21: =IF(O21="",0,O21*D21) -> 0
C22: =IF(A22<>"",VLOOKUP(A22,Personnel!$B$17:$D$121,2,FALSE),"") | D22: 1 | F22: =IF(E22="",0,E22*D22) -> 0 | I22: =IF(A22<>"",VLOOKUP(A22,Personnel!$B$15:$L$107,3,FALSE),"") | J22: =IF(I22="",0,I22*D22) -> 0 | L22: =IF(K22="",0,K22*D22) -> 0 | M22: =IF(ISERR(F22+J22+L22),"",F22+J22+L22) -> 0 | P22: =IF(O22="",0,O22*D22) -> 0
C23: =IF(A23<>"",VLOOKUP(A23,Personnel!$B$17:$D$121,2,FALSE),"") | D23: 1 | F23: =IF(E23="",0,E23*D23) -> 0 | I23: =IF(A23<>"",VLOOKUP(A23,Personnel!$B$15:$L$107,3,FALSE),"") | J23: =IF(I23="",0,I23*D23) -> 0 | L23: =IF(K23="",0,K23*D23) -> 0 | M23: =IF(ISERR(F23+J23+L23),"",F23+J23+L23) -> 0 | P23: =IF(O23="",0,O23*D23) -> 0
A24: Matériel | F24: =IF(E24="",0,E24*D24) -> 0 | J24: =IF(I24="",0,I24*D24) -> 0 | L24: =IF(K24="",0,K24*D24) -> 0 | M24: =IF(ISERR(F24+J24+L24),"",F24+J24+L24) -> 0 | P24: =IF(O24="",0,O24*D24) -> 0
C25: =IF(A25<>"",VLOOKUP(A25,Materiel!$B$15:$J$124,9,FALSE),"") | D25: 1 | E25: =IF(A25<>"",VLOOKUP(A25,Materiel!$B$14:$M$410,8,FALSE),"") | F25: =IF(E25="",0,E25*D25) -> 0 | I25: =IF(A25<>"",VLOOKUP(A25,Materiel!$B$15:$L$110,10,FALSE),"") | J25: =IF(I25="",0,I25*D25) -> 0 | L25: =IF(K25="",0,K25*D25) -> 0 | M25: =IF(ISERR(F25+J25+L25),"",F25+J25+L25) -> 0 | P25: =IF(O25="",0,O25*D25) -> 0
C26: =IF(A26<>"",VLOOKUP(A26,Materiel!$B$15:$J$124,9,FALSE),"") | D26: 1 | E26: =IF(A26<>"",VLOOKUP(A26,Materiel!$B$14:$M$410,8,FALSE),"") | F26: =IF(E26="",0,E26*D26) -> 0 | I26: =IF(A26<>"",VLOOKUP(A26,Materiel!$B$15:$L$110,10,FALSE),"") | J26: =IF(I26="",0,I26*D26) -> 0 | L26: =IF(K26="",0,K26*D26) -> 0 | M26: =IF(ISERR(F26+J26+L26),"",F26+J26+L26) -> 0 | P26: =IF(O26="",0,O26*D26) -> 0
C27: =IF(A27<>"",VLOOKUP(A27,Materiel!$B$15:$J$124,9,FALSE),"") | D27: 3 | E27: =IF(A27<>"",VLOOKUP(A27,Materiel!$B$14:$M$410,8,FALSE),"") | F27: =IF(E27="",0,E27*D27) -> 0 | I27: =IF(A27<>"",VLOOKUP(A27,Materiel!$B$15:$L$110,10,FALSE),"") | J27: =IF(I27="",0,I27*D27) -> 0 | L27: =IF(K27="",0,K27*D27) -> 0 | M27: =IF(ISERR(F27+J27+L27),"",F27+J27+L27) -> 0 | P27: =IF(O27="",0,O27*D27) -> 0
C28: =IF(A28<>"",VLOOKUP(A28,Materiel!$B$15:$J$124,9,FALSE),"") | D28: 1 | E28: =IF(A28<>"",VLOOKUP(A28,Materiel!$B$14:$M$410,8,FALSE),"") | F28: =IF(E28="",0,E28*D28) -> 0 | I28: =IF(A28<>"",VLOOKUP(A28,Materiel!$B$15:$L$110,10,FALSE),"") | J28: =IF(I28="",0,I28*D28) -> 0 | L28: =IF(K28="",0,K28*D28) -> 0 | M28: =IF(ISERR(F28+J28+L28),"",F28+J28+L28) -> 0 | P28: =IF(O28="",0,O28*D28) -> 0
C29: =IF(A29<>"",VLOOKUP(A29,Materiel!$B$15:$J$124,9,FALSE),"") | E29: =IF(A29<>"",VLOOKUP(A29,Materiel!$B$14:$M$410,8,FALSE),"") | F29: =IF(E29="",0,E29*D29) -> 0 | I29: =IF(A29<>"",VLOOKUP(A29,Materiel!$B$15:$L$110,10,FALSE),"") | J29: =IF(I29="",0,I29*D29) -> 0 | L29: =IF(K29="",0,K29*D29) -> 0 | M29: =IF(ISERR(F29+J29+L29),"",F29+J29+L29) -> 0 | P29: =IF(O29="",0,O29*D29) -> 0
A30: Location | F30: =IF(E30="",0,E30*D30) -> 0 | J30: =IF(I30="",0,I30*D30) -> 0 | L30: =IF(K30="",0,K30*D30) -> 0 | M30: =IF(ISERR(F30+J30+L30),"",F30+J30+L30) -> 0 | P30: =IF(O30="",0,O30*D30) -> 0
C31: =IF(A31<>"",VLOOKUP(A31,Loc!$B$17:$J$114,2,FALSE),"") | F31: =IF(E31="",0,E31*D31) -> 0 | J31: =IF(I31="",0,I31*D31) -> 0 | K31: =IF(A31<>"",VLOOKUP(A31,Loc!$B$15:$D$50,3,FALSE),"") | L31: =IF(K31="",0,K31*D31) -> 0 | M31: =IF(ISERR(F31+J31+L31),"",F31+J31+L31) -> 0 | P31: =IF(O31="",0,O31*D31) -> 0
C32: =IF(A32<>"",VLOOKUP(A32,Loc!$B$17:$J$114,2,FALSE),"") | F32: =IF(E32="",0,E32*D32) -> 0 | J32: =IF(I32="",0,I32*D32) -> 0 | K32: =IF(A32<>"",VLOOKUP(A32,Loc!$B$15:$D$50,3,FALSE),"") | L32: =IF(K32="",0,K32*D32) -> 0 | M32: =IF(ISERR(F32+J32+L32),"",F32+J32+L32) -> 0 | P32: =IF(O32="",0,O32*D32) -> 0
C33: =IF(A33<>"",VLOOKUP(A33,Loc!$B$17:$J$114,2,FALSE),"") | F33: =IF(E33="",0,E33*D33) -> 0 | J33: =IF(I33="",0,I33*D33) -> 0 | K33: =IF(A33<>"",VLOOKUP(A33,Loc!$B$15:$D$50,3,FALSE),"") | L33: =IF(K33="",0,K33*D33) -> 0 | M33: =IF(ISERR(F33+J33+L33),"",F33+J33+L33) -> 0 | P33: =IF(O33="",0,O33*D33) -> 0
A34: Fournitures | F34: =IF(E34="",0,E34*D34) -> 0 | J34: =IF(I34="",0,I34*D34) -> 0 | L34: =IF(K34="",0,K34*D34) -> 0 | M34: =IF(ISERR(F34+J34+L34),"",F34+J34+L34) -> 0 | P34: =IF(O34="",0,O34*D34) -> 0
C35: =IF(A35<>"",VLOOKUP(A35,Fourn!$B$17:$D$114,2,FALSE),"") | F35: =IF(E35="",0,E35*D35) -> 0 | J35: =IF(I35="",0,I35*D35) -> 0 | K35: =IF(A35<>"",VLOOKUP(A35,Fourn!$B$17:$D$300,3,FALSE),"") | L35: =IF(K35="",0,K35*D35) -> 0 | M35: =IF(ISERR(F35+J35+L35),"",F35+J35+L35) -> 0 | P35: =IF(O35="",0,O35*D35) -> 0
C36: =IF(A36<>"",VLOOKUP(A36,Fourn!$B$17:$D$114,2,FALSE),"") | F36: =IF(E36="",0,E36*D36) -> 0 | J36: =IF(I36="",0,I36*D36) -> 0 | K36: =IF(A36<>"",VLOOKUP(A36,Fourn!$B$17:$D$300,3,FALSE),"") | L36: =IF(K36="",0,K36*D36) -> 0 | M36: =IF(ISERR(F36+J36+L36),"",F36+J36+L36) -> 0 | P36: =IF(O36="",0,O36*D36) -> 0
C37: =IF(A37<>"",VLOOKUP(A37,Fourn!$B$17:$D$114,2,FALSE),"") | F37: =IF(E37="",0,E37*D37) -> 0 | J37: =IF(I37="",0,I37*D37) -> 0 | K37: =IF(A37<>"",VLOOKUP(A37,Fourn!$B$17:$D$300,3,FALSE),"") | L37: =IF(K37="",0,K37*D37) -> 0 | M37: =IF(ISERR(F37+J37+L37),"",F37+J37+L37) -> 0 | P37: =IF(O37="",0,O37*D37) -> 0
C38: =IF(A38<>"",VLOOKUP(A38,Fourn!$B$17:$D$114,2,FALSE),"") | F38: =IF(E38="",0,E38*D38) -> 0 | J38: =IF(I38="",0,I38*D38) -> 0 | K38: =IF(A38<>"",VLOOKUP(A38,Fourn!$B$17:$D$300,3,FALSE),"") | L38: =IF(K38="",0,K38*D38) -> 0 | M38: =IF(ISERR(F38+J38+L38),"",F38+J38+L38) -> 0 | P38: =IF(O38="",0,O38*D38) -> 0
A39: Sous traitant | F39: =IF(E39="",0,E39*D39) -> 0 | J39: =IF(I39="",0,I39*D39) -> 0 | L39: =IF(K39="",0,K39*D39) -> 0 | M39: =IF(ISERR(F39+J39+L39),"",F39+J39+L39) -> 0 | P39: =IF(O39="",0,O39*D39) -> 0
F40: =IF(E40="",0,E40*D40) -> 0 | J40: =IF(I40="",0,I40*D40) -> 0 | L40: =IF(K40="",0,K40*D40) -> 0 | M40: =IF(ISERR(F40+J40+L40),"",F40+J40+L40) -> 0 | P40: =IF(O40="",0,O40*D40) -> 0
F41: =IF(E41="",0,E41*D41) -> 0 | J41: =IF(I41="",0,I41*D41) -> 0 | L41: =IF(K41="",0,K41*D41) -> 0 | M41: =IF(ISERR(F41+J41+L41),"",F41+J41+L41) -> 0 | P41: =IF(O41="",0,O41*D41) -> 0
F42: =IF(E42="",0,E42*D42) -> 0 | J42: =IF(I42="",0,I42*D42) -> 0 | L42: =IF(K42="",0,K42*D42) -> 0 | M42: =IF(ISERR(F42+J42+L42),"",F42+J42+L42) -> 0 | P42: =IF(O42="",0,O42*D42) -> 0
A43: DEBOURSES | E43: =SUM(F19:H42) -> 0 | I43: =SUM(J19:J42) -> 0 | K43: =SUM(L19:L42) -> 0 | M43: =SUM(M19:N42) -> 0 | O43: =SUM(P19:P42) -> 0
O44: TOTAL 4 : (T4) | P44: =O43 -> 0
A46: (1) Tous les prix sont hors TVA. | H46: TOTAL 1 : (T1) | J46: =M43/C19 -> 0 | O46: K4 : frais de sous-traitance de T4 | P46: =Coeff!H5 -> 0.18
...

Sheet 20C 11 400 00
M1: ANNEXE 1 AU BORDEREAU DE PRIX
A3: CADRE TYPE DE SOUS-DETAIL DE PRIX DE BORDEREAU
A5: Nom de l'entreprise : | C5: CHARIER TP
A6: Désignation du chantier : | C6: ='DE récap'!D1 -> 0 | I6: Désignation du prix : | J6: =C10 -> Terre végétale : Reprise sur stock et amenée à pied d œuvre de terre végétale | O6: Date d'établissement : | P6: ='DE récap'!F1 -> 0
A9: N° de prix : (2) | C9: =MID(CELL("nomfichier",C9),FIND("]",CELL("nomfichier",C9))+1,LEN(CELL("nomfichier",C9))-FIND("]",CELL("nomfichier",C9))) -> 20C 11 400 00
A10: Titre : | C10: =IF($C$9<>"",VLOOKUP($C$9,'DE récap'!$C$4:$F$151,2,FALSE),"") -> Terre végétale : Reprise sur stock et amenée à pied d œuvre de terre végétale | O10: Quantités au marché : | P10: =IF($C$9<>"",VLOOKUP($C$9,'DE récap'!$C$4:$F$25,4,FALSE),"") -> 180
O11: Unité de mesure : | P11: =IF($C$9<>"",VLOOKUP($C$9,'DE récap'!$C$4:$F$25,3,FALSE),"") -> m3
A12: Eléments de base du prix | E12: Décomposition du prix
D13: Quantités ou durées | E13: Matériel et matières | I13: Main-d’œuvre | K13: Fournitures | M13: TOTAL 1 | O13: Sous-traitants (2) et (5)
E14: fongibles | M14: (3 + 5 + 7)
A15: Désignation | C15: Unité rdmt | D15: d'utilisation élémentaires | E15: Prix | F15: Total | I15: Prix | J15: Total | K15: Prix | L15: Total | O15: Prix | P15: TOTAL 4 (1 x 9)
E16: unitaire | F16: (1 x 2) | I16: unitaire | J16: (1 x 4) | K16: unitaire | L16: (1 x 6) | O16: unitaire
D18: 1 | E18: 2 | F18: 3 | I18: 4 | J18: 5 | K18: 6 | L18: 7 | M18: 8 | O18: 9 | P18: 10
C19: 85
A20: Personnel
A21: Chef de Chantier | C21: =IF(A21<>"",VLOOKUP(A21,Personnel!$B$17:$D$121,2,FALSE),"") -> h | D21: 1 | F21: =IF(E21="",0,E21*D21) -> 0 | I21: =IF(A21<>"",VLOOKUP(A21,Personnel!$B$15:$L$107,3,FALSE),0) -> 75 | J21: =IF(I21="",0,I21*D21) -> 75 | L21: =IF(K21="",0,K21*D21) -> 0 | M21: =F21+J21+L21 -> 75 | P21: =IF(O21="",0,O21*D21) -> 0
C22: =IF(A22<>"",VLOOKUP(A22,Personnel!$B$17:$D$121,2,FALSE),"") | F22: =IF(E22="",0,E22*D22) -> 0 | I22: =IF(A22<>"",VLOOKUP(A22,Personnel!$B$15:$L$107,3,FALSE),"") | J22: =IF(I22="",0,I22*D22) -> 0 | L22: =IF(K22="",0,K22*D22) -> 0 | M22: =IF(ISERR(F22+J22+L22),"",F22+J22+L22) -> 0 | P22: =IF(O22="",0,O22*D22) -> 0
C23: =IF(A23<>"",VLOOKUP(A23,Personnel!$B$17:$D$121,2,FALSE),"") | F23: =IF(E23="",0,E23*D23) -> 0 | I23: =IF(A23<>"",VLOOKUP(A23,Personnel!$B$15:$L$107,3,FALSE),"") | J23: =IF(I23="",0,I23*D23) -> 0 | L23: =IF(K23="",0,K23*D23) -> 0 | M23: =IF(ISERR(F23+J23+L23),"",F23+J23+L23) -> 0 | P23: =IF(O23="",0,O23*D23) -> 0
A24: Matériel | F24: =IF(E24="",0,E24*D24) -> 0 | J24: =IF(I24="",0,I24*D24) -> 0 | L24: =IF(K24="",0,K24*D24) -> 0 | M24: =IF(ISERR(F24+J24+L24),"",F24+J24+L24) -> 0 | P24: =IF(O24="",0,O24*D24) -> 0
A25: Pelle 20T-25T GPS | C25: =IF(A25<>"",VLOOKUP(A25,Materiel!$B$15:$J$124,9,FALSE),"") -> h | D25: 1 | E25: =IF(A25<>"",VLOOKUP(A25,Materiel!$B$14:$M$410,8,FALSE),"") -> 62.05 | F25: =IF(E25="",0,E25*D25) -> 62.05 | I25: =IF(A25<>"",VLOOKUP(A25,Materiel!$B$15:$L$110,10,FALSE),"") -> 55 | J25: =IF(I25="",0,I25*D25) -> 55 | L25: =IF(K25="",0,K25*D25) -> 0 | M25: =IF(ISERR(F25+J25+L25),"",F25+J25+L25) -> 117.05 | P25: =IF(O25="",0,O25*D25) -> 0
A26: Tombereau 30T | C26: =IF(A26<>"",VLOOKUP(A26,Materiel!$B$15:$J$124,9,FALSE),"") -> h | D26: 2 | E26: =IF(A26<>"",VLOOKUP(A26,Materiel!$B$14:$M$410,8,FALSE),"") -> 81.98 | F26: =IF(E26="",0,E26*D26) -> 163.96 | I26: =IF(A26<>"",VLOOKUP(A26,Materiel!$B$15:$L$110,10,FALSE),"") -> 55 | J26: =IF(I26="",0,I26*D26) -> 110 | L26: =IF(K26="",0,K26*D26) -> 0 | M26: =IF(ISERR(F26+J26+L26),"",F26+J26+L26) -> 273.96 | P26: =IF(O26="",0,O26*D26) -> 0
C27: =IF(A27<>"",VLOOKUP(A27,Materiel!$B$15:$J$124,9,FALSE),"") | E27: =IF(A27<>"",VLOOKUP(A27,Materiel!$B$14:$M$410,8,FALSE),"") | F27: =IF(E27="",0,E27*D27) -> 0 | I27: =IF(A27<>"",VLOOKUP(A27,Materiel!$B$15:$L$110,10,FALSE),"") | J27: =IF(I27="",0,I27*D27) -> 0 | L27: =IF(K27="",0,K27*D27) -> 0 | M27: =IF(ISERR(F27+J27+L27),"",F27+J27+L27) -> 0 | P27: =IF(O27="",0,O27*D27) -> 0
C28: =IF(A28<>"",VLOOKUP(A28,Materiel!$B$15:$J$124,9,FALSE),"") | E28: =IF(A28<>"",VLOOKUP(A28,Materiel!$B$14:$M$410,8,FALSE),"") | F28: =IF(E28="",0,E28*D28) -> 0 | I28: =IF(A28<>"",VLOOKUP(A28,Materiel!$B$15:$L$110,10,FALSE),"") | J28: =IF(I28="",0,I28*D28) -> 0 | L28: =IF(K28="",0,K28*D28) -> 0 | M28: =IF(ISERR(F28+J28+L28),"",F28+J28+L28) -> 0 | P28: =IF(O28="",0,O28*D28) -> 0
C29: =IF(A29<>"",VLOOKUP(A29,Materiel!$B$15:$J$124,9,FALSE),"") | E29: =IF(A29<>"",VLOOKUP(A29,Materiel!$B$14:$M$410,8,FALSE),"") | F29: =IF(E29="",0,E29*D29) -> 0 | I29: =IF(A29<>"",VLOOKUP(A29,Materiel!$B$15:$L$110,10,FALSE),"") | J29: =IF(I29="",0,I29*D29) -> 0 | L29: =IF(K29="",0,K29*D29) -> 0 | M29: =IF(ISERR(F29+J29+L29),"",F29+J29+L29) -> 0 | P29: =IF(O29="",0,O29*D29) -> 0
A30: Location | F30: =IF(E30="",0,E30*D30) -> 0 | J30: =IF(I30="",0,I30*D30) -> 0 | L30: =IF(K30="",0,K30*D30) -> 0 | M30: =IF(ISERR(F30+J30+L30),"",F30+J30+L30) -> 0 | P30: =IF(O30="",0,O30*D30) -> 0
C31: =IF(A31<>"",VLOOKUP(A31,Loc!$B$17:$J$114,2,FALSE),"") | F31: =IF(E31="",0,E31*D31) -> 0 | J31: =IF(I31="",0,I31*D31) -> 0 | K31: =IF(A31<>"",VLOOKUP(A31,Loc!$B$15:$D$50,3,FALSE),"") | L31: =IF(K31="",0,K31*D31) -> 0 | M31: =IF(ISERR(F31+J31+L31),"",F31+J31+L31) -> 0 | P31: =IF(O31="",0,O31*D31) -> 0
C32: =IF(A32<>"",VLOOKUP(A32,Loc!$B$17:$J$114,2,FALSE),"") | F32: =IF(E32="",0,E32*D32) -> 0 | J32: =IF(I32="",0,I32*D32) -> 0 | K32: =IF(A32<>"",VLOOKUP(A32,Loc!$B$15:$D$50,3,FALSE),"") | L32: =IF(K32="",0,K32*D32) -> 0 | M32: =IF(ISERR(F32+J32+L32),"",F32+J32+L32) -> 0 | P32: =IF(O32="",0,O32*D32) -> 0
C33: =IF(A33<>"",VLOOKUP(A33,Loc!$B$17:$J$114,2,FALSE),"") | F33: =IF(E33="",0,E33*D33) -> 0 | J33: =IF(I33="",0,I33*D33) -> 0 | K33: =IF(A33<>"",VLOOKUP(A33,Loc!$B$15:$D$50,3,FALSE),"") | L33: =IF(K33="",0,K33*D33) -> 0 | M33: =IF(ISERR(F33+J33+L33),"",F33+J33+L33) -> 0 | P33: =IF(O33="",0,O33*D33) -> 0
A34: Fournitures | F34: =IF(E34="",0,E34*D34) -> 0 | J34: =IF(I34="",0,I34*D34) -> 0 | L34: =IF(K34="",0,K34*D34) -> 0 | M34: =IF(ISERR(F34+J34+L34),"",F34+J34+L34) -> 0 | P34: =IF(O34="",0,O34*D34) -> 0
C35: =IF(A35<>"",VLOOKUP(A35,Fourn!$B$17:$D$114,2,FALSE),"") | F35: =IF(E35="",0,E35*D35) -> 0 | J35: =IF(I35="",0,I35*D35) -> 0 | K35: =IF(A35<>"",VLOOKUP(A35,Fourn!$B$17:$D$300,3,FALSE),"") | L35: =IF(K35="",0,K35*D35) -> 0 | M35: =IF(ISERR(F35+J35+L35),"",F35+J35+L35) -> 0 | P35: =IF(O35="",0,O35*D35) -> 0
C36: =IF(A36<>"",VLOOKUP(A36,Fourn!$B$17:$D$114,2,FALSE),"") | F36: =IF(E36="",0,E36*D36) -> 0 | J36: =IF(I36="",0,I36*D36) -> 0 | K36: =IF(A36<>"",VLOOKUP(A36,Fourn!$B$17:$D$300,3,FALSE),"") | L36: =IF(K36="",0,K36*D36) -> 0 | M36: =IF(ISERR(F36+J36+L36),"",F36+J36+L36) -> 0 | P36: =IF(O36="",0,O36*D36) -> 0
C37: =IF(A37<>"",VLOOKUP(A37,Fourn!$B$17:$D$114,2,FALSE),"") | F37: =IF(E37="",0,E37*D37) -> 0 | J37: =IF(I37="",0,I37*D37) -> 0 | K37: =IF(A37<>"",VLOOKUP(A37,Fourn!$B$17:$D$300,3,FALSE),"") | L37: =IF(K37="",0,K37*D37) -> 0 | M37: =IF(ISERR(F37+J37+L37),"",F37+J37+L37) -> 0 | P37: =IF(O37="",0,O37*D37) -> 0
C38: =IF(A38<>"",VLOOKUP(A38,Fourn!$B$17:$D$114,2,FALSE),"") | F38: =IF(E38="",0,E38*D38) -> 0 | J38: =IF(I38="",0,I38*D38) -> 0 | K38: =IF(A38<>"",VLOOKUP(A38,Fourn!$B$17:$D$300,3,FALSE),"") | L38: =IF(K38="",0,K38*D38) -> 0 | M38: =IF(ISERR(F38+J38+L38),"",F38+J38+L38) -> 0 | P38: =IF(O38="",0,O38*D38) -> 0
A39: Sous traitant | F39: =IF(E39="",0,E39*D39) -> 0 | J39: =IF(I39="",0,I39*D39) -> 0 | L39: =IF(K39="",0,K39*D39) -> 0 | M39: =IF(ISERR(F39+J39+L39),"",F39+J39+L39) -> 0 | P39: =IF(O39="",0,O39*D39) -> 0
F40: =IF(E40="",0,E40*D40) -> 0 | J40: =IF(I40="",0,I40*D40) -> 0 | L40: =IF(K40="",0,K40*D40) -> 0 | M40: =IF(ISERR(F40+J40+L40),"",F40+J40+L40) -> 0 | P40: =IF(O40="",0,O40*D40) -> 0
F41: =IF(E41="",0,E41*D41) -> 0 | J41: =IF(I41="",0,I41*D41) -> 0 | L41: =IF(K41="",0,K41*D41) -> 0 | M41: =IF(ISERR(F41+J41+L41),"",F41+J41+L41) -> 0 | P41: =IF(O41="",0,O41*D41) -> 0
F42: =IF(E42="",0,E42*D42) -> 0 | J42: =IF(I42="",0,I42*D42) -> 0 | L42: =IF(K42="",0,K42*D42) -> 0 | M42: =IF(ISERR(F42+J42+L42),"",F42+J42+L42) -> 0 | P42: =IF(O42="",0,O42*D42) -> 0
A43: DEBOURSES | E43: =SUM(F19:H42) -> 226.01 | I43: =SUM(J19:J42) -> 240 | K43: =SUM(L19:L42) -> 0 | M43: =SUM(M19:N42) -> 466.01 | O43: =SUM(P19:P42) -> 0
O44: TOTAL 4 : (T4) | P44: =O43 -> 0
A46: (1) Tous les prix sont hors TVA. | H46: TOTAL 1 : (T1) | J46: =M43/C19 -> 5.4824706 | O46: K4 : frais de sous-traitance de T4 | P46: =Coeff!H5 -> 0.18
...

Sheet modele (3)
M1: ANNEXE 1 AU BORDEREAU DE PRIX
A3: CADRE TYPE DE SOUS-DETAIL DE PRIX DE BORDEREAU
A5: Nom de l'entreprise : | C5: CHARIER TP
A6: Désignation du chantier : | C6: ='DE récap'!D1 -> 0 | I6: Désignation du prix : | J6: =C10 -> #N/A | O6: Date d'établissement : | P6: ='DE récap'!F1 -> 0
A9: N° de prix : (2) | C9: =MID(CELL("nomfichier",C9),FIND("]",CELL("nomfichier",C9))+1,LEN(CELL("nomfichier",C9))-FIND("]",CELL("nomfichier",C9))) -> modele (3)
A10: Titre : | C10: =IF($C$9<>"",VLOOKUP($C$9,'DE récap'!$C$4:$F$151,2,FALSE),"") -> #N/A | O10: Quantités au marché : | P10: =IF($C$9<>"",VLOOKUP($C$9,'DE récap'!$C$4:$F$25,4,FALSE),"") -> #N/A
O11: Unité de mesure : | P11: =IF($C$9<>"",VLOOKUP($C$9,'DE récap'!$C$4:$F$25,3,FALSE),"") -> #N/A
A12: Eléments de base du prix | E12: Décomposition du prix
D13: Quantités ou durées | E13: Matériel et matières | I13: Main-d’œuvre | K13: Fournitures | M13: TOTAL 1 | O13: Sous-traitants (2) et (5)
E14: fongibles | M14: (3 + 5 + 7)
A15: Désignation | C15: Unité rdmt | D15: d'utilisation élémentaires | E15: Prix | F15: Total | I15: Prix | J15: Total | K15: Prix | L15: Total | O15: Prix | P15: TOTAL 4 (1 x 9)
E16: unitaire | F16: (1 x 2) | I16: unitaire | J16: (1 x 4) | K16: unitaire | L16: (1 x 6) | O16: unitaire
D18: 1 | E18: 2 | F18: 3 | I18: 4 | J18: 5 | K18: 6 | L18: 7 | M18: 8 | O18: 9 | P18: 10
C19: 0 | D19: =IF($C$9<>"",VLOOKUP($C$9,'DE récap'!$C$4:$F$25,4,FALSE),"") -> #N/A
A20: Personnel
C21: =IF(A21<>"",VLOOKUP(A21,Personnel!$B$17:$D$121,2,FALSE),"") | F21: =IF(E21="",0,E21*D21) -> 0 | I21: =IF(A21<>"",VLOOKUP(A21,Personnel!$B$15:$L$107,3,FALSE),0) -> 0 | J21: =IF(I21="",0,I21*D21) -> 0 | L21: =IF(K21="",0,K21*D21) -> 0 | M21: =F21+J21+L21 -> 0 | P21: =IF(O21="",0,O21*D21) -> 0
C22: =IF(A22<>"",VLOOKUP(A22,Personnel!$B$17:$D$121,2,FALSE),"") | F22: =IF(E22="",0,E22*D22) -> 0 | I22: =IF(A22<>"",VLOOKUP(A22,Personnel!$B$15:$L$107,3,FALSE),"") | J22: =IF(I22="",0,I22*D22) -> 0 | L22: =IF(K22="",0,K22*D22) -> 0 | M22: =IF(ISERR(F22+J22+L22),"",F22+J22+L22) -> 0 | P22: =IF(O22="",0,O22*D22) -> 0
C23: =IF(A23<>"",VLOOKUP(A23,Personnel!$B$17:$D$121,2,FALSE),"") | F23: =IF(E23="",0,E23*D23) -> 0 | I23: =IF(A23<>"",VLOOKUP(A23,Personnel!$B$15:$L$107,3,FALSE),"") | J23: =IF(I23="",0,I23*D23) -> 0 | L23: =IF(K23="",0,K23*D23) -> 0 | M23: =IF(ISERR(F23+J23+L23),"",F23+J23+L23) -> 0 | P23: =IF(O23="",0,O23*D23) -> 0
A24: Matériel | F24: =IF(E24="",0,E24*D24) -> 0 | J24: =IF(I24="",0,I24*D24) -> 0 | L24: =IF(K24="",0,K24*D24) -> 0 | M24: =IF(ISERR(F24+J24+L24),"",F24+J24+L24) -> 0 | P24: =IF(O24="",0,O24*D24) -> 0
C25: =IF(A25<>"",VLOOKUP(A25,Materiel!$B$15:$J$124,9,FALSE),"") | E25: =IF(A25<>"",VLOOKUP(A25,Materiel!$B$14:$M$410,8,FALSE),"") | F25: =IF(E25="",0,E25*D25) -> 0 | I25: =IF(A25<>"",VLOOKUP(A25,Materiel!$B$15:$L$110,10,FALSE),"") | J25: =IF(I25="",0,I25*D25) -> 0 | L25: =IF(K25="",0,K25*D25) -> 0 | M25: =IF(ISERR(F25+J25+L25),"",F25+J25+L25) -> 0 | P25: =IF(O25="",0,O25*D25) -> 0
C26: =IF(A26<>"",VLOOKUP(A26,Materiel!$B$15:$J$124,9,FALSE),"") | E26: =IF(A26<>"",VLOOKUP(A26,Materiel!$B$14:$M$410,8,FALSE),"") | F26: =IF(E26="",0,E26*D26) -> 0 | I26: =IF(A26<>"",VLOOKUP(A26,Materiel!$B$15:$L$110,10,FALSE),"") | J26: =IF(I26="",0,I26*D26) -> 0 | L26: =IF(K26="",0,K26*D26) -> 0 | M26: =IF(ISERR(F26+J26+L26),"",F26+J26+L26) -> 0 | P26: =IF(O26="",0,O26*D26) -> 0
C27: =IF(A27<>"",VLOOKUP(A27,Materiel!$B$15:$J$124,9,FALSE),"") | E27: =IF(A27<>"",VLOOKUP(A27,Materiel!$B$14:$M$410,8,FALSE),"") | F27: =IF(E27="",0,E27*D27) -> 0 | I27: =IF(A27<>"",VLOOKUP(A27,Materiel!$B$15:$L$110,10,FALSE),"") | J27: =IF(I27="",0,I27*D27) -> 0 | L27: =IF(K27="",0,K27*D27) -> 0 | M27: =IF(ISERR(F27+J27+L27),"",F27+J27+L27) -> 0 | P27: =IF(O27="",0,O27*D27) -> 0
C28: =IF(A28<>"",VLOOKUP(A28,Materiel!$B$15:$J$124,9,FALSE),"") | E28: =IF(A28<>"",VLOOKUP(A28,Materiel!$B$14:$M$410,8,FALSE),"") | F28: =IF(E28="",0,E28*D28) -> 0 | I28: =IF(A28<>"",VLOOKUP(A28,Materiel!$B$15:$L$110,10,FALSE),"") | J28: =IF(I28="",0,I28*D28) -> 0 | L28: =IF(K28="",0,K28*D28) -> 0 | M28: =IF(ISERR(F28+J28+L28),"",F28+J28+L28) -> 0 | P28: =IF(O28="",0,O28*D28) -> 0
C29: =IF(A29<>"",VLOOKUP(A29,Materiel!$B$15:$J$124,9,FALSE),"") | E29: =IF(A29<>"",VLOOKUP(A29,Materiel!$B$14:$M$410,8,FALSE),"") | F29: =IF(E29="",0,E29*D29) -> 0 | I29: =IF(A29<>"",VLOOKUP(A29,Materiel!$B$15:$L$110,10,FALSE),"") | J29: =IF(I29="",0,I29*D29) -> 0 | L29: =IF(K29="",0,K29*D29) -> 0 | M29: =IF(ISERR(F29+J29+L29),"",F29+J29+L29) -> 0 | P29: =IF(O29="",0,O29*D29) -> 0
A30: Location | F30: =IF(E30="",0,E30*D30) -> 0 | J30: =IF(I30="",0,I30*D30) -> 0 | L30: =IF(K30="",0,K30*D30) -> 0 | M30: =IF(ISERR(F30+J30+L30),"",F30+J30+L30) -> 0 | P30: =IF(O30="",0,O30*D30) -> 0
C31: =IF(A31<>"",VLOOKUP(A31,Loc!$B$17:$J$114,2,FALSE),"") | F31: =IF(E31="",0,E31*D31) -> 0 | J31: =IF(I31="",0,I31*D31) -> 0 | K31: =IF(A31<>"",VLOOKUP(A31,Loc!$B$15:$D$50,3,FALSE),"") | L31: =IF(K31="",0,K31*D31) -> 0 | M31: =IF(ISERR(F31+J31+L31),"",F31+J31+L31) -> 0 | P31: =IF(O31="",0,O31*D31) -> 0
C32: =IF(A32<>"",VLOOKUP(A32,Loc!$B$17:$J$114,2,FALSE),"") | F32: =IF(E32="",0,E32*D32) -> 0 | J32: =IF(I32="",0,I32*D32) -> 0 | K32: =IF(A32<>"",VLOOKUP(A32,Loc!$B$15:$D$50,3,FALSE),"") | L32: =IF(K32="",0,K32*D32) -> 0 | M32: =IF(ISERR(F32+J32+L32),"",F32+J32+L32) -> 0 | P32: =IF(O32="",0,O32*D32) -> 0
C33: =IF(A33<>"",VLOOKUP(A33,Loc!$B$17:$J$114,2,FALSE),"") | F33: =IF(E33="",0,E33*D33) -> 0 | J33: =IF(I33="",0,I33*D33) -> 0 | K33: =IF(A33<>"",VLOOKUP(A33,Loc!$B$15:$D$50,3,FALSE),"") | L33: =IF(K33="",0,K33*D33) -> 0 | M33: =IF(ISERR(F33+J33+L33),"",F33+J33+L33) -> 0 | P33: =IF(O33="",0,O33*D33) -> 0
A34: Fournitures | F34: =IF(E34="",0,E34*D34) -> 0 | J34: =IF(I34="",0,I34*D34) -> 0 | L34: =IF(K34="",0,K34*D34) -> 0 | M34: =IF(ISERR(F34+J34+L34),"",F34+J34+L34) -> 0 | P34: =IF(O34="",0,O34*D34) -> 0
C35: =IF(A35<>"",VLOOKUP(A35,Fourn!$B$17:$D$114,2,FALSE),"") | F35: =IF(E35="",0,E35*D35) -> 0 | J35: =IF(I35="",0,I35*D35) -> 0 | K35: =IF(A35<>"",VLOOKUP(A35,Fourn!$B$17:$D$300,3,FALSE),"") | L35: =IF(K35="",0,K35*D35) -> 0 | M35: =IF(ISERR(F35+J35+L35),"",F35+J35+L35) -> 0 | P35: =IF(O35="",0,O35*D35) -> 0
C36: =IF(A36<>"",VLOOKUP(A36,Fourn!$B$17:$D$114,2,FALSE),"") | F36: =IF(E36="",0,E36*D36) -> 0 | J36: =IF(I36="",0,I36*D36) -> 0 | K36: =IF(A36<>"",VLOOKUP(A36,Fourn!$B$17:$D$300,3,FALSE),"") | L36: =IF(K36="",0,K36*D36) -> 0 | M36: =IF(ISERR(F36+J36+L36),"",F36+J36+L36) -> 0 | P36: =IF(O36="",0,O36*D36) -> 0
C37: =IF(A37<>"",VLOOKUP(A37,Fourn!$B$17:$D$114,2,FALSE),"") | F37: =IF(E37="",0,E37*D37) -> 0 | J37: =IF(I37="",0,I37*D37) -> 0 | K37: =IF(A37<>"",VLOOKUP(A37,Fourn!$B$17:$D$300,3,FALSE),"") | L37: =IF(K37="",0,K37*D37) -> 0 | M37: =IF(ISERR(F37+J37+L37),"",F37+J37+L37) -> 0 | P37: =IF(O37="",0,O37*D37) -> 0
C38: =IF(A38<>"",VLOOKUP(A38,Fourn!$B$17:$D$114,2,FALSE),"") | F38: =IF(E38="",0,E38*D38) -> 0 | J38: =IF(I38="",0,I38*D38) -> 0 | K38: =IF(A38<>"",VLOOKUP(A38,Fourn!$B$17:$D$300,3,FALSE),"") | L38: =IF(K38="",0,K38*D38) -> 0 | M38: =IF(ISERR(F38+J38+L38),"",F38+J38+L38) -> 0 | P38: =IF(O38="",0,O38*D38) -> 0
A39: Sous traitant | F39: =IF(E39="",0,E39*D39) -> 0 | J39: =IF(I39="",0,I39*D39) -> 0 | L39: =IF(K39="",0,K39*D39) -> 0 | M39: =IF(ISERR(F39+J39+L39),"",F39+J39+L39) -> 0 | P39: =IF(O39="",0,O39*D39) -> 0
F40: =IF(E40="",0,E40*D40) -> 0 | J40: =IF(I40="",0,I40*D40) -> 0 | L40: =IF(K40="",0,K40*D40) -> 0 | M40: =IF(ISERR(F40+J40+L40),"",F40+J40+L40) -> 0 | P40: =IF(O40="",0,O40*D40) -> 0
F41: =IF(E41="",0,E41*D41) -> 0 | J41: =IF(I41="",0,I41*D41) -> 0 | L41: =IF(K41="",0,K41*D41) -> 0 | M41: =IF(ISERR(F41+J41+L41),"",F41+J41+L41) -> 0 | P41: =IF(O41="",0,O41*D41) -> 0
F42: =IF(E42="",0,E42*D42) -> 0 | J42: =IF(I42="",0,I42*D42) -> 0 | L42: =IF(K42="",0,K42*D42) -> 0 | M42: =IF(ISERR(F42+J42+L42),"",F42+J42+L42) -> 0 | P42: =IF(O42="",0,O42*D42) -> 0
A43: DEBOURSES | E43: =SUM(F19:H42) -> 0 | I43: =SUM(J19:J42) -> 0 | K43: =SUM(L19:L42) -> 0 | M43: =SUM(M19:N42) -> 0 | O43: =SUM(P19:P42) -> 0
O44: TOTAL 4 : (T4) | P44: =O43 -> 0
A46: (1) Tous les prix sont hors TVA. | H46: TOTAL 1 : (T1) | J46: =M43 -> 0 | O46: K4 : frais de sous-traitance de T4 | P46: =Coeff!H5 -> 0.18
...

Sheet COEX1det
A1: N° Prix | B1: Qté | C1: PU | D1: MT
A2: 1 | B2: =IF(ISTEXT(('DE récap'!P_1_1 'DE récap'!Qté)),0,('DE récap'!P_1_1 'DE récap'!Qté)) -> #NAME? | C2: =('DE récap'!P_1_1 'DE récap'!PU) -> #NAME? | D2: =IF(ISTEXT(('DE récap'!P_1_1 'DE récap'!MT)),0,('DE récap'!P_1_1 'DE récap'!MT)) -> #NAME?
A3: 2 | B3: =IF(ISTEXT(('DE récap'!P_1_2 'DE récap'!Qté)),0,('DE récap'!P_1_2 'DE récap'!Qté)) -> #NAME? | C3: =('DE récap'!P_1_2 'DE récap'!PU) -> #NAME? | D3: =IF(ISTEXT(('DE récap'!P_1_2 'DE récap'!MT)),0,('DE récap'!P_1_2 'DE récap'!MT)) -> #NAME?
A4: 3 | B4: =IF(ISTEXT(('DE récap'!P_1_3 'DE récap'!Qté)),0,('DE récap'!P_1_3 'DE récap'!Qté)) -> #NAME? | C4: =('DE récap'!P_1_3 'DE récap'!PU) -> #NAME? | D4: =IF(ISTEXT(('DE récap'!P_1_3 'DE récap'!MT)),0,('DE récap'!P_1_3 'DE récap'!MT)) -> #NAME?
A5: 4 | B5: =IF(ISTEXT(('DE récap'!P_1_4 'DE récap'!Qté)),0,('DE récap'!P_1_4 'DE récap'!Qté)) -> #NAME? | C5: =('DE récap'!P_1_4 'DE récap'!PU) -> #NAME? | D5: =IF(ISTEXT(('DE récap'!P_1_4 'DE récap'!MT)),0,('DE récap'!P_1_4 'DE récap'!MT)) -> #NAME?
A6: 5 | B6: =IF(ISTEXT(('DE récap'!P_1_5 'DE récap'!Qté)),0,('DE récap'!P_1_5 'DE récap'!Qté)) -> #NAME? | C6: =('DE récap'!P_1_5 'DE récap'!PU) -> #NAME? | D6: =IF(ISTEXT(('DE récap'!P_1_5 'DE récap'!MT)),0,('DE récap'!P_1_5 'DE récap'!MT)) -> #NAME?
A7: 6 | B7: =IF(ISTEXT(('DE récap'!P_1_6 'DE récap'!Qté)),0,('DE récap'!P_1_6 'DE récap'!Qté)) -> #NAME? | C7: =('DE récap'!P_1_6 'DE récap'!PU) -> #NAME? | D7: =IF(ISTEXT(('DE récap'!P_1_6 'DE récap'!MT)),0,('DE récap'!P_1_6 'DE récap'!MT)) -> #NAME?
A8: 7 | B8: =IF(ISTEXT(('DE récap'!P_1_7 'DE récap'!Qté)),0,('DE récap'!P_1_7 'DE récap'!Qté)) -> #NAME? | C8: =('DE récap'!P_1_7 'DE récap'!PU) -> #NAME? | D8: =IF(ISTEXT(('DE récap'!P_1_7 'DE récap'!MT)),0,('DE récap'!P_1_7 'DE récap'!MT)) -> #NAME?
A9: 8 | B9: =IF(ISTEXT(('DE récap'!P_1_8 'DE récap'!Qté)),0,('DE récap'!P_1_8 'DE récap'!Qté)) -> #NAME? | C9: =('DE récap'!P_1_8 'DE récap'!PU) -> #NAME? | D9: =IF(ISTEXT(('DE récap'!P_1_8 'DE récap'!MT)),0,('DE récap'!P_1_8 'DE récap'!MT)) -> #NAME?
A10: 9 | B10: =IF(ISTEXT(('DE récap'!P_1_9 'DE récap'!Qté)),0,('DE récap'!P_1_9 'DE récap'!Qté)) -> #NAME? | C10: =('DE récap'!P_1_9 'DE récap'!PU) -> #NAME? | D10: =IF(ISTEXT(('DE récap'!P_1_9 'DE récap'!MT)),0,('DE récap'!P_1_9 'DE récap'!MT)) -> #NAME?
A11: 10 | B11: =IF(ISTEXT(('DE récap'!P_1_10 'DE récap'!Qté)),0,('DE récap'!P_1_10 'DE récap'!Qté)) -> #NAME? | C11: =('DE récap'!P_1_10 'DE récap'!PU) -> #NAME? | D11: =IF(ISTEXT(('DE récap'!P_1_10 'DE récap'!MT)),0,('DE récap'!P_1_10 'DE récap'!MT)) -> #NAME?
A12: 11 | B12: =IF(ISTEXT(('DE récap'!P_1_11 'DE récap'!Qté)),0,('DE récap'!P_1_11 'DE récap'!Qté)) -> #NAME? | C12: =('DE récap'!P_1_11 'DE récap'!PU) -> #NAME? | D12: =IF(ISTEXT(('DE récap'!P_1_11 'DE récap'!MT)),0,('DE récap'!P_1_11 'DE récap'!MT)) -> #NAME?
A13: 12 | B13: =IF(ISTEXT(('DE récap'!P_1_12 'DE récap'!Qté)),0,('DE récap'!P_1_12 'DE récap'!Qté)) -> #NAME? | C13: =('DE récap'!P_1_12 'DE récap'!PU) -> #NAME? | D13: =IF(ISTEXT(('DE récap'!P_1_12 'DE récap'!MT)),0,('DE récap'!P_1_12 'DE récap'!MT)) -> #NAME?
A14: 13 | B14: =IF(ISTEXT(('DE récap'!P_1_13 'DE récap'!Qté)),0,('DE récap'!P_1_13 'DE récap'!Qté)) -> #NAME? | C14: =('DE récap'!P_1_13 'DE récap'!PU) -> #NAME? | D14: =IF(ISTEXT(('DE récap'!P_1_13 'DE récap'!MT)),0,('DE récap'!P_1_13 'DE récap'!MT)) -> #NAME?
A15: 14 | B15: =IF(ISTEXT(('DE récap'!P_1_14 'DE récap'!Qté)),0,('DE récap'!P_1_14 'DE récap'!Qté)) -> #NAME? | C15: =('DE récap'!P_1_14 'DE récap'!PU) -> #NAME? | D15: =IF(ISTEXT(('DE récap'!P_1_14 'DE récap'!MT)),0,('DE récap'!P_1_14 'DE récap'!MT)) -> #NAME?
A16: 15 | B16: =IF(ISTEXT(('DE récap'!P_1_15 'DE récap'!Qté)),0,('DE récap'!P_1_15 'DE récap'!Qté)) -> #NAME? | C16: =('DE récap'!P_1_15 'DE récap'!PU) -> #NAME? | D16: =IF(ISTEXT(('DE récap'!P_1_15 'DE récap'!MT)),0,('DE récap'!P_1_15 'DE récap'!MT)) -> #NAME?
A17: 16 | B17: =IF(ISTEXT(('DE récap'!P_1_16 'DE récap'!Qté)),0,('DE récap'!P_1_16 'DE récap'!Qté)) -> #NAME? | C17: =('DE récap'!P_1_16 'DE récap'!PU) -> #NAME? | D17: =IF(ISTEXT(('DE récap'!P_1_16 'DE récap'!MT)),0,('DE récap'!P_1_16 'DE récap'!MT)) -> #NAME?
A18: 17 | B18: =IF(ISTEXT(('DE récap'!P_1_17 'DE récap'!Qté)),0,('DE récap'!P_1_17 'DE récap'!Qté)) -> #NAME? | C18: =('DE récap'!P_1_17 'DE récap'!PU) -> #NAME? | D18: =IF(ISTEXT(('DE récap'!P_1_17 'DE récap'!MT)),0,('DE récap'!P_1_17 'DE récap'!MT)) -> #NAME?
A19: 18 | B19: =IF(ISTEXT(('DE récap'!P_1_18 'DE récap'!Qté)),0,('DE récap'!P_1_18 'DE récap'!Qté)) -> #NAME? | C19: =('DE récap'!P_1_18 'DE récap'!PU) -> #NAME? | D19: =IF(ISTEXT(('DE récap'!P_1_18 'DE récap'!MT)),0,('DE récap'!P_1_18 'DE récap'!MT)) -> #NAME?
A20: 19 | B20: =IF(ISTEXT(('DE récap'!P_1_19 'DE récap'!Qté)),0,('DE récap'!P_1_19 'DE récap'!Qté)) -> #NAME? | C20: =('DE récap'!P_1_19 'DE récap'!PU) -> #NAME? | D20: =IF(ISTEXT(('DE récap'!P_1_19 'DE récap'!MT)),0,('DE récap'!P_1_19 'DE récap'!MT)) -> #NAME?
A21: 20 | B21: =IF(ISTEXT(('DE récap'!P_1_20 'DE récap'!Qté)),0,('DE récap'!P_1_20 'DE récap'!Qté)) -> #NAME? | C21: =('DE récap'!P_1_20 'DE récap'!PU) -> #NAME? | D21: =IF(ISTEXT(('DE récap'!P_1_20 'DE récap'!MT)),0,('DE récap'!P_1_20 'DE récap'!MT)) -> #NAME?
A22: 21 | B22: =IF(ISTEXT(('DE récap'!P_1_21 'DE récap'!Qté)),0,('DE récap'!P_1_21 'DE récap'!Qté)) -> #NAME? | C22: =('DE récap'!P_1_21 'DE récap'!PU) -> #NAME? | D22: =IF(ISTEXT(('DE récap'!P_1_21 'DE récap'!MT)),0,('DE récap'!P_1_21 'DE récap'!MT)) -> #NAME?
A23: 22 | B23: =IF(ISTEXT(('DE récap'!P_1_22 'DE récap'!Qté)),0,('DE récap'!P_1_22 'DE récap'!Qté)) -> #NAME? | C23: =('DE récap'!P_1_22 'DE récap'!PU) -> #NAME? | D23: =IF(ISTEXT(('DE récap'!P_1_22 'DE récap'!MT)),0,('DE récap'!P_1_22 'DE récap'!MT)) -> #NAME?
A24: 23 | B24: =IF(ISTEXT(('DE récap'!P_1_23 'DE récap'!Qté)),0,('DE récap'!P_1_23 'DE récap'!Qté)) -> #NAME? | C24: =('DE récap'!P_1_23 'DE récap'!PU) -> #NAME? | D24: =IF(ISTEXT(('DE récap'!P_1_23 'DE récap'!MT)),0,('DE récap'!P_1_23 'DE récap'!MT)) -> #NAME?
A25: 24 | B25: =IF(ISTEXT(('DE récap'!P_1_24 'DE récap'!Qté)),0,('DE récap'!P_1_24 'DE récap'!Qté)) -> #NAME? | C25: =('DE récap'!P_1_24 'DE récap'!PU) -> #NAME? | D25: =IF(ISTEXT(('DE récap'!P_1_24 'DE récap'!MT)),0,('DE récap'!P_1_24 'DE récap'!MT)) -> #NAME?
A26: 25 | B26: =IF(ISTEXT(('DE récap'!P_1_25 'DE récap'!Qté)),0,('DE récap'!P_1_25 'DE récap'!Qté)) -> #NAME? | C26: =('DE récap'!P_1_25 'DE récap'!PU) -> #NAME? | D26: =IF(ISTEXT(('DE récap'!P_1_25 'DE récap'!MT)),0,('DE récap'!P_1_25 'DE récap'!MT)) -> #NAME?
A27: 26 | B27: =IF(ISTEXT(('DE récap'!P_1_26 'DE récap'!Qté)),0,('DE récap'!P_1_26 'DE récap'!Qté)) -> #NAME? | C27: =('DE récap'!P_1_26 'DE récap'!PU) -> #NAME? | D27: =IF(ISTEXT(('DE récap'!P_1_26 'DE récap'!MT)),0,('DE récap'!P_1_26 'DE récap'!MT)) -> #NAME?
A28: 27 | B28: =IF(ISTEXT(('DE récap'!P_1_27 'DE récap'!Qté)),0,('DE récap'!P_1_27 'DE récap'!Qté)) -> #NAME? | C28: =('DE récap'!P_1_27 'DE récap'!PU) -> #NAME? | D28: =IF(ISTEXT(('DE récap'!P_1_27 'DE récap'!MT)),0,('DE récap'!P_1_27 'DE récap'!MT)) -> #NAME?
A29: 28 | B29: =IF(ISTEXT(('DE récap'!P_1_28 'DE récap'!Qté)),0,('DE récap'!P_1_28 'DE récap'!Qté)) -> #NAME? | C29: =('DE récap'!P_1_28 'DE récap'!PU) -> #NAME? | D29: =IF(ISTEXT(('DE récap'!P_1_28 'DE récap'!MT)),0,('DE récap'!P_1_28 'DE récap'!MT)) -> #NAME?
A30: 29 | B30: =IF(ISTEXT(('DE récap'!P_1_29 'DE récap'!Qté)),0,('DE récap'!P_1_29 'DE récap'!Qté)) -> #NAME? | C30: =('DE récap'!P_1_29 'DE récap'!PU) -> #NAME? | D30: =IF(ISTEXT(('DE récap'!P_1_29 'DE récap'!MT)),0,('DE récap'!P_1_29 'DE récap'!MT)) -> #NAME?
A31: 30 | B31: =IF(ISTEXT(('DE récap'!P_1_30 'DE récap'!Qté)),0,('DE récap'!P_1_30 'DE récap'!Qté)) -> #NAME? | C31: =('DE récap'!P_1_30 'DE récap'!PU) -> #NAME? | D31: =IF(ISTEXT(('DE récap'!P_1_30 'DE récap'!MT)),0,('DE récap'!P_1_30 'DE récap'!MT)) -> #NAME?
A32: 31 | B32: =IF(ISTEXT(('DE récap'!P_1_31 'DE récap'!Qté)),0,('DE récap'!P_1_31 'DE récap'!Qté)) -> #NAME? | C32: =('DE récap'!P_1_31 'DE récap'!PU) -> #NAME? | D32: =IF(ISTEXT(('DE récap'!P_1_31 'DE récap'!MT)),0,('DE récap'!P_1_31 'DE récap'!MT)) -> #NAME?
