Workbook

Sheet Code
A1: Material | B1: Colorant | C1: PerCol | F1: =+A2 -> PP | M1: =+B2 -> White PP 34381-PPC | T1: PP | U1: PercPP
A2: PP | B2: White PP 34381-PPC | F2: Colorant | G2: rang | H2: Colorant sans doublon triés | J2: ideal | M2: PerCol | O2: Code | T2: Natural | U2: 0 | V2: =+CONCATENATE(T2,U2) -> Natural0
A3: =INDEX(Code!O3:O102,MATCH(B2,F3:F102,FALSE),FALSE) -> 01 | F3: =+HLOOKUP($A$2,TDATA[#All],BDD!$F2+1,FALSE) -> Natural | G3: =IF(OR(F3="",COUNTIF(F$2:F3,F3)>1),"",COUNTIF(F:F,">="&F3)) -> 9 | H3: =IF(ROW()-1>COUNT(G:G),"",INDEX(F:F,MATCH(LARGE(G:G,ROW()-1),G:G,0))) -> Blue 2105 | J3: White PP 34381-PPC | K3: 0.03 | L3: =(MATCH(A2,TDATA[#Headers],0)+1) -> 5 | M3: =+INDEX(TDATA[],,L3) -> 0.03 | O3: 00 | T3: White PP 34381-PPC | U3: 0.03 | V3: =+CONCATENATE(T3,U3) -> White PP 34381-PPC0,03
F4: =+HLOOKUP($A$2,TDATA[#All],BDD!$F3+1,FALSE) -> White PP 34381-PPC | G4: =IF(OR(F4="",COUNTIF(F$2:F4,F4)>1),"",COUNTIF(F:F,">="&F4)) -> 4 | H4: =IF(ROW()-1>COUNT(G:G),"",INDEX(F:F,MATCH(LARGE(G:G,ROW()-1),G:G,0))) -> Green S43216 PP | K4: 0.06 | M4: =+INDEX(TDATA[],,L4) -> - | O4: 01 | T4: Green S43216 PP | U4: 0.01 | V4: =+CONCATENATE(T4,U4) -> Green S43216 PP0,01
F5: =+HLOOKUP($A$2,TDATA[#All],BDD!$F4+1,FALSE) -> Green S43216 PP | G5: =IF(OR(F5="",COUNTIF(F$2:F5,F5)>1),"",COUNTIF(F:F,">="&F5)) -> 12 | H5: =IF(ROW()-1>COUNT(G:G),"",INDEX(F:F,MATCH(LARGE(G:G,ROW()-1),G:G,0))) -> Grey S43166 PP | K5: 0.01 | M5: =+INDEX(TDATA[],,L5) -> - | O5: 02 | T5: Grey S43166 PP | U5: 0.015 | V5: =+CONCATENATE(T5,U5) -> Grey S43166 PP0,015
F6: =+HLOOKUP($A$2,TDATA[#All],BDD!$F5+1,FALSE) -> Grey S43166 PP | G6: =IF(OR(F6="",COUNTIF(F$2:F6,F6)>1),"",COUNTIF(F:F,">="&F6)) -> 11 | H6: =IF(ROW()-1>COUNT(G:G),"",INDEX(F:F,MATCH(LARGE(G:G,ROW()-1),G:G,0))) -> Natural | K6: 0.005 | M6: =+INDEX(TDATA[],,L6) -> - | O6: 03 | T6: Pink S43173 PP | U6: 0.01 | V6: =+CONCATENATE(T6,U6) -> Pink S43173 PP0,01
F7: =+HLOOKUP($A$2,TDATA[#All],BDD!$F6+1,FALSE) -> Pink S43173 PP | G7: =IF(OR(F7="",COUNTIF(F$2:F7,F7)>1),"",COUNTIF(F:F,">="&F7)) -> 8 | H7: =IF(ROW()-1>COUNT(G:G),"",INDEX(F:F,MATCH(LARGE(G:G,ROW()-1),G:G,0))) -> Pink S43173 PP | M7: =+INDEX(TDATA[],,L7) -> - | O7: 04 | T7: Blue 2105 | U7: 0.02 | V7: =+CONCATENATE(T7,U7) -> Blue 21050,02
F8: =+HLOOKUP($A$2,TDATA[#All],BDD!$F7+1,FALSE) -> Blue 2105 | G8: =IF(OR(F8="",COUNTIF(F$2:F8,F8)>1),"",COUNTIF(F:F,">="&F8)) -> 15 | H8: =IF(ROW()-1>COUNT(G:G),"",INDEX(F:F,MATCH(LARGE(G:G,ROW()-1),G:G,0))) -> Red 48809-PPC "3020 FIRE" | M8: =+INDEX(TDATA[],,L8) -> - | O8: 05 | T8: Red 48809-PPC "3020 FIRE" | U8: 0.03 | V8: =+CONCATENATE(T8,U8) -> Red 48809-PPC "3020 FIRE"0,03
F9: =+HLOOKUP($A$2,TDATA[#All],BDD!$F8+1,FALSE) -> Red 48809-PPC "3020 FIRE" | G9: =IF(OR(F9="",COUNTIF(F$2:F9,F9)>1),"",COUNTIF(F:F,">="&F9)) -> 5 | H9: =IF(ROW()-1>COUNT(G:G),"",INDEX(F:F,MATCH(LARGE(G:G,ROW()-1),G:G,0))) -> White PP 34381-PPC | M9: =+INDEX(TDATA[],,L9) -> - | O9: 06 | T9: Grey S43166 PP | U9: 0.01 | V9: =+CONCATENATE(T9,U9) -> Grey S43166 PP0,01
F10: =+HLOOKUP($A$2,TDATA[#All],BDD!$F9+1,FALSE) -> Grey S43166 PP | G10: =IF(OR(F10="",COUNTIF(F$2:F10,F10)>1),"",COUNTIF(F:F,">="&F10)) | H10: =IF(ROW()-1>COUNT(G:G),"",INDEX(F:F,MATCH(LARGE(G:G,ROW()-1),G:G,0))) | M10: =+INDEX(TDATA[],,L10) -> - | O10: 07 | T10: Pink S43173 PP | U10: 0.025 | V10: =+CONCATENATE(T10,U10) -> Pink S43173 PP0,025
F11: =+HLOOKUP($A$2,TDATA[#All],BDD!$F10+1,FALSE) -> Pink S43173 PP | G11: =IF(OR(F11="",COUNTIF(F$2:F11,F11)>1),"",COUNTIF(F:F,">="&F11)) | H11: =IF(ROW()-1>COUNT(G:G),"",INDEX(F:F,MATCH(LARGE(G:G,ROW()-1),G:G,0))) | M11: =+INDEX(TDATA[],,L11) -> - | O11: 08 | T11: Blue 2105 | U11: 0.06 | V11: =+CONCATENATE(T11,U11) -> Blue 21050,06
F12: =+HLOOKUP($A$2,TDATA[#All],BDD!$F11+1,FALSE) -> Blue 2105 | G12: =IF(OR(F12="",COUNTIF(F$2:F12,F12)>1),"",COUNTIF(F:F,">="&F12)) | H12: =IF(ROW()-1>COUNT(G:G),"",INDEX(F:F,MATCH(LARGE(G:G,ROW()-1),G:G,0))) | M12: =+INDEX(TDATA[],,L12) -> - | O12: 09 | T12: White PP 34381-PPC | U12: 0.06 | V12: =+CONCATENATE(T12,U12) -> White PP 34381-PPC0,06
F13: =+HLOOKUP($A$2,TDATA[#All],BDD!$F12+1,FALSE) -> White PP 34381-PPC | G13: =IF(OR(F13="",COUNTIF(F$2:F13,F13)>1),"",COUNTIF(F:F,">="&F13)) | H13: =IF(ROW()-1>COUNT(G:G),"",INDEX(F:F,MATCH(LARGE(G:G,ROW()-1),G:G,0))) | M13: =+INDEX(TDATA[],,L13) -> - | O13: 10 | T13: White PP 34381-PPC | U13: 0.01 | V13: =+CONCATENATE(T13,U13) -> White PP 34381-PPC0,01
F14: =+HLOOKUP($A$2,TDATA[#All],BDD!$F13+1,FALSE) -> White PP 34381-PPC | G14: =IF(OR(F14="",COUNTIF(F$2:F14,F14)>1),"",COUNTIF(F:F,">="&F14)) | H14: =IF(ROW()-1>COUNT(G:G),"",INDEX(F:F,MATCH(LARGE(G:G,ROW()-1),G:G,0))) | M14: =+INDEX(TDATA[],,L14) -> - | O14: 11 | T14: White PP 34381-PPC | U14: 0.005 | V14: =+CONCATENATE(T14,U14) -> White PP 34381-PPC0,005
F15: =+HLOOKUP($A$2,TDATA[#All],BDD!$F14+1,FALSE) -> White PP 34381-PPC | G15: =IF(OR(F15="",COUNTIF(F$2:F15,F15)>1),"",COUNTIF(F:F,">="&F15)) | H15: =IF(ROW()-1>COUNT(G:G),"",INDEX(F:F,MATCH(LARGE(G:G,ROW()-1),G:G,0))) | M15: =+INDEX(TDATA[],,L15) -> - | O15: 12 | T15: - | U15: -
F16: =+HLOOKUP($A$2,TDATA[#All],BDD!$F15+1,FALSE) -> - | G16: =IF(OR(F16="",COUNTIF(F$2:F16,F16)>1),"",COUNTIF(F:F,">="&F16)) -> 102 | H16: =IF(ROW()-1>COUNT(G:G),"",INDEX(F:F,MATCH(LARGE(G:G,ROW()-1),G:G,0))) | M16: =+INDEX(TDATA[],,L16) -> - | O16: 13 | T16: - | U16: -
F17: =+HLOOKUP($A$2,TDATA[#All],BDD!$F16+1,FALSE) -> - | G17: =IF(OR(F17="",COUNTIF(F$2:F17,F17)>1),"",COUNTIF(F:F,">="&F17)) | H17: =IF(ROW()-1>COUNT(G:G),"",INDEX(F:F,MATCH(LARGE(G:G,ROW()-1),G:G,0))) | M17: =+INDEX(TDATA[#All],,L17) -> - | O17: 14 | T17: - | U17: -
F18: =+HLOOKUP($A$2,TDATA[#All],BDD!$F17+1,FALSE) -> - | G18: =IF(OR(F18="",COUNTIF(F$2:F18,F18)>1),"",COUNTIF(F:F,">="&F18)) | H18: =IF(ROW()-1>COUNT(G:G),"",INDEX(F:F,MATCH(LARGE(G:G,ROW()-1),G:G,0))) | M18: =+INDEX(TDATA[#All],,L18) -> - | O18: 15 | T18: - | U18: -
F19: =+HLOOKUP($A$2,TDATA[#All],BDD!$F18+1,FALSE) -> - | G19: =IF(OR(F19="",COUNTIF(F$2:F19,F19)>1),"",COUNTIF(F:F,">="&F19)) | H19: =IF(ROW()-1>COUNT(G:G),"",INDEX(F:F,MATCH(LARGE(G:G,ROW()-1),G:G,0))) | M19: =+INDEX(TDATA[#All],,L19) -> - | O19: 16 | T19: - | U19: -
F20: =+HLOOKUP($A$2,TDATA[#All],BDD!$F19+1,FALSE) -> - | G20: =IF(OR(F20="",COUNTIF(F$2:F20,F20)>1),"",COUNTIF(F:F,">="&F20)) | H20: =IF(ROW()-1>COUNT(G:G),"",INDEX(F:F,MATCH(LARGE(G:G,ROW()-1),G:G,0))) | M20: =+INDEX(TDATA[#All],,L20) -> - | O20: 17 | T20: - | U20: -
F21: =+HLOOKUP($A$2,TDATA[#All],BDD!$F20+1,FALSE) -> - | G21: =IF(OR(F21="",COUNTIF(F$2:F21,F21)>1),"",COUNTIF(F:F,">="&F21)) | H21: =IF(ROW()-1>COUNT(G:G),"",INDEX(F:F,MATCH(LARGE(G:G,ROW()-1),G:G,0))) | M21: =+INDEX(TDATA[#All],,L21) -> - | O21: 18 | T21: - | U21: -
F22: =+HLOOKUP($A$2,TDATA[#All],BDD!$F21+1,FALSE) -> - | G22: =IF(OR(F22="",COUNTIF(F$2:F22,F22)>1),"",COUNTIF(F:F,">="&F22)) | H22: =IF(ROW()-1>COUNT(G:G),"",INDEX(F:F,MATCH(LARGE(G:G,ROW()-1),G:G,0))) | M22: =+INDEX(TDATA[#All],,L22) -> - | O22: 19 | T22: - | U22: -
F23: =+HLOOKUP($A$2,TDATA[#All],BDD!$F22+1,FALSE) -> - | G23: =IF(OR(F23="",COUNTIF(F$2:F23,F23)>1),"",COUNTIF(F:F,">="&F23)) | H23: =IF(ROW()-1>COUNT(G:G),"",INDEX(F:F,MATCH(LARGE(G:G,ROW()-1),G:G,0))) | M23: =+INDEX(TDATA[#All],,L23) -> - | O23: 20 | T23: - | U23: -
F24: =+HLOOKUP($A$2,TDATA[#All],BDD!$F23+1,FALSE) -> - | G24: =IF(OR(F24="",COUNTIF(F$2:F24,F24)>1),"",COUNTIF(F:F,">="&F24)) | H24: =IF(ROW()-1>COUNT(G:G),"",INDEX(F:F,MATCH(LARGE(G:G,ROW()-1),G:G,0))) | M24: =+INDEX(TDATA[#All],,L24) -> - | O24: 21 | T24: - | U24: -
F25: =+HLOOKUP($A$2,TDATA[#All],BDD!$F24+1,FALSE) -> - | G25: =IF(OR(F25="",COUNTIF(F$2:F25,F25)>1),"",COUNTIF(F:F,">="&F25)) | H25: =IF(ROW()-1>COUNT(G:G),"",INDEX(F:F,MATCH(LARGE(G:G,ROW()-1),G:G,0))) | M25: =+INDEX(TDATA[#All],,L25) -> - | O25: 22 | T25: - | U25: -
F26: =+HLOOKUP($A$2,TDATA[#All],BDD!$F25+1,FALSE) -> - | G26: =IF(OR(F26="",COUNTIF(F$2:F26,F26)>1),"",COUNTIF(F:F,">="&F26)) | H26: =IF(ROW()-1>COUNT(G:G),"",INDEX(F:F,MATCH(LARGE(G:G,ROW()-1),G:G,0))) | M26: =+INDEX(TDATA[#All],,L26) -> - | O26: 23 | T26: - | U26: -
F27: =+HLOOKUP($A$2,TDATA[#All],BDD!$F26+1,FALSE) -> - | G27: =IF(OR(F27="",COUNTIF(F$2:F27,F27)>1),"",COUNTIF(F:F,">="&F27)) | H27: =IF(ROW()-1>COUNT(G:G),"",INDEX(F:F,MATCH(LARGE(G:G,ROW()-1),G:G,0))) | M27: =+INDEX(TDATA[#All],,L27) -> - | O27: 24 | T27: - | U27: -
F28: =+HLOOKUP($A$2,TDATA[#All],BDD!$F27+1,FALSE) -> - | G28: =IF(OR(F28="",COUNTIF(F$2:F28,F28)>1),"",COUNTIF(F:F,">="&F28)) | H28: =IF(ROW()-1>COUNT(G:G),"",INDEX(F:F,MATCH(LARGE(G:G,ROW()-1),G:G,0))) | M28: =+INDEX(TDATA[#All],,L28) -> - | O28: 25 | T28: - | U28: -
... F32: =+HLOOKUP($A$2,TDATA[#All],BDD!$F31+1,FALSE) -> - | G32: =IF(OR(F32="",COUNTIF(F$2:F32,F32)>1),"",COUNTIF(F:F,">="&F32)) | H32: =IF(ROW()-1>COUNT(G:G),"",INDEX(F:F,MATCH(LARGE(G:G,ROW()-1),G:G,0))) | M32: =+INDEX(TDATA[#All],,L32) -> - | O32: 29 | T32: - | U32: -
F33: =+HLOOKUP($A$2,TDATA[#All],BDD!$F32+1,FALSE) -> - | G33: =IF(OR(F33="",COUNTIF(F$2:F33,F33)>1),"",COUNTIF(F:F,">="&F33)) | H33: =IF(ROW()-1>COUNT(G:G),"",INDEX(F:F,MATCH(LARGE(G:G,ROW()-1),G:G,0))) | O33: 30 | T33: - | U33: -
F34: =+HLOOKUP($A$2,TDATA[#All],BDD!$F33+1,FALSE) -> - | G34: =IF(OR(F34="",COUNTIF(F$2:F34,F34)>1),"",COUNTIF(F:F,">="&F34)) | H34: =IF(ROW()-1>COUNT(G:G),"",INDEX(F:F,MATCH(LARGE(G:G,ROW()-1),G:G,0))) | O34: 31 | T34: - | U34: -
F35: =+HLOOKUP($A$2,TDATA[#All],BDD!$F34+1,FALSE) -> - | G35: =IF(OR(F35="",COUNTIF(F$2:F35,F35)>1),"",COUNTIF(F:F,">="&F35)) | H35: =IF(ROW()-1>COUNT(G:G),"",INDEX(F:F,MATCH(LARGE(G:G,ROW()-1),G:G,0))) | O35: 32 | T35: - | U35: -
F36: =+HLOOKUP($A$2,TDATA[#All],BDD!$F35+1,FALSE) -> - | G36: =IF(OR(F36="",COUNTIF(F$2:F36,F36)>1),"",COUNTIF(F:F,">="&F36)) | H36: =IF(ROW()-1>COUNT(G:G),"",INDEX(F:F,MATCH(LARGE(G:G,ROW()-1),G:G,0))) | O36: 33 | T36: - | U36: -
F37: =+HLOOKUP($A$2,TDATA[#All],BDD!$F36+1,FALSE) -> - | G37: =IF(OR(F37="",COUNTIF(F$2:F37,F37)>1),"",COUNTIF(F:F,">="&F37)) | H37: =IF(ROW()-1>COUNT(G:G),"",INDEX(F:F,MATCH(LARGE(G:G,ROW()-1),G:G,0))) | O37: 34 | T37: - | U37: -
F38: =+HLOOKUP($A$2,TDATA[#All],BDD!$F37+1,FALSE) -> - | G38: =IF(OR(F38="",COUNTIF(F$2:F38,F38)>1),"",COUNTIF(F:F,">="&F38)) | H38: =IF(ROW()-1>COUNT(G:G),"",INDEX(F:F,MATCH(LARGE(G:G,ROW()-1),G:G,0))) | O38: 35 | T38: - | U38: -
F39: =+HLOOKUP($A$2,TDATA[#All],BDD!$F38+1,FALSE) -> - | G39: =IF(OR(F39="",COUNTIF(F$2:F39,F39)>1),"",COUNTIF(F:F,">="&F39)) | H39: =IF(ROW()-1>COUNT(G:G),"",INDEX(F:F,MATCH(LARGE(G:G,ROW()-1),G:G,0))) | O39: 36 | T39: - | U39: -
F40: =+HLOOKUP($A$2,TDATA[#All],BDD!$F39+1,FALSE) -> - | G40: =IF(OR(F40="",COUNTIF(F$2:F40,F40)>1),"",COUNTIF(F:F,">="&F40)) | H40: =IF(ROW()-1>COUNT(G:G),"",INDEX(F:F,MATCH(LARGE(G:G,ROW()-1),G:G,0))) | O40: 37 | T40: - | U40: -
F41: =+HLOOKUP($A$2,TDATA[#All],BDD!$F40+1,FALSE) -> - | G41: =IF(OR(F41="",COUNTIF(F$2:F41,F41)>1),"",COUNTIF(F:F,">="&F41)) | H41: =IF(ROW()-1>COUNT(G:G),"",INDEX(F:F,MATCH(LARGE(G:G,ROW()-1),G:G,0))) | O41: 38 | T41: - | U41: -
F42: =+HLOOKUP($A$2,TDATA[#All],BDD!$F41+1,FALSE) -> - | G42: =IF(OR(F42="",COUNTIF(F$2:F42,F42)>1),"",COUNTIF(F:F,">="&F42)) | H42: =IF(ROW()-1>COUNT(G:G),"",INDEX(F:F,MATCH(LARGE(G:G,ROW()-1),G:G,0))) | O42: 39 | T42: - | U42: -
F43: =+HLOOKUP($A$2,TDATA[#All],BDD!$F42+1,FALSE) -> - | G43: =IF(OR(F43="",COUNTIF(F$2:F43,F43)>1),"",COUNTIF(F:F,">="&F43)) | H43: =IF(ROW()-1>COUNT(G:G),"",INDEX(F:F,MATCH(LARGE(G:G,ROW()-1),G:G,0))) | O43: 40 | T43: - | U43: -
F44: =+HLOOKUP($A$2,TDATA[#All],BDD!$F43+1,FALSE) -> - | G44: =IF(OR(F44="",COUNTIF(F$2:F44,F44)>1),"",COUNTIF(F:F,">="&F44)) | H44: =IF(ROW()-1>COUNT(G:G),"",INDEX(F:F,MATCH(LARGE(G:G,ROW()-1),G:G,0))) | O44: 41 | T44: - | U44: -
... F101: =+HLOOKUP($A$2,TDATA[#All],BDD!$F100+1,FALSE) -> - | G101: =IF(OR(F101="",COUNTIF(F$2:F101,F101)>1),"",COUNTIF(F:F,">="&F101)) | H101: =IF(ROW()-1>COUNT(G:G),"",INDEX(F:F,MATCH(LARGE(G:G,ROW()-1),G:G,0))) | O101: 98 | T101: - | U101: -
F102: =+HLOOKUP($A$2,TDATA[#All],BDD!$F101+1,FALSE) -> - | G102: =IF(OR(F102="",COUNTIF(F$2:F102,F102)>1),"",COUNTIF(F:F,">="&F102)) | H102: =IF(ROW()-1>COUNT(G:G),"",INDEX(F:F,MATCH(LARGE(G:G,ROW()-1),G:G,0))) | O102: 99

Sheet BDD
A1: material | G1: Code Col | H1: PET | I1: PercPET | J1: PP | K1: PercPP | L1: HDPE | M1: PercHDPE | N1: POM | O1: PercPOM | P1: PA | Q1: PercPA | R1: PC | S1: PercPC | T1: TPE | U1: PercTPE | V1: PS | W1: PercPS | X1: Others1 | Y1: PercOthers1 | Z1: Others2 | AA1: PercOthers2
A2: PET | B2: =+MATCH(A2,TDATA[#Headers],0)+1 -> 3 | F2: 1 | G2: 00 | H2: Natural | I2: 0 | J2: Natural | K2: 0 | L2: Natural | M2: 0 | N2: Natural | O2: 0 | P2: Natural | Q2: 0 | R2: Natural | S2: 0 | T2: Natural | U2: 0 | V2: Natural | W2: 0 | X2: Natural | Y2: 0 | Z2: Natural | AA2: 0
A3: PP | B3: =+MATCH(A3,TDATA[#Headers],0)+1 -> 5 | F3: 2 | G3: 01 | H3: - | I3: - | J3: White PP 34381-PPC | K3: 0.03 | L3: - | M3: - | N3: White 34379 CEC | O3: 0.03 | P3: - | Q3: - | R3: - | S3: - | T3: - | U3: - | V3: - | W3: - | X3: - | Y3: - | Z3: - | AA3: -
A4: HDPE | B4: =+MATCH(A4,TDATA[#Headers],0)+1 -> 7 | F4: 3 | G4: 02 | H4: - | I4: - | J4: Green S43216 PP | K4: 0.01 | L4: - | M4: - | N4: Green E17100 | O4: 0.01 | P4: - | Q4: - | R4: - | S4: - | T4: - | U4: - | V4: - | W4: - | X4: - | Y4: - | Z4: - | AA4: -
A5: POM | B5: =+MATCH(A5,TDATA[#Headers],0)+1 -> 9 | F5: 4 | G5: 03 | H5: - | I5: - | J5: Grey S43166 PP | K5: 0.015 | L5: - | M5: - | N5: Cool Grey G28813 | O5: 0.015 | P5: - | Q5: - | R5: - | S5: - | T5: - | U5: - | V5: - | W5: - | X5: - | Y5: - | Z5: - | AA5: -
A6: PA | B6: =+MATCH(A6,TDATA[#Headers],0)+1 -> 11 | F6: 5 | G6: 04 | H6: - | I6: - | J6: Pink S43173 PP | K6: 0.01 | L6: - | M6: - | N6: Pink R35364 | O6: 0.03 | P6: - | Q6: - | R6: - | S6: - | T6: - | U6: - | V6: - | W6: - | X6: - | Y6: - | Z6: - | AA6: -
A7: PC | B7: =+MATCH(A7,TDATA[#Headers],0)+1 -> 13 | F7: 6 | G7: 05 | H7: - | I7: - | J7: Blue 2105 | K7: 0.02 | L7: - | M7: - | N7: - | O7: - | P7: - | Q7: - | R7: - | S7: - | T7: - | U7: - | V7: - | W7: - | X7: - | Y7: - | Z7: - | AA7: -
A8: TPE | B8: =+MATCH(A8,TDATA[#Headers],0)+1 -> 15 | F8: 7 | G8: 06 | H8: - | I8: - | J8: Red 48809-PPC "3020 FIRE" | K8: 0.03 | L8: - | M8: - | N8: Red 48809-CEC | O8: 0.03 | P8: - | Q8: - | R8: - | S8: - | T8: - | U8: - | V8: - | W8: - | X8: - | Y8: - | Z8: - | AA8: -
A9: PS | B9: =+MATCH(A9,TDATA[#Headers],0)+1 -> 17 | F9: 8 | G9: 07 | H9: - | I9: - | J9: Grey S43166 PP | K9: 0.01 | L9: - | M9: - | N9: - | O9: - | P9: - | Q9: - | R9: - | S9: - | T9: - | U9: - | V9: - | W9: - | X9: - | Y9: - | Z9: - | AA9: -
A10: Others1 | B10: =+MATCH(A10,TDATA[#Headers],0)+1 -> 19 | F10: 9 | G10: 08 | H10: - | I10: - | J10: Pink S43173 PP | K10: 0.025 | L10: - | M10: - | N10: - | O10: - | P10: - | Q10: - | R10: - | S10: - | T10: - | U10: - | V10: - | W10: - | X10: - | Y10: - | Z10: - | AA10: -
A11: Others2 | B11: =+MATCH(A11,TDATA[#Headers],0)+1 -> 21 | F11: 10 | G11: 09 | H11: - | I11: - | J11: Blue 2105 | K11: 0.06 | L11: - | M11: - | N11: - | O11: - | P11: - | Q11: - | R11: - | S11: - | T11: - | U11: - | V11: - | W11: - | X11: - | Y11: - | Z11: - | AA11: -
F12: 11 | G12: 10 | H12: - | I12: - | J12: White PP 34381-PPC | K12: 0.06 | L12: - | M12: - | N12: - | O12: - | P12: - | Q12: - | R12: - | S12: - | T12: - | U12: - | V12: - | W12: - | X12: - | Y12: - | Z12: - | AA12: -
F13: 12 | G13: 11 | H13: - | I13: - | J13: White PP 34381-PPC | K13: 0.01 | L13: - | M13: - | N13: - | O13: - | P13: - | Q13: - | R13: - | S13: - | T13: - | U13: - | V13: - | W13: - | X13: - | Y13: - | Z13: - | AA13: -
F14: 13 | G14: 12 | H14: - | I14: - | J14: White PP 34381-PPC | K14: 0.005 | L14: - | M14: - | N14: - | O14: - | P14: - | Q14: - | R14: - | S14: - | T14: - | U14: - | V14: - | W14: - | X14: - | Y14: - | Z14: - | AA14: -
A15: =+INDEX(TDATA[[#All],[PercPP]],MATCH('Code test'!B2,TDATA[[#All],[PP]],0),MATCH(A3,TDATA[#Headers],0)) -> #REF! | F15: 14 | G15: 13 | H15: - | I15: - | J15: - | K15: - | L15: - | M15: - | N15: - | O15: - | P15: - | Q15: - | R15: - | S15: - | T15: - | U15: - | V15: - | W15: - | X15: - | Y15: - | Z15: - | AA15: -
F16: 15 | G16: 14 | H16: - | I16: - | J16: - | K16: - | L16: - | M16: - | N16: - | O16: - | P16: - | Q16: - | R16: - | S16: - | T16: - | U16: - | V16: - | W16: - | X16: - | Y16: - | Z16: - | AA16: -
F17: 16 | G17: 15 | H17: - | I17: - | J17: - | K17: - | L17: - | M17: - | N17: - | O17: - | P17: - | Q17: - | R17: - | S17: - | T17: - | U17: - | V17: - | W17: - | X17: - | Y17: - | Z17: - | AA17: -
F18: 17 | G18: 16 | H18: - | I18: - | J18: - | K18: - | L18: - | M18: - | N18: - | O18: - | P18: - | Q18: - | R18: - | S18: - | T18: - | U18: - | V18: - | W18: - | X18: - | Y18: - | Z18: - | AA18: -
F19: 18 | G19: 17 | H19: - | I19: - | J19: - | K19: - | L19: - | M19: - | N19: - | O19: - | P19: - | Q19: - | R19: - | S19: - | T19: - | U19: - | V19: - | W19: - | X19: - | Y19: - | Z19: - | AA19: -
F20: 19 | G20: 18 | H20: - | I20: - | J20: - | K20: - | L20: - | M20: - | N20: - | O20: - | P20: - | Q20: - | R20: - | S20: - | T20: - | U20: - | V20: - | W20: - | X20: - | Y20: - | Z20: - | AA20: -
F21: 20 | G21: 19 | H21: - | I21: - | J21: - | K21: - | L21: - | M21: - | N21: - | O21: - | P21: - | Q21: - | R21: - | S21: - | T21: - | U21: - | V21: - | W21: - | X21: - | Y21: - | Z21: - | AA21: -
F22: 21 | G22: 20 | H22: - | I22: - | J22: - | K22: - | L22: - | M22: - | N22: - | O22: - | P22: - | Q22: - | R22: - | S22: - | T22: - | U22: - | V22: - | W22: - | X22: - | Y22: - | Z22: - | AA22: -
F23: 22 | G23: 21 | H23: - | I23: - | J23: - | K23: - | L23: - | M23: - | N23: - | O23: - | P23: - | Q23: - | R23: - | S23: - | T23: - | U23: - | V23: - | W23: - | X23: - | Y23: - | Z23: - | AA23: -
F24: 23 | G24: 22 | H24: - | I24: - | J24: - | K24: - | L24: - | M24: - | N24: - | O24: - | P24: - | Q24: - | R24: - | S24: - | T24: - | U24: - | V24: - | W24: - | X24: - | Y24: - | Z24: - | AA24: -
F25: 24 | G25: 23 | H25: - | I25: - | J25: - | K25: - | L25: - | M25: - | N25: - | O25: - | P25: - | Q25: - | R25: - | S25: - | T25: - | U25: - | V25: - | W25: - | X25: - | Y25: - | Z25: - | AA25: -
F26: 25 | G26: 24 | H26: - | I26: - | J26: - | K26: - | L26: - | M26: - | N26: - | O26: - | P26: - | Q26: - | R26: - | S26: - | T26: - | U26: - | V26: - | W26: - | X26: - | Y26: - | Z26: - | AA26: -
F27: 26 | G27: 25 | H27: - | I27: - | J27: - | K27: - | L27: - | M27: - | N27: - | O27: - | P27: - | Q27: - | R27: - | S27: - | T27: - | U27: - | V27: - | W27: - | X27: - | Y27: - | Z27: - | AA27: -
... F101: 100 | G101: 99 | H101: - | I101: - | J101: - | K101: - | L101: - | M101: - | N101: - | O101: - | P101: - | Q101: - | R101: - | S101: - | T101: - | U101: - | V101: - | W101: - | X101: - | Y101: - | Z101: - | AA101: -

Sheet Code test
A1: Material | B1: Colorant | C1: PerCol | F1: =+A2 -> PP | L1: =+B2 -> White PP 34381-PPC | S1: PP | T1: PercPP
A2: PP | B2: White PP 34381-PPC | F2: Colorant | G2: rang | H2: Colorant sans doublon triés | L2: PerCol | N2: Code | S2: Natural | T2: 0 | U2: =+CONCATENATE(S2,T2) -> Natural0
A3: =INDEX('Code test'!N3:N102,MATCH(B2,F3:F102,FALSE),FALSE) -> 01 | F3: =+HLOOKUP($A$2,TDATA[#All],BDD!$F2+1,FALSE) -> Natural | G3: =IF(OR(F3="",COUNTIF(F$2:F3,F3)>1),"",COUNTIF(F:F,">="&F3)) -> 9 | H3: =IF(ROW()-1>COUNT(G:G),"",INDEX(F:F,MATCH(LARGE(G:G,ROW()-1),G:G,0))) -> Blue 2105 | K3: =(MATCH(A2,TDATA[#Headers],0)+1) -> 5 | L3: =+INDEX(TDATA[],,K3) -> 0.03 | N3: 00 | S3: White PP 34381-PPC | T3: 0.03 | U3: =+CONCATENATE(S3,T3) -> White PP 34381-PPC0,03
F4: =+HLOOKUP($A$2,TDATA[#All],BDD!$F3+1,FALSE) -> White PP 34381-PPC | G4: =IF(OR(F4="",COUNTIF(F$2:F4,F4)>1),"",COUNTIF(F:F,">="&F4)) -> 4 | H4: =IF(ROW()-1>COUNT(G:G),"",INDEX(F:F,MATCH(LARGE(G:G,ROW()-1),G:G,0))) -> Green S43216 PP | L4: =+INDEX(TDATA[],,K4) -> - | N4: 01 | S4: Green S43216 PP | T4: 0.01 | U4: =+CONCATENATE(S4,T4) -> Green S43216 PP0,01
F5: =+HLOOKUP($A$2,TDATA[#All],BDD!$F4+1,FALSE) -> Green S43216 PP | G5: =IF(OR(F5="",COUNTIF(F$2:F5,F5)>1),"",COUNTIF(F:F,">="&F5)) -> 12 | H5: =IF(ROW()-1>COUNT(G:G),"",INDEX(F:F,MATCH(LARGE(G:G,ROW()-1),G:G,0))) -> Grey S43166 PP | L5: =+INDEX(TDATA[],,K5) -> - | N5: 02 | S5: Grey S43166 PP | T5: 0.015 | U5: =+CONCATENATE(S5,T5) -> Grey S43166 PP0,015
F6: =+HLOOKUP($A$2,TDATA[#All],BDD!$F5+1,FALSE) -> Grey S43166 PP | G6: =IF(OR(F6="",COUNTIF(F$2:F6,F6)>1),"",COUNTIF(F:F,">="&F6)) -> 11 | H6: =IF(ROW()-1>COUNT(G:G),"",INDEX(F:F,MATCH(LARGE(G:G,ROW()-1),G:G,0))) -> Natural | L6: =+INDEX(TDATA[],,K6) -> - | N6: 03 | S6: Pink S43173 PP | T6: 0.01 | U6: =+CONCATENATE(S6,T6) -> Pink S43173 PP0,01
F7: =+HLOOKUP($A$2,TDATA[#All],BDD!$F6+1,FALSE) -> Pink S43173 PP | G7: =IF(OR(F7="",COUNTIF(F$2:F7,F7)>1),"",COUNTIF(F:F,">="&F7)) -> 8 | H7: =IF(ROW()-1>COUNT(G:G),"",INDEX(F:F,MATCH(LARGE(G:G,ROW()-1),G:G,0))) -> Pink S43173 PP | L7: =+INDEX(TDATA[],,K7) -> - | N7: 04 | S7: Blue 2105 | T7: 0.02 | U7: =+CONCATENATE(S7,T7) -> Blue 21050,02
F8: =+HLOOKUP($A$2,TDATA[#All],BDD!$F7+1,FALSE) -> Blue 2105 | G8: =IF(OR(F8="",COUNTIF(F$2:F8,F8)>1),"",COUNTIF(F:F,">="&F8)) -> 15 | H8: =IF(ROW()-1>COUNT(G:G),"",INDEX(F:F,MATCH(LARGE(G:G,ROW()-1),G:G,0))) -> Red 48809-PPC "3020 FIRE" | L8: =+INDEX(TDATA[],,K8) -> - | N8: 05 | S8: Red 48809-PPC "3020 FIRE" | T8: 0.03 | U8: =+CONCATENATE(S8,T8) -> Red 48809-PPC "3020 FIRE"0,03
F9: =+HLOOKUP($A$2,TDATA[#All],BDD!$F8+1,FALSE) -> Red 48809-PPC "3020 FIRE" | G9: =IF(OR(F9="",COUNTIF(F$2:F9,F9)>1),"",COUNTIF(F:F,">="&F9)) -> 5 | H9: =IF(ROW()-1>COUNT(G:G),"",INDEX(F:F,MATCH(LARGE(G:G,ROW()-1),G:G,0))) -> White PP 34381-PPC | L9: =+INDEX(TDATA[],,K9) -> - | N9: 06 | S9: Grey S43166 PP | T9: 0.01 | U9: =+CONCATENATE(S9,T9) -> Grey S43166 PP0,01
F10: =+HLOOKUP($A$2,TDATA[#All],BDD!$F9+1,FALSE) -> Grey S43166 PP | G10: =IF(OR(F10="",COUNTIF(F$2:F10,F10)>1),"",COUNTIF(F:F,">="&F10)) | H10: =IF(ROW()-1>COUNT(G:G),"",INDEX(F:F,MATCH(LARGE(G:G,ROW()-1),G:G,0))) | L10: =+INDEX(TDATA[],,K10) -> - | N10: 07 | S10: Pink S43173 PP | T10: 0.025 | U10: =+CONCATENATE(S10,T10) -> Pink S43173 PP0,025
F11: =+HLOOKUP($A$2,TDATA[#All],BDD!$F10+1,FALSE) -> Pink S43173 PP | G11: =IF(OR(F11="",COUNTIF(F$2:F11,F11)>1),"",COUNTIF(F:F,">="&F11)) | H11: =IF(ROW()-1>COUNT(G:G),"",INDEX(F:F,MATCH(LARGE(G:G,ROW()-1),G:G,0))) | L11: =+INDEX(TDATA[],,K11) -> - | N11: 08 | S11: Blue 2105 | T11: 0.06 | U11: =+CONCATENATE(S11,T11) -> Blue 21050,06
F12: =+HLOOKUP($A$2,TDATA[#All],BDD!$F11+1,FALSE) -> Blue 2105 | G12: =IF(OR(F12="",COUNTIF(F$2:F12,F12)>1),"",COUNTIF(F:F,">="&F12)) | H12: =IF(ROW()-1>COUNT(G:G),"",INDEX(F:F,MATCH(LARGE(G:G,ROW()-1),G:G,0))) | L12: =+INDEX(TDATA[],,K12) -> - | N12: 09 | S12: White PP 34381-PPC | T12: 0.06 | U12: =+CONCATENATE(S12,T12) -> White PP 34381-PPC0,06
F13: =+HLOOKUP($A$2,TDATA[#All],BDD!$F12+1,FALSE) -> White PP 34381-PPC | G13: =IF(OR(F13="",COUNTIF(F$2:F13,F13)>1),"",COUNTIF(F:F,">="&F13)) | H13: =IF(ROW()-1>COUNT(G:G),"",INDEX(F:F,MATCH(LARGE(G:G,ROW()-1),G:G,0))) | L13: =+INDEX(TDATA[],,K13) -> - | N13: 10 | S13: White PP 34381-PPC | T13: 0.01 | U13: =+CONCATENATE(S13,T13) -> White PP 34381-PPC0,01
F14: =+HLOOKUP($A$2,TDATA[#All],BDD!$F13+1,FALSE) -> White PP 34381-PPC | G14: =IF(OR(F14="",COUNTIF(F$2:F14,F14)>1),"",COUNTIF(F:F,">="&F14)) | H14: =IF(ROW()-1>COUNT(G:G),"",INDEX(F:F,MATCH(LARGE(G:G,ROW()-1),G:G,0))) | L14: =+INDEX(TDATA[],,K14) -> - | N14: 11 | S14: White PP 34381-PPC | T14: 0.005 | U14: =+CONCATENATE(S14,T14) -> White PP 34381-PPC0,005
F15: =+HLOOKUP($A$2,TDATA[#All],BDD!$F14+1,FALSE) -> White PP 34381-PPC | G15: =IF(OR(F15="",COUNTIF(F$2:F15,F15)>1),"",COUNTIF(F:F,">="&F15)) | H15: =IF(ROW()-1>COUNT(G:G),"",INDEX(F:F,MATCH(LARGE(G:G,ROW()-1),G:G,0))) | L15: =+INDEX(TDATA[],,K15) -> - | N15: 12 | S15: - | T15: -
F16: =+HLOOKUP($A$2,TDATA[#All],BDD!$F15+1,FALSE) -> - | G16: =IF(OR(F16="",COUNTIF(F$2:F16,F16)>1),"",COUNTIF(F:F,">="&F16)) -> 102 | H16: =IF(ROW()-1>COUNT(G:G),"",INDEX(F:F,MATCH(LARGE(G:G,ROW()-1),G:G,0))) | L16: =+INDEX(TDATA[],,K16) -> - | N16: 13 | S16: - | T16: -
F17: =+HLOOKUP($A$2,TDATA[#All],BDD!$F16+1,FALSE) -> - | G17: =IF(OR(F17="",COUNTIF(F$2:F17,F17)>1),"",COUNTIF(F:F,">="&F17)) | H17: =IF(ROW()-1>COUNT(G:G),"",INDEX(F:F,MATCH(LARGE(G:G,ROW()-1),G:G,0))) | L17: =+INDEX(TDATA[#All],,K17) -> - | N17: 14 | S17: - | T17: -
F18: =+HLOOKUP($A$2,TDATA[#All],BDD!$F17+1,FALSE) -> - | G18: =IF(OR(F18="",COUNTIF(F$2:F18,F18)>1),"",COUNTIF(F:F,">="&F18)) | H18: =IF(ROW()-1>COUNT(G:G),"",INDEX(F:F,MATCH(LARGE(G:G,ROW()-1),G:G,0))) | L18: =+INDEX(TDATA[#All],,K18) -> - | N18: 15 | S18: - | T18: -
F19: =+HLOOKUP($A$2,TDATA[#All],BDD!$F18+1,FALSE) -> - | G19: =IF(OR(F19="",COUNTIF(F$2:F19,F19)>1),"",COUNTIF(F:F,">="&F19)) | H19: =IF(ROW()-1>COUNT(G:G),"",INDEX(F:F,MATCH(LARGE(G:G,ROW()-1),G:G,0))) | L19: =+INDEX(TDATA[#All],,K19) -> - | N19: 16 | S19: - | T19: -
F20: =+HLOOKUP($A$2,TDATA[#All],BDD!$F19+1,FALSE) -> - | G20: =IF(OR(F20="",COUNTIF(F$2:F20,F20)>1),"",COUNTIF(F:F,">="&F20)) | H20: =IF(ROW()-1>COUNT(G:G),"",INDEX(F:F,MATCH(LARGE(G:G,ROW()-1),G:G,0))) | L20: =+INDEX(TDATA[#All],,K20) -> - | N20: 17 | S20: - | T20: -
F21: =+HLOOKUP($A$2,TDATA[#All],BDD!$F20+1,FALSE) -> - | G21: =IF(OR(F21="",COUNTIF(F$2:F21,F21)>1),"",COUNTIF(F:F,">="&F21)) | H21: =IF(ROW()-1>COUNT(G:G),"",INDEX(F:F,MATCH(LARGE(G:G,ROW()-1),G:G,0))) | L21: =+INDEX(TDATA[#All],,K21) -> - | N21: 18 | S21: - | T21: -
F22: =+HLOOKUP($A$2,TDATA[#All],BDD!$F21+1,FALSE) -> - | G22: =IF(OR(F22="",COUNTIF(F$2:F22,F22)>1),"",COUNTIF(F:F,">="&F22)) | H22: =IF(ROW()-1>COUNT(G:G),"",INDEX(F:F,MATCH(LARGE(G:G,ROW()-1),G:G,0))) | L22: =+INDEX(TDATA[#All],,K22) -> - | N22: 19 | S22: - | T22: -
F23: =+HLOOKUP($A$2,TDATA[#All],BDD!$F22+1,FALSE) -> - | G23: =IF(OR(F23="",COUNTIF(F$2:F23,F23)>1),"",COUNTIF(F:F,">="&F23)) | H23: =IF(ROW()-1>COUNT(G:G),"",INDEX(F:F,MATCH(LARGE(G:G,ROW()-1),G:G,0))) | L23: =+INDEX(TDATA[#All],,K23) -> - | N23: 20 | S23: - | T23: -
F24: =+HLOOKUP($A$2,TDATA[#All],BDD!$F23+1,FALSE) -> - | G24: =IF(OR(F24="",COUNTIF(F$2:F24,F24)>1),"",COUNTIF(F:F,">="&F24)) | H24: =IF(ROW()-1>COUNT(G:G),"",INDEX(F:F,MATCH(LARGE(G:G,ROW()-1),G:G,0))) | L24: =+INDEX(TDATA[#All],,K24) -> - | N24: 21 | S24: - | T24: -
F25: =+HLOOKUP($A$2,TDATA[#All],BDD!$F24+1,FALSE) -> - | G25: =IF(OR(F25="",COUNTIF(F$2:F25,F25)>1),"",COUNTIF(F:F,">="&F25)) | H25: =IF(ROW()-1>COUNT(G:G),"",INDEX(F:F,MATCH(LARGE(G:G,ROW()-1),G:G,0))) | L25: =+INDEX(TDATA[#All],,K25) -> - | N25: 22 | S25: - | T25: -
F26: =+HLOOKUP($A$2,TDATA[#All],BDD!$F25+1,FALSE) -> - | G26: =IF(OR(F26="",COUNTIF(F$2:F26,F26)>1),"",COUNTIF(F:F,">="&F26)) | H26: =IF(ROW()-1>COUNT(G:G),"",INDEX(F:F,MATCH(LARGE(G:G,ROW()-1),G:G,0))) | L26: =+INDEX(TDATA[#All],,K26) -> - | N26: 23 | S26: - | T26: -
F27: =+HLOOKUP($A$2,TDATA[#All],BDD!$F26+1,FALSE) -> - | G27: =IF(OR(F27="",COUNTIF(F$2:F27,F27)>1),"",COUNTIF(F:F,">="&F27)) | H27: =IF(ROW()-1>COUNT(G:G),"",INDEX(F:F,MATCH(LARGE(G:G,ROW()-1),G:G,0))) | L27: =+INDEX(TDATA[#All],,K27) -> - | N27: 24 | S27: - | T27: -
F28: =+HLOOKUP($A$2,TDATA[#All],BDD!$F27+1,FALSE) -> - | G28: =IF(OR(F28="",COUNTIF(F$2:F28,F28)>1),"",COUNTIF(F:F,">="&F28)) | H28: =IF(ROW()-1>COUNT(G:G),"",INDEX(F:F,MATCH(LARGE(G:G,ROW()-1),G:G,0))) | L28: =+INDEX(TDATA[#All],,K28) -> - | N28: 25 | S28: - | T28: -
... F32: =+HLOOKUP($A$2,TDATA[#All],BDD!$F31+1,FALSE) -> - | G32: =IF(OR(F32="",COUNTIF(F$2:F32,F32)>1),"",COUNTIF(F:F,">="&F32)) | H32: =IF(ROW()-1>COUNT(G:G),"",INDEX(F:F,MATCH(LARGE(G:G,ROW()-1),G:G,0))) | L32: =+INDEX(TDATA[#All],,K32) -> - | N32: 29 | S32: - | T32: -
F33: =+HLOOKUP($A$2,TDATA[#All],BDD!$F32+1,FALSE) -> - | G33: =IF(OR(F33="",COUNTIF(F$2:F33,F33)>1),"",COUNTIF(F:F,">="&F33)) | H33: =IF(ROW()-1>COUNT(G:G),"",INDEX(F:F,MATCH(LARGE(G:G,ROW()-1),G:G,0))) | N33: 30 | S33: - | T33: -
F34: =+HLOOKUP($A$2,TDATA[#All],BDD!$F33+1,FALSE) -> - | G34: =IF(OR(F34="",COUNTIF(F$2:F34,F34)>1),"",COUNTIF(F:F,">="&F34)) | H34: =IF(ROW()-1>COUNT(G:G),"",INDEX(F:F,MATCH(LARGE(G:G,ROW()-1),G:G,0))) | N34: 31 | S34: - | T34: -
F35: =+HLOOKUP($A$2,TDATA[#All],BDD!$F34+1,FALSE) -> - | G35: =IF(OR(F35="",COUNTIF(F$2:F35,F35)>1),"",COUNTIF(F:F,">="&F35)) | H35: =IF(ROW()-1>COUNT(G:G),"",INDEX(F:F,MATCH(LARGE(G:G,ROW()-1),G:G,0))) | N35: 32 | S35: - | T35: -
F36: =+HLOOKUP($A$2,TDATA[#All],BDD!$F35+1,FALSE) -> - | G36: =IF(OR(F36="",COUNTIF(F$2:F36,F36)>1),"",COUNTIF(F:F,">="&F36)) | H36: =IF(ROW()-1>COUNT(G:G),"",INDEX(F:F,MATCH(LARGE(G:G,ROW()-1),G:G,0))) | N36: 33 | S36: - | T36: -
F37: =+HLOOKUP($A$2,TDATA[#All],BDD!$F36+1,FALSE) -> - | G37: =IF(OR(F37="",COUNTIF(F$2:F37,F37)>1),"",COUNTIF(F:F,">="&F37)) | H37: =IF(ROW()-1>COUNT(G:G),"",INDEX(F:F,MATCH(LARGE(G:G,ROW()-1),G:G,0))) | N37: 34 | S37: - | T37: -
F38: =+HLOOKUP($A$2,TDATA[#All],BDD!$F37+1,FALSE) -> - | G38: =IF(OR(F38="",COUNTIF(F$2:F38,F38)>1),"",COUNTIF(F:F,">="&F38)) | H38: =IF(ROW()-1>COUNT(G:G),"",INDEX(F:F,MATCH(LARGE(G:G,ROW()-1),G:G,0))) | N38: 35 | S38: - | T38: -
F39: =+HLOOKUP($A$2,TDATA[#All],BDD!$F38+1,FALSE) -> - | G39: =IF(OR(F39="",COUNTIF(F$2:F39,F39)>1),"",COUNTIF(F:F,">="&F39)) | H39: =IF(ROW()-1>COUNT(G:G),"",INDEX(F:F,MATCH(LARGE(G:G,ROW()-1),G:G,0))) | N39: 36 | S39: - | T39: -
F40: =+HLOOKUP($A$2,TDATA[#All],BDD!$F39+1,FALSE) -> - | G40: =IF(OR(F40="",COUNTIF(F$2:F40,F40)>1),"",COUNTIF(F:F,">="&F40)) | H40: =IF(ROW()-1>COUNT(G:G),"",INDEX(F:F,MATCH(LARGE(G:G,ROW()-1),G:G,0))) | N40: 37 | S40: - | T40: -
F41: =+HLOOKUP($A$2,TDATA[#All],BDD!$F40+1,FALSE) -> - | G41: =IF(OR(F41="",COUNTIF(F$2:F41,F41)>1),"",COUNTIF(F:F,">="&F41)) | H41: =IF(ROW()-1>COUNT(G:G),"",INDEX(F:F,MATCH(LARGE(G:G,ROW()-1),G:G,0))) | N41: 38 | S41: - | T41: -
F42: =+HLOOKUP($A$2,TDATA[#All],BDD!$F41+1,FALSE) -> - | G42: =IF(OR(F42="",COUNTIF(F$2:F42,F42)>1),"",COUNTIF(F:F,">="&F42)) | H42: =IF(ROW()-1>COUNT(G:G),"",INDEX(F:F,MATCH(LARGE(G:G,ROW()-1),G:G,0))) | N42: 39 | S42: - | T42: -
F43: =+HLOOKUP($A$2,TDATA[#All],BDD!$F42+1,FALSE) -> - | G43: =IF(OR(F43="",COUNTIF(F$2:F43,F43)>1),"",COUNTIF(F:F,">="&F43)) | H43: =IF(ROW()-1>COUNT(G:G),"",INDEX(F:F,MATCH(LARGE(G:G,ROW()-1),G:G,0))) | N43: 40 | S43: - | T43: -
F44: =+HLOOKUP($A$2,TDATA[#All],BDD!$F43+1,FALSE) -> - | G44: =IF(OR(F44="",COUNTIF(F$2:F44,F44)>1),"",COUNTIF(F:F,">="&F44)) | H44: =IF(ROW()-1>COUNT(G:G),"",INDEX(F:F,MATCH(LARGE(G:G,ROW()-1),G:G,0))) | N44: 41 | S44: - | T44: -
... F101: =+HLOOKUP($A$2,TDATA[#All],BDD!$F100+1,FALSE) -> - | G101: =IF(OR(F101="",COUNTIF(F$2:F101,F101)>1),"",COUNTIF(F:F,">="&F101)) | H101: =IF(ROW()-1>COUNT(G:G),"",INDEX(F:F,MATCH(LARGE(G:G,ROW()-1),G:G,0))) | N101: 98 | S101: - | T101: -
F102: =+HLOOKUP($A$2,TDATA[#All],BDD!$F101+1,FALSE) -> - | G102: =IF(OR(F102="",COUNTIF(F$2:F102,F102)>1),"",COUNTIF(F:F,">="&F102)) | H102: =IF(ROW()-1>COUNT(G:G),"",INDEX(F:F,MATCH(LARGE(G:G,ROW()-1),G:G,0))) | N102: 99
