Workbook
Name Matricule: base!$A$1:$A$24
Name Montant: base!$F:$F
Name Rubrique: base!$E:$E
Name Tableau: base!$A$2:$F$38

Sheet base
A1: ="Matricule" -> Matricule | B1: ="Nom" -> Nom | C1: ="Prénom" -> Prénom | D1: ="Code Rubrique" -> Code Rubrique | E1: ="Intitulé Rubrique" -> Intitulé Rubrique | F1: ="Montant salarial" -> Montant salarial
A2: 270 | B2: Durand | C2: ="PATRICK" -> PATRICK | D2: 1 | E2: ="Catégorie = cadre" -> Catégorie = cadre | F2: -12
A3: =270 -> 270 | B3: Durand | C3: ="PATRICK" -> PATRICK | D3: 2 | E3: ="Heures travaillées Cadres" -> Heures travaillées Cadres | F3: -1820.04
A4: =270 -> 270 | B4: Durand | C4: ="PATRICK" -> PATRICK | D4: 3 | E4: ="Heures société" -> Heures société | F4: -1820.04
A5: =270 -> 270 | B5: Durand | C5: ="PATRICK" -> PATRICK | D5: 11 | E5: ="Salaire de base points" -> Salaire de base points | F5: 35776
A6: =270 -> 270 | B6: Durand | C6: ="PATRICK" -> PATRICK | D6: 47 | E6: ="Indemnité astreinte" -> Indemnité astreinte | F6: 8720.4
A7: =270 -> 270 | B7: Durand | C7: ="PATRICK" -> PATRICK | D7: 51 | E7: ="Indemnités sujétion particul." -> Indemnités sujétion particul. | F7: 6260.8
A8: =270 -> 270 | B8: Durand | C8: ="PATRICK" -> PATRICK | D8: 1360 | E8: ="Régul. +/-" -> Régul. +/- | F8: 282
A9: =270 -> 270 | B9: Durand | C9: ="PATRICK" -> PATRICK | D9: 1880 | E9: ="Absence Congés payés" -> Absence Congés payés | F9: -4880.43
A10: =270 -> 270 | B10: Durand | C10: ="PATRICK" -> PATRICK | D10: 1895 | E10: ="Rappel (chgt valeur point)" -> Rappel (chgt valeur point) | F10: 181.6
A11: =270 -> 270 | B11: Durand | C11: ="PATRICK" -> PATRICK | D11: 1900 | E11: ="Indemnité de congés payés" -> Indemnité de congés payés | F11: 4919.99
A12: =270 -> 270 | B12: Durand | C12: ="PATRICK" -> PATRICK | D12: 2100 | E12: ="URSSAF Maladie vieil. veuvage" -> URSSAF Maladie vieil. veuvage | F12: 435.72
A13: =398 -> 398 | B13: Dupond | C13: ="CHRISTELLE" -> CHRISTELLE | D13: 1 | E13: ="Catégorie = cadre" -> Catégorie = cadre | F13: -11
A14: =398 -> 398 | B14: Dupond | C14: ="CHRISTELLE" -> CHRISTELLE | D14: 3 | E14: ="Heures société" -> Heures société | F14: -1668.37
A15: =398 -> 398 | B15: Dupond | C15: ="CHRISTELLE" -> CHRISTELLE | D15: 5210 | E15: ="Mutuelle Prévadiès" -> Mutuelle Prévadiès | F15: 288.97
A16: =398 -> 398 | B16: Dupond | C16: ="CHRISTELLE" -> CHRISTELLE | D16: 7000 | E16: ="C.S.G. non déductible" -> C.S.G. non déductible | F16: 3.08
A17: =398 -> 398 | B17: Dupond | C17: ="CHRISTELLE" -> CHRISTELLE | D17: 7010 | E17: ="C.R.D.S." -> C.R.D.S. | F17: 0.66
A18: =398 -> 398 | B18: Dupond | C18: ="CHRISTELLE" -> CHRISTELLE | D18: 7100 | E18: ="C.S.G Déductible" -> C.S.G Déductible | F18: 6.49
A19: =398 -> 398 | B19: Dupond | C19: ="CHRISTELLE" -> CHRISTELLE | D19: 8302 | E19: ="Régul net imposable mutuelle" -> Régul net imposable mutuelle | F19: -105.08
A20: =398 -> 398 | B20: Dupond | C20: ="CHRISTELLE" -> CHRISTELLE | D20: ="PRESENCE" -> PRESENCE | E20: ="Présence" -> Présence | F20: 0
A21: =398 -> 398 | B21: Dupond | C21: ="CHRISTELLE" -> CHRISTELLE | D21: ="BRUT" -> BRUT | E21: ="Brut" -> Brut | F21: 0
A22: =404 -> 404 | B22: Le Gall | C22: ="JOSEPH" -> JOSEPH | D22: 1 | E22: ="Catégorie = cadre" -> Catégorie = cadre | F22: -12
A23: =404 -> 404 | B23: Le Gall | C23: ="JOSEPH" -> JOSEPH | D23: 47 | E23: ="Indemnité astreinte" -> Indemnité astreinte | F23: 1000

Sheet résultat
A1: ="Matricule" -> Matricule | B1: ="Nom" -> Nom | C1: ="Prénom" -> Prénom | D1: catégorie = cadre | E1: ="Catégorie = cadre" -> Catégorie = cadre | F1: ="Heures travaillées Cadres" -> Heures travaillées Cadres | G1: ="Heures société" -> Heures société | H1: ="Salaire de base points" -> Salaire de base points | I1: ="Indemnité astreinte" -> Indemnité astreinte | J1: ="Indemnités sujétion particul." -> Indemnités sujétion particul. | K1: ="Régul. +/-" -> Régul. +/- | L1: ="Indemnité de congés payés" -> Indemnité de congés payés | M1: Etc…
A2: =SMALL(Matricule,1) -> 270 | B2: =IF($A2="","",VLOOKUP($A2,base!$A$2:$F$28,COLUMN(),FALSE)) -> Durand | C2: =IF($A2="","",VLOOKUP($A2,base!$A$2:$F$28,COLUMN(),FALSE)) -> PATRICK | D2: =IF($A2="","",VLOOKUP($A2,base!$A$2:$F$28,COLUMN(),FALSE)) -> 1 | E2: =IF(SUMPRODUCT((Matricule=$A2)*(Rubrique=E$1))=0,"",SUMPRODUCT((Matricule=$A2)*(Rubrique=E$1),Montant)) -> #N/A | F2: =IF(SUMPRODUCT((Matricule=$A2)*(Rubrique=F$1))=0,"",SUMPRODUCT((Matricule=$A2)*(Rubrique=F$1),Montant)) -> #N/A | G2: =IF(SUMPRODUCT((Matricule=$A2)*(Rubrique=G$1))=0,"",SUMPRODUCT((Matricule=$A2)*(Rubrique=G$1),Montant)) -> #N/A | H2: =IF(SUMPRODUCT((Matricule=$A2)*(Rubrique=H$1))=0,"",SUMPRODUCT((Matricule=$A2)*(Rubrique=H$1),Montant)) -> #N/A | I2: =IF(SUMPRODUCT((Matricule=$A2)*(Rubrique=I$1))=0,"",SUMPRODUCT((Matricule=$A2)*(Rubrique=I$1),Montant)) -> #N/A | J2: =IF(SUMPRODUCT((Matricule=$A2)*(Rubrique=J$1))=0,"",SUMPRODUCT((Matricule=$A2)*(Rubrique=J$1),Montant)) -> #N/A | K2: =IF(SUMPRODUCT((Matricule=$A2)*(Rubrique=K$1))=0,"",SUMPRODUCT((Matricule=$A2)*(Rubrique=K$1),Montant)) -> #N/A | L2: =IF(SUMPRODUCT((Matricule=$A2)*(Rubrique=L$1))=0,"",SUMPRODUCT((Matricule=$A2)*(Rubrique=L$1),Montant)) -> #N/A | M2: Etc…
A3: =IF(COUNTIF(Matricule,">"&A2)=0,"",SMALL(IF((Matricule>A2),Matricule),1)) -> 0 | B3: =IF($A3="","",VLOOKUP($A3,base!$A$2:$F$28,COLUMN(),FALSE)) -> #N/A | C3: =IF($A3="","",VLOOKUP($A3,base!$A$2:$F$28,COLUMN(),FALSE)) -> #N/A | D3: =IF($A3="","",VLOOKUP($A3,base!$A$2:$F$28,COLUMN(),FALSE)) -> #N/A | E3: =IF(SUMPRODUCT((Matricule=$A3)*(Rubrique=E$1))=0,"",SUMPRODUCT((Matricule=$A3)*(Rubrique=E$1),Montant)) -> #N/A | F3: =IF(SUMPRODUCT((Matricule=$A3)*(Rubrique=F$1))=0,"",SUMPRODUCT((Matricule=$A3)*(Rubrique=F$1),Montant)) -> #N/A | G3: =IF(SUMPRODUCT((Matricule=$A3)*(Rubrique=G$1))=0,"",SUMPRODUCT((Matricule=$A3)*(Rubrique=G$1),Montant)) -> #N/A | H3: =IF(SUMPRODUCT((Matricule=$A3)*(Rubrique=H$1))=0,"",SUMPRODUCT((Matricule=$A3)*(Rubrique=H$1),Montant)) -> #N/A | I3: =IF(SUMPRODUCT((Matricule=$A3)*(Rubrique=I$1))=0,"",SUMPRODUCT((Matricule=$A3)*(Rubrique=I$1),Montant)) -> #N/A | J3: =IF(SUMPRODUCT((Matricule=$A3)*(Rubrique=J$1))=0,"",SUMPRODUCT((Matricule=$A3)*(Rubrique=J$1),Montant)) -> #N/A | K3: =IF(SUMPRODUCT((Matricule=$A3)*(Rubrique=K$1))=0,"",SUMPRODUCT((Matricule=$A3)*(Rubrique=K$1),Montant)) -> #N/A | L3: =IF(SUMPRODUCT((Matricule=$A3)*(Rubrique=L$1))=0,"",SUMPRODUCT((Matricule=$A3)*(Rubrique=L$1),Montant)) -> #N/A | M3: Etc…
A4: =IF(COUNTIF(Matricule,">"&A3)=0,"",SMALL(IF((Matricule>A3),Matricule),1)) -> 270 | B4: =IF($A4="","",VLOOKUP($A4,base!$A$2:$F$28,COLUMN(),FALSE)) -> Durand | C4: =IF($A4="","",VLOOKUP($A4,base!$A$2:$F$28,COLUMN(),FALSE)) -> PATRICK | D4: =IF($A4="","",VLOOKUP($A4,base!$A$2:$F$28,COLUMN(),FALSE)) -> 1 | E4: =IF(SUMPRODUCT((Matricule=$A4)*(Rubrique=E$1))=0,"",SUMPRODUCT((Matricule=$A4)*(Rubrique=E$1),Montant)) -> #N/A | F4: =IF(SUMPRODUCT((Matricule=$A4)*(Rubrique=F$1))=0,"",SUMPRODUCT((Matricule=$A4)*(Rubrique=F$1),Montant)) -> #N/A | G4: =IF(SUMPRODUCT((Matricule=$A4)*(Rubrique=G$1))=0,"",SUMPRODUCT((Matricule=$A4)*(Rubrique=G$1),Montant)) -> #N/A | H4: =IF(SUMPRODUCT((Matricule=$A4)*(Rubrique=H$1))=0,"",SUMPRODUCT((Matricule=$A4)*(Rubrique=H$1),Montant)) -> #N/A | I4: =IF(SUMPRODUCT((Matricule=$A4)*(Rubrique=I$1))=0,"",SUMPRODUCT((Matricule=$A4)*(Rubrique=I$1),Montant)) -> #N/A | J4: =IF(SUMPRODUCT((Matricule=$A4)*(Rubrique=J$1))=0,"",SUMPRODUCT((Matricule=$A4)*(Rubrique=J$1),Montant)) -> #N/A | K4: =IF(SUMPRODUCT((Matricule=$A4)*(Rubrique=K$1))=0,"",SUMPRODUCT((Matricule=$A4)*(Rubrique=K$1),Montant)) -> #N/A | L4: =IF(SUMPRODUCT((Matricule=$A4)*(Rubrique=L$1))=0,"",SUMPRODUCT((Matricule=$A4)*(Rubrique=L$1),Montant)) -> #N/A
A5: =IF(COUNTIF(Matricule,">"&A84)=0,"",SMALL(IF((Matricule>A4),Matricule),1)) | B5: =IF($A5="","",VLOOKUP($A5,base!$A$2:$F$28,COLUMN(),FALSE)) | C5: =IF($A5="","",VLOOKUP($A5,base!$A$2:$F$28,COLUMN(),FALSE)) | D5: =IF($A5="","",VLOOKUP($A5,base!$A$2:$F$28,COLUMN(),FALSE))
A6: =IF(COUNTIF(Matricule,">"&A85)=0,"",SMALL(IF((Matricule>A5),Matricule),1)) | B6: =IF($A6="","",VLOOKUP($A6,base!$A$2:$F$28,COLUMN(),FALSE)) | C6: =IF($A6="","",VLOOKUP($A6,base!$A$2:$F$28,COLUMN(),FALSE)) | D6: =IF($A6="","",VLOOKUP($A6,base!$A$2:$F$28,COLUMN(),FALSE))
A7: =IF(COUNTIF(Matricule,">"&A86)=0,"",SMALL(IF((Matricule>A6),Matricule),1))
A8: =IF(COUNTIF(Matricule,">"&A87)=0,"",SMALL(IF((Matricule>A7),Matricule),1))
A9: =IF(COUNTIF(Matricule,">"&A88)=0,"",SMALL(IF((Matricule>A8),Matricule),1))
A10: =IF(COUNTIF(Matricule,">"&A89)=0,"",SMALL(IF((Matricule>A9),Matricule),1))

Sheet Feuil3
