Workbook

Sheet QUART
H1: TABLEAU DE QUART | AB1: Mois | AE1: 43132
Q3: ="Sémaine du "&TEXT(AE1,"jj/mm")&" au "&TEXT(C5+6,"jj/mm aaaa") -> Sémaine du 01/02 au 04/02 2018
C5: =AE1-WEEKDAY(AE1,2)+1 -> 43129 | H5: =C5+1 -> 43130 | M5: =H5+1 -> 43131 | R5: =M5+1 -> 43132 | W5: =R5+1 -> 43133 | AB5: =W5+1 -> 43134 | AG5: =AB5+1 -> 43135
B6: H.dédut | C6: =TOV!A2 -> 0 | D6: =TOV!B2 -> 0.25 | E6: =TOV!C2 -> 0.54166667 | F6: =TOV!D2 -> 0.75 | G6: =TOV!E2 -> 0.83333333 | H6: =C6 -> 0 | I6: =D6 -> 0.25 | J6: =E6 -> 0.54166667 | K6: =F6 -> 0.75 | L6: =G6 -> 0.83333333 | M6: =H6 -> 0 | N6: =I6 -> 0.25 | O6: =J6 -> 0.54166667 | ... AK6: =AF6 -> 0.83333333
B7: H.fin | C7: =TOV!A3 -> 0.25 | D7: =TOV!B3 -> 0.54166667 | E7: =TOV!C3 -> 0.75 | F7: =TOV!D3 -> 0.83333333 | G7: =TOV!E3 -> 1 | H7: =C7 -> 0.25 | I7: =D7 -> 0.54166667 | J7: =E7 -> 0.75 | K7: =F7 -> 0.83333333 | L7: =G7 -> 1 | M7: =H7 -> 0.25 | N7: =I7 -> 0.54166667 | O7: =J7 -> 0.75 | ... AK7: =AF7 -> 1
B8: Agemt1 | D8: X | I8: =IF(E8="X","X","") | J8: =IF(D8="X","",IF(I8="X", "", "X")) | N8: =IF(J8="X","X","") | O8: =IF(I8="X","",IF(N8="X", "", "X")) -> X | S8: =IF(O8="X","X","") -> X | T8: =IF(N8="X","",IF(S8="X", "", "X")) | X8: =IF(T8="X","X","") | Y8: =IF(S8="X","",IF(X8="X", "", "X")) | AC8: =IF(Y8="X","X","") | AD8: =IF(X8="X","",IF(AC8="X", "", "X")) -> X | AH8: =IF(AD8="X","X","") -> X | AI8: =IF(AC8="X","",IF(AH8="X", "", "X"))
B9: Agemt2 | E9: X | I9: =IF(E9="X","X","") -> X | J9: =IF(D9="X","",IF(I9="X", "", "X")) | N9: =IF(J9="X","X","") | O9: =IF(I9="X","",IF(N9="X", "", "X")) | S9: =IF(O9="X","X","") | T9: =IF(N9="X","",IF(S9="X", "", "X")) -> X | X9: =IF(T9="X","X","") -> X | Y9: =IF(S9="X","",IF(X9="X", "", "X")) | AC9: =IF(Y9="X","X","") | AD9: =IF(X9="X","",IF(AC9="X", "", "X")) | AH9: =IF(AD9="X","X","") | AI9: =IF(AC9="X","",IF(AH9="X", "", "X")) -> X
B10: Agemt3 | I10: =IF(E10="X","X","") | J10: =IF(D10="X","",IF(I10="X", "", "X")) -> X | N10: =IF(J10="X","X","") -> X | O10: =IF(I10="X","",IF(N10="X", "", "X")) | S10: =IF(O10="X","X","") | T10: =IF(N10="X","",IF(S10="X", "", "X")) | X10: =IF(T10="X","X","") | Y10: =IF(S10="X","",IF(X10="X", "", "X")) -> X | AC10: =IF(Y10="X","X","") -> X | AD10: =IF(X10="X","",IF(AC10="X", "", "X")) | AH10: =IF(AD10="X","X","") | AI10: =IF(AC10="X","",IF(AH10="X", "", "X"))
B11: Agemt4 | D11: X | I11: =IF(E11="X","X","") | J11: =IF(D11="X","",IF(I11="X", "", "X")) | N11: =IF(J11="X","X","") | O11: =IF(I11="X","",IF(N11="X", "", "X")) -> X | S11: =IF(O11="X","X","") -> X | T11: =IF(N11="X","",IF(S11="X", "", "X")) | X11: =IF(T11="X","X","") | Y11: =IF(S11="X","",IF(X11="X", "", "X")) | AC11: =IF(Y11="X","X","") | AD11: =IF(X11="X","",IF(AC11="X", "", "X")) -> X | AH11: =IF(AD11="X","X","") -> X | AI11: =IF(AC11="X","",IF(AH11="X", "", "X"))
B12: Agemt5 | E12: X | I12: =IF(E12="X","X","") -> X | J12: =IF(D12="X","",IF(I12="X", "", "X")) | N12: =IF(J12="X","X","") | O12: =IF(I12="X","",IF(N12="X", "", "X")) | S12: =IF(O12="X","X","") | T12: =IF(N12="X","",IF(S12="X", "", "X")) -> X | X12: =IF(T12="X","X","") -> X | Y12: =IF(S12="X","",IF(X12="X", "", "X")) | AC12: =IF(Y12="X","X","") | AD12: =IF(X12="X","",IF(AC12="X", "", "X")) | AH12: =IF(AD12="X","X","") | AI12: =IF(AC12="X","",IF(AH12="X", "", "X")) -> X
B13: Agemt6 | I13: =IF(E13="X","X","") | J13: =IF(D13="X","",IF(I13="X", "", "X")) -> X | N13: =IF(J13="X","X","") -> X | O13: =IF(I13="X","",IF(N13="X", "", "X")) | S13: =IF(O13="X","X","") | T13: =IF(N13="X","",IF(S13="X", "", "X")) | X13: =IF(T13="X","X","") | Y13: =IF(S13="X","",IF(X13="X", "", "X")) -> X | AC13: =IF(Y13="X","X","") -> X | AD13: =IF(X13="X","",IF(AC13="X", "", "X")) | AH13: =IF(AD13="X","X","") | AI13: =IF(AC13="X","",IF(AH13="X", "", "X"))
C16: ="Sémaine du "&TEXT(C18,"jj/mm")&" au "&TEXT(C18+6,"jj/mm aaaa") -> Sémaine du 05/02 au 11/02 2018
C18: =C5+7 -> 43136 | H18: =C18+1 -> 43137 | M18: =H18+1 -> 43138 | R18: =M18+1 -> 43139 | W18: =R18+1 -> 43140 | AB18: =W18+1 -> 43141 | AG18: =AB18+1 -> 43142
B19: H.dédut | C19: 0 | D19: 0.25 | E19: 0.54166667 | F19: 0.75 | G19: 0.83333333 | H19: 0 | I19: 0.25 | J19: 0.54166667 | K19: 0.75 | L19: 0.83333333 | M19: 0 | N19: 0.25 | O19: 0.54166667 | P19: 0.75 | Q19: 0.83333333 | R19: 0 | S19: 0.25 | T19: 0.54166667 | U19: 0.75 | V19: 0.83333333 | W19: 0 | X19: 0.25 | Y19: 0.54166667 | Z19: 0.75 | AA19: 0.83333333 | AB19: 0 | AC19: 0.25 | AD19: 0.54166667 | AE19: 0.75 | AF19: 0.83333333 | AG19: 0 | AH19: 0.25 | AI19: 0.54166667 | AJ19: 0.75 | AK19: 0.83333333
B20: H.fin | C20: 0.25 | D20: 0.54166667 | E20: 0.75 | F20: 0.83333333 | G20: 1 | H20: 0.25 | I20: 0.54166667 | J20: 0.75 | K20: 0.83333333 | L20: 1 | M20: 0.25 | N20: 0.54166667 | O20: 0.75 | P20: 0.83333333 | Q20: 1 | R20: 0.25 | S20: 0.54166667 | T20: 0.75 | U20: 0.83333333 | V20: 1 | W20: 0.25 | X20: 0.54166667 | Y20: 0.75 | Z20: 0.83333333 | AA20: 1 | AB20: 0.25 | AC20: 0.54166667 | AD20: 0.75 | AE20: 0.83333333 | AF20: 1 | AG20: 0.25 | AH20: 0.54166667 | AI20: 0.75 | AJ20: 0.83333333 | AK20: 1
B21: =B8 -> Agemt1 | D21: =IF(AI8="X","X","") | E21: =IF(AH8="X","",IF(D21="X", "", "X")) | I21: =IF(E21="X","X","") | J21: =IF(D21="X","",IF(I21="X", "", "X")) -> X | N21: =IF(J21="X","X","") -> X | O21: =IF(I21="X","",IF(N21="X", "", "X")) | S21: =IF(O21="X","X","") | T21: =IF(N21="X","",IF(S21="X", "", "X")) | X21: =IF(T21="X","X","") | Y21: =IF(S21="X","",IF(X21="X", "", "X")) -> X | AC21: =IF(Y21="X","X","") -> X | AD21: =IF(X21="X","",IF(AC21="X", "", "X")) | AH21: =IF(AD21="X","X","") | AI21: =IF(AC21="X","",IF(AH21="X", "", "X"))
B22: =B9 -> Agemt2 | D22: =IF(AI9="X","X","") -> X | E22: =IF(AH9="X","",IF(D22="X", "", "X")) | I22: =IF(E22="X","X","") | J22: =IF(D22="X","",IF(I22="X", "", "X")) | N22: =IF(J22="X","X","") | O22: =IF(I22="X","",IF(N22="X", "", "X")) -> X | S22: =IF(O22="X","X","") -> X | T22: =IF(N22="X","",IF(S22="X", "", "X")) | X22: =IF(T22="X","X","") | Y22: =IF(S22="X","",IF(X22="X", "", "X")) | AC22: =IF(Y22="X","X","") | AD22: =IF(X22="X","",IF(AC22="X", "", "X")) -> X | AH22: =IF(AD22="X","X","") -> X | AI22: =IF(AC22="X","",IF(AH22="X", "", "X"))
B23: =B10 -> Agemt3 | D23: =IF(AI10="X","X","") | E23: =IF(AH10="X","",IF(D23="X", "", "X")) -> X | I23: =IF(E23="X","X","") -> X | J23: =IF(D23="X","",IF(I23="X", "", "X")) | N23: =IF(J23="X","X","") | O23: =IF(I23="X","",IF(N23="X", "", "X")) | S23: =IF(O23="X","X","") | T23: =IF(N23="X","",IF(S23="X", "", "X")) -> X | X23: =IF(T23="X","X","") -> X | Y23: =IF(S23="X","",IF(X23="X", "", "X")) | AC23: =IF(Y23="X","X","") | AD23: =IF(X23="X","",IF(AC23="X", "", "X")) | AH23: =IF(AD23="X","X","") | AI23: =IF(AC23="X","",IF(AH23="X", "", "X")) -> X
B24: =B11 -> Agemt4 | D24: =IF(AI11="X","X","") | E24: =IF(AH11="X","",IF(D24="X", "", "X")) | I24: =IF(E24="X","X","") | J24: =IF(D24="X","",IF(I24="X", "", "X")) -> X | N24: =IF(J24="X","X","") -> X | O24: =IF(I24="X","",IF(N24="X", "", "X")) | S24: =IF(O24="X","X","") | T24: =IF(N24="X","",IF(S24="X", "", "X")) | X24: =IF(T24="X","X","") | Y24: =IF(S24="X","",IF(X24="X", "", "X")) -> X | AC24: =IF(Y24="X","X","") -> X | AD24: =IF(X24="X","",IF(AC24="X", "", "X")) | AH24: =IF(AD24="X","X","") | AI24: =IF(AC24="X","",IF(AH24="X", "", "X"))
B25: =B12 -> Agemt5 | D25: =IF(AI12="X","X","") -> X | E25: =IF(AH12="X","",IF(D25="X", "", "X")) | I25: =IF(E25="X","X","") | J25: =IF(D25="X","",IF(I25="X", "", "X")) | N25: =IF(J25="X","X","") | O25: =IF(I25="X","",IF(N25="X", "", "X")) -> X | S25: =IF(O25="X","X","") -> X | T25: =IF(N25="X","",IF(S25="X", "", "X")) | X25: =IF(T25="X","X","") | Y25: =IF(S25="X","",IF(X25="X", "", "X")) | AC25: =IF(Y25="X","X","") | AD25: =IF(X25="X","",IF(AC25="X", "", "X")) -> X | AH25: =IF(AD25="X","X","") -> X | AI25: =IF(AC25="X","",IF(AH25="X", "", "X"))
B26: =B13 -> Agemt6 | D26: =IF(AI13="X","X","") | E26: =IF(AH13="X","",IF(D26="X", "", "X")) -> X | I26: =IF(E26="X","X","") -> X | J26: =IF(D26="X","",IF(I26="X", "", "X")) | N26: =IF(J26="X","X","") | O26: =IF(I26="X","",IF(N26="X", "", "X")) | S26: =IF(O26="X","X","") | T26: =IF(N26="X","",IF(S26="X", "", "X")) -> X | X26: =IF(T26="X","X","") -> X | Y26: =IF(S26="X","",IF(X26="X", "", "X")) | AC26: =IF(Y26="X","X","") | AD26: =IF(X26="X","",IF(AC26="X", "", "X")) | AH26: =IF(AD26="X","X","") | AI26: =IF(AC26="X","",IF(AH26="X", "", "X")) -> X
C31: =C18+7 -> 43143 | H31: =C31+1 -> 43144 | M31: =H31+1 -> 43145 | R31: =M31+1 -> 43146 | W31: =R31+1 -> 43147 | AB31: =W31+1 -> 43148 | AG31: =AB31+1 -> 43149
B32: H.dédut | C32: 0 | D32: 0.25 | E32: 0.54166667 | F32: 0.75 | G32: 0.83333333 | H32: 0 | I32: 0.25 | J32: 0.54166667 | K32: 0.75 | L32: 0.83333333 | M32: 0 | N32: 0.25 | O32: 0.54166667 | P32: 0.75 | Q32: 0.83333333 | R32: 0 | S32: 0.25 | T32: 0.54166667 | U32: 0.75 | V32: 0.83333333 | W32: 0 | X32: 0.25 | Y32: 0.54166667 | Z32: 0.75 | AA32: 0.83333333 | AB32: 0 | AC32: 0.25 | AD32: 0.54166667 | AE32: 0.75 | AF32: 0.83333333 | AG32: 0 | AH32: 0.25 | AI32: 0.54166667 | AJ32: 0.75 | AK32: 0.83333333
B33: H.fin | C33: 0.25 | D33: 0.54166667 | E33: 0.75 | F33: 0.83333333 | G33: 1 | H33: 0.25 | I33: 0.54166667 | J33: 0.75 | K33: 0.83333333 | L33: 1 | M33: 0.25 | N33: 0.54166667 | O33: 0.75 | P33: 0.83333333 | Q33: 1 | R33: 0.25 | S33: 0.54166667 | T33: 0.75 | U33: 0.83333333 | V33: 1 | W33: 0.25 | X33: 0.54166667 | Y33: 0.75 | Z33: 0.83333333 | AA33: 1 | AB33: 0.25 | AC33: 0.54166667 | AD33: 0.75 | AE33: 0.83333333 | AF33: 1 | AG33: 0.25 | AH33: 0.54166667 | AI33: 0.75 | AJ33: 0.83333333 | AK33: 1
B34: =#REF! -> #REF!
B35: =B21 -> Agemt1 | D35: =IF(AI21="X","X","") | E35: =IF(AH21="X","",IF(D35="X", "", "X")) -> X | I35: =IF(E35="X","X","") -> X | J35: =IF(D35="X","",IF(I35="X", "", "X")) | N35: =IF(J35="X","X","") | O35: =IF(I35="X","",IF(N35="X", "", "X")) | S35: =IF(O35="X","X","") | T35: =IF(N35="X","",IF(S35="X", "", "X")) -> X | X35: =IF(T35="X","X","") -> X | Y35: =IF(S35="X","",IF(X35="X", "", "X")) | AC35: =IF(Y35="X","X","") | AD35: =IF(X35="X","",IF(AC35="X", "", "X")) | AH35: =IF(AD35="X","X","") | AI35: =IF(AC35="X","",IF(AH35="X", "", "X")) -> X
B36: =B22 -> Agemt2 | D36: =IF(AI22="X","X","") | E36: =IF(AH22="X","",IF(D36="X", "", "X")) | I36: =IF(E36="X","X","") | J36: =IF(D36="X","",IF(I36="X", "", "X")) -> X | N36: =IF(J36="X","X","") -> X | O36: =IF(I36="X","",IF(N36="X", "", "X")) | S36: =IF(O36="X","X","") | T36: =IF(N36="X","",IF(S36="X", "", "X")) | X36: =IF(T36="X","X","") | Y36: =IF(S36="X","",IF(X36="X", "", "X")) -> X | AC36: =IF(Y36="X","X","") -> X | AD36: =IF(X36="X","",IF(AC36="X", "", "X")) | AH36: =IF(AD36="X","X","") | AI36: =IF(AC36="X","",IF(AH36="X", "", "X"))
B37: =B23 -> Agemt3 | D37: =IF(AI23="X","X","") -> X | E37: =IF(AH23="X","",IF(D37="X", "", "X")) | I37: =IF(E37="X","X","") | J37: =IF(D37="X","",IF(I37="X", "", "X")) | N37: =IF(J37="X","X","") | O37: =IF(I37="X","",IF(N37="X", "", "X")) -> X | S37: =IF(O37="X","X","") -> X | T37: =IF(N37="X","",IF(S37="X", "", "X")) | X37: =IF(T37="X","X","") | Y37: =IF(S37="X","",IF(X37="X", "", "X")) | AC37: =IF(Y37="X","X","") | AD37: =IF(X37="X","",IF(AC37="X", "", "X")) -> X | AH37: =IF(AD37="X","X","") -> X | AI37: =IF(AC37="X","",IF(AH37="X", "", "X"))
B38: =B24 -> Agemt4 | D38: =IF(AI24="X","X","") | E38: =IF(AH24="X","",IF(D38="X", "", "X")) -> X | I38: =IF(E38="X","X","") -> X | J38: =IF(D38="X","",IF(I38="X", "", "X")) | N38: =IF(J38="X","X","") | O38: =IF(I38="X","",IF(N38="X", "", "X")) | S38: =IF(O38="X","X","") | T38: =IF(N38="X","",IF(S38="X", "", "X")) -> X | X38: =IF(T38="X","X","") -> X | Y38: =IF(S38="X","",IF(X38="X", "", "X")) | AC38: =IF(Y38="X","X","") | AD38: =IF(X38="X","",IF(AC38="X", "", "X")) | AH38: =IF(AD38="X","X","") | AI38: =IF(AC38="X","",IF(AH38="X", "", "X")) -> X
B39: =B25 -> Agemt5 | D39: =IF(AI25="X","X","") | E39: =IF(AH25="X","",IF(D39="X", "", "X")) | I39: =IF(E39="X","X","") | J39: =IF(D39="X","",IF(I39="X", "", "X")) -> X | N39: =IF(J39="X","X","") -> X | O39: =IF(I39="X","",IF(N39="X", "", "X")) | S39: =IF(O39="X","X","") | T39: =IF(N39="X","",IF(S39="X", "", "X")) | X39: =IF(T39="X","X","") | Y39: =IF(S39="X","",IF(X39="X", "", "X")) -> X | AC39: =IF(Y39="X","X","") -> X | AD39: =IF(X39="X","",IF(AC39="X", "", "X")) | AH39: =IF(AD39="X","X","") | AI39: =IF(AC39="X","",IF(AH39="X", "", "X"))
B40: =B26 -> Agemt6 | D40: =IF(AI26="X","X","") -> X | E40: =IF(AH26="X","",IF(D40="X", "", "X")) | I40: =IF(E40="X","X","") | J40: =IF(D40="X","",IF(I40="X", "", "X")) | N40: =IF(J40="X","X","") | O40: =IF(I40="X","",IF(N40="X", "", "X")) -> X | S40: =IF(O40="X","X","") -> X | T40: =IF(N40="X","",IF(S40="X", "", "X")) | X40: =IF(T40="X","X","") | Y40: =IF(S40="X","",IF(X40="X", "", "X")) | AC40: =IF(Y40="X","X","") | AD40: =IF(X40="X","",IF(AC40="X", "", "X")) -> X | AH40: =IF(AD40="X","X","") -> X | AI40: =IF(AC40="X","",IF(AH40="X", "", "X"))
C43: ="Sémaine du "&TEXT(C45,"jj/mm")&" au "&TEXT(C45+6,"jj/mm aaaa") -> Sémaine du 19/02 au 25/02 2018
C45: =C31+7 -> 43150 | H45: =C45+1 -> 43151 | M45: =H45+1 -> 43152 | R45: =M45+1 -> 43153 | W45: =R45+1 -> 43154 | AB45: =W45+1 -> 43155 | AG45: =AB45+1 -> 43156
B46: H.dédut | C46: 0 | D46: 0.25 | E46: 0.54166667 | F46: 0.75 | G46: 0.83333333 | H46: 0 | I46: 0.25 | J46: 0.54166667 | K46: 0.75 | L46: 0.83333333 | M46: 0 | N46: 0.25 | O46: 0.54166667 | P46: 0.75 | Q46: 0.83333333 | R46: 0 | S46: 0.25 | T46: 0.54166667 | U46: 0.75 | V46: 0.83333333 | W46: 0 | X46: 0.25 | Y46: 0.54166667 | Z46: 0.75 | AA46: 0.83333333 | AB46: 0 | AC46: 0.25 | AD46: 0.54166667 | AE46: 0.75 | AF46: 0.83333333 | AG46: 0 | AH46: 0.25 | AI46: 0.54166667 | AJ46: 0.75 | AK46: 0.83333333
B47: H.fin | C47: 0.25 | D47: 0.54166667 | E47: 0.75 | F47: 0.83333333 | G47: 1 | H47: 0.25 | I47: 0.54166667 | J47: 0.75 | K47: 0.83333333 | L47: 1 | M47: 0.25 | N47: 0.54166667 | O47: 0.75 | P47: 0.83333333 | Q47: 1 | R47: 0.25 | S47: 0.54166667 | T47: 0.75 | U47: 0.83333333 | V47: 1 | W47: 0.25 | X47: 0.54166667 | Y47: 0.75 | Z47: 0.83333333 | AA47: 1 | AB47: 0.25 | AC47: 0.54166667 | AD47: 0.75 | AE47: 0.83333333 | AF47: 1 | AG47: 0.25 | AH47: 0.54166667 | AI47: 0.75 | AJ47: 0.83333333 | AK47: 1
B48: =B35 -> Agemt1 | D48: =IF(AI35="X","X","") -> X | E48: =IF(AH35="X","",IF(D48="X", "", "X")) | I48: =IF(E48="X","X","") | J48: =IF(D48="X","",IF(I48="X", "", "X")) | N48: =IF(J48="X","X","") | O48: =IF(I48="X","",IF(N48="X", "", "X")) -> X | S48: =IF(O48="X","X","") -> X | T48: =IF(N48="X","",IF(S48="X", "", "X")) | X48: =IF(T48="X","X","") | Y48: =IF(S48="X","",IF(X48="X", "", "X")) | AC48: =IF(Y48="X","X","") | AD48: =IF(X48="X","",IF(AC48="X", "", "X")) -> X | AH48: =IF(AD48="X","X","") -> X | AI48: =IF(AC48="X","",IF(AH48="X", "", "X"))
B49: =B36 -> Agemt2 | D49: =IF(AI36="X","X","") | E49: =IF(AH36="X","",IF(D49="X", "", "X")) -> X | I49: =IF(E49="X","X","") -> X | J49: =IF(D49="X","",IF(I49="X", "", "X")) | N49: =IF(J49="X","X","") | O49: =IF(I49="X","",IF(N49="X", "", "X")) | S49: =IF(O49="X","X","") | T49: =IF(N49="X","",IF(S49="X", "", "X")) -> X | X49: =IF(T49="X","X","") -> X | Y49: =IF(S49="X","",IF(X49="X", "", "X")) | AC49: =IF(Y49="X","X","") | AD49: =IF(X49="X","",IF(AC49="X", "", "X")) | AH49: =IF(AD49="X","X","") | AI49: =IF(AC49="X","",IF(AH49="X", "", "X")) -> X
B50: =B37 -> Agemt3 | D50: =IF(AI37="X","X","") | E50: =IF(AH37="X","",IF(D50="X", "", "X")) | I50: =IF(E50="X","X","") | J50: =IF(D50="X","",IF(I50="X", "", "X")) -> X | N50: =IF(J50="X","X","") -> X | O50: =IF(I50="X","",IF(N50="X", "", "X")) | S50: =IF(O50="X","X","") | T50: =IF(N50="X","",IF(S50="X", "", "X")) | X50: =IF(T50="X","X","") | Y50: =IF(S50="X","",IF(X50="X", "", "X")) -> X | AC50: =IF(Y50="X","X","") -> X | AD50: =IF(X50="X","",IF(AC50="X", "", "X")) | AH50: =IF(AD50="X","X","") | AI50: =IF(AC50="X","",IF(AH50="X", "", "X"))
B51: =B38 -> Agemt4 | D51: =IF(AI38="X","X","") -> X | E51: =IF(AH38="X","",IF(D51="X", "", "X")) | I51: =IF(E51="X","X","") | J51: =IF(D51="X","",IF(I51="X", "", "X")) | N51: =IF(J51="X","X","") | O51: =IF(I51="X","",IF(N51="X", "", "X")) -> X | S51: =IF(O51="X","X","") -> X | T51: =IF(N51="X","",IF(S51="X", "", "X")) | X51: =IF(T51="X","X","") | Y51: =IF(S51="X","",IF(X51="X", "", "X")) | AC51: =IF(Y51="X","X","") | AD51: =IF(X51="X","",IF(AC51="X", "", "X")) -> X | AH51: =IF(AD51="X","X","") -> X | AI51: =IF(AC51="X","",IF(AH51="X", "", "X"))
B52: =B39 -> Agemt5 | D52: =IF(AI39="X","X","") | E52: =IF(AH39="X","",IF(D52="X", "", "X")) -> X | I52: =IF(E52="X","X","") -> X | J52: =IF(D52="X","",IF(I52="X", "", "X")) | N52: =IF(J52="X","X","") | O52: =IF(I52="X","",IF(N52="X", "", "X")) | S52: =IF(O52="X","X","") | T52: =IF(N52="X","",IF(S52="X", "", "X")) -> X | X52: =IF(T52="X","X","") -> X | Y52: =IF(S52="X","",IF(X52="X", "", "X")) | AC52: =IF(Y52="X","X","") | AD52: =IF(X52="X","",IF(AC52="X", "", "X")) | AH52: =IF(AD52="X","X","") | AI52: =IF(AC52="X","",IF(AH52="X", "", "X")) -> X
B53: =B40 -> Agemt6 | D53: =IF(AI40="X","X","") | E53: =IF(AH40="X","",IF(D53="X", "", "X")) | I53: =IF(E53="X","X","") | J53: =IF(D53="X","",IF(I53="X", "", "X")) -> X | N53: =IF(J53="X","X","") -> X | O53: =IF(I53="X","",IF(N53="X", "", "X")) | S53: =IF(O53="X","X","") | T53: =IF(N53="X","",IF(S53="X", "", "X")) | X53: =IF(T53="X","X","") | Y53: =IF(S53="X","",IF(X53="X", "", "X")) -> X | AC53: =IF(Y53="X","X","") -> X | AD53: =IF(X53="X","",IF(AC53="X", "", "X")) | AH53: =IF(AD53="X","X","") | AI53: =IF(AC53="X","",IF(AH53="X", "", "X"))
C56: ="Sémaine du "&TEXT(C58,"jj/mm")&" au "&TEXT(C58+6,"jj/mm aaaa") -> Sémaine du 26/02 au 04/03 2018
C58: =C45+7 -> 43157 | H58: =C58+1 -> 43158 | M58: =H58+1 -> 43159 | R58: =M58+1 -> 43160 | W58: =R58+1 -> 43161 | AB58: =W58+1 -> 43162 | AG58: =AB58+1 -> 43163
B59: H.dédut | C59: 0 | D59: 0.25 | E59: 0.54166667 | F59: 0.75 | G59: 0.83333333 | H59: 0 | I59: 0.25 | J59: 0.54166667 | K59: 0.75 | L59: 0.83333333 | M59: 0 | N59: 0.25 | O59: 0.54166667 | P59: 0.75 | Q59: 0.83333333 | R59: 0 | S59: 0.25 | T59: 0.54166667 | U59: 0.75 | V59: 0.83333333 | W59: 0 | X59: 0.25 | Y59: 0.54166667 | Z59: 0.75 | AA59: 0.83333333 | AB59: 0 | AC59: 0.25 | AD59: 0.54166667 | AE59: 0.75 | AF59: 0.83333333 | AG59: 0 | AH59: 0.25 | AI59: 0.54166667 | AJ59: 0.75 | AK59: 0.83333333
B60: H.fin | C60: 0.25 | D60: 0.54166667 | E60: 0.75 | F60: 0.83333333 | G60: 1 | H60: 0.25 | I60: 0.54166667 | J60: 0.75 | K60: 0.83333333 | L60: 1 | M60: 0.25 | N60: 0.54166667 | O60: 0.75 | P60: 0.83333333 | Q60: 1 | R60: 0.25 | S60: 0.54166667 | T60: 0.75 | U60: 0.83333333 | V60: 1 | W60: 0.25 | X60: 0.54166667 | Y60: 0.75 | Z60: 0.83333333 | AA60: 1 | AB60: 0.25 | AC60: 0.54166667 | AD60: 0.75 | AE60: 0.83333333 | AF60: 1 | AG60: 0.25 | AH60: 0.54166667 | AI60: 0.75 | AJ60: 0.83333333 | AK60: 1
B61: =B48 -> Agemt1 | D61: =IF(AI48="X","X","") | E61: =IF(AH48="X","",IF(D61="X", "", "X")) | I61: =IF(E61="X","X","") | J61: =IF(D61="X","",IF(I61="X", "", "X")) -> X | N61: =IF(J61="X","X","") -> X | O61: =IF(I61="X","",IF(N61="X", "", "X")) | S61: =IF(O61="X","X","") | T61: =IF(N61="X","",IF(S61="X", "", "X")) | X61: =IF(T61="X","X","") | Y61: =IF(S61="X","",IF(X61="X", "", "X")) -> X | AC61: =IF(Y61="X","X","") -> X | AD61: =IF(X61="X","",IF(AC61="X", "", "X")) | AH61: =IF(AD61="X","X","") | AI61: =IF(AC61="X","",IF(AH61="X", "", "X"))
B62: =B49 -> Agemt2 | D62: =IF(AI49="X","X","") -> X | E62: =IF(AH49="X","",IF(D62="X", "", "X")) | I62: =IF(E62="X","X","") | J62: =IF(D62="X","",IF(I62="X", "", "X")) | N62: =IF(J62="X","X","") | O62: =IF(I62="X","",IF(N62="X", "", "X")) -> X | S62: =IF(O62="X","X","") -> X | T62: =IF(N62="X","",IF(S62="X", "", "X")) | X62: =IF(T62="X","X","") | Y62: =IF(S62="X","",IF(X62="X", "", "X")) | AC62: =IF(Y62="X","X","") | AD62: =IF(X62="X","",IF(AC62="X", "", "X")) -> X | AH62: =IF(AD62="X","X","") -> X | AI62: =IF(AC62="X","",IF(AH62="X", "", "X"))
B63: =B50 -> Agemt3 | D63: =IF(AI50="X","X","") | E63: =IF(AH50="X","",IF(D63="X", "", "X")) -> X | I63: =IF(E63="X","X","") -> X | J63: =IF(D63="X","",IF(I63="X", "", "X")) | N63: =IF(J63="X","X","") | O63: =IF(I63="X","",IF(N63="X", "", "X")) | S63: =IF(O63="X","X","") | T63: =IF(N63="X","",IF(S63="X", "", "X")) -> X | X63: =IF(T63="X","X","") -> X | Y63: =IF(S63="X","",IF(X63="X", "", "X")) | AC63: =IF(Y63="X","X","") | AD63: =IF(X63="X","",IF(AC63="X", "", "X")) | AH63: =IF(AD63="X","X","") | AI63: =IF(AC63="X","",IF(AH63="X", "", "X")) -> X
B64: =B51 -> Agemt4 | D64: =IF(AI51="X","X","") | E64: =IF(AH51="X","",IF(D64="X", "", "X")) | I64: =IF(E64="X","X","") | J64: =IF(D64="X","",IF(I64="X", "", "X")) -> X | N64: =IF(J64="X","X","") -> X | O64: =IF(I64="X","",IF(N64="X", "", "X")) | S64: =IF(O64="X","X","") | T64: =IF(N64="X","",IF(S64="X", "", "X")) | X64: =IF(T64="X","X","") | Y64: =IF(S64="X","",IF(X64="X", "", "X")) -> X | AC64: =IF(Y64="X","X","") -> X | AD64: =IF(X64="X","",IF(AC64="X", "", "X")) | AH64: =IF(AD64="X","X","") | AI64: =IF(AC64="X","",IF(AH64="X", "", "X"))
B65: =B52 -> Agemt5 | D65: =IF(AI52="X","X","") -> X | E65: =IF(AH52="X","",IF(D65="X", "", "X")) | I65: =IF(E65="X","X","") | J65: =IF(D65="X","",IF(I65="X", "", "X")) | N65: =IF(J65="X","X","") | O65: =IF(I65="X","",IF(N65="X", "", "X")) -> X | S65: =IF(O65="X","X","") -> X | T65: =IF(N65="X","",IF(S65="X", "", "X")) | X65: =IF(T65="X","X","") | Y65: =IF(S65="X","",IF(X65="X", "", "X")) | AC65: =IF(Y65="X","X","") | AD65: =IF(X65="X","",IF(AC65="X", "", "X")) -> X | AH65: =IF(AD65="X","X","") -> X | AI65: =IF(AC65="X","",IF(AH65="X", "", "X"))
B66: =B53 -> Agemt6 | D66: =IF(AI53="X","X","") | E66: =IF(AH53="X","",IF(D66="X", "", "X")) -> X | I66: =IF(E66="X","X","") -> X | J66: =IF(D66="X","",IF(I66="X", "", "X")) | N66: =IF(J66="X","X","") | O66: =IF(I66="X","",IF(N66="X", "", "X")) | S66: =IF(O66="X","X","") | T66: =IF(N66="X","",IF(S66="X", "", "X")) -> X | X66: =IF(T66="X","X","") -> X | Y66: =IF(S66="X","",IF(X66="X", "", "X")) | AC66: =IF(Y66="X","X","") | AD66: =IF(X66="X","",IF(AC66="X", "", "X")) | AH66: =IF(AD66="X","X","") | AI66: =IF(AC66="X","",IF(AH66="X", "", "X")) -> X

Sheet HEURES
I1: TABLEAU DECOMPTE DES HEURES
Z2: Mois | AC2: =QUART!AE1 -> 43132
B3: N°matr. | C3: =IFERROR($AC$2+(COLUMN()-3),"") -> 43132 | D3: =IFERROR($AC$2+(COLUMN()-3),"") -> 43133 | E3: =IFERROR($AC$2+(COLUMN()-3),"") -> 43134 | F3: =IFERROR($AC$2+(COLUMN()-3),"") -> 43135 | G3: =IFERROR($AC$2+(COLUMN()-3),"") -> 43136 | H3: =IFERROR($AC$2+(COLUMN()-3),"") -> 43137 | I3: =IFERROR($AC$2+(COLUMN()-3),"") -> 43138 | J3: =IFERROR($AC$2+(COLUMN()-3),"") -> 43139 | ... AD3: =IFERROR($AC$2+(COLUMN()-3),"") -> 43159 | AE3: TOTAL | AF3: H.N | AG3: HS
A4: Jours fériés
A5: CC: CR:
A6: =QUART!B8 -> Agemt1
A7: HTT | AE7: 125
A8: HNN | AE8: =SUM(C8:AD8) -> 0 | AF8: 45
A9: JFHDJ | AE9: =SUM(C9:AD9) -> 0 | AG9: 24
A10: JFHDN | AF10: 30
A11: =QUART!B8 -> Agemt1
A12: HTT | AE12: =SUM(C12:AD12) -> 0
A13: HNN | AE13: =SUM(C13:AD13) -> 0 | AF13: =AE13-AF15 -> 0
A14: JFHDJ | AE14: =SUM(C14:AD14) -> 0 | AG14: =AE14 -> 0
A15: JFHDN | AE15: =SUM(C15:AD15) -> 0 | AF15: =AE15 -> 0
A16: =QUART!B9 -> Agemt2
A17: HTT | AE17: =SUM(C17:AD17) -> 0
A18: HNN | AF18: =AE18-AF20 -> 0
A19: JFHDJ | AE19: =SUM(C19:AD19) -> 0 | AG19: =AE19 -> 0
A20: JFHDN | AE20: =SUM(C20:AD20) -> 0 | AF20: =AE20 -> 0
A21: =QUART!B10 -> Agemt3
A22: HTT | AE22: =SUM(C22:AD22) -> 0
A23: HNN | AE23: =SUM(C23:AD23) -> 0 | AF23: =AE23-AF25 -> 0
A24: JFHDJ | AG24: =AE24 -> 0
A25: JFHDN | AE25: =SUM(C25:AD25) -> 0 | AF25: =AE25 -> 0
A26: =QUART!B11 -> Agemt4
A27: HTT | AE27: =SUM(C27:AD27) -> 0
A28: HNN | AE28: =SUM(C28:AD28) -> 0 | AF28: =AE28-AF30 -> 0
A29: JFHDJ | AE29: =SUM(C29:AD29) -> 0 | AG29: =AE29 -> 0
A30: JFHDN | AE30: =SUM(C30:AD30) -> 0 | AF30: =AE30 -> 0
A31: =QUART!B12 -> Agemt5
A32: HTT | AE32: =SUM(C32:AD32) -> 0
A33: HNN | AE33: =SUM(C33:AD33) -> 0 | AF33: =AE33-AF35 -> 0
A34: JFHDJ | AE34: =SUM(C34:AD34) -> 0 | AG34: =AE34 -> 0
A35: JFHDN | AE35: =SUM(C35:AD35) -> 0 | AF35: =AE35 -> 0
A36: =QUART!B13 -> Agemt6
A37: HTT | AE37: =SUM(C37:AD37) -> 0
A38: HNN | AE38: =SUM(C38:AD38) -> 0 | AF38: =AE38-AF40 -> 0
A39: JFHDJ | AE39: =SUM(C39:AD39) -> 0 | AG39: =AE39 -> 0
A40: JFHDN | AE40: =SUM(C40:AD40) -> 0 | AF40: =AE40 -> 0

Sheet JOURS FERIES
A1: Jours fériés

Sheet ABSENCES
A1: workers | B1: departure | C1: return
A2: =QUART!#REF! -> #REF!
A3: =QUART!B8 -> Agemt1
A4: =QUART!B9 -> Agemt2
A5: =QUART!B10 -> Agemt3
A6: =QUART!B11 -> Agemt4
A7: =QUART!B12 -> Agemt5
A8: =QUART!B13 -> Agemt6

Sheet RECAP
G1: Mois | H1: =QUART!AE1 -> 43132
C2: RECAP
A3: N° | B3: Prénom et Noms | C3: N° Matricule | D3: HTT | E3: HNN | F3: JFHDJ | G3: JFHDN | H3: Observations
A4: 1 | B4: =QUART!B8 -> Agemt1 | D4: =OFFSET(HEURES!$A$1,MATCH($B4,HEURES!$A$1:$A$10000,0),30) -> 125 | E4: =OFFSET(HEURES!$A$1,MATCH($B4,HEURES!$A$1:$A$10000,0)+1,30) -> 0 | F4: =OFFSET(HEURES!$A$1,MATCH($B4,HEURES!$A$1:$A$10000,0)+2,30) -> 0 | G4: =OFFSET(HEURES!$A$1,MATCH($B4,HEURES!$A$1:$A$10000,0)+3,30) -> 0
A5: 2 | B5: =QUART!B9 -> Agemt2 | D5: =OFFSET(HEURES!$A$1,MATCH($B5,HEURES!$A$1:$A$10000,0),30) -> 0 | E5: =OFFSET(HEURES!$A$1,MATCH($B5,HEURES!$A$1:$A$10000,0)+1,30) -> 0 | F5: =OFFSET(HEURES!$A$1,MATCH($B5,HEURES!$A$1:$A$10000,0)+2,30) -> 0 | G5: =OFFSET(HEURES!$A$1,MATCH($B5,HEURES!$A$1:$A$10000,0)+3,30) -> 0
A6: 3 | B6: =QUART!B10 -> Agemt3 | D6: =OFFSET(HEURES!$A$1,MATCH($B6,HEURES!$A$1:$A$10000,0),30) -> 0 | E6: =OFFSET(HEURES!$A$1,MATCH($B6,HEURES!$A$1:$A$10000,0)+1,30) -> 0 | F6: =OFFSET(HEURES!$A$1,MATCH($B6,HEURES!$A$1:$A$10000,0)+2,30) -> 0 | G6: =OFFSET(HEURES!$A$1,MATCH($B6,HEURES!$A$1:$A$10000,0)+3,30) -> 0
A7: 4 | B7: =QUART!B11 -> Agemt4 | D7: =OFFSET(HEURES!$A$1,MATCH($B7,HEURES!$A$1:$A$10000,0),30) -> 0 | E7: =OFFSET(HEURES!$A$1,MATCH($B7,HEURES!$A$1:$A$10000,0)+1,30) -> 0 | F7: =OFFSET(HEURES!$A$1,MATCH($B7,HEURES!$A$1:$A$10000,0)+2,30) -> 0 | G7: =OFFSET(HEURES!$A$1,MATCH($B7,HEURES!$A$1:$A$10000,0)+3,30) -> 0
A8: 5 | B8: =QUART!B12 -> Agemt5 | D8: =OFFSET(HEURES!$A$1,MATCH($B8,HEURES!$A$1:$A$10000,0),30) -> 0 | E8: =OFFSET(HEURES!$A$1,MATCH($B8,HEURES!$A$1:$A$10000,0)+1,30) -> 0 | F8: =OFFSET(HEURES!$A$1,MATCH($B8,HEURES!$A$1:$A$10000,0)+2,30) -> 0 | G8: =OFFSET(HEURES!$A$1,MATCH($B8,HEURES!$A$1:$A$10000,0)+3,30) -> 0
A9: 6 | B9: =QUART!B13 -> Agemt6 | D9: =OFFSET(HEURES!$A$1,MATCH($B9,HEURES!$A$1:$A$10000,0),30) -> 0 | E9: =OFFSET(HEURES!$A$1,MATCH($B9,HEURES!$A$1:$A$10000,0)+1,30) -> 0 | F9: =OFFSET(HEURES!$A$1,MATCH($B9,HEURES!$A$1:$A$10000,0)+2,30) -> 0 | G9: =OFFSET(HEURES!$A$1,MATCH($B9,HEURES!$A$1:$A$10000,0)+3,30) -> 0
A10: 8 | B10: =QUART!B14 -> 0 | D10: =OFFSET(HEURES!$A$1,MATCH($B10,HEURES!$A$1:$A$10000,0),30) -> #N/A | E10: =OFFSET(HEURES!$A$1,MATCH($B10,HEURES!$A$1:$A$10000,0)+1,30) -> #N/A | F10: =OFFSET(HEURES!$A$1,MATCH($B10,HEURES!$A$1:$A$10000,0)+2,30) -> #N/A | G10: =OFFSET(HEURES!$A$1,MATCH($B10,HEURES!$A$1:$A$10000,0)+3,30) -> #N/A

Sheet TOV
A1: blok 1 | B1: blok 2 | C1: blok 3 | D1: blok 4 | E1: blok 5
A2: 0 | B2: 0.25 | C2: 0.54166667 | D2: 0.75 | E2: 0.83333333
A3: 0.25 | B3: 0.54166667 | C3: 0.75 | D3: 0.83333333 | E3: 1
A4: 0 | B4: 0.25 | C4: 0.54166667 | D4: 0.75 | E4: 0
A5: 0 | B5: 0.54166667 | C5: 0.75 | D5: 0.83333333 | E5: 0
A6: 0 | B6: 0 | C6: 0 | D6: 0 | E6: 0.875
A7: 0.25 | B7: 0 | C7: 0 | D7: 0 | E7: 1
